Workbook
Name contratación: 'IDENTIFICACION Y ANALISIS'!$B$40:$B$44
Name ejecución: 'IDENTIFICACION Y ANALISIS'!$B$46:$B$66
Name OPCIONES: 'ASIGNACION Y TRATAMIENTO'!$B$44:$B$46
Name planeación: 'IDENTIFICACION Y ANALISIS'!$B$19:$B$29
Name selección: 'IDENTIFICACION Y ANALISIS'!$B$31:$B$37

Sheet CONTEXTO
C1: MATRIZ DE RIESGOS EN CONTRATACIÓN | F1: Código: GCO-GCI-F164 Versión: 02 Vigencia: 01 de diciembre de 2022 Caso HOLA: 280117
B5: ESTABLECER EL CONTEXTO
B6: El punto inicial es identificar el contexto en el cual interactúa la Entidad Estatal para conocer el ambiente social, económico y político, e identificar (i) sus propios Riesgos; (ii) los Riesgos comunes a sus Procesos de Contratación; y (iii) los Riesgos del Proceso de Contratación en particular. (Aplica igual para contratos interadministrativos) En este paso la Entidad Estatal debe identificar los aspectos que se mencionan a continuación y los posibles efectos adversos que estos pueden generar.
B7: Objeto del Proceso de Contratación: “la adquisición de las pólizas de seguros que amparen los bienes muebles, inmuebles e intereses patrimoniales de propiedad de la Secretaría Distrital de Gobierno y de aquellos por los que sea o llegare a ser legalmente responsable”.
B8: Partícipes del Proceso de Contratación: Agentes externos (Organismos de control, veedurías ciudadanas), agentes internos (supervisores, funcionarios y demás usuarios).
B9: Ciudadanía que se beneficia del Proceso de Contratación: Agentes internos (funcionarios, pasantes) y externos (contratistas, visitantes y usuarios externos en general)
B10: Capacidad de la Entidad Estatal entendida como la disponibilidad de recursos y conocimientos para el Proceso de Contratación: La disponibilidad de la Entidad de sus recursos y el conocimiento de su equipo humano se refleja en los diferentes funcionarios que participarán en las diversas etapas del proceso de selección: participan las áreas que requieren los procesos de contratación (Etapa de Estudios previos), el área de Contratos de la Secretaría General (Etapa contractual), los evaluadores designados, idóneos y con experiencia en el tema.
B11: Suficiencia del presupuesto oficial del Proceso de Contratación: De acuerdo al Plan de contratación para la vigencia 2023, se estimaron los recursos necesarios para el desarrollo del proceso de la contratación, el cual tendrá el soporte presupuestal suficiente para su desarrollo.
B12: Condiciones geográficas y de acceso del lugar en el cual se debe cumplir el objeto del Proceso de Contratación: El suministro, obra o servicio se prestará principalmente en las Sede de la Entidad, o en el lugar indicado en los estudios previos del proceso.
B13: Entorno socio ambiental: Si aplican
B14: Condiciones políticas: Si aplican
B15: Factores ambientales: El contratista debe manejar normas ambientales para el destino final de algunos repuestos que se retiran cuando se hace mantenimiento correctivo al sistema.
B16: Sector del objeto del Proceso de Contratación y su mercado: Todos los clientes (entidades privadas, Estatales y Gubernamentales), alrededor en todo el Territorio Nacional Colombiano y el exterior, quienes solicitan equipos y servicios de seguridad y control de acceso, con niveles elevados de flujo peatonal.
... B18: Experiencia propia y de otras Entidades Estatales en Procesos de Contratación del mismo tipo: -Explicar brevemente la experiencia de la Entidad en el tipo de contratación que se va a adelantar-, A manera de ejemplo se deja el siguiente texto que aplicaría en el caso de la contratación de los seguros: " La Entidad contrata anualmente el programa de seguros necesario para su funcionamiento, por lo cual es un proceso que ha sido adelantado de manera permanente; así las cosas se cuenta con la experiencia adquirida en el adelantamiento de este tipo de procesos que ha sido la necesaria para prevenir circunstancias inesperadas y lograr el cumplimiento de los fines de la contratación".

Sheet IDENTIFICACION Y ANALISIS
C2: MATRIZ DE RIESGOS DE CONTRATACIÓN | F2: Código: GCO-GCI-F164 Versión: 02 Vigencia: 01 de diciembre de 2022 Caso HOLA: 280117
B6: DEFINICIONES
B7: RIESGO: evento que puede generar efectos adversos y de distinta magnitud en el logro de los objetivos del Proceso de Contratación o en la ejecución de un contrato
B8: RIESGOS PREVISIBLES: Son los posibles hechos o circunstancias que por la naturaleza del contrato y de la actividad a ejecutar es factible su ocurrencia.
B9: ETAPA DE PLANEACIÓN: Está comprendida entre la elaboración del Plan Anual de Adquisiciones y la fecha en la cual decide continuar o no con el Proceso de Contratación
B10: ETAPA DE SELECCIÓN: Está comprendida entre el acto de Apertura del Proceso de Contratación y la Adjudicación o la declaración de desierto del Proceso de Contratación
B11: ETAPA DE CONTRATACIÓN: Una vez adjudicado el contrato objeto del Proceso de Contratación, inicia la etapa de contratación en la cual se debe cumplir con el cronograma previsto para la celebración del contrato, el registro presupuestal, la publicación en el SECOP y el cumplimiento de los requisitos para el perfeccionamiento, ejecución y pago.
B12: ETAPA DE EJECUCIÓN: Inicia una vez cumplidos los requisitos previstos para iniciar la ejecución del contrato respectivo y termina con el vencimiento del plazo del contrato o la fecha de liquidación si hay lugar a ella.
B13: RIESGO GENERAL: Es un riesgo de todos los procesos de contratación adelantados por la Entidad Estatal, por lo cual está presente en toda su actividad contractual.
B14: RIEGO ESPECIFICO: Es un riesgo propio del proceso de contratación objeto de análisis.
B15: INSTRUCCIONES PARA LA IDENTIFICACIÓN, ANALISIS, EVALUACIÓN , ASIGNACIÓN Y TRATAMIENTO DE RIESGOS EN LA CONTRATACIÓN
B16: 1) Identifique los riesgos previsibles que le apliquen al objeto contractual que se adelante; En caso de identificar otro riesgo inclúyalo en la proforma e informe al Área de Contratos de la Secretaría General para que sea actualizada en el SIG.
C17: ETAPAS | D17: CLASE | E17: FUENTE | F17: TIPO
C18: PLANEACIÓN
B19: Inadecuada escogencia de la modalidad de contratación | D19: Especifico | E19: Interno | F19: Operacionales
B20: Requisitos habilitantes inapropiados para el proceso de selección | D20: Especifico | E20: Interno | F20: Operacionales
B21: Inadecuado análisis económico estimativo del valor del contrato | D21: Especifico | E21: Interno | F21: Económicos
B22: Inadecuada descripción del bien o servicio requerido | D22: General | E22: Externo | F22: Operacionales
B23: Inadecuada elaboración de estudios y diseños | D23: General | E23: Interno | F23: Operacionales
B24: Requisitos habilitantes que impidan la selección objetiva | D24: Especifico | E24: Interno | F24: Operacionales
B25: Falta de profundidad en el estudio de sector no identificándose claramente aspectos de oferta y demanda | D25: General | E25: Externo | F25: Económicos
B26: Ausencia de fundamentación de la justificación y conveniencia de la contratación | D26: Especifico | E26: Interno | F26: Operacionales
B27: Inadecuada identificación de las condiciones contractuales | D27: General | E27: Interno | F27: Operacionales
B28: No aprobación o demoras en la expedición vigencias futuras | D28: General | E28: Externo | F28: Operacionales
B29: Apertura de procesos sin disponibilidad presupuestal | D29: General | E29: Interno | F29: Operacionales
C30: SELECCIÓN
B31: Inadecuada evaluación de las ofertas y/o verificación de requisitos habilitantes | D31: Especifico | E31: Interno | F31: Operacionales
B32: Inadecuado manejo administrativo del proceso contractual | D32: Especifico | E32: Interno | F32: Operacionales
B33: Falta de claridad en la elaboración de los actos administrativos | D33: General | E33: Externo | F33: Operacionales
B34: Contestación inoportuna a todas las observaciones formuladas a los documentos de la contratación | D34: Especifico | E34: Interno | F34: Operacionales
B35: No publicación de la documentación del proceso de selección en el SECOP | D35: General | E35: Externo | F35: Operacionales
B36: Confabulación de los proponentes (Colusión) | D36: Especifico | E36: Externo | F36: Operacionales
B37: Selección de ofertas con precios artificialmente bajos. | D37: General | E37: Externo | F37: Operacionales
C39: CONTRATACIÓN
B40: Riesgo de que no se firme el contrato. | D40: Especifico | E40: Interno | F40: Operacionales
B41: Falta de constitución o constitución tardía de la garantía única. Aceptación de garantías que no se ajustan a lo contemplado en el contrato | D41: Especifico | E41: Externo | F41: Operacionales
B42: Falta de solicitud o solicitud tardía del registro presupuestal | D42: Especifico | E42: Interno | F42: Operacionales
B43: No publicación de la documentación del proceso de selección en el SECOP | D43: General | E43: Interno | F43: Operacionales
B44: Presentación de reclamos de terceros sobre la selección del oferente que retrasen el perfeccionamiento del contrato. | D44: General | E44: Externo | F44: Operacionales
C45: EJECUCIÓN
...

Sheet EVALUACION
D1: MATRIZ DE RIESGOS DE CONTRATACIÓN | K1: Código: GCO-GCI-F164 Versión: 02 Vigencia: 01 de diciembre de 2022 Caso HOLA: 280117
B5: Objeto Contractual: “REALIZAR LA INTERVENTORÍA TÉCNICA, ADMINISTRATIVA, JURÍDICA, FINANCIERA Y CONTABLE AL CONTRATO QUE SE SUSCRIBA DEL PROCESO LICITATORIO FDLCB-LP-004-2023., CUYO OBJETO ES PRESTAR LOS SERVICIOS PARA LA VALORACIÓN, ADQUISICIÓN, ENTREGA, ENTRENAMIENTO, SEGUIMIENTO Y MANTENIMIENTO DE LOS DISPOSITIVOS DE ASISTENCIA PERSONAL –AYUDAS TÉCNICAS, QUE NO SE ENCUENTREN INCLUIDOS EN EL PLAN DE BENEFICIARIOS - PBS, PARA LA LOCALIDAD DE CIUDAD BOLÍVAR”.
B6: INSTRUCCIONES PARA LA IDENTIFICACIÓN, ANALISIS, EVALUACIÓN , ASIGNACIÓN Y TRATAMIENTO DE RIESGOS EN LA CONTRATACIÓN
B7: 1) Seleccione el tipo de calificación (Cualitativa ó Monetaria)
B8: 2) Seleccione la(s) etapas y los riesgos que aplican al objeto contractual
B9: 3) Asigne la probabilidad de ocurrencia del riesgo, de conformidad con la tabla de probabilidad
B10: 4) Asigne el impacto que generaría la materialización del riesgo, de conformidad con la tabla de impacto
B11: 5) Al realizar las anteriores actividades se obtendrá la calificación total y la valoración del riesgo (prioridad) , traslade al formato evaluación con controles, los que tengan un nivel de criticidad diferente a bajo.
B12: 6) Continúe en la hoja de evaluación de controles
B14: CALIFICACIÓN | H14: Cualitativa
B15: ETAPA | C15: Descripción (Que puede pasar y, cómo puede ocurrir) | H15: Consecuencias de la ocurrencia del evento | I15: Probabilidad de Ocurrencia | J15: Impacto | K15: Calificación Total | L15: Prioridad
B16: PLANEACIÓN | C16: Inadecuado manejo administrativo del proceso contractual | H16: Adquisición de un servicio que no cumple con los verdaderos requerimientos y especificaciones de la entidad, o a precios que no son de mercado | I16: 2 | J16: 2 | K16: =+I16+J16 -> 4 | L16: =IF(K16<=4,"BAJO",IF(K16=5,"MEDIO",IF(K16=6,"ALTO",IF(K16=7,"ALTO","EXTREMO")))) -> BAJO
B17: PLANEACIÓN | C17: Requisitos habilitantes inapropiados para el proceso de selección | H17: Indebida determinacion de las especificaciones técnicas, criterios habilitantes, criterios de ponderación de las necesidades de contratación por parte del área responsable de definir las especificaciones. | I17: 2 | J17: 2 | K17: =+I17+J17 -> 4 | L17: =IF(K17<=4,"BAJO",IF(K17=5,"MEDIO",IF(K17=6,"ALTO",IF(K17=7,"ALTO","EXTREMO")))) -> BAJO
B18: SELECCIÓN | C18: Inadecuada evaluación de las ofertas y/o verificación de requisitos habilitantes | H18: Declarar desierto el proceso de contratación | I18: 1 | J18: 2 | K18: =+I18+J18 -> 3 | L18: =IF(K18<=4,"BAJO",IF(K18=5,"MEDIO",IF(K18=6,"ALTO",IF(K18=7,"ALTO","EXTREMO")))) -> BAJO
B19: SELECCIÓN | C19: Confabulación de los proponentes (Colusión) | H19: Detectar practicas de Colusión | I19: 1 | J19: 4 | K19: =+I19+J19 -> 5 | L19: =IF(K19<=4,"BAJO",IF(K19=5,"MEDIO",IF(K19=6,"ALTO",IF(K19=7,"ALTO","EXTREMO")))) -> MEDIO
B20: CONTRATACIÓN | C20: Falta de constitución o constitución tardía de la garantía única. Aceptación de garantías que no se ajustan a lo contemplado en el contrato | H20: El contratista no cumple los plazos establecidos para la entrega de garantías | I20: 2 | J20: 3 | K20: =+I20+J20 -> 5 | L20: =IF(K20<=4,"BAJO",IF(K20=5,"MEDIO",IF(K20=6,"ALTO",IF(K20=7,"ALTO","EXTREMO")))) -> MEDIO
B21: EJECUCIÓN | C21: Incumplimiento de compromisos adquiridos por el contratista seleccionado con sus subcontratistas, suministradores de bienes y servicios. | H21: 1, Calidad deficiente: No cumplir eficientemente con las laborea de interventoria tecnica, administrativa, financiera, juridica y ambiental previstos en el contrato, el pliego de condiciones y el Anexo Técnico 2, Personal contratado no sea competente para desarrollar las acciones de interventoria: no contar con el personal calificado para adelantar la prestación del servicio contratado 3, Detetar practicas de colusion con el contratista a ser supervisado o auditado 4, Renuncia de uno o varios integrantes del equipo humano del contrato: por razones de Fuerza mayor, una mejor oferta laboral y/o falta de cohesión del equipo. | I21: 2 | J21: 3 | K21: =+I21+J21 -> 5 | L21: =IF(K21<=4,"BAJO",IF(K21=5,"MEDIO",IF(K21=6,"ALTO",IF(K21=7,"ALTO","EXTREMO")))) -> MEDIO
B22: EJECUCIÓN | C22: Incumplir las funciones de control por parte del supervisor | H22: Seguimiento inadecuado y control de la ejecución contractual por parte del supervisor de la interventoria | I22: 1 | J22: 1 | K22: =+I22+J22 -> 2 | L22: =IF(K22<=4,"BAJO",IF(K22=5,"MEDIO",IF(K22=6,"ALTO",IF(K22=7,"ALTO","EXTREMO")))) -> BAJO
B23: EJECUCIÓN | C23: Cambio de precios en factores de producción. | H23: Factores del mercado y variación de los costos de insumos necesarios para los productos a entregar en la propuesta económica del contratista a supervisar, el contratista no estima adecuadamente los costos y el tiempo de los conceptos necesarios para el cumplimiento del objeto del contrato hacer supervisado | I23: 2 | J23: 2 | K23: =+I23+J23 -> 4 | L23: =IF(K23<=4,"BAJO",IF(K23=5,"MEDIO",IF(K23=6,"ALTO",IF(K23=7,"ALTO","EXTREMO")))) -> BAJO
B24: EJECUCIÓN | C24: Peligro biológico | H24: Exposición a agentes biológicos como SARS-COVID-19, contacto directo entre personas o con objetos contaminados Presencia de enfermedades infectocontagiosas en compañeros de trabajo o en personas con las que se entre en contacto. | I24: 3 | J24: 3 | K24: =+I24+J24 -> 6 | L24: =IF(K24<=4,"BAJO",IF(K24=5,"MEDIO",IF(K24=6,"ALTO",IF(K24=7,"ALTO","EXTREMO")))) -> ALTO
B25: EJECUCIÓN | C25: Eventos naturales tales como lluvias, inundaciones y sequias entre otros | H25: Presentacion de fuerets lluvias o desastres naturales que afecten la cadena de suministro de insumos. | I25: 3 | J25: 3 | K25: =+I25+J25 -> 6 | L25: =IF(K25<=4,"BAJO",IF(K25=5,"MEDIO",IF(K25=6,"ALTO",IF(K25=7,"ALTO","EXTREMO")))) -> ALTO
B26: EJECUCIÓN | C26: Cambios en el marco regulatorio o normatividad aplicable al proyecto. | H26: Cambio de regulación normativa que afecte el contrato | I26: 2 | J26: 2 | K26: =+I26+J26 -> 4 | L26: =IF(K26<=4,"BAJO",IF(K26=5,"MEDIO",IF(K26=6,"ALTO",IF(K26=7,"ALTO","EXTREMO")))) -> BAJO
B27: EJECUCIÓN | C27: Presentar reclamaciones del personal del contratista por falta de pago de salarios y prestaciones | H27: Incumplimiento del contratista con las obligaciones laborales | I27: 3 | J27: 2 | K27: =+I27+J27 -> 5 | L27: =IF(K27<=4,"BAJO",IF(K27=5,"MEDIO",IF(K27=6,"ALTO",IF(K27=7,"ALTO","EXTREMO")))) -> MEDIO
B30: Probabilidad | C30: Categoría | E30: Valoración | G30: Impacto | H30: Categoría | I30: Valoración
C31: Raro (puede ocurrir excepcionalmente) | E31: 1 | H31: Insignificante | I31: 1
C32: Improbable (puede ocurrir ocasionalmente) | E32: 2 | H32: Menor | I32: 2
C33: Posible (puede ocurrir en cualquier momento futuro) | E33: 3 | H33: Moderado | I33: 3
C34: Probable (probablemente va a ocurrir) | E34: 4 | H34: Mayor | I34: 4
C35: Casi cierto (ocurre en la mayoría de circunstancias) | E35: 5 | H35: Catastrófico | I35: 5
C37: Valoración del Riesgo
C38: Calificación Cualitativa | F38: Obstruye la ejecución del contrato de manera intrascendente. | G38: Dificulta la ejecución del contrato de manera baja, aplicando medidas mínimas se pueden lograr el objeto contractual | H38: Afecta la ejecución del contrato sin alterar el beneficio para las partes | I38: Obstruye la ejecución del contrato sustancialmente pero aun así permite la consecución del objeto contractual | K38: Perturba la ejecución del contrato de manera grave imposibilitando la consecución del objeto contractual.
C39: Calificación Monetaria | F39: Los sobrecostos no representan más del uno por ciento (1%) del valor del contrato. | G39: Los sobrecostos no representan más del cinco por ciento (5%) del valor del contrato. | H39: Genera un impacto sobre el valor del contrato entre el cinco (5%) y el quince por ciento (15%). | I39: Incrementa el valor del contrato entre el quince (15%) y el treinta por ciento (30%). | K39: Impacto sobre el valor del contrato en más del treinta por ciento (30%).
C40: Categoría | E40: Valoración | F40: Insignificante | G40: Menor | H40: Moderado | I40: Mayor | K40: Catastrófico
F41: 1 | G41: 2 | H41: 3 | I41: 4 | K41: 5
C42: Raro (puede ocurrir excepcionalmente) | E42: 1 | F42: 2 | G42: 3 | H42: 4 | I42: 5 | K42: 6
C43: Improbable (puede ocurrir ocasionalmente) | E43: 2 | F43: 3 | G43: 4 | H43: 5 | I43: 6 | K43: 7
C44: Posible (puede ocurrir en cualquier momento futuro) | E44: 3 | F44: 4 | G44: 5 | H44: 6 | I44: 7 | K44: 8
C45: Probable (probablemente va a ocurrir) | E45: 4 | F45: 5 | G45: 6 | H45: 7 | I45: 8 | K45: 9
C46: Casi cierto (ocurre en la mayoría de circunstancias) | E46: 5 | F46: 6 | G46: 7 | H46: 8 | I46: 9 | K46: 10
G48: Categoría del Riesgo
...

Sheet EVALUACION CON CONTROLES
D2: MATRIZ DE RIESGOS DE CONTRATACIÓN | P2: Código: GCO-GCI-F164 Versión: 02 Vigencia: 01 de diciembre de 2022 Caso HOLA: 280117
A6: =+EVALUACION!B5 -> Objeto Contractual: “REALIZAR LA INTERVENTORÍA TÉCNICA, ADMINISTRATIVA, JURÍDICA, FINANCIERA Y CONTABLE AL CONTRATO QUE SE SUSCRIBA DEL PROCESO LICITATORIO FDLCB-LP-004-2023., CUYO OBJETO ES PRESTAR LOS SERVICIOS PARA LA VALORACIÓN, ADQUISICIÓN, ENTREGA, ENTRENAMIENTO, SEGUIMIENTO Y MANTENIMIENTO DE LOS DISPOSITIVOS DE ASISTENCIA PERSONAL –AYUDAS TÉCNICAS, QUE NO SE ENCUENTREN INCLUIDOS EN EL PLAN DE BENEFICIARIOS - PBS, PARA LA LOCALIDAD DE CIUDAD BOLÍVAR”.
A7: INSTRUCCIONES PARA LA IDENTIFICACIÓN, ANALISIS, EVALUACIÓN , ASIGNACIÓN Y TRATAMIENTO DE RIESGOS EN LA CONTRATACIÓN
A8: 1) Describa el tratamiento/controles a ser implementados
A9: 2) Teniendo en cuenta el tratamiento descrito, asigne la probabilidad de ocurrencia del riesgo, de conformidad con la tabla de probabilidad
A10: 3) Teniendo en cuenta el tratamiento descrito, asigne el impacto que generaría la materialización del riesgo, de conformidad con la tabla de impacto
A11: 4) Al realizar las anteriores actividades se obtendrá la calificación total y la valoración del riesgo (prioridad)
A12: 5) Diligencie la información de las demás columnas
A13: 7) Continúe en la hoja de asignación y tratamiento
A15: ETAPA | B15: Descripción (Que puede pasar y, cómo puede ocurrir) | F15: Tratamiento/Controles a ser implementados | H15: Probabilidad de Ocurrencia | I15: Impacto | J15: Calificación Total | K15: Prioridad | L15: ¿Afecta el equilibrio económico del contrato? | M15: Persona responsable por implementar el tratamiento | N15: Fecha estimada en que se inicia el tratamiento | O15: Fecha estimada en que se completa el tratamiento | P15: ¿Cómo se realiza el monitoreo? | Q15: Periodicidad ¿Cuándo?
A16: =+EVALUACION!B16 -> PLANEACIÓN | B16: =+EVALUACION!C16 -> Inadecuado manejo administrativo del proceso contractual | F16: Establecer con claridad la necesidad, el objeto, alcance, especificaciones tecnicas, experiencia del proponente, plazo, etc. requeridos para ejecutar el objeto del contrato | H16: 1 | I16: 1 | J16: =+H16+I16 -> 2 | K16: =IF(J16<=4,"BAJO",IF(J16=5,"MEDIO",IF(J16=6,"ALTO",IF(J16=7,"ALTO","EXTREMO")))) -> BAJO | L16: NO | M16: Entidad | N16: Desde la Etapa de Planeación | O16: Previo a la adjudicación del contrato | P16: Verificación cumplimiento condiciones definidas en los pliegos de condiciones y documentos que hacen parte del proceso | Q16: Frecuente en las etapas previas a la adjudicación del contrato
A17: =+EVALUACION!B17 -> PLANEACIÓN | B17: =+EVALUACION!C17 -> Requisitos habilitantes inapropiados para el proceso de selección | F17: Revisar que los criterios habilitantes y de ponderación se definan correctamente en el formato que se defina. | H17: 1 | I17: 1 | J17: =+H17+I17 -> 2 | K17: =IF(J17<=4,"BAJO",IF(J17=5,"MEDIO",IF(J17=6,"ALTO",IF(J17=7,"ALTO","EXTREMO")))) -> BAJO | L17: NO | M17: Entidad | N17: Etapa Contractual | O17: Previo a la suscripción del acta de inicio | P17: En la suscripción del acta de inicio | Q17: Durante la etapa contractual y ejecución
A18: =+EVALUACION!B18 -> SELECCIÓN | B18: =+EVALUACION!C18 -> Inadecuada evaluación de las ofertas y/o verificación de requisitos habilitantes | F18: No aprobar la inclusión de requisitos ponderables de dificil cumplimiento | H18: 1 | I18: =+EVALUACION!J18 -> 2 | J18: =+H18+I18 -> 3 | K18: =IF(J18<=4,"BAJO",IF(J18=5,"MEDIO",IF(J18=6,"ALTO",IF(J18=7,"ALTO","EXTREMO")))) -> BAJO | L18: NO | M18: Entidad | N18: Etapa Contractual | O18: Previo a la suscripción del acta de inicio | P18: En la suscripción del acta de inicio | Q18: Durante la etapa contractual y ejecución
A19: =+EVALUACION!B19 -> SELECCIÓN | B19: =+EVALUACION!C19 -> Confabulación de los proponentes (Colusión) | F19: Se solicita a los proponentes presentar junto con su oferta el formato "COMPROMISO ANTICORRUPCIÓN" en el cual se compromenten a no efectuar acuerdos, o realizar actos o conductas que tengan por objeto o efecto la colusión enel proceso de selección | H19: 3 | I19: 1 | J19: =+H19+I19 -> 4 | K19: =IF(J19<=4,"BAJO",IF(J19=5,"MEDIO",IF(J19=6,"ALTO",IF(J19=7,"ALTO","EXTREMO")))) -> BAJO | L19: SI | M19: Supervisor del contrato y Contratista | N19: Suscripción contrato | O19: Suscripción del contrato | P19: Revisiones frecuentes, seguimiento ejecución | Q19: Durante ejecución del contrato
A20: =+EVALUACION!B20 -> CONTRATACIÓN | B20: =+EVALUACION!C20 -> Falta de constitución o constitución tardía de la garantía única. Aceptación de garantías que no se ajustan a lo contemplado en el contrato | F20: Indicar al contratista que debe allegar los documentos respectivos para la legalización del contrato, en un plazo determinado | H20: 1 | I20: 1 | J20: =+H20+I20 -> 2 | K20: =IF(J20<=4,"BAJO",IF(J20=5,"MEDIO",IF(J20=6,"ALTO",IF(J20=7,"ALTO","EXTREMO")))) -> BAJO | L20: SI | M20: Supervisor del contrato y Contratista | N20: Suscripción contrato | O20: Suscripción del contrato | P20: Revisiones frecuentes, seguimiento ejecución de los servicios realizados | Q20: Durante ejecución del contrato
A21: =+EVALUACION!B21 -> EJECUCIÓN | B21: =+EVALUACION!C21 -> Incumplimiento de compromisos adquiridos por el contratista seleccionado con sus subcontratistas, suministradores de bienes y servicios. | F21: El supervisor del contrato realiza los requerimientos a que haya lugar al contratista y evalúa si es necesario dar aplicación al artículo 86 de la ley 1474 de 2011 en lo referente al procedimiento para la aplicación de multas y sanciones | H21: 1 | I21: 1 | J21: =+H21+I21 -> 2 | K21: =IF(J21<=4,"BAJO",IF(J21=5,"MEDIO",IF(J21=6,"ALTO",IF(J21=7,"ALTO","EXTREMO")))) -> BAJO | L21: SI | M21: Supervisor del contrato y Contratista | N21: ejecucion contrato | O21: Prestación del servicio | P21: Revisiones frecuentes, seguimiento ejecución de los servicios realizados | Q21: Durante ejecución del contrato
A22: =+EVALUACION!B22 -> EJECUCIÓN | B22: =+EVALUACION!C22 -> Incumplir las funciones de control por parte del supervisor | F22: El ordenador del gasto en la solicitud de inicio de planeación contractual designa la persona idónea para ejercer la supervisión del contrato, para lo cual manifiesta de manera expresa que el mismo tiene la competencia funcional e idoneidad para ejercer la citada supervisión. | H22: 1 | I22: 1 | J22: =+H22+I22 -> 2 | K22: =IF(J22<=4,"BAJO",IF(J22=5,"MEDIO",IF(J22=6,"ALTO",IF(J22=7,"ALTO","EXTREMO")))) -> BAJO | L22: SI | M22: Supervisor del contrato y Contratista | N22: ejecucion contrato | O22: Prestación del servicio | P22: Revisiones frecuentes, seguimiento ejecución de los servicios realizados | Q22: Durante ejecución del contrato
A23: =+EVALUACION!B23 -> EJECUCIÓN | B23: =+EVALUACION!C23 -> Cambio de precios en factores de producción. | F23: Obligaciones especiales del contratista, en donde se establece que debe mantener los precios fijos durante la ejecución y liquidación del contrato. | H23: 1 | I23: 1 | J23: =+H23+I23 -> 2 | K23: =IF(J23<=4,"BAJO",IF(J23=5,"MEDIO",IF(J23=6,"ALTO",IF(J23=7,"ALTO","EXTREMO")))) -> BAJO | L23: SI | M23: Supervisor del contrato y Contratista | N23: ejecucion contrato | O23: Prestación del servicio | P23: Revisiones frecuentes, seguimiento ejecución de los servicios realizados | Q23: Durante ejecución del contrato
A24: =+EVALUACION!B24 -> EJECUCIÓN | B24: =+EVALUACION!C24 -> Peligro biológico | F24: Promover el uso de protector naso bucal (tapabocas) en todo el personal, las medidas de autocuidado y distanciamiento social. Sensibilización a contratistas y comunidad en el correcto y frecuente lavado de manos, recalcar las medidas de auto cuidado y de distanciamiento. Promover teletrabajo en personas con enfermedades infectocontagiosas. Aplicación de protocolos de bioseguridad | H24: 1 | I24: 1 | J24: =+H24+I24 -> 2 | K24: =IF(J24<=4,"BAJO",IF(J24=5,"MEDIO",IF(J24=6,"ALTO",IF(J24=7,"ALTO","EXTREMO")))) -> BAJO | L24: SI | M24: Supervisor del contrato y Contratista | N24: ejecucion contrato | O24: Prestación del servicio | P24: Revisiones frecuentes, seguimiento ejecución de los servicios realizados | Q24: Durante ejecución del contrato
A25: =+EVALUACION!B25 -> EJECUCIÓN | B25: =+EVALUACION!C25 -> Eventos naturales tales como lluvias, inundaciones y sequias entre otros | F25: Realizar seguimiento a los boletines metereologicos expedidos por IDEAM e IDEGER en periodos de ola invernal | H25: 1 | I25: 1 | J25: =+H25+I25 -> 2 | K25: =IF(J25<=4,"BAJO",IF(J25=5,"MEDIO",IF(J25=6,"ALTO",IF(J25=7,"ALTO","EXTREMO")))) -> BAJO | L25: SI | M25: Supervisor del contrato y Contratista | N25: ejecucion contrato | O25: Prestación del servicio | P25: Revisiones frecuentes, seguimiento ejecución de los servicios realizados | Q25: Durante ejecución del contrato
A26: =+EVALUACION!B26 -> EJECUCIÓN | B26: =+EVALUACION!C26 -> Cambios en el marco regulatorio o normatividad aplicable al proyecto. | F26: Una vez sea expedida una disposición legal que afecte el valor del contrato, el supervisor debe evaluar si es necesario tramitar una modificacion contractual | H26: 1 | I26: 1 | J26: =+H26+I26 -> 2 | K26: =IF(J26<=4,"BAJO",IF(J26=5,"MEDIO",IF(J26=6,"ALTO",IF(J26=7,"ALTO","EXTREMO")))) -> BAJO | L26: SI | M26: Entidad - Contratista | N26: ejecucion contrato | O26: Prestación del servicio | P26: Revisiones frecuentes, seguimiento ejecución de los servicios realizados | Q26: Durante ejecución del contrato
A27: =+EVALUACION!B27 -> EJECUCIÓN | B27: =+EVALUACION!C27 -> Presentar reclamaciones del personal del contratista por falta de pago de salarios y prestaciones | F27: El supervisor verifica la ejecución de las Obligaciones especiales del contratista en donde se establece que debe cumplir con el pago oportuno de los salarios y prestaciones sociales del personal puesto a disposición para la ejecución del contrato. | H27: 1 | I27: =+EVALUACION!J27 -> 2 | J27: =+H27+I27 -> 3 | K27: =IF(J27<=4,"BAJO",IF(J27=5,"MEDIO",IF(J27=6,"ALTO",IF(J27=7,"ALTO","EXTREMO")))) -> BAJO | L27: SI | M27: Contratista | N27: ejecucion contrato | O27: Prestación del servicio | P27: Seguimientos frecuentes y a la ejecución de los servicios requeridos | Q27: Durante ejecución del contrato
B29: Categoría del Riesgo | G29: Impacto del Riesgo
A30: Probabilidad | B30: Categoría | E30: Valoración | G30: Categoría | I30: Valoración | M30: Categoría del Riesgo
B31: Raro (puede ocurrir excepcionalmente) | E31: 1 | G31: Insignificante | I31: 1 | M31: Valoración del Riesgo | O31: Categoría
B32: Improbable (puede ocurrir ocasionalmente) | E32: 2 | G32: Menor | I32: 2 | M32: 8, 9 y 10 | O32: Riesgo extremo
B33: Posible (puede ocurrir en cualquier momento futuro) | E33: 3 | G33: Moderado | I33: 3 | M33: 6 y 7 | O33: Riesgo alto
B34: Probable (probablemente va a ocurrir) | E34: 4 | G34: Mayor | I34: 4 | M34: 5 | O34: Riesgo medio
B35: Casi cierto (ocurre en la mayoría de circunstancias) | E35: 5 | G35: Catastrófico | I35: 5 | M35: 2, 3 y 4 | O35: Riesgo bajo
B37: Valoración del Riesgo
B38: Calificación Cualitativa | F38: Obstruye la ejecución del contrato de manera intrascendente. | H38: Dificulta la ejecución del contrato de manera baja, aplicando medidas mínimas se pueden lograr el objeto contractual | K38: Afecta la ejecución del contrato sin alterar el beneficio para las partes | M38: Obstruye la ejecución del contrato sustancialmente pero aun así permite la consecución del objeto contractual | O38: Perturba la ejecución del contrato de manera grave imposibilitando la consecución del objeto contractual.
B39: Calificación Monetaria | F39: Los sobrecostos no representan más del uno por ciento (1%) del valor del contrato. | H39: Los sobrecostos no representan más del cinco por ciento (5%) del valor del contrato. | K39: Genera un impacto sobre el valor del contrato entre el cinco (5%) y el quince por ciento (15%). | M39: Incrementa el valor del contrato entre el quince (15%) y el treinta por ciento (30%). | O39: Impacto sobre el valor del contrato en más del treinta por ciento (30%).
B40: Categoría | E40: Valoración | F40: Insignificante | H40: Menor | K40: Moderado | M40: Mayor | O40: Catastrófico
F41: 1 | H41: 2 | K41: 3 | M41: 4 | O41: 5
B42: Raro (puede ocurrir excepcionalmente) | E42: 1 | F42: 2 | H42: 3 | K42: 4 | M42: 5 | O42: 6
B43: Improbable (puede ocurrir ocasionalmente) | E43: 2 | F43: 3 | H43: 4 | K43: 5 | M43: 6 | O43: 7
B44: Posible (puede ocurrir en cualquier momento futuro) | E44: 3 | F44: 4 | H44: 5 | K44: 6 | M44: 7 | O44: 8
B45: Probable (probablemente va a ocurrir) | E45: 4 | F45: 5 | H45: 6 | K45: 7 | M45: 8 | O45: 9
B46: Casi cierto (ocurre en la mayoría de circunstancias) | E46: 5 | F46: 6 | H46: 7 | K46: 8 | M46: 9 | O46: 10

Sheet ASIGNACION Y TRATAMIENTO
D2: MATRIZ DE RIESGOS DE CONTRATACIÓN | W2: Código: GCO-GCI-F164 Versión: 02 Vigencia: 01 de diciembre de 2022 Caso HOLA: 280117
B6: =+EVALUACION!B5 -> Objeto Contractual: “REALIZAR LA INTERVENTORÍA TÉCNICA, ADMINISTRATIVA, JURÍDICA, FINANCIERA Y CONTABLE AL CONTRATO QUE SE SUSCRIBA DEL PROCESO LICITATORIO FDLCB-LP-004-2023., CUYO OBJETO ES PRESTAR LOS SERVICIOS PARA LA VALORACIÓN, ADQUISICIÓN, ENTREGA, ENTRENAMIENTO, SEGUIMIENTO Y MANTENIMIENTO DE LOS DISPOSITIVOS DE ASISTENCIA PERSONAL –AYUDAS TÉCNICAS, QUE NO SE ENCUENTREN INCLUIDOS EN EL PLAN DE BENEFICIARIOS - PBS, PARA LA LOCALIDAD DE CIUDAD BOLÍVAR”.
B7: IDENTIFICACIÓN, ANALISIS, EVALUACIÓN , ASIGNACIÓN Y TRATAMIENTO DE RIESGOS EN LA CONTRATACIÓN
B8: Esta matriz es un documento anexo del Estudio Previo
B10: No | C10: Descripción (Que puede pasar y, cómo puede ocurrir) | D10: Etapa | E10: Clase | F10: Fuente | G10: Consecuencias de la ocurrencia del evento | H10: Probabilidad | I10: Impacto | J10: Calificación total | K10: Prioridad | L10: ¿A quien se le asigna? | M10: % | N10: Tratamiento/Controles a ser implementados | O10: Probabilidad | P10: Impacto | Q10: Calificación total | R10: Prioridad | S10: ¿Afecta el equilibrio económico del contrato? | T10: Persona responsable por implementar el tratamiento | U10: Fecha estimada en que se inicia el tratamiento | V10: Fecha estimada en que se completa el tratamiento | W10: ¿Cómo se realiza el monitoreo | X10: Periodicidad ¿Cuándo?
B11: 1 | C11: =+EVALUACION!C16 -> Inadecuado manejo administrativo del proceso contractual | D11: =+'IDENTIFICACION Y ANALISIS'!C30 -> SELECCIÓN | E11: =+'IDENTIFICACION Y ANALISIS'!D36 -> Especifico | F11: =+'IDENTIFICACION Y ANALISIS'!E36 -> Externo | G11: =+EVALUACION!H16 -> Adquisición de un servicio que no cumple con los verdaderos requerimientos y especificaciones de la entidad, o a precios que no son de mercado | H11: =+EVALUACION!I16 -> 2 | I11: =+EVALUACION!J16 -> 2 | J11: =+EVALUACION!K16 -> 4 | K11: =+EVALUACION!L16 -> BAJO | L11: FDLCB | M11: 100 | N11: =+'EVALUACION CON CONTROLES'!F16 -> Establecer con claridad la necesidad, el objeto, alcance, especificaciones tecnicas, experiencia del proponente, plazo, etc. requeridos para ejecutar el objeto del contrato | O11: =+'EVALUACION CON CONTROLES'!H16 -> 1 | P11: =+'EVALUACION CON CONTROLES'!I16 -> 1 | Q11: =+'EVALUACION CON CONTROLES'!J16 -> 2 | R11: =+'EVALUACION CON CONTROLES'!K16 -> BAJO | S11: =+'EVALUACION CON CONTROLES'!L16 -> NO | T11: =+'EVALUACION CON CONTROLES'!M16 -> Entidad | U11: =+'EVALUACION CON CONTROLES'!N16 -> Desde la Etapa de Planeación | V11: =+'EVALUACION CON CONTROLES'!O16 -> Previo a la adjudicación del contrato | ... X11: =+'EVALUACION CON CONTROLES'!Q16 -> Frecuente en las etapas previas a la adjudicación del contrato
B12: 2 | C12: =+EVALUACION!C17 -> Requisitos habilitantes inapropiados para el proceso de selección | D12: =+'IDENTIFICACION Y ANALISIS'!C30 -> SELECCIÓN | E12: =+'IDENTIFICACION Y ANALISIS'!D40 -> Especifico | F12: =+'IDENTIFICACION Y ANALISIS'!E41 -> Externo | G12: =+EVALUACION!H17 -> Indebida determinacion de las especificaciones técnicas, criterios habilitantes, criterios de ponderación de las necesidades de contratación por parte del área responsable de definir las especificaciones. | H12: =+EVALUACION!I17 -> 2 | I12: =+EVALUACION!J17 -> 2 | J12: =+EVALUACION!K17 -> 4 | K12: =+EVALUACION!L17 -> BAJO | L12: CONTRATISTA | M12: 100 | N12: =+'EVALUACION CON CONTROLES'!F17 -> Revisar que los criterios habilitantes y de ponderación se definan correctamente en el formato que se defina. | O12: =+'EVALUACION CON CONTROLES'!H17 -> 1 | P12: =+'EVALUACION CON CONTROLES'!I17 -> 1 | Q12: =+'EVALUACION CON CONTROLES'!J17 -> 2 | R12: =+'EVALUACION CON CONTROLES'!K17 -> BAJO | S12: =+'EVALUACION CON CONTROLES'!L17 -> NO | T12: =+'EVALUACION CON CONTROLES'!M17 -> Entidad | U12: =+'EVALUACION CON CONTROLES'!N17 -> Etapa Contractual | V12: =+'EVALUACION CON CONTROLES'!O17 -> Previo a la suscripción del acta de inicio | ... X12: =+'EVALUACION CON CONTROLES'!Q17 -> Durante la etapa contractual y ejecución
B13: 3 | C13: =+EVALUACION!C18 -> Inadecuada evaluación de las ofertas y/o verificación de requisitos habilitantes | D13: =+'IDENTIFICACION Y ANALISIS'!C30 -> SELECCIÓN | E13: =+'IDENTIFICACION Y ANALISIS'!D36 -> Especifico | F13: =+'IDENTIFICACION Y ANALISIS'!E36 -> Externo | G13: =+EVALUACION!H18 -> Declarar desierto el proceso de contratación | H13: =+EVALUACION!I18 -> 1 | I13: =+EVALUACION!J18 -> 2 | J13: =+EVALUACION!K18 -> 3 | K13: =+EVALUACION!L18 -> BAJO | L13: FDLCB | M13: 100 | N13: =+'EVALUACION CON CONTROLES'!F18 -> No aprobar la inclusión de requisitos ponderables de dificil cumplimiento | O13: =+'EVALUACION CON CONTROLES'!H18 -> 1 | P13: =+'EVALUACION CON CONTROLES'!I18 -> 2 | Q13: =+'EVALUACION CON CONTROLES'!J18 -> 3 | R13: =+'EVALUACION CON CONTROLES'!K18 -> BAJO | S13: =+'EVALUACION CON CONTROLES'!L18 -> NO | T13: =+'EVALUACION CON CONTROLES'!M18 -> Entidad | U13: =+'EVALUACION CON CONTROLES'!N18 -> Etapa Contractual | V13: =+'EVALUACION CON CONTROLES'!O18 -> Previo a la suscripción del acta de inicio | ... X13: =+'EVALUACION CON CONTROLES'!Q18 -> Durante la etapa contractual y ejecución
B14: 4 | C14: =+EVALUACION!C19 -> Confabulación de los proponentes (Colusión) | D14: =+'IDENTIFICACION Y ANALISIS'!C45 -> EJECUCIÓN | E14: =+'IDENTIFICACION Y ANALISIS'!D47 -> General | F14: =+'IDENTIFICACION Y ANALISIS'!E47 -> Externo | G14: =+EVALUACION!H19 -> Detectar practicas de Colusión | H14: =+EVALUACION!I19 -> 1 | I14: =+EVALUACION!J19 -> 4 | J14: =+EVALUACION!K19 -> 5 | K14: =+EVALUACION!L19 -> MEDIO | L14: FDLCB | M14: 50 | N14: =+'EVALUACION CON CONTROLES'!F19 -> Se solicita a los proponentes presentar junto con su oferta el formato "COMPROMISO ANTICORRUPCIÓN" en el cual se compromenten a no efectuar acuerdos, o realizar actos o conductas que tengan por objeto o efecto la colusión enel proceso de selección | O14: =+'EVALUACION CON CONTROLES'!H19 -> 3 | P14: =+'EVALUACION CON CONTROLES'!I19 -> 1 | Q14: =+'EVALUACION CON CONTROLES'!J19 -> 4 | R14: =+'EVALUACION CON CONTROLES'!K19 -> BAJO | S14: =+'EVALUACION CON CONTROLES'!L19 -> SI | T14: =+'EVALUACION CON CONTROLES'!M19 -> Supervisor del contrato y Contratista | U14: =+'EVALUACION CON CONTROLES'!N19 -> Suscripción contrato | V14: =+'EVALUACION CON CONTROLES'!O19 -> Suscripción del contrato | ... X14: =+'EVALUACION CON CONTROLES'!Q19 -> Durante ejecución del contrato
B15: 5 | C15: =+EVALUACION!C20 -> Falta de constitución o constitución tardía de la garantía única. Aceptación de garantías que no se ajustan a lo contemplado en el contrato | D15: =+'IDENTIFICACION Y ANALISIS'!C45 -> EJECUCIÓN | E15: =+'IDENTIFICACION Y ANALISIS'!D48 -> General | F15: =+'IDENTIFICACION Y ANALISIS'!E48 -> Externo | G15: =+EVALUACION!H20 -> El contratista no cumple los plazos establecidos para la entrega de garantías | H15: =+EVALUACION!I20 -> 2 | I15: =+EVALUACION!J20 -> 3 | J15: =+EVALUACION!K20 -> 5 | K15: =+EVALUACION!L20 -> MEDIO | L15: CONTRATISTA | M15: 100 | N15: =+'EVALUACION CON CONTROLES'!F20 -> Indicar al contratista que debe allegar los documentos respectivos para la legalización del contrato, en un plazo determinado | O15: =+'EVALUACION CON CONTROLES'!H20 -> 1 | P15: =+'EVALUACION CON CONTROLES'!I20 -> 1 | Q15: =+'EVALUACION CON CONTROLES'!J20 -> 2 | R15: =+'EVALUACION CON CONTROLES'!K20 -> BAJO | S15: =+'EVALUACION CON CONTROLES'!L20 -> SI | T15: =+'EVALUACION CON CONTROLES'!M20 -> Supervisor del contrato y Contratista | U15: =+'EVALUACION CON CONTROLES'!N20 -> Suscripción contrato | V15: =+'EVALUACION CON CONTROLES'!O20 -> Suscripción del contrato | ... X15: =+'EVALUACION CON CONTROLES'!Q20 -> Durante ejecución del contrato
B16: 6 | C16: =+EVALUACION!C21 -> Incumplimiento de compromisos adquiridos por el contratista seleccionado con sus subcontratistas, suministradores de bienes y servicios. | D16: =+'IDENTIFICACION Y ANALISIS'!C45 -> EJECUCIÓN | E16: =+'IDENTIFICACION Y ANALISIS'!D49 -> General | F16: =+'IDENTIFICACION Y ANALISIS'!E49 -> Externo | G16: =+EVALUACION!H21 -> 1, Calidad deficiente: No cumplir eficientemente con las laborea de interventoria tecnica, administrativa, financiera, juridica y ambiental previstos en el contrato, el pliego de condiciones y el Anexo Técnico 2, Personal contratado no sea competente para desarrollar las acciones de interventoria: no contar con el personal calificado para adelantar la prestación del servicio contratado 3, Detetar practicas de colusion con el contratista a ser supervisado o auditado 4, Renuncia de uno o varios integrantes del equipo humano del contrato: por razones de Fuerza mayor, una mejor oferta laboral y/o falta de cohesión del equipo. | H16: =+EVALUACION!I21 -> 2 | I16: =+EVALUACION!J21 -> 3 | J16: =+EVALUACION!K21 -> 5 | K16: =+EVALUACION!L21 -> MEDIO | L16: CONTRATISTA | M16: 100 | N16: =+'EVALUACION CON CONTROLES'!F21 -> El supervisor del contrato realiza los requerimientos a que haya lugar al contratista y evalúa si es necesario dar aplicación al artículo 86 de la ley 1474 de 2011 en lo referente al procedimiento para la aplicación de multas y sanciones | O16: =+'EVALUACION CON CONTROLES'!H21 -> 1 | P16: =+'EVALUACION CON CONTROLES'!I21 -> 1 | Q16: =+'EVALUACION CON CONTROLES'!J21 -> 2 | R16: =+'EVALUACION CON CONTROLES'!K21 -> BAJO | S16: =+'EVALUACION CON CONTROLES'!L21 -> SI | T16: =+'EVALUACION CON CONTROLES'!M21 -> Supervisor del contrato y Contratista | U16: =+'EVALUACION CON CONTROLES'!N21 -> ejecucion contrato | V16: =+'EVALUACION CON CONTROLES'!O21 -> Prestación del servicio | ... X16: =+'EVALUACION CON CONTROLES'!Q21 -> Durante ejecución del contrato
B17: 7 | C17: =+EVALUACION!C22 -> Incumplir las funciones de control por parte del supervisor | D17: =+'IDENTIFICACION Y ANALISIS'!C45 -> EJECUCIÓN | E17: =+'IDENTIFICACION Y ANALISIS'!D50 -> General | F17: =+'IDENTIFICACION Y ANALISIS'!E50 -> Interno | G17: =+EVALUACION!H22 -> Seguimiento inadecuado y control de la ejecución contractual por parte del supervisor de la interventoria | H17: =+EVALUACION!I22 -> 1 | I17: =+EVALUACION!J22 -> 1 | J17: =+EVALUACION!K22 -> 2 | K17: =+EVALUACION!L22 -> BAJO | L17: FDLCB | M17: 50 | N17: =+'EVALUACION CON CONTROLES'!F22 -> El ordenador del gasto en la solicitud de inicio de planeación contractual designa la persona idónea para ejercer la supervisión del contrato, para lo cual manifiesta de manera expresa que el mismo tiene la competencia funcional e idoneidad para ejercer la citada supervisión. | O17: =+'EVALUACION CON CONTROLES'!H22 -> 1 | P17: =+'EVALUACION CON CONTROLES'!I22 -> 1 | Q17: =+'EVALUACION CON CONTROLES'!J22 -> 2 | R17: =+'EVALUACION CON CONTROLES'!K22 -> BAJO | S17: =+'EVALUACION CON CONTROLES'!L22 -> SI | T17: =+'EVALUACION CON CONTROLES'!M22 -> Supervisor del contrato y Contratista | U17: =+'EVALUACION CON CONTROLES'!N22 -> ejecucion contrato | V17: =+'EVALUACION CON CONTROLES'!O22 -> Prestación del servicio | ... X17: =+'EVALUACION CON CONTROLES'!Q22 -> Durante ejecución del contrato
B18: 8 | C18: =+EVALUACION!C23 -> Cambio de precios en factores de producción. | D18: =+'IDENTIFICACION Y ANALISIS'!C45 -> EJECUCIÓN | E18: =+'IDENTIFICACION Y ANALISIS'!D51 -> General | F18: =+'IDENTIFICACION Y ANALISIS'!E51 -> Externo | G18: =+EVALUACION!H23 -> Factores del mercado y variación de los costos de insumos necesarios para los productos a entregar en la propuesta económica del contratista a supervisar, el contratista no estima adecuadamente los costos y el tiempo de los conceptos necesarios para el cumplimiento del objeto del contrato hacer supervisado | H18: =+EVALUACION!I23 -> 2 | I18: =+EVALUACION!J23 -> 2 | J18: =+EVALUACION!K23 -> 4 | K18: =+EVALUACION!L23 -> BAJO | L18: CONTRATISTA | M18: 100 | N18: =+'EVALUACION CON CONTROLES'!F23 -> Obligaciones especiales del contratista, en donde se establece que debe mantener los precios fijos durante la ejecución y liquidación del contrato. | O18: =+'EVALUACION CON CONTROLES'!H23 -> 1 | P18: =+'EVALUACION CON CONTROLES'!I23 -> 1 | Q18: =+'EVALUACION CON CONTROLES'!J23 -> 2 | R18: =+'EVALUACION CON CONTROLES'!K23 -> BAJO | S18: =+'EVALUACION CON CONTROLES'!L23 -> SI | T18: =+'EVALUACION CON CONTROLES'!M23 -> Supervisor del contrato y Contratista | U18: =+'EVALUACION CON CONTROLES'!N23 -> ejecucion contrato | V18: =+'EVALUACION CON CONTROLES'!O23 -> Prestación del servicio | ... X18: =+'EVALUACION CON CONTROLES'!Q23 -> Durante ejecución del contrato
B19: 9 | C19: =+EVALUACION!C24 -> Peligro biológico | D19: =+'IDENTIFICACION Y ANALISIS'!C45 -> EJECUCIÓN | E19: =+'IDENTIFICACION Y ANALISIS'!D52 -> Especifico | F19: =+'IDENTIFICACION Y ANALISIS'!E52 -> Externo | G19: =+EVALUACION!H24 -> Exposición a agentes biológicos como SARS-COVID-19, contacto directo entre personas o con objetos contaminados Presencia de enfermedades infectocontagiosas en compañeros de trabajo o en personas con las que se entre en contacto. | H19: =+EVALUACION!I24 -> 3 | I19: =+EVALUACION!J24 -> 3 | J19: =+EVALUACION!K24 -> 6 | K19: =+EVALUACION!L24 -> ALTO | L19: FDLCB | M19: 50 | N19: =+'EVALUACION CON CONTROLES'!F24 -> Promover el uso de protector naso bucal (tapabocas) en todo el personal, las medidas de autocuidado y distanciamiento social. Sensibilización a contratistas y comunidad en el correcto y frecuente lavado de manos, recalcar las medidas de auto cuidado y de distanciamiento. Promover teletrabajo en personas con enfermedades infectocontagiosas. Aplicación de protocolos de bioseguridad | O19: =+'EVALUACION CON CONTROLES'!H24 -> 1 | P19: =+'EVALUACION CON CONTROLES'!I24 -> 1 | Q19: =+'EVALUACION CON CONTROLES'!J24 -> 2 | R19: =+'EVALUACION CON CONTROLES'!K24 -> BAJO | S19: =+'EVALUACION CON CONTROLES'!L24 -> SI | T19: =+'EVALUACION CON CONTROLES'!M24 -> Supervisor del contrato y Contratista | U19: =+'EVALUACION CON CONTROLES'!N24 -> ejecucion contrato | V19: =+'EVALUACION CON CONTROLES'!O24 -> Prestación del servicio | ... X19: =+'EVALUACION CON CONTROLES'!Q24 -> Durante ejecución del contrato
B20: 10 | C20: =+EVALUACION!C25 -> Eventos naturales tales como lluvias, inundaciones y sequias entre otros | D20: =+'IDENTIFICACION Y ANALISIS'!C45 -> EJECUCIÓN | E20: =+'IDENTIFICACION Y ANALISIS'!D53 -> Especifico | F20: =+'IDENTIFICACION Y ANALISIS'!E53 -> Interno | G20: =+EVALUACION!H25 -> Presentacion de fuerets lluvias o desastres naturales que afecten la cadena de suministro de insumos. | H20: =+EVALUACION!I25 -> 3 | I20: =+EVALUACION!J25 -> 3 | J20: =+EVALUACION!K25 -> 6 | K20: =+EVALUACION!L25 -> ALTO | L20: FDLCB | M20: 50 | N20: =+'EVALUACION CON CONTROLES'!F25 -> Realizar seguimiento a los boletines metereologicos expedidos por IDEAM e IDEGER en periodos de ola invernal | O20: =+'EVALUACION CON CONTROLES'!H25 -> 1 | P20: =+'EVALUACION CON CONTROLES'!I25 -> 1 | Q20: =+'EVALUACION CON CONTROLES'!J25 -> 2 | R20: =+'EVALUACION CON CONTROLES'!K25 -> BAJO | S20: =+'EVALUACION CON CONTROLES'!L25 -> SI | T20: =+'EVALUACION CON CONTROLES'!M25 -> Supervisor del contrato y Contratista | U20: =+'EVALUACION CON CONTROLES'!N25 -> ejecucion contrato | V20: =+'EVALUACION CON CONTROLES'!O25 -> Prestación del servicio | ... X20: =+'EVALUACION CON CONTROLES'!Q25 -> Durante ejecución del contrato
B21: 11 | C21: =+EVALUACION!C26 -> Cambios en el marco regulatorio o normatividad aplicable al proyecto. | D21: =+'IDENTIFICACION Y ANALISIS'!C45 -> EJECUCIÓN | E21: =+'IDENTIFICACION Y ANALISIS'!D54 -> General | F21: =+'IDENTIFICACION Y ANALISIS'!E54 -> Externo | G21: =+EVALUACION!H26 -> Cambio de regulación normativa que afecte el contrato | H21: =+EVALUACION!I26 -> 2 | I21: =+EVALUACION!J26 -> 2 | J21: =+EVALUACION!K26 -> 4 | K21: =+EVALUACION!L26 -> BAJO | L21: CONTRATISTA | M21: 100 | N21: =+'EVALUACION CON CONTROLES'!F26 -> Una vez sea expedida una disposición legal que afecte el valor del contrato, el supervisor debe evaluar si es necesario tramitar una modificacion contractual | O21: =+'EVALUACION CON CONTROLES'!H26 -> 1 | P21: =+'EVALUACION CON CONTROLES'!I26 -> 1 | Q21: =+'EVALUACION CON CONTROLES'!J26 -> 2 | R21: =+'EVALUACION CON CONTROLES'!K26 -> BAJO | S21: =+'EVALUACION CON CONTROLES'!L26 -> SI | T21: =+'EVALUACION CON CONTROLES'!M26 -> Entidad - Contratista | U21: =+'EVALUACION CON CONTROLES'!N26 -> ejecucion contrato | V21: =+'EVALUACION CON CONTROLES'!O26 -> Prestación del servicio | ... X21: =+'EVALUACION CON CONTROLES'!Q26 -> Durante ejecución del contrato
B22: 12 | C22: =+EVALUACION!C27 -> Presentar reclamaciones del personal del contratista por falta de pago de salarios y prestaciones | D22: =+'IDENTIFICACION Y ANALISIS'!C45 -> EJECUCIÓN | E22: =+'IDENTIFICACION Y ANALISIS'!D55 -> General | F22: =+'IDENTIFICACION Y ANALISIS'!E55 -> Externo | G22: =+EVALUACION!H27 -> Incumplimiento del contratista con las obligaciones laborales | H22: =+EVALUACION!I27 -> 3 | I22: =+EVALUACION!J27 -> 2 | J22: =+EVALUACION!K27 -> 5 | K22: =+EVALUACION!L27 -> MEDIO | L22: CONTRATISTA | M22: 100 | N22: =+'EVALUACION CON CONTROLES'!F27 -> El supervisor verifica la ejecución de las Obligaciones especiales del contratista en donde se establece que debe cumplir con el pago oportuno de los salarios y prestaciones sociales del personal puesto a disposición para la ejecución del contrato. | O22: =+'EVALUACION CON CONTROLES'!H27 -> 1 | P22: =+'EVALUACION CON CONTROLES'!I27 -> 2 | Q22: =+'EVALUACION CON CONTROLES'!J27 -> 3 | R22: =+'EVALUACION CON CONTROLES'!K27 -> BAJO | S22: =+'EVALUACION CON CONTROLES'!L27 -> SI | T22: =+'EVALUACION CON CONTROLES'!M27 -> Contratista | U22: =+'EVALUACION CON CONTROLES'!N27 -> ejecucion contrato | V22: =+'EVALUACION CON CONTROLES'!O27 -> Prestación del servicio | ... X22: =+'EVALUACION CON CONTROLES'!Q27 -> Durante ejecución del contrato
F24: Categoría | J24: Impacto del Riesgo
E25: Probabilidad | F25: Categoría | G25: Valoración | J25: Categoría | L25: Valoración
F26: Raro (puede ocurrir excepcionalmente) | G26: 1 | J26: Insignificante | L26: 1
F27: Improbable (puede ocurrir ocasionalmente) | G27: 2 | J27: Menor | L27: 2
F28: Posible (puede ocurrir en cualquier momento futuro) | G28: 3 | J28: Moderado | L28: 3
F29: Probable (probablemente va a ocurrir) | G29: 4 | J29: Mayor | L29: 4
F30: Casi cierto (ocurre en la mayoría de circunstancias) | G30: 5 | J30: Catastrófico | L30: 5
D32: Valoración del Riesgo
D33: Categoría | E33: Valoración | F33: Insignificante | H33: Menor | J33: Moderado | K33: Mayor | L33: Catastrófico | P33: Categoría del Riesgo
F34: 1 | H34: 2 | J34: 3 | K34: 4 | L34: 5 | P34: Valoración del Riesgo | S34: Categoría
D35: Raro (puede ocurrir excepcionalmente) | E35: 1 | F35: 2 | H35: 3 | J35: 4 | K35: 5 | L35: 6 | P35: 8, 9 y 10 | S35: Riesgo extremo
D36: Improbable (puede ocurrir ocasionalmente) | E36: 2 | F36: 3 | H36: 4 | J36: 5 | K36: 6 | L36: 7 | P36: 6 y 7 | S36: Riesgo alto
D37: Posible (puede ocurrir en cualquier momento futuro) | E37: 3 | F37: 4 | H37: 5 | J37: 6 | K37: 7 | L37: 8 | P37: 5 | S37: Riesgo medio
D38: Probable (probablemente va a ocurrir) | E38: 4 | F38: 5 | H38: 6 | J38: 7 | K38: 8 | L38: 9 | P38: 2, 3 y 4 | S38: Riesgo bajo
D39: Casi cierto (ocurre en la mayoría de circunstancias) | E39: 5 | F39: 6 | H39: 7 | J39: 8 | K39: 9 | L39: 10
B44: CONTRATISTA
B45: FDLCB
B46: CONTRATISTA Y FDLCB
