Workbook
Name \0: #REF!
Name \0: #REF!
Name \0: #REF!
Name \00: #REF!
Name \00: #REF!
Name \00: #REF!
Name \a: #REF!
Name \a: #REF!
Name \a: #REF!
Name \a: #REF!
Name \AA: [1]LIQUIDACION!#REF!
Name \AA: [1]LIQUIDACION!#REF!
Name \AA: [1]LIQUIDACION!#REF!
Name \b: [2]STRSUMM0!#REF!
Name \b: [2]STRSUMM0!#REF!
Name \b: [2]STRSUMM0!#REF!
Name \bb: [2]STRSUMM0!#REF!
Name \bb: [2]STRSUMM0!#REF!
Name \bb: [2]STRSUMM0!#REF!
Name \E: #REF!
Name \E: #REF!
Name \E: #REF!
Name \EE: #REF!
Name \EE: #REF!
Name \EE: #REF!
Name \G: #REF!
Name \G: #REF!
Name \G: #REF!
Name \k: '[3]7422CW00'!#REF!
Name \k: '[3]7422CW00'!#REF!
Name \k: '[3]7422CW00'!#REF!
Name \l: [4]STRSUMM0!#REF!
Name \l: [4]STRSUMM0!#REF!
Name \l: [4]STRSUMM0!#REF!
Name \M: #REF!
Name \M: #REF!
Name \M: #REF!
Name \ñ: '[5]7422CW00'!#REF!
Name \ñ: '[5]7422CW00'!#REF!
Name \ñ: '[5]7422CW00'!#REF!
Name \P: #REF!
Name \P: #REF!
Name \P: #REF!
Name \R: #REF!
Name \R: #REF!
Name \R: #REF!
Name \s: #REF!
Name \s: #REF!
Name \s: #REF!
Name \s: #REF!
Name \V: #REF!
Name \V: #REF!
Name \V: #REF!
Name \X: 'INDICAR CÓDIGO DEL ITEM DE PAGO'!ERR
Name \X: [0]!ERR
Name \Z: 'INDICAR CÓDIGO DEL ITEM DE PAGO'!ERR
Name \Z: [0]!ERR
Name _________AFC1: [6]INV!$A$25:$D$28
Name _________AFC3: [6]INV!$F$25:$I$28
Name _________AFC5: [6]INV!$K$25:$N$28

Sheet PRESUPUESTO OFICIAL (Entidad)
C3: Formulario 1 - Propuesta económica - Documento tipo de licitación de obra pública de infraestructura de transporte - versión 3
C4: Código | D4: CCE-EICP-FM-14 | E4: Versión | F4: 3
C5: FORMULARIO 1
C6: PRESUPUESTO OFICIAL
C7: GRUPO 2: ECOBARRIO VALLES DE CAFAM
C9: CAJA DE LA VIVIENDA POPULAR
C11: Nº | D11: ÍTEM DE PAGO | E11: ESPECIFICACIONES | G11: DESCRIPCIÓN | H11: UND. | I11: CANTIDAD | J11: VALOR UNITARIO (INCLUYE AIU) | K11: VALOR TOTAL (INCLUYE AIU)
E12: GENERAL | F12: PARTICULAR
G13: PRELIMINARES
G14: PRELIMINARES
C15: 1 | D15: 1 | G15: REPLANTEO GENERAL | H15: M2 | I15: 1964.62 | J15: 1291 | K15: =ROUND(J15*I15,0) -> 2536324
C16: 2 | D16: 2 | G16: DESCAPOTE MANUAL Y RETIRO (E=10-15CM) | H16: M2 | I16: 81 | J16: 19637 | K16: =ROUND(J16*I16,0) -> 1590597
C17: 3 | D17: 3 | G17: CERRAMIENTO LONA H=2.20 MTS(EXC+BASE CONC) | H17: ML | I17: 350 | J17: 39434 | K17: =ROUND(J17*I17,0) -> 13801900
C18: 4 | D18: 4 | G18: Lavado de andenes y descolmatación de juntas. Incluye alquiler de hidrolavadora 1300 W. Incluye implementos de aseo (detergente industrial). Transporte, agua, combustible y mano de obra. | H18: M2 | I18: 350 | J18: 6928 | K18: =ROUND(J18*I18,0) -> 2424800
C19: 5 | D19: 5 | G19: Arena lavada de peña con cemento para emboquillado de adoquin para pendiente mayor al 6% (incluye suministro, barrido para sellado de juntas y compactación). | H19: M3 | I19: 3 | J19: 193496 | K19: =ROUND(J19*I19,0) -> 580488
G20: EXCAVACIONES Y RELLENOS
G21: EXCAVACIONES CON RETIRO
C22: 6 | D22: 6 | G22: EXCAVACIÓN MANUAL+RETIRO SUELO BLANDO+TRASIEG <50M | H22: M3 | I22: 10 | J22: 120763 | K22: =ROUND(J22*I22,0) -> 1207630
C23: 7 | D23: 7 | G23: EXCAVACION MECANICA (Cargue+Transp+DispFinal)CDRC | H23: M3 | I23: 53.94 | J23: 108145 | K23: =ROUND(J23*I23,0) -> 5833341
G24: NIVELACIÓN Y CONFORMACIÓN DEL TERRENO
C25: 8 | D25: 8 | G25: NIVELACIÓN+PERFILADO TERRENO **MANUAL H=0.03 | H25: M2 | I25: 5 | J25: 3441 | K25: =ROUND(J25*I25,0) -> 17205
C26: 9 | D26: 9 | G26: NIVELACIÓN Y COMPACTACIÓN DE SUBRASANTE (MDEO+CILIN) | H26: M2 | I26: 2 | J26: 1821 | K26: =ROUND(J26*I26,0) -> 3642
G27: PROTECCIÓN DE TALUDES
C28: 10 | D28: 10 | G28: NIVELACION Y CONFORMACION TALUDES (M2) ** | H28: M2 | I28: 40.5 | J28: 21993 | K28: =ROUND(J28*I28,0) -> 890717
G29: RELLENOS | I29: 0
C30: 11 | D30: 11 | G30: GRAVILLA DE RIO 3/4" (CON TRANSPORTE) | H30: M3 | I30: 22.2 | J30: 208510 | K30: =ROUND(J30*I30,0) -> 4628922
G31: CIMENTACIÓN Y ESTRUCTURAS
C32: 12 | D32: 12 | G32: Demoliciones pisos de concreto o adoquín hasta 15 cm de ancho. Incluye cargue. No incluye transporte y disposición final | H32: M3 | I32: 34.23 | J32: 68391 | K32: =ROUND(J32*I32,0) -> 2341024
C33: 13 | D33: 13 | G33: Demoliciones bordillo para instalación tubería y balas de piso. Incluye cargue. No incluye transporte y disposición final | H33: ML | I33: 102.6 | J33: 24071 | K33: =ROUND(J33*I33,0) -> 2469685
C34: 14 | D34: 14 | G34: Reconstrucción bordillo en concreto de 3000 psi tipo grauting donde se instalaron las balas de piso y la tubería | H34: ML | I34: 102.6 | J34: 34726 | K34: =ROUND(J34*I34,0) -> 3562888
C35: 15 | D35: 15 | G35: Reconstrucción de anden en concreto 3000 PSI (210 KG/CM2) premezclado E=0.10M (Incluye suministro, formaleteo, refuerzo malla electrosoldada, fundida y curado) | H35: M2 | I35: 32 | J35: 92032 | K35: =ROUND(J35*I35,0) -> 2945024
C36: 16 | D36: 16 | G36: Bordillo prefabricado A-80 (suministro e instalación. incluye 3cm mortero de nivelación 2000 psi) | H36: ML | I36: 113.1 | J36: 81590 | K36: =ROUND(J36*I36,0) -> 9227829
C37: 17 | D37: 17 | G37: Bordillo prefabricado A-10 (suministro e instalación. incluye 3cm mortero de nivelación 2000 psi) para confinado de elementos de jardineria a piso. | H37: ML | I37: 112.5 | J37: 101089 | K37: =ROUND(J37*I37,0) -> 11372513
C38: 18 | D38: 18 | G38: Mantenimiento correctivo de espacio público en adoquín de arcilla liviano en bordes de materas, contenedores de raíces, dados y otros. Incluye cortes de adoquín para ajuste de figura, base en arena y emboquillado donde se requiera hasta 20 cm. Incluye alquiler de maquina cortadora o pulidora y cabina de trabajo | H38: M2 | I38: 75.5 | J38: 104894 | K38: =ROUND(J38*I38,0) -> 7919497
C39: 19 | D39: 19 | G39: Recebo comun (suministro, extendido, nivelación, humedecimiento y compactación con vibrocompactador) | H39: M3 | I39: 75 | J39: 109740 | K39: =ROUND(J39*I39,0) -> 8230500
C40: 20 | D40: 20 | G40: Geotextil NT 2000 para separación de materiales de capas de rellenos. Incluye suministro e instalación | H40: M2 | I40: 130 | J40: 10456 | K40: =ROUND(J40*I40,0) -> 1359280
C41: 21 | D41: 21 | G41: Suministro e instalación de piso deck y paredes en madera Teka (e=2 cms), la cual debe tener los tratamientos necesarios para su uso al exterior (aplicación de impregnante o lasur preparado con resinas acrílicas de base acuosa para la protección de maderas expuestas a la intemperie). La madera debe ir fijada a la estructura de soporte con tornillería oculta (cubierta con tarugo). Las tiras de madera deben ser completas y puestas en el sentido más largo (tapas laterales y frontales), separadas máx 5 mm, según diseño en planos. Incluye Cinta Antideslizante al ingreso y salida de puertas y rampas, si fuera necesario, Fotoluminiscente con ancho mínimo de 50mm, resistente a la humedad, resistente a grasas, de fácil limpieza y que se adapta a cualquier superficie. | H41: M2 | I41: 27.75 | J41: 356239 | K41: =ROUND(J41*I41,0) -> 9885632
C42: 22 | D42: 22 | G42: Suministro, instalación y transporte barrera New Jersey prefabricado monodireccional 0,3*1,0*0,80*0,15. Incluye mano de obra instalación.. Incluye cortes con pulidora para dar perfecta continuidad en esquinas y remates. No incluye base. Incluye boquilla para confinar y pegar | H42: ML | I42: 11 | J42: 444450 | K42: =ROUND(J42*I42,0) -> 4888950
C43: 23 | D43: 23 | G43: Reconstrucción de piso zona calistenia. Incluye demolición de carpeta asfaltica, nivelación de rasante, instalación de carpeta de rodadura asfaltica E= 0,06m, compactación, protección de elementos existentes con forro plastico. | H43: M3 | I43: 3 | J43: 1517953 | K43: =ROUND(J43*I43,0) -> 4553859
G44: ESTRUCTURA
...

Sheet OFERTA ECONOMICA (Proponente)
C3: Formulario 1 - Propuesta económica - Documento tipo de licitación de obra pública de infraestructura de transporte - versión 3
C4: Código | D4: CCE-EICP-FM-14 | E4: Versión | F4: 3
C5: FORMULARIO 1
C6: PROPUESTA ECONÓMICA
C7: “EJECUTAR A PRECIOS FIJOS SIN FÓRMULA DE REAJUSTE, LAS OBRAS DE INTERVENCIÓN FÍSICA A ESCALA BARRIAL CONSISTENTES EN LA CONSTRUCCIÓN DE ECOBARRIOS EN TERRITORIOS PRIORIZADOS EN EL BARRIO LA ROCA EN LA LOCALIDAD DE SAN CRISTÓBAL (GRUPO 1) Y EN EL BARRIO VALLE DE CAFAM DE LA LOCALIDAD DE USME (GRUPO 2) EN LA CIUDAD DE BOGOTÁ D.C.”. GRUPO 2: ECOBARRIO VALLES DE CAFAM
C9: CAJA DE LA VIVIENDA POPULAR
C11: Nº | D11: ÍTEM DE PAGO | E11: ESPECIFICACIONES | G11: DESCRIPCIÓN | H11: UND. | I11: CANTIDAD | J11: VALOR UNITARIO (INCLUYE AIU) | K11: VALOR TOTAL (INCLUYE AIU) | N11: OBSERVACIONES
E12: GENERAL | F12: PARTICULAR
G13: PRELIMINARES
G14: PRELIMINARES
C15: 1 | D15: 1 | G15: REPLANTEO GENERAL | H15: M2 | I15: 1964.62 | K15: =ROUND(J15*I15,0) -> 0 | N15: =+IF(((J15-'PRESUPUESTO OFICIAL (Entidad)'!J15)<=0)*AND(J15>0),"Cumple Presupuesto","No Cumple presupuesto") -> No Cumple presupuesto
C16: 2 | D16: 2 | G16: DESCAPOTE MANUAL Y RETIRO (E=10-15CM) | H16: M2 | I16: 81 | K16: =ROUND(J16*I16,0) -> 0 | N16: =+IF(((J16-'PRESUPUESTO OFICIAL (Entidad)'!J16)<=0)*AND(J16>0),"Cumple Presupuesto","No Cumple presupuesto") -> No Cumple presupuesto
C17: 3 | D17: 3 | G17: CERRAMIENTO LONA H=2.20 MTS(EXC+BASE CONC) | H17: ML | I17: 350 | K17: =ROUND(J17*I17,0) -> 0 | N17: =+IF(((J17-'PRESUPUESTO OFICIAL (Entidad)'!J17)<=0)*AND(J17>0),"Cumple Presupuesto","No Cumple presupuesto") -> No Cumple presupuesto
C18: 4 | D18: 4 | G18: Lavado de andenes y descolmatación de juntas. Incluye alquiler de hidrolavadora 1300 W. Incluye implementos de aseo (detergente industrial). Transporte, agua, combustible y mano de obra. | H18: M2 | I18: 350 | K18: =ROUND(J18*I18,0) -> 0 | N18: =+IF(((J18-'PRESUPUESTO OFICIAL (Entidad)'!J18)<=0)*AND(J18>0),"Cumple Presupuesto","No Cumple presupuesto") -> No Cumple presupuesto
C19: 5 | D19: 5 | G19: Arena lavada de peña con cemento para emboquillado de adoquin para pendiente mayor al 6% (incluye suministro, barrido para sellado de juntas y compactación). | H19: M3 | I19: 3 | K19: =ROUND(J19*I19,0) -> 0 | N19: =+IF(((J19-'PRESUPUESTO OFICIAL (Entidad)'!J19)<=0)*AND(J19>0),"Cumple Presupuesto","No Cumple presupuesto") -> No Cumple presupuesto
G20: EXCAVACIONES Y RELLENOS
G21: EXCAVACIONES CON RETIRO
C22: 6 | D22: 6 | G22: EXCAVACIÓN MANUAL+RETIRO SUELO BLANDO+TRASIEG <50M | H22: M3 | I22: 10 | K22: =ROUND(J22*I22,0) -> 0 | N22: =+IF(((J22-'PRESUPUESTO OFICIAL (Entidad)'!J22)<=0)*AND(J22>0),"Cumple Presupuesto","No Cumple presupuesto") -> No Cumple presupuesto
C23: 7 | D23: 7 | G23: EXCAVACION MECANICA (Cargue+Transp+DispFinal)CDRC | H23: M3 | I23: 53.94 | K23: =ROUND(J23*I23,0) -> 0 | N23: =+IF(((J23-'PRESUPUESTO OFICIAL (Entidad)'!J23)<=0)*AND(J23>0),"Cumple Presupuesto","No Cumple presupuesto") -> No Cumple presupuesto
G24: NIVELACIÓN Y CONFORMACIÓN DEL TERRENO
C25: 8 | D25: 8 | G25: NIVELACIÓN+PERFILADO TERRENO **MANUAL H=0.03 | H25: M2 | I25: 5 | K25: =ROUND(J25*I25,0) -> 0 | N25: =+IF(((J25-'PRESUPUESTO OFICIAL (Entidad)'!J25)<=0)*AND(J25>0),"Cumple Presupuesto","No Cumple presupuesto") -> No Cumple presupuesto
C26: 9 | D26: 9 | G26: NIVELACIÓN Y COMPACTACIÓN DE SUBRASANTE (MDEO+CILIN) | H26: M2 | I26: 2 | K26: =ROUND(J26*I26,0) -> 0 | N26: =+IF(((J26-'PRESUPUESTO OFICIAL (Entidad)'!J26)<=0)*AND(J26>0),"Cumple Presupuesto","No Cumple presupuesto") -> No Cumple presupuesto
G27: PROTECCIÓN DE TALUDES
C28: 10 | D28: 10 | G28: NIVELACION Y CONFORMACION TALUDES (M2) ** | H28: M2 | I28: 40.5 | K28: =ROUND(J28*I28,0) -> 0 | N28: =+IF(((J28-'PRESUPUESTO OFICIAL (Entidad)'!J28)<=0)*AND(J28>0),"Cumple Presupuesto","No Cumple presupuesto") -> No Cumple presupuesto
G29: RELLENOS | I29: 0
C30: 11 | D30: 11 | G30: GRAVILLA DE RIO 3/4" (CON TRANSPORTE) | H30: M3 | I30: 22.2 | K30: =ROUND(J30*I30,0) -> 0 | N30: =+IF(((J30-'PRESUPUESTO OFICIAL (Entidad)'!J30)<=0)*AND(J30>0),"Cumple Presupuesto","No Cumple presupuesto") -> No Cumple presupuesto
G31: CIMENTACIÓN Y ESTRUCTURAS
C32: 12 | D32: 12 | G32: Demoliciones pisos de concreto o adoquín hasta 15 cm de ancho. Incluye cargue. No incluye transporte y disposición final | H32: M3 | I32: 34.23 | K32: =ROUND(J32*I32,0) -> 0 | N32: =+IF(((J32-'PRESUPUESTO OFICIAL (Entidad)'!J32)<=0)*AND(J32>0),"Cumple Presupuesto","No Cumple presupuesto") -> No Cumple presupuesto
C33: 13 | D33: 13 | G33: Demoliciones bordillo para instalación tubería y balas de piso. Incluye cargue. No incluye transporte y disposición final | H33: ML | I33: 102.6 | K33: =ROUND(J33*I33,0) -> 0 | N33: =+IF(((J33-'PRESUPUESTO OFICIAL (Entidad)'!J33)<=0)*AND(J33>0),"Cumple Presupuesto","No Cumple presupuesto") -> No Cumple presupuesto
C34: 14 | D34: 14 | G34: Reconstrucción bordillo en concreto de 3000 psi tipo grauting donde se instalaron las balas de piso y la tubería | H34: ML | I34: 102.6 | K34: =ROUND(J34*I34,0) -> 0 | N34: =+IF(((J34-'PRESUPUESTO OFICIAL (Entidad)'!J34)<=0)*AND(J34>0),"Cumple Presupuesto","No Cumple presupuesto") -> No Cumple presupuesto
C35: 15 | D35: 15 | G35: Reconstrucción de anden en concreto 3000 PSI (210 KG/CM2) premezclado E=0.10M (Incluye suministro, formaleteo, refuerzo malla electrosoldada, fundida y curado) | H35: M2 | I35: 32 | K35: =ROUND(J35*I35,0) -> 0 | N35: =+IF(((J35-'PRESUPUESTO OFICIAL (Entidad)'!J35)<=0)*AND(J35>0),"Cumple Presupuesto","No Cumple presupuesto") -> No Cumple presupuesto
C36: 16 | D36: 16 | G36: Bordillo prefabricado A-80 (suministro e instalación. incluye 3cm mortero de nivelación 2000 psi) | H36: ML | I36: 113.1 | K36: =ROUND(J36*I36,0) -> 0 | N36: =+IF(((J36-'PRESUPUESTO OFICIAL (Entidad)'!J36)<=0)*AND(J36>0),"Cumple Presupuesto","No Cumple presupuesto") -> No Cumple presupuesto
C37: 17 | D37: 17 | G37: Bordillo prefabricado A-10 (suministro e instalación. incluye 3cm mortero de nivelación 2000 psi) para confinado de elementos de jardineria a piso. | H37: ML | I37: 112.5 | K37: =ROUND(J37*I37,0) -> 0 | N37: =+IF(((J37-'PRESUPUESTO OFICIAL (Entidad)'!J37)<=0)*AND(J37>0),"Cumple Presupuesto","No Cumple presupuesto") -> No Cumple presupuesto
C38: 18 | D38: 18 | G38: Mantenimiento correctivo de espacio público en adoquín de arcilla liviano en bordes de materas, contenedores de raíces, dados y otros. Incluye cortes de adoquín para ajuste de figura, base en arena y emboquillado donde se requiera hasta 20 cm. Incluye alquiler de maquina cortadora o pulidora y cabina de trabajo | H38: M2 | I38: 75.5 | K38: =ROUND(J38*I38,0) -> 0 | N38: =+IF(((J38-'PRESUPUESTO OFICIAL (Entidad)'!J38)<=0)*AND(J38>0),"Cumple Presupuesto","No Cumple presupuesto") -> No Cumple presupuesto
C39: 19 | D39: 19 | G39: Recebo comun (suministro, extendido, nivelación, humedecimiento y compactación con vibrocompactador) | H39: M3 | I39: 75 | K39: =ROUND(J39*I39,0) -> 0 | N39: =+IF(((J39-'PRESUPUESTO OFICIAL (Entidad)'!J39)<=0)*AND(J39>0),"Cumple Presupuesto","No Cumple presupuesto") -> No Cumple presupuesto
C40: 20 | D40: 20 | G40: Geotextil NT 2000 para separación de materiales de capas de rellenos. Incluye suministro e instalación | H40: M2 | I40: 130 | K40: =ROUND(J40*I40,0) -> 0 | N40: =+IF(((J40-'PRESUPUESTO OFICIAL (Entidad)'!J40)<=0)*AND(J40>0),"Cumple Presupuesto","No Cumple presupuesto") -> No Cumple presupuesto
C41: 21 | D41: 21 | G41: Suministro e instalación de piso deck y paredes en madera Teka (e=2 cms), la cual debe tener los tratamientos necesarios para su uso al exterior (aplicación de impregnante o lasur preparado con resinas acrílicas de base acuosa para la protección de maderas expuestas a la intemperie). La madera debe ir fijada a la estructura de soporte con tornillería oculta (cubierta con tarugo). Las tiras de madera deben ser completas y puestas en el sentido más largo (tapas laterales y frontales), separadas máx 5 mm, según diseño en planos. Incluye Cinta Antideslizante al ingreso y salida de puertas y rampas, si fuera necesario, Fotoluminiscente con ancho mínimo de 50mm, resistente a la humedad, resistente a grasas, de fácil limpieza y que se adapta a cualquier superficie. | H41: M2 | I41: 27.75 | K41: =ROUND(J41*I41,0) -> 0 | N41: =+IF(((J41-'PRESUPUESTO OFICIAL (Entidad)'!J41)<=0)*AND(J41>0),"Cumple Presupuesto","No Cumple presupuesto") -> No Cumple presupuesto
C42: 22 | D42: 22 | G42: Suministro, instalación y transporte barrera New Jersey prefabricado monodireccional 0,3*1,0*0,80*0,15. Incluye mano de obra instalación.. Incluye cortes con pulidora para dar perfecta continuidad en esquinas y remates. No incluye base. Incluye boquilla para confinar y pegar | H42: ML | I42: 11 | K42: =ROUND(J42*I42,0) -> 0 | N42: =+IF(((J42-'PRESUPUESTO OFICIAL (Entidad)'!J42)<=0)*AND(J42>0),"Cumple Presupuesto","No Cumple presupuesto") -> No Cumple presupuesto
C43: 23 | D43: 23 | G43: Reconstrucción de piso zona calistenia. Incluye demolición de carpeta asfaltica, nivelación de rasante, instalación de carpeta de rodadura asfaltica E= 0,06m, compactación, protección de elementos existentes con forro plastico. | H43: M3 | I43: 3 | K43: =ROUND(J43*I43,0) -> 0 | N43: =+IF(((J43-'PRESUPUESTO OFICIAL (Entidad)'!J43)<=0)*AND(J43>0),"Cumple Presupuesto","No Cumple presupuesto") -> No Cumple presupuesto
G44: ESTRUCTURA
...

Sheet INDICAR CÓDIGO DEL ITEM DE PAGO
C3: Formulario 1 - Propuesta económica - Documento tipo de licitación de obra pública de infraestructura de transporte - versión 3
C4: Código | D4: CCE-EICP-FM-14 | E4: Versión | F4: 3
C6: [La entidad podrá utilizar este formato para la presentación de los análisis de precios unitarios del contratista en la oportunidad prevista en el numeral 8.1. del Documento Base]
D9: [NOMBRE DE LA ENTIDAD]
L10: VERSIÓN
D11: [NÚMERO DEL PROCESO]
L12: PÁGINA | M12: 1 | N12: DE | O12: 1
D14: ANALISIS DE PRECIOS UNITARIOS
L16: FECHA | M16: DD | N16: MM | O16: AA
C18: ÍTEMS DE LA PROPUESTA ECONÓMICA | I18: ÍTEMS NO PREVISTOS
C22: DATOS ESPECÍFICOS
C24: ÍTEM | D24: DESCRIPCIÓN | M24: UNIDAD | O24: CANTIDAD
C26: I. EQUIPO
C29: DESCRIPCIÓN | H29: MARCA | J29: TIPO | L29: TARIFA/HORA | M29: RENDIMIENTO | O29: Vr. UNITARIO
C33: SUBTOTAL $
C34: II. MATERIALES
C37: DESCRIPCIÓN | K37: UNIDAD | L37: CANTIDAD | M37: PRECIO UNIT. | O37: Vr. UNITARIO
C40: SUBTOTAL $ | O40: 0
C41: III. TRANSPORTES
C44: MATERIAL | J44: VOL. o PESO | K44: DISTANCIA | L44: M3 o Ton/Km | M44: TARIFA | O44: Vr. UNITARIO
C47: SUBTOTAL $
C48: IV. MANO DE OBRA
C51: TRABAJADOR | J51: JORNAL | K51: PRESTACIONES | L51: JORNAL TOTAL | M51: RENDIMIENTO | O51: Vr. UNITARIO
C56: SUBTOTAL $
C58: TOTAL COSTO DIRECTO $
C59: V. COSTOS INDIRECTOS
C62: Descripción | L62: Porcentaje | M62: Valor Total
C63: ADMINISTRACION
C64: IMPREVISTOS
C65: UTILIDAD
C66: SUBTOTAL $
C68: Precio Unitario Total Aproximado al peso $
H72: Firma
H73: Nombre:
H74: Representante Legal del Contratista o su Apoderado
H75: Matricula No. :
C77: OBSERVACIONES INTERVENTORÍA
C81: APROBACIÓN POR INTERVENTORÍA
C82: Nota 1: Cuando se trate de Análisis de precios unitarios correspondientes a ítems de la propuesta económica aprobada, el Interventor aprueba el desglose de los componentes manteniendo el mismo precio unitario de cada ítem, cumpliendo con las especificaciones de construcción vigentes para el proyecto.
C84: Nota 2: Cuando se trate de Análisis de precios unitarios de ítems no previstos, el Interventor aprueba el desglose y precio unitario de cada ítem no previsto, exigiendo la aplicación de los costos correspondientes a insumos y tarifas de la propuesta económica inicial cuando estén contemplados, cumpliendo con las especificaciones de construcción vigente para el proyecto.
...
