Workbook
Name \a: #REF!
Name \L: #REF!
Name \P: #REF!
Name \s: #REF!
Name \X: [0]!err
Name \Z: [0]!err
Name _________________________________________________i1: #REF!
Name ________________________________________________i1: #REF!
Name _______________________________________________i1: #REF!
Name ______________________________________________i1: #REF!
Name _____________________________________________i1: #REF!
Name ____________________________________________i1: #REF!
Name ___________________________________________i1: #REF!
Name __________________________________________i1: #REF!
Name _________________________________________i1: #REF!
Name ________________________________________i1: #REF!
Name _______________________________________i1: #REF!
Name ______________________________________i1: #REF!
Name _____________________________________i1: #REF!
Name ____________________________________i1: #REF!
Name ___________________________________i1: #REF!
Name __________________________________i1: #REF!
Name _________________________________i1: #REF!
Name ________________________________i1: #REF!
Name _______________________________i1: #REF!
Name ______________________________i1: #REF!
Name _____________________________i1: #REF!
Name ____________________________i1: #REF!
Name ___________________________i1: #REF!
Name __________________________i1: #REF!
Name _________________________i1: #REF!
Name ________________________i1: #REF!
Name _______________________i1: #REF!
Name ______________________i1: #REF!
Name _____________________i1: #REF!
Name ____________________i1: #REF!
Name ___________________i1: #REF!
Name __________________A1: IF([0]!Values_Entered,[0]!Header_Row+[0]!Number_of_Payments,[0]!Header_Row)
Name __________________A17000: #REF!
Name __________________A20000: #REF!
Name __________________A30000: #REF!
Name __________________AFC1: [1]INV!$A$25:$D$28
Name __________________AFC3: [1]INV!$F$25:$I$28
Name __________________AFC5: [1]INV!$K$25:$N$28
Name __________________BGC1: [1]INV!$A$5:$D$8
Name __________________BGC3: [1]INV!$F$5:$I$8
Name __________________BGC5: [1]INV!$K$5:$N$8
Name __________________CAC1: [1]INV!$A$19:$D$22
Name __________________CAC3: [1]INV!$F$19:$I$22
Name __________________CAC5: [1]INV!$K$19:$N$22
Name __________________G1: #N/A
Name __________________i1: #REF!
Name __________________MA2: #REF!
Name __________________PJ50: #REF!
Name __________________SBC1: [1]INV!$A$12:$D$15
Name __________________SBC3: [1]INV!$F$12:$I$15
Name __________________SBC5: [1]INV!$K$12:$N$15
Name __________________v1: IF(__________________v8,[0]!Header_Row+__________________v4,[0]!Header_Row)
Name __________________v2: IF(__________________v8,[0]!Header_Row+__________________v4,[0]!Header_Row)
Name __________________v4: #N/A

Sheet FORMULARIO 1 - PRESU. ENTIDAD 
D2: SISTEMA DE GESTION: MODELO INTEGRADO DE PLANEACIÓN Y SISTEMA GESTIÓN - MIPG
I3: Código: DIH-CGID-F64
D4: FORMULARIO DE PRESUPUESTO OFICIAL | I4: Versión: 1
B5: Fecha Aprobación: 14/06/2023 | I5: Página 1 de 1
C9: FORMULARIO 1 - DETALLADO INTERVENTORIA VEREDA FILO GUAYABAL
C10: [La Entidad puede utilizar este Formulario para determinar las condiciones bajo las cuales los Proponentes presentarán su propuesta económica de forma detallada, sin perjuicio que puedan modificarlo o alleguen la oferta económica con un Formulario distinto. Es presentado a modo ilustrativo y como una sugerencia]
C12: ITEM | D12: CARGO / OFICIO | E12: COSTOS | F12: DEDICACION % | G12: CANT. | H12: MESES | I12: VALOR
E13: DE PERSONAL | I13: PARCIAL ($)
E14: (2) | F14: (3) | G14: (1) | H14: (4) | I14: (1)*(2)*(3)*(4) = (6)
C15: COSTOS DIRECTOS DE PERSONAL
C16: PERSONAL
C17: PERSONAL TÉCNICO
C18: 1.1 | D18: DIRECTOR DE INTERVENTORÍA | E18: 2750000 | F18: 0.5 | G18: 1 | H18: 3 | I18: =ROUND(H18*G18*F18*E18,0) -> 4125000
C19: 1.2 | D19: PROFESIONAL DE APOYO (RESIDENTE) - | E19: 2250000 | F19: 1 | G19: 1 | H19: 3 | I19: =H19*G19*F19*E19 -> 6750000
C20: PERSONAL DE APOYO
C21: 2.1 | D21: SECRETARIA | E21: 1600000 | F21: 0.76 | G21: 1 | H21: 3 | I21: =H21*G21*F21*E21 -> 3648000
C22: 2.2 | D22: TOPOGRAFO | E22: 1500000 | F22: 0.15 | G22: 1 | H22: 1 | I22: =H22*G22*F22*E22 -> 225000
C23: 2.3 | D23: CADENEROS | E23: 900000 | F23: 0.15 | G23: 1 | H23: 1 | I23: =H23*G23*F23*E23 -> 135000
C24: SUBTOTAL COSTOS DE PERSONAL = SUMATORIA DE (6) = (A) | I24: =I21+I19+I18+I22+I23 -> 14883000
C25: FACTOR MULTIPLICADOR (5) = | I25: =+'FACTOR MULTIPLICADOR ENTIDAD'!I43 -> 2.1000333
C26: VALOR TOTAL DE PERSONAL (5)*A = (A1) | I26: =ROUND(I25*I24,0) -> 31254796
C27: ITEM | D27: CONCEPTO | E27: UNIDAD | F27: CANT. | G27: COSTO | H27: MESES | I27: VALOR
G28: ($) | I28: PARCIAL ($)
F29: (7) | G29: (8) | H29: (9) | I29: (7)*(8)*(9) = (10)
C30: OTROS COSTOS DIRECTOS
C31: OTROS COSTOS DIRECTOS
C32: 3.1 | D32: ENSAYOS DE LABORATORIO | E32: UND | F32: 8 | G32: 100000 | H32: 3 | I32: =ROUND(G32*F32*H32,0) -> 2400000
C33: 3.2 | D33: EDICION DE INFORMES, ESTUDIOS FOTOGRAFICOS, DOCUMENTACION, FOTOCOPIAS, PAPELERIA Y PLOTTEADA DE PLANOS. | E33: MES | F33: 1 | G33: 501000 | H33: 3 | I33: =ROUND(G33*F33*H33,0) -> 1503000
C34: 3.3 | D34: TRANSPORTE ALQUILER DE VEHICULO | E34: MES | F34: 1 | G34: 300000 | H34: 3 | I34: =ROUND(G34*F34*H34,0) -> 900000
C35: 3.4 | D35: EQUIPO TOPOGRAFICO | E35: UND | F35: 1 | G35: 200000 | H35: 1 | I35: =ROUND(G35*F35*H35,0) -> 200000
C36: SUBTOTAL OTROS COSTOS DIRECTOS = SUMATORIA DE (10) = (B) | I36: =+I32+I33+I34+I35 -> 5003000
C37: SUBTOTAL COSTOS BASICOS = (A1) + (B) = (C) | I37: =+I36+I26 -> 36257796
C38: IVA = 19% * (C) = (D) | I38: =ROUND(I37*19%,0) -> 6888981
C39: COSTO TOTAL = (C) + (D) | I39: =I38+I37 -> 43146777
C41: FIRMAS:
C46: Nombre y firma del representante legal del Proponente | F46: Nombre del Proponente
B49: Carrera 18 Calle 17 esquina Unidad Deportiva-Sede Administrativa Despacho 875 04 31- 875 04 23 – 018000931044 www.inderhuila.gov.co - atencionusuario@inderhuila.gov.co Neiva-Huila
D53: SISTEMA DE GESTION: MODELO INTEGRADO DE PLANEACIÓN Y SISTEMA GESTIÓN - MIPG
I54: Código: DIH-CGID-F64
D55: FORMULARIO DE PRESUPUESTO OFICIAL | I55: Versión: 1
...

Sheet FORMULARIO 1-PRESU. PROPONENTE
D2: SISTEMA DE GESTION: MODELO INTEGRADO DE PLANEACIÓN Y SISTEMA GESTIÓN - MIPG
I3: Código: DIH-CGID-F64
D4: FORMULARIO DE PRESUPUESTO OFICIAL | I4: Versión: 1
B5: Fecha Aprobación: 14/06/2023 | I5: Página 1 de 1
C9: FORMULARIO 1 - DETALLADO INTERVENTORIA VEREDA FILO GUAYABAL
C10: [La Entidad puede utilizar este Formulario para determinar las condiciones bajo las cuales los Proponentes presentarán su propuesta económica de forma detallada, sin perjuicio que puedan modificarlo o alleguen la oferta económica con un Formulario distinto. Es presentado a modo ilustrativo y como una sugerencia]
C12: ITEM | D12: CARGO / OFICIO | E12: COSTOS | F12: DEDICACION % | G12: CANT. | H12: MESES | I12: VALOR
E13: DE PERSONAL | I13: PARCIAL ($)
E14: (2) | F14: (3) | G14: (1) | H14: (4) | I14: (1)*(2)*(3)*(4) = (6)
C15: COSTOS DIRECTOS DE PERSONAL
C16: PERSONAL
C17: PERSONAL TÉCNICO
C18: 1.1 | D18: DIRECTOR DE INTERVENTORÍA | F18: 0.5 | G18: 1 | H18: 3 | I18: =ROUND(H18*G18*F18*E18,0) -> 0
C19: 1.2 | D19: PROFESIONAL DE APOYO (RESIDENTE) - | F19: 1 | G19: 1 | H19: 3 | I19: =H19*G19*F19*E19 -> 0
C20: PERSONAL DE APOYO
C21: 2.1 | D21: SECRETARIA | F21: 0.76 | G21: 1 | H21: 3 | I21: =H21*G21*F21*E21 -> 0
C22: 2.2 | D22: TOPOGRAFO | F22: 0.15 | G22: 1 | H22: 1 | I22: =H22*G22*F22*E22 -> 0
C23: 2.3 | D23: CADENEROS | F23: 0.15 | G23: 1 | H23: 1 | I23: =H23*G23*F23*E23 -> 0
C24: SUBTOTAL COSTOS DE PERSONAL = SUMATORIA DE (6) = (A) | I24: =I21+I19+I18+I22+I23 -> 0
C25: FACTOR MULTIPLICADOR (5) = | I25: =+'FACTOR MULTIPLICADOR ENTIDAD'!I43 -> 2.1000333
C26: VALOR TOTAL DE PERSONAL (5)*A = (A1) | I26: =ROUND(I25*I24,0) -> 0
C27: ITEM | D27: CONCEPTO | E27: UNIDAD | F27: CANT. | G27: COSTO | H27: MESES | I27: VALOR
G28: ($) | I28: PARCIAL ($)
F29: (7) | G29: (8) | H29: (9) | I29: (7)*(8)*(9) = (10)
C30: OTROS COSTOS DIRECTOS
C31: OTROS COSTOS DIRECTOS
C32: 3.1 | D32: ENSAYOS DE LABORATORIO | E32: UND | F32: 8 | H32: 3 | I32: =ROUND(G32*F32*H32,0) -> 0
C33: 3.2 | D33: EDICION DE INFORMES, ESTUDIOS FOTOGRAFICOS, DOCUMENTACION, FOTOCOPIAS, PAPELERIA Y PLOTTEADA DE PLANOS. | E33: MES | F33: 1 | H33: 3 | I33: =ROUND(G33*F33*H33,0) -> 0
C34: 3.3 | D34: TRANSPORTE ALQUILER DE VEHICULO | E34: MES | F34: 1 | H34: 3 | I34: =ROUND(G34*F34*H34,0) -> 0
C35: 3.4 | D35: EQUIPO TOPOGRAFICO | E35: UND | F35: 1 | H35: 1 | I35: =ROUND(G35*F35*H35,0) -> 0
C36: SUBTOTAL OTROS COSTOS DIRECTOS = SUMATORIA DE (10) = (B) | I36: =+I32+I33+I34+I35 -> 0
C37: SUBTOTAL COSTOS BASICOS = (A1) + (B) = (C) | I37: =+I36+I26 -> 0
C38: IVA = 19% * (C) = (D) | I38: =ROUND(I37*19%,0) -> 0
C39: COSTO TOTAL = (C) + (D) | I39: =I38+I37 -> 0
C41: FIRMAS:
C46: Nombre y firma del representante legal del Proponente | F46: Nombre del Proponente
B49: Carrera 18 Calle 17 esquina Unidad Deportiva-Sede Administrativa Despacho 875 04 31- 875 04 23 – 018000931044 www.inderhuila.gov.co - atencionusuario@inderhuila.gov.co Neiva-Huila
D53: SISTEMA DE GESTION: MODELO INTEGRADO DE PLANEACIÓN Y SISTEMA GESTIÓN - MIPG
I54: Código: DIH-CGID-F64
D55: FORMULARIO DE PRESUPUESTO OFICIAL | I55: Versión: 1
...

Sheet FACTOR MULTIPLICADOR ENTIDAD
A1: GOBERNACIÓN DEL HUILA
A2: INDERHUILA
A3: VEREDA FILO GUAYABAL Y VEREDA SANTA MARTA
A5: FACTOR MULTIPLICADOR
C7: CONCEPTO | I7: PORCENTAJE
A8: 1. | B8: Salarios y Prestaciones Sociales de Personal Facturable
A9: 1.1. | B9: Salarios | I9: 1
A10: 1.2. | B10: Prima anual (legal) | E10: 1 | F10: ÷ 12 = | I10: =1/12 -> 0.083333333
A11: 1.3. | B11: Cesantía | E11: 1 | F11: ÷ 12 = | I11: =1/12 -> 0.083333333
A12: 1.4. | B12: Intereses de cesantía | E12: 0.01 | F12: x 1.3. = | I12: 0.01
A13: 1.5. | B13: Vacaciones | I13: =+I11/2 -> 0.041666667
A14: 1.6. | B14: Seguridad Social (salud + pensión) | I14: 0.205
A15: 1.7. | B15: Caja de Compensación Familiar | I15: 0.04
A16: 1.8. | B16: ARP | I16: 0.025
A17: 1.9. | B17: Sena | I17: 0.02
A18: 1.10. | B18: ICBF | I18: 0.03
A19: 1.11. | B19: Otros (Auxilios varios, prestaciones extralegales, Incapacidades no cubertas) | I19: 0.01
A20: 1.12. | B20: Dotación | I20: 0.0217
F21: Sub-total | I21: =SUM(I9:I20) -> 1.5700333
A23: 2. | B23: Gastos Directos
A24: 2.1. | B24: Arriendo oficina | I24: 0.08
A25: 2.2. | B25: Administración edificio | I25: 0.04
A26: 3.2. | B26: Servicios públicos | I26: 0.05
F27: Sub-total | I27: =SUM(I24:I26) -> 0.17
A29: 3. | B29: Gastos Generales
A30: 3.1. | B30: Preparación de Propuesta | I30: 0.08
A31: 3.2. | B31: Asesoria Contable Tributaria y Juridica | I31: 0.05
A32: 3.3. | B32: Equipos y mantenimiento Oficina (Aseo) | I32: 0.03
A33: 3.4. | B33: Gastos de vehículo | I33: 0.05
A34: 3.9. | B34: Personal Profesional no facturado | I34: 0.04
F35: Sub-total | I35: =SUM(I30:I34) -> 0.25
A37: 4. | B37: Costos Otros
A38: 4.1 | B38: Otros gastos | I38: 0.04
F39: Sub-total | I39: =SUM(I38:I38) -> 0.04
A41: 5. | B41: Honorarios (Utilidad del consultor y costos no previstos) | F41: Sub-total | I41: 0.07
A43: T O T A L | I43: =SUM(I41,I39,I35,I27,I21) -> 2.1000333
A45: OBJETO: MEJORAMIENTO DEL POLIDEPORTIVO DE LA I.E. RAMON ALVARADO SANCHEZ, SEDE PRINCIPAL DEL CENTRO POBLADO EL PARAÍSO DEL MUNICIPIO DE GARZON – DEPARTAMENTO DEL HUILA
A47: FACTOR MULTIPLICADOR
C49: CONCEPTO | I49: PORCENTAJE
A50: 1. | B50: Salarios y Prestaciones Sociales de Personal Facturable
...

Sheet FORMULARIO1 - GLOBAL
D2: SISTEMA DE GESTION: MODELO INTEGRADO DE PLANEACIÓN Y SISTEMA GESTIÓN - MIPG
G3: Código: DIH-CGID-F64
D4: FORMULARIO DE PRESUPUESTO OFICIAL | G4: Versión: 1
B5: Fecha Aprobación: 14/06/2023 | G5: Página 1 de 1
C9: FORMULARIO 1 - GLOBAL
C10: [La Entidad puede utilizar este Formulario para determinar las condiciones bajo las cuales los Proponentes presentarán su propuesta económica de forma global, sin perjuicio que puedan modificarlo o alleguen la oferta económica con un Formulario distinto. Es presentado a modo ilustrativo y como una sugerencia]
C11: VALOR GLOBAL DE LA INTERVENTORÍA
C12: ÍTEM | D12: DESCRIPCIÓN | F12: VALOR OFERTA
C14: 1 | D14: Valor de su propuesta sin IVA
C15: 2 | D15: Valor del IVA
C16: 3 | D16: Valor total de la propuesta | F16: =SUM(F14:G15) -> 0
C18: VALORES OFICIALES PARA LOS ITEMS A PAGAR POR PRECIOS UNITARIOS PARA LOS ENSAYOS DE LABORATORIO (en caso de aplicar)
C19: ÍTEM | D19: DESCRIPCIÓN | E19: UNIDAD | F19: VALOR BÁSICO UNITARIO OFICIAL (sin IVA) | G19: VALOR BÁSICO UNITARIO PROPUESTO (sin IVA)
C33: FIRMAS:
C37: Nombre y firma del representante legal del Proponente | G37: Nombre y firma del Proponente
C40: Carrera 18 Calle 17 esquina Unidad Deportiva-Sede Administrativa Despacho 875 04 31- 875 04 23 – 018000931044 www.inderhuila.gov.co - atencionusuario@inderhuila.gov.co Neiva-Huila
