Workbook
Name SIoNO: #REF!

Sheet GENERAL
A1: INFORMACIÓN DEL PROCESO | B1: MUNICIPIO DE PALMIRA SECRETARIA DE DESARROLLO INSTITUCIONAL SELECCIÓN ABREVIADA MENOR CUANTIA No. MP-SDI-SAMC-PS-112-2023 OBJETO: CONTRATAR EL SERVICIO DE CAPACITACIÓN PARA SERVIDORES PÚBLICOS DE LA ALCALDÍA DE PALMIRA, EN CUMPLIMIENTO DEL PLAN INSTITUCIONAL DE CAPACITACIÓN (PIC)
B2: PRESUPUESTO OFICIAL ($) : | C2: 1.4594712e+08
B3: PRESUPUESTO OFICIAL (SMMLV) : | C3: =+C2/1160000 -> 125.81649
B4: FECHA DE CIERRE PROCESO : | C4: 45189
A6: OFERENTE | B6: 1
A7: INFORMACIÓN DEL OFERENTE | B7: UNIVERSIDAD SANTIAGO DE CALI
A8: INTEGRANTES | B8: UNIVERSIDAD SANTIAGO DE CALI
A9: NIT | B9: 890.303.797-1
A10: REPRESENTANTE LEGAL | B10: ZONIA YASMIN VELASCO RAMIREZ
A11: PARTICIPACIÓN | B11: 1
A12: RESULTADO DE LA EVALUACIÓN FINANCIERA | B12: ='1'!$B$50 -> HABILITADA
A13: OFERENTE | B13: 2
A14: INFORMACIÓN DEL OFERENTE | B14: UNIVERSIDAD PONTIFICIA BOLIVARIANA SECCIONAL PALMIRA
A15: INTEGRANTES | B15: UNIVERSIDAD PONTIFICIA BOLIVARIANA SECCIONAL PALMIRA
A16: NIT | B16: 890902922-6
A17: REPRESENTANTE LEGAL | B17: RAÚL JORDAN BALANTA
A18: PARTICIPACIÓN | B18: 1
A19: RESULTADO DE LA EVALUACIÓN FINANCIERA | B19: ='2'!$B$60 -> HABILITADA
A20: OFERENTE | B20: 3
A21: INFORMACIÓN DEL OFERENTE | B21: UNIVERSIDAD AUTONOMA DE OCCIDENTE
A22: INTEGRANTES | B22: UNIVERSIDAD AUTONOMA DE OCCIDENTE
A23: NIT | B23: 890305881-1
A24: REPRESENTANTE LEGAL | B24: ANDRES SIERRA GARZÓN
A25: PARTICIPACIÓN | B25: 1
A26: RESULTADO DE LA EVALUACIÓN FINANCIERA | B26: =+'3'!B60 -> HABILITADA
A32: LEANDRO ALARCON MONTIEL Secretaría de Desarrollo Institucional 25-09-2023

Sheet 1
A1: =+CONCATENATE(GENERAL!B1) -> MUNICIPIO DE PALMIRA SECRETARIA DE DESARROLLO INSTITUCIONAL SELECCIÓN ABREVIADA MENOR CUANTIA No. MP-SDI-SAMC-PS-112-2023 OBJETO: CONTRATAR EL SERVICIO DE CAPACITACIÓN PARA SERVIDORES PÚBLICOS DE LA ALCALDÍA DE PALMIRA, EN CUMPLIMIENTO DEL PLAN INSTITUCIONAL DE CAPACITACIÓN (PIC)
A2: EVALUACIÓN FINANCIERA
A3: =+CONCATENATE(GENERAL!B7) -> UNIVERSIDAD SANTIAGO DE CALI
A4: =+CONCATENATE("PROPUESTA No ",GENERAL!B6) -> PROPUESTA No 1
A6: INFORMACIÓN DEL OFERENTE Y RUBROS FINANCIEROS | B6: =+GENERAL!$B7 -> UNIVERSIDAD SANTIAGO DE CALI
B7: =+GENERAL!$B8 -> UNIVERSIDAD SANTIAGO DE CALI
A8: NIT | B8: =+GENERAL!$B9 -> 890.303.797-1
A9: REPRESENTANTE LEGAL | B9: =+GENERAL!$B10 -> ZONIA YASMIN VELASCO RAMIREZ
A10: PARTICIPACIÓN | B10: =GENERAL!B11 -> 1
A11: ACTIVO CORRIENTE | B11: 239575202000
A12: ACTIVO TOTAL | B12: 751407619000
A13: PASIVO CORRIENTE | B13: 56607037000
A14: PASIVO TOTAL | B14: 64892356000
A15: PATRIMONIO | B15: 686515263000
A16: UTILIDAD / PERDIDA OPERACIONAL | B16: 70902125000
A17: GASTOS DE INTERESES | B17: 93161000
A21: INDICADOR | B21: =+$B$6 -> UNIVERSIDAD SANTIAGO DE CALI
A22: INDICE DE LIQUIDEZ | B22: =((B11*B10))/((B13*B10)) -> 4.2322512
A23: INDICE DE ENDEUDAMIENTO | B23: =((B14*B10))/((B12*B10)) -> 0.086361057
A24: RAZON DE COBERTURA DE INTERESES | B24: =IFERROR(((B16*B10))/((B17*B10)),"INDETERMINADO") -> 761.07089
A25: CAPITAL DE TRABAJO | B25: =(((B11-B13)*B10)) -> 182968165000
A26: RENTABILIDAD DEL PATRIMONIO | B26: =((B16*B10))/((B15*B10)) -> 0.10327829
A27: RENTABILIDAD DEL ACTIVO | B27: =((B16*B10))/((B12*B10)) -> 0.094359071
A30: REQUISITOS CAPACIDAD FINANACIERA Y ORGANIZACIONAL | B30: INDICADOR ESTABLECIDO
A31: Indice de Liquidez. ≥ 1,13 (Act. Corriente/Pas. Corriente) | B31: 1.13
A32: Indice de Enduedamiento. ≤ 0,44 (Pas. Total/ Act. Total) | B32: 0.44
A33: Razon de Cobertura de Intereses ≥ 1,72 ( Util. Operacional / Gtos Intereses) | B33: 1.72
A34: Rentabiliodad del Patrimonio. ≥ 0,00 (Util. Operacional / Patrimonio) | B34: 0
A35: Rentabilidad del Activo. ≥ 0,00 (Util. Operacional / Act. Total) | B35: 0
A37: EVALUACIÓN INDICADOR | B37: =+$B$6 -> UNIVERSIDAD SANTIAGO DE CALI
A38: INDICE DE LIQUIDEZ | B38: =IF(B22>=B31,"CUMPLE","NO CUMPLE") -> CUMPLE
A39: INDICE DE ENDEUDAMIENTO | B39: =IF(B23<=B32,"CUMPLE","NO CUMPLE") -> CUMPLE
A40: RAZON DE COBERTURA DE INTERESES | B40: =IF(B24>=B33,"CUMPLE","NO CUMPLE") -> CUMPLE
A41: CAPITAL DE TRABAJO | B41: =IF(B25>=(#REF!*30.55%),"CUMPLE","NO CUMPLE") -> #REF!
A42: RENTABILIDAD DEL PATRIMONIO | B42: =IF(B26>=B34,"CUMPLE","NO CUMPLE") -> CUMPLE
A43: RENTABILIDAD DEL ACTIVO | B43: =IF(B27>=B35,"CUMPLE","NO CUMPLE") -> CUMPLE
A44: EVALUACIÓN FINAL DE INDICADORES | B44: =+IF(AND(B38="CUMPLE",B39="CUMPLE",B40="CUMPLE",B42="CUMPLE",B43="CUMPLE"),"CUMPLE","NO CUMPLE") -> CUMPLE
A46: EVALUACION FIRMEZA DEL RUP | B46: CUMPLE
A47: EVALUACION FECHA DEL RUP NO MAYOR A 30 DIAS | B47: CUMPLE
A50: EVALUACIÓN FINANCIERA | B50: =IF((AND(B44="CUMPLE",B46="CUMPLE",B47="CUMPLE")),"HABILITADA","NO HABILITADA") -> HABILITADA
...

Sheet 2
A1: =+CONCATENATE(GENERAL!B1) -> MUNICIPIO DE PALMIRA SECRETARIA DE DESARROLLO INSTITUCIONAL SELECCIÓN ABREVIADA MENOR CUANTIA No. MP-SDI-SAMC-PS-112-2023 OBJETO: CONTRATAR EL SERVICIO DE CAPACITACIÓN PARA SERVIDORES PÚBLICOS DE LA ALCALDÍA DE PALMIRA, EN CUMPLIMIENTO DEL PLAN INSTITUCIONAL DE CAPACITACIÓN (PIC)
A2: EVALUACIÓN FINANCIERA PRELIMINAR
A3: =+CONCATENATE(GENERAL!B14) -> UNIVERSIDAD PONTIFICIA BOLIVARIANA SECCIONAL PALMIRA
A4: =+CONCATENATE("PROPUESTA No ",GENERAL!B13) -> PROPUESTA No 2
A6: INFORMACIÓN DEL OFERENTE Y RUBROS FINANCIEROS | B6: =+GENERAL!$B14 -> UNIVERSIDAD PONTIFICIA BOLIVARIANA SECCIONAL PALMIRA
B7: =+GENERAL!$B15 -> UNIVERSIDAD PONTIFICIA BOLIVARIANA SECCIONAL PALMIRA
A8: NIT | B8: =+GENERAL!$B16 -> 890902922-6
A9: REPRESENTANTE LEGAL | B9: =+GENERAL!$B17 -> RAÚL JORDAN BALANTA
A10: PARTICIPACIÓN | B10: =+GENERAL!$B18 -> 1
A11: ACTIVO CORRIENTE | B11: 299096000000
A12: ACTIVO TOTAL | B12: 1594658000000
A13: PASIVO CORRIENTE | B13: 177579000000
A14: PASIVO TOTAL | B14: 228659000000
A15: PATRIMONIO | B15: 1365999000000
A16: UTILIDAD / PERDIDA OPERACIONAL | B16: 220248000000
A17: GASTOS DE INTERESES | B17: 4990000000
A21: INDICADOR | B21: =+$B$6 -> UNIVERSIDAD PONTIFICIA BOLIVARIANA SECCIONAL PALMIRA
A22: INDICE DE LIQUIDEZ | B22: =((B11*B10))/((B13*B10)) -> 1.6842983
A23: INDICE DE ENDEUDAMIENTO | B23: =((B14*B10))/((B12*B10)) -> 0.14339062
A24: RAZON DE COBERTURA DE INTERESES | B24: =IFERROR(((B16*B10))/((B17*B10)),"INDETERMINADO") -> 44.137876
A25: CAPITAL DE TRABAJO | B25: =(((B11-B13)*B10)) -> 121517000000
A26: RENTABILIDAD DEL PATRIMONIO | B26: =((B16*B10))/((B15*B10)) -> 0.16123584
A27: RENTABILIDAD DEL ACTIVO | B27: =((B16))/((B12)) -> 0.13811614
A30: REQUISITOS CAPACIDAD FINANACIERA Y ORGANIZACIONAL | B30: INDICADOR ESTABLECIDO
A31: Indice de Liquidez. ≥ 1,13 (Act. Corriente/Pas. Corriente) | B31: 1.13
A32: Indice de Enduedamiento. ≤ 0,44 (Pas. Total/ Act. Total) | B32: 0.44
A33: Razon de Cobertura de Intereses ≥ 1,72 ( Util. Operacional / Gtos Intereses) | B33: 1.72
A34: Rentabiliodad del Patrimonio. ≥ 0,00 (Util. Operacional / Patrimonio) | B34: 0
A35: Rentabilidad del Activo. ≥ 0,00 (Util. Operacional / Act. Total) | B35: 0
A37: EVALUACIÓN INDICADOR | B37: =+$B$6 -> UNIVERSIDAD PONTIFICIA BOLIVARIANA SECCIONAL PALMIRA
A38: INDICE DE LIQUIDEZ | B38: =IF(B22>=B31,"CUMPLE","NO CUMPLE") -> CUMPLE
A39: INDICE DE ENDEUDAMIENTO | B39: =IF(B23<=B32,"CUMPLE","NO CUMPLE") -> CUMPLE
A40: RAZON DE COBERTURA DE INTERESES | B40: =IF(B24>=B33,"CUMPLE","NO CUMPLE") -> CUMPLE
A41: CAPITAL DE TRABAJO | B41: =IF(B25>=(#REF!*30.55%),"CUMPLE","NO CUMPLE") -> #REF!
A42: RENTABILIDAD DEL PATRIMONIO | B42: =IF(B26>=B34,"CUMPLE","NO CUMPLE") -> CUMPLE
A43: RENTABILIDAD DEL ACTIVO | B43: =IF(B27>=B35,"CUMPLE","NO CUMPLE") -> CUMPLE
A44: EVALUACIÓN FINAL DE INDICADORES | B44: =+IF(AND(B38="CUMPLE",B39="CUMPLE",B40="CUMPLE",B42="CUMPLE",B43="CUMPLE"),"CUMPLE","NO CUMPLE") -> CUMPLE
A47: GRUPOS | B47: VALOR ESTABLECIDO
A48: PRESUPUESTO OFICIAL | B48: =+GENERAL!C2 -> 1.4594712e+08
A49: POLIZA DE SERIEDAD DE LA OFERTA VALOR 10% DEL PRESUPUESTO | B49: =+B48*10% -> 14594712
...

Sheet 3
A1: =+CONCATENATE(GENERAL!B1) -> MUNICIPIO DE PALMIRA SECRETARIA DE DESARROLLO INSTITUCIONAL SELECCIÓN ABREVIADA MENOR CUANTIA No. MP-SDI-SAMC-PS-112-2023 OBJETO: CONTRATAR EL SERVICIO DE CAPACITACIÓN PARA SERVIDORES PÚBLICOS DE LA ALCALDÍA DE PALMIRA, EN CUMPLIMIENTO DEL PLAN INSTITUCIONAL DE CAPACITACIÓN (PIC)
A2: EVALUACIÓN FINANCIERA
A3: =+CONCATENATE(GENERAL!B21) -> UNIVERSIDAD AUTONOMA DE OCCIDENTE
A4: =+CONCATENATE("PROPUESTA No ",GENERAL!B20) -> PROPUESTA No 3
A6: INFORMACIÓN DEL OFERENTE Y RUBROS FINANCIEROS | B6: =+GENERAL!$B21 -> UNIVERSIDAD AUTONOMA DE OCCIDENTE
B7: =+GENERAL!$B22 -> UNIVERSIDAD AUTONOMA DE OCCIDENTE
A8: NIT | B8: =+GENERAL!$B23 -> 890305881-1
A9: REPRESENTANTE LEGAL | B9: =+GENERAL!$B24 -> ANDRES SIERRA GARZÓN
A10: PARTICIPACIÓN | B10: =+GENERAL!$B25 -> 1
A11: ACTIVO CORRIENTE | B11: 103157553126
A12: ACTIVO TOTAL | B12: 281689981209
A13: PASIVO CORRIENTE | B13: 41838305405
A14: PASIVO TOTAL | B14: 41838305405
A15: PATRIMONIO | B15: 239851675804
A16: UTILIDAD / PERDIDA OPERACIONAL | B16: 5415790093
A17: GASTOS DE INTERESES | B17: 31510208
A21: INDICADOR | B21: =+$B$6 -> UNIVERSIDAD AUTONOMA DE OCCIDENTE
A22: INDICE DE LIQUIDEZ | B22: =((B11*B10))/((B13*B10)) -> 2.4656246
A23: INDICE DE ENDEUDAMIENTO | B23: =((B14*B10))/((B12*B10)) -> 0.14852607
A24: RAZON DE COBERTURA DE INTERESES | B24: =IFERROR(((B16))/((B17)),"INDETERMINADO") -> 171.87415
A25: CAPITAL DE TRABAJO | B25: =(((B11-B13)*B10)) -> 61319247721
A26: RENTABILIDAD DEL PATRIMONIO | B26: =((B16*B10))/((B15*B10)) -> 0.022579747
A27: RENTABILIDAD DEL ACTIVO | B27: =((B16*B10))/((B12*B10)) -> 0.019226066
A30: REQUISITOS CAPACIDAD FINANACIERA Y ORGANIZACIONAL | B30: INDICADOR ESTABLECIDO
A31: Indice de Liquidez. ≥ 1,13 (Act. Corriente/Pas. Corriente) | B31: 1.13
A32: Indice de Enduedamiento. ≤ 0,44 (Pas. Total/ Act. Total) | B32: 0.44
A33: Razon de Cobertura de Intereses ≥ 1,72 ( Util. Operacional / Gtos Intereses) | B33: 1.72
A34: Rentabiliodad del Patrimonio. ≥ 0,00 (Util. Operacional / Patrimonio) | B34: 0
A35: Rentabilidad del Activo. ≥ 0,00 (Util. Operacional / Act. Total) | B35: 0
A37: EVALUACIÓN INDICADOR | B37: =+$B$6 -> UNIVERSIDAD AUTONOMA DE OCCIDENTE
A38: INDICE DE LIQUIDEZ | B38: =IF(B22>=B31,"CUMPLE","NO CUMPLE") -> CUMPLE
A39: INDICE DE ENDEUDAMIENTO | B39: =IF(B23<=B32,"CUMPLE","NO CUMPLE") -> CUMPLE
A40: RAZON DE COBERTURA DE INTERESES | B40: =IF(B24>=B33,"CUMPLE","NO CUMPLE") -> CUMPLE
A41: CAPITAL DE TRABAJO | B41: =IF(B25>=(#REF!*30.55%),"CUMPLE","NO CUMPLE") -> #REF!
A42: RENTABILIDAD DEL PATRIMONIO | B42: =IF(B26>=B34,"CUMPLE","NO CUMPLE") -> CUMPLE
A43: RENTABILIDAD DEL ACTIVO | B43: =IF(B27>=B35,"CUMPLE","NO CUMPLE") -> CUMPLE
A44: EVALUACIÓN FINAL DE INDICADORES | B44: =+IF(AND(B38="CUMPLE",B39="CUMPLE",B40="CUMPLE",B42="CUMPLE",B43="CUMPLE"),"CUMPLE","NO CUMPLE") -> CUMPLE
A47: GRUPOS | B47: VALOR ESTABLECIDO
A48: PRESUPUESTO OFICIAL | B48: =+GENERAL!C2 -> 1.4594712e+08
A49: POLIZA DE SERIEDAD DE LA OFERTA VALOR 10% DEL PRESUPUESTO | B49: =+B48*10% -> 14594712
...
