Workbook
Name _________aiu2: [1]AIU!$J$105
Name ________aiu2: [1]AIU!$J$105
Name _______aiu2: [1]AIU!$J$105
Name ______aiu2: [1]AIU!$J$105
Name _____aiu2: [2]AIU!$J$105
Name _____Vol1: [3]Item!$A$1:$D$65536
Name ____aiu2: [2]AIU!$J$105
Name ____Vol1: [3]Item!$A$1:$D$65536
Name ___aiu2: [2]AIU!$J$105
Name ___Vol1: [3]Item!$A$1:$D$65536
Name __aiu2: [2]AIU!$J$105
Name __Vol1: [3]Item!$A$1:$D$65536
Name _aiu2: [2]AIU!$J$105
Name _ETR13: #REF!
Name _ETR13: #REF!
Name _ETR13: #REF!
Name _ETR13: #REF!
Name _ETR13: #REF!
Name _ETR13: #REF!
Name _ETR13: #REF!
Name _ORO13: #REF!
Name _ORO13: #REF!
Name _ORO13: #REF!
Name _ORO13: #REF!
Name _ORO13: #REF!
Name _ORO13: #REF!
Name _ORO13: #REF!
Name _ORO14: #REF!
Name _ORO14: #REF!
Name _ORO14: #REF!
Name _ORO14: #REF!
Name _ORO14: #REF!
Name _ORO14: #REF!
Name _ORO14: #REF!
Name _ORO15: #REF!
Name _ORO15: #REF!
Name _ORO15: #REF!
Name _ORO15: #REF!
Name _ORO15: #REF!
Name _ORO15: #REF!
Name _ORO15: #REF!
Name _ORO16: #REF!
Name _ORO16: #REF!
Name _ORO16: #REF!
Name _ORO16: #REF!
Name _ORO16: #REF!
Name _ORO16: #REF!
Name _ORO16: #REF!
Name _ORO17: #REF!
Name _ORO17: #REF!
Name _ORO17: #REF!
Name _ORO17: #REF!
Name _ORO17: #REF!
Name _ORO17: #REF!
Name _ORO17: #REF!
Name _ORO18: #REF!
Name _ORO18: #REF!
Name _ORO18: #REF!
Name _ORO18: #REF!
Name _ORO18: #REF!

Sheet PRESUPUESTO OFICIAL (Entidad)
A9: FDLT-LP-XXX-2023
A10: FONDO DE DESARROLLO LOCAL DE TUNJUELITO
A11: ALCALDÍA LOCAL DE TUNJUELITO
A12: CONTRATAR POR EL SISTEMA DE PRECIOS UNITARIOS FIJOS Y A MONTO AGOTABLE EL DIAGNOSTICO, MANTENIMIENTO, MEJORAMIENTO, ADECUACIÓN Y/O DOTACIÓN DE LOS PARQUES VECINALES Y DE BOLSILLO DE LA LOCALIDAD DE TUNJUELITO EN LA CIUDAD DE BOGOTÁ D.C
A13: FORMULARIO No. 1
A14: PRESUPUESTO OFICIAL
A16: COD IDRD / IDU | B16: ÍTEM | C16: DESCRIPCIÓN | D16: UNID. | E16: CANTIDAD | F16: VR. UNITARIO | G16: VALOR TOTAL
A17: PRESUPUESTO DE LA ENTIDAD
A18: 1 | C18: PRELIMINARES
A19: 3007 | B19: 1.1 | C19: LOCALIZACION Y REPLANTEO CON EQUIPO | D19: M2 | E19: 1200 | F19: 758 | G19: =+ROUND(E19*F19,0) -> 909600
A20: 6162 | B20: 1.2 | C20: DIAGNOSTICO DE ESPACIO PUBLICO Y CICLORRUTA Y PUENTES PEATONALES (VISUAL). INCLUYE LEVANTAMIENTO TOPOGRÁFICO Y GEORREFERENCIACIÓN DE ELEMENTOS | D20: M2 | E20: 1200 | F20: 135 | G20: =+ROUND(E20*F20,0) -> 162000
C21: TOTAL PRELIMINARES | G21: =+SUM(G19:G20) -> 1071600
A23: 2 | C23: CERRAMIENTO PRELIMINAR
A24: 5366 | B24: 2.1 | C24: CERRAMIENTO LONA H=2.20 MTS(EXC) ** | D24: M2 | E24: 500 | F24: 2656 | G24: =+ROUND(E24*F24,0) -> 1328000
C25: TOTAL CERRAMIENTO PRELIMINAR | G25: =SUM(G24) -> 1328000
A27: 3 | C27: EXCAVACIONES, RETIRO Y DISPOSICION FINAL
A28: 3710 | B28: 3.1 | C28: EXCAVACIÓN MECÁNICA EN MATERIAL COMÚN (INCLUYE CARGUE) | D28: M3 | E28: 600 | F28: 5427 | G28: =+ROUND(E28*F28,0) -> 3256200
A29: 3017 | B29: 3.2 | C29: TRANSPORTE Y DISPOSICIÓN FINAL DE ESCOMBROS EN SITIO AUTORIZADO (DISTANCIA DE TRANSPORTE 21 KM). A DISTANCIA MAYOR DEL ACARREO LIBRE (90 M) EN SITIO AUTORIZADO POR LA ENTIDAD AMBIENTAL COMPETENTE. | D29: M3 | E29: 800 | F29: 34896 | G29: =+ROUND(E29*F29,0) -> 27916800
A30: 3464 | B30: 3.3 | C30: EXCAVACION MANUAL EN MATERIAL COMUN. INCLUYE CARGUE. | D30: M3 | E30: 200 | F30: 36750 | G30: =+ROUND(E30*F30,0) -> 7350000
C31: TOTAL EXCAVACIONES, RETIRO Y DISPOSICION FINAL | G31: =SUM(G28:G30) -> 38523000
A33: 4 | C33: RELLENOS
A34: 4157 | B34: 4.1 | C34: BASE GRANULAR CLASE B (BG_B) (SUMINISTRO, EXTENDIDO, NIVELACIÓN, HUMEDECIMIENTO Y COMPACTACIÓN CON VIBROCOMPACTADOR) | D34: M3 | E34: 300 | F34: 170564 | G34: =+ROUND(E34*F34,0) -> 51169200
A35: 4160 | B35: 4.2 | C35: SUBBASE GRANULAR CLASE B (SBG_B) (SUMINISTRO, EXTENDIDO, NIVELACIÓN, HUMEDECIMIENTO Y COMPACTACIÓN CON VIBROCOMPACTADOR) | D35: M3 | E35: 300 | F35: 152000 | G35: =+ROUND(E35*F35,0) -> 45600000
C36: TOTAL RELLENOS | G36: =SUM(G34:G35) -> 96769200
A38: 5 | C38: GEOTEXTIL
A39: 4015 | B39: 5.1 | C39: GEOTEXTIL NT 4000 PARA SEPARACION SUBRASANTE/CAPAS GRANULARES (INCLUYE SUMINISTRO E INSTALACIÓN) | D39: M2 | E39: 5000 | F39: 10868 | G39: =+ROUND(E39*F39,0) -> 54340000
C40: TOTAL GEOTEXTIL | G40: =SUM(G39) -> 54340000
A42: 6 | C42: ACERO DE REFUERZO
A43: 4238 | B43: 6.1 | C43: MALLA ELECTROSOLDADA 0.25X0.25M, D=4MM, 4MM (INCLUYE SUMINISTRO, FIJACIÓN E INSTALACIÓN) | D43: KG | E43: 600 | F43: 6562 | G43: =+ROUND(E43*F43,0) -> 3937200
A44: 7088 | B44: 6.2 | C44: ACERO FIGURADO No. 4 (Ø 1/2") F'y=60000 PSI | D44: KG | E44: 1000 | F44: 4522 | G44: =+ROUND(E44*F44,0) -> 4522000
C45: TOTAL ACERO | G45: =SUM(G43:G44) -> 8459200
A47: 7 | C47: DEMOLICIONES Y/O DESMONTES
A48: 3012 | B48: 7.1 | C48: DEMOLICIÓN PISOS DE CONCRETO (ESPESOR VARIABLE HASTA 0.10 M. INCLUYE CARGUE). NO INCLUYE TRANSPORTE Y DISPOSICIÓN FINAL DE SOBRANTES. | D48: M2 | E48: 200 | F48: 6831 | G48: =+ROUND(E48*F48,0) -> 1366200
A49: 7751 | B49: 7.2 | C49: FRESADO PAVIMENTO ASFÁLTICO (INCLUYE CARGUE) INCLUYE AGUA, PUNTAS. NO INCLUYE TRANSPORTE DE MAQUINARIA, TRANSPORTE DEL FRESADO NI DISPOSICIÓN FINAL). | D49: M3 | E49: 70 | F49: 92496 | G49: =+ROUND(E49*F49,0) -> 6474720
A50: 4289 | B50: 7.3 | C50: DEMOLICIÓN MUROS E=0.15M (INCLUYE CARGUE) | D50: M2 | E50: 200 | F50: 22916 | G50: =+ROUND(E50*F50,0) -> 4583200
A51: 3011 | B51: 7.4 | C51: DEMOLICION MANUAL SARDINEL EXISTENTE (INCLUYE CARGUE). NO INCLUYE TRANSPORTE Y DISPOSICIÓN FINAL DE SOBRANTES. | D51: ML | E51: 300 | F51: 5157 | G51: =+ROUND(E51*F51,0) -> 1547100
A52: 3010 | B52: 7.5 | C52: DEMOLICION PAVIMENTO ASFALTICO (INCLUYE CARGUE). NO INCLUYE TRANSPORTE Y DISPOSICIÓN FINAL DE SOBRANTES. | D52: M3 | E52: 70 | F52: 32445 | G52: =+ROUND(E52*F52,0) -> 2271150
A53: 16645 IDRD | B53: 7.6 | C53: Demol. manual concreto (cargue+retiro) | D53: M3 | E53: 20 | F53: 326407.99 | G53: =+ROUND(E53*F53,0) -> 6528160
A54: 13024 IDRD | B54: 7.7 | C54: Demolicion Manual gradería Ladrillo y Placa Conc. | D54: ML | E54: 50 | F54: 68125.34 | G54: =+ROUND(E54*F54,0) -> 3406267
A55: 4703 | B55: 7.8 | C55: RETIRO DE LOSETA A-50 SOBRE ARENA | D55: M2 | E55: 150 | F55: 2392 | G55: =+ROUND(E55*F55,0) -> 358800
...

Sheet PROPUESTA ECONOMICA
A9: FDLT-LP-XXX-2023
A10: FONDO DE DESARROLLO LOCAL DE TUNJUELITO
A11: ALCALDÍA LOCAL DE TUNJUELITO
A12: CONTRATAR POR EL SISTEMA DE PRECIOS UNITARIOS FIJOS Y A MONTO AGOTABLE EL DIAGNOSTICO, MANTENIMIENTO, MEJORAMIENTO, ADECUACIÓN Y/O DOTACIÓN DE LOS PARQUES VECINALES Y DE BOLSILLO DE LA LOCALIDAD DE TUNJUELITO EN LA CIUDAD DE BOGOTÁ D.C
A13: FORMULARIO No. 1
A14: PRESUPUESTO OFICIAL
A16: COD IDRD / IDU | B16: ÍTEM | C16: DESCRIPCIÓN | D16: UNID. | E16: CANTIDAD | F16: VR. UNITARIO | G16: VALOR TOTAL
A17: PRESUPUESTO DE LA ENTIDAD
A18: 1 | C18: PRELIMINARES
A19: 3007 | B19: 1.1 | C19: LOCALIZACION Y REPLANTEO CON EQUIPO | D19: M2 | E19: 1200 | G19: =+ROUND(E19*F19,0) -> 0
A20: 6162 | B20: 1.2 | C20: DIAGNOSTICO DE ESPACIO PUBLICO Y CICLORRUTA Y PUENTES PEATONALES (VISUAL). INCLUYE LEVANTAMIENTO TOPOGRÁFICO Y GEORREFERENCIACIÓN DE ELEMENTOS | D20: M2 | E20: 1200 | G20: =+ROUND(E20*F20,0) -> 0
C21: TOTAL PRELIMINARES | G21: =+SUM(G19:G20) -> 0
A23: 2 | C23: CERRAMIENTO PRELIMINAR
A24: 5366 | B24: 2.1 | C24: CERRAMIENTO LONA H=2.20 MTS(EXC) ** | D24: M2 | E24: 500 | G24: =+ROUND(E24*F24,0) -> 0
C25: TOTAL CERRAMIENTO PRELIMINAR | G25: =SUM(G24) -> 0
A27: 3 | C27: EXCAVACIONES, RETIRO Y DISPOSICION FINAL
A28: 3710 | B28: 3.1 | C28: EXCAVACIÓN MECÁNICA EN MATERIAL COMÚN (INCLUYE CARGUE) | D28: M3 | E28: 600 | G28: =+ROUND(E28*F28,0) -> 0
A29: 3017 | B29: 3.2 | C29: TRANSPORTE Y DISPOSICIÓN FINAL DE ESCOMBROS EN SITIO AUTORIZADO (DISTANCIA DE TRANSPORTE 21 KM). A DISTANCIA MAYOR DEL ACARREO LIBRE (90 M) EN SITIO AUTORIZADO POR LA ENTIDAD AMBIENTAL COMPETENTE. | D29: M3 | E29: 800 | G29: =+ROUND(E29*F29,0) -> 0
A30: 3464 | B30: 3.3 | C30: EXCAVACION MANUAL EN MATERIAL COMUN. INCLUYE CARGUE. | D30: M3 | E30: 200 | G30: =+ROUND(E30*F30,0) -> 0
C31: TOTAL EXCAVACIONES, RETIRO Y DISPOSICION FINAL | G31: =SUM(G28:G30) -> 0
A33: 4 | C33: RELLENOS
A34: 4157 | B34: 4.1 | C34: BASE GRANULAR CLASE B (BG_B) (SUMINISTRO, EXTENDIDO, NIVELACIÓN, HUMEDECIMIENTO Y COMPACTACIÓN CON VIBROCOMPACTADOR) | D34: M3 | E34: 300 | G34: =+ROUND(E34*F34,0) -> 0
A35: 4160 | B35: 4.2 | C35: SUBBASE GRANULAR CLASE B (SBG_B) (SUMINISTRO, EXTENDIDO, NIVELACIÓN, HUMEDECIMIENTO Y COMPACTACIÓN CON VIBROCOMPACTADOR) | D35: M3 | E35: 300 | G35: =+ROUND(E35*F35,0) -> 0
C36: TOTAL RELLENOS | G36: =SUM(G34:G35) -> 0
A38: 5 | C38: GEOTEXTIL
A39: 4015 | B39: 5.1 | C39: GEOTEXTIL NT 4000 PARA SEPARACION SUBRASANTE/CAPAS GRANULARES (INCLUYE SUMINISTRO E INSTALACIÓN) | D39: M2 | E39: 5000 | G39: =+ROUND(E39*F39,0) -> 0
C40: TOTAL GEOTEXTIL | G40: =SUM(G39) -> 0
A42: 6 | C42: ACERO DE REFUERZO
A43: 4238 | B43: 6.1 | C43: MALLA ELECTROSOLDADA 0.25X0.25M, D=4MM, 4MM (INCLUYE SUMINISTRO, FIJACIÓN E INSTALACIÓN) | D43: KG | E43: 600 | G43: =+ROUND(E43*F43,0) -> 0
A44: 7088 | B44: 6.2 | C44: ACERO FIGURADO No. 4 (Ø 1/2") F'y=60000 PSI | D44: KG | E44: 1000 | G44: =+ROUND(E44*F44,0) -> 0
C45: TOTAL ACERO | G45: =SUM(G43:G44) -> 0
A47: 7 | C47: DEMOLICIONES Y/O DESMONTES
A48: 3012 | B48: 7.1 | C48: DEMOLICIÓN PISOS DE CONCRETO (ESPESOR VARIABLE HASTA 0.10 M. INCLUYE CARGUE). NO INCLUYE TRANSPORTE Y DISPOSICIÓN FINAL DE SOBRANTES. | D48: M2 | E48: 200 | G48: =+ROUND(E48*F48,0) -> 0
A49: 7751 | B49: 7.2 | C49: FRESADO PAVIMENTO ASFÁLTICO (INCLUYE CARGUE) INCLUYE AGUA, PUNTAS. NO INCLUYE TRANSPORTE DE MAQUINARIA, TRANSPORTE DEL FRESADO NI DISPOSICIÓN FINAL). | D49: M3 | E49: 70 | G49: =+ROUND(E49*F49,0) -> 0
A50: 4289 | B50: 7.3 | C50: DEMOLICIÓN MUROS E=0.15M (INCLUYE CARGUE) | D50: M2 | E50: 200 | G50: =+ROUND(E50*F50,0) -> 0
A51: 3011 | B51: 7.4 | C51: DEMOLICION MANUAL SARDINEL EXISTENTE (INCLUYE CARGUE). NO INCLUYE TRANSPORTE Y DISPOSICIÓN FINAL DE SOBRANTES. | D51: ML | E51: 300 | G51: =+ROUND(E51*F51,0) -> 0
A52: 3010 | B52: 7.5 | C52: DEMOLICION PAVIMENTO ASFALTICO (INCLUYE CARGUE). NO INCLUYE TRANSPORTE Y DISPOSICIÓN FINAL DE SOBRANTES. | D52: M3 | E52: 70 | G52: =+ROUND(E52*F52,0) -> 0
A53: 16645 IDRD | B53: 7.6 | C53: Demol. manual concreto (cargue+retiro) | D53: M3 | E53: 20 | G53: =+ROUND(E53*F53,0) -> 0
A54: 13024 IDRD | B54: 7.7 | C54: Demolicion Manual gradería Ladrillo y Placa Conc. | D54: ML | E54: 50 | G54: =+ROUND(E54*F54,0) -> 0
A55: 4703 | B55: 7.8 | C55: RETIRO DE LOSETA A-50 SOBRE ARENA | D55: M2 | E55: 150 | G55: =+ROUND(E55*F55,0) -> 0
...

Sheet AIU OBRA
A11: FONDO DE DESARROLLO LOCAL DE TUNJUELITO
A12: ALCALDÍA LOCAL DE TUNJUELITO
A13: CONTRATAR POR EL SISTEMA DE PRECIOS UNITARIOS FIJOS Y A MONTO AGOTABLE EL DIAGNOSTICO, MANTENIMIENTO, MEJORAMIENTO, ADECUACIÓN Y/O DOTACIÓN DE LOS PARQUES VECINALES Y DE BOLSILLO DE LA LOCALIDAD DE TUNJUELITO EN LA CIUDAD DE BOGOTÁ D.C
A15: MATRIZ DE CÁLCULO DE AIU
B17: PRESUPUESTO ESTIMADO DE OBRA | J17: FECHA:
B18: COSTOS DIRECTOS DE OBRA | E18: =+'PRESUPUESTO OFICIAL (Entidad)'!G106 -> 630446858 | J18: CONTRATO No.
B19: TERMINO ESTIMADO DE EJECUCIÓN DE OBRA | E19: 3 | F19: MESES
B20: TERMINO ESTIMADO ETAPA DE PRELIMINARES | E20: 1 | F20: MESES
A22: COD IDU | B22: ÍTEM | C22: A. ADMINISTRACIÓN
C23: 1. COSTOS MENSUALES DE PERSONAL
C24: CARGO | E24: CANT | F24: CATEGORÍA | G24: INICIO | H24: OBRA | I24: RECIBO | J24: TOPE SALARIO (MES) | K24: FACTOR PRESTACIONAL | L24: TOTAL DEDICACIÓN POR ETAPA | O24: SALARIO + PRESTACIONES
G25: MES | H25: MES | I25: MES
G26: =+E20 -> 1 | H26: =+E19 -> 3 | I26: 0 | L26: INICIO | M26: OBRA | N26: RECIBO
E27: A | G27: B | J27: C | K27: D | L27: E | O27: F=A*B*C*D*E
B28: 1.1 | C28: PERSONAL PROFESIONAL (Ingenieros y Otros)
A29: 9110 | B29: 1.101 | C29: DIRECTOR DE OBRA | E29: 1 | F29: 4 | G29: 0.3 | H29: 0.3 | J29: 7881000 | K29: 1.4516131 | L29: =+$E$20 -> 1 | M29: =+$E$19 -> 3 | O29: =(E29*J29*K29)*((M29*H29)+(G29*L29)) -> 13728196
A30: 9112 | B30: 1.102 | C30: INGENIERO RESIDENTE DE OBRA | E30: 1 | F30: 6 | G30: 0.4 | H30: 1 | J30: 6339000 | K30: 1.4525083 | L30: =+$E$20 -> 1 | M30: =+$E$19 -> 3 | O30: =(E30*J30*K30)*((M30*H30)+(G30*L30)) -> 31305330
A31: 9112 | B31: 1.103 | C31: ESPECIALISTA EN PAVIMENTOS | E31: 1 | F31: 4 | G31: 0.2 | H31: 0.1 | J31: 7881000 | K31: 1.4516131 | L31: 1 | M31: =+$E$19 -> 3 | O31: =(E31*J31*K31)*((M31*H31)+(G31*L31)) -> 5720081.5
A32: 9112 | B32: 1.104 | C32: PROFESIONAL SISO | E32: 1 | F32: 6 | G32: 0 | H32: 0.4 | J32: 6339000 | K32: =+K30 -> 1.4525083 | L32: 0 | M32: =+$E$19 -> 3 | O32: =(E32*J32*K32)*((M32*H32)+(G32*L32)) -> 11048940
A33: 9112 | B33: 1.105 | C33: PROFESIONAL AMBIENTAL | E33: 1 | F33: 6 | G33: 0.2 | H33: 0.3 | J33: 6339000 | K33: =+K32 -> 1.4525083 | L33: =+$E$20 -> 1 | M33: =+$E$19 -> 3 | O33: =(E33*J33*K33)*((M33*H33)+(G33*L33)) -> 10128195
A34: 9112 | B34: 1.106 | C34: PROFESIONAL EN TRANSITO Y TRANSPORTE | E34: 1 | F34: 6 | G34: 0.2 | H34: 0.3 | J34: 6339000 | K34: =+K33 -> 1.4525083 | L34: =+$E$20 -> 1 | M34: =+$E$19 -> 3 | O34: =(E34*J34*K34)*((M34*H34)+(G34*L34)) -> 10128195
A35: 9112 | B35: 1.107 | C35: PROFESIONAL SOCIAL | E35: 1 | F35: 6 | G35: 0.15 | H35: 0.15 | J35: 6339000 | K35: =+K34 -> 1.4525083 | L35: =+$E$20 -> 1 | M35: =+$E$19 -> 3 | O35: =(E35*J35*K35)*((M35*H35)+(G35*L35)) -> 5524470
A36: 9112 | B36: 1.108 | C36: ESPECIALISTA ELECTRICO | E36: 1 | F36: 4 | G36: 0.2 | H36: 0.2 | J36: 7881000 | K36: =+K31 -> 1.4516131 | L36: 1 | M36: =+$E$19 -> 3 | O36: =(E36*J36*K36)*((M36*H36)+(G36*L36)) -> 9152130.4
B38: 1.2 | C38: PERSONAL TÉCNICO Y PERSONAL AUXILIAR
A39: 9088 | B39: 1.201 | C39: TARIFA MES - PERSONAL TÉCNICO - INSPECTOR (No incluye Factor de Prestaciones) | E39: 1 | F39: N/A | G39: 0 | H39: 0.2 | J39: 2249000 | K39: =3488450/J39 -> 1.5511116 | L39: 0 | M39: =+$E$19 -> 3 | O39: =(E39*J39*K39)*((M39*H39)+(G39*L39)) -> 2093070
A40: 9088 | B40: 1.202 | C40: TARIFA MES - PERSONAL TÉCNICO - TOPÓGRAFO (No incluye Factor de Prestaciones) | E40: 1 | F40: N/A | G40: 0 | H40: 0.15 | J40: 3092000 | K40: =4506009/J40 -> 1.4573121 | L40: 0 | M40: =+$E$19 -> 3 | O40: =(E40*J40*K40)*((M40*H40)+(G40*L40)) -> 2027704
A41: SUBTOTAL COSTOS MENSUALES DE PERSONAL | O41: =+SUM(O29:O40) -> 1.0085631e+08
A43: COD IDU | B43: 2 | C43: GASTOS OPERACIONALES MENSUALES | E43: CANT. | F43: AREA (M2) | G43: DEDICACIÓN | J43: DEDICACIÓN X ÁREA (M2) | K43: COSTO ($/M2.MES) | L43: N. MESES | O43: VALOR ($)
A44: 9576 | B44: 2.01 | C44: ALQUILER MES - ARRIENDO OFICINA INCL. ADMINISTRACIÓN, SERVICIOS PÚBLICOS, COMUNICACIONES | E44: 1 | F44: N/A | G44: 1 | J44: 30 | K44: 45108 | L44: =+L45 -> 4 | O44: =+L44*K44*J44*E44*G44 -> 5412960
A45: 9578 | B45: 2.02 | C45: TARIFA GLOBAL - GASTOS OFICINA (PAPELERIA, FOTOCOPIAS Y OTROS) | E45: 1 | F45: N/A | G45: 1 | J45: N/A | K45: 1043625 | L45: 4 | O45: =+L45*K45*G45*E45 -> 4174500
A46: 9117 | B46: 2.03 | C46: ALQUILER MES - LABORATORIO - Estudios (Equipo completo) | E46: 1 | F46: N/A | G46: 0.3 | J46: N/A | K46: 6399000 | L46: 2 | O46: =+L46*K46*G46*E46 -> 3839400
A47: 9115 | B47: 2.04 | C47: ALQUILER MES - EQUIPO DE TOPOGRAFÍA (Incluye tránsito, nivel y elementos complementarios). | E47: 1 | F47: N/A | G47: 0.15 | J47: N/A | K47: 4103000 | L47: 3 | O47: =+L47*K47*G47*E47 -> 1846350
C48: SUBTOTAL GASTOS OPERACIONALES MENSUALES | O48: =+SUM(O44:O47) -> 15273210
C50: TOTAL COSTOS PERSONAL + GASTOS OPERACIONALES POR EL TÉRMINO DE EJECUCIÓN | O50: =+O41+O48 -> 1.1612952e+08
C51: TOTAL COSTOS PERSONAL + GASTOS OPERACIONALES POR EL TÉRMINO DE EJECUCIÓN EN PORCENTAJE DEL COSTO DIRECTO | O51: =+O50/E18 -> 0.18420192
B53: 3. IMPUESTOS ESTIMADOS
B54: 3.1 | C54: IMPUESTOS
B55: ÍTEM | C55: DESCRIPCIÓN | L55: IMPUESTO | O55: VALOR ($)
B56: 3.101 | C56: Contribución Especial (Impuesto de Guerra Ley 1738 Dic 18-2014 Prórroga 4 años) | L56: 0.05 | O56: =L56*$E$18 -> 31522343
B57: 3.102 | C57: ICA (Ley 14 6 Jul 1983, Res 219 25 Feb 2004) | L57: 0.0069 | O57: =L57*$E$18 -> 4350083.3
...

Sheet PGA - SST
B2: ALCALDÍA MAYOR DE BOGOTÁ D.C.
B3: ALCALDÍA LOCAL DE TUNJUELITO
B4: FONDO DE DESARROLLO LOCAL DE TUNJUELITO
B5: OFICINA DE INFRAESTRUCTURA | L5: ALCALDÍA LOCAL DE TUNJUELITO
B6: ='[25]DATOS ENTRADA'!$B$7 -> OBJETO DE LA LICITACIÓN: | E6: CONTRATAR POR EL SISTEMA DE PRECIOS UNITARIOS FIJOS Y A MONTO AGOTABLE EL DIAGNOSTICO, MANTENIMIENTO, MEJORAMIENTO, ADECUACIÓN Y/O DOTACIÓN DE LOS PARQUES VECINALES Y DE BOLSILLO DE LA LOCALIDAD DE TUNJUELITO EN LA CIUDAD DE BOGOTÁ D.C
B8: PLAN DE GESTIÓN AMBIENTAL, SEGURIDAD Y SALUD EN EL TRABAJO
B9: COMPONENTE A - PERSONAL
J11: EJECUCIÓN DE OBRA | M11: 4 | N11: MESES
B12: EJECUCIÓN DE OBRAS
B13: ÍTEMS | G13: UN. | H13: CAT | I13: CANT | J13: DEDIC H/MES | K13: TOTAL DEDIC H/PROY | L13: TARIFA | M13: F.P | N13: TOTAL ACTIVIDAD
C14: BRIGADA DE ORDEN, ASEO Y LIMPIEZA
A15: 9455 | B15: 1 | C15: TARIFA MES - PERSONAL DE OBRA - AYUDANTE (No incluye Factor de Prestaciones) | G15: MES | H15: N.A. | I15: 1 | J15: 0.8 | K15: =I15*J15*$M$11 -> 3.2 | L15: 1160000 | M15: 1.6479759 | N15: =ROUND((K15*L15*M15),0) -> 6117286
G16: SUBTOTAL COMPONENTE A | N16: =SUM(N14:N15) -> 6117286
B18: COMPONTE B. MANEJO DE LA VEGETACION Y DEL PAISAJE
B19: ÍTEMS | F19: ESPECIFICACIÓN | G19: UN. | H19: CANTIDAD | J19: VALOR UNITARIO | M19: VALOR TOTAL
B20: B 1 | C20: MANEJO DE LA VEGETACION EXISTENTE Y DE ACTIVIDADES DE DISEÑO PAISAJISTICO
A21: 7285 | B21: 1.1 | C21: SOPORTE MALLA | F21: VARA DE CORREDOR 6.0 M | G21: UN | H21: 3 | J21: 12390 | M21: =ROUND((H21*J21),0) -> 37170
A22: 7559 | B22: 1.2 | C22: PROTECCION DE ARBOLES | F22: TELA VERDE DE CERRAMIENTO (2.10mx250) | G22: M2 | H22: 120 | J22: 793 | M22: =ROUND((H22*J22),0) -> 95160
G23: SUBTOTAL COMPONENTE B | M23: =SUM(M21:N22) -> 132330
B25: COMPONTE C. ACTIVIDADES CONSTRUCTIVAS
B26: ÍTEMS | F26: ESPECIFICACIÓN | G26: UN. | H26: CANTIDAD | J26: VALOR UNITARIO | M26: VALOR TOTAL
B27: C 1 | C27: MANEJO DE CAMPAMENTOS Y CENTROS DE ACOPIO
A28: 9290 | B28: 1.1 | C28: CANECAS PARA CAMPAMENTOS Y FRENTES DE OBRA | F28: CANECA PLÁSTICA NEGRA DE 55 GALONES CON TAPA PLANA. | G28: UN | H28: 4 | J28: 122000 | M28: =ROUND((H28*J28),0) -> 488000
G29: SUBTOTAL DEL PROGRAMA C 1 | M29: =SUM(M28:M28) -> 488000
B31: C 2 | C31: MANEJO DE MATERIALES DE CONSTRUCCIÓN
A32: 7554 | B32: 2.1 | C32: PUNTO DE ACOPIO DE MATERIALES | F32: SEÑALIZACION TUBULAR COLOMBINA PLASTICA | G32: UN | H32: 12 | J32: 43962 | M32: =ROUND((H32*J32),0) -> 527544
A33: 7556 | F33: PLASTICO NEGRO CALIBRE 6 | G33: M2 | H33: 30 | J33: 1312 | M33: =ROUND((H33*J33),0) -> 39360
A34: 7850 | F34: CINTA PARA SEÑALIZACION DE 500MT X 4" PELIGRO CALIBRE 3.5 | G34: ROLLO | H34: 10 | J34: 24285 | M34: =ROUND((H34*J34),0) -> 242850
G35: SUBTOTAL DEL PROGRAMA C 2 | M35: =SUM(M32:N34) -> 809754
B37: C 3 | C37: MANEJO INTEGRAL DE RESIDUOS SÓLIDOS
A38: 7556 | B38: 3.1 | C38: ACOPIO TEMPORAL DE RCD EN FRENTES DE OBRA | F38: PLASTICO NEGRO CALIBRE 6 | G38: M2 | H38: 25 | J38: 1312 | M38: =ROUND((H38*J38),0) -> 32800
A39: 7811 | B39: 3.2 | C39: KIT BRIGADA DE ASEO Y LIMPIEZA | F39: CEPILLO INDUSTRIAL DE NYLON CON CABO DE 35CM A 42CM X 9CM X 17CM | G39: UN | H39: 3 | J39: 13978 | M39: =ROUND((H39*J39),0) -> 41934
A40: 7812 | F40: CARRETILLA RUEDA NEUMATICA PLATON METALICO CAPACIDAD CINCO PIES CUBICOS MANGO MADERA TIPO BUGGY | G40: UN | H40: 3 | J40: 201100 | M40: =ROUND((H40*J40),0) -> 603300
A41: 7813 | F41: BARRA DE 18LB CON PUNTA Y PALA 150CM X 10CM | G41: UN | H41: 2 | J41: 64260 | M41: =ROUND((H41*J41),0) -> 128520
A42: 7814 | F42: SERRUCHO DE 20" DIENTE ENDURECIDO | G42: UN | H42: 1 | J42: 37900 | M42: =ROUND((H42*J42),0) -> 37900
A43: 7815 | F43: MARTILLO DE BOLA DE 2LB | G43: UN | H43: 2 | J43: 37900 | M43: =ROUND((H43*J43),0) -> 75800
A44: 9280 | F44: BOLSA PARA BASURA TIPO INDUSTRIAL NEGRA DE 60 x 90 Cm CALIBRE 2 (PAQUETE DE 30 UNIDADES) | G44: UN | H44: 4 | J44: 10042 | M44: =ROUND((H44*J44),0) -> 40168
A45: 9287 | F45: PALA REDONDA No. 2 CON CABO | G45: UN | H45: 3 | J45: 19517 | M45: =ROUND((H45*J45),0) -> 58551
G46: SUBTOTAL DEL PROGRAMA C 3 | M46: =SUM(M38:N45) -> 1018973
B48: C 4 | C48: CONTROL DE EMISIONES ATMOSFERICAS
...

Sheet AIU PGA-SST
B2: ALCALDÍA MAYOR DE BOGOTÁ D.C.
B3: ALCALDÍA LOCAL DE TUNJUELITO
B4: FONDO DE DESARROLLO LOCAL DE TUNJUELITO
B5: OFICINA DE INFRAESTRUCTURA | J5: ALCALDÍA LOCAL DE TUNJUELITO
B6: OBJETO DE LA LICITACIÓN: | D6: CONTRATAR POR EL SISTEMA DE PRECIOS UNITARIOS FIJOS Y A MONTO AGOTABLE EL DIAGNOSTICO, MANTENIMIENTO, MEJORAMIENTO, ADECUACIÓN Y/O DOTACIÓN DE LOS PARQUES VECINALES Y DE BOLSILLO DE LA LOCALIDAD DE TUNJUELITO EN LA CIUDAD DE BOGOTÁ D.C
B8: MATRIZ PARA CÁLCULO DE AIU PLAN DE GESTIÓN AMBIENTAL, SEGURIDAD Y SALUD EN EL TRABAJO
B9: SUBTOTAL COMPONENTES A+B+C+D+E | E9: =+'PGA - SST'!M93 -> 13980644 | I9: FECHA: | J9: =TODAY() -> 45203
B10: TERMINO ESTIMADO DE EJECUCIÓN DE OBRA | E10: 4 | F10: MESES | I10: CONTRATO No.
B12: 3. IMPUESTOS Y GARANTÍAS
B13: 3.1 | C13: IMPUESTOS
B14: ÍTEM | C14: DESCRIPCIÓN | J14: IMPUESTO | L14: VALOR ($)
B15: =B13+0.001 -> 3.101 | C15: Contribución Especial (Impuesto de Guerra Ley 1738 Dic 18-2014 Prórroga 4 años) | J15: 0.05 | L15: =ROUND($E$9*J15,0) -> 699032
B16: =B15+0.001 -> 3.102 | C16: ICA (Ley 14 6 Jul 1983, Res 219 25 Feb 2004) | J16: =6.9/1000 -> 0.0069 | L16: =ROUND($E$9*J16,0) -> 96466
B17: =B16+0.001 -> 3.103 | C17: GMF (Ley 1739 23 Dic 2014 modifica el Estatuto Tributario) | J17: =(4/1000) -> 0.004 | L17: =ROUND($E$9*J17,0) -> 55923
B18: =B17+0.001 -> 3.104 | C18: Retefuente | J18: 0.02 | L18: =ROUND($E$9*J18,0) -> 279613
B19: =B18+0.001 -> 3.105 | C19: Estampilla Unipedagógica (Dec 584 de 19 Dic 2014) | J19: 0.005 | L19: =ROUND($E$9*J19,0) -> 69903
C20: SUBTOTAL IMPUESTOS | L20: =SUM(L15:L19) -> 1200937
C23: TOTAL IMPUESTOS | L23: =L20 -> 1200937
C24: TOTAL IMPUESTOS EN PORCENTAJE DEL COSTO DIRECTO | L24: =L23/E9 -> 0.085899977
C26: A. ADMINISTRACIÓN (1 + 2 + 3) | L26: =L24 -> 0.085899977
C27: I. IMPREVISTOS | L27: 0.01
C28: U. UTILIDAD | L28: 0.05
C30: A.I.U. (ADMINISTRACIÓN, IMPREVISTOS Y UTILIDAD) | L30: =SUM(L26:L28) -> 0.14589998

Sheet PGS
B2: ALCALDÍA MAYOR DE BOGOTÁ D.C.
B3: ALCALDÍA LOCAL DE TUNJUELITO
B4: FONDO DE DESARROLLO LOCAL DE TUNJUELITO
B5: OFICINA DE INFRAESTRUCTURA | J5: ALCALDÍA LOCAL DE TUNJUELITO
B6: ='[26]D. ENTRADA'!B7 -> OBJETO DE LA LICITACIÓN: | D6: CONTRATAR POR EL SISTEMA DE PRECIOS UNITARIOS FIJOS Y A MONTO AGOTABLE EL DIAGNOSTICO, MANTENIMIENTO, MEJORAMIENTO, ADECUACIÓN Y/O DOTACIÓN DE LOS PARQUES VECINALES Y DE BOLSILLO DE LA LOCALIDAD DE TUNJUELITO EN LA CIUDAD DE BOGOTÁ D.C
G7: EJECUCIÓN DE OBRA | J7: 4 | K7: MESES
B8: CONTROL DE INVERSIÓN GESTIÓN SOCIAL PARA OBRAS
B9: COMPONENTE | D9: Unidad | E9: Valor Unitario | F9: Factor Prestacional | G9: Cantidad | H9: Dedicación H/Mes | I9: Plazo (Meses) | J9: Dedicación Total (Meses) | K9: Subtotal
B10: Componente A. Personal Profesional de Gestión Social
B11: ACTAS DE VECINDAD
A12: 7308 | B12: A.2 | C12: Asistente Social | D12: MES | E12: 1160000 | F12: 1.6479759 | G12: 1 | H12: 0.5 | I12: 4 | J12: =G12*H12*I12 -> 2 | K12: =ROUND((E12*F12*J12),0) -> 3823304
J13: Subtotal Componente Personal Profesional | K13: =SUM(K11:K12) -> 3823304
B15: Componente B. Plan de Gestión Social
B16: COMPONENTE | D16: Unidad | E16: Valor Unitario | I16: Cantidad Obra | K16: Subtotal
B17: B.1 | C17: Programa de Información
A18: 5928 | B18: B.1.1 | C18: CAMARA FOTOGRAFICA DIGITAL COMPACTA. ALQUILER. DE 16.2 MEGAPIXELES. MEMORIA DE 6 GB. VIDEO HD CON PAUSA Y ZOOM. INCLUYE TRANSPORTE, SOPORTE TECNICO. | D18: MES | E18: 23991 | I18: 4 | K18: =I18*E18 -> 95964
A19: 7870 | B19: B.1.2. | C19: VÍDEO BEAM - ALQUILER POR DIA | D19: DIA | E19: 107100 | I19: 3 | K19: =ROUND((E19*I19),0) -> 321300
J20: Subtotal Programa de Información | K20: =SUM(K18:K19) -> 417264
B21: B.2 | C21: Programa de Divulgación al Ciudadano
A22: 7896 | B22: B.2.1. | C22: IMPRESIÓN HOJA CARTA, A 1X0 TINTAS EN PAPEL BOND DE 75 GR. | D22: UN | E22: 95 | I22: 1000 | K22: =ROUND((E22*I22),0) -> 95000
A23: 7897 | B23: B.2.2. | C23: AFICHE TAMAÑO MEDIO PLIEGO A 4X0 TINTAS EN PROPALCOTE DE 115 GR. | D23: UN | E23: 1309 | I23: 20 | K23: =ROUND((E23*I23),0) -> 26180
A24: 7898 | B24: B.2.3. | C24: PLEGABLES DE SOSTENIBILIDAD EN TRES CUERPOS TAMAÑO CARTA A 4X4 TINTAS EN PROPALCOTE. | D24: UN | E24: 500 | I24: 100 | K24: =ROUND((E24*I24),0) -> 50000
A25: 7774 | B25: B.2.4. | C25: VALLA MÓVIL DE 1.20M X 1.20M EN LÁMINA GALVANIZADA CALIBRE 20, ÁNGULO EN HIERRO DE 2 X 1-1/8" IMPRESO EN VINILO ADHESIVO. INCLUYE SUMINISTRO E INSTALACIÓN. IMPRESIÓN 720 DPI; TINTAS PARA EXTERIORES. | D25: UN | E25: 382737 | I25: 2 | K25: =E25*I25 -> 765474
A26: 7903 | B26: B.2.5 | C26: PENDONES ELABORADOS EN BANNER, CON UNA DIMENSIÓN DE 1.00 M DE ANCHO POR 1.50 M DE LARGO. IMPRESIÓN A FULL COLOR SEGÚN DISEÑOS DE OJALETES. | D26: UN | E26: 44625 | I26: 3 | K26: =E26*I26 -> 133875
J27: Subtotal Programa de Divulgación al Ciudadano | K27: =SUM(K22:K26) -> 1070529
B29: B.3 | C29: Programa de Atención al Ciudadano
B30: COMPONENTE | D30: Unidad | E30: Valor Unitario | F30: Cantidad | H30: Dedicación Mes | I30: Plazo (Meses) | J30: Dedicación Total (Meses) | K30: Subtotal
B31: B.3.1 | C31: Adecuación del Punto CREA - Atención al Ciudadano
A32: 6169 | B32: B.3.1.1 | C32: ALQUILER DE PUESTO DE TRABAJO - ESCRITORIO 75x120x50cm | D32: UN/MES | E32: 9730 | F32: 2 | H32: 0.2 | I32: =$J$7 -> 4 | J32: =F32*H32*I32 -> 1.6 | K32: =ROUND((E32*I32*J32),0) -> 62272
A33: 6170 | B33: B.3.1.2 | C33: ALQUILER DE SILLA PARA ESCRITORIO PARA PUESTO DE TRABAJO | D33: UN/MES | E33: 8795 | F33: 5 | H33: 0.2 | I33: =$J$7 -> 4 | J33: =F33*H33*I33 -> 4 | K33: =ROUND((E33*I33*J33),0) -> 140720
A34: 6172 | B34: B.3.1.3 | C34: ALQUILER DE SILLA PLÁSTICA SIN BRAZOS | D34: UN/MES | E34: 1953 | F34: 5 | H34: 0.2 | I34: =$J$7 -> 4 | J34: =F34*H34*I34 -> 4 | K34: =ROUND((E34*I34*J34),0) -> 31248
A35: 7992 | B35: B.3.1.4 | C35: AVISO PUNTO CREA 1.50m x 0.90m EN LÁMINA GALVANIZADA CAL. 24. INCLUYE SUMINISTRO E INSTALACIÓN | D35: UN | E35: 500000 | F35: 1 | H35: 1 | I35: 1 | J35: =F35*H35*I35 -> 1 | K35: =ROUND((E35*I35*J35),0) -> 500000
A36: 8765 | B36: B.3.1.5 | C36: ALQUILER DE MESA PLÁSTICA DE 0.72m x 0.72m x 0.72m (Según Apéndice Bioseguridad Covid 19) | D36: UN/MES | E36: 4872 | F36: 3 | H36: 0.2 | I36: =+I34 -> 4 | J36: =F36*H36*I36 -> 2.4 | K36: =ROUND((E36*I36*J36),0) -> 46771
J37: Subtotal Programa de Atención al Ciudadano | K37: =SUM(K32:K36) -> 781011
C39: SUBTOTAL COSTO DE PERSONAL PARA EL PLAN DE GESTIÓN SOCIAL | K39: =K13 -> 3823304
C40: SUBTOTAL COSTOS DE SUBPROGRAMAS DE PLAN DE GESTIÓN SOCIAL | K40: =K20+K27+K37 -> 2268804
C42: SUBTOTAL COSTO DEL PLAN DE GESTIÓN SOCIAL | K42: =K39+K40 -> 6092108
C44: AIU | J44: =+'AIU-PGS'!L30 -> 0.14589999 | K44: =ROUND((K42*J44),0) -> 888838
C46: TOTAL COSTO DEL PLAN DE GESTIÓN SOCIAL | K46: =ROUND((K42+K44),0) -> 6980946
C47: COSTO DIRECTO DE OBRA | K47: =+'AIU OBRA'!E18 -> 630446858
...

Sheet AIU-PGS
B2: ALCALDÍA MAYOR DE BOGOTÁ D.C.
B3: ALCALDÍA LOCAL DE TUNJUELITO
B4: FONDO DE DESARROLLO LOCAL DE TUNJUELITO
B5: OFICINA DE INFRAESTRUCTURA | J5: ALCALDÍA LOCAL DE TUNJUELITO
B6: OBJETO DE LA LICITACIÓN: | D6: CONTRATAR POR EL SISTEMA DE PRECIOS UNITARIOS FIJOS Y A MONTO AGOTABLE EL DIAGNOSTICO, MANTENIMIENTO, MEJORAMIENTO, ADECUACIÓN Y/O DOTACIÓN DE LOS PARQUES VECINALES Y DE BOLSILLO DE LA LOCALIDAD DE TUNJUELITO EN LA CIUDAD DE BOGOTÁ D.C
B8: MATRIZ PARA CÁLCULO DE AIU PLAN DE GESTIÓN SOCIAL
B9: SUBTOTAL COMPONENTES A+B+C+D+E | E9: =+PGS!K42 -> 6092108 | I9: FECHA: | J9: =TODAY() -> 45203
B10: TERMINO ESTIMADO DE EJECUCIÓN DE OBRA | E10: 4 | F10: MESES | I10: CONTRATO No.
B12: 3. IMPUESTOS Y GARANTÍAS
B13: 3.1 | C13: IMPUESTOS
B14: ÍTEM | C14: DESCRIPCIÓN | J14: IMPUESTO | L14: VALOR ($)
B15: =B13+0.001 -> 3.101 | C15: Contribución Especial (Impuesto de Guerra Ley 1738 Dic 18-2014 Prórroga 4 años) | J15: 0.05 | L15: =ROUND($E$9*J15,0) -> 304605
B16: =B15+0.001 -> 3.102 | C16: ICA (Ley 14 6 Jul 1983, Res 219 25 Feb 2004) | J16: =6.9/1000 -> 0.0069 | L16: =ROUND($E$9*J16,0) -> 42036
B17: =B16+0.001 -> 3.103 | C17: GMF (Ley 1739 23 Dic 2014 modifica el Estatuto Tributario) | J17: =(4/1000) -> 0.004 | L17: =ROUND($E$9*J17,0) -> 24368
B18: =B17+0.001 -> 3.104 | C18: Retefuente | J18: 0.02 | L18: =ROUND($E$9*J18,0) -> 121842
B19: =B18+0.001 -> 3.105 | C19: Estampilla Unipedagógica (Dec 584 de 19 Dic 2014) | J19: 0.005 | L19: =ROUND($E$9*J19,0) -> 30461
C20: SUBTOTAL IMPUESTOS | L20: =SUM(L15:L19) -> 523312
C23: TOTAL IMPUESTOS | L23: =L20 -> 523312
C24: TOTAL IMPUESTOS EN PORCENTAJE DEL COSTO DIRECTO | L24: =L23/E9 -> 0.085899987
C26: A. ADMINISTRACIÓN (1 + 2 + 3) | L26: =L24 -> 0.085899987
C27: I. IMPREVISTOS | L27: 0.01
C28: U. UTILIDAD | L28: 0.05
C30: A.I.U. (ADMINISTRACIÓN, IMPREVISTOS Y UTILIDAD) | L30: =SUM(L26:L28) -> 0.14589999

Sheet PMT
B2: ALCALDÍA MAYOR DE BOGOTÁ D.C.
B3: ALCALDÍA LOCAL DE TUNJUELITO
B4: FONDO DE DESARROLLO LOCAL DE TUNJUELITO
B5: OFICINA DE INFRAESTRUCTURA | M5: ALCALDÍA LOCAL DE TUNJUELITO
B6: OBJETO DE LA LICITACIÓN: | D6: CONTRATAR POR EL SISTEMA DE PRECIOS UNITARIOS FIJOS Y A MONTO AGOTABLE EL DIAGNOSTICO, MANTENIMIENTO, MEJORAMIENTO, ADECUACIÓN Y/O DOTACIÓN DE LOS PARQUES VECINALES Y DE BOLSILLO DE LA LOCALIDAD DE TUNJUELITO EN LA CIUDAD DE BOGOTÁ D.C
B8: CONTROL DE INVERSIÓN PLAN DE MANEJO DE TRÁNSITO
D10: PLAZO: | F10: 4 | G10: MESES
B12: No. | C12: DESCRIPCIÓN | D12: TIEMPO | F12: CAT | G12: VALOR UNITARIO (MENSUAL) | H12: F.P. | I12: ESTUDIOS Y DISEÑOS | J12: MANTENIENTO, DOTACION O ADECUACION DEL PARQUE | M12: CANT TOTAL | N12: VR TOTAL
D13: Und | E13: Cant | I13: 1 | J13: 2 | K13: 3 | L13: 4
B14: 1 | C14: PERSONAL
C15: AFORADOR
A16: 9455 | B16: 1.2 | C16: TARIFA MES - PERSONAL DE OBRA - AYUDANTE (No incluye Factor de Prestaciones) | D16: MES | E16: 1 | G16: 1160000 | H16: 1.6479759 | I16: 0.5 | J16: 0.3 | K16: 0.3 | L16: 0 | M16: =(SUM(I16:L16))*E16 -> 1.1 | N16: =ROUND((G16*H16*M16),0) -> 2102817 | Q16: 1911652 | R16: =+Q16/G16 -> 1.6479759
C17: PALETERO
A18: 9455 | B18: 1.3 | C18: TARIFA MES - PERSONAL DE OBRA - AYUDANTE (No incluye Factor de Prestaciones) | D18: MES | E18: 3 | G18: 1160000 | H18: 1.6479759 | I18: 0 | J18: 0.3 | K18: 0.3 | L18: 0.3 | M18: =(SUM(I18:L18))*E18 -> 2.7 | N18: =ROUND((G18*H18*M18),0) -> 5161460
M19: SUBTOTAL COSTOS PERSONAL | N19: =SUM(N15:N18) -> 7264277
B20: 2 | C20: SEÑALIZACION TEMPORAL
A21: 4928 | B21: 2.1 | C21: CANALIZACIÓN DE TRÁFICO (INSTALACIÓN, MANTENIMIENTO Y DESINSTALACIÓN MENSUAL) CON SEÑALIZADORES TUBULARES COLOMBINA PLÁSTICA Y TRIPLE CINTA DE SEÑALIZACIÓN (INCLUYE ALQUILER DE SEÑALIZADORES TUBULARES). LONGITUD 3 METROS. | D21: UN/MES | E21: 3 | G21: 8482 | J21: 1 | K21: 1 | L21: 1 | M21: =(SUM(I21:L21))*E21 -> 9 | N21: =ROUND((M21*G21),0) -> 76338
A22: 6178 | B22: 2.2 | C22: ALQUILER SEÑAL VERTICAL GRUPO I (75x75cm) (Incluye Suministro e Instalación) | D22: UN/MES | E22: 3 | G22: 14641 | J22: 1 | K22: 1 | L22: 1 | M22: =(SUM(I22:L22))*E22 -> 9 | N22: =ROUND((M22*G22),0) -> 131769
A23: 6181 | B23: 2.3 | C23: ALQUILER DE PALETA PARE-SIGA EN POLIETILENO. | D23: UN/MES | E23: 3 | G23: 2470 | J23: 1 | K23: 1 | L23: 1 | M23: =(SUM(I23:L23))*E23 -> 9 | N23: =ROUND(M23*G23,0) -> 22230
A24: 6186 | B24: 2.4 | C24: ALQUILER BARRERA RELLENABLE (2.00x0.55x1.00m) | D24: UN/MES | E24: 3 | G24: 15620 | J24: 1 | K24: 1 | L24: 1 | M24: =(SUM(I24:L24))*E24 -> 9 | N24: =ROUND(M24*G24,0) -> 140580
A25: 7555 | B25: 2.5 | C25: CINTA DE SEÑALIZACION CAL 4 (ROLLO 500mx0.10m) | D25: UN | E25: 5 | G25: 37188 | J25: 1 | K25: 1 | L25: 1 | M25: =(SUM(I25:L25))*E25 -> 15 | N25: =ROUND(M25*G25,0) -> 557820
M26: SUBTOTAL OTROS COSTOS DIRECTOS | N26: =SUM(N20:N25) -> 928737
G28: SUB TOTAL | N28: =N19+N26 -> 8193014
G29: A.I.U | M29: =+'AIU-PMT'!L30 -> 0.14590001 | N29: =ROUND((N28*M29),0) -> 1195361
G30: VALOR TOTAL | N30: =N28+N29 -> 9388375
G31: COSTO DIRECTO DE OBRA | N31: =+'AIU OBRA'!E18 -> 630446858
G32: CALCULO DEL COMPONENTE PMT | N32: =+N30/N31 -> 0.01489162

Sheet AIU-PMT
B2: ALCALDÍA MAYOR DE BOGOTÁ D.C.
B3: ALCALDÍA LOCAL DE TUNJUELITO
B4: FONDO DE DESARROLLO LOCAL DE TUNJUELITO
B5: OFICINA DE INFRAESTRUCTURA | J5: ALCALDÍA LOCAL DE TUNJUELITO
B6: OBJETO DE LA LICITACIÓN: | D6: CONTRATAR POR EL SISTEMA DE PRECIOS UNITARIOS FIJOS Y A MONTO AGOTABLE EL DIAGNOSTICO, MANTENIMIENTO, MEJORAMIENTO, ADECUACIÓN Y/O DOTACIÓN DE LOS PARQUES VECINALES Y DE BOLSILLO DE LA LOCALIDAD DE TUNJUELITO EN LA CIUDAD DE BOGOTÁ D.C
B8: MATRIZ PARA CÁLCULO DE AIU PLAN DE MANEJO DE TRÁNSITO
B9: SUBTOTAL COMPONENTES A+B+C+D+E | E9: =+PMT!N28 -> 8193014 | I9: FECHA: | J9: =TODAY() -> 45203
B10: TERMINO ESTIMADO DE EJECUCIÓN DE OBRA | E10: 7 | F10: MESES | I10: CONTRATO No.
B12: 3. IMPUESTOS Y GARANTÍAS
B13: 3.1 | C13: IMPUESTOS
B14: ÍTEM | C14: DESCRIPCIÓN | J14: IMPUESTO | L14: VALOR ($)
B15: =B13+0.001 -> 3.101 | C15: Contribución Especial (Impuesto de Guerra Ley 1738 Dic 18-2014 Prórroga 4 años) | J15: 0.05 | L15: =ROUND($E$9*J15,0) -> 409651
B16: =B15+0.001 -> 3.102 | C16: ICA (Ley 14 6 Jul 1983, Res 219 25 Feb 2004) | J16: =6.9/1000 -> 0.0069 | L16: =ROUND($E$9*J16,0) -> 56532
B17: =B16+0.001 -> 3.103 | C17: GMF (Ley 1739 23 Dic 2014 modifica el Estatuto Tributario) | J17: =(4/1000) -> 0.004 | L17: =ROUND($E$9*J17,0) -> 32772
B18: =B17+0.001 -> 3.104 | C18: Retefuente | J18: 0.02 | L18: =ROUND($E$9*J18,0) -> 163860
B19: =B18+0.001 -> 3.105 | C19: Estampilla Unipedagógica (Dec 584 de 19 Dic 2014) | J19: 0.005 | L19: =ROUND($E$9*J19,0) -> 40965
C20: SUBTOTAL IMPUESTOS | L20: =SUM(L15:L19) -> 703780
C23: TOTAL IMPUESTOS | L23: =L20 -> 703780
C24: TOTAL IMPUESTOS EN PORCENTAJE DEL COSTO DIRECTO | L24: =L23/E9 -> 0.085900012
C26: A. ADMINISTRACIÓN (1 + 2 + 3) | L26: =L24 -> 0.085900012
C27: I. IMPREVISTOS | L27: 0.01
C28: U. UTILIDAD | L28: 0.05
C30: A.I.U. (ADMINISTRACIÓN, IMPREVISTOS Y UTILIDAD) | L30: =SUM(L26:L28) -> 0.14590001
