Workbook

Sheet TABLA PROF
C2: CARGO | D2: CATEGORÍA | E2: TOPE MÁXIMO SALARIO | F2: PROFESIONAL (Años) | G2: EXPERIENCIA ESPECIFICA (Años)
B3: 9469 | C3: TARIFA MES - PROFESIONAL (INCLUYE FACTOR DE PRESTACIONES) | D3: 5 | E3: 5720320 | F3: Mínimo 4 | G3: Mínimo 3
B4: 9470 | C4: TARIFA MES - PROFESIONAL (INCLUYE FACTOR DE PRESTACIONES) | D4: 6 | E4: 5614634 | F4: Mínimo 3 | G4: Mínimo 1
B5: 9471 | C5: TARIFA MES - PROFESIONAL (INCLUYE FACTOR DE PRESTACIONES) | D5: 7 | E5: 4534135 | F5: Mínimo 2
B6: 9472 | C6: TARIFA MES - PROFESIONAL (INCLUYE FACTOR DE PRESTACIONES) | D6: 8 | E6: 4127708 | F6: Hasta 2
B7: 9473 | C7: TARIFA MES - PERSONAL TÉCNICO - TECNÓLOGO EN ÁREAS DE INGENIERÍA (INCLUYE FACTOR DE PRESTACIONES) | E7: 3803763
B8: 9491 | C8: TARIFA MES - PERSONAL AUXILIAR TÉCNICO - SECRETARIA - CONDUCTOR O MOTORISTA (INCLUYE FACTOR DE PRESTACIONES) | E8: 2453353
B9: 9575 | C9: TARIFA MES - PERSONAL TÉCNICO - CELADOR Incluye prestaciones de ley. | E9: 2084288
B11: 9578 | C11: TARIFA GLOBAL - GASTOS OFICINA (PAPELERIA, FOTOCOPIAS Y OTROS) | D11: GLB | E11: 1043625
B12: 9724 | C12: Alquiler PORTÁTILES - Procesador minimo: intel, Core i3 4005U, celeron o similar, Memoria RAM de 4 GB(2x2048 MB) Disco duro de 500gb a 7200 rpm Pantalla LED HP BrightView widescreen alta definición con 35,6 cm | D12: UN/MES | E12: 154700
B13: 9835 | C13: Servicio de telefonia local e internet ilimitado velocidad entre (80y 500MB) | D13: MES | E13: 142400
B14: 9840 | C14: TARIFA - EDICION DE INFORME MENSUAL incluye 4 tapas plastificadas tamaño carta color blanco, con 6 tornillos, hojas de papel bond tamaño carta 75 gramos, 170 folios por informe. | D14: UN/MES | E14: 219000
B15: 10023 | C15: Ensayos de resistencia a la compresion | D15: UN | E15: 15232
B16: 13521 | C16: ALQ.BAÑO PORTATIL(TRANSP+8 ASEOS+INSUM)S/DESC-TECN | D16: mes | E16: 398250
C18: NOTA: LOS PRECIOS PARA ESTE CONTROL DE INVERSION FUERON TOMADOS DEL IDRD APUS 2023 y VISOR IDU 2023

Sheet COMPONENTES A, B Y C
B2: FONDO DE DESARROLLO LOCAL DE KENNEDY
B4: CONTROL DE INVERSIÓN GESTION SOCIAL, AMBIENTAL, SEGUIRDAD Y SALUD EN EL TRABAJO PARA OBRA
B6: OBJETO DEL CONTRATO | D6: REALIZAR A PRECIOS UNITARIOS FIJOS LA APROPIACIÓN DE ESTUDIOS Y DISEÑOS, TRÁMITE DE LICENCIA DE CONSTRUCCIÓN Y OBRAS DE CONSTRUCCIÓN DE UNA SEDE DE SALÓN COMUNAL, EN EL MARCO DEL PROYECTO 2173: KENNEDY FORTALECE LA PARTICIPACION CIUDADANA
B8: COMPONTE A. GESTION SOCIAL
B9: ÍTEMS | F9: ESPECIFICACIÓN | G9: UN. | H9: CANTIDAD | I9: VALOR UNITARIO | J9: VALOR TOTAL | L9: FUENTE
B10: A 1 | C10: COMUNICACIÓN A LA COMUNIDAD
B11: 1.1 | C11: REUNION DE SOCIALIZACIÓN | F11: VIDEO BEAM - ALQUILER POR DIA | G11: DIA | H11: 1 | I11: 107100 | J11: =H11*I11 -> 107100
B12: 1.2 | C12: DIVULGACIÓN DE INFORMACIÓN | F12: VOLANTES 1/2 CARTA POLICROMIA DE 115 gr | G12: UN | H12: 100 | I12: 83 | J12: =H12*I12 -> 8300
B13: 1.3 | C13: IDENTIFICACION DE LA OBRA | F13: VALLA DE 1.20 m X 1.20 m EN LAMINA GALVANIZADA CALIBRE 20, ANGULO EN HIERRO DE 2 x 1-1/8" IMPRESO EN VINILO ADHESIVO. Incluye suministro e instalacion. Impresión 720 DPI: Tintas para exteriores. | G13: UN | H13: 1 | I13: 382737 | J13: =ROUND(H13*I13,0) -> 382737 | L13: IDU
G14: SUBTOTAL COMPONENTE A | J14: =SUM(J11:J13) -> 498137
B16: COMPONTE B. AMBIENTAL
B17: ÍTEMS | F17: ESPECIFICACIÓN | G17: UN. | H17: CANTIDAD | I17: VALOR UNITARIO | J17: VALOR TOTAL
B18: B 1 | C18: MANEJO DE CAMPAMENTOS Y CENTROS DE ACOPIO
B19: 1.1 | C19: CANECAS PARA CAMPAMENTOS Y FRENTES DE OBRA | F19: CANECA PLASTICA NEGRA DE 55 GALONES CON TAPA PLANA | G19: UN | H19: 3 | I19: 122000 | J19: =ROUND(H19*I19,0) -> 366000 | L19: IDU
G20: SUBTOTAL DEL PROGRAMA | J20: =SUM(J19:J19) -> 366000
B22: B 2 | C22: MANEJO DE MATERIALES DE CONSTRUCCIÓN
B23: 2.1 | C23: PUNTO DE ACOPIO DE MATERIALES | F23: PLASTICO NEGRO CALIBRE 6 | G23: M2 | H23: 45 | I23: 1312 | J23: =ROUND(H23*I23,0) -> 59040 | L23: IDU
F24: SEÑALIZACION TUBULAR COLOMBINA PLASTICA | G24: UN | H24: 4 | I24: 43962 | J24: =ROUND(H24*I24,0) -> 175848 | L24: IDU
F25: CINTA PARA SEÑALIZACION DE 500MT X 4" PELIGRO. CALIBRE 3,5 | G25: ROLLO | H25: 2 | I25: 24285 | J25: =ROUND(H25*I25,0) -> 48570 | L25: IDU
G26: SUBTOTAL DEL PROGRAMA | J26: =SUM(J23:J25) -> 283458
B28: B 3 | C28: MANEJO INTEGRAL DE RESIDUOS SÓLIDOS
B29: 3.1 | C29: RECOLECIÓN DE RESIDUOS | F29: CEPILLO INDUSTRIAL DE NYLON CON CABO DE 35 CM A 42 CM X 9CM X 17 CM | G29: UN | H29: 1 | I29: 13978 | J29: =+ROUND(H29*I29,0) -> 13978 | L29: IDU
F30: GUANTE NITRILO 13" RESISTENTE CONTRA QUIMICOS COMBUSTIBLES SOLVENTES GRASAS | G30: PAR | H30: 1 | I30: 7021 | J30: =+ROUND(H30*I30,0) -> 7021 | L30: IDU
F31: CHALECO REFLECTIVO EN TELA | G31: UN | H31: 1 | I31: 12971 | J31: =+ROUND(H31*I31,0) -> 12971 | L31: IDU
F32: GAFAS DE SEGURIDAD | G32: UN | H32: 1 | I32: 4641 | J32: =+ROUND(H32*I32,0) -> 4641 | L32: IDU
F33: BOLSA PARA BASURA TIPO INDUSTRIAL NEGRA DE 60X90 CM CALIBRE 2 ( PAQUETE DE 30 UNIDADES) | G33: UN | H33: 3 | I33: 10042 | J33: =+ROUND(H33*I33,0) -> 30126 | L33: IDU
G34: SUBTOTAL DEL PROGRAMA | J34: =SUM(J29:J33) -> 68737
G35: SUBTOTAL COMPONENTE B | J35: =+J34+J26+J20 -> 718195
B37: C1 | C37: MANEJO INTEGRAL DE CUERPOS DE AGUA
B38: 1.1 | C38: ALQ.BAÑO PORTATIL(TRANSP+8 ASEOS+INSUM)S/DESC-TECN | G38: MES | H38: 5 | I38: 398250 | J38: =I38*H38 -> 1991250
G39: SUBTOTAL COMPONENTE C | J39: =J38 -> 1991250
B41: COMPONENTE C. GESTIÓN EN SEGURIDAD Y SALUD EN EL TRABAJO
B42: ÍTEMS | G42: UN. | H42: CANTIDAD | I42: VALOR UNITARIO | J42: VALOR TOTAL
B43: D1 | C43: SEGURIDAD Y SALUD EN EL TRABAJO
B44: 1.01 | C44: BOTIQUIN PRIMEROS AUXILIOS CON MEDICAMENTO DE 22CM X 27CM | G44: UN | H44: 1 | I44: 51308 | J44: =+ROUND(H44*I44,0) -> 51308 | L44: IDU
B45: =B44+0.01 -> 1.02 | C45: CAMILLA FIBRA CON ARNES - INMOVILIZADOR Y SEÑAL | G45: UN | H45: 1 | I45: 159900 | J45: =+ROUND(H45*I45,0) -> 159900 | L45: IDU
B46: =B45+0.01 -> 1.03 | C46: EXTINTOR POLVO QUIMICO SECO DE 20 LB TIPO ABC METALICO CON GANCHO Y AVISO | G46: UN | H46: 1 | I46: 56287 | J46: =+ROUND(H46*I46,0) -> 56287 | L46: IDU
B47: =B46+0.01 -> 1.04 | C47: BOTA CUERO LISA NEGRA SEGURIDAD PUNTERA DE ACERO | G47: PAR | H47: 9 | I47: 45101 | J47: =+ROUND(H47*I47,0) -> 405909 | L47: IDU
B48: =B47+0.01 -> 1.05 | C48: PROTECTOR AUDITIVO TIPO TAPON INSERCION EN SILICONA CON CORDEL EN ESTUCHO | G48: PAR | H48: 9 | I48: 2023 | J48: =+ROUND(H48*I48,0) -> 18207 | L48: IDU
B49: =B48+0.01 -> 1.06 | C49: CASCO DE SEGURIDAD DIELECTRICO | G49: UN | H49: 9 | I49: 20111 | J49: =+ROUND(H49*I49,0) -> 180999 | L49: IDU
...

Sheet AIU COMPONENTES
B2: FONDO DE DESARROLLO LOCAL DE KENNEDY
B4: CONTROL DE INVERSIÓN GESTION AMBIENTAL, SEGUIRDAD Y SALUD EN EL TRABAJO PARA OBRA
B6: OBJETO DEL CONTRATO | D6: REALIZAR A PRECIOS UNITARIOS FIJOS LA APROPIACIÓN DE ESTUDIOS Y DISEÑOS, TRÁMITE DE LICENCIA DE CONSTRUCCIÓN Y OBRAS DE CONSTRUCCIÓN DE UNA SEDE DE SALÓN COMUNAL, EN EL MARCO DEL PROYECTO 2173: KENNEDY FORTALECE LA PARTICIPACION CIUDADANA
B8: MATRIZ PARA CÁLCULO DE AIU- AMBIENTAL
B9: SUBTOTAL COMPONENTES A+C+D+E+F | E9: ='COMPONENTES A, B Y C'!J68 -> 5707835 | I9: FECHA:
B10: TERMINO ESTIMADO DE EJECUCIÓN DE OBRA | E10: 5.5 | F10: MESES | I10: CONTRATO No.
B12: 1. IMPUESTOS Y GARANTÍAS
B13: 1.1 | C13: IMPUESTOS
B14: ÍTEM | C14: DESCRIPCIÓN | J14: IMPUESTO | K14: VALOR ($)
B15: =B13+0.001 -> 1.101 | C15: Contribución Especial (Impuesto de Guerra Ley 1738 DIC18-2014 prorroga 4 años) | J15: 0.05 | K15: =ROUND((($E$9*ROUND((1+$L$36),4)))*J15,0) -> 285392
B16: =B15+0.001 -> 1.102 | C16: RETEICA (Ley 14 6jul1983, Res 219 25feb2004) | J16: =6.9/1000 -> 0.0069 | K16: =ROUND((($E$9*ROUND((1+$L$36),4)))*J16,0) -> 39384
B17: =B16+0.001 -> 1.103 | C17: RETEFUENTE | J17: 0.02 | K17: =ROUND((($E$9*ROUND((1+$L$36),4)))*J17,0) -> 114157
B18: =B17+0.001 -> 1.104 | C18: Estampilla Unipedagógica (Dec 584 de 19 dic 2014) | J18: 0.005 | K18: =ROUND((($E$9*ROUND((1+$L$36),4)))*J18,0) -> 28539
C19: SUBTOTAL IMPUESTOS | K19: =SUM(K15:K18) -> 467472
B21: =B13+0.1 -> 1.2 | C21: GARANTIAS
B22: ÍTEM | C22: DESCRIPCIÓN | E22: VR. BASE | G22: % ASEGURADO | I22: VIGENCIA AMPARO (MESES) | J22: TASA ASEGURADORA | K22: VALOR ($)
B23: =B21+0.001 -> 1.201 | C23: Cumplimiento | D23: GARANTIA UNICA | E23: =ROUND(($E$9*ROUND((1+$L$40),4)),0) -> 5707835 | G23: 0.3 | I23: 11.5 | J23: 0.002 | K23: =ROUND((((((E23*G23)*J23)/12)*I23)+2500)*1.19,0) -> 6881
B24: =B23+0.001 -> 1.202 | C24: Salarios y Prestaciones Sociales | E24: =ROUND(($E$9*ROUND((1+$L$40),4)),0) -> 5707835 | G24: 0.1 | I24: 41.5 | J24: 0.002 | K24: =ROUND((((((E24*G24)*J24)/12)*I24)+2500)*1.19,0) -> 7673
B25: =B24+0.001 -> 1.203 | C25: Estabilidad y Calidad de la Obra | E25: =ROUND(($E$9*ROUND((1+$L$40),4)),0) -> 5707835 | G25: 0.3 | I25: 60 | J25: 0.002 | K25: =ROUND((((((E25*G25)*J25)/12)*I25)+2500)*1.19,0) -> 23352
B26: =B25+0.001 -> 1.204 | C26: Predios, labores y Operaciones- Vigencia (Decreto 1082 de 2015 Sección III) | D26: RESPONSABILIDAD CIVIL EXTRACONTRACTUAL | E26: 232000000 | G26: 200 SMMLV | I26: 5.5 | J26: 0.003 | K26: =ROUND((((((E26)*J26)/12)*I26)+2500)*1.19,0) -> 382585
C28: SUBTOTAL GARANTÍAS | K28: =ROUND(SUM(K23:K26),0) -> 420491
C30: TOTAL IMPUESTOS Y GARANTÍAS | K30: =ROUND(K19+K28,0) -> 887963
C31: TOTAL IMPUESTOS Y GARANTÍAS EN PORCENTAJE DEL COSTO DIRECTO | K31: =+K30/E9 -> 0.15556914
C33: A. ADMINISTRACIÓN (1 + 2 + 3) | K33: =K31 -> 0.15556914
C34: I. IMPREVISTOS | K34: 0.01
C35: U. UTILIDAD | K35: 0.05
C37: A.I.U. (ADMINISTRACIÓN, IMPREVISTOS Y UTILIDAD) | K37: =SUM(K33:K35) -> 0.21556914

Sheet AIU OBRA
B2: FONDO DE DESARROLLO LOCAL DE KENNEDY
B4: MATRIZ PARA CALCULO AIU
B7: FECHA DE DILIGENCIAMIENTO | G7: CONTRATO No.
B8: SUBDIRECCIÓN GENERAL | D8: DE INFRAESTRUCTURA | G8: OBJETO DEL CONTRATO
B9: DIRECCIÓN TÉCNICA | D9: DE PROYECTOS | G9: REALIZAR A PRECIOS UNITARIOS FIJOS LA APROPIACIÓN DE ESTUDIOS Y DISEÑOS, TRÁMITE DE LICENCIA DE CONSTRUCCIÓN Y OBRAS DE CONSTRUCCIÓN DE UNA SEDE DE SALÓN COMUNAL, EN EL MARCO DEL PROYECTO 2173: KENNEDY FORTALECE LA PARTICIPACION CIUDADANA
B11: COSTO DIRECTO ESTIMADO DE OBRA (CD) | D11: 537320663
B12: COSTO DIRECTO ESTIMADO COMPONENTES | D12: ='COMPONENTES A, B Y C'!J70 -> 6938268
B14: TERMINO ESTIMADO DE EJECUCIÓN DE OBRA | D14: 5.5 | E14: MESES | K14: =D11+D12 -> 544258931
B16: COSTO ESTIMADO PARA AJUSTE | D16: 3424049
B18: A. ADMINISTRACIÓN
B19: 1. COSTOS MENSUALES DE PERSONAL
B20: # | C20: CARGO | E20: CATEGORÍA | G20: DEDICACIÓN MES | H20: TOPE SALARIO | I20: SALARIO - INCLUIDO PRESTACIONES
B21: A | G21: B | H21: C | I21: E = A * B * C | K21: FUENTE
B22: 1.1 PERSONAL PROFESIONAL (Ingenieros y Otros)
B23: 1 | C23: DIRECTOR DE OBRA | E23: 5 | G23: 0.25 | H23: ='TABLA PROF'!E3 -> 5720320 | I23: =ROUND(B23*G23*H23,0) -> 1430080 | K23: IDRD
B24: 1 | C24: INGENIERO RESIDENTE DE OBRA | E24: 6 | G24: 1 | H24: ='TABLA PROF'!E4 -> 5614634 | I24: =ROUND(B24*G24*H24,0) -> 5614634 | K24: IDRD
B25: 1 | C25: PROFESIONAL AMBIENTAL | E25: 7 | G25: 0.25 | H25: ='TABLA PROF'!E5 -> 4534135 | I25: =ROUND(B25*G25*H25,0) -> 1133534 | K25: IDRD
B26: 1 | C26: TECNOLOGO EN SEGURIDAD Y SALUD EN EL TRABAJO | G26: 1 | H26: ='TABLA PROF'!E7 -> 3803763 | I26: =ROUND(B26*G26*H26,0) -> 3803763 | K26: IDRD
B27: 1 | C27: PROFESIONAL SOCIAL | E27: 8 | G27: 0.25 | H27: ='TABLA PROF'!E6 -> 4127708 | I27: =ROUND(B27*G27*H27,0) -> 1031927
B28: 1 | C28: PERSONAL TÉCNICO - CELADOR | G28: 1 | H28: ='TABLA PROF'!E9 -> 2084288 | I28: =ROUND(B28*G28*H28,0) -> 2084288 | K28: IDRD
B29: SUBTOTAL COSTOS MENSUALES DE PERSONAL | I29: =SUM(I23:I28) -> 15098226
B31: 2. GASTOS OPERACIONALES MENSUALES | E31: DEDICACION | G31: UNIDAD | H31: COSTO ($/MES) | I31: VALOR ($)
B32: PORTATIL. Procesador minimo Intel, core i3 4005U. Celeron o similar, Memoria RAM 4 GB (2 x 2048 MB) Disco duro de 500 gb a 7200 rpm. Pantalla LED HP BrightView widescreen de alta defincion con 35,6 cm | E32: 5.5 | G32: UN/MES | H32: 136170 | I32: =H32*E32 -> 748935 | K32: IDU
B33: TARIFA- EDICION DE INFORME MENSUAL incluye 4 tapas plastificadas tamaño carta color blanco, con 6 tornillos, hojas de papel bond tamaño carta 75 gramos, 170 folios por informe. | E33: 5.5 | G33: UN/MES | H33: 184000 | I33: =H33*E33 -> 1012000 | K33: IDU
B34: TARIFA GLOBAL - GASTOS OFICINA (PAPELERIA, FOTOCOPIAS Y OTROS) | E34: 1 | G34: GLB | H34: ='TABLA PROF'!E11 -> 1043625 | I34: =H34*E34 -> 1043625 | K34: IDU
B35: Servicio de telefonia local e internet ilimitado velocidad entre (80 y 500MB) | E35: 5.5 | G35: MES | H35: ='TABLA PROF'!E13 -> 142400 | I35: =H35*E35 -> 783200
B36: SUBTOTAL GASTOS OPERACIONALES MENSUALES | I36: =SUM(I32:I35) -> 3587760
B38: TOTAL COSTOS PERSONAL + GASTOS OPERACIONALES POR EL TÉRMINO DE EJECUCIÓN | I38: =(I29*D14)+I36 -> 86628003
B39: TOTAL COSTOS PERSONAL + GASTOS OPERACIONALES POR EL TÉRMINO DE EJECUCIÓN EN PORCENTAJE DEL COSTO DIRECTO | I39: =I38/D11 -> 0.16122217
B41: 3. IMPUESTOS Y GARANTÍAS
B42: 3.1 IMPUESTOS
B43: DESCRIPCIÓN | H43: IMPUESTO | I43: VALOR ($)
B44: Contribucion Especial (Impuestos de Guerra Ley 1738 DIC 18-2014 prorroga 4 años | H44: 0.05 | I44: =ROUND((($D$11)+D16)*H44,0) -> 27037236
B45: RETEICA (Ley 14 6 julio 1983, Res 219 25 Febrero 2004) | H45: 0.0069 | I45: =ROUND((($D$11)+D16)*H45,0) -> 3731139
B46: RETEFUENTE | H46: 0.02 | I46: =ROUND((($D$11)+D16)*H46,0) -> 10814894
B47: Estampilla Unipedagogica (Dec 584 de 19 Dic 2014) | H47: 0.005 | I47: =ROUND((($D$11)+D16)*H47,0) -> 2703724
B48: SUBTOTAL IMPUESTOS | I48: =SUM(I44:I47) -> 44286993
B50: 3.2 GARANTIAS
B51: DESCRIPCIÓN | D51: VR. BASE | E51: % ASEGURADO | G51: VIGENCIA AMPARO (MESES) | H51: TASA ASEGURADORA | I51: VALOR ($)
B52: GARANTIA UNICA | C52: CUMPLIMIENTO | D52: =(($D$11+$D$16)) -> 540744712 | E52: 0.3 | G52: =D14+6 -> 11.5 | H52: 0.002 | I52: =ROUND((((((D52*E52)*H52)/12)*G52)+1250)*1.19,0) -> 371492
...
