Workbook
Name _Hlk511664705: Evaluación!#REF!

Sheet Evaluación
A1: EVALUACION Y VERIFICACIÓN DE REQUISITOS HABILITANTES CM-01-2023 | G1: EVALUACION Y VERIFICACIÓN DE REQUISITOS HABILITANTES CM-01-2023 | M1: EVALUACION Y VERIFICACIÓN DE REQUISITOS HABILITANTES CM-01-2023 | S1: EVALUACION Y VERIFICACIÓN DE REQUISITOS HABILITANTES CM-01-2023 | Y1: EVALUACION Y VERIFICACIÓN DE REQUISITOS HABILITANTES CM-01-2023 | AE1: EVALUACION Y VERIFICACIÓN DE REQUISITOS HABILITANTES CM-01-2023 | AK1: EVALUACION Y VERIFICACIÓN DE REQUISITOS HABILITANTES CM-01-2023 | AQ1: EVALUACION Y VERIFICACIÓN DE REQUISITOS HABILITANTES CM-01-2023 | AW1: EVALUACION Y VERIFICACIÓN DE REQUISITOS HABILITANTES CM-01-2023 | BC1: EVALUACION Y VERIFICACIÓN DE REQUISITOS HABILITANTES CM-01-2023 | BI1: EVALUACION Y VERIFICACIÓN DE REQUISITOS HABILITANTES CM-01-2023 | BO1: EVALUACION Y VERIFICACIÓN DE REQUISITOS HABILITANTES CM-01-2023 | BU1: EVALUACION Y VERIFICACIÓN DE REQUISITOS HABILITANTES CM-01-2023
B2: VALOR DEL CONTRATO | C2: 109076179 | D2: =+C2/1160000 -> 94.031189 | E2: SMMLV | H2: VALOR DEL CONTRATO | I2: 109076179 | J2: =+I2/1160000 -> 94.031189 | K2: SMMLV | N2: VALOR DEL CONTRATO | O2: 109076179 | P2: =+O2/1160000 -> 94.031189 | Q2: SMMLV | T2: VALOR DEL CONTRATO | U2: 109076179 | V2: =+U2/1160000 -> 94.031189 | W2: SMMLV | Z2: VALOR DEL CONTRATO | AA2: 109076179 | AB2: =+AA2/1160000 -> 94.031189 | AC2: SMMLV | AF2: VALOR DEL CONTRATO | AG2: 109076179 | AH2: =+AG2/1160000 -> 94.031189 | AI2: SMMLV | AL2: VALOR DEL CONTRATO | AM2: 109076179 | AN2: =+AM2/1160000 -> 94.031189 | AO2: SMMLV | AR2: VALOR DEL CONTRATO | AS2: 109076179 | AT2: =+AS2/1160000 -> 94.031189 | AU2: SMMLV | AX2: VALOR DEL CONTRATO | AY2: 109076179 | AZ2: =+AY2/1160000 -> 94.031189 | BA2: SMMLV | BD2: VALOR DEL CONTRATO | BE2: 109076179 | BF2: =+BE2/1160000 -> 94.031189 | BG2: SMMLV | BJ2: VALOR DEL CONTRATO | BK2: 109076179 | BL2: =+BK2/1160000 -> 94.031189 | BM2: SMMLV | BP2: VALOR DEL CONTRATO | BQ2: 109076179 | BR2: =+BQ2/1160000 -> 94.031189 | BS2: SMMLV | BV2: VALOR DEL CONTRATO | BW2: 109076179 | BX2: =+BW2/1160000 -> 94.031189 | BY2: SMMLV
A3: NUMERO DE PROPONENTE: | B3: NUMERO DE PROPONENTE | C3: 1 | G3: NUMERO DE PROPONENTE: | H3: NUMERO DE PROPONENTE | I3: 2 | M3: NUMERO DE PROPONENTE: | N3: NUMERO DE PROPONENTE | O3: 3 | S3: NUMERO DE PROPONENTE: | T3: NUMERO DE PROPONENTE | U3: 4 | Y3: NUMERO DE PROPONENTE: | Z3: NUMERO DE PROPONENTE | AA3: 5 | AE3: NUMERO DE PROPONENTE: | AF3: NUMERO DE PROPONENTE | AG3: 6 | AK3: NUMERO DE PROPONENTE: | AL3: NUMERO DE PROPONENTE | AM3: 7 | AQ3: NUMERO DE PROPONENTE: | AR3: NUMERO DE PROPONENTE | AS3: 8 | AW3: NUMERO DE PROPONENTE: | AX3: NUMERO DE PROPONENTE | AY3: 9 | BC3: NUMERO DE PROPONENTE: | BD3: NUMERO DE PROPONENTE | BE3: 10 | BI3: NUMERO DE PROPONENTE: | BJ3: NUMERO DE PROPONENTE | BK3: 11 | BO3: NUMERO DE PROPONENTE: | BP3: NUMERO DE PROPONENTE | BQ3: 12 | BU3: NUMERO DE PROPONENTE: | BV3: NUMERO DE PROPONENTE | BW3: 13
A4: PROPONENTE: | C4: CONSULTORES INGENIEROS Y PROFESIONALES ASOCIADOS SAS | G4: PROPONENTE: | I4: PENDULO INGENIRIA SAS | M4: PROPONENTE: | O4: SOLUCIONES INTEGRALES DE INGENEIRIA - SODINSA S.A | S4: PROPONENTE: | U4: INGESTRUCTURAS INGENIEROS SAS | Y4: PROPONENTE: | AA4: CONSORCIO INTER EDUCATIVO CBN | AE4: PROPONENTE: | AG4: CUBIKO OBRAS Y CONSULTORIAS SAS | AK4: PROPONENTE: | AM4: 2L PROYECTOS SAS | AQ4: PROPONENTE: | AS4: SOCIEDAD TECNICA SOTA LTDA | AW4: PROPONENTE: | AY4: MARIO DE JESUS GIL CARDONA | BC4: PROPONENTE: | BE4: INGENIOS, CONSULTORES Y CONSTRUCTORES SAS | BI4: PROPONENTE: | BK4: LOS CASTORESCONSTRUCTORES SAS | BO4: PROPONENTE: | BQ4: SCS INGENIERIA SAS | BU4: PROPONENTE: | BW4: CONSORCIO IEC
A5: PROPONENTE SINGULAR: | C5: X | D5: INTEGRANTES: | G5: PROPONENTE SINGULAR: | I5: X | J5: INTEGRANTES: | M5: PROPONENTE SINGULAR: | O5: X | P5: INTEGRANTES: | S5: PROPONENTE SINGULAR: | U5: X | V5: INTEGRANTES: | Y5: PROPONENTE SINGULAR: | AB5: INTEGRANTES: | AC5: AREN PROYECTOS & CONSULTORIAS SAS | AE5: PROPONENTE SINGULAR: | AG5: X | AH5: INTEGRANTES: | AK5: PROPONENTE SINGULAR: | AM5: X | AN5: INTEGRANTES: | AQ5: PROPONENTE SINGULAR: | AS5: X | AT5: INTEGRANTES: | AW5: PROPONENTE SINGULAR: | AY5: X | AZ5: INTEGRANTES: | BC5: PROPONENTE SINGULAR: | BE5: X | BF5: INTEGRANTES: | BI5: PROPONENTE SINGULAR: | BK5: X | BL5: INTEGRANTES: | BO5: PROPONENTE SINGULAR: | BQ5: X | BR5: INTEGRANTES: | BU5: PROPONENTE SINGULAR: | BX5: INTEGRANTES: | BY5: PING INGENIERIA SAS
A6: PROPONENTE PLURAL: | G6: PROPONENTE PLURAL: | M6: PROPONENTE PLURAL: | S6: PROPONENTE PLURAL: | Y6: PROPONENTE PLURAL: | AA6: X | AC6: COMPAÑÍA DE INTERVENTORIAS Y CONSULTORIAS DE LA COSTA SAS | AE6: PROPONENTE PLURAL: | AK6: PROPONENTE PLURAL: | AQ6: PROPONENTE PLURAL: | AW6: PROPONENTE PLURAL: | BC6: PROPONENTE PLURAL: | BI6: PROPONENTE PLURAL: | BO6: PROPONENTE PLURAL: | BU6: PROPONENTE PLURAL: | BW6: X | BY6: BMP CONSULTORES SAS
C7: CUMPLE | D7: NO CUMPLE | E7: OBSERVACIONES | I7: CUMPLE | J7: NO CUMPLE | K7: OBSERVACIONES | O7: CUMPLE | P7: NO CUMPLE | Q7: OBSERVACIONES | U7: CUMPLE | V7: NO CUMPLE | W7: OBSERVACIONES | AA7: CUMPLE | AB7: NO CUMPLE | AC7: OBSERVACIONES | AG7: CUMPLE | AH7: NO CUMPLE | AI7: OBSERVACIONES | AM7: CUMPLE | AN7: NO CUMPLE | AO7: OBSERVACIONES | AS7: CUMPLE | AT7: NO CUMPLE | AU7: OBSERVACIONES | AY7: CUMPLE | AZ7: NO CUMPLE | BA7: OBSERVACIONES | BE7: CUMPLE | BF7: NO CUMPLE | BG7: OBSERVACIONES | BK7: CUMPLE | BL7: NO CUMPLE | BM7: OBSERVACIONES | BQ7: CUMPLE | BR7: NO CUMPLE | BS7: OBSERVACIONES | BW7: CUMPLE | BX7: NO CUMPLE | BY7: OBSERVACIONES
A8: REQUISITOS HABILITANTES Y SU VERIFICACION | G8: REQUISITOS HABILITANTES Y SU VERIFICACION | M8: REQUISITOS HABILITANTES Y SU VERIFICACION | S8: REQUISITOS HABILITANTES Y SU VERIFICACION | Y8: REQUISITOS HABILITANTES Y SU VERIFICACION | AE8: REQUISITOS HABILITANTES Y SU VERIFICACION | AK8: REQUISITOS HABILITANTES Y SU VERIFICACION | AQ8: REQUISITOS HABILITANTES Y SU VERIFICACION | AW8: REQUISITOS HABILITANTES Y SU VERIFICACION | BC8: REQUISITOS HABILITANTES Y SU VERIFICACION | BI8: REQUISITOS HABILITANTES Y SU VERIFICACION | BO8: REQUISITOS HABILITANTES Y SU VERIFICACION | BU8: REQUISITOS HABILITANTES Y SU VERIFICACION
A9: 2.1 | B9: PRESENTACION DE LA OFERTA | G9: 2.1 | H9: PRESENTACION DE LA OFERTA | M9: 2.1 | N9: PRESENTACION DE LA OFERTA | S9: 2.1 | T9: PRESENTACION DE LA OFERTA | Y9: 2.1 | Z9: PRESENTACION DE LA OFERTA | AE9: 2.1 | AF9: PRESENTACION DE LA OFERTA | AK9: 2.1 | AL9: PRESENTACION DE LA OFERTA | AQ9: 2.1 | AR9: PRESENTACION DE LA OFERTA | AW9: 2.1 | AX9: PRESENTACION DE LA OFERTA | BC9: 2.1 | BD9: PRESENTACION DE LA OFERTA | BI9: 2.1 | BJ9: PRESENTACION DE LA OFERTA | BO9: 2.1 | BP9: PRESENTACION DE LA OFERTA | BU9: 2.1 | BV9: PRESENTACION DE LA OFERTA
A10: A | B10: Formato 1 - Carta de presentación de la oferta. | C10: X | G10: A | H10: Formato 1 - Carta de presentación de la oferta. | I10: X | M10: A | N10: Formato 1 - Carta de presentación de la oferta. | O10: X | S10: A | T10: Formato 1 - Carta de presentación de la oferta. | U10: X | Y10: A | Z10: Formato 1 - Carta de presentación de la oferta. | AA10: X | AE10: A | AF10: Formato 1 - Carta de presentación de la oferta. | AG10: X | AK10: A | AL10: Formato 1 - Carta de presentación de la oferta. | AM10: X | AQ10: A | AR10: Formato 1 - Carta de presentación de la oferta. | AS10: X | AW10: A | AX10: Formato 1 - Carta de presentación de la oferta. | AY10: X | BC10: A | BD10: Formato 1 - Carta de presentación de la oferta. | BE10: X | BI10: A | BJ10: Formato 1 - Carta de presentación de la oferta. | BK10: X | BO10: A | BP10: Formato 1 - Carta de presentación de la oferta. | BQ10: X | BU10: A | BV10: Formato 1 - Carta de presentación de la oferta. | BW10: X
A11: B | B11: Aval de la propuesta por profesional en el área de la ingeniería. | C11: X | G11: B | H11: Aval de la propuesta por profesional en el área de la ingeniería. | I11: X | M11: B | N11: Aval de la propuesta por profesional en el área de la ingeniería. | O11: X | S11: B | T11: Aval de la propuesta por profesional en el área de la ingeniería. | U11: X | Y11: B | Z11: Aval de la propuesta por profesional en el área de la ingeniería. | AA11: X | AE11: B | AF11: Aval de la propuesta por profesional en el área de la ingeniería. | AG11: X | AK11: B | AL11: Aval de la propuesta por profesional en el área de la ingeniería. | AM11: X | AQ11: B | AR11: Aval de la propuesta por profesional en el área de la ingeniería. | AS11: X | AW11: B | AX11: Aval de la propuesta por profesional en el área de la ingeniería. | AY11: X | BC11: B | BD11: Aval de la propuesta por profesional en el área de la ingeniería. | BF11: X | BG11: No aporta certificado Copnia. Subsanar | BI11: B | BJ11: Aval de la propuesta por profesional en el área de la ingeniería. | BK11: X | BO11: B | BP11: Aval de la propuesta por profesional en el área de la ingeniería. | BQ11: X | BU11: B | BV11: Aval de la propuesta por profesional en el área de la ingeniería. | BW11: X
A12: C | B12: Registro Único Tributario (RUT) del proponente singular. | C12: X | E12: Subsana documento dentro del plazo establecido | G12: C | H12: Registro Único Tributario (RUT) del proponente singular. | I12: X | M12: C | N12: Registro Único Tributario (RUT) del proponente singular. | P12: X | Q12: subsanar RUT | S12: C | T12: Registro Único Tributario (RUT) del proponente singular. | U12: X | Y12: C | Z12: Registro Único Tributario (RUT) del proponente singular. | AA12: N.A | AE12: C | AF12: Registro Único Tributario (RUT) del proponente singular. | AG12: X | AK12: C | AL12: Registro Único Tributario (RUT) del proponente singular. | AM12: X | AO12: Subsana Documento dentro del plazo establecido | AQ12: C | AR12: Registro Único Tributario (RUT) del proponente singular. | AS12: X | AW12: C | AX12: Registro Único Tributario (RUT) del proponente singular. | AY12: X | BC12: C | BD12: Registro Único Tributario (RUT) del proponente singular. | BF12: X | BG12: No aporta Documento. Subsanar | BI12: C | BJ12: Registro Único Tributario (RUT) del proponente singular. | BK12: X | BO12: C | BP12: Registro Único Tributario (RUT) del proponente singular. | BQ12: X | BU12: C | BV12: Registro Único Tributario (RUT) del proponente singular. | BW12: N.A
A13: D | B13: Registro Único Tributario (RUT) de los miembros del proponente plural. | C13: N.A | G13: D | H13: Registro Único Tributario (RUT) de los miembros del proponente plural. | I13: N.A | M13: D | N13: Registro Único Tributario (RUT) de los miembros del proponente plural. | O13: N.A | S13: D | T13: Registro Único Tributario (RUT) de los miembros del proponente plural. | U13: N.A | Y13: D | Z13: Registro Único Tributario (RUT) de los miembros del proponente plural. | AA13: X | AE13: D | AF13: Registro Único Tributario (RUT) de los miembros del proponente plural. | AG13: N.A | AK13: D | AL13: Registro Único Tributario (RUT) de los miembros del proponente plural. | AM13: N.A | AQ13: D | AR13: Registro Único Tributario (RUT) de los miembros del proponente plural. | AS13: N.A | AW13: D | AX13: Registro Único Tributario (RUT) de los miembros del proponente plural. | AY13: N.A | BC13: D | BD13: Registro Único Tributario (RUT) de los miembros del proponente plural. | BE13: N.A | BI13: D | BJ13: Registro Único Tributario (RUT) de los miembros del proponente plural. | BK13: N.A | BO13: D | BP13: Registro Único Tributario (RUT) de los miembros del proponente plural. | BQ13: N.A | BU13: D | BV13: Registro Único Tributario (RUT) de los miembros del proponente plural. | BW13: X
A14: 3.2 | B14: CAPACIDAD JURIDICA | G14: 3.2 | H14: CAPACIDAD JURIDICA | M14: 3.2 | N14: CAPACIDAD JURIDICA | S14: 3.2 | T14: CAPACIDAD JURIDICA | Y14: 3.2 | Z14: CAPACIDAD JURIDICA | AE14: 3.2 | AF14: CAPACIDAD JURIDICA | AK14: 3.2 | AL14: CAPACIDAD JURIDICA | AQ14: 3.2 | AR14: CAPACIDAD JURIDICA | AW14: 3.2 | AX14: CAPACIDAD JURIDICA | BC14: 3.2 | BD14: CAPACIDAD JURIDICA | BI14: 3.2 | BJ14: CAPACIDAD JURIDICA | BO14: 3.2 | BP14: CAPACIDAD JURIDICA | BU14: 3.2 | BV14: CAPACIDAD JURIDICA
A15: A. | B15: Capacidad juridica para la presentacion de la oferta | C15: X | E15: Subsana documento dentro del plazo establecido | G15: A. | H15: Capacidad juridica para la presentacion de la oferta | I15: X | M15: A. | N15: Capacidad juridica para la presentacion de la oferta | O15: X | S15: A. | T15: Capacidad juridica para la presentacion de la oferta | U15: X | Y15: A. | Z15: Capacidad juridica para la presentacion de la oferta | AB15: X | AC15: No aportan Certificados de Camara de Comercio. Subsanar | AE15: A. | AF15: Capacidad juridica para la presentacion de la oferta | AG15: X | AK15: A. | AL15: Capacidad juridica para la presentacion de la oferta | AM15: X | AQ15: A. | AR15: Capacidad juridica para la presentacion de la oferta | AS15: X | AW15: A. | AX15: Capacidad juridica para la presentacion de la oferta | AY15: X | BC15: A. | BD15: Capacidad juridica para la presentacion de la oferta | BF15: X | BG15: No aporta Certificado de Existencia y Rep Legal. Subsanar | BI15: A. | BJ15: Capacidad juridica para la presentacion de la oferta | BK15: X | BO15: A. | BP15: Capacidad juridica para la presentacion de la oferta | BQ15: X | BU15: A. | BV15: Capacidad juridica para la presentacion de la oferta | BW15: X
A16: B. | B16: Capacidad jurídica para la celebracion y ejecucion del contrato. | C16: X | E16: Subsana documento dentro del plazo establecido | G16: B. | H16: Capacidad jurídica para la celebracion y ejecucion del contrato. | I16: X | M16: B. | N16: Capacidad jurídica para la celebracion y ejecucion del contrato. | O16: X | S16: B. | T16: Capacidad jurídica para la celebracion y ejecucion del contrato. | U16: X | Y16: B. | Z16: Capacidad jurídica para la celebracion y ejecucion del contrato. | AB16: X | AC16: No aportan Certificados de Camara de Comercio. Subsanar | AE16: B. | AF16: Capacidad jurídica para la celebracion y ejecucion del contrato. | AG16: X | AK16: B. | AL16: Capacidad jurídica para la celebracion y ejecucion del contrato. | AM16: X | AQ16: B. | AR16: Capacidad jurídica para la celebracion y ejecucion del contrato. | AS16: X | AW16: B. | AX16: Capacidad jurídica para la celebracion y ejecucion del contrato. | AY16: X | BC16: B. | BD16: Capacidad jurídica para la celebracion y ejecucion del contrato. | BF16: X | BG16: No aporta Certificado de Existencia y Rep Legal. Subsanar | BI16: B. | BJ16: Capacidad jurídica para la celebracion y ejecucion del contrato. | BK16: X | BO16: B. | BP16: Capacidad jurídica para la celebracion y ejecucion del contrato. | BQ16: X | BU16: B. | BV16: Capacidad jurídica para la celebracion y ejecucion del contrato. | BW16: X
A17: D1. | B17: No reporte boletín de responsables fiscales. | C17: X | E17: Verificado por la entidad | G17: D1. | H17: No reporte boletín de responsables fiscales. | I17: X | K17: Verificado por la entidad | M17: D1. | N17: No reporte boletín de responsables fiscales. | O17: X | Q17: Verificado por la entidad | S17: D1. | T17: No reporte boletín de responsables fiscales. | U17: X | W17: Verificado por la entidad | Y17: D1. | Z17: No reporte boletín de responsables fiscales. | AA17: X | AC17: Verificado por la entidad | AE17: D1. | AF17: No reporte boletín de responsables fiscales. | AG17: X | AI17: Verificado por la entidad | AK17: D1. | AL17: No reporte boletín de responsables fiscales. | AM17: X | AO17: Verificado por la entidad | AQ17: D1. | AR17: No reporte boletín de responsables fiscales. | AS17: X | AU17: Verificado por la entidad | AW17: D1. | AX17: No reporte boletín de responsables fiscales. | AY17: X | BA17: Verificado por la entidad | BC17: D1. | BD17: No reporte boletín de responsables fiscales. | BG17: Verificado por la entidad | BI17: D1. | BJ17: No reporte boletín de responsables fiscales. | BM17: Verificado por la entidad | BO17: D1. | BP17: No reporte boletín de responsables fiscales. | BS17: Verificado por la entidad | BU17: D1. | BV17: No reporte boletín de responsables fiscales. | BW17: X | BY17: Verificado por la entidad
A18: D2. | B18: Antecendentes disciplinarios. | C18: X | E18: Verificado por la entidad | G18: D2. | H18: Antecendentes disciplinarios. | I18: X | K18: Verificado por la entidad | M18: D2. | N18: Antecendentes disciplinarios. | O18: X | Q18: Verificado por la entidad | S18: D2. | T18: Antecendentes disciplinarios. | U18: X | W18: Verificado por la entidad | Y18: D2. | Z18: Antecendentes disciplinarios. | AA18: X | AC18: Verificado por la entidad | AE18: D2. | AF18: Antecendentes disciplinarios. | AG18: X | AI18: Verificado por la entidad | AK18: D2. | AL18: Antecendentes disciplinarios. | AM18: X | AO18: Verificado por la entidad | AQ18: D2. | AR18: Antecendentes disciplinarios. | AS18: X | AU18: Verificado por la entidad | AW18: D2. | AX18: Antecendentes disciplinarios. | AY18: X | BA18: Verificado por la entidad | BC18: D2. | BD18: Antecendentes disciplinarios. | BE18: X | BG18: Verificado por la entidad | BI18: D2. | BJ18: Antecendentes disciplinarios. | BK18: X | BM18: Verificado por la entidad | BO18: D2. | BP18: Antecendentes disciplinarios. | BQ18: X | BS18: Verificado por la entidad | BU18: D2. | BV18: Antecendentes disciplinarios. | BW18: X | BY18: Verificado por la entidad
A19: D3. | B19: Antecedentes judiciales. | C19: X | E19: Verificado por la entidad | G19: D3. | H19: Antecedentes judiciales. | I19: X | K19: Verificado por la entidad | M19: D3. | N19: Antecedentes judiciales. | O19: X | Q19: Verificado por la entidad | S19: D3. | T19: Antecedentes judiciales. | U19: X | W19: Verificado por la entidad | Y19: D3. | Z19: Antecedentes judiciales. | AA19: X | AC19: Verificado por la entidad | AE19: D3. | AF19: Antecedentes judiciales. | AG19: X | AI19: Verificado por la entidad | AK19: D3. | AL19: Antecedentes judiciales. | AM19: X | AO19: Verificado por la entidad | AQ19: D3. | AR19: Antecedentes judiciales. | AS19: X | AU19: Verificado por la entidad | AW19: D3. | AX19: Antecedentes judiciales. | AY19: X | BA19: Verificado por la entidad | BC19: D3. | BD19: Antecedentes judiciales. | BE19: X | BG19: Verificado por la entidad | BI19: D3. | BJ19: Antecedentes judiciales. | BK19: X | BM19: Verificado por la entidad | BO19: D3. | BP19: Antecedentes judiciales. | BQ19: X | BS19: Verificado por la entidad | BU19: D3. | BV19: Antecedentes judiciales. | BW19: X | BY19: Verificado por la entidad
A20: D4. | B20: Registro nacional de medidas correctivas. | C20: X | E20: Verificado por la entidad | G20: D4. | H20: Registro nacional de medidas correctivas. | I20: X | K20: Verificado por la entidad | M20: D4. | N20: Registro nacional de medidas correctivas. | O20: X | Q20: Verificado por la entidad | S20: D4. | T20: Registro nacional de medidas correctivas. | U20: X | W20: Verificado por la entidad | Y20: D4. | Z20: Registro nacional de medidas correctivas. | AA20: X | AC20: Verificado por la entidad | AE20: D4. | AF20: Registro nacional de medidas correctivas. | AG20: X | AI20: Verificado por la entidad | AK20: D4. | AL20: Registro nacional de medidas correctivas. | AM20: X | AO20: Verificado por la entidad | AQ20: D4. | AR20: Registro nacional de medidas correctivas. | AS20: X | AU20: Verificado por la entidad | AW20: D4. | AX20: Registro nacional de medidas correctivas. | AY20: X | BA20: Verificado por la entidad | BC20: D4. | BD20: Registro nacional de medidas correctivas. | BE20: X | BG20: Verificado por la entidad | BI20: D4. | BJ20: Registro nacional de medidas correctivas. | BK20: X | BM20: Verificado por la entidad | BO20: D4. | BP20: Registro nacional de medidas correctivas. | BQ20: X | BS20: Verificado por la entidad | BU20: D4. | BV20: Registro nacional de medidas correctivas. | BW20: X | BY20: Verificado por la entidad
A21: 3.3 | B21: EXISTENCIA Y REPRESENTACION LEGAL | G21: 3.3 | H21: EXISTENCIA Y REPRESENTACION LEGAL | M21: 3.3 | N21: EXISTENCIA Y REPRESENTACION LEGAL | S21: 3.3 | T21: EXISTENCIA Y REPRESENTACION LEGAL | Y21: 3.3 | Z21: EXISTENCIA Y REPRESENTACION LEGAL | AE21: 3.3 | AF21: EXISTENCIA Y REPRESENTACION LEGAL | AK21: 3.3 | AL21: EXISTENCIA Y REPRESENTACION LEGAL | AQ21: 3.3 | AR21: EXISTENCIA Y REPRESENTACION LEGAL | AW21: 3.3 | AX21: EXISTENCIA Y REPRESENTACION LEGAL | BC21: 3.3 | BD21: EXISTENCIA Y REPRESENTACION LEGAL | BI21: 3.3 | BJ21: EXISTENCIA Y REPRESENTACION LEGAL | BO21: 3.3 | BP21: EXISTENCIA Y REPRESENTACION LEGAL | BU21: 3.3 | BV21: EXISTENCIA Y REPRESENTACION LEGAL
A22: 3.3.1 | B22: PERSONAS NATURALES | G22: 3.3.1 | H22: PERSONAS NATURALES | M22: 3.3.1 | N22: PERSONAS NATURALES | S22: 3.3.1 | T22: PERSONAS NATURALES | Y22: 3.3.1 | Z22: PERSONAS NATURALES | AE22: 3.3.1 | AF22: PERSONAS NATURALES | AK22: 3.3.1 | AL22: PERSONAS NATURALES | AQ22: 3.3.1 | AR22: PERSONAS NATURALES | AW22: 3.3.1 | AX22: PERSONAS NATURALES | BC22: 3.3.1 | BD22: PERSONAS NATURALES | BI22: 3.3.1 | BJ22: PERSONAS NATURALES | BO22: 3.3.1 | BP22: PERSONAS NATURALES | BU22: 3.3.1 | BV22: PERSONAS NATURALES
A23: A | B23: Existencia y representación legal persona natural. Cedula | C23: N.A | G23: A | H23: Existencia y representación legal persona natural. Cedula | I23: N.A | M23: A | N23: Existencia y representación legal persona natural. Cedula | O23: N.A | S23: A | T23: Existencia y representación legal persona natural. Cedula | U23: N.A | Y23: A | Z23: Existencia y representación legal persona natural. Cedula | AA23: N.A | AE23: A | AF23: Existencia y representación legal persona natural. Cedula | AG23: N.A | AK23: A | AL23: Existencia y representación legal persona natural. Cedula | AM23: N.A | AQ23: A | AR23: Existencia y representación legal persona natural. Cedula | AS23: N.A | AW23: A | AX23: Existencia y representación legal persona natural. Cedula | AY23: X | BC23: A | BD23: Existencia y representación legal persona natural. Cedula | BE23: N.A | BI23: A | BJ23: Existencia y representación legal persona natural. Cedula | BK23: N.A | BO23: A | BP23: Existencia y representación legal persona natural. Cedula | BQ23: N.A | BU23: A | BV23: Existencia y representación legal persona natural. Cedula | BW23: N.A
A24: B | B24: Persona natural extranjera residente en Colombia. | C24: N.A | G24: B | H24: Persona natural extranjera residente en Colombia. | I24: N.A | M24: B | N24: Persona natural extranjera residente en Colombia. | O24: N.A | S24: B | T24: Persona natural extranjera residente en Colombia. | U24: N.A | Y24: B | Z24: Persona natural extranjera residente en Colombia. | AA24: N.A | AE24: B | AF24: Persona natural extranjera residente en Colombia. | AG24: N.A | AK24: B | AL24: Persona natural extranjera residente en Colombia. | AM24: N.A | AQ24: B | AR24: Persona natural extranjera residente en Colombia. | AS24: N.A | AW24: B | AX24: Persona natural extranjera residente en Colombia. | AY24: N.A | BC24: B | BD24: Persona natural extranjera residente en Colombia. | BE24: N.A | BI24: B | BJ24: Persona natural extranjera residente en Colombia. | BK24: N.A | BO24: B | BP24: Persona natural extranjera residente en Colombia. | BQ24: N.A | BU24: B | BV24: Persona natural extranjera residente en Colombia. | BW24: N.A
A25: C | B25: Persona natural extranjera si domicilio en Colombia. | C25: N.A | G25: C | H25: Persona natural extranjera si domicilio en Colombia. | I25: N.A | M25: C | N25: Persona natural extranjera si domicilio en Colombia. | O25: N.A | S25: C | T25: Persona natural extranjera si domicilio en Colombia. | U25: N.A | Y25: C | Z25: Persona natural extranjera si domicilio en Colombia. | AA25: N.A | AE25: C | AF25: Persona natural extranjera si domicilio en Colombia. | AG25: N.A | AK25: C | AL25: Persona natural extranjera si domicilio en Colombia. | AM25: N.A | AQ25: C | AR25: Persona natural extranjera si domicilio en Colombia. | AS25: N.A | AW25: C | AX25: Persona natural extranjera si domicilio en Colombia. | AY25: N.A | BC25: C | BD25: Persona natural extranjera si domicilio en Colombia. | BE25: N.A | BI25: C | BJ25: Persona natural extranjera si domicilio en Colombia. | BK25: N.A | BO25: C | BP25: Persona natural extranjera si domicilio en Colombia. | BQ25: N.A | BU25: C | BV25: Persona natural extranjera si domicilio en Colombia. | BW25: N.A
A26: 3.3.2 | B26: PERSONAS JURIDICAS | G26: 3.3.2 | H26: PERSONAS JURIDICAS | M26: 3.3.2 | N26: PERSONAS JURIDICAS | S26: 3.3.2 | T26: PERSONAS JURIDICAS | Y26: 3.3.2 | Z26: PERSONAS JURIDICAS | AE26: 3.3.2 | AF26: PERSONAS JURIDICAS | AK26: 3.3.2 | AL26: PERSONAS JURIDICAS | AQ26: 3.3.2 | AR26: PERSONAS JURIDICAS | AW26: 3.3.2 | AX26: PERSONAS JURIDICAS | BC26: 3.3.2 | BD26: PERSONAS JURIDICAS | BI26: 3.3.2 | BJ26: PERSONAS JURIDICAS | BO26: 3.3.2 | BP26: PERSONAS JURIDICAS | BU26: 3.3.2 | BV26: PERSONAS JURIDICAS
A27: A. | B27: Persona jurídica nacional o extranjera con sucursal en Colombia | G27: A. | H27: Persona jurídica nacional o extranjera con sucursal en Colombia | M27: A. | N27: Persona jurídica nacional o extranjera con sucursal en Colombia | S27: A. | T27: Persona jurídica nacional o extranjera con sucursal en Colombia | Y27: A. | Z27: Persona jurídica nacional o extranjera con sucursal en Colombia | AE27: A. | AF27: Persona jurídica nacional o extranjera con sucursal en Colombia | AK27: A. | AL27: Persona jurídica nacional o extranjera con sucursal en Colombia | AQ27: A. | AR27: Persona jurídica nacional o extranjera con sucursal en Colombia | AW27: A. | AX27: Persona jurídica nacional o extranjera con sucursal en Colombia | BC27: A. | BD27: Persona jurídica nacional o extranjera con sucursal en Colombia | BI27: A. | BJ27: Persona jurídica nacional o extranjera con sucursal en Colombia | BO27: A. | BP27: Persona jurídica nacional o extranjera con sucursal en Colombia | BU27: A. | BV27: Persona jurídica nacional o extranjera con sucursal en Colombia
A28: A1. | B28: Certificado de existencia y representacion legal persona jurídica | G28: A1. | H28: Certificado de existencia y representacion legal persona jurídica | M28: A1. | N28: Certificado de existencia y representacion legal persona jurídica | S28: A1. | T28: Certificado de existencia y representacion legal persona jurídica | Y28: A1. | Z28: Certificado de existencia y representacion legal persona jurídica | AE28: A1. | AF28: Certificado de existencia y representacion legal persona jurídica | AK28: A1. | AL28: Certificado de existencia y representacion legal persona jurídica | AQ28: A1. | AR28: Certificado de existencia y representacion legal persona jurídica | AW28: A1. | AX28: Certificado de existencia y representacion legal persona jurídica | BC28: A1. | BD28: Certificado de existencia y representacion legal persona jurídica | BI28: A1. | BJ28: Certificado de existencia y representacion legal persona jurídica | BO28: A1. | BP28: Certificado de existencia y representacion legal persona jurídica | BU28: A1. | BV28: Certificado de existencia y representacion legal persona jurídica
B29: Fecha de expedición del certificado. | C29: X | E29: Subsana documento dentro del plazo establecido | H29: Fecha de expedición del certificado. | I29: X | N29: Fecha de expedición del certificado. | O29: X | Q29: Subsana documento dentro del plazo establecido | T29: Fecha de expedición del certificado. | U29: X | Z29: Fecha de expedición del certificado. | AB29: X | AC29: No aportan Certificados de Camara de Comercio. Subsanar | AF29: Fecha de expedición del certificado. | AG29: X | AL29: Fecha de expedición del certificado. | AM29: X | AR29: Fecha de expedición del certificado. | AS29: X | AX29: Fecha de expedición del certificado. | AY29: N.A | BD29: Fecha de expedición del certificado. | BF29: X | BG29: No aporta Certificado de Existencia y Rep Legal. Subsanar | BJ29: Fecha de expedición del certificado. | BK29: X | BP29: Fecha de expedición del certificado. | BQ29: X | BV29: Fecha de expedición del certificado. | BW29: X
B30: Objeto de la sociedad. | C30: X | E30: Subsana documento dentro del plazo establecido | H30: Objeto de la sociedad. | I30: X | N30: Objeto de la sociedad. | O30: X | T30: Objeto de la sociedad. | U30: X | Z30: Objeto de la sociedad. | AB30: X | AC30: No aportan Certificados de Camara de Comercio. Subsanar | AF30: Objeto de la sociedad. | AG30: X | AL30: Objeto de la sociedad. | AM30: X | AR30: Objeto de la sociedad. | AS30: X | AX30: Objeto de la sociedad. | AY30: N.A | BD30: Objeto de la sociedad. | BF30: X | BG30: No aporta Certificado de Existencia y Rep Legal. Subsanar | BJ30: Objeto de la sociedad. | BK30: X | BP30: Objeto de la sociedad. | BQ30: X | BV30: Objeto de la sociedad. | BW30: X
B31: Vigencia de la persona jurídica. | C31: X | E31: Subsana documento dentro del plazo establecido | H31: Vigencia de la persona jurídica. | I31: X | N31: Vigencia de la persona jurídica. | O31: X | T31: Vigencia de la persona jurídica. | U31: X | Z31: Vigencia de la persona jurídica. | AB31: X | AC31: No aportan Certificados de Camara de Comercio. Subsanar | AF31: Vigencia de la persona jurídica. | AG31: X | AL31: Vigencia de la persona jurídica. | AM31: X | AR31: Vigencia de la persona jurídica. | AS31: X | AX31: Vigencia de la persona jurídica. | AY31: N.A | BD31: Vigencia de la persona jurídica. | BF31: X | BG31: No aporta Certificado de Existencia y Rep Legal. Subsanar | BJ31: Vigencia de la persona jurídica. | BK31: X | BP31: Vigencia de la persona jurídica. | BQ31: X | BV31: Vigencia de la persona jurídica. | BW31: X
B32: Capacidad del reprentante legal. | C32: X | E32: Subsana documento dentro del plazo establecido | H32: Capacidad del reprentante legal. | I32: X | N32: Capacidad del reprentante legal. | O32: X | T32: Capacidad del reprentante legal. | U32: X | Z32: Capacidad del reprentante legal. | AB32: X | AC32: No aportan Certificados de Camara de Comercio. Subsanar | AF32: Capacidad del reprentante legal. | AG32: X | AL32: Capacidad del reprentante legal. | AM32: X | AR32: Capacidad del reprentante legal. | AS32: X | AX32: Capacidad del reprentante legal. | AY32: N.A | BD32: Capacidad del reprentante legal. | BF32: X | BG32: No aporta Certificado de Existencia y Rep Legal. Subsanar | BJ32: Capacidad del reprentante legal. | BK32: X | BP32: Capacidad del reprentante legal. | BQ32: X | BV32: Capacidad del reprentante legal. | BW32: X
B33: Nombramiento del revisor fiscal en caso de que exista. | C33: X | E33: Subsana documento dentro del plazo establecido | H33: Nombramiento del revisor fiscal en caso de que exista. | I33: X | N33: Nombramiento del revisor fiscal en caso de que exista. | O33: X | T33: Nombramiento del revisor fiscal en caso de que exista. | U33: X | Z33: Nombramiento del revisor fiscal en caso de que exista. | AB33: X | AC33: No aportan Certificados de Camara de Comercio. Subsanar | AF33: Nombramiento del revisor fiscal en caso de que exista. | AG33: X | AL33: Nombramiento del revisor fiscal en caso de que exista. | AM33: X | AR33: Nombramiento del revisor fiscal en caso de que exista. | AS33: X | AX33: Nombramiento del revisor fiscal en caso de que exista. | AY33: N.A | BD33: Nombramiento del revisor fiscal en caso de que exista. | BF33: X | BG33: No aporta Certificado de Existencia y Rep Legal. Subsanar | BJ33: Nombramiento del revisor fiscal en caso de que exista. | BK33: X | BP33: Nombramiento del revisor fiscal en caso de que exista. | BQ33: X | BV33: Nombramiento del revisor fiscal en caso de que exista. | BW33: X
B34: Persona jurídica extranjera legalmente establecidad. | C34: X | E34: Subsana documento dentro del plazo establecido | H34: Persona jurídica extranjera legalmente establecidad. | I34: X | N34: Persona jurídica extranjera legalmente establecidad. | O34: X | T34: Persona jurídica extranjera legalmente establecidad. | U34: X | Z34: Persona jurídica extranjera legalmente establecidad. | AB34: X | AC34: No aportan Certificados de Camara de Comercio. Subsanar | AF34: Persona jurídica extranjera legalmente establecidad. | AG34: X | AL34: Persona jurídica extranjera legalmente establecidad. | AM34: X | AR34: Persona jurídica extranjera legalmente establecidad. | AS34: X | AX34: Persona jurídica extranjera legalmente establecidad. | AY34: N.A | BD34: Persona jurídica extranjera legalmente establecidad. | BF34: X | BG34: No aporta Certificado de Existencia y Rep Legal. Subsanar | BJ34: Persona jurídica extranjera legalmente establecidad. | BK34: X | BP34: Persona jurídica extranjera legalmente establecidad. | BQ34: X | BV34: Persona jurídica extranjera legalmente establecidad. | BW34: X
A35: A.2. | B35: Certificación del revisor fiscal en caso de ser sociedad anónima. | C35: N.A | G35: A.2. | H35: Certificación del revisor fiscal en caso de ser sociedad anónima. | I35: N.A | M35: A.2. | N35: Certificación del revisor fiscal en caso de ser sociedad anónima. | O35: N.A | S35: A.2. | T35: Certificación del revisor fiscal en caso de ser sociedad anónima. | U35: N.A | Y35: A.2. | Z35: Certificación del revisor fiscal en caso de ser sociedad anónima. | AA35: N.A | AE35: A.2. | AF35: Certificación del revisor fiscal en caso de ser sociedad anónima. | AG35: N.A | AK35: A.2. | AL35: Certificación del revisor fiscal en caso de ser sociedad anónima. | AM35: N.A | AQ35: A.2. | AR35: Certificación del revisor fiscal en caso de ser sociedad anónima. | AS35: N.A | AW35: A.2. | AX35: Certificación del revisor fiscal en caso de ser sociedad anónima. | AY35: N.A | BC35: A.2. | BD35: Certificación del revisor fiscal en caso de ser sociedad anónima. | BE35: N.A | BI35: A.2. | BJ35: Certificación del revisor fiscal en caso de ser sociedad anónima. | BK35: N.A | BO35: A.2. | BP35: Certificación del revisor fiscal en caso de ser sociedad anónima. | BQ35: N.A | BU35: A.2. | BV35: Certificación del revisor fiscal en caso de ser sociedad anónima. | BW35: N.A
A36: B. | B36: Persona Jurídica extranjera sin sucursal o domicilio en Colombia. | C36: N.A | G36: B. | H36: Persona Jurídica extranjera sin sucursal o domicilio en Colombia. | I36: N.A | M36: B. | N36: Persona Jurídica extranjera sin sucursal o domicilio en Colombia. | O36: N.A | S36: B. | T36: Persona Jurídica extranjera sin sucursal o domicilio en Colombia. | U36: N.A | Y36: B. | Z36: Persona Jurídica extranjera sin sucursal o domicilio en Colombia. | AA36: N.A | AE36: B. | AF36: Persona Jurídica extranjera sin sucursal o domicilio en Colombia. | AG36: N.A | AK36: B. | AL36: Persona Jurídica extranjera sin sucursal o domicilio en Colombia. | AM36: N.A | AQ36: B. | AR36: Persona Jurídica extranjera sin sucursal o domicilio en Colombia. | AS36: N.A | AW36: B. | AX36: Persona Jurídica extranjera sin sucursal o domicilio en Colombia. | AY36: N.A | BC36: B. | BD36: Persona Jurídica extranjera sin sucursal o domicilio en Colombia. | BE36: N.A | BI36: B. | BJ36: Persona Jurídica extranjera sin sucursal o domicilio en Colombia. | BK36: N.A | BO36: B. | BP36: Persona Jurídica extranjera sin sucursal o domicilio en Colombia. | BQ36: N.A | BU36: B. | BV36: Persona Jurídica extranjera sin sucursal o domicilio en Colombia. | BW36: N.A
A37: B1. | B37: I. Nombre o razón social completa. | C37: N.A | G37: B1. | H37: I. Nombre o razón social completa. | I37: N.A | M37: B1. | N37: I. Nombre o razón social completa. | O37: N.A | S37: B1. | T37: I. Nombre o razón social completa. | U37: N.A | Y37: B1. | Z37: I. Nombre o razón social completa. | AA37: N.A | AE37: B1. | AF37: I. Nombre o razón social completa. | AG37: N.A | AK37: B1. | AL37: I. Nombre o razón social completa. | AM37: N.A | AQ37: B1. | AR37: I. Nombre o razón social completa. | AS37: N.A | AW37: B1. | AX37: I. Nombre o razón social completa. | AY37: N.A | BC37: B1. | BD37: I. Nombre o razón social completa. | BE37: N.A | BI37: B1. | BJ37: I. Nombre o razón social completa. | BK37: N.A | BO37: B1. | BP37: I. Nombre o razón social completa. | BQ37: N.A | BU37: B1. | BV37: I. Nombre o razón social completa. | BW37: N.A
A38: B2. | B38: II. Nombre del Representante Legal o de la persona facultada para comprometer a la persona jurídica. | C38: N.A | G38: B2. | H38: II. Nombre del Representante Legal o de la persona facultada para comprometer a la persona jurídica. | I38: N.A | M38: B2. | N38: II. Nombre del Representante Legal o de la persona facultada para comprometer a la persona jurídica. | O38: N.A | S38: B2. | T38: II. Nombre del Representante Legal o de la persona facultada para comprometer a la persona jurídica. | U38: N.A | Y38: B2. | Z38: II. Nombre del Representante Legal o de la persona facultada para comprometer a la persona jurídica. | AA38: N.A | AE38: B2. | AF38: II. Nombre del Representante Legal o de la persona facultada para comprometer a la persona jurídica. | AG38: N.A | AK38: B2. | AL38: II. Nombre del Representante Legal o de la persona facultada para comprometer a la persona jurídica. | AM38: N.A | AQ38: B2. | AR38: II. Nombre del Representante Legal o de la persona facultada para comprometer a la persona jurídica. | AS38: N.A | AW38: B2. | AX38: II. Nombre del Representante Legal o de la persona facultada para comprometer a la persona jurídica. | AY38: N.A | BC38: B2. | BD38: II. Nombre del Representante Legal o de la persona facultada para comprometer a la persona jurídica. | BE38: N.A | BI38: B2. | BJ38: II. Nombre del Representante Legal o de la persona facultada para comprometer a la persona jurídica. | BK38: N.A | BO38: B2. | BP38: II. Nombre del Representante Legal o de la persona facultada para comprometer a la persona jurídica. | BQ38: N.A | BU38: B2. | BV38: II. Nombre del Representante Legal o de la persona facultada para comprometer a la persona jurídica. | BW38: N.A
A39: B3. | B39: III. Que el objeto de la sociedad permita ejecutar las actividades descritas en el objeto del presente Proceso de Contratación. | C39: N.A | G39: B3. | H39: III. Que el objeto de la sociedad permita ejecutar las actividades descritas en el objeto del presente Proceso de Contratación. | I39: N.A | M39: B3. | N39: III. Que el objeto de la sociedad permita ejecutar las actividades descritas en el objeto del presente Proceso de Contratación. | O39: N.A | S39: B3. | T39: III. Que el objeto de la sociedad permita ejecutar las actividades descritas en el objeto del presente Proceso de Contratación. | U39: N.A | Y39: B3. | Z39: III. Que el objeto de la sociedad permita ejecutar las actividades descritas en el objeto del presente Proceso de Contratación. | AA39: N.A | AE39: B3. | AF39: III. Que el objeto de la sociedad permita ejecutar las actividades descritas en el objeto del presente Proceso de Contratación. | AG39: N.A | AK39: B3. | AL39: III. Que el objeto de la sociedad permita ejecutar las actividades descritas en el objeto del presente Proceso de Contratación. | AM39: N.A | AQ39: B3. | AR39: III. Que el objeto de la sociedad permita ejecutar las actividades descritas en el objeto del presente Proceso de Contratación. | AS39: N.A | AW39: B3. | AX39: III. Que el objeto de la sociedad permita ejecutar las actividades descritas en el objeto del presente Proceso de Contratación. | AY39: N.A | BC39: B3. | BD39: III. Que el objeto de la sociedad permita ejecutar las actividades descritas en el objeto del presente Proceso de Contratación. | BE39: N.A | BI39: B3. | BJ39: III. Que el objeto de la sociedad permita ejecutar las actividades descritas en el objeto del presente Proceso de Contratación. | BK39: N.A | BO39: B3. | BP39: III. Que el objeto de la sociedad permita ejecutar las actividades descritas en el objeto del presente Proceso de Contratación. | BQ39: N.A | BU39: B3. | BV39: III. Que el objeto de la sociedad permita ejecutar las actividades descritas en el objeto del presente Proceso de Contratación. | BW39: N.A
A40: B4. | B40: IV. Facultades del representante legal o de la persona facultada para comprometer a la persona jurídica, en la que se señale expresamente que el representante no tiene limitaciones para contraer obligaciones en nombre de la misma o aportando la autorización o documento correspondiente del órgano social competente respectivo para cada caso. | C40: N.A | G40: B4. | H40: IV. Facultades del representante legal o de la persona facultada para comprometer a la persona jurídica, en la que se señale expresamente que el representante no tiene limitaciones para contraer obligaciones en nombre de la misma o aportando la autorización o documento correspondiente del órgano social competente respectivo para cada caso. | I40: N.A | M40: B4. | N40: IV. Facultades del representante legal o de la persona facultada para comprometer a la persona jurídica, en la que se señale expresamente que el representante no tiene limitaciones para contraer obligaciones en nombre de la misma o aportando la autorización o documento correspondiente del órgano social competente respectivo para cada caso. | O40: N.A | S40: B4. | T40: IV. Facultades del representante legal o de la persona facultada para comprometer a la persona jurídica, en la que se señale expresamente que el representante no tiene limitaciones para contraer obligaciones en nombre de la misma o aportando la autorización o documento correspondiente del órgano social competente respectivo para cada caso. | U40: N.A | Y40: B4. | Z40: IV. Facultades del representante legal o de la persona facultada para comprometer a la persona jurídica, en la que se señale expresamente que el representante no tiene limitaciones para contraer obligaciones en nombre de la misma o aportando la autorización o documento correspondiente del órgano social competente respectivo para cada caso. | AA40: N.A | AE40: B4. | AF40: IV. Facultades del representante legal o de la persona facultada para comprometer a la persona jurídica, en la que se señale expresamente que el representante no tiene limitaciones para contraer obligaciones en nombre de la misma o aportando la autorización o documento correspondiente del órgano social competente respectivo para cada caso. | AG40: N.A | AK40: B4. | AL40: IV. Facultades del representante legal o de la persona facultada para comprometer a la persona jurídica, en la que se señale expresamente que el representante no tiene limitaciones para contraer obligaciones en nombre de la misma o aportando la autorización o documento correspondiente del órgano social competente respectivo para cada caso. | AM40: N.A | AQ40: B4. | AR40: IV. Facultades del representante legal o de la persona facultada para comprometer a la persona jurídica, en la que se señale expresamente que el representante no tiene limitaciones para contraer obligaciones en nombre de la misma o aportando la autorización o documento correspondiente del órgano social competente respectivo para cada caso. | AS40: N.A | AW40: B4. | AX40: IV. Facultades del representante legal o de la persona facultada para comprometer a la persona jurídica, en la que se señale expresamente que el representante no tiene limitaciones para contraer obligaciones en nombre de la misma o aportando la autorización o documento correspondiente del órgano social competente respectivo para cada caso. | AY40: N.A | BC40: B4. | BD40: IV. Facultades del representante legal o de la persona facultada para comprometer a la persona jurídica, en la que se señale expresamente que el representante no tiene limitaciones para contraer obligaciones en nombre de la misma o aportando la autorización o documento correspondiente del órgano social competente respectivo para cada caso. | BE40: N.A | BI40: B4. | BJ40: IV. Facultades del representante legal o de la persona facultada para comprometer a la persona jurídica, en la que se señale expresamente que el representante no tiene limitaciones para contraer obligaciones en nombre de la misma o aportando la autorización o documento correspondiente del órgano social competente respectivo para cada caso. | BK40: N.A | BO40: B4. | BP40: IV. Facultades del representante legal o de la persona facultada para comprometer a la persona jurídica, en la que se señale expresamente que el representante no tiene limitaciones para contraer obligaciones en nombre de la misma o aportando la autorización o documento correspondiente del órgano social competente respectivo para cada caso. | BQ40: N.A | BU40: B4. | BV40: IV. Facultades del representante legal o de la persona facultada para comprometer a la persona jurídica, en la que se señale expresamente que el representante no tiene limitaciones para contraer obligaciones en nombre de la misma o aportando la autorización o documento correspondiente del órgano social competente respectivo para cada caso. | BW40: N.A
...

Sheet Puntaje por experiencia
G1: Media Geometrica
A2: Numero de Proponente | B2: Proponente | C2: Contratos Aportados Validos para Asignación de Puntaje | D2: Valores en SMMLV | E2: Valido / No Valido | F2: Promedio de los contratos válidos aportados en SMMLV | G2: =+GEOMEAN(F3,F16,F17,F19,F21,F24,F28,F29) -> 229.31743
A3: 1 | B3: =+Evaluación!C4 -> CONSULTORES INGENIEROS Y PROFESIONALES ASOCIADOS SAS | C3: 1 | D3: 196.42 | E3: Valido | F3: =+AVERAGE(D3:D5) -> 384.70133 | G3: =+(1-((ABS($G$2-F3))/$G$2))*67.5 -> 21.762468
C4: 2 | D4: 74.68 | E4: Valido
C5: 3 | D5: 883.004 | E5: Valido
A6: 2 | B6: PENDULO INGENIRIA SAS | C6: 1 | D6: 213.23 | E6: No Valido | F6: 0 | G6: =+(1-((ABS($G$2-F6))/$G$2))*67.5 -> 0
C7: 2 | D7: 202.1 | E7: No Valido
C8: 3 | D8: 179.84 | E8: No Valido
A9: 3 | B9: =+Evaluación!O4 -> SOLUCIONES INTEGRALES DE INGENEIRIA - SODINSA S.A | C9: 1 | D9: 66.04 | E9: No Valido | F9: 0 | G9: =+(1-((ABS($G$2-F9))/$G$2))*67.5 -> 0
C10: 2 | D10: 76.7 | E10: No Valido
C11: 3 | D11: 178.1 | E11: No Valido
A12: 4 | B12: =+Evaluación!U4 -> INGESTRUCTURAS INGENIEROS SAS | C12: 1 | D12: 89.05 | E12: No Valido | F12: 0 | G12: =+(1-((ABS($G$2-F12))/$G$2))*67.5 -> 0
A13: 5 | B13: =+Evaluación!Z90 -> CONSORCIO INTER EDUCATIVO CBN | C13: 1 | D13: 171.71 | E13: No Valido | F13: 0 | G13: =+(1-((ABS($G$2-F13))/$G$2))*67.5 -> 0
C14: 2 | D14: 166.59 | E14: No Valido
C15: 3 | D15: 27.58 | E15: No Valido
A16: 6 | B16: =+Evaluación!AG4 -> CUBIKO OBRAS Y CONSULTORIAS SAS | C16: 1 | D16: =643.1*50% -> 321.55 | E16: Valido | F16: =+D16 -> 321.55 | G16: =+(1-((ABS($G$2-F16))/$G$2))*67.5 -> 40.351177
A17: 7 | B17: =+Evaluación!AL90 -> 2L PROYECTOS SAS | C17: 1 | D17: =258.91*50% -> 129.455 | E17: Valido | F17: =+AVERAGE(D17:D18) -> 157.8925 | G17: =+(1-((ABS($G$2-F17))/$G$2))*67.5 -> 46.475942
C18: 2 | D18: 186.33 | E18: Valido
A19: 8 | B19: =+Evaluación!AR90 -> SOCIEDAD TECNICA SOTA LTDA | C19: 1 | D19: 392.76 | E19: Valido | F19: =+AVERAGE(D19:D20) -> 541.38 | G19: =+(1-((ABS($G$2-F19))/$G$2))*67.5 -> -24.35618
C20: 2 | D20: 690 | E20: Valido
A21: 9 | B21: =+Evaluación!AX90 -> MARIO DE JESUS GIL CARDONA | C21: 1 | D21: =380.36*50% -> 190.18 | E21: Valido | F21: =+AVERAGE(D21:D22) -> 174.37 | G21: =+(1-((ABS($G$2-F21))/$G$2))*67.5 -> 51.326124
C22: 2 | D22: =317.12*50% -> 158.56 | E22: Valido
A23: 10 | B23: =+Evaluación!BD90 -> INGENIOS, CONSULTORES Y CONSTRUCTORES SAS | C23: 0 | D23: 0 | E23: No Valido | F23: 0 | G23: =+(1-((ABS($G$2-F23))/$G$2))*67.5 -> 0
A24: 11 | B24: =+Evaluación!BJ90 -> LOS CASTORESCONSTRUCTORES SAS | C24: 1 | D24: =324.96*40% -> 129.984 | E24: Valido | F24: =+AVERAGE(D24:D27) -> 99.591 | G24: =+(1-((ABS($G$2-F24))/$G$2))*67.5 -> 29.314791
C25: 2 | D25: 111.26 | E25: Valido
C26: 3 | D26: 73.81 | E26: Valido
C27: 4 | D27: 83.31 | E27: Valido
A28: 12 | B28: =+Evaluación!BP90 -> SCS INGENIERIA SAS | C28: 1 | D28: =249.44*50% -> 124.72 | E28: Valido | F28: =+D28 -> 124.72 | G28: =+(1-((ABS($G$2-F28))/$G$2))*67.5 -> 36.711557
A29: 13 | B29: =+Evaluación!BW4 -> CONSORCIO IEC | C29: 1 | D29: 884.92 | E29: Valido | F29: =+AVERAGE(D29:D32) -> 333.9125 | G29: =+(1-((ABS($G$2-F29))/$G$2))*67.5 -> 36.712253
C30: 2 | D30: 116.57 | E30: Valido
C31: 3 | D31: 164.12 | E31: Valido
C32: 4 | D32: 170.04 | E32: Valido

Sheet Resumen
A1: No. | B1: PORPONENTE | C1: Cumple | D1: No Cumple SUBSANAR | E1: Rechazado | F1: Puntaje
F2: =+Evaluación!A96 -> Experiencia del Proponente | G2: =+Evaluación!A97 -> Equipo de Trabajo | H2: =+Evaluación!A98 -> Factor de sostenibilidad | I2: =+Evaluación!A99 -> Apoyo Industria Nacional | J2: =+Evaluación!A100 -> Vinculación de personas con discapacidad | K2: =+Evaluación!A101 -> Emprendimientos y empresas de mujeres | L2: =+Evaluación!A102 -> Mipyme | M2: TOTAL
A3: 1 | B3: =+Evaluación!C4 -> CONSULTORES INGENIEROS Y PROFESIONALES ASOCIADOS SAS | C3: X | E3: Habilitado | F3: =+Evaluación!C106 -> 21.762468 | G3: =+Evaluación!C108+Evaluación!C109 -> 10 | H3: =+Evaluación!C111 -> 1 | I3: =+Evaluación!C113+Evaluación!C114 -> 0 | J3: =+Evaluación!C116 -> 1 | K3: =+Evaluación!C118 -> 0.25 | L3: =+Evaluación!C120 -> 0.25 | M3: =SUM(F3:L3) -> 34.262468
A4: 2 | B4: =+Evaluación!I4 -> PENDULO INGENIRIA SAS | D4: X | E4: Rechazado | F4: =+Evaluación!I106 -> 0 | G4: =+Evaluación!I108+Evaluación!I109 -> 0 | H4: =+Evaluación!I111 -> 0 | I4: =+Evaluación!I113 -> 0 | J4: =+Evaluación!I116 -> 0 | K4: =+Evaluación!I118 -> 0 | L4: =+Evaluación!I120 -> 0 | M4: =SUM(F4:L4) -> 0
A5: 3 | B5: =+Evaluación!O4 -> SOLUCIONES INTEGRALES DE INGENEIRIA - SODINSA S.A | D5: X | E5: Rechazado | F5: =+Evaluación!O106 -> 0 | G5: =+Evaluación!O108+Evaluación!O109 -> 0 | H5: =+Evaluación!O111 -> 0 | I5: =+Evaluación!O113 -> 0 | J5: =+Evaluación!O116 -> 0 | K5: =+Evaluación!O118 -> 0 | L5: =+Evaluación!O120 -> 0 | M5: =SUM(F5:L5) -> 0
A6: 4 | B6: =+Evaluación!T90 -> INGESTRUCTURAS INGENIEROS SAS | D6: X | E6: Rechazado | F6: =+Evaluación!U106 -> 0 | G6: =+Evaluación!U108+Evaluación!U109 -> 0 | H6: =+Evaluación!U111 -> 0 | I6: =+Evaluación!U113 -> 0 | J6: =+Evaluación!U116 -> 0 | K6: =+Evaluación!U118 -> 0 | L6: =+Evaluación!U120 -> 0 | M6: =SUM(F6:L6) -> 0
A7: 5 | B7: =+Evaluación!Z90 -> CONSORCIO INTER EDUCATIVO CBN | D7: X | E7: Rechazado | F7: =+Evaluación!AA106 -> 0 | G7: =+Evaluación!AA108+Evaluación!AA109 -> 0 | H7: =+Evaluación!AA111 -> 0 | I7: =+Evaluación!AA113 -> 0 | J7: =+Evaluación!AA116 -> 0 | K7: =+Evaluación!AA118 -> 0 | L7: =+Evaluación!AA120 -> 0 | M7: =SUM(F7:L7) -> 0
A8: 6 | B8: =+Evaluación!AG4 -> CUBIKO OBRAS Y CONSULTORIAS SAS | C8: X | E8: Habilitado | F8: =+Evaluación!AG106 -> 40.351177 | G8: =+Evaluación!AG108+Evaluación!AG109 -> 10 | H8: =+Evaluación!AG111 -> 1 | I8: =+Evaluación!AG113 -> 20 | J8: =+Evaluación!AG116 -> 1 | K8: =+Evaluación!AG118 -> 0.25 | L8: =+Evaluación!AG120 -> 0.25 | M8: =SUM(F8:L8) -> 72.851177
A9: 7 | B9: =+Evaluación!AL90 -> 2L PROYECTOS SAS | C9: X | E9: Habilitado | F9: =+Evaluación!AM106 -> 46.475942 | G9: =+Evaluación!AM108+Evaluación!AM109 -> 10 | H9: =+Evaluación!AM111 -> 1 | I9: =+Evaluación!AM113 -> 20 | J9: =+Evaluación!AM116 -> 1 | K9: =+Evaluación!AM118 -> 0.25 | L9: =+Evaluación!AM120 -> 0.25 | M9: =SUM(F9:L9) -> 78.975942
A10: 8 | B10: =+Evaluación!AR90 -> SOCIEDAD TECNICA SOTA LTDA | C10: X | E10: Habilitado | F10: =+Evaluación!AS106 -> 0 | G10: =+Evaluación!AS108+Evaluación!AS109 -> 10 | H10: =+Evaluación!AS111 -> 1 | I10: =+Evaluación!AS113 -> 20 | J10: =+Evaluación!AS116 -> 1 | K10: =+Evaluación!AS118 -> 0.25 | L10: =+Evaluación!AS120 -> 0.25 | M10: =SUM(F10:L10) -> 32.5
A11: 9 | B11: =+Evaluación!AX90 -> MARIO DE JESUS GIL CARDONA | C11: X | E11: Habilitado | F11: =+Evaluación!AY106 -> 51.326124 | G11: =+Evaluación!AY108+Evaluación!AY109 -> 10 | H11: =+Evaluación!AY111 -> 1 | I11: =+Evaluación!AY113 -> 20 | J11: =+Evaluación!AY116 -> 1 | K11: =+Evaluación!AY118 -> 0 | L11: =+Evaluación!AY120 -> 0.25 | M11: =SUM(F11:L11) -> 83.576124
A12: 10 | B12: =+'Puntaje por experiencia'!B23 -> INGENIOS, CONSULTORES Y CONSTRUCTORES SAS | D12: X | E12: Rechazado | F12: =+Evaluación!BE106 -> 0 | G12: =+Evaluación!BE108+Evaluación!BE109 -> 0 | H12: =+Evaluación!BE111 -> 0 | I12: =+Evaluación!BE113 -> 0 | J12: =+Evaluación!BE116 -> 0 | K12: =+Evaluación!BE118 -> 0 | L12: =+Evaluación!BE120 -> 0 | M12: =SUM(F12:L12) -> 0
A13: 11 | B13: =+Evaluación!BJ90 -> LOS CASTORESCONSTRUCTORES SAS | C13: X | E13: Habilitado | F13: =+Evaluación!BK106 -> 29.314791 | G13: =+Evaluación!BK108+Evaluación!BK109 -> 10 | H13: =+Evaluación!BK111 -> 1 | I13: =+Evaluación!BK113 -> 20 | J13: =+Evaluación!BK116 -> 1 | K13: =+Evaluación!BK118 -> 0.25 | L13: =+Evaluación!BK120 -> 0.25 | M13: =SUM(F13:L13) -> 61.814791
A14: 12 | B14: =+Evaluación!BP90 -> SCS INGENIERIA SAS | C14: X | E14: Habilitado | F14: =+Evaluación!BQ106 -> 36.711557 | G14: =+Evaluación!BQ108+Evaluación!BQ109 -> 10 | H14: =+Evaluación!BQ111 -> 1 | I14: =+Evaluación!BQ113 -> 20 | J14: =+Evaluación!BQ116 -> 1 | K14: =+Evaluación!BQ118 -> 0.25 | L14: =+Evaluación!BQ120 -> 0.25 | M14: =SUM(F14:L14) -> 69.211557
A15: 13 | B15: =+Evaluación!BV90 -> CONSORCIO IEC | C15: X | E15: Habilitado | F15: =+Evaluación!BW106 -> 36.712253 | G15: =+Evaluación!BW108+Evaluación!BW109 -> 10 | H15: =+Evaluación!BW111 -> 1 | I15: =+Evaluación!BW113 -> 20 | J15: =+Evaluación!BW116 -> 1 | K15: =+Evaluación!BW118 -> 0.25 | L15: =+Evaluación!BW120 -> 0.25 | M15: =SUM(F15:L15) -> 69.212253
