Workbook

Sheet LOTE 1(Multiparametros)
B2: ESTUDIO DE MERCADO PROCESO CONTRACTUAL: PRESTACIÓN DEL SERVICIO DE CALIBRACIÓN ACREDITADA DE EQUIPOS E INSTRUMENTOS NO EXCLUSIVOS DEL LABORATORIO NACIONAL DE SUELOS. CIFRAS EN COP $
B4: LOTE No. 1. Calibración certificada para un (1) multiparámetro (pH, Conductividad y medidor de iones).
B6: ITEM | C6: DESCRIPCIÓN | D6: PROVEEDOR: | E6: METRILAB LTDA | G6: PROVEEDOR: | H6: UNION METROLÓGICA | J6: PROVEEDOR: | M6: PROVEEDOR:
D7: COTIZACIÓN No. | G7: COTIZACIÓN No. | J7: COTIZACIÓN No. | M7: COTIZACIÓN No.
D8: VALOR UNITARIO ANTES DE IVA ($) | E8: IVA ($) | F8: VALOR TOTAL IVA INCLUIDO ($) | G8: VALOR UNITARIO ANTES DE IVA ($) | H8: IVA ($) | I8: VALOR TOTAL IVA INCLUIDO ($) | J8: VALOR UNITARIO ANTES DE IVA ($) | K8: IVA ($) | L8: VALOR TOTAL IVA INCLUIDO ($) | M8: VALOR UNITARIO ANTES DE IVA ($) | N8: IVA ($) | O8: VALOR TOTAL IVA INCLUIDO ($)
B9: Calibración certificada del termómetro del equipo, con entrega de certificado de calibración y estado de los electrodos de conductividad eléctrica y pH para buffers certificados (1 mol / l; 0,1 mol / l y 0,01 mol / l y 4,00; 7,00 y 10,00 respectivamente) a 20 °C, y electrodo Redox en tres puntos, con norma nacional e internacional vigente.
B10: 1 | C10: Medidor Multiparámetros (pH, Conductímetro y medidor de iones), marca Sartorius, modelo Meter pp-50, número de serie: PP-5023454433, sin número de placa. Incluir: Dos (2) Patrón estándar para conductividad eléctrica con certificado de trazabilidad de cada uno: 1 mol / l; 0,1 mol / l y 0,01 mol / l, presentación 125 ml de cada concentración. | D10: 900000 | E10: =19%*D10 -> 171000 | F10: =D10+E10 -> 1071000 | G10: 900000 | H10: =19%*G10 -> 171000 | I10: =G10+H10 -> 1071000 | K10: =19%*J10 -> 0 | L10: =J10+K10 -> 0 | N10: =19%*M10 -> 0 | O10: =M10+N10 -> 0
B11: TOTAL VALOR DEL LOTE (COP) | D11: VALOR TOTAL LOTE ANTES DE IVA | F11: =D10 -> 900000 | G11: VALOR TOTAL LOTE ANTES DE IVA | I11: =G10 -> 900000 | J11: VALOR TOTAL LOTE ANTES DE IVA | L11: =J10 -> 0 | M11: VALOR TOTAL LOTE ANTES DE IVA | O11: =M10 -> 0
D12: IVA (19%) | F12: =E10 -> 171000 | G12: IVA (19%) | I12: =H10 -> 171000 | J12: IVA (19%) | L12: =K10 -> 0 | M12: IVA (19%) | O12: =N10 -> 0
D13: VALOR TOTAL LOTE CON IVA | F13: =SUM(F11:F12) -> 1071000 | G13: VALOR TOTAL LOTE CON IVA | I13: =SUM(I11:I12) -> 1071000 | J13: VALOR TOTAL LOTE CON IVA | L13: =SUM(L11:L12) -> 0 | M13: VALOR TOTAL LOTE CON IVA | O13: =SUM(O11:O12) -> 0

Sheet LOTE 2(Hornos, Muflas, Nev, In)
B2: ESTUDIO DE MERCADO PROCESO CONTRACTUAL: PRESTACIÓN DEL SERVICIO DE CALIBRACIÓN ACREDITADA DE EQUIPOS E INSTRUMENTOS NO EXCLUSIVOS DEL LABORATORIO NACIONAL DE SUELOS. CIFRAS EN COP $
B4: LOTE No. 2. Calibración certificada de ocho(8) hornos, dos (2) muflas, una (1) incubadora, un (1) baño termostatado.
B6: ITEM | C6: DESCRIPCIÓN | D6: PROVEEDOR: | E6: COMPAÑÍA NACIONAL DE METROLOGIA SAS | G6: PROVEEDOR: | H6: METROLOGIC COLOMBIA SAS | J6: PROVEEDOR: | K6: INDUSTRIA Y METROLOGIA LTDA | M6: PROVEEDOR: | N6: UNION METROLOGICA LTDA
D7: COTIZACIÓN No. | G7: COTIZACIÓN No. | J7: COTIZACIÓN No. | M7: COTIZACIÓN No. | N7: 0076-23T
D8: VALOR UNITARIO ANTES DE IVA ($) | E8: IVA ($) | F8: VALOR TOTAL IVA INCLUIDO ($) | G8: VALOR UNITARIO ANTES DE IVA ($) | H8: IVA ($) | I8: VALOR TOTAL IVA INCLUIDO ($) | J8: VALOR UNITARIO ANTES DE IVA ($) | K8: IVA ($) | L8: VALOR TOTAL IVA INCLUIDO ($) | M8: VALOR UNITARIO ANTES DE IVA ($) | N8: IVA ($) | O8: VALOR TOTAL IVA INCLUIDO ($)
B9: ITEM 1. Calibración certificada bajo ISO 17025:2017 de hornos. Entregando el reporte de calibración con homogeneidad, estabilidad y corrección de temperatura. También debe expresarse si cumple con los requisitos respecto a los parámetros máximos y mínimos según norma nacional o internacional vigente, se debe realizar calibración en tres o cuatro puntos de tres o cuatro puntos de temperatura para: (8) Hornos:
B10: 1.1 | C10: Horno, marca Despatch, modelo DOC-67, número de serie: 151166, sin número de placa, verificar a: 40°C, 70 ºC y 105 ºC. | D10: 1025000 | E10: =19%*D10 -> 194750 | F10: =D10+E10 -> 1219750 | G10: 480000 | H10: =19%*G10 -> 91200 | I10: =G10+H10 -> 571200 | J10: 696000 | K10: =19%*J10 -> 132240 | L10: =J10+K10 -> 828240 | M10: 550000 | N10: =19%*M10 -> 104500 | O10: =M10+N10 -> 654500
B11: 1.2 | C11: Horno termostatado, marca DESPATCH, modelo LAC-67, número de serie 151169, número de placa IGAC 10573, verificar a: 40°C, 70 ºC y 105 ºC. | D11: 1025000 | E11: =19%*D11 -> 194750 | F11: =D11+E11 -> 1219750 | G11: 480000 | H11: =19%*G11 -> 91200 | I11: =G11+H11 -> 571200 | J11: 696000 | K11: =19%*J11 -> 132240 | L11: =J11+K11 -> 828240 | M11: 550000 | N11: =19%*M11 -> 104500 | O11: =M11+N11 -> 654500
B12: 1.3 | C12: Horno, marca BAIRD – TATLOCK, modelo B. S2648, sin número de serie, número de placa 06674, verificar a: 70 ºC 105 ºC y 130 ºC. | D12: 1025000 | E12: =19%*D12 -> 194750 | F12: =D12+E12 -> 1219750 | G12: 480000 | H12: =19%*G12 -> 91200 | I12: =G12+H12 -> 571200 | J12: 696000 | K12: =19%*J12 -> 132240 | L12: =J12+K12 -> 828240 | M12: 550000 | N12: =19%*M12 -> 104500 | O12: =M12+N12 -> 654500
B13: 1.4 | C13: Horno, Marca BlueM, Modelo OV-8A, número de serie: OV-1-9975, número de placa 06496. verificar Tres (3) puntos: 70 ºC, 105 ºC y 130 ºC 9,035 Litros | D13: 1025000 | E13: =19%*D13 -> 194750 | F13: =D13+E13 -> 1219750 | G13: 480000 | H13: =19%*G13 -> 91200 | I13: =G13+H13 -> 571200 | J13: 696000 | K13: =19%*J13 -> 132240 | L13: =J13+K13 -> 828240 | M13: 550000 | N13: =19%*M13 -> 104500 | O13: =M13+N13 -> 654500
B14: 1.5 | C14: Horno, Marca 1 Dies, Modelo D240, sin número de serie, verificar Tres (3) puntos: 70 ºC; 105 ºC; 200 ºC 240 Litros. | D14: 1025000 | E14: =19%*D14 -> 194750 | F14: =D14+E14 -> 1219750 | G14: 480000 | H14: =19%*G14 -> 91200 | I14: =G14+H14 -> 571200 | J14: 928000 | K14: =19%*J14 -> 176320 | L14: =J14+K14 -> 1104320 | M14: 550000 | N14: =19%*M14 -> 104500 | O14: =M14+N14 -> 654500
B15: 1.6 | C15: Horno, Marca 1 DSIES/TOKY, Modelo D-240, sin número de serie, número de placa 16081. verificar Tres (3) puntos: 40 ºC 70 ºC y 105 ºC 240 Litros | D15: 1025000 | E15: =19%*D15 -> 194750 | F15: =D15+E15 -> 1219750 | G15: 480000 | H15: =19%*G15 -> 91200 | I15: =G15+H15 -> 571200 | J15: 696000 | K15: =19%*J15 -> 132240 | L15: =J15+K15 -> 828240 | M15: 550000 | N15: =19%*M15 -> 104500 | O15: =M15+N15 -> 654500
B16: 1.7 | C16: Horno, Marca 1DIES/IBC, Modelo D-240, sin número de serie, número de placa 16082. verificar Tres (3) puntos: 40 ºC 70 ºC y 105 ºC 240 Litros. | D16: 1025000 | E16: =19%*D16 -> 194750 | F16: =D16+E16 -> 1219750 | G16: 480000 | H16: =19%*G16 -> 91200 | I16: =G16+H16 -> 571200 | J16: 696000 | K16: =19%*J16 -> 132240 | L16: =J16+K16 -> 828240 | M16: 550000 | N16: =19%*M16 -> 104500 | O16: =M16+N16 -> 654500
B17: 1.8 | C17: Horno, Marca Precisión Scientific, Modelo STG 40, número de serie 24AX-3, sin número de placa. verificar Tres (3) puntos: 35ºC 50ºC y 65ºC, capacidad 45,69 Litros | D17: 1025000 | E17: =19%*D17 -> 194750 | F17: =D17+E17 -> 1219750 | G17: 480000 | H17: =19%*G17 -> 91200 | I17: =G17+H17 -> 571200 | J17: 696000 | K17: =19%*J17 -> 132240 | L17: =J17+K17 -> 828240 | M17: 550000 | N17: =19%*M17 -> 104500 | O17: =M17+N17 -> 654500
B18: ITEM 2. Calibración certificada bajo ISO 17025:2017 de dos Muflas. Entregando el reporte de calibración con homogeneidad de la temperatura, estabilidad de temperatura y corrección de temperatura, y demás. También debe expresarse si cumple con los requisitos respecto a los parámetros máximos y mínimos según norma, se debe realizar calibración en tres puntos de temperatura para:
B19: 2.1 | C19: Mufla, marca CHECKMAN, modelo M254, número de serie: 05633/61, sin número de placa (High Watts Resistencias, 110 V, KW 3.5, Type M-254), Rango: 0 a 990°C. Verificar a: 350 ºC, 550 ºC y 950 ºC. | D19: 1320000 | E19: =19%*D19 -> 250800 | F19: =D19+E19 -> 1570800 | G19: 650000 | H19: =19%*G19 -> 123500 | I19: =G19+H19 -> 773500 | J19: 466000 | K19: =19%*J19 -> 88540 | L19: =J19+K19 -> 554540 | M19: 1100000 | N19: =19%*M19 -> 209000 | O19: =M19+N19 -> 1309000
B20: 2.2 | C20: Mufla, marca CENCO - COOLEY, modelo13633-D, número de serie: A -152, sin número de placa rango de trabajo 25°C a 1100°C, Rango de temperatura, exactitud, resolución, sensor de temperatura (clase). Verificar a: 350 ºC, 550 ºC y 950 ºC. se debe tener en cuenta que la incertidumbre tiene que ser menor o igual a 16,6°C. | D20: 1320000 | E20: =19%*D20 -> 250800 | F20: =D20+E20 -> 1570800 | G20: 650000 | H20: =19%*G20 -> 123500 | I20: =G20+H20 -> 773500 | J20: 466000 | K20: =19%*J20 -> 88540 | L20: =J20+K20 -> 554540 | M20: 1100000 | N20: =19%*M20 -> 209000 | O20: =M20+N20 -> 1309000
B21: ITEM 3. Calibración certificada de una incubadora bajo ISO 17025:2017. Entregando el reporte de calibración con homogeneidad de la temperatura, estabilidad de temperatura y corrección de temperatura. También debe expresarse si cumple con los requisitos respecto a los parámetros máximos y mínimos según norma, se debe realizar calibración en tres puntos de temperatura para:
B22: 3.1 | C22: Incubadora, marca Thelco, Modelo 60, número de serie: 22AD-6, número de placa 16428. Rango de uso: 28 ºC - 44,5 °C. | D22: 989000 | E22: =19%*D22 -> 187910 | F22: =D22+E22 -> 1176910 | G22: 450000 | H22: =19%*G22 -> 85500 | I22: =G22+H22 -> 535500 | J22: 580000 | K22: =19%*J22 -> 110200 | L22: =J22+K22 -> 690200 | M22: 550000 | N22: =19%*M22 -> 104500 | O22: =M22+N22 -> 654500
B23: ITEM 4. Calibración certificada bajo ISO 17025:2017 del medio térmico con determinación de homogeneidad, determinación de inestabilidad temporal, disposición de medición de ubicaciones para:
B24: 4.1 | C24: Baño termostatado, marca LAUDA, modelo ALPHA A-24, número de serie: LCBC4735-09-0502, número de placa 35264. | D24: 989000 | E24: =19%*D24 -> 187910 | F24: =D24+E24 -> 1176910 | G24: 500000 | H24: =19%*G24 -> 95000 | I24: =G24+H24 -> 595000 | J24: 580000 | K24: =19%*J24 -> 110200 | L24: =J24+K24 -> 690200 | M24: 400000 | N24: =19%*M24 -> 76000 | O24: =M24+N24 -> 476000
B25: TOTAL VALOR DEL LOTE (COP) | D25: VALOR TOTAL LOTE ANTES DE IVA | F25: =SUM(D10:D17) + SUM(D19:D20)+D22+D24 -> 12818000 | G25: VALOR TOTAL LOTE ANTES DE IVA | I25: =SUM(G10:G17) + SUM(G19:G20)+G22+G24 -> 6090000 | J25: VALOR TOTAL LOTE ANTES DE IVA | L25: =SUM(J10:J17) + SUM(J19:J20)+J22+J24 -> 7892000 | M25: VALOR TOTAL LOTE ANTES DE IVA | O25: =SUM(M10:M17) + SUM(M19:M20)+M22+M24 -> 7550000
D26: IVA (19%) | F26: =SUM(E10:E17)+SUM(E19:E20)+E22+E24 -> 2435420 | G26: IVA (19%) | I26: =SUM(H10:H17)+SUM(H19:H20)+H22+H24 -> 1157100 | J26: IVA (19%) | L26: =SUM(K10:K17)+SUM(K19:K20)+K22+K24 -> 1499480 | M26: IVA (19%) | O26: =SUM(N10:N17)+SUM(N19:N20)+N22+N24 -> 1434500
D27: VALOR TOTAL LOTE CON IVA | F27: =SUM(F25:F26) -> 15253420 | G27: VALOR TOTAL LOTE CON IVA | I27: =SUM(I25:I26) -> 7247100 | J27: VALOR TOTAL LOTE CON IVA | L27: =SUM(L25:L26) -> 9391480 | M27: VALOR TOTAL LOTE CON IVA | O27: =SUM(O25:O26) -> 8984500

Sheet LOTE 3(Micro y Disp)
B2: ESTUDIO DE MERCADO PROCESO CONTRACTUAL: PRESTACIÓN DEL SERVICIO DE CALIBRACIÓN ACREDITADA DE EQUIPOS E INSTRUMENTOS NO EXCLUSIVOS DEL LABORATORIO NACIONAL DE SUELOS. CIFRAS EN COP $
B4: LOTE No. 3. Calibración certificada de instrumentos de volumetría variables para veintitres (23) micropipetas, dieciseis (16) dispensadores, dos (2) buretas digitales y doce (12) pipetas lowy.
B6: ITEM | C6: DESCRIPCIÓN | D6: PROVEEDOR: | E6: COMPAÑÍA NACIONAL DE METROLOGIA SAS | G6: PROVEEDOR: | H6: INDUSTRIA Y METROLOGIA LTDA | J6: PROVEEDOR: | K6: DETECTO DE COLOMBIA LTDA | M6: PROVEEDOR: | N6: UNION METROLOGICA LTDA
D7: COTIZACIÓN No. | G7: COTIZACIÓN No. | J7: COTIZACIÓN No. | M7: COTIZACIÓN No. | N7: 0076-23T
D8: VALOR UNITARIO ANTES DE IVA ($) | E8: IVA ($) | F8: VALOR TOTAL IVA INCLUIDO ($) | G8: VALOR UNITARIO ANTES DE IVA ($) | H8: IVA ($) | I8: VALOR TOTAL IVA INCLUIDO ($) | J8: VALOR UNITARIO ANTES DE IVA ($) | K8: IVA ($) | L8: VALOR TOTAL IVA INCLUIDO ($) | M8: VALOR UNITARIO ANTES DE IVA ($) | N8: IVA ($) | O8: VALOR TOTAL IVA INCLUIDO ($)
B9: ITEM 1. Calibración certificada en volumen conforme a norma nacional o internacional para veintidos (22) micropipetas:
B10: 1.1 | C10: Micropipeta, marca Brand, modelo Transferpettes, número de serie 09H78105, número de placa 97111, rango: 10 µl - 100 µl, escala: 0,1 µl. | D10: 548900 | E10: =19%*D10 -> 104291 | F10: =D10+E10 -> 653191 | G10: 188100 | H10: =19%*G10 -> 35739 | I10: =G10+H10 -> 223839 | J10: 120000 | K10: =19%*J10 -> 22800 | L10: =J10+K10 -> 142800 | M10: 200000 | N10: =19%*M10 -> 38000 | O10: =M10+N10 -> 238000
B11: 1.2 | C11: Micropipeta 1000, marca Jencons, modelo Sealpette, número de serie 5057147, número de placa 28880, rango: 100 µl - 1000 µl, escala: 5 µl. | D11: 548900 | E11: =19%*D11 -> 104291 | F11: =D11+E11 -> 653191 | G11: 188100 | H11: =19%*G11 -> 35739 | I11: =G11+H11 -> 223839 | J11: 120000 | K11: =19%*J11 -> 22800 | L11: =J11+K11 -> 142800 | M11: 200000 | N11: =19%*M11 -> 38000 | O11: =M11+N11 -> 238000
B12: 1.3 | C12: Micropipeta 1000, marca Jencons, modelo Sealpette, serie 5057149, número de placa 28882, rango: 100 µl -1000 µl, escala: 5 µl. | D12: 548900 | E12: =19%*D12 -> 104291 | F12: =D12+E12 -> 653191 | G12: 188100 | H12: =19%*G12 -> 35739 | I12: =G12+H12 -> 223839 | J12: 120000 | K12: =19%*J12 -> 22800 | L12: =J12+K12 -> 142800 | M12: 200000 | N12: =19%*M12 -> 38000 | O12: =M12+N12 -> 238000
B13: 1.4 | C13: 2 Micropipetas, marca Brand, modelo Transferpette, número de serie 09H74440, sin número de placa rango: 10 µl – 100 µl, escala: 0,1 µl. | D13: 548900 | E13: =19%*D13 -> 104291 | F13: =(D13+E13)*2 -> 1306382 | G13: 188100 | H13: =19%*G13 -> 35739 | I13: =(G13+H13)*2 -> 447678 | J13: 120000 | K13: =19%*J13 -> 22800 | L13: =(J13+K13)*2 -> 285600 | M13: 200000 | N13: =19%*M13 -> 38000 | O13: =(M13+N13)*2 -> 476000
B14: 1.5 | C14: Micropipeta, marca Brand, modelo Transferpette, número de serie 08K20448, sin número de placa, rango: 100 µl -1000 µl escala: 1 µl. | D14: 548900 | E14: =19%*D14 -> 104291 | F14: =D14+E14 -> 653191 | G14: 188100 | H14: =19%*G14 -> 35739 | I14: =G14+H14 -> 223839 | J14: 120000 | K14: =19%*J14 -> 22800 | L14: =J14+K14 -> 142800 | M14: 200000 | N14: =19%*M14 -> 38000 | O14: =M14+N14 -> 238000
B15: 1.6 | C15: Micropipeta, marca Brand, modelo Transferpette, número de serie 01L75249, sin número de placa, rango: 100 µl -1000 µl, escala: 1 µl. | D15: 548900 | E15: =19%*D15 -> 104291 | F15: =D15+E15 -> 653191 | G15: 188100 | H15: =19%*G15 -> 35739 | I15: =G15+H15 -> 223839 | J15: 120000 | K15: =19%*J15 -> 22800 | L15: =J15+K15 -> 142800 | M15: 200000 | N15: =19%*M15 -> 38000 | O15: =M15+N15 -> 238000
B16: 1.7 | C16: Micropipeta, marca Brand, modelo Transferpette, número de serie 01L75241, sin número de placa, rango: 100 µl – 1000 µl, escala: 1 µl. | D16: 548900 | E16: =19%*D16 -> 104291 | F16: =D16+E16 -> 653191 | G16: 188100 | H16: =19%*G16 -> 35739 | I16: =G16+H16 -> 223839 | J16: 120000 | K16: =19%*J16 -> 22800 | L16: =J16+K16 -> 142800 | M16: 200000 | N16: =19%*M16 -> 38000 | O16: =M16+N16 -> 238000
B17: 1.8 | C17: Micropipeta, marca Brand, modelo Transferpette, número de serie 07M39195, sin número de placa, rango: 0,5 µl - 10 µl, escala: 0.1 µl. | D17: 548900 | E17: =19%*D17 -> 104291 | F17: =D17+E17 -> 653191 | G17: 188100 | H17: =19%*G17 -> 35739 | I17: =G17+H17 -> 223839 | J17: 120000 | K17: =19%*J17 -> 22800 | L17: =J17+K17 -> 142800 | M17: 200000 | N17: =19%*M17 -> 38000 | O17: =M17+N17 -> 238000
B18: 1.9 | C18: Micropipeta, marca Brand, modelo Transferpette, número de serie 10L96090, sin número de placa, rango: 100 µl – 1000 µl, escala: 1 µl. | D18: 548900 | E18: =19%*D18 -> 104291 | F18: =D18+E18 -> 653191 | G18: 188100 | H18: =19%*G18 -> 35739 | I18: =G18+H18 -> 223839 | J18: 120000 | K18: =19%*J18 -> 22800 | L18: =J18+K18 -> 142800 | M18: 200000 | N18: =19%*M18 -> 38000 | O18: =M18+N18 -> 238000
B19: 1.10 | C19: Micropipeta, marca Brand, modelo Transferpette, número de serie 01N23987, sin número de placa, rango: 100 µl - 1000 µl, escala: 1 µl. | D19: 548900 | E19: =19%*D19 -> 104291 | F19: =D19+E19 -> 653191 | G19: 188100 | H19: =19%*G19 -> 35739 | I19: =G19+H19 -> 223839 | J19: 120000 | K19: =19%*J19 -> 22800 | L19: =J19+K19 -> 142800 | M19: 200000 | N19: =19%*M19 -> 38000 | O19: =M19+N19 -> 238000
B20: 1.11 | C20: Micropipeta, marca Brand, modelo Transferpettes, número de serie 10K47948, sin número de placa, rango: 0,5 ml – 5 ml, escala: 5 ml. | D20: 548900 | E20: =19%*D20 -> 104291 | F20: =D20+E20 -> 653191 | G20: 188100 | H20: =19%*G20 -> 35739 | I20: =G20+H20 -> 223839 | J20: 120000 | K20: =19%*J20 -> 22800 | L20: =J20+K20 -> 142800 | M20: 200000 | N20: =19%*M20 -> 38000 | O20: =M20+N20 -> 238000
B21: 1.12 | C21: Micropipeta marca Brand modelo Transferpettes serie 11L99844 sin número de placa, rango: 0,5 µl - 5 µl escala: 5 µl. | D21: 548900 | E21: =19%*D21 -> 104291 | F21: =D21+E21 -> 653191 | G21: 188100 | H21: =19%*G21 -> 35739 | I21: =G21+H21 -> 223839 | J21: 120000 | K21: =19%*J21 -> 22800 | L21: =J21+K21 -> 142800 | M21: 200000 | N21: =19%*M21 -> 38000 | O21: =M21+N21 -> 238000
B22: 1.13 | C22: Micropipeta, marca Brand, modelo Transferpette, número de serie 01N23984, sin número de placa, rango: 100 µl – 1000 µl, escala: 0,001 µl. | D22: 548900 | E22: =19%*D22 -> 104291 | F22: =D22+E22 -> 653191 | G22: 188100 | H22: =19%*G22 -> 35739 | I22: =G22+H22 -> 223839 | J22: 120000 | K22: =19%*J22 -> 22800 | L22: =J22+K22 -> 142800 | M22: 200000 | N22: =19%*M22 -> 38000 | O22: =M22+N22 -> 238000
B23: 1.14 | C23: Micropipeta, marca Thermo Scientific, modelo FINNIPIPETTE, número de serie KJ07084, sin número de placa, rango: 100 µl – 1000 µl, escala: 1 µl. | D23: 548900 | E23: =19%*D23 -> 104291 | F23: =D23+E23 -> 653191 | G23: 188100 | H23: =19%*G23 -> 35739 | I23: =G23+H23 -> 223839 | J23: 120000 | K23: =19%*J23 -> 22800 | L23: =J23+K23 -> 142800 | M23: 200000 | N23: =19%*M23 -> 38000 | O23: =M23+N23 -> 238000
B24: 1.15 | C24: Micropipeta, marca Brand, modelo Transferpette, número de serie 10M89760, sin número de placa, rango: 100 µl – 1000 µl, escala: 1 µl. | D24: 548900 | E24: =19%*D24 -> 104291 | F24: =D24+E24 -> 653191 | G24: 188100 | H24: =19%*G24 -> 35739 | I24: =G24+H24 -> 223839 | J24: 120000 | K24: =19%*J24 -> 22800 | L24: =J24+K24 -> 142800 | M24: 200000 | N24: =19%*M24 -> 38000 | O24: =M24+N24 -> 238000
B25: 1.16 | C25: Micropipeta, marca Brand, modelo Transferpettes, número de serie 01L85597, sin número de placa, rango: 0,5 µl -10 µl, escala: 0,1 µl. | D25: 548900 | E25: =19%*D25 -> 104291 | F25: =D25+E25 -> 653191 | G25: 188100 | H25: =19%*G25 -> 35739 | I25: =G25+H25 -> 223839 | J25: 120000 | K25: =19%*J25 -> 22800 | L25: =J25+K25 -> 142800 | M25: 200000 | N25: =19%*M25 -> 38000 | O25: =M25+N25 -> 238000
... B28: 1.19 | C28: Micropipeta, marca Brand, modelo Transferpette, número de serie 11L00683 sin número de placa. Rango 0.5-10 µl, | D28: 548900 | E28: =19%*D28 -> 104291 | F28: =D28+E28 -> 653191 | G28: 188100 | H28: =19%*G28 -> 35739 | I28: =G28+H28 -> 223839 | J28: 120000 | K28: =19%*J28 -> 22800 | L28: =J28+K28 -> 142800 | M28: 200000 | N28: =19%*M28 -> 38000 | O28: =M28+N28 -> 238000
B29: 1.20 | C29: Micropipeta, marca Brand, Transferpette, número de serie 05L27830 sin número de placa. Rango 0.5-10 µl, | D29: 548900 | E29: =19%*D28 -> 104291 | F29: =D28+E29 -> 653191 | G29: 188100 | H29: =19%*G29 -> 35739 | I29: =G29+H29 -> 223839 | J29: 120000 | K29: =19%*J29 -> 22800 | L29: =J29+K29 -> 142800 | M29: 200000 | N29: =19%*M29 -> 38000 | O29: =M29+N29 -> 238000
B30: 1.21 | C30: Micropipeta, marca Brand, número de serie 05L27830 05L32280 sin número de placa. Rango 0.5-10 µl, | D30: 548900 | E30: =19%*D30 -> 104291 | F30: =D30+E30 -> 653191 | G30: 188100 | H30: =19%*G30 -> 35739 | I30: =G30+H30 -> 223839 | J30: 120000 | K30: =19%*J30 -> 22800 | L30: =J30+K30 -> 142800 | M30: 200000 | N30: =19%*M30 -> 38000 | O30: =M30+N30 -> 238000
B31: 1.22 | C31: Micropipeta, marca Brand, modelo Transferpette número de serie 11L99843 sin número de placa. Rango 0.5-10 µl, | D31: 548900 | E31: =19%*D31 -> 104291 | F31: =D31+E31 -> 653191 | G31: 188100 | H31: =19%*G31 -> 35739 | I31: =G31+H31 -> 223839 | J31: 120000 | K31: =19%*J31 -> 22800 | L31: =J31+K31 -> 142800 | M31: 200000 | N31: =19%*M31 -> 38000 | O31: =M31+N31 -> 238000
B32: ITEM 2. Calibración certificada en volumen conforme a norma nacional o internacional para catorce (14) dispensadores:
B33: 2.1 | C33: Dispensador digital, marca Brand, modelo Dispensette, número de serie 20A06437, sin número de placa, rango: 1 mL – 10 mL, escala 0,1 mL. | D33: 548900 | E33: =19%*D33 -> 104291 | F33: =D33+E33 -> 653191 | G33: 270000 | H33: =19%*G33 -> 51300 | I33: =G33+H33 -> 321300 | J33: 120000 | K33: =19%*J33 -> 22800 | L33: =J33+K33 -> 142800 | M33: 300000 | N33: =19%*M33 -> 57000 | O33: =M33+N33 -> 357000
B34: 2.2 | C34: Dispensador digital, marca Brand, modelo Dispensette III, número de serie 17C25811, sin número de placa, rango: 0 mL - 10 mL, escala 0,1 mL. | D34: 548900 | E34: =19%*D34 -> 104291 | F34: =D34+E34 -> 653191 | G34: 270000 | H34: =19%*G34 -> 51300 | I34: =G34+H34 -> 321300 | J34: 120000 | K34: =19%*J34 -> 22800 | L34: =J34+K34 -> 142800 | M34: 300000 | N34: =19%*M34 -> 57000 | O34: =M34+N34 -> 357000
B35: 2.3 | C35: Dispensador digital, marca Brand, modelo Dispensette III, número de serie 17B21335, sin número de placa, rango: 10 mL – 100 mL, escala 1 mL. | D35: 548900 | E35: =19%*D35 -> 104291 | F35: =D35+E35 -> 653191 | G35: 270000 | H35: =19%*G35 -> 51300 | I35: =G35+H35 -> 321300 | J35: 120000 | K35: =19%*J35 -> 22800 | L35: =J35+K35 -> 142800 | M35: 300000 | N35: =19%*M35 -> 57000 | O35: =M35+N35 -> 357000
B36: 2.4 | C36: Dispensador digital, marca BOECO, modelo GRADUADA, número de serie 11G46065, sin número de placa, rango: 0 mL a 5 mL, escala 0,1 mL. | D36: 548900 | E36: =19%*D36 -> 104291 | F36: =D36+E36 -> 653191 | G36: 270000 | H36: =19%*G36 -> 51300 | I36: =G36+H36 -> 321300 | J36: 120000 | K36: =19%*J36 -> 22800 | L36: =J36+K36 -> 142800 | M36: 300000 | N36: =19%*M36 -> 57000 | O36: =M36+N36 -> 357000
B37: 2.5 | C37: Dispensador digital, marca BRAND, sin modelo, número de serie 07H42328, sin número de placa, rango: 0 mL - 5 mL, escala 0,1 mL. | D37: 548900 | E37: =19%*D37 -> 104291 | F37: =D37+E37 -> 653191 | G37: 270000 | H37: =19%*G37 -> 51300 | I37: =G37+H37 -> 321300 | J37: 120000 | K37: =19%*J37 -> 22800 | L37: =J37+K37 -> 142800 | M37: 300000 | N37: =19%*M37 -> 57000 | O37: =M37+N37 -> 357000
B38: 2.6 | C38: 2 Dispensadores digitales, marca Brand, modelo Dispensette III, número de serie 01H62412, sin número de placa, rango: 0 mL - 25 mL, escala 1 mL. | D38: 548900 | E38: =19%*D38 -> 104291 | F38: =(D38+E38)*2 -> 1306382 | G38: 270000 | H38: =19%*G38 -> 51300 | I38: =(G38+H38)*2 -> 642600 | J38: 120000 | K38: =19%*J38 -> 22800 | L38: =(J38+K38)*2 -> 285600 | M38: 300000 | N38: =19%*M38 -> 57000 | O38: =(M38+N38)*2 -> 714000
B39: 2.7 | C39: Dispensador digital, marca Brand, modelo Dispensette III, número de serie 04J79843, sin número de placa, rango: 0 mL - 25 mL, escala 1mL. | D39: 548900 | E39: =19%*D39 -> 104291 | F39: =D39+E39 -> 653191 | G39: 270000 | H39: =19%*G39 -> 51300 | I39: =G39+H39 -> 321300 | J39: 120000 | K39: =19%*J39 -> 22800 | L39: =J39+K39 -> 142800 | M39: 300000 | N39: =19%*M39 -> 57000 | O39: =M39+N39 -> 357000
B40: 2.8 | C40: 2 Dispensadores digitales, marca Brand, modelo Dispensette, número de serie 09N57029, sin número de placa, rango: 0 mL - 50 mL, escala 1 mL. | D40: 548900 | E40: =19%*D40 -> 104291 | F40: =(D40+E40)*2 -> 1306382 | G40: 270000 | H40: =19%*G40 -> 51300 | I40: =(G40+H40)*2 -> 642600 | J40: 120000 | K40: =19%*J40 -> 22800 | L40: =(J40+K40)*2 -> 285600 | M40: 300000 | N40: =19%*M40 -> 57000 | O40: =(M40+N40)*2 -> 714000
B41: 2.9 | C41: Dispensador digital, marca Brand, modelo Dispensette S, número de serie 09N57028, sin número de placa, rango: 0 mL - 50 mL, escala 1 mL. | D41: 548900 | E41: =19%*D41 -> 104291 | F41: =D41+E41 -> 653191 | G41: 270000 | H41: =19%*G41 -> 51300 | I41: =G41+H41 -> 321300 | J41: 120000 | K41: =19%*J41 -> 22800 | L41: =J41+K41 -> 142800 | M41: 300000 | N41: =19%*M41 -> 57000 | O41: =M41+N41 -> 357000
B42: 2.10 | C42: Dispensador digital, marca Brand, modelo Dispensette III, número de serie 04H07339, sin número de placa, rango: 1 ml - 10 ml. | D42: 548900 | E42: =19%*D42 -> 104291 | F42: =D42+E42 -> 653191 | G42: 270000 | H42: =19%*G42 -> 51300 | I42: =G42+H42 -> 321300 | J42: 120000 | K42: =19%*J42 -> 22800 | L42: =J42+K42 -> 142800 | M42: 300000 | N42: =19%*M42 -> 57000 | O42: =M42+N42 -> 357000
B43: 2.11 | C43: Dispensador digital, marca Hirschmann, modelo EM DISPENSER PP, con número de serie 6404053, sin número de placa, rango: 10 ml - 60 ml. | D43: 548900 | E43: =19%*D43 -> 104291 | F43: =D43+E43 -> 653191 | G43: 270000 | H43: =19%*G43 -> 51300 | I43: =G43+H43 -> 321300 | J43: 120000 | K43: =19%*J43 -> 22800 | L43: =J43+K43 -> 142800 | M43: 300000 | N43: =19%*M43 -> 57000 | O43: =M43+N43 -> 357000
B44: 2.12 | C44: Dispensador digital, marca Hirschmann, modelo CERAMUS, con número de serie 14001085, sin número de placa, rango: 2 ml - 10 ml. | D44: 548900 | E44: =19%*D44 -> 104291 | F44: =D44+E44 -> 653191 | G44: 270000 | H44: =19%*G44 -> 51300 | I44: =G44+H44 -> 321300 | J44: 120000 | K44: =19%*J44 -> 22800 | L44: =J44+K44 -> 142800 | M44: 300000 | N44: =19%*M44 -> 57000 | O44: =M44+N44 -> 357000
B45: 2.13 | C45: Dispensador digital, marca DLAB, modelo DispensMate, con número de serie GB221AG0000019, sin número de placa, rango: 1 ml - 10 ml. | D45: 548900 | E45: =19%*D45 -> 104291 | F45: =D45+E45 -> 653191 | G45: 270000 | H45: =19%*G45 -> 51300 | I45: =G45+H45 -> 321300 | J45: 120000 | K45: =19%*J45 -> 22800 | L45: =J45+K45 -> 142800 | M45: 300000 | N45: =19%*M45 -> 57000 | O45: =M45+N45 -> 357000
...

Sheet LOTE 4(Cab Flujo)
B2: ESTUDIO DE MERCADO PROCESO CONTRACTUAL: PRESTACIÓN DEL SERVICIO DE CALIBRACIÓN ACREDITADA DE EQUIPOS E INSTRUMENTOS NO EXCLUSIVOS DEL LABORATORIO NACIONAL DE SUELOS. CIFRAS EN COP $
B4: LOTE No. 4. Calificación para dos (2) cabinas de flujo laminar.
B6: ITEM | C6: DESCRIPCIÓN | D6: PROVEEDOR: | E6: COMPAÑÍA NACIONAL DE METROLOGIA SAS | G6: PROVEEDOR: | H6: UNION METROLOGICA LTDA | J6: PROVEEDOR:
D7: COTIZACIÓN No. | G7: COTIZACIÓN No. | H7: 0076-23T | J7: COTIZACIÓN No.
D8: VALOR UNITARIO ANTES DE IVA ($) | E8: IVA ($) | F8: VALOR TOTAL IVA INCLUIDO ($) | G8: VALOR UNITARIO ANTES DE IVA ($) | H8: IVA ($) | I8: VALOR TOTAL IVA INCLUIDO ($) | J8: VALOR UNITARIO ANTES DE IVA ($) | K8: IVA ($) | L8: VALOR TOTAL IVA INCLUIDO ($)
B9: Calificación con una velocidad de aire de 0,475 m/s, (90 fpm) según norma vigente y certificada para (2) cabinas de flujo laminar:
B10: 1 | C10: Cabina de Flujo Laminar, marca BASSAIRE, modelo 04HB, número de serie OH16904 HB, número de placa IGAC 10302. | D10: 1320000 | E10: =19%*D10 -> 250800 | F10: =D10+E10 -> 1570800 | G10: 600000 | H10: =19%*G10 -> 114000 | I10: =G10+H10 -> 714000 | K10: =19%*J10 -> 0 | L10: =J10+K10 -> 0
B11: 2 | C11: Cabina de Flujo laminar, marca Streamline, modelo SHC4A2, número de serie 2013-77362, número de placa IGAC 40902. | D11: 1320000 | E11: =19%*D11 -> 250800 | F11: =D11+E11 -> 1570800 | G11: 600000 | H11: =19%*G11 -> 114000 | I11: =G11+H11 -> 714000 | K11: =19%*J11 -> 0 | L11: =J11+K11 -> 0
B12: VALOR TOTAL DEL LOTE (COP$) | D12: VALOR TOTAL LOTE ANTES DE IVA | F12: =SUM(D10:D11) -> 2640000 | G12: VALOR TOTAL LOTE ANTES DE IVA | I12: =SUM(G10:G11) -> 1200000 | J12: VALOR TOTAL LOTE ANTES DE IVA | L12: =SUM(J10:J11) -> 0
D13: IVA (19%) | F13: =SUM(E10:E11) -> 501600 | G13: IVA (19%) | I13: =SUM(H10:H11) -> 228000 | J13: IVA (19%) | L13: =SUM(K10:K11) -> 0
D14: VALOR TOTAL LOTE CON IVA | F14: =SUM(F12:F13) -> 3141600 | G14: VALOR TOTAL LOTE CON IVA | I14: =SUM(I12:I13) -> 1428000 | J14: VALOR TOTAL LOTE CON IVA | L14: =SUM(L12:L13) -> 0

Sheet LOTE 5(Balanzas)
B2: ESTUDIO DE MERCADO PROCESO CONTRACTUAL: PRESTACIÓN DEL SERVICIO DE CALIBRACIÓN ACREDITADA DE EQUIPOS E INSTRUMENTOS NO EXCLUSIVOS DEL LABORATORIO NACIONAL DE SUELOS. CIFRAS EN COP $
B4: LOTE No. 5. Calibración certificada para seis (6) balanzas y una (1) báscula.
B6: ITEM | C6: DESCRIPCIÓN | D6: PROVEEDOR: | E6: COMPAÑÍA NACIONAL DE METROLOGIA SAS | G6: PROVEEDOR: | H6: METRILAB LTDA | J6: PROVEEDOR: | K6: INDUSTRIA Y METROLOGIA LTDA | M6: PROVEEDOR: | N6: DETECTO DE COLOMBIA LTDA | P6: PROVEEDOR: | Q6: UNION METROLOGICA LTDA | S6: PROVEEDOR: | T6: METROLOGIA Y CALIBRACION METROCAL LTDA | V6: PROVEEDOR: | W6: CELCIUS METROLOGIA
D7: COTIZACIÓN No. | G7: COTIZACIÓN No. | J7: COTIZACIÓN No. | M7: COTIZACIÓN No. | P7: COTIZACIÓN No. | Q7: 0076-23T | S7: COTIZACIÓN No. | T7: C-1-231012 | V7: COTIZACIÓN No. | W7: 5083910320
D8: VALOR UNITARIO ANTES DE IVA ($) | E8: IVA ($) | F8: VALOR TOTAL IVA INCLUIDO ($) | G8: VALOR UNITARIO ANTES DE IVA ($) | H8: IVA ($) | I8: VALOR TOTAL IVA INCLUIDO ($) | J8: VALOR UNITARIO ANTES DE IVA ($) | K8: IVA ($) | L8: VALOR TOTAL IVA INCLUIDO ($) | M8: VALOR UNITARIO ANTES DE IVA ($) | N8: IVA ($) | O8: VALOR TOTAL IVA INCLUIDO ($) | P8: VALOR UNITARIO ANTES DE IVA ($) | Q8: IVA ($) | R8: VALOR TOTAL IVA INCLUIDO ($) | S8: VALOR UNITARIO ANTES DE IVA ($) | T8: IVA ($) | U8: VALOR TOTAL IVA INCLUIDO ($) | V8: VALOR UNITARIO ANTES DE IVA ($) | W8: IVA ($) | X8: VALOR TOTAL IVA INCLUIDO ($)
B9: ITEM 1.Calibración certificada bajo la ISO 17025:2017 de balanzas con las siguientes pruebas: Excentricidad, Exactitud o prueba de errores de indicación y repetibilidad. De acuerdo con la guía SIM:2009/MWG7/cg-01/v.00 “Guía para la calibración de los instrumentos para pesar de funcionamiento no automático” para calibración certificada de seis (6) balanzas:
B10: 1 | C10: Balanza precisión, marca Ohaus, modelo E16120, número de serie: B028003097, número de placa: 22480, con rango de: 0,01 gr a 620 gr, con lectura mínima de: 0,01 g | D10: 722000 | E10: =19%*D10 -> 137180 | F10: =D10+E10 -> 859180 | G10: 388340 | H10: =19%*G10 -> 73784.6 | I10: =G10+H10 -> 462124.6 | J10: 354750 | K10: =19%*J10 -> 67402.5 | L10: =J10+K10 -> 422152.5 | M10: 250000 | N10: =19%*M10 -> 47500 | O10: =M10+N10 -> 297500 | P10: 340000 | Q10: =19%*P10 -> 64600 | R10: =P10+Q10 -> 404600 | S10: 610000 | T10: =19%*S10 -> 115900 | U10: =S10+T10 -> 725900 | V10: 129360 | W10: =19%*V10 -> 24578.4 | X10: =V10+W10 -> 153938.4
B11: 2 | C11: Balanza analítica, marca Ohaus, modelo AR1530, número de serie: H29712032300594P, número de placa 23358, con rango de: 0,001 gr a 310 gr, con lectura mínima de: 0,001 gr. | D11: 734100 | E11: =19%*D11 -> 139479 | F11: =D11+E11 -> 873579 | G11: 388340 | H11: =19%*G11 -> 73784.6 | I11: =G11+H11 -> 462124.6 | J11: 354750 | K11: =19%*J11 -> 67402.5 | L11: =J11+K11 -> 422152.5 | M11: 250000 | N11: =19%*M11 -> 47500 | O11: =M11+N11 -> 297500 | P11: 340000 | Q11: =19%*P11 -> 64600 | R11: =P11+Q11 -> 404600 | S11: 610000 | T11: =19%*S11 -> 115900 | U11: =S11+T11 -> 725900 | V11: 129360 | W11: =19%*V11 -> 24578.4 | X11: =V11+W11 -> 153938.4
B12: 3 | C12: Balanza analítica, marca Denver, modelo PI214, número de serie 180239, número de placa 28872, con rango de: 0,0001 gr a 210 gr, con lectura mínima de: 0,0001 g | D12: 821000 | E12: =19%*D12 -> 155990 | F12: =D12+E12 -> 976990 | G12: 607837 | H12: =19%*G12 -> 115489.03 | I12: =G12+H12 -> 723326.03 | J12: 354750 | K12: =19%*J12 -> 67402.5 | L12: =J12+K12 -> 422152.5 | M12: 250000 | N12: =19%*M12 -> 47500 | O12: =M12+N12 -> 297500 | P12: 420000 | Q12: =19%*P12 -> 79800 | R12: =P12+Q12 -> 499800 | S12: 610000 | T12: =19%*S12 -> 115900 | U12: =S12+T12 -> 725900 | V12: 193760 | W12: =19%*V12 -> 36814.4 | X12: =V12+W12 -> 230574.4
B13: 4 | C13: Balanza, Marca Sartorius, Modelo MSE224S-100-DU, número de Serie 27302826, sin número de placa, con rango de: 0 a 220g, con lectura mínima de: 0,0001g | D13: 821000 | E13: =19%*D13 -> 155990 | F13: =D13+E13 -> 976990 | G13: 607837 | H13: =19%*G13 -> 115489.03 | I13: =G13+H13 -> 723326.03 | J13: 354750 | K13: =19%*J13 -> 67402.5 | L13: =J13+K13 -> 422152.5 | M13: 250000 | N13: =19%*M13 -> 47500 | O13: =M13+N13 -> 297500 | P13: 420000 | Q13: =19%*P13 -> 79800 | R13: =P13+Q13 -> 499800 | S13: 610000 | T13: =19%*S13 -> 115900 | U13: =S13+T13 -> 725900 | V13: 197360 | W13: =19%*V13 -> 37498.4 | X13: =V13+W13 -> 234858.4
B14: 5 | C14: Balanza, Marca LECO, Modelo 751-300, número de serie 4309, sin número de placa, con rango de: 0 a 120g, con lectura mínima de: 0,0001g | D14: 821000 | E14: =19%*D14 -> 155990 | F14: =D14+E14 -> 976990 | G14: 607837 | H14: =19%*G14 -> 115489.03 | I14: =G14+H14 -> 723326.03 | J14: 354750 | K14: =19%*J14 -> 67402.5 | L14: =J14+K14 -> 422152.5 | M14: 250000 | N14: =19%*M14 -> 47500 | O14: =M14+N14 -> 297500 | P14: 650000 | Q14: =19%*P14 -> 123500 | R14: =P14+Q14 -> 773500 | S14: 610000 | T14: =19%*S14 -> 115900 | U14: =S14+T14 -> 725900 | V14: 129360 | W14: =19%*V14 -> 24578.4 | X14: =V14+W14 -> 153938.4
B15: 6 | C15: Balanza, Marca Sartorius, Modelo CPA124S-MOD, número de serie 29253280, sin número de placa, con rango de: 0 a 120g, con lectura mínima de: 0,01g | D15: 722000 | E15: =19%*D15 -> 137180 | F15: =D15+E15 -> 859180 | G15: 607837 | H15: =19%*G15 -> 115489.03 | I15: =G15+H15 -> 723326.03 | J15: 354750 | K15: =19%*J15 -> 67402.5 | L15: =J15+K15 -> 422152.5 | M15: 250000 | N15: =19%*M15 -> 47500 | O15: =M15+N15 -> 297500 | P15: 340000 | Q15: =19%*P15 -> 64600 | R15: =P15+Q15 -> 404600 | S15: 610000 | T15: =19%*S15 -> 115900 | U15: =S15+T15 -> 725900 | V15: 123360 | W15: =19%*V15 -> 23438.4 | X15: =V15+W15 -> 146798.4
B16: ITEM 2. Calibración certificada bajo la ISO 17025:2017 de una báscula con las siguientes pruebas: Excentricidad, Exactitud o prueba de errores de indicación y receptibilidad. De acuerdo con la guía SIM:2009/MWG7/cg-01/v.00 “Guía para la calibración de los instrumentos para pesar de funcionamiento no automático”.
B17: 1 | C17: Bascula, marca BBG, sin modelo, sin número de serie, número de placa 96414, con un rango de 300 Kg y una lectura mínima de 100 gr. | D17: 683000 | E17: =19%*D17 -> 129770 | F17: =D17+E17 -> 812770 | G17: 388340 | H17: =19%*G17 -> 73784.6 | I17: =G17+H17 -> 462124.6 | J17: 354750 | K17: =19%*J17 -> 67402.5 | L17: =J17+K17 -> 422152.5 | M17: 550000 | N17: =19%*M17 -> 104500 | O17: =M17+N17 -> 654500 | P17: 690000 | Q17: =19%*P17 -> 131100 | R17: =P17+Q17 -> 821100 | S17: 620450 | T17: =19%*S17 -> 117885.5 | U17: =S17+T17 -> 738335.5 | V17: 322560 | W17: =19%*V17 -> 61286.4 | X17: =V17+W17 -> 383846.4
B18: VALOR TOTAL DEL LOTE (COP$) | D18: VALOR TOTAL LOTE ANTES DE IVA | F18: =SUM(D10:D15)+D17 -> 5324100 | G18: VALOR TOTAL LOTE ANTES DE IVA | I18: =SUM(G10:G15)+G17 -> 3596368 | J18: VALOR TOTAL LOTE ANTES DE IVA | L18: =SUM(J10:J15)+J17 -> 2483250 | M18: VALOR TOTAL LOTE ANTES DE IVA | O18: =SUM(M10:M15)+M17 -> 2050000 | P18: VALOR TOTAL LOTE ANTES DE IVA | R18: =SUM(P10:P15)+P17 -> 3200000 | S18: VALOR TOTAL LOTE ANTES DE IVA | U18: =SUM(S10:S15)+S17 -> 4280450 | V18: VALOR TOTAL LOTE ANTES DE IVA | X18: =SUM(V10:V15)+V17 -> 1225120
D19: IVA (19%) | F19: =SUM(E10:E15)+E17 -> 1011579 | G19: IVA (19%) | I19: =SUM(H10:H15)+H17 -> 683309.92 | J19: IVA (19%) | L19: =SUM(K10:K15)+K17 -> 471817.5 | M19: IVA (19%) | O19: =SUM(N10:N15)+N17 -> 389500 | P19: IVA (19%) | R19: =SUM(Q10:Q15)+Q17 -> 608000 | S19: IVA (19%) | U19: =SUM(T10:T15)+T17 -> 813285.5 | V19: IVA (19%) | X19: =SUM(W10:W15)+W17 -> 232772.8
D20: VALOR TOTAL LOTE CON IVA | F20: =SUM(F18:F19) -> 6335679 | G20: VALOR TOTAL LOTE CON IVA | I20: =SUM(I18:I19) -> 4279677.9 | J20: VALOR TOTAL LOTE CON IVA | L20: =SUM(L18:L19) -> 2955067.5 | M20: VALOR TOTAL LOTE CON IVA | O20: =SUM(O18:O19) -> 2439500 | P20: VALOR TOTAL LOTE CON IVA | R20: =SUM(R18:R19) -> 3808000 | S20: VALOR TOTAL LOTE CON IVA | U20: =SUM(U18:U19) -> 5093735.5 | V20: VALOR TOTAL LOTE CON IVA | X20: =SUM(X18:X19) -> 1457892.8

Sheet LOTE 6(Hidrometros)
B2: ESTUDIO DE MERCADO PROCESO CONTRACTUAL: PRESTACIÓN DEL SERVICIO DE CALIBRACIÓN ACREDITADA DE EQUIPOS E INSTRUMENTOS NO EXCLUSIVOS DEL LABORATORIO NACIONAL DE SUELOS. CIFRAS EN COP $
B4: LOTE No. 6. Calibración certificada para cinco (5) hidrómetros.
B6: ITEM | C6: DESCRIPCIÓN | D6: PROVEEDOR: | E6: COMPAÑÍA NACIONAL DE METROLOGIA SAS | G6: PROVEEDOR: | H6: UNION METROLOGICA LTDA | J6: PROVEEDOR: | M6: PROVEEDOR:
D7: COTIZACIÓN No. | G7: COTIZACIÓN No. | H7: 0076-23T | J7: COTIZACIÓN No. | M7: COTIZACIÓN No.
D8: VALOR UNITARIO ANTES DE IVA ($) | E8: IVA ($) | F8: VALOR TOTAL IVA INCLUIDO ($) | G8: VALOR UNITARIO ANTES DE IVA ($) | H8: IVA ($) | I8: VALOR TOTAL IVA INCLUIDO ($) | J8: VALOR UNITARIO ANTES DE IVA ($) | K8: IVA ($) | L8: VALOR TOTAL IVA INCLUIDO ($) | M8: VALOR UNITARIO ANTES DE IVA ($) | N8: IVA ($) | O8: VALOR TOTAL IVA INCLUIDO ($)
B9: ITEM 1. Calibración del parámetro acreditado, densidad para hidrómetros, en 4 puntos: -5, 0, 30 y 60 g/L bajo la ISO 17025:2017, para:
B10: 1 | C10: Hidrómetro, Marca chase, Modelo 152H, Max Rango: -5 a 60 g/L, temperatura 68°F, número de serie145197, sin número de placa. | D10: 546000 | E10: =19%*D10 -> 103740 | F10: =D10+E10 -> 649740 | G10: 310000 | H10: =19%*G10 -> 58900 | I10: =G10+H10 -> 368900 | K10: =19%*J10 -> 0 | L10: =J10+K10 -> 0 | N10: =19%*M10 -> 0 | O10: =M10+N10 -> 0
B11: 2 | C11: Hidrómetro, Marca chase, Modelo 152H, Max Rango: -5 a 60 g/L, temperatura 68°F, número de serie145393, sin número de placa. | D11: 546000 | E11: =19%*D11 -> 103740 | F11: =D11+E11 -> 649740 | G11: 310000 | H11: =19%*G11 -> 58900 | I11: =G11+H11 -> 368900 | K11: =19%*J11 -> 0 | L11: =J11+K11 -> 0 | N11: =19%*M11 -> 0 | O11: =M11+N11 -> 0
B12: 3 | C12: Hidrómetro, Marca Eijkelkamp, Modelo 152H, Max Rango: -5 a 60 g/L, temperatura 68°F, número de serie 12459210, sin número de placa. | D12: 546000 | E12: =19%*D12 -> 103740 | F12: =D12+E12 -> 649740 | G12: 310000 | H12: =19%*G12 -> 58900 | I12: =G12+H12 -> 368900 | K12: =19%*J12 -> 0 | L12: =J12+K12 -> 0 | N12: =19%*M12 -> 0 | O12: =M12+N12 -> 0
B13: 4 | C13: Hidrómetro, Marca Fisher scientific Co, Modelo 152H, Max Rango: -5 a 60 g/L, temperatura 68°F, número de serie 87903, sin número de placa. | D13: 546000 | E13: =19%*D13 -> 103740 | F13: =D13+E13 -> 649740 | G13: 310000 | H13: =19%*G13 -> 58900 | I13: =G13+H13 -> 368900 | K13: =19%*J13 -> 0 | L13: =J13+K13 -> 0 | N13: =19%*M13 -> 0 | O13: =M13+N13 -> 0
B14: 5 | C14: Hidrómetro, Marca Chase -5/60, Modelo ASTM 152H, Max Rango: -5 a 60 g/L, temperatura 68°F, número de serie 145109, sin número de placa. | D14: 546000 | E14: =19%*D14 -> 103740 | F14: =D14+E14 -> 649740 | G14: 310000 | H14: =19%*G14 -> 58900 | I14: =G14+H14 -> 368900 | K14: =19%*J14 -> 0 | L14: =J14+K14 -> 0 | N14: =19%*M14 -> 0 | O14: =M14+N14 -> 0
B15: VALOR TOTAL DEL LOTE (COP$) | D15: VALOR TOTAL LOTE ANTES DE IVA | F15: =SUM(D10:D14) -> 2730000 | G15: VALOR TOTAL LOTE ANTES DE IVA | I15: =SUM(G10:G14) -> 1550000 | J15: VALOR TOTAL LOTE ANTES DE IVA | L15: =SUM(J10:J14) -> 0 | M15: VALOR TOTAL LOTE ANTES DE IVA | O15: =SUM(M10:M14) -> 0
D16: IVA (19%) | F16: =SUM(E10:E14) -> 518700 | G16: IVA (19%) | I16: =SUM(H10:H14) -> 294500 | J16: IVA (19%) | L16: =SUM(K10:K14) -> 0 | M16: IVA (19%) | O16: =SUM(N10:N14) -> 0
D17: VALOR TOTAL LOTE CON IVA | F17: =SUM(F15:F16) -> 3248700 | G17: VALOR TOTAL LOTE CON IVA | I17: =SUM(I15:I16) -> 1844500 | J17: VALOR TOTAL LOTE CON IVA | L17: =SUM(L15:L16) -> 0 | M17: VALOR TOTAL LOTE CON IVA | O17: =SUM(O15:O16) -> 0

Sheet LOTE 7(termohigr y termometros)
B2: ESTUDIO DE MERCADO PROCESO CONTRACTUAL: PRESTACIÓN DEL SERVICIO DE CALIBRACIÓN ACREDITADA DE EQUIPOS E INSTRUMENTOS NO EXCLUSIVOS DEL LABORATORIO NACIONAL DE SUELOS. CIFRAS EN COP $
B4: LOTE No. 7. Calibración certificada para diez (10) termohigrómetros y dos (2) termómetros de inmersión.
B6: ITEM | C6: DESCRIPCIÓN | D6: PROVEEDOR: | E6: COMPAÑÍA NACIONAL DE METROLOGIA SAS | G6: PROVEEDOR: | H6: METROLOGIC COLOMBIA SAS | J6: PROVEEDOR: | K6: INDUSTRIA Y METROLOGIA LTDA | M6: PROVEEDOR: | N6: UNION METROLOGICA LTDA | P6: PROVEEDOR: | Q6: CELCIUS METROLOGIA
D7: COTIZACIÓN No. | G7: COTIZACIÓN No. | J7: COTIZACIÓN No. | M7: COTIZACIÓN No. | N7: 0076-23T | P7: COTIZACIÓN No. | Q7: 5083910320
D8: VALOR UNITARIO ANTES DE IVA ($) | E8: IVA ($) | F8: VALOR TOTAL IVA INCLUIDO ($) | G8: VALOR UNITARIO ANTES DE IVA ($) | H8: IVA ($) | I8: VALOR TOTAL IVA INCLUIDO ($) | J8: VALOR UNITARIO ANTES DE IVA ($) | K8: IVA ($) | L8: VALOR TOTAL IVA INCLUIDO ($) | M8: VALOR UNITARIO ANTES DE IVA ($) | N8: IVA ($) | O8: VALOR TOTAL IVA INCLUIDO ($) | P8: VALOR UNITARIO ANTES DE IVA ($) | Q8: IVA ($) | R8: VALOR TOTAL IVA INCLUIDO ($)
B9: ITEM 1. Calibración certificada bajo norma nacional o internacional para diez (10) termohigrometros, en dos variables: temperatura (°C), para 3 puntos: 5°C, 20°C y 50°C, Humedad relativa (%), para 3 puntos: 20%, 50% y 90%.:
B10: 1 .1 | C10: Termóhigrometro digital, Marca Control Company, modelo 4154, Rango: T: - 50 °C a 70°C y H% de 10% a 99%, serie 101949516, sin número de placa. | D10: 698500 | E10: =19%*D10 -> 132715 | F10: =D10+E10 -> 831215 | G10: 280000 | H10: =19%*G10 -> 53200 | I10: =G10+H10 -> 333200 | J10: 320000 | K10: =19%*J10 -> 60800 | L10: =J10+K10 -> 380800 | M10: 320000 | N10: =19%*M10 -> 60800 | O10: =M10+N10 -> 380800 | P10: 160160 | Q10: =19%*P10 -> 30430.4 | R10: =P10+Q10 -> 190590.4
B11: 1.2 | C11: Termóhigrometro digital, Marca Control Company, modelo 21800-066, Rango: T: - 50 °C a 70°C y H% de 10% a 99%, serie 101824390, sin número de placa. | D11: 698500 | E11: =19%*D11 -> 132715 | F11: =D11+E11 -> 831215 | G11: 280000 | H11: =19%*G11 -> 53200 | I11: =G11+H11 -> 333200 | J11: 320000 | K11: =19%*J11 -> 60800 | L11: =J11+K11 -> 380800 | M11: 320000 | N11: =19%*M11 -> 60800 | O11: =M11+N11 -> 380800 | P11: 160160 | Q11: =19%*P11 -> 30430.4 | R11: =P11+Q11 -> 190590.4
B12: 1.3 | C12: Termóhigrometro digital, Marca HTC-2, sin modelo, Rango: T: - 50 °C a 70°C y H% de 10% a 99%, sin número de serie, número de placa 101310. | D12: 698500 | E12: =19%*D12 -> 132715 | F12: =D12+E12 -> 831215 | G12: 280000 | H12: =19%*G12 -> 53200 | I12: =G12+H12 -> 333200 | J12: 320000 | K12: =19%*J12 -> 60800 | L12: =J12+K12 -> 380800 | M12: 320000 | N12: =19%*M12 -> 60800 | O12: =M12+N12 -> 380800 | P12: 160160 | Q12: =19%*P12 -> 30430.4 | R12: =P12+Q12 -> 190590.4
B13: 1.4 | C13: Termóhigrometro digital, Marca HTC-2, sin modelo, Rango: T: - 50 °C a 70 °C y H% de 10% a 99%, sin número de serie, número de placa 101311. | D13: 698500 | E13: =19%*D13 -> 132715 | F13: =D13+E13 -> 831215 | G13: 280000 | H13: =19%*G13 -> 53200 | I13: =G13+H13 -> 333200 | J13: 320000 | K13: =19%*J13 -> 60800 | L13: =J13+K13 -> 380800 | M13: 320000 | N13: =19%*M13 -> 60800 | O13: =M13+N13 -> 380800 | P13: 160160 | Q13: =19%*P13 -> 30430.4 | R13: =P13+Q13 -> 190590.4
B14: 1.5 | C14: Termóhigrometro digital, Marca HTC-2, sin modelo, Rango: T: - 50 °C a 70 °C y H% de 10% a 99%, sin número de serie, número de placa 101312. | D14: 698500 | E14: =19%*D14 -> 132715 | F14: =D14+E14 -> 831215 | G14: 280000 | H14: =19%*G14 -> 53200 | I14: =G14+H14 -> 333200 | J14: 320000 | K14: =19%*J14 -> 60800 | L14: =J14+K14 -> 380800 | M14: 320000 | N14: =19%*M14 -> 60800 | O14: =M14+N14 -> 380800 | P14: 160160 | Q14: =19%*P14 -> 30430.4 | R14: =P14+Q14 -> 190590.4
B15: 1.6 | C15: Termóhigrometro digital, Marca HTC-2, sin modelo, Rango: T: - 50 °C a 70 °C y H% de 10% a 99%, sin número de serie, número de placa 101313. | D15: 698500 | E15: =19%*D15 -> 132715 | F15: =D15+E15 -> 831215 | G15: 280000 | H15: =19%*G15 -> 53200 | I15: =G15+H15 -> 333200 | J15: 320000 | K15: =19%*J15 -> 60800 | L15: =J15+K15 -> 380800 | M15: 320000 | N15: =19%*M15 -> 60800 | O15: =M15+N15 -> 380800 | P15: 160160 | Q15: =19%*P15 -> 30430.4 | R15: =P15+Q15 -> 190590.4
B16: 1.7 | C16: Termóhigrometro digital, Marca Control Company, modelo 4125, Rango: T: - 50 °C a 70°C y H% de 10% a 99%, serie 101949546, sin número de placa. | D16: 698500 | E16: =19%*D16 -> 132715 | F16: =D16+E16 -> 831215 | G16: 280000 | H16: =19%*G16 -> 53200 | I16: =G16+H16 -> 333200 | J16: 320000 | K16: =19%*J16 -> 60800 | L16: =J16+K16 -> 380800 | M16: 320000 | N16: =19%*M16 -> 60800 | O16: =M16+N16 -> 380800 | P16: 160160 | Q16: =19%*P16 -> 30430.4 | R16: =P16+Q16 -> 190590.4
B17: 1.8 | C17: Termóhigrometro digital, Marca Control Company, modelo 21800-066, Rango: T: - 50 °C a 70°C y H% de 10% a 99%, serie101949557, sin número de placa. | D17: 698500 | E17: =19%*D17 -> 132715 | F17: =D17+E17 -> 831215 | G17: 280000 | H17: =19%*G17 -> 53200 | I17: =G17+H17 -> 333200 | J17: 320000 | K17: =19%*J17 -> 60800 | L17: =J17+K17 -> 380800 | M17: 320000 | N17: =19%*M17 -> 60800 | O17: =M17+N17 -> 380800 | P17: 160160 | Q17: =19%*P17 -> 30430.4 | R17: =P17+Q17 -> 190590.4
B18: 1.9 | C18: Termóhigrometro digital, Marca Control Company, modelo 21800-066, Rango: T: - 50 °C a 70°C y H% de 10% a 99%, serie 101949557, sin número de placa. | D18: 698500 | E18: =19%*D18 -> 132715 | F18: =D18+E18 -> 831215 | G18: 280000 | H18: =19%*G18 -> 53200 | I18: =G18+H18 -> 333200 | J18: 320000 | K18: =19%*J18 -> 60800 | L18: =J18+K18 -> 380800 | M18: 320000 | N18: =19%*M18 -> 60800 | O18: =M18+N18 -> 380800 | P18: 160160 | Q18: =19%*P18 -> 30430.4 | R18: =P18+Q18 -> 190590.4
B19: 1.10 | C19: Termóhigrometro digital, Marca Control Company, modelo 21800-066 Rango: T: - 50 °C a 70°C y H% de 10% a 99%, serie 101949524, sin número de placa. | D19: 698500 | E19: =19%*D19 -> 132715 | F19: =D19+E19 -> 831215 | G19: 280000 | H19: =19%*G19 -> 53200 | I19: =G19+H19 -> 333200 | J19: 320000 | K19: =19%*J19 -> 60800 | L19: =J19+K19 -> 380800 | M19: 320000 | N19: =19%*M19 -> 60800 | O19: =M19+N19 -> 380800 | P19: 160160 | Q19: =19%*P19 -> 30430.4 | R19: =P19+Q19 -> 190590.4
B20: ITEM 2. Calibración certificada de temperatura, en tres puntos: 15.0°C, 50°C y 80°C, d=0,1 °C, para dos (2) termómetros de inmersión:
B21: 2.1 | C21: Termómetro Digital, Marca Milwaukee, Modelo TH 300, Rango: -50 a 150°C número de serie 12345728, sin número de placa | D21: 975200 | E21: =19%*D21 -> 185288 | F21: =D21+E21 -> 1160488 | G21: 280000 | H21: =19%*G21 -> 53200 | I21: =G21+H21 -> 333200 | J21: 280000 | K21: =19%*J21 -> 53200 | L21: =J21+K21 -> 333200 | M21: 240000 | N21: =19%*M21 -> 45600 | O21: =M21+N21 -> 285600 | P21: 123200 | Q21: =19%*P21 -> 23408 | R21: =P21+Q21 -> 146608
B22: 2.2 | C22: Termómetro Digital, Marca Milwaukee, Modelo TH 300, Rango: -50 a 150°C número de serie 12345725, sin número de placa | D22: 975200 | E22: =19%*D22 -> 185288 | F22: =D22+E22 -> 1160488 | G22: 280000 | H22: =19%*G22 -> 53200 | I22: =G22+H22 -> 333200 | J22: 280000 | K22: =19%*J22 -> 53200 | L22: =J22+K22 -> 333200 | M22: 240000 | N22: =19%*M22 -> 45600 | O22: =M22+N22 -> 285600 | P22: 123200 | Q22: =19%*P22 -> 23408 | R22: =P22+Q22 -> 146608
B23: VALOR TOTAL DEL LOTE (COP$) | D23: VALOR TOTAL LOTE ANTES DE IVA | F23: =SUM(D10:D19)+SUM(D21:D22) -> 8935400 | G23: VALOR TOTAL LOTE ANTES DE IVA | I23: =SUM(G10:G19)+SUM(G21:G22) -> 3360000 | J23: VALOR TOTAL LOTE ANTES DE IVA | L23: =SUM(J10:J19)+SUM(J21:J22) -> 3760000 | M23: VALOR TOTAL LOTE ANTES DE IVA | O23: =SUM(M10:M19)+SUM(M21:M22) -> 3680000 | P23: VALOR TOTAL LOTE ANTES DE IVA | R23: =SUM(P10:P19)+SUM(P21:P22) -> 1848000
D24: IVA (19%) | F24: =SUM(E10:E19)+SUM(E21:E22) -> 1697726 | G24: IVA (19%) | I24: =SUM(H10:H19)+SUM(H21:H22) -> 638400 | J24: IVA (19%) | L24: =SUM(K10:K19)+SUM(K21:K22) -> 714400 | M24: IVA (19%) | O24: =SUM(N10:N19)+SUM(N21:N22) -> 699200 | P24: IVA (19%) | R24: =SUM(Q10:Q19)+SUM(Q21:Q22) -> 351120
D25: VALOR TOTAL LOTE CON IVA | F25: =SUM(F23:F24) -> 10633126 | G25: VALOR TOTAL LOTE CON IVA | I25: =SUM(I23:I24) -> 3998400 | J25: VALOR TOTAL LOTE CON IVA | L25: =SUM(L23:L24) -> 4474400 | M25: VALOR TOTAL LOTE CON IVA | O25: =SUM(O23:O24) -> 4379200 | P25: VALOR TOTAL LOTE CON IVA | R25: =SUM(R23:R24) -> 2199120

Sheet LOTE 8(termomet)
B2: ESTUDIO DE MERCADO PROCESO CONTRACTUAL: PRESTACIÓN DEL SERVICIO DE CALIBRACIÓN ACREDITADA DE EQUIPOS E INSTRUMENTOS NO EXCLUSIVOS DEL LABORATORIO NACIONAL DE SUELOS. CIFRAS EN COP $
B4: LOTE No. 8. Calibración certificada para diez (10) termómetros con sonda a frasco de glicol.
B6: ITEM | C6: DESCRIPCIÓN | D6: PROVEEDOR: | E6: COMPAÑÍA NACIONAL DE METROLOGIA SAS | G6: PROVEEDOR: | H6: UNION METROLOGICA LTDA | J6: PROVEEDOR: | K6: PINZUAR SAS | M6: PROVEEDOR: | P6: PROVEEDOR:
D7: COTIZACIÓN No. | E7: 23107 | G7: COTIZACIÓN No. | H7: 0046-23T | J7: COTIZACIÓN No. | K7: 4575 | M7: COTIZACIÓN No. | P7: COTIZACIÓN No.
D8: VALOR UNITARIO ANTES DE IVA ($) | E8: IVA ($) | F8: VALOR TOTAL IVA INCLUIDO ($) | G8: VALOR UNITARIO ANTES DE IVA ($) | H8: IVA ($) | I8: VALOR TOTAL IVA INCLUIDO ($) | J8: VALOR UNITARIO ANTES DE IVA ($) | K8: IVA ($) | L8: VALOR TOTAL IVA INCLUIDO ($) | M8: VALOR UNITARIO ANTES DE IVA ($) | N8: IVA ($) | O8: VALOR TOTAL IVA INCLUIDO ($) | P8: VALOR UNITARIO ANTES DE IVA ($) | Q8: IVA ($) | R8: VALOR TOTAL IVA INCLUIDO ($)
B9: ITEM 1. Calibración certificada de temperatura, en tres puntos: 5°C, 20°C y 50°C, para diez (10) termómetros con sonda a frasco de glicol.:
B10: 1 .1 | C10: Termómetro digital de inmersión con sonda a frasco de glicol, Marca control company, Modelo 4227, Rango: - 50 °C a 70 °C número de serie 170361799, sin número de placa. | D10: 721400 | E10: =19%*D10 -> 137066 | F10: =D10+E10 -> 858466 | G10: 400000 | H10: =19%*G10 -> 76000 | I10: =G10+H10 -> 476000 | J10: 350000 | K10: =19%*J10 -> 66500 | L10: =J10+K10 -> 416500 | N10: =19%*M10 -> 0 | O10: =M10+N10 -> 0 | Q10: =19%*P10 -> 0 | R10: =P10+Q10 -> 0
B11: 1.2 | C11: Termómetro digital de inmersión con sonda a frasco de glicol, Marca control company, Modelo 4227, Rango: - 50 °C a 70 °C número de serie, sin número de placa. | D11: 721400 | E11: =19%*D11 -> 137066 | F11: =D11+E11 -> 858466 | G11: 400000 | H11: =19%*G11 -> 76000 | I11: =G11+H11 -> 476000 | J11: 350000 | K11: =19%*J11 -> 66500 | L11: =J11+K11 -> 416500 | N11: =19%*M11 -> 0 | O11: =M11+N11 -> 0 | Q11: =19%*P11 -> 0 | R11: =P11+Q11 -> 0
B12: 1.3 | C12: Termómetro digital de inmersión con sonda a frasco de glicol, Marca control company, Modelo 4227, Rango: - 50 °C a 70 °C número de serie 170361805, sin número de placa. | D12: 721400 | E12: =19%*D12 -> 137066 | F12: =D12+E12 -> 858466 | G12: 400000 | H12: =19%*G12 -> 76000 | I12: =G12+H12 -> 476000 | J12: 350000 | K12: =19%*J12 -> 66500 | L12: =J12+K12 -> 416500 | N12: =19%*M12 -> 0 | O12: =M12+N12 -> 0 | Q12: =19%*P12 -> 0 | R12: =P12+Q12 -> 0
B13: 1.4 | C13: Termómetro digital de inmersión con sonda a frasco de glicol, Marca control company, Modelo 4227, Rango: - 50 °C a 70 °C número de serie 170590526, sin número de placa. | D13: 721400 | E13: =19%*D13 -> 137066 | F13: =D13+E13 -> 858466 | G13: 400000 | H13: =19%*G13 -> 76000 | I13: =G13+H13 -> 476000 | J13: 350000 | K13: =19%*J13 -> 66500 | L13: =J13+K13 -> 416500 | N13: =19%*M13 -> 0 | O13: =M13+N13 -> 0 | Q13: =19%*P13 -> 0 | R13: =P13+Q13 -> 0
B14: 1.5 | C14: Termómetro digital de inmersión con sonda a frasco de glicol, Marca control company, Modelo 4227, Rango: - 50 °C a 70 °C número de serie 170590518, sin número de placa. | D14: 721400 | E14: =19%*D14 -> 137066 | F14: =D14+E14 -> 858466 | G14: 400000 | H14: =19%*G14 -> 76000 | I14: =G14+H14 -> 476000 | J14: 350000 | K14: =19%*J14 -> 66500 | L14: =J14+K14 -> 416500 | N14: =19%*M14 -> 0 | O14: =M14+N14 -> 0 | Q14: =19%*P14 -> 0 | R14: =P14+Q14 -> 0
B15: 1.6 | C15: Termómetro digital de inmersión con sonda a frasco de glicol, Marca control company, Modelo 4227, Rango: - 50 °C a 70 °C número de serie 170590524, sin número de placa. | D15: 721400 | E15: =19%*D15 -> 137066 | F15: =D15+E15 -> 858466 | G15: 400000 | H15: =19%*G15 -> 76000 | I15: =G15+H15 -> 476000 | J15: 350000 | K15: =19%*J15 -> 66500 | L15: =J15+K15 -> 416500 | N15: =19%*M15 -> 0 | O15: =M15+N15 -> 0 | Q15: =19%*P15 -> 0 | R15: =P15+Q15 -> 0
B16: 1.7 | C16: Termómetro digital de inmersión con sonda a frasco de glicol, Marca control company, Modelo 4227, Rango: - 50 °C a 70 °C número de serie, sin número de placa. | D16: 721400 | E16: =19%*D16 -> 137066 | F16: =D16+E16 -> 858466 | G16: 400000 | H16: =19%*G16 -> 76000 | I16: =G16+H16 -> 476000 | J16: 350000 | K16: =19%*J16 -> 66500 | L16: =J16+K16 -> 416500 | N16: =19%*M16 -> 0 | O16: =M16+N16 -> 0 | Q16: =19%*P16 -> 0 | R16: =P16+Q16 -> 0
B17: 1.8 | C17: Termómetro digital de inmersión con sonda a frasco de glicol, Marca control company, Modelo 4227, Rango: - 50 °C a 70 °C número de serie, sin número de placa. | D17: 721400 | E17: =19%*D17 -> 137066 | F17: =D17+E17 -> 858466 | G17: 400000 | H17: =19%*G17 -> 76000 | I17: =G17+H17 -> 476000 | J17: 350000 | K17: =19%*J17 -> 66500 | L17: =J17+K17 -> 416500 | N17: =19%*M17 -> 0 | O17: =M17+N17 -> 0 | Q17: =19%*P17 -> 0 | R17: =P17+Q17 -> 0
B18: 1.9 | C18: Termómetro digital de inmersión con sonda a frasco de glicol, Marca control company, Modelo 4227, Rango: - 50 °C a 70 °C número de serie, sin número de placa. | D18: 721400 | E18: =19%*D18 -> 137066 | F18: =D18+E18 -> 858466 | G18: 400000 | H18: =19%*G18 -> 76000 | I18: =G18+H18 -> 476000 | J18: 350000 | K18: =19%*J18 -> 66500 | L18: =J18+K18 -> 416500 | N18: =19%*M18 -> 0 | O18: =M18+N18 -> 0 | Q18: =19%*P18 -> 0 | R18: =P18+Q18 -> 0
B19: 1.10 | C19: Termómetro digital de inmersión con sonda a frasco de glicol, Marca control company, Modelo 4227, Rango: - 50 °C a 70 °C número de serie, sin número de placa. | D19: 721400 | E19: =19%*D19 -> 137066 | F19: =D19+E19 -> 858466 | G19: 400000 | H19: =19%*G19 -> 76000 | I19: =G19+H19 -> 476000 | J19: 350000 | K19: =19%*J19 -> 66500 | L19: =J19+K19 -> 416500 | N19: =19%*M19 -> 0 | O19: =M19+N19 -> 0 | Q19: =19%*P19 -> 0 | R19: =P19+Q19 -> 0
B20: VALOR TOTAL DEL LOTE (COP$) | D20: VALOR TOTAL LOTE ANTES DE IVA | F20: =SUM(D10:D19) -> 7214000 | G20: VALOR TOTAL LOTE ANTES DE IVA | I20: =SUM(G10:G19) -> 4000000 | J20: VALOR TOTAL LOTE ANTES DE IVA | L20: =SUM(J10:J19) -> 3500000 | M20: VALOR TOTAL LOTE ANTES DE IVA | O20: =SUM(M10:M19) -> 0 | P20: VALOR TOTAL LOTE ANTES DE IVA | R20: =SUM(P10:P19) -> 0
D21: IVA (19%) | F21: =SUM(E10:E19) -> 1370660 | G21: IVA (19%) | I21: =SUM(H10:H19) -> 760000 | J21: IVA (19%) | L21: =SUM(K10:K19) -> 665000 | M21: IVA (19%) | O21: =SUM(N10:N19) -> 0 | P21: IVA (19%) | R21: =SUM(Q10:Q19) -> 0
D22: VALOR TOTAL LOTE CON IVA | F22: =SUM(F20:F21) -> 8584660 | G22: VALOR TOTAL LOTE CON IVA | I22: =SUM(I20:I21) -> 4760000 | J22: VALOR TOTAL LOTE CON IVA | L22: =SUM(L20:L21) -> 4165000 | M22: VALOR TOTAL LOTE CON IVA | O22: =SUM(O20:O21) -> 0 | P22: VALOR TOTAL LOTE CON IVA | R22: =SUM(R20:R21) -> 0

Sheet Seguimiento
A1: OBJETO: PRESTACIÓN DEL SERVICIO DE CALIBRACIÓN ACREDITADA DE EQUIPOS E INSTRUMENTOS NO EXCLUSIVOS DEL LABORATORIO NACIONAL DE SUELOS.
A2: LOTE | B2: DESCRIPCIÓN | C2: VALOR TOTAL CON IVA | M2: OBSERVACIONES | N2: PROMEDIO | O2: CONSOLIDACIÓNESTUDIO DE MERCADO
C3: ='LOTE 2(Hornos, Muflas, Nev, In)'!E6 -> COMPAÑÍA NACIONAL DE METROLOGIA SAS | D3: ='LOTE 1(Multiparametros)'!E6 -> METRILAB LTDA | E3: ='LOTE 2(Hornos, Muflas, Nev, In)'!H6 -> METROLOGIC COLOMBIA SAS | F3: ='LOTE 2(Hornos, Muflas, Nev, In)'!K6 -> INDUSTRIA Y METROLOGIA LTDA | G3: ='LOTE 3(Micro y Disp)'!K6 -> DETECTO DE COLOMBIA LTDA | H3: ='LOTE 2(Hornos, Muflas, Nev, In)'!N6 -> UNION METROLOGICA LTDA | I3: ='LOTE 5(Balanzas)'!T6 -> METROLOGIA Y CALIBRACION METROCAL LTDA | J3: ='LOTE 5(Balanzas)'!W6 -> CELCIUS METROLOGIA | K3: ='LOTE 8(termomet)'!K6 -> PINZUAR SAS | O3: No. DE COTIZACIONES | P3: PRECIO UNITARIO PROMEDIO IVA INCLUIDO | Q3: VALOR MINIMO | R3: VALOR MÁXIMO
A4: 1 | B4: ='LOTE 1(Multiparametros)'!B4 -> LOTE No. 1. Calibración certificada para un (1) multiparámetro (pH, Conductividad y medidor de iones). | D4: ='LOTE 1(Multiparametros)'!F13 -> 1071000 | H4: ='LOTE 1(Multiparametros)'!I13 -> 1071000 | M4: Metrilab Ltda. manifiesta que el alcance no cubre la calibración de medidor de iones, solo pH y conductividad. | N4: =AVERAGEIF(C4:L4,">0") -> 1071000 | O4: =COUNTA(C4,D4,E4,F4,G4,H4,I4,J4,K4,L4) -> 2 | P4: =AVERAGE(C4:L4) -> 1071000 | Q4: =MIN(C4:L4) -> 1071000 | R4: =MAX(C4:L4) -> 1071000
A5: 2 | B5: ='LOTE 2(Hornos, Muflas, Nev, In)'!B4 -> LOTE No. 2. Calibración certificada de ocho(8) hornos, dos (2) muflas, una (1) incubadora, un (1) baño termostatado. | C5: ='LOTE 2(Hornos, Muflas, Nev, In)'!F27 -> 15253420 | E5: ='LOTE 2(Hornos, Muflas, Nev, In)'!I27 -> 7247100 | F5: ='LOTE 2(Hornos, Muflas, Nev, In)'!L27 -> 9391480 | H5: ='LOTE 2(Hornos, Muflas, Nev, In)'!O27 -> 8984500 | N5: =AVERAGEIF(C5:L5,">0") -> 10219125 | O5: =COUNTA(C5,D5,E5,F5,G5,H5,I5,J5,K5,L5) -> 4 | P5: =AVERAGE(C5:L5) -> 10219125 | Q5: =MIN(C5:L5) -> 7247100 | R5: =MAX(C5:L5) -> 15253420
A6: 3 | B6: ='LOTE 3(Micro y Disp)'!B4 -> LOTE No. 3. Calibración certificada de instrumentos de volumetría variables para veintitres (23) micropipetas, dieciseis (16) dispensadores, dos (2) buretas digitales y doce (12) pipetas lowy. | C6: ='LOTE 3(Micro y Disp)'!F65 -> 34765017 | F6: ='LOTE 3(Micro y Disp)'!I65 -> 14787297 | G6: ='LOTE 3(Micro y Disp)'!L65 -> 7568400 | H6: ='LOTE 3(Micro y Disp)'!O65 -> 14470400 | N6: =AVERAGEIF(C6:L6,">0") -> 17897778 | O6: =COUNTA(C6,D6,E6,F6,G6,H6,I6,J6,K6,L6) -> 4 | P6: =AVERAGE(C6:L6) -> 17897778 | Q6: =MIN(C6:L6) -> 7568400 | R6: =MAX(C6:L6) -> 34765017
A7: 4 | B7: ='LOTE 4(Cab Flujo)'!B4 -> LOTE No. 4. Calificación para dos (2) cabinas de flujo laminar. | C7: ='LOTE 4(Cab Flujo)'!F14 -> 3141600 | H7: ='LOTE 4(Cab Flujo)'!I14 -> 1428000 | N7: =AVERAGEIF(C7:L7,">0") -> 2284800 | O7: =COUNTA(C7,D7,E7,F7,G7,H7,I7,J7,K7,L7) -> 2 | P7: =AVERAGE(C7:L7) -> 2284800 | Q7: =MIN(C7:L7) -> 1428000 | R7: =MAX(C7:L7) -> 3141600
A8: 5 | B8: ='LOTE 5(Balanzas)'!B4 -> LOTE No. 5. Calibración certificada para seis (6) balanzas y una (1) báscula. | C8: ='LOTE 5(Balanzas)'!F20 -> 6335679 | D8: ='LOTE 5(Balanzas)'!I20 -> 4279677.9 | F8: ='LOTE 5(Balanzas)'!L20 -> 2955067.5 | G8: ='LOTE 5(Balanzas)'!O20 -> 2439500 | H8: ='LOTE 5(Balanzas)'!R20 -> 3808000 | I8: ='LOTE 5(Balanzas)'!U20 -> 5093735.5 | J8: ='LOTE 5(Balanzas)'!X20 -> 1457892.8 | N8: =AVERAGEIF(C8:L8,">0") -> 3767079 | O8: =COUNTA(C8,D8,E8,F8,G8,H8,I8,J8,K8,L8) -> 7 | P8: =AVERAGE(C8:L8) -> 3767079 | Q8: =MIN(C8:L8) -> 1457892.8 | R8: =MAX(C8:L8) -> 6335679
A9: 6 | B9: ='LOTE 6(Hidrometros)'!B4 -> LOTE No. 6. Calibración certificada para cinco (5) hidrómetros. | C9: ='LOTE 6(Hidrometros)'!F17 -> 3248700 | H9: ='LOTE 6(Hidrometros)'!I17 -> 1844500 | N9: =AVERAGEIF(C9:L9,">0") -> 2546600 | O9: =COUNTA(C9,D9,E9,F9,G9,H9,I9,J9,K9,L9) -> 2 | P9: =AVERAGE(C9:L9) -> 2546600 | Q9: =MIN(C9:L9) -> 1844500 | R9: =MAX(C9:L9) -> 3248700
A10: 7 | B10: ='LOTE 7(termohigr y termometros)'!B4 -> LOTE No. 7. Calibración certificada para diez (10) termohigrómetros y dos (2) termómetros de inmersión. | C10: ='LOTE 7(termohigr y termometros)'!F25 -> 10633126 | E10: ='LOTE 7(termohigr y termometros)'!I25 -> 3998400 | F10: ='LOTE 7(termohigr y termometros)'!L25 -> 4474400 | H10: ='LOTE 7(termohigr y termometros)'!O25 -> 4379200 | J10: ='LOTE 7(termohigr y termometros)'!R25 -> 2199120 | N10: =AVERAGEIF(C10:L10,">0") -> 5136849.2 | O10: =COUNTA(C10,D10,E10,F10,G10,H10,I10,J10,K10,L10) -> 5 | P10: =AVERAGE(C10:L10) -> 5136849.2 | Q10: =MIN(C10:L10) -> 2199120 | R10: =MAX(C10:L10) -> 10633126
A11: 8 | B11: ='LOTE 8(termomet)'!B4 -> LOTE No. 8. Calibración certificada para diez (10) termómetros con sonda a frasco de glicol. | C11: ='LOTE 8(termomet)'!F22 -> 8584660 | H11: ='LOTE 8(termomet)'!I22 -> 4760000 | K11: ='LOTE 8(termomet)'!L22 -> 4165000 | N11: =AVERAGEIF(C11:L11,">0") -> 5836553.3 | O11: =COUNTA(C11,D11,E11,F11,G11,H11,I11,J11,K11,L11) -> 3 | P11: =AVERAGE(C11:L11) -> 5836553.3 | Q11: =MIN(C11:L11) -> 4165000 | R11: =MAX(C11:L11) -> 8584660
N12: =SUM(N4:N11) -> 48759785
