Workbook
Name Listado: [1]Cierre!#REF!

Sheet Proponentes
A1: GOBERNACION DE CALDAS
A2: SECRETARÍA DE VIVIENDA Y TERRITORIO
A3: PROCESO DE LICITACIÓN PÚBLICA CM-SV-033-2019
A5: OBJETO: Interventoría técnica, administrativa, financiera, económica, ambiental y legal al contrato de obra para llevar a cabo la optimización del sistema de alcantarillado combinado en el municipio de Filadelfia
A7: LISTADO DE PROPONENTES
A9: Proponente | B9: Nombre | C9: COMPONENTE TECNICO | G9: COMPONENTE FINANCIERO | K9: COMPONENTE JURIDICO
A10: 1 | B10: LINO ANDRÉS MENDOZA | C10: HABIL | G10: HABIL | K10: HABIL
A11: 2 | B11: CONSORCIO INTERCOL | C11: HABIL | G11: HABIL | K11: NO HABIL
A12: 3 | B12: LUIS ARTURO GOMEZ | C12: NO HABIL | G12: HABIL | K12: HABIL
A13: 4 | B13: CONSULTORÍA BOGOTANA SAS | C13: HABIL | G13: HABIL | K13: HABIL
A14: 5 | B14: JACSON MORENO | C14: HABIL | G14: HABIL | K14: HABIL

Sheet LINO ANDRES MENDOZA
A1: GOBERNACION DE CALDAS, SECRETARIA DE VIVIENDA Y TERRITORIO, PLAN DEPARTAMENTAL DE CALDAS
A2: Interventoría técnica, administrativa, financiera, económica, ambiental y legal al contrato de obra para llevar a cabo la optimización del sistema de alcantarillado combinado en el municipio de Filadelfia
A3: PRESUPUESTO OFICIAL $ 87.115.493,43 (CUANTIA SMMLV 105,20)
A4: PROCESO CM-SV-033-2019
A5: EVALUACION TECNICA
A7: PROPONENTE | B7: =Proponentes!B10 -> LINO ANDRÉS MENDOZA | C7: RL | D7: =B7 -> LINO ANDRÉS MENDOZA
A9: C. EXPERIENCIA | B9: ANEXO 8
A11: CONTRATO No. | B11: CLASIFICADOR DE BIENES Y SERVICIOS (81101500) | C11: No. DE ORDEN EN EL RUP | D11: OBJETO | E11: VALOR EN SMMLV | F11: OBSERVACIONES | H11: EVALUACION
A12: 1 | B12: 81101500 | C12: 4 | D12: INTERVENTORIA TECNICA ADMINISTRATIVA Y CONTABLE PARA LA CONSTRUCCION DE LA QUINTA ETAPA DEL ALCANTARILLADO SANITARIO DEL MUNICPIO DE COVEÑAS SUCRE. | E12: 310.29 | F12: PRESENTA CERTIFICACION(ACTA DE LIQUIDACION) EXPEDIDAD POR ENTIDAD CONTRATANTE | G12: SE RECIBEN LOS DOCUMENTOS DADO QUE EN REVISION AL PLIEGO DE CONDICIONES LAS CARTAS DE COMPROMISO SON INCIDEN EN PUNTAJE Y SON SUBSANABLES | H12: HABIL
A13: 2 | B13: 81101500 | C13: 21 | D13: INTERVENTORIA TECNICA ADMINISTRATIVA FINANCIERA Y DE CONTROL PRESUPUESTAL AMBIENTAL SOCIAL E INSTITUCIONAL PARA LA COSNTRUCCION DE COLECTORES DE ALCANTARILLADO EN EL CENTRO POBALDO LA GRAN VIA MUNICIPIO DE TENA DEPARTAMENTO DE CUNDINAMARCA. | E13: 168.19 | F13: PRESENTA CERTIFICACION(ACTA DE LIQUIDACION) EXPEDIDAD POR ENTIDAD CONTRATANTE
A14: 3 | B14: 81101500 | C14: 17 | D14: INTERVENTORIA TECNICA ADMINISTRATIVA FINANCIERA Y JURIDICA PARA LA EJECUCION DE ESTUDIOS DISEÑOS SUMINISTRO Y OBRAS QUE SE DERIVEN DEL CONVENIO INTERADMINISTRATIVO ENTRE EL MUNICIPIO DE FUSAGASUGA Y EMSERFUSA ESP "ANUAR ESFUERZOS EN LOS SECTORES DE AGUA Y SANEAMIENTO BASICO EN LA ZONA RURAL Y URBANA EN EL MUNICIPIO DE FUSAGASUGA." | E14: 104.4 | F14: PRESENTA ACTA DE RECIBO Y ENTREGA
D20: JORGE JOAM CASTAÑEDA DUQUE
D21: INGENIERO CIVIL CONTRATISTA
D22: SECRETARIA DE VIVIENDA Y TERRITORIO, GOBERNACION DE CALDAS
A24: F. ORGANIZACIÓN TECNICA. EXPERIENCIA DEL EQUIPO MINIMO HABILITANTE
A27: NOMBRE | B27: CARGO | C27: PROFESION | D27: EXPERIENCIA GENERAL (AÑOS) | E27: EXPERIENCIA ESPECIFICA (No DE CONTRATOS Y/O No DE AÑOS) | F27: EVALUACION
A28: =B7 -> LINO ANDRÉS MENDOZA | B28: DIRECTOR DE INTERVENTORIA | C28: INGENIERO CIVIL | D28: 16,8 | E28: 2 contratos y 3,08 años | F28: CUMPLE
A29: ABRAHAM ESPINOZA PAZ | B29: RESIDENTE DE INTERVENTORIA | C29: INGENIERO CIVIL | D29: 13,8 | E29: 1 contrato y 3,02 años
A31: V. EVALUACION DE LA OFERTA
A33: A. EXPERIENCIA ADICIONAL DEL PROPONENTE
A35: Expericia Solicitada en SMMLV | B35: Expericia acreditada en SMMLV | C35: Experiencia en Exceso | D35: Puntaje
A36: 105.2 | B36: 582.88 | C36: =+B36-A36 -> 477.68 | D36: 0.4
A38: B. EXPERIENCIA ADICIONAL DEL EQUIPO DE TRABAJO
A40: DIRECTOR DE INTERVENTORIA
A41: CONTRATO | B41: PLAZO DE EJECUCION (AÑOS) | C41: CARGO | D41: OBJETO | E41: OBSERVACIONES | F41: PUNTAJE
A42: 1 | B42: 1.61 | C42: DIRECTOR DE INTERVENTORIA | D42: INTERVENTORIA TECNICA, ADMINISTRATIVA Y FINANCIERA A LOS ONTRATOS DE CONSTRUCCION, MANTENIMIENTO Y OPTIMIZACION DE LOS SISTEMAS DE ACUEDUCTO, ALCANTARILLADO PLUVIAL Y SANITARIO EN LOS MUNICIPIOS DEL DEPARTAMENTO DEL METAL | E42: CUMPLE CON LO REQUERIDO EN LOS PLIEGOS DE CONDICIONES DEFINITIVOS | F42: 0.18
A43: 2 | B43: 0.76 | C43: DIRECTOR DE INTERVENTORIA | D43: INTERVENTORÍA TÉCNICA, ADMINISTRATIVA Y DE CONTROL PRESUPUESTAL A LOS SIGUIENTES PROYECTOS: PROYECTO A AMPLIACIÓN Y OPTIMIZACIÓN DEL SISTEMA DE ALCANTARILLADO URBANO Y A LA CONSTRUCCIÓN DE LA PLANTA DE TRATAMIENTO DE AGUAS RESIDUALES, MUNICIPIO AGUADA, DEPARTAMENTO DE SANTANDER. PROYECTO B CONSTRUCCIÓN DEL SISTEMA DE ACUEDUCTO RURAL PABLO VI, EN LAS VEREDAS EL BOSQUE, MONTERO Y DONACIÓN, MUNICIPIO DE BELÉN, DEPARTAMENTO DE BOYACÁ.
A44: 3 | B44: 1.53 | C44: DIRECTOR DE INTERVENTORIA | D44: INTERVENTORÍA P A R A LA CONSTRUCCIÓN Y /O REHABILITACIÓN DE R E D E S DE A CUEDUCTO, A LCANTAR LLA DO SANITARIO Y PLUVIAL EN PUNTOS CRÍTICOS DE LA ZONA 4 DEL ACUEDUCTO D E BOGOTÁ D.C
A46: RESIDENTE DE INTERVENTORIA
A47: CONTRATO | B47: PLAZO DE EJECUCION | C47: CARGO | D47: OBJETO | E47: OBSERVACIONES | F47: PUNTAJE
A48: 1 | B48: 1.61 | C48: RESIDENTE DE INTERVENTORIA | D48: INTERVENTORIA TECNICA, ADMINISTRATIVA Y FINANCIERA A LOS CONTRATOS DE CONSTRUCCION, MANTENIMIENTO Y OPTIMIZACION DE LOS SISTEMAS DE ACUEDUCTO, ALCANTARILLADO PLUVIAL Y SANITARIO EN LOS MUNICIPIOS DEL DEPARTAMENTO DEL METAL | E48: CUMPLE CON LO REQUERIDO EN LOS PLIEGOS DE CONDICIONES DEFINITIVOS | F48: 0.18
A49: 2 | B49: 0.76 | C49: RESIDENTE DE INTERVENTORIA | D49: INTERVENTORÍA TÉCNICA, ADMINISTRATIVA Y DE CONTROL PRESUPUESTAL A LOS SIGUIENTES PROYECTOS: PROYECTO A AMPLIACIÓN Y OPTIMIZACIÓN DEL SISTEMA DE ALCANTARILLADO URBANO Y A LA CONSTRUCCIÓN DE LA PLANTA DE TRATAMIENTO DE AGUAS RESIDUALES, MUNICIPIO AGUADA, DEPARTAMENTO DE SANTANDER. PROYECTO B CONSTRUCCIÓN DEL SISTEMA DE ACUEDUCTO RURAL PABLO VI, EN LAS VEREDAS EL BOSQUE, MONTERO Y DONACIÓN, MUNICIPIO DE BELÉN, DEPARTAMENTO DE BOYACÁ.
A50: 3 | B50: 1.53 | C50: RESIDENTE DE INTERVENTORIA | D50: INTERVENTORÍA P A R A LA CONSTRUCCIÓN Y /O REHABILITACIÓN DE R E D E S DE A CUEDUCTO, A LCANTAR LLA DO SANITARIO Y PLUVIAL EN PUNTOS CRÍTICOS DE LA ZONA 4 DEL ACUEDUCTO D E BOGOTÁ D.C
A52: CRITERIO | C52: PUNTAJE | D52: OBSERVACION
A53: C. APOYO PROFESIONAL ADICIONAL | C53: 0.13 | D53: PRESENTA ANEXO 12
A54: D. PUNTAJE PARA ESTIMULAR Y APOYAR LA INDUSTRIA NACIONAL | C54: 0.1 | D54: PRESENTA ANEXO 7
A55: E. PROPONENTES CON TRABAJDORES CON DISCAPACIDAD | C55: 0.01 | D55: PRESENTA ANEXO 9 Y CERTIFICADO DEL MINISTERIO DE TRABAJO
B57: RESUMEN DE PUNTAJES
B58: CRITERIO | D58: PUNTAJE
B59: A. EXPERIENCIA ESPECIFICA DEL PROPONENTE | D59: =+D36 -> 0.4
...

Sheet CONSORCIO INTERCOL
A1: GOBERNACION DE CALDAS, SECRETARIA DE VIVIENDA Y TERRITORIO, PLAN DEPARTAMENTAL DE CALDAS
A2: ='LINO ANDRES MENDOZA'!A2:H2 -> Interventoría técnica, administrativa, financiera, económica, ambiental y legal al contrato de obra para llevar a cabo la optimización del sistema de alcantarillado combinado en el municipio de Filadelfia
A3: ='LINO ANDRES MENDOZA'!A3:H3 -> PRESUPUESTO OFICIAL $ 87.115.493,43 (CUANTIA SMMLV 105,20)
A4: ='LINO ANDRES MENDOZA'!A4:H4 -> PROCESO CM-SV-033-2019
A5: EVALUACION TECNICA
A7: PROPONENTE | B7: =Proponentes!B11 -> CONSORCIO INTERCOL | C7: CONFORMACION | D7: Carlos Augusto Cruz Ayala | E7: 0.5
A8: RL | B8: Samuel Armando Castillo Pérez | D8: Luis Miguel Perdomo Velasco | E8: 0.5 | I8: =87115493.43/828116 -> 105.19721
A10: C. EXPERIENCIA | B10: ANEXO 8
A12: CONTRATO No. | B12: CLASIFICADOR DE BIENES Y SERVICIOS (81101500) | C12: No. DE ORDEN EN EL RUP | D12: OBJETO | E12: VALOR EN SMMLV | F12: OBSERVACIONES | G12: EVALUACION
A13: 003 -2017 | B13: 81101500 | C13: 52 | D13: Interventoría Técnica, Administrativa, Financiera Y Juridica Al Contrato De Obra Cuyo Objeto Es La Reposición Del Sistema De Alcantarillado Del Barrio Simón Bolívar Y Limpieza Y Mantenimiento De Pozos De Inspección, Redes De Alcantarillado Y Aguas Lluvias De La Zona Urbana Del Municipio De Algeciras A Cargo De Las Empresas Publicas De Algeciras | E13: 18,46 | F13: PRESENTA CERTIFICACION EXPEDIDA POR ENTIDAD CONTRATANTE | G13: HABIL | I13: =+E13+E14 -> 196.43
A14: 438-2009 | B14: 81101500 | C14: 11 | D14: Interventoría Técnica Y Administrativa De La Construcción Del Alcantarillado Sanitario Y Pluvial Del Sector 3 De La Ciudadela Nuevo Giron (Conv. Interadm. No 054) | E14: 177,97 | F14: PRESENTA CERTIFICACION EXPEDIDA POR ENTIDAD CONTRATANTE | I14: 105.2
A17: F. ORGANIZACIÓN TECNICA. EXPERIENCIA DEL EQUIPO MINIMO HABILITANTE | I17: =+I13-I14 -> 91.23
A19: NOMBRE | B19: CARGO | C19: PROFESION | D19: EXPERIENCIA GENERAL (AÑOS) | E19: EXPERIENCIA ESPECIFICA (No DE CONTRATOS Y/O No DE AÑOS) | F19: EVALUACION
A20: Carlos Augusto Cruz Ayala | B20: Director de Interventoría | C20: Ingeniero Civil | D20: 33,5 | E20: 6.5 años | F20: CUMPLE | I20: =+D20/12 -> 2.7916667
A21: Claudia Patricia Cruz Ayala | B21: Residente de Interventoría | C21: Ingeniera Civil | D21: 29,8 | E21: 7
A23: V. EVALUACION DE LA OFERTA
A25: A. EXPERIENCIA ADICIONAL DEL PROPONENTE
A27: Expericia Solicitada en SMMLV | B27: Expericia acreditada en SMMLV | C27: Experiencia en Exceso | D27: Puntaje
A28: 105.2 | B28: 196.43 | C28: =+B28-A28 -> 91.23 | D28: 0.2
A30: B. EXPERIENCIA ADICIONAL DEL EQUIPO DE TRABAJO
A32: DIRECTOR DE INTERVENTORIA
A33: CONTRATO | B33: PLAZO DE EJECUCION (MESES) | C33: CARGO | D33: OBJETO | E33: OBSERVACIONES | F33: PUNTAJE
A34: 110-2014 | B34: 33,20 | C34: DIRECTOR DE INTERVENTORIA | D34: INTERVENTORIA TECNICA ADMINISTRATIVA FINANCIERA LEGAL Y AMBIENTAL PARA: LA CONSTRUCCION I ETAPA PLAN MAESTRO DE ACUEDUCTO EN EL CASCO URBANO EN EL MUNICPIO DE VILLAVIEJA EN EL DEPARTAMENTO DEL HUILA - CONSTRUCCION DE UN POZO PROFUNDO Y REUBICACION DEL SISTEMA HIDRAULICO, ELECTROMECANICO Y ADECUACION DE OBRAS CIVILES DE LA ESTACION DE BOMBEO DEL SISTEMA DE ACUEDUCTO DEL CENTRO POBLADO DE LA VICTORIA DEL MUNICPIO DE VILLAVIEJA DEPARTAMENTO DE HUILA- CONTRUCCION I ETAPA PLAN MAESTRO DE ACUEDCUTO EN EL CASCO URBANO EN EL MUNCIPIO DE RIVERA EN EL DEPARTAMENTO DE HUILA- OPTIMIZACION DEL SISTEMA DE ALCANTARILLADO SANITARIO DEL MUNICPIO DE BARAYA EN EL DEPARTAMENTO DE HUILA- CONSTRUCCION PLAN MAESTRO DE ACUEDCUTO CASCO URBANO DEL MUNICIPIO DE AIPE FASE I EN EL DEPARTAMENTO DE HUILA | E34: PRESENTA LO SOLICITADO POR LA ENTIDAD | F34: 0.18
A35: EPC-FNC-140-2011 | B35: 15 | C35: DIRECTOR DE INTERVENTORIA | D35: INTERFENTORIA INTEGRAL A LA COSNTRUCCION II ETAPA COLECTORES SERREZUELA EMISARIO FINAL SERREZUELA SOBRE LA VIA A LA MESA ENTRE LA ESTACION DE BOMBEO EL MATEDERO HASTA LA URBANIZACION LOS PUENTES DEL MUNICPIO DE MOSQUERA | E35: PRESENTA LO SOLICITADO POR LA ENTIDAD
A36: 064-2009 | B36: 22.17 | C36: DIRECTOR DE INTERVENTORIA | D36: INTERVENTORIA TECNICA ADMINISTRATIVA FINANCIERA Y AMBIENTAL A LA TERMINACION DEL ALCANTARILLADO PLUVIAL MUNICIPIO DE MANI DEPARTAMENTO DE CASANARE | E36: PRESENTA LO SOLICITADO POR LA ENTIDAD | I36: =69/12 -> 5.75
A37: 542-07 | B37: 11.19 | C37: DIRECTOR DE INTERVENTORIA | D37: INTERVENTORIA TECNICA ADMINISTRATIVA Y FINANCIERA A LA COSNTRUCCION ALCANTARILLADO SANITARIO Y SISTEMA DE TRATAMIENTO DE AGUAS RESIDUALES PARA LA ISNPECCION EL TABLON DEL MUNICPIO DE TAMARA DEPARTAMENTO DE CASANARE | E37: PRESENTA LO SOLICITADO POR LA ENTIDAD
A38: 800-2010 | B38: 15.5 | C38: DIRECTOR DE INTERVENTORIA | D38: INTERVETORIA TECNICA ADMINISTRATIVA FINANCIERA ECONOMICA Y AMBIENTAL PARA LA COSNTRUCCION DEL ALCANTARILLADO PLUVIAL PARA EL CASCO URBANO DEL MUNICPIO DE SACAMA DEPARTAMENTO DE CASANARE | E38: PRESENTA LO SOLICITADO POR LA ENTIDAD
A39: 438-2009 | B39: 6 | C39: DIRECTOR DE INTERVENTORIA | D39: INTERVENTORIA TECNICA Y ADMINISTRATIVA DE LA CONSTRUCCION DEL ALCANTARILLADO SANITARIO Y PLUVIAL DEL SECTOR 3 DE LA CIUDADELA NUVO GIRON (CONV.INTERADM No. 054 | E39: PRESENTA LO SOLICITADO POR LA ENTIDAD
A42: RESIDENTE DE INTERVENTORIA
A43: CONTRATO | B43: PLAZO DE EJECUCION | C43: CARGO | D43: OBJETO | E43: OBSERVACIONES | F43: PUNTAJE
A44: 109-2014 | B44: 4.8 | C44: RESIDENTE DE INTERVENTORIA | D44: INTERVENTORIA TECNICA ADMINISTRATIVA FINANCIERA LEGAL Y AMBIENTAL PARA LA CONSTRUCCION PLAN MAESTRO DE ACUEDCUTO Y ALCANTARILLADO DEL CASCO URBANO DEL MUNICPIO DE PALERMO FASE I DEPARTAMENTO DEL HUILA, PLAN MAESTRO DE ACUEDCUTO DEL CASCO URBANO DEL MUNIPIO DE ALGECIRAS FASE II DEPARTAMENTO DEL HUILA, COSNTRUCCION PALN MAESTRO ALCANTARILLADO EN CENTRO POBLADO EL CEDRAL DEL MUNICPIO DE TELLO DEPARTAMENTO DEL HUILA COSNTRUCCION PLAN MAESTRO DE ACUEDUCTO Y ALCANTARILLADO DEL CASCO URBANO EN EL MUNICIPIO DE HOBO FASEI DEPARTAMENTO DEL HUILA. | E44: PRESENTA LO SOLICITADO POR LA ENTIDAD | F44: 0.18
A45: EPC-FNC-140-2011 | B45: 15 | C45: RESIDENTE DE INTERVENTORIA | D45: INTERFENTORIA INTEGRAL A LA COSNTRUCCION II ETAPA COLECTORES SERREZUELA EMISARIO FINAL SERREZUELA SOBRE LA VIA A LA MESA ENTRE LA ESTACION DE BOMBEO EL MATEDERO HASTA LA URBANIZACION LOS PUENTES DEL MUNICPIO DE MOSQUERA
A46: 064-2009 | B46: 22.17 | C46: RESIDENTE DE INTERVENTORIA | D46: INTERVENTORIA TECNICA ADMINISTRATIVA FINANCIERA Y AMBIENTAL A LA TERMINACION DEL ALCANTARILLADO PLUVIAL MUNICIPIO DE MANI DEPARTAMENTO DE CASANARE
A47: 542-07 | B47: 11.19 | C47: RESIDENTE DE INTERVENTORIA | D47: INTERVENTORIA TECNICA ADMINISTRATIVA Y FINANCIERA A LA COSNTRUCCION ALCANTARILLADO SANITARIO Y SISTEMA DE TRATAMIENTO DE AGUAS RESIDUALES PARA LA ISNPECCION EL TABLON DEL MUNICPIO DE TAMARA DEPARTAMENTO DE CASANARE
A50: CRITERIO | C50: PUNTAJE | D50: OBSERVACION
A51: C. APOYO PROFESIONAL ADICIONAL | C51: 0.13 | D51: PRESENTA ANEXO 12
A52: D. PUNTAJE PARA ESTIMULAR Y APOYAR LA INDUSTRIA NACIONAL | C52: 0.1 | D52: PRESENTA ANEXO 7
A53: E. PROPONENTES CON TRABAJDORES CON DISCAPACIDAD | C53: 0.01 | D53: PRESENTA ANEXO 9 Y CERTIFICADO DEL MINISTERIO DE TRABAJO
B55: RESUMEN DE PUNTAJES
B56: CRITERIO | D56: PUNTAJE
...

Sheet LUIS ARTURO GOMEZ
A1: GOBERNACION DE CALDAS, SECRETARIA DE VIVIENDA Y TERRITORIO, PLAN DEPARTAMENTAL DE CALDAS
A2: Interventoría técnica, administrativa, financiera, económica, ambiental y legal al contrato de obra para llevar a cabo la optimización del sistema de alcantarillado combinado en el municipio de Filadelfia
A3: PRESUPUESTO OFICIAL $ 87.115.493,43 (CUANTIA SMMLV 105,20)
A4: PROCESO CM-SV-033-2019
A5: EVALUACION TECNICA
A7: PROPONENTE | B7: =[2]Proponentes!B12 -> LUIS ARTURO GOMEZ | C7: RL | D7: =B7 -> LUIS ARTURO GOMEZ
A9: C. EXPERIENCIA | B9: ANEXO 8
A11: CONTRATO No. | B11: CLASIFICADOR DE BIENES Y SERVICIOS (81101500) | C11: No. DE ORDEN EN EL RUP | D11: OBJETO | E11: VALOR EN SMMLV | F11: OBSERVACIONES | H11: EVALUACION
A12: 1 | B12: EL PROPONENTE NO RELACIONA EL CONSECUTIVO DEL CONTRATO EN EL RUP. DEBE SUBSANAR | C12: SE LE SOLICITA AL PROPONENTE PRESENTAR RELACIÓN DE CONTRATOS EN EL RUP (NÚMERO DE CONSECUTIVO). CON EL OBJETO DE VALIDAR EL CODIGO DEL CLASIFICADOR DE BIENES Y SERVICIOS Y EL VALOR EN SMMLV | D12: Interventoría en la construcción de obras de Alcantarillado de Chinchiná (Caldas). Según Contrato No01/87. | E12: 95 | F12: SUBSANA | H12: HABIL
A13: 2 | B13: EL PROPONENTE NO RELACIONA EL CONSECUTIVO DEL CONTRATO EN EL RUP. DEBE SUBSANAR | D13: Interventoría y dirección técnica de las obras de los sectores 3 y 8, salida a la Merced de la ciudad de Salamina. | E13: 59.38
A14: 3 | B14: EL PROPONENTE NO RELACIONA EL CONSECUTIVO DEL CONTRATO EN EL RUP. DEBE SUBSANAR | D14: Interventoría técnica administrativa y contable para las obras de instalación de tubería, accesorios y válvulas de agua cruda y tratada, y obras civiles complementarias, construcción tanque tejares, mejoras en captación y desarenador del nuevo Plan maestro de Acueducto del Municipio de Villamaría | E14: 262
D22: JORGE JOAM CASTAÑEDA DUQUE
D23: INGENIERO CIVIL CONTRATISTA
D24: SECRETARIA DE VIVIENDA Y TERRITORIO, GOBERNACION DE CALDAS
A26: F. ORGANIZACIÓN TECNICA. EXPERIENCIA DEL EQUIPO MINIMO HABILITANTE
A29: NOMBRE | B29: CARGO | C29: PROFESION | D29: EXPERIENCIA GENERAL (AÑOS) | E29: EXPERIENCIA ESPECIFICA (No DE AÑOS) | F29: EVALUACION | G29: OBSERVACIÓN
A30: Gerardo Antonio Ramirez Gómez | B30: DIRECTOR DE INTERVENTORIA | C30: INGENIERO CIVIL | D30: 25 | E30: El proponente adjunta dos certificados que no están relacionados con la experiencia solicitada "ingeniero director de interventoría y/o contratisdta de interventoría" . Por lo anterior, según como se estipula en el númerla f "organización técnica" de los pliegos de condiciones “Teniendo en cuenta que las actas de liquidación firmadas y/o actas de terminación firmadas y/o certificados expedidos por el empleador o contratante para acreditación de experiencia son requisitos que inciden en el otorgamiento de puntaje, los mismos no podrán ser objeto de subsanación (…)” se condiera entonces que el proponente no cumple con lo requerido en la organización técnica, por consiguiente se declara NO HABIL. | F30: NO HABIL | G30: NO PRESENTA CARTA DE COMPROMISO
A31: Jhon Jámes Orozco | B31: RESIDENTE DE INTERVENTORIA | C31: INGENIERO CIVIL | D31: 21 | E31: =1+((3+2+4+7+4)/12)+((9+25+15+8+10)/360) -> 2.8527778 | G31: NO PRESENTA CARTA DE COMPROMISO
D39: =D22 -> JORGE JOAM CASTAÑEDA DUQUE
D40: INGENIERO CIVIL CONTRATISTA
D41: SECRETARIA DE VIVIENDA Y TERRITORIO, GOBERNACION DE CALDAS
A45: V. EVALUACION DE LA OFERTA
A47: A. EXPERIENCIA ADICIONAL DEL PROPONENTE
A49: CONTRATO No. | B49: CLASIFICADOR DE BIENES Y SERVICIOS | C49: No. DE ORDEN EN EL RUP | D49: OBJETO | E49: VALOR EN SMMLV | F49: PUNTAJE
F50: 0.4
A54: B. EXPERIENCIA ADICIONAL DEL EQUIPO DE TRABAJO
A56: DIRECTOR DE INTERVENTORIA
A57: CONTRATO | B57: PLAZO DE EJECUCION (AÑOS) | C57: CARGO | D57: OBJETO | E57: OBSERVACIONES | F57: PUNTAJE
E58: CUMPLE CON LO REQUERIDO EN LOS PLIEGOS DE CONDICIONES DEFINITIVOS | F58: 0.18
A62: RESIDENTE DE INTERVENTORIA
A63: CONTRATO | B63: PLAZO DE EJECUCION | C63: CARGO | D63: OBJETO | E63: OBSERVACIONES | F63: PUNTAJE
F64: 0.18
A68: CRITERIO | C68: PUNTAJE | D68: OBSERVACION
A69: C. APOYO PROFESIONAL ADICIONAL | C69: 0.13 | D69: PRESENTA ANEXO 12
A70: D. PUNTAJE PARA ESTIMULAR Y APOYAR LA INDUSTRIA NACIONAL | C70: 0.1 | D70: PRESENTA ANEXO 7
A71: E. PROPONENTES CON TRABAJDORES CON DISCAPACIDAD | C71: 0.01 | D71: PRESENTA ANEXO 9 Y CERTIFICADO DEL MINISTERIO DE TRABAJO
B73: RESUMEN DE PUNTAJES
B74: CRITERIO | D74: PUNTAJE
B75: A. EXPERIENCIA ESPECIFICA DEL PROPONENTE | D75: =+F50 -> 0.4
B76: B. EXPERIENCIA ADICIONAL DEL EQUIPO DE TRABAJO | D76: =+F58+F64 -> 0.36
...

Sheet CONSULTORIA BOGOTANA SAS
A1: GOBERNACION DE CALDAS, SECRETARIA DE VIVIENDA Y TERRITORIO, PLAN DEPARTAMENTAL DE CALDAS
A2: Interventoría técnica, administrativa, financiera, económica, ambiental y legal al contrato de obra para llevar a cabo la optimización del sistema de alcantarillado combinado en el municipio de Filadelfia
A3: PRESUPUESTO OFICIAL $ 87.115.493,43 (CUANTIA SMMLV 105,20)
A4: PROCESO CM-SV-033-2019
A5: EVALUACION TECNICA
A7: PROPONENTE | B7: =Proponentes!B13 -> CONSULTORÍA BOGOTANA SAS | C7: CONFORMACION | D7: CONSULTORIA BOGOTANA S.A.S. | E7: 0.5
A8: RL | B8: JUAN DIEGO ARENAS DE LA HOZ | D8: JMR GROUP INGENIERIA S.A.S. | E8: 0.5
A10: C. EXPERIENCIA | B10: ANEXO 8
A12: CONTRATO No. | B12: CLASIFICADOR DE BIENES Y SERVICIOS (81101500) | C12: No. DE ORDEN EN EL RUP | D12: OBJETO | E12: VALOR EN SMMLV | F12: OBSERVACIONES | G12: EVALUACION
A13: 1 | B13: 81101500 | C13: 28 | D13: Interventoría Técnica, Administrativa, Financiera y Ambiental al Contrato Interadministrativo No. 0223 - 2009, Cuyo Objeto es Construcción Obras de Saneamiento como Parte de la Ampliación de la Infraestructura del Sistema de Alcantarillado Sanitario del Casco Urbano, Municipio de El Colegio Cundinamarca | E13: 253.98 | F13: PRESENTAN LO REQUERIDO EN LOS PLIEGOS DE CONDICIONES DEFINITOS | G13: HABIL | H13: =+E13+E14 -> 831.55
A14: 2 | B14: 81101500 | C14: 62 | D14: Interventoría Técnica, Administrativa, Financiera, Contable, Jurídica Y Ambiental A La Construcción De Las Redes Matrices Del Sistema De Alcantarillado Pluvial De La Zona De Expansión Urbana Suroccidental Del Municipio De Yopal, Departamento De Casanare | E14: 577.57 | F14: PRESENTAN LO REQUERIDO EN LOS PLIEGOS DE CONDICIONES DEFINITOS
A17: F. ORGANIZACIÓN TECNICA. EXPERIENCIA DEL EQUIPO MINIMO HABILITANTE
A19: NOMBRE | B19: CARGO | C19: PROFESION | D19: EXPERIENCIA GENERAL (AÑOS) | E19: EXPERIENCIA ESPECIFICA (No DE CONTRATOS Y/O No DE AÑOS) | F19: EVALUACION
A20: DIEGO IGNACIO ARENAS | B20: DIRECTOR DE INTERVENTORIA | C20: INGENIERO CIVIL – MAGISTER EN INGENIERIA CIVIL | D20: 34 | E20: 4 CONTRATOS 6,8 AÑOS | F20: CUMPLE
A21: MARIA RUBY GALVEZ | B21: RESIDENTE DE INTERVENTORÍA | C21: INGENIERO CIVIL | D21: 37 | E21: 4 CONTRATOS 2 AÑOS 3 MESES
A23: V. EVALUACION DE LA OFERTA
A24: A. EXPERIENCIA ADICIONAL DEL PROPONENTE
A26: Expericia Solicitada en SMMLV | B26: Expericia acreditada en SMMLV | C26: Experiencia en Exceso | D26: Puntaje
A27: 105.2 | B27: 603.437 | C27: =+B27-A27 -> 498.237 | D27: 0.4
A30: B. EXPERIENCIA ADICIONAL DEL EQUIPO DE TRABAJO
A32: DIRECTOR DE INTERVENTORIA
A33: CONTRATO | B33: PLAZO DE EJECUCION (MESES) | C33: CARGO | D33: OBJETO | E33: OBSERVACIONES | F33: PUNTAJE
A34: 083-2008 | B34: 20, 5 | C34: DIRECTOR DE INTERVENTORIA | D34: Interventoría para la Construcción Canal Abierto para la Conducción y Descarga de las Aguas Lluvias del Sistema del Alcantarillado Pluvial al Brazo del Rio Unete | F34: 0.18
A35: 01-2010, | B35: 17 | C35: DIRECTOR DE INTERVENTORIA | D35: Interventoría técnica, administrativa financiera y ambiental al contrato interadministrativo Mo. 0223- 2009 cuyo objeto es: construcción obras de saneamiento como parte de la ampliación de la infraestructura del sistema de alcantarillado sanitario del casco urbano municipio del colegio Cundimarca.
A36: 051 de 2013 | B36: 11 | C36: DIRECTOR DE INTERVENTORIA | D36: Interventoría Técnica, Administrativa, Financiera, Contable, Jurídica Y Ambiental A La Construcción De Las Redes Matrices Del Sistema De Alcantarillado Pluvial De La Zona De Expansión Urbana Suroccidental Del Municipio De Yopal, Departamento De Casanare.
A39: RESIDENTE DE INTERVENTORIA
A40: CONTRATO | B40: PLAZO DE EJECUCION (MESES) | C40: CARGO | D40: OBJETO | E40: OBSERVACIONES | F40: PUNTAJE
A41: 0160 del 2015 | B41: 3.24 | C41: INGENIERA INTERVENTORA DE AGUAS DE MANIZALES | D41: Supervisión Externa para 1) la Construcción Colector que Tributa al Interceptor Quebrada Textil en la Ciudad de Manizales. 2} Optimización y Variación ele las Redes de Acueducto y Alcantarillado en el Barrio Fátima en la ciudad de Manizales, departamento de Caldas. | E41: PRESENTA CERTIFICACION EXPEDIDA POR LA ENTIDAD CONTRATANTE | F41: 0.18
A42: 083-2008 | B42: 20, 5 | C42: RESIDENTE DE INTERVENTORIA | D42: Interventoría para la Construcción Canal Abierto para la Conducción y Descarga de las Aguas Lluvias del Sistema del Alcantarillado Pluvial al Brazo del Rio Unete | E42: PRESENTA CERTIFICACION EXPEDIDA POR LA ENTIDAD CONTRATANTE
A43: 043 - 2005 | B43: 3 | C43: RESIDENTE DE INTERVENTORIA | D43: Interventoría Técnica y Administrativa al contrato No 028 - 2005. | E43: PRESENTA CERTIFICACION EXPEDIDA POR LA ENTIDAD CONTRATANTE PERO NO HAY CLARIDAD EN QUE HAYA PARTICIPADO COMO RESIDENTE
A44: 025 DEL 2001 | B44: 10.5 | C44: RESIDENTE DE INTERVENTORIA | D44: Interventoría técnica y administrativa a los contratos No 038, 040, 067 – 2001 | E44: PRESENTA CERTIFICACION EXPEDIDA POR LA ENTIDAD CONTRATANTE
A46: CRITERIO | C46: PUNTAJE | D46: OBSERVACION
A47: C. APOYO PROFESIONAL ADICIONAL | C47: 0.13 | D47: PRESENTA ANEXO 12
A48: D. PUNTAJE PARA ESTIMULAR Y APOYAR LA INDUSTRIA NACIONAL | C48: 0.1 | D48: PRESENTA ANEXO 7
A49: E. PROPONENTES CON TRABAJDORES CON DISCAPACIDAD | C49: 0.01 | D49: PRESENTA ANEXO 9 Y CERTIFICADO DEL MINISTERIO DE TRABAJO
B51: RESUMEN DE PUNTAJES
B52: CRITERIO | D52: PUNTAJE
B53: A. EXPERIENCIA ESPECIFICA DEL PROPONENTE | D53: =+D27 -> 0.4
B54: B. EXPERIENCIA ADICIONAL DEL EQUIPO DE TRABAJO | D54: =+F34+F41 -> 0.36
B55: C. APOYO PROFESIONAL ADICIONAL | D55: =+C47 -> 0.13
...

Sheet JACSON MORENO
A1: GOBERNACION DE CALDAS, SECRETARIA DE VIVIENDA Y TERRITORIO, PLAN DEPARTAMENTAL DE CALDAS
A2: Interventoría técnica, administrativa, financiera, económica, ambiental y legal al contrato de obra para llevar a cabo la optimización del sistema de alcantarillado combinado en el municipio de Filadelfia
A3: PRESUPUESTO OFICIAL $ 87.115.493,43 (CUANTIA SMMLV 105,20)
A4: PROCESO CM-SV-033-2019
A5: EVALUACION TECNICA
A7: PROPONENTE | B7: =Proponentes!B14 -> JACSON MORENO | C7: RL | D7: =B7 -> JACSON MORENO
A9: C. EXPERIENCIA | B9: ANEXO 8
A11: CONTRATO No. | B11: CLASIFICADOR DE BIENES Y SERVICIOS (81101500) | C11: No. DE ORDEN EN EL RUP | D11: OBJETO | E11: VALOR EN SMMLV | F11: OBSERVACIONES | H11: EVALUACION
A12: 1 | B12: 81101500 | C12: 32 | D12: "SUPERVISIÓN EXTERNA PARA: "OPTIMIZACIÓN Y VARIACIÓN DE LAS REDES DE ACUEDUCTO EN EL BARRIO COLSEGUROS Y ALTA SUIZA EN LA CIUDAD DE MANIZALES, DEPARTAMENTO DE CALDAS" "CONSTRUCCIÓN RED DE CONDUCCIÓN LA AURORA FASE l. BARRIO LA SULTANA, MANIZALES, CALDAS" "CONSTRUCCIÓN RED DE CONDUCCIÓN LA AURORA FASE 11. BARRIO LA SULTANA, MANIZALES, CALDAS" "OPTIMIZACIÓN RED DE ACUEDUCTO Y ALCANTARILLADO EN EL BARRIO LAS DELICIAS FASE 1, CIUDAD DE MANIZALES, DEPARTAMENTO DE CALDAS" "OPTIMIZACIÓN RED DE ACUEDUCTO Y ALCANTARILLADO EN EL BARRIO LAS DELICIAS FASE 11, CIUDAD DE MANIZALES, DEPARTAMENTO DE CALDAS" "OPTIMIZACIÓN REDES DE ALCANTARILLADO BARRIO LOS NOGALES FASE I" "OPTIMIZACIÓN REDES DE ALCANTARILLADO BARRIO LOS NOGALES FASE 11", "CULMINACIÓN DE LAS OBRAS DE OPTIMIZACIÓN RED DE ACUEDUCTO Y ALCANTARILLADO EN EL BARRIO LAS DELICIAS FASE 11, CIUDAD DE MANIZALES, DEPARTAMENTO DE CALDAS". | E12: 183.45 | F12: PRESENTA CERTIFICACION(ACTA DE LIQUIDACION) EXPEDIDAD POR ENTIDAD CONTRATANTE | G12: SUBSANA | H12: HABIL | J12: =+E12+E13+E14 -> 301.35
A13: 2 | B13: 81101500 | C13: 31 | D13: SUPERVISION EXTERNA PARA 1) OBRAS DE BIOINGENIEIRA EN EL PREDIO LA MARMOLERA FASE III. 2) CONSTRUCCION DE OBRAS DE ESTABILIDAD PARA LA CAJA DE ADUCCION SECTOR LAS VALENCIAS CUENCA RIO BLANCO. 3) RECUPERACION AMBIENTAL DE PREDIOS, CONSTRUCCION DE OBRAS DE ESTABILIDAD DE TALUDES, MANEJO DE AGUAS SUPERFICIALES, CONTROL DE AGUAS SUBSUPERFICIALES Y/O CORRECCION DE CAUCES EN CUENCAS ABASTECEDORAS DEL ACUEDUCTO DE MANIZALES LAS DELICIAS FASE III. 4) CONSTRUCCION DE OBRAS DE ESTABILIDAD PARA LA CAJA DE ADUCCION SECTOR LA GUERRA Y OBRAS DE AISLAMIENTO. 5) OPTIMIZACION RED DE ACUEDUCTO SECTOR LA BODEGA LA SIRIA ZONA RURAL. 6) CONSTRUCCION PTAP TIPO FIME VEREDA ALTO EL GUAMO, INSTALACION DE SISTEMA SEPTIMCO VEREDA LA AURORA SECTOR LA DICHA Y CONSTRUCCION DESCOLE PTAR VEREDA MORROGORDO. 7) ESTUDIOS Y DISEÑOSS HIDRAULICOS DE SISTEMAS DE TRATAMIENTO DE AGUA RESIDUAL VEREDA LA ARGELIA PARTE BAJA Y ESCUELA LOS ZAGALES VEREDA LA LINDA. | E13: 117.9 | F13: PRESENTA CERTIFICACION(ACTA DE LIQUIDACION) EXPEDIDAD POR ENTIDAD CONTRATANTE
A14: 3 | B14: 81101500 | C14: 33 | D14: SUPERVISIÓN EXTERNA PARA: "OPTIMIZACIÓN REDES DE ALCANTARILLADO BARRIO PIO XII EN LA CIUDAD DE MANIZALES, DEPARTAMENTO DE CALDAS" "CONSTRUCCIÓN RED DE ALCANTARILLADO VEREDA LA PALMA" "OPTIMIZACIÓN REDES DE ACUEDUCTO Y ALCANTARILLADO BARRIO EL NEVADO Y MARMATO" "OPTIMIZACIÓN Y VARIACIÓN DE LAS REDES DE ACUEDUCTO Y ALCANTARILLADO EN EL BARRIO LA SULTANA EN LA CIUDAD DE MANIZALES, DEPARTAMENTO DE CALDAS" "OPTIMIZACIÓN REDES DE ACUEDUCTO Y ALCANTARILLADO BARRIO GONZALES, CIUDAD DE MANIZALES, DEPARTAMENTO DE CALDAS" "OPTIMIZACIÓN Y VARIACIÓN DE LAS REDES DE ACUEDUCTO Y ALCANTARILLADO EN EL BARRIO SAN JOAQUÍN I EN LA CIUDAD DE MANIZALES, DEPARTAMENTO DE CALDAS" "OPTIMIZACIÓN RED DE ACUEDUCTO Y ALCANTARILLADO BARRIO EL PRADO" "OPTIMIZACIÓN Y VARIACIÓN DE LAS REDES DE ACUEDUCTO Y ALCANTARILLADO EN EL BARRIO COLSEGUROS EN LA CIUDAD DE MANIZALES, DEPARTAMENTO DE CALDAS" "OPTIMIZACIÓN REDES DE ACUEDUCTO Y ALCANTARILLADO BARRIO 20 DE JULIO EN LA CIUDAD DE MANIZALES, DEPARTAMENTO DE CALDAS" "OPTIMIZACIÓN Y VARIACIÓN DE LAS REDES DE ACUEDUCTO Y ALCANTARILLADO EN EL BARRIO CAMPOHERMOSO EN LA CIUDAD DE MANIZALES, DEPARTAMENTO DE CALDAS". | E14: =153.49*0 -> 0 | F14: PRESENTA CERTIFICACION(ACTA DE LIQUIDACION) EXPEDIDAD POR ENTIDAD CONTRATANTE
D22: JORGE JOAM CASTAÑEDA DUQUE
D23: INGENIERO CIVIL CONTRATISTA
D24: SECRETARIA DE VIVIENDA Y TERRITORIO, GOBERNACION DE CALDAS
A26: F. ORGANIZACIÓN TECNICA. EXPERIENCIA DEL EQUIPO MINIMO HABILITANTE
A29: NOMBRE | B29: CARGO | C29: PROFESION | D29: EXPERIENCIA GENERAL (AÑOS) | E29: EXPERIENCIA ESPECIFICA (No DE CONTRATOS Y/O No DE AÑOS) | F29: EVALUACION
A30: =B7 -> JACSON MORENO | B30: DIRECTOR DE INTERVENTORIA | C30: INGENIERO CIVIL | D30: 14 | E30: 9 CONTRATOS - 4,2 AÑOS | F30: CUMPLE
A31: ANGI VIVIANA ZABALA DE ARCO | B31: RESIDENTE DE INTERVENTORIA | C31: INGENIERO CIVIL | D31: 6,4 AÑOS | E31: 6 CONTRATOS - 3,4 AÑOS
A33: V. EVALUACION DE LA OFERTA
A35: A. EXPERIENCIA ADICIONAL DEL PROPONENTE
A37: Expericia Solicitada en SMMLV | B37: Expericia acreditada en SMMLV | C37: Experiencia en Exceso | D37: Puntaje
A38: 105.2 | B38: 301.35 | C38: =+B38-A38 -> 196.15 | D38: 0.4
A42: B. EXPERIENCIA ADICIONAL DEL EQUIPO DE TRABAJO
A44: DIRECTOR DE INTERVENTORIA
A45: CONTRATO | B45: PLAZO DE EJECUCION (MESES) | C45: CARGO | D45: OBJETO | E45: OBSERVACIONES | F45: PUNTAJE
A46: 0074 – 2009 | B46: 6.3 | C46: DIRECTOR DE INTERVENTORIA | D46: INTERVENTORIA A LAS OBRAS CIVILES REPOSICIÓN ACUEDUCTO SECTOR CASCO URBANO. REPOSICIÓN ACUEDUCTO SECTOR LA REPUBLICANA, REPOSICIÓN ALCANTARILLADO CAMINO MONTECARLOS POR PREDIO DE LOS MINAS, REPOSICIÓN ALCANTARILLADO SAN PEORO SALIDA ECHANDIA Y CAMBIO TUBERIA ACUEDUCTO HOJAS ANCHAS EN EL MUNICIPIO DE MARMATO, CALDAS. | E46: CUMPLE CON LO REQUERIDO EN LOS PLIEGOS DE CONDICIONES DEFINITIVOS | F46: 0.18
A47: 0186 – 2016 | B47: 4.8 | C47: DIRECTOR DE INTERVENTORIA | D47: "SUPERVISIÓN EXTERNA PARA OPTIMIZACIÓN Y VARIACIÓN DE LAS REDES DE ACUEDUCTO EN EL BARRIO SAN JOSE FASE 1, OPTIMIZACIÓN Y VARIACIÓN DE LAS REDES DE ACUEDUCTO Y ALCANTARILLADO EN EL BARRIO CENTENARIO Y SAN JOSE FASE 11, CIUDAD DE MANIZALES, DEPARTAMENTO DE CALDAS
A48: 0218 – 2016 | B48: 4 | C48: DIRECTOR DE INTERVENTORIA | D48: SUPERVISION EXTERNA PARA 1) OBRAS DE BIOINGENIEIRA EN EL PREDIO LA MARMOLERA FASE III. 2) CONSTRUCCION DE OBRAS DE ESTABILIDAD PARA LA CAJA DE ADUCCION SECTOR LAS VALENCIAS CUENCA RIO BLANCO. 3) RECUPERACION AMBIENTAL DE PREDIOS, CONSTRUCCION DE OBRAS DE ESTABILIDAD DE TALUDES, MANEJO DE AGUAS SUPERFICIALES, CONTROL DE AGUAS SUBSUPERFICIALES Y/O CORRECCION DE CAUCES EN CUENCAS ABASTECEDORAS DEL ACUEDUCTO DE MANIZALES LAS DELICIAS FASE III. 4) CONSTRUCCION DE OBRAS DE ESTABILIDAD PARA LA CAJA DE ADUCCION SECTOR LA GUERRA Y OBRAS DE AISLAMIENTO. 5) OPTIMIZACION RED DE ACUEDUCTO SECTOR LA BODEGA LA SIRIA ZONA RURAL. 6) CONSTRUCCION PTAP TIPO FIME VEREDA ALTO EL GUAMO, INSTALACION DE SISTEMA SEPTIMCO VEREDA LA AURORA SECTOR LA DICHA Y CONSTRUCCION DESCOLE PTAR VEREDA MORROGORDO. 7) ESTUDIOS Y DISEÑOS HIDRAULICOS DE SISTEMAS DE TRATAMIENTO DE AGUA RESIDUAL VEREDA LA ARGELIA PARTE BAJA Y ESCUELA LOS ZAGALES VEREDA LA LINDA
A49: 0052 – 2017 | B49: 4.7 | C49: DIRECTOR DE INTERVENTORIA | D49: ASESORÍA E INTERVENTORÍA TÉCNICA, ADMINISTRATIVA, FINANCIERA Y AMBIENTAL DE OBRAS CIVILES DE REDES DE ACUEDUCTO, ALCANTARILLADO, SANEAMIENTO Y OBRAS COMPLEMENTARIAS EN SECTOR AVENIDA LA INDEPENDENCIA CALLE 65, 66 Y 69, COLECTOR QUEBRADA LA PARIDA, BARRIO SAN MARCOS CALLE 90 CRA 37 Y CALLE 87 CRA 38A, INSTITUTO TÉCNICO, CAÑO BOSTON CARRERA 22B ENTRE CALLES 20B Y 21, CALLE 25C CON CARRERA 24, ISLA BOSTON CARRERA 25 ENTRE CALLES 21 Y 22, SECTOR AEROPUERTO, PLANTA DE TRATAMIENTO Y OTROS PUNTOS DE LA CIUDAD DE PEREIRA.
A50: 0127 – 2017 | B50: 6.4 | C50: DIRECTOR DE INTERVENTORIA | D50: SUPERVISIÓN EXTERNA PARA: OPTIMIZACIÓN Y VARIACIÓN DE LAS REDES DE ACUEDUCTO EN EL BARRIO COLSEGUROS Y ALTA SUIZA EN LA CIUDAD DE MANIZALES, DEPARTAMENTO DE CALDAS" "CONSTRUCCIÓN RED DE CONDUCCIÓN LA AURORA FASE l. BARRIO LA SULTANA, MANIZALES, CALDAS" "CONSTRUCCIÓN RED DE CONDUCCIÓN LA AURORA FASE 11. BARRIO LA SULTANA, MANIZALES, CALDAS" "OPTIMIZACIÓN RED DE ACUEDUCTO Y ALCANTARILLADO EN EL BARRIO LAS DELICIAS FASE 1, CIUDAD DE MANIZALES, DEPARTAMENTO DE CALDAS" "OPTIMIZACIÓN RED DE ACUEDUCTO Y ALCANTARILLADO EN EL BARRIO LAS DELICIAS FASE 11, CIUDAD DE MANIZALES, DEPARTAMENTO DE CALDAS" "OPTIMIZACIÓN REDES DE ALCANTARILLADO BARRIO LOS NOGALES FASE I" "OPTIMIZACIÓN REDES DE ALCANTARILLADO BARRIO LOS NOGALES FASE 11", "CULMINACIÓN DE LAS OBRAS DE OPTIMIZACIÓN RED DE ACUEDUCTO Y ALCANTARILLADO EN EL BARRIO LAS DELICIAS FASE 11, CIUDAD DE MANIZALES, DEPARTAMENTO DE CALDAS".
A51: 0223 – 2017 | B51: 4.4 | C51: DIRECTOR DE INTERVENTORIA | D51: SUPERVISIÓN EXTERNA PARA: "OPTIMIZACIÓN REDES DE ALCANTARILLADO BARRIO PIO XII EN LA CIUDAD DE MANIZALES, DEPARTAMENTO DE CALDAS" "CONSTRUCCIÓN RED DE ALCANTARILLADO VEREDA LA PALMA" "OPTIMIZACIÓN REDES DE ACUEDUCTO Y ALCANTARILLADO BARRIO EL NEVADO Y MARMATO" "OPTIMIZACIÓN Y VARIACIÓN DE LAS REDES DE ACUEDUCTO Y ALCANTARILLADO EN EL BARRIO LA SULTANA EN LA CIUDAD DE MANIZALES, DEPARTAMENTO DE CALDAS" "OPTIMIZACIÓN REDES DE ACUEDUCTO Y ALCANTARILLADO BARRIO GONZALES, CIUDAD DE MANIZALES, DEPARTAMENTO DE CALDAS" "OPTIMIZACIÓN Y VARIACIÓN DE LAS REDES DE ACUEDUCTO Y ALCANTARILLADO EN EL BARRIO SAN JOAQUÍN I EN LA CIUDAD DE MANIZALES, DEPARTAMENTO DE CALDAS" "OPTIMIZACIÓN RED DE ACUEDUCTO Y ALCANTARILLADO BARRIO EL PRADO" "OPTIMIZACIÓN Y VARIACIÓN DE LAS REDES DE ACUEDUCTO Y ALCANTARILLADO EN EL BARRIO COLSEGUROS EN LA CIUDAD DE MANIZALES, DEPARTAMENTO DE CALDAS" "OPTIMIZACIÓN REDES DE ACUEDUCTO Y ALCANTARILLADO BARRIO 20 DE JULIO EN LA CIUDAD DE MANIZALES, DEPARTAMENTO DE CALDAS" "OPTIMIZACIÓN Y VARIACIÓN DE LAS REDES DE ACUEDUCTO Y ALCANTARILLADO EN EL BARRIO CAMPOHERMOSO EN LA CIUDAD DE MANIZALES, DEPARTAMENTO DE CALDAS".
A52: 0242 – 2017 | B52: 7 | C52: DIRECTOR DE INTERVENTORIA | D52: PLANTA NIZA ZONA NORTE FASE I" "OPTIMIZACIÓN Y VARIACIÓN DE LAS REDES DE ACUEDUCTO Y ALCANTARILLADO EN EL BARRIO EL CENTRO Y SAN JOAQUÍN EN LA CIUDAD DE MANIZALES, DEPARTAMENTO DE CALDAS" "OPTIMIZACIÓN Y VARIACIÓN DE LAS REDES DE ACUEDUCTO Y ALCANTARILLADO EN EL BARRIO MINITAS EN LA CIUDAD DE MANIZALES, DEPARTAMENTO DE CALDAS" "OPTIMIZACIÓN REDES DE ACUEDUCTO Y ALCANTARILLADO BARRIO SAN ANTONIO, EN LA CIUDAD DE MANIZALES, DEPARTAMENTO DE CALDAS
A53: 0105 – 2018 | B53: 6.8 | C53: DIRECTOR DE INTERVENTORIA | D53: SUPERVISIÓN EXTERNA PARA: OPTIMIZACIÓN Y VARIACIÓN RED DE ACUEDUCTO Y ALCANTARILLADO EN EL BARRIO LA TOSCANA Y BELÉN EN LA CIUDAD DE MANIZALES, DEPARTAMENTO DE CALDAS; OPTIMIZACIÓN Y VARIACIÓN RED DE ACUEDUCTO Y ALCANTARILLADO EN EL BARRIO ROSALES (FASE 1) Y ENEA EN LA CIUDAD DE MANIZALES, DEPARTAMENTO DE CALDAS; MACROMEDICIÓN DEL SISTEMA DE ACUEDUCTO EN LA CIUDAD DE MANIZALES, DEPARTAMENTO DE CALDAS FASE III.
A54: 0140 – 2018 | B54: 6.2 | C54: DIRECTOR DE INTERVENTORIA | D54: SUPERVISIÓN EXTERNA PARA: CONEXIÓN INTERCEPTOR PALERMO SECTOR SAUCES EN LA CIUDAD DE MANIZALES, DEPARTAMENTO DE CALDAS OPTIMIZACIÓN Y VARIACIÓN RED DE ACUEDUCTO Y ALCANTARILLADO EN EL BARRIO LA ESTRELLA (FASE 2) EN LA CIUDAD DE MANIZALES, DEPARTAMENTO DE CALDAS CONSTRUCCIÓN COLECTOR RÍO CHINCHINÁ SECTOR ESTAMBUL - CAMBULOS TRAMO 1 EN LA CIUDAD DE MANIZALES, DEPARTAMENTO DE CALDAS OPTIMIZACIÓN Y VARIACIÓN DE RED DE ALCANTARILLADO BARRIO SOLFERINO EN LA CIUDAD DE MANIZALES, DEPARTAMENTO DE CALDAS OPTIMIZACIÓN Y VARIACIÓN RED DE ACUEDUCTO EN EL BARRIO CHIPRE EN LA CIUDAD DE MANIZALES, DEPARTAMENTO DE CALDAS. OPTIMIZACIÓN Y VARIACIÓN RED DE ACUEDUCTO SECTOR POLICLÍNICA EN LA CIUDAD DE MANIZALES, DEPARTAMENTO DE CALDAS”
A56: RESIDENTE DE INTERVENTORIA
A57: CONTRATO | B57: PLAZO DE EJECUCION | C57: CARGO | D57: OBJETO | E57: OBSERVACIONES | F57: PUNTAJE
A58: 051- 2013 | B58: 9.5 | C58: RESIDENTE DE INTERVENTORIA | D58: INTERVENTORÍA TÉCNICA, ADMINISTRATIVA, FINANCIERA, CONTABLE, JURÍDICA Y AMBIENTAL A LA CONSTRUCCIÓN DE LAS REDES MATRICES DEL SISTEMA DE ALCANTARILLADO PLUVIAL DE LA ZONA DE EXPANSIÓN URBANA SUROCCIDENTAL DEL MUNICIPIO DE YOPAL, DEPARTAMENTO DE CASANARE | E58: CUMPLE CON LO REQUERIDO EN LOS PLIEGOS DE CONDICIONES DEFINITIVOS | F58: 0.18
A59: 0186 – 2016 | B59: 4.8 | C59: RESIDENTE DE INTERVENTORIA | D59: SUPERVISIÓN EXTERNA PARA OPTIMIZACIÓN Y VARIACIÓN DE LAS REDES DE ACUEDUCTO EN EL BARRIO SAN JOSE FASE 1, OPTIMIZACIÓN Y VARIACIÓN DE LAS REDES DE ACUEDUCTO Y ALCANTARILLADO EN EL_x000D_ BARRIO CENTENARIO Y SAN JOSE FASE 11, CIUDAD DE MANIZALES, DEPARTAMENTO_x000D_ DE CALDAS.
A60: 0127 – 2017 | B60: 6.4 | C60: RESIDENTE DE INTERVENTORIA | D60: SUPERVISIÓN EXTERNA PARA: OPTIMIZACIÓN Y VARIACIÓN DE LAS REDES DE ACUEDUCTO EN EL BARRIO COLSEGUROS Y ALTA SUIZA EN LA CIUDAD DE MANIZALES, DEPARTAMENTO DE CALDAS" "CONSTRUCCIÓN RED DE CONDUCCIÓN LA AURORA FASE l. BARRIO LA SULTANA, MANIZALES, CALDAS" "CONSTRUCCIÓN RED DE CONDUCCIÓN LA AURORA FASE 11. BARRIO LA SULTANA, MANIZALES, CALDAS" "OPTIMIZACIÓN RED DE ACUEDUCTO Y ALCANTARILLADO EN EL BARRIO LAS DELICIAS FASE 1, CIUDAD DE MANIZALES, DEPARTAMENTO DE CALDAS" "OPTIMIZACIÓN RED DE ACUEDUCTO Y ALCANTARILLADO EN EL BARRIO LAS DELICIAS FASE 11, CIUDAD DE MANIZALES, DEPARTAMENTO DE CALDAS" "OPTIMIZACIÓN REDES DE ALCANTARILLADO BARRIO LOS NOGALES FASE I" "OPTIMIZACIÓN REDES DE ALCANTARILLADO BARRIO LOS NOGALES FASE 11", "CULMINACIÓN DE LAS OBRAS DE OPTIMIZACIÓN RED DE ACUEDUCTO Y ALCANTARILLADO EN EL BARRIO LAS DELICIAS FASE 11, CIUDAD DE MANIZALES, DEPARTAMENTO DE CALDAS".
A61: 0242 – 2017 | B61: 7 | C61: RESIDENTE DE INTERVENTORIA | D61: SUPERVISIÓN EXTERNA PARA: "CONSTRUCCIÓN RED DE CONDUCCIÓN PLANTA NIZA ZONA NORTE FASE I" "OPTIMIZACIÓN Y VARIACIÓN DE LAS REDES DE ACUEDUCTO Y ALCANTARILLADO EN EL BARRIO EL CENTRO Y SAN JOAQUÍN EN LA CIUDAD DE MANIZALES, DEPARTAMENTO DE CALDAS"
...

Sheet COMP FINANCIERO
B2: GOBERNACIÓN DE CALDAS
B3: SECRETARÍA DE VIVIENDA Y TERRITORIO
B4: EVALUACIÓN COMPONENTE FINANCIERO
B5: CM-SV-033-2019
B6: En concordancia con los aspectos financieros y de capacidad económica y Capacidad Organizacional, de los pliegos definitivos para el proceso de contratación CM-SV-033-2019 de la Secretaría de Vivienda Y Territorio de la Gobernación del Departamento de Caldas, el cual tiene por objeto “Interventoría técnica, administrativa, financiera, económica, ambiental y legal al contrato de obra para llevar a cabo la Optimización del sistema de alcantarillado combinado en el Municiio de Filadelfia ” se realiza la presente evaluación con los criterios, requisitos y anexos necesarios para la presentación, en los siguientes términos:
B8: PROPONENTE 1 | D8: MENDOZA VELASQUEZ LINO ANDRES
B9: PROPONENTE | C9: INDICE REQUERIDO | D9: MENDOZA VELASQUEZ LINO ANDRES | G9: PONDERACIÓN
D10: 1
B11: INDICE DE LIQUIDEZ | C11: Mayor ó = 1.3 VECES | D11: Activo Corriente | E11: Pasivo Corriente | F11: 108.46072 | G11: 108.46072 | H11: CUMPLE
D12: 2060753759 | E12: 19000000
B13: NIVEL DE ENDEUDAMIENTO | C13: Menor ó = 72% | D13: Pasivo Total | E13: Activo Total | F13: 0.043223887 | G13: 0.043223887 | H13: CUMPLE
D14: 109000000 | E14: 2521753759
B15: RAZON COBERTURA DE INTERESES | C15: Mayor ó = 1 ó indeterminado | D15: Utilidad Operacional | E15: Gasto de Intereses | F15: 168.2 | G15: 168.2 | H15: CUMPLE
D16: 420500000 | E16: 2500000
B17: INDICE CAPITAL DE TRABAJO | C17: Mayor ó = 40% del Presupuesto oficial | D17: Activo Corriente | E17: Presupuesto Oficial | F17: 23.437321 | G17: 23.437321 | H17: CUMPLE
D18: 2060753759 | E18: 87115493
B19: RENTABILIDAD SOBRE EL PATRIMONIO | C19: Mayor ó = 3% | D19: Utilidad Operacional | E19: Patrimonio | F19: 0.17428219 | G19: 0.17428219 | H19: CUMPLE
D20: 420500000 | E20: 2412753759
B21: RENTABILIDAD SOBRE ACTIVOS | C21: Mayor ó = 1% | D21: Utilidad Operacional | E21: Activo Total | F21: 0.16674903 | G21: 0.16674903 | H21: CUMPLE
D22: 420500000 | E22: 2521753759
B23: OBSERVACIONES | D23: 22/05/2019 Y 20-05-2019
B25: PROPONENTE 2 | D25: CONSORCIO INTERCOL
B26: PROPONENTE | C26: INDICE REQUERIDO | D26: CRUZ AYALA CARLOS AUGUSTO | G26: PERDOMO VELASCO LUIS MIGUEL | J26: PONDERACIÓN
D27: 0.5 | G27: 0.5
B28: INDICE DE LIQUIDEZ | C28: Mayor ó = 1.3 VECES | D28: Activo Corriente | E28: Pasivo Corriente | F28: 22.268178 | G28: Activo Corriente | H28: Pasivo Corriente | I28: 215.45038 | J28: 39.520665 | K28: CUMPLE
D29: 785228253 | E29: 35262348 | G29: 745025266 | H29: 3457990
B30: NIVEL DE ENDEUDAMIENTO | C30: Menor ó = 72% | D30: Pasivo Total | E30: Activo Total | F30: 0.37627769 | G30: Pasivo Total | H30: Activo Total | I30: 0.4749273 | J30: 0.40311189 | K30: CUMPLE
D31: 1050670587 | E31: 2792274449 | G31: 495514343 | H31: 1043347780
B32: RAZON COBERTURA DE INTERESES | C32: Mayor ó = 1 ó indeterminado | D32: Utilidad Operacional | E32: Gasto de Intereses | F32: 12.386859 | G32: Utilidad Operacional | H32: Gasto de Intereses | I32: 3.3284588 | J32: 6.3932505 | K32: CUMPLE
D33: 285017407 | E33: 23009660 | G33: 157857669 | H33: 47426656
B34: INDICE CAPITAL DE TRABAJO | C34: Mayor ó = 40% del Presupuesto oficial | D34: Activo Corriente | E34: Presupuesto Oficial | F34: 8.6088694 | G34: Activo Corriente | H34: Presupuesto Oficial | I34: 8.2833892 | J34: 8.330296 | K34: CUMPLE
D35: 785228253 | E35: 87115493 | G35: 745025266 | H35: 89524621
B36: RENTABILIDAD SOBRE EL PATRIMONIO | C36: Mayor ó = 3% | D36: Utilidad Operacional | E36: Patrimonio | F36: 0.16365226 | G36: Utilidad Operacional | H36: Patrimonio | I36: 0.28814902 | J36: 0.19344276 | K36: CUMPLE
D37: 285017407 | E37: 1741603862 | G37: 157857669 | H37: 547833437
B38: RENTABILIDAD SOBRE ACTIVOS | C38: Mayor ó = 1% | D38: Utilidad Operacional | E38: Activo Total | F38: 0.10207356 | G38: Utilidad Operacional | H38: Activo Total | I38: 0.15129919 | J38: 0.11546368 | K38: CUMPLE
D39: 285017407 | E39: 2792274449 | G39: 157857669 | H39: 1043347780
B40: OBSERVACIONES | D40: 22/05/2019 Y 20-05-2019
B42: PROPONENTE 3 | D42: GOMEZ TOBON LUIS ARTURO
B43: PROPONENTE | C43: INDICE REQUERIDO | D43: GOMEZ TOBON LUIS ARTURO | G43: PONDERACIÓN
D44: 1
...

Sheet COMP JURIDICO
B1: EVALUACION JURIDICA CM-SV-0033-2019
A2: No. | B2: PROPONENTE | C2: CARTA PRESENTACIÓN | I2: CERTIFICADO DE INSCRIPCIÓN EN EL REGISTRO UNICO DE PROPONENTES (RUP) | O2: CONFORMACIÓN CONSORCIAL/UT | S2: CERTIFICADO DE EXISTENCIA Y REPRESENTACIÓN LEGAL | AA2: GARANTIA DE SERIEDAD DE LA OFERTA | AI2: OTROS DOCUMENTOS | AR2: HABIL / NO HABIL / SUBSANAR | AS2: OBSERVACIONES | AT2: OBSERVACIONES
C3: PRESENTA (PRESENTA/NO PRESENTA) | D3: REPRESENTANTE LEGAL | E3: INGENIERO QUE AVALA LA PROPUESTA | F3: No. MATRICULA PROFESIONAL (Quien avala la propuesta) | G3: CERTIFICADO COPNIA (SI/NO) | H3: VIGENCIA CERTIFICADO | I3: PRESENTA (SI/NO) | J3: CÓDIGO UNSPSC 81101500 | K3: FECHA DE EXPEDICIÓN | L3: SANCIONES CONSIGNADAS EN EL RUP | M3: RENOVADO | N3: FIRMEZA RUP | O3: PRESENTA (SI/NO/NA) | P3: DURACION | Q3: NOMBRE | R3: % PARTICIPACIÓN | S3: PRESENTA (SI/NO/NA) | T3: FECHA DE EXPEDICIÓN | U3: DOMICILIO | V3: OBJETO SOCIAL | W3: DURACIÓN DE LA SOCIEDAD | X3: REPRESENTANTE LEGAL | Y3: LIMITACIONES AL REPRESENTANTE LEGAL | Z3: AUTORIZACIÓN DEL ORGANO SOCIAL | AA3: FORMATO A FAVOR DE ENTIDADES ESTATALES | AB3: TOMADOR | AC3: COMPAÑÍA | AD3: PÓLIZA | AE3: VALOR | AF3: VIGENCIA INICIAL | AG3: VIGENCIA FINAL | AH3: BENEFICIARIO GOBERNACIÓN | AI3: CERTIFICADO DE ANTECEDENTES FISCALES DE LA CONTRALORIA GENERAL DE LA REPUBLICA | AJ3: CERTIFICADO DE ANTECEDENTES DISCIPLINARIOS DE LA PROCURADURIA GENERAL DE LA NACION | AK3: CERTIFICADO DE ANTECEDENTES JUDICIALES | AL3: CERTIFICACIÓN DE PAGOS DE SEGURIDAD SOCIAL Y APORTES PARAFISCALES | AM3: COMPROMISO ANTICORRUPCIÓN | AN3: CEDULA PROPONENTE | AO3: CERTIFICACIÓN REVISOR FISCAL SOCIEDAD ANONIMA QUE CONSTE ABIERTA O CERRADA | AP3: COPIA TARJETA PROFESIONAL CONTADOR O REVISOR FISCAL | AQ3: ANTECEDENTES DISCIPLINARIOS JCC
A4: 1 | B4: LINO ANDRÉS MENDOZA VELÁSQUEZ | C4: PRESENTA | D4: LINO ANDRÉS MENDOZA VELÁSQUEZ | E4: LINO ANDRÉS MENDOZA VELÁSQUEZ | F4: 25202-103867 | G4: SI | H4: SI | I4: SI | J4: CUMPLE | K4: 43752 | L4: NO PRESENTA | M4: CUMPLE | N4: CUMPLE | O4: SI | P4: CUMPLE | Q4: LINO ANDRÉS MENDOZA VELÁSQUEZ | R4: 1 | S4: N/A | AB4: LINO ANDRÉS MENDOZA VELÁSQUEZ | AC4: SEGUROS MUNDIAL | AD4: CG-1018495 | AE4: 8711549 | AF4: 43770 | AG4: 43868 | AH4: CUMPLE | AI4: CUMPLE | AJ4: CUMPLE | AK4: CUMPLE | AL4: CUMPLE | AM4: CUMPLE | AN4: CUMPLE | AO4: N/A | AP4: N/A | AQ4: N/A | AR4: HÁBIL
A6: 2 | B6: CONSORCIO INTERCOL | C6: PRESENTA | D6: SAMUEL ARMANDO CASTILLO PÉREZ | E6: SAMUEL ARMANDO CASTILLO PÉREZ | F6: 08202-137908 | G6: SI | H6: SI | I6: SI | J6: CUMPLE | K6: 43747 | L6: NO PRESENTA | M6: CUMPLE | N6: NO CUMPLE | O6: SI | P6: CUMPLE | Q6: LUIS MIGUEL PERDOMO VELASCO | R6: 0.5 | S6: N/A | Y6: N/A | Z6: N/A | AA6: N/A | AB6: CONSORCIO INTERCOL | AC6: ASEGURADORA SOLIDARIA DE COLOMBIA | AD6: 605-47-994000076999 | AE6: 8711550 | AF6: 43770 | AG6: 43877 | AH6: CUMPLE | AI6: CUMPLE | AJ6: CUMPLE | AK6: CUMPLE | AL6: NO CUMPLE | AM6: CUMPLE | AN6: CUMPLE | AO6: N/A | AP6: CUMPLE | AQ6: CUMPLE | AR6: NO HABIL | AS6: EL PROPONENTE NO CUMPLE CON LA CAPACIDAD JURIDICA ESTABLECIDA EN EL PLIEGO DE CONDICIONES NUMERAL 5TO- DOCUMENTO DE CONFORMACION CONSORCIAL, SE ENCUENTRA EN CAUSAL DE RECHAZO DE LA PROPUESTA POR EL LITERAL N. PRESENTE INCOMPLETO O MAL DILIGENCIADO UNO O ALGUNOS DE LOS DOCUMENTOS DE PARTICIPACION PONDERABLE. PRESENTAN MAL DILIGENCIADA EL DOCUMENTO DE CONSTITUCION CONSORCIAL TODA VEZ QUE EN LOS ANEXOS LA DURACION DEL CONSORCIO ES TRES (3) AÑOS MAS, Y EN LA QUE PRESENTAN ESTAN CON DURACION DE DOS (2) AÑOS MAS. | AT6: NO APORTA PLANILLAS DE PAGO DE SEGURIDAD SOCIAL
I7: SI | J7: CUMPLE | K7: 43748 | L7: NO PRESENTA | M7: CUMPLE | N7: CUMPLE | O7: SI | P7: CUMPLE | Q7: CARLOS AUGUSTO CRUZ AYALA | R7: 0.5 | S7: N/A | Y7: N/A | Z7: N/A | AA7: N/A | AI7: CUMPLE | AJ7: CUMPLE | AK7: CUMPLE | AL7: CUMPLE
A8: 3 | B8: LUIS ARTURO GÓMEZ TOBÓN | C8: PRESENTA | D8: LUIS ARTURO GÓMEZTOBÓN | E8: LUIS ARTURO GÓMEZ TOBÓN | F8: 00000-00734 | G8: SI | H8: SI | I8: SI | J8: CUMPLE | K8: 43768 | L8: NO PRESENTA | M8: CUMPLE | N8: CUMPLE | O8: SI | P8: CUMPLE | Q8: LUIS ARTURO GÓMEZ TOBÓN | R8: 1 | S8: N/A | Y8: N/A | Z8: N/A | AA8: N/A | AB8: LUIS ARTURO GÓMEZ TOBÓN | AC8: SEGUROS DEL ESTADO | AD8: 2144-101310347 | AE8: 8711549 | AF8: 43770 | AG8: 43871 | AH8: CUMPLE | AI8: CUMPLE | AJ8: CUMPLE | AK8: CUMPLE | AL8: CUMPLE | AM8: CUMPLE | AN8: CUMPLE | AO8: N/A | AP8: CUMPLE | AQ8: CUMPLE | AR8: HÁBIL
S9: N/A | Y9: N/A | Z9: N/A | AA9: N/A
A10: 4 | B10: CONSULTORÍA BOGOTANA S.A.S. | C10: PRESENTA | D10: JUAN DIEGO ARENAS DE LA HOZ | E10: JUAN DIEGO ARENAS DE LA HOZ | F10: 25202-318680 | G10: SI | H10: NO | I10: SI | J10: CUMPLE | K10: 43767 | L10: NO PRESENTA | M10: CUMPLE | N10: CUMPLE | O10: SI | P10: CUMPLE | Q10: CONSULTORÍA BOGOTANA S.A.S | R10: 1 | S10: N/A | Y10: N/A | Z10: N/A | AA10: N/A | AB10: CONSULTORÍA BOGOTANA S.A.S. | AC10: SEGUROS DEL ESTADO | AD10: 14-44-101144855 | AE10: 8711549 | AF10: 43770 | AG10: 43922 | AH10: CUMPLE | AI10: CUMPLE | AJ10: CUMPLE | AK10: CUMPLE | AL10: NO CUMPLE | AM10: CUMPLE | AN10: CUMPLE | AO10: N/A | AP10: CUMPLE | AQ10: CUMPLE | AR10: NO HABIL | AT10: NO APORTA PAGOS PLANILLAS DE PAGO A SEGURIDAD SOCIAL
A12: 5 | B12: JACKSON MORENO RACINES | C12: PRESENTA | D12: JACSON MORENO RACINES | E12: JACKSON MORENO RACINES | F12: 25202-113097 | G12: SI | H12: SI | I12: SI | J12: CUMPLE | K12: 43748 | L12: NO PRESENTA | M12: CUMPLE | N12: CUMPLE | O12: SI | P12: CUMPLE | Q12: JACKSON MORENO RACINES | R12: 1 | S12: N/A | Z12: N/A | AA12: N/A | AB12: JACKSON MORENO RACINES | AC12: SEGUROS DEL ESTADO | AD12: 42-44-101120621 | AE12: 8711549 | AF12: 43770 | AG12: 43876 | AH12: CUMPLE | AI12: CUMPLE | AJ12: CUMPLE | AK12: CUMPLE | AL12: CUMPLE | AM12: CUMPLE | AN12: CUMPLE | AO12: N/A | AP12: CUMPLE | AQ12: CUMPLE | AR12: HÁBIL | AT12: TENGO ENTENDIDO QUE YA TIENE CONTRATOS CON EL DEPARTAMENTO DE CALDAS. REVISAR.
I13: SI
B14: MAURICIO LLANO GIRALDO - ABOGADO CONTRATISTA (Original Firmado en Fisico)
E15: MAURICIO LLANO GIRALDO - ABOGADO CONTRATISTA (Original Firmado en Fisico)
A21: https://community.secop.gov.co/Public/Tendering/ContractNoticeManagement/Index?currentLanguage=es-CO&Page=login&Country=CO&SkinName=CCE

Sheet HABILITANTES
B3: ORDEN DE ELIGIBILIDAD | C3: PROPONENTE | D3: EVALUACIÓN JURÍDICA | E3: EVALUACIÓN FINANCIERA Y ORGANIZACIONAL | F3: EVALUACIÓN TÉCNICA
F4: EXPERIENCIA ESPECÍFICA DEL PROPONENTE | G4: EXPERIENCIA ADICIONAL DEL EQUIPO DE TRABAJO | H4: APOYO PROFESIONAL ADICIONAL | I4: PUNTAJE PARA ESTIMULAR Y APOYAR LA INDUSTRIA NACIONAL | J4: PROPONENTES CON TRABAJDORES CON DISCAPACIDAD | K4: PUNTAJE TOTAL
B5: 1 | C5: =Proponentes!B10 -> LINO ANDRÉS MENDOZA | D5: HABIL | E5: HABIL | F5: ='LINO ANDRES MENDOZA'!D59 -> 0.4 | G5: ='LINO ANDRES MENDOZA'!D60 -> 0.36 | H5: ='LINO ANDRES MENDOZA'!D61 -> 0.13 | I5: ='LINO ANDRES MENDOZA'!D62 -> 0.1 | J5: ='LINO ANDRES MENDOZA'!D63 -> 0.01 | K5: =SUM(F5:J5) -> 1
B6: 2 | C6: =Proponentes!B11 -> CONSORCIO INTERCOL | D6: NO HABIL | E6: HABIL | F6: ='CONSORCIO INTERCOL'!D57 -> 0.2 | G6: ='CONSORCIO INTERCOL'!D58 -> 0.36 | H6: ='CONSORCIO INTERCOL'!D59 -> 0.13 | I6: ='CONSORCIO INTERCOL'!D60 -> 0.1 | J6: ='CONSORCIO INTERCOL'!D61 -> 0.01 | K6: =SUM(F6:J6) -> 0.8
B7: 3 | C7: =Proponentes!B12 -> LUIS ARTURO GOMEZ | D7: HABIL | E7: HABIL | F7: ='LUIS ARTURO GOMEZ'!D75 -> 0.4 | G7: NO HABIL | H7: 0.13 | I7: 0.1 | J7: 0.01 | K7: =SUM(F7:J7) -> 0.64
B8: 4 | C8: =Proponentes!B13 -> CONSULTORÍA BOGOTANA SAS | D8: HABIL | E8: HABIL | F8: ='CONSULTORIA BOGOTANA SAS'!D53 -> 0.4 | G8: ='CONSULTORIA BOGOTANA SAS'!D54 -> 0.36 | H8: ='CONSULTORIA BOGOTANA SAS'!D55 -> 0.13 | I8: ='CONSULTORIA BOGOTANA SAS'!D56 -> 0.1 | J8: ='CONSULTORIA BOGOTANA SAS'!D57 -> 0.01 | K8: =SUM(F8:J8) -> 1
B9: 5 | C9: =Proponentes!B14 -> JACSON MORENO | D9: HABIL | E9: HABIL | F9: ='JACSON MORENO'!D72 -> 0.4 | G9: ='JACSON MORENO'!D73 -> 0.36 | H9: ='JACSON MORENO'!D74 -> 0.13 | I9: ='JACSON MORENO'!D75 -> 0.1 | J9: ='JACSON MORENO'!D76 -> 0.01 | K9: =SUM(F9:J9) -> 1
