Workbook

Sheet Presupuesto_AjusteN°2
A1: DEPARTAMENTO DEL CAUCA GOBERNACIÓN | C1: FORTALECIMIENTO DE LOS AMBIENTES ESCOLARES A TRAVÉS DE LA IMPLEMENTACIÓN DE LOS SERVICIOS DE VIGILANCIA Y ASEO EN LOS ESTABLECIMIENTOS EDUCATIVOS OFICIALES DEL DEPARTAMENTO DEL CAUCA PRESUPUESTO AJUSTE N°2
A4: Objetivo Específico | B4: Número | C4: Actividades | D4: Unidad | E4: Cantidad | F4: Valor Total
A5: Disminuir los riesgos de inseguridad e insalubridad en los ambientes escolares de los establecimientos educativos oficiales | B5: 1 | C5: 1.1.1 Garantizar la prestación del servicio de vigilancia en establecimientos educativos oficiales | D5: Vigilante diurno | E5: =Vigilancia_!C5 -> 30 | F5: =Vigilancia_!N7 -> 1.0047643e+10
D6: Vigilante nocturno | E6: =Vigilancia_!C6 -> 292
B7: 2 | C7: 1.1.2 Fortalecer la prestación del servicio de aseo y limpieza en establecimientos educativos oficiales | D7: Aseadores | E7: =Aseo_Ajuste2!L5+Aseo_Ajuste2!P5 -> 356 | F7: =Aseo_Ajuste2!T8 -> 4.9049367e+09
D8: Coordinador | E8: 1
D9: Supervisor | E9: 6
A10: Total | F10: =SUM(F5:F7) -> 1.495258e+10

Sheet Vigilancia_
A1: ACTIVIDAD 1
A2: 1.1.1 Garantizar la prestación del servicio de vigilancia en establecimientos educativos oficiales | B2: UND | C2: CANT | E2: CONDICIONES INICIALES | H2: CONDICIONES AJUSTE N° 1
D3: VALOR 2022 | E3: VIGENCIA 2023 | H3: VIGENCIA 2023 - VALORES 1 enero - Julio 14 de 2023 | K3: VIGENCIA 2023 VALORES 15 julio - 31 diciembre 2023 | N3: TOTAL
E4: VALOR SALARIO PROYECTADO 2023 CON INCREMTENTO DEL 0.8% | F4: No. MESES | G4: TOTAL VIGENCIA 2023 | H4: VALOR UNITARIO AJUSTADO | I4: No. MESES | J4: SUBTOTAL | K4: VALOR UNITARIO AJUSTADO | L4: No. MESES | M4: SUBTOTAL
A5: PUESTOS DE VIGILANCIA DIURNA | B5: UND | C5: 30 | D5: 4336366 | E5: =D5*1.08 -> 4683275.3 | F5: 5 | G5: =C5*E5*F5 -> 702491292 | H5: 5031958.2 | I5: 1 | J5: =I5*H5*C5 -> 1.5095875e+08 | K5: 5180577.3 | L5: 4 | M5: =L5*K5*C5 -> 6.2166928e+08 | N5: =M5+J5 -> 7.7262803e+08
A6: PUESTOS DE VIGILANCIA NOCTURNA | B6: UND | C6: 292 | D6: 5348210 | E6: =D6*1.08 -> 5776066.8 | F6: 5 | G6: =C6*E6*F6 -> 8.4330575e+09 | H6: 6206111.8 | I6: 1 | J6: =I6*H6*C6 -> 1.8121846e+09 | K6: 6389409.5 | L6: 4 | M6: =L6*K6*C6 -> 7.4628303e+09 | N6: =M6+J6 -> 9.275015e+09
A7: TOTAL | J7: =SUM(J5:J6) -> 1.9631434e+09 | M7: =SUM(M5:M6) -> 8.0844996e+09 | N7: =SUM(N5:N6) -> 1.0047643e+10
C11: 27 | E11: 351245646 | F11: 3 | G11: =E11/F11/C11 -> 4336366
C12: 294 | E12: 4717121220 | F12: 3 | G12: =E12/F12/C12 -> 5348210
C13: 5 | E13: 46500000 | F13: 3 | G13: =E13/F13/C13 -> 3100000
C14: 1 | E14: 12000000 | F14: 3 | G14: =E14/F14/C14 -> 4000000

Sheet Aseo_Ajuste2
A1: AJUSTE N°2 - ACTIVIDAD 2
A2: 1.1.2 Fortalecer la prestación del servicio de aseo y limpieza en establecimientos educativos oficiales | B2: UND | C2: CANT | D2: VALOR 2022 | E2: CONDICIONES INICALES | H2: CONDICIONES AJUSTE N° 1 | K2: CONDICIONES AJUSTE N° 2 | T2: TOTAL
E3: VIGENCIA 2023 | H3: VIGENCIA 2023 | K3: VIGENCIA 2023
E4: VALOR SALARIO PROYECTADO 2023 CON INCREMTENTO DEL 0.8% | F4: No. MESES | G4: TOTAL VIGENCIA 2023 | H4: VALOR SALARIO | I4: No. MESES | J4: TOTAL | K4: UND | L4: CANT | M4: VALOR SALARIO | N4: No. MESES | O4: SUBTOTAL | P4: CANT | Q4: VALOR SALARIO | R4: No. MESES | S4: SUBTOTAL
A5: PUESTOS DE SERVICIO DE ASEO EN LAS IEE | B5: UND | C5: 276 | D5: 2382194.1 | E5: =D5*1.08 -> 2572769.6 | F5: 5 | G5: =C5*E5*F5 -> 3.550422e+09 | H5: 3005433.6 | I5: 5 | J5: =I5*H5*C5 -> 4.1474983e+09 | K5: UND | L5: 276 | M5: 3005433.6 | N5: 5 | O5: =N5*M5*L5 -> 4.1474983e+09 | P5: 80 | Q5: 3005433.6 | R5: 2.5 | S5: =R5*Q5*P5 -> 6.0108671e+08 | T5: =S5+O5 -> 4.748585e+09
A6: COORDINADOR | B6: UND | C6: 1 | D6: 3955635 | E6: =D6*1.08 -> 4272085.8 | F6: 5 | G6: =C6*E6*F6 -> 21360429 | H6: 4034527.7 | I6: 5 | J6: =I6*H6*C6 -> 20172639 | K6: UND | L6: 1 | M6: 4034527.7 | N6: 5 | O6: =N6*M6*L6 -> 20172639 | P6: 0 | R6: 0 | S6: =R6*Q6*P6 -> 0 | T6: =S6+O6 -> 20172639
A7: SUPERVISORES MÍNIMOS | B7: UND | C7: 6 | D7: 3393182 | E7: =D7*1.08 -> 3664636.6 | F7: 5 | G7: =C7*E7*F7 -> 1.099391e+08 | H7: 4539299.7 | I7: 5 | J7: =I7*H7*C7 -> 1.3617899e+08 | K7: UND | L7: 6 | M7: 4539299.7 | N7: 5 | O7: =N7*M7*L7 -> 1.3617899e+08 | P7: 0 | R7: 0 | S7: =R7*Q7*P7 -> 0 | T7: =S7+O7 -> 1.3617899e+08
A8: TOTAL | G8: =SUM(G5:G7) -> 3.6817215e+09 | J8: =SUM(J5:J7) -> 4.3038499e+09 | O8: =SUM(O5:O7) -> 4.3038499e+09 | S8: =SUM(S5:S7) -> 6.0108671e+08 | T8: =S8+O8 -> 4.9049367e+09
C11: 269 | E11: 961215300 | F11: 1.5 | G11: =E11/F11/C11 -> 2382194.1
C12: 1 | E12: 5933452.5 | F12: 1.5 | G12: =E12/F12/C12 -> 3955635
C13: 6 | E13: 30538638 | F13: 1.5 | G13: =E13/F13/C13 -> 3393182
