Workbook
Name inf: #REF!
Name inf: #REF!
Name inf: #REF!
Name inf: #REF!

Sheet PRESUPUESTO FINAL
A1: COMPONENTE 1
A2: PROYECTO: FORTALECIMIENTO DEL ORDENAMIENTO TERRITORIAL PARA LA CONSTRUCCION DE VISION REGIONAL EN EL DEPARTAMENTO DEL HUILA
B3: OBJETIVOS (TRES OBJETIVOS)
A4: COMPONENTE | B4: CAPITULO | C4: ITEM | D4: ACTIVIDAD | E4: TIEMPO DE EJECUCION (MESES) | F4: MANO DE OBRA CALIFICADA | G4: MANO DE OBRA NO CALIFICADA | H4: TRANSPORTE | I4: MAQUINARIA, EQUIPOS Y SOFTWARE | J4: ESTUDIOS COMPLEMETARIOS | K4: OTROS GASTOS GENERALES | L4: SUBTOTAL | M4: VALOR TOTAL CAPITULO
A5: 1 | B5: ALISTAMIENTO INSTITUCIONAL | C5: 1 | D5: Determinar la ESTRUCTURA INSTITUCIONAL y articulación de los municipios para la recopilación de información secundaria como insumo para la formulación del plan. | E5: 2 | F5: =#REF! -> #REF! | G5: =#REF!*2 -> #REF! | H5: =#REF!*15 -> #REF! | L5: =SUM(F5:K5) -> #REF! | M5: =SUM(L5:L9) -> #REF!
C6: 2 | D6: Incentivar la PARTICIPACIÓN de actores públicos (asamblea, concejos, CAM, alcaldías) y privados en los procesos de planeación territorial. | F6: =#REF! -> #REF! | L6: =SUM(F6:K6) -> #REF!
C7: 3 | D7: Fortalecer el Sistema de Información Geográfica del Huila – SIR - SIGDEHU y demás métodos de difusión virtual. | F7: =#REF!*2 -> #REF! | G7: =#REF!*2 -> #REF! | I7: =#REF! -> #REF! | L7: =SUM(F7:K7) -> #REF! | N7: NO VA
C8: 4 | D8: Analizar la conveniencia de las diferentes alternativas de asociación que brinda la Ley Orgánica de Ordenamiento Territorial (Ley 1454 de 2011). | F8: =#REF! -> #REF! | K8: =#REF!*4 -> #REF! | L8: =SUM(F8:K8) -> #REF! | N8: 18 MESES
C9: 5 | D9: Definir mecanismos de gestión y financiación para el POD y/o esquemas asociativos que se requieran para la implementación del plan en el marco de las normas vigentes (Ley 1454 de 2011). | F9: =#REF!*E5 -> #REF! | L9: =SUM(F9:K9) -> #REF!
B10: DIAGNÓSTICO TERRITORIAL | C10: 1 | D10: Analizar el territorio e identificar los elementos estructurantes del ordenamiento territorial, identificando el estado actual de ordenamiento. | E10: 3 | F10: =#REF!+#REF!*E10 -> #REF! | L10: =SUM(F10:K10) -> #REF! | M10: =SUM(L10:L20) -> #REF!
C11: 2 | D11: Realizar de manera dinámica el diagnostico, de modo que se cuente con los elementos básicos para entender la forma cómo ha evolucionado el departamento en cada uno de los aspectos identificados como elementos estructurales. | F11: =#REF!*E10 -> #REF! | G11: =#REF!*4 -> #REF! | H11: =#REF!*10 -> #REF! | K11: =#REF!*4+#REF! -> #REF! | L11: =SUM(F11:K11) -> #REF!
C12: 3 | D12: Análisis de la problemática minera-energética en el territorio. | F12: =#REF!+#REF!*4 -> #REF! | G12: =#REF!*2 -> #REF! | L12: =SUM(F12:K12) -> #REF!
C13: 4 | D13: Identificación del Subsistema Ambiental Biofísico. | F13: =#REF!+#REF!+#REF! -> #REF! | G13: =#REF!*2 -> #REF! | J13: =#REF! -> #REF! | L13: =SUM(F13:K13) -> #REF!
C14: 5 | D14: Identificación del Subsistema Productivo-competitivo. | F14: =#REF!+#REF!+#REF!+#REF!*2 -> #REF! | G14: =#REF!*2 -> #REF! | J14: =#REF! -> #REF! | L14: =SUM(F14:K14) -> #REF!
C15: 6 | D15: Identificación del Subsistema Socio Cultural. | F15: =#REF!+#REF!*2 -> #REF! | L15: =SUM(F15:K15) -> #REF!
C16: 7 | D16: Identificación del Subsistema Poblacional. | F16: =#REF!+#REF!+#REF!*2 -> #REF! | J16: =#REF! -> #REF! | L16: =SUM(F16:K16) -> #REF!
C17: 8 | D17: Identificación del Subsistema de Asentamientos Poblaciones. | F17: =#REF!*2 -> #REF! | L17: =SUM(F17:K17) -> #REF!
C18: 9 | D18: Identificación del Subsistema Infraestructura. | F18: =#REF!*2 -> #REF! | L18: =SUM(F18:K18) -> #REF!
C19: 10 | D19: Identificación del Elemento Transversal Riesgo Natural y Cambio Climático. | F19: =#REF!+#REF!+#REF!+#REF!*2 -> #REF! | G19: =#REF!*2 -> #REF! | L19: =SUM(F19:K19) -> #REF!
C20: 11 | D20: Identificación del Subsistema de movilidad y comunicaciones. | F20: =#REF!+#REF!*2 -> #REF! | H20: =#REF!*5 -> #REF! | L20: =SUM(F20:K20) -> #REF!
B21: FORMULACION | C21: 1 | D21: Elaboración de directrices y orientaciones con el fin de determinar los escenarios de uso y ocupación del espacio, especialmente en áreas de conurbación, relacionadas con: | E21: 6 | M21: =SUM(L21:L38) -> #REF!
C22: 1.1 | D22: La conservación y protección del medio ambiente, la biodiversidad y los recursos naturales, de modo que se busque garantizar la protección de los recursos naturales y, en particular, áreas protegidas, ecosistemas estratégicos y sus servicios ecosistémicos asociados y conservación de la estructura ecológica departamental. | F22: =#REF!+#REF!+#REF!*5 -> #REF! | H22: =#REF!*4 -> #REF! | J22: =#REF! -> #REF! | L22: =SUM(F22:K22) -> #REF!
C23: 1.2 | D23: La gestión del riesgo de desastres, así como acciones para la adaptación al cambio climático. La identificación de áreas de amenazas de origen socio-natural, tecnológico, biosanitario o humanos no intencional, que generen riesgo para la localización de asentamientos humanos y para el desarrollo de infraestructuras, servicios y equipamientos regionales y la orientación de medidas de planificación y la definición de proyectos de mitigación que permitan controlar y/o reducir el riesgo existente y que eviten la generación de nuevo riesgo. | F23: =#REF!+#REF!+#REF!*5 -> #REF! | L23: =SUM(F23:K23) -> #REF!
C24: 1.3 | D24: La conservación, preservación y uso de las áreas e inmuebles consideradas como patrimonio cultural de la Nación y de los departamentos, incluyendo, entre otros, los sitios históricos y arqueológicos y las construcciones o restos de ellas que hayan sido declarados como bienes de interés cultural. | F24: =#REF!*3 -> #REF! | G24: =#REF!*3 -> #REF! | K24: =#REF! -> #REF! | L24: =SUM(F24:K24) -> #REF!
C25: 1.4 | D25: La definición y delimitación de las categorías de protección y desarrollo restringido del suelo rural, patrones de suburbanización, la delimitación de las unidades de planificación rural y el sistema de centros poblados rurales. | F25: =#REF!+#REF!*5 -> #REF! | H25: =#REF!*4 -> #REF! | K25: =#REF! -> #REF! | L25: =SUM(F25:K25) -> #REF!
C26: 1.5 | D26: El desarrollo rural con enfoque territorial sustentado en el ordenamiento productivo agropecuario, el ordenamiento social de la propiedad rural, y de las áreas para la producción agropecuaria y el aprovechamiento sostenible de los recursos naturales. | F26: =#REF!*5+#REF! -> #REF! | L26: =SUM(F26:K26) -> #REF!
C27: 2 | D27: Políticas de asentamientos poblacionales y centros urbanos, de tal manera que facilite el desarrollo de su territorio, particularmente con relación a los siguientes temas:
C28: 2.1 | D28: Políticas de gestión del riesgo de desastres que incorporen el riesgo de desastre como condicionante para el uso y ocupación del territorio y como determinante del ordenamiento territorial departamental, en búsqueda de garantizar su desarrollo seguro. | F28: =#REF!+#REF!*5 -> #REF! | L28: =SUM(F28:K28) -> #REF!
C29: 2.2 | D29: Políticas de mediano y largo plazo y orientaciones dirigidas a los municipios en su jurisdicción que les permitan identificar acciones prioritarias en materia de adaptación al cambio climático. | F29: =#REF!+#REF!*5 -> #REF! | K29: =#REF! -> #REF! | L29: =SUM(F29:K29) -> #REF!
C30: 2.3 | D30: Conservación, preservación y uso de las áreas e inmuebles consideradas como patrimonio cultural de la Nación y de los departamentos, incluyendo, entre otros, los sitios históricos y arqueológicos y las construcciones o restos de ellas que hayan sido declarados como bienes de interés cultural. | F30: =#REF!*3 -> #REF! | G30: =#REF!*3 -> #REF! | L30: =SUM(F30:K30) -> #REF!
C31: 2.4 | D31: Ordenamiento del suelo rural, rural suburbano y centros poblados rurales. | F31: =#REF!+#REF!*5 -> #REF! | H31: =#REF!*5 -> #REF! | K31: =#REF! -> #REF! | L31: =SUM(F31:K31) -> #REF!
C32: 3 | D32: Directrices y orientaciones para la localización de la infraestructura física-social de manera que se aprovechen las ventajas competitivas regionales y se promueva la equidad en el desarrollo departamental y municipal, con respecto a:
C33: 3.1 | D33: Las infraestructuras básicas relativas a la red vial nacional y regional, puertos y aeropuertos, así como los sistemas de comunicación entre municipios y su articulación con los diferentes sistemas regionales de transporte. | F33: =#REF!+#REF!*5 -> #REF! | G33: =#REF!*2 -> #REF! | L33: =SUM(F33:K33) -> #REF!
C34: 3.2 | D34: Los corredores viales suburbanos. | F34: =#REF!*5 -> #REF! | L34: =SUM(F34:K34) -> #REF!
C35: 3.3 | D35: Los sistemas de abastecimiento de agua, saneamiento y suministro de energía. Así mismo deberán señalarse las áreas para la realización de actividades referidas al manejo, tratamiento y/o disposición final de residuos sólidos o líquidos, tales como rellenos sanitarios, estaciones de transferencia, plantas incineradoras de residuos, plantas de tratamiento de aguas residuales, y/o estaciones de bombeo necesarias para resolver los requerimientos propios de varios municipios y que se definan de conformidad con la normativa vigente. | F35: =#REF!*5 -> #REF! | L35: =SUM(F35:K35) -> #REF!
C36: 3.4 | D36: Los equipamientos de escala regional y departamental que puedan ser localizados en el suelo rural de los municipios. | F36: =#REF!*5 -> #REF! | H36: =#REF!*4 -> #REF! | L36: =SUM(F36:K36) -> #REF!
C37: 4 | D37: Integración y orientación del POD, en la proyección espacial de los planes sectoriales departamentales con los planes de los municipios y de los grupos étnicos. | F37: =#REF!+#REF!*5 -> #REF! | K37: =#REF!*4 -> #REF! | L37: =SUM(F37:K37) -> #REF!
C38: 5 | D38: Programa de ejecución del POD, estableciendo cronograma para el corto, mediano y largo plazo | F38: =#REF!+#REF!+#REF!*3+#REF! -> #REF! | L38: =SUM(F38:K38) -> #REF!
B39: CARTOGRAFÍA | C39: 1 | D39: Elaboración de cartografía para los diferentes análisis que se realicen en el proceso de diagnóstico, formulación, aprobación e implementación de los POD. | E39: 2 | F39: =#REF!+#REF!*2 -> #REF! | G39: =#REF!*4*2 -> #REF! | I39: =#REF!*2 -> #REF! | J39: =#REF! -> #REF! | K39: =#REF! -> #REF! | L39: =SUM(F39:K39) -> #REF! | M39: =SUM(L39:L40) -> #REF!
C40: 2 | D40: Elaboración y estructuración de las cartografías temáticas que deberán seguir los parámetros establecidos por la Infraestructura Colombiana de Datos Espaciales (ICDE). | F40: =#REF!+#REF!*2 -> #REF! | G40: =#REF!*4*2 -> #REF! | I40: =#REF!*2 -> #REF! | J40: =#REF! -> #REF! | K40: =#REF! -> #REF! | L40: =SUM(F40:K40) -> #REF!
...

Sheet INTERVENTORIA
A2: DESGLOSE DE INTERVENTORIA
A3: ='PRESUPUESTO FINAL'!A3 -> 0
A4: CARGO/OFICIO | E4: CANTIDAD MES | F4: SUELDO Y/O JORNAL MENSUAL | G4: DEDICACION MES | H4: VALOR PARCIAL
A5: COSTO DIRECTO PERSONAL
A6: ARQUITECTO experto en planificación y ordenamiento territorial | E6: 15 | F6: 4500000 | G6: 0.5 | H6: =+E6*F6*G6 -> 33750000
A7: INGENIERO AMBIENTAL EXPERTO EN GESTION DEL RIESGO | E7: =+E6 -> 15 | F7: 4500000 | G7: 0.5 | H7: =+E7*F7*G7 -> 33750000
A8: INGENIERO ESP. SISTEMAS INFORMACION GEOGRAFICA | E8: =+E7 -> 15 | F8: 3500000 | G8: 0.3 | H8: =+E8*F8*G8 -> 15750000
A9: ABOGADO | E9: SUBTOTAL COSTO DE PERSONAL | H9: =SUM(H6:H8) -> 83250000
A10: CONTADOR | E10: FACTOR MULTIPLICADOR | H10: 2.18
A11: PROFESIONAL DE APOYO | E11: TOTAL COSTO DE PERSONAL | H11: =+H9*H10 -> 181485000
A13: CARGO/OFICIO | E13: UNIDAD | F13: VALOR DEL MES | G13: No. MESES | H13: VALOR PARCIAL
A14: OTROS COSTOS DIRECTOS
A15: COSTOS DE ALQUILER DE EQUIPOS
A16: Transporte | E16: Mes | F16: 4000000 | G16: 9 | H16: =+F16*G16 -> 36000000
E17: SUBTOTAL OTROS COSTOS DIRECTOS | H17: =SUM(H16:H16) -> 36000000
E19: TOTAL COSTOS DIRECTOS | H19: =+H11+H17 -> 217485000
E20: IVA 16% | H20: =+H19*0.16 -> 34797600
E21: COSTO TOTAL | H21: =+H20+H19 -> 252282600
H23: PRESUPUESTO GENERAL 5.500.000.000
A27: ____________________________________

Sheet PRESUPUESTO  CONSULTORIA 
A1: GOBERNACIÓN DEL HUILA
A2: DEPARTAMENTO ADMINISTRATIVO DE PLANEACIÓN DEL HUILA
A3: CONSULTORIA ESPECIALIZADA PARA EVALUACIÓN Y EMISIÓN DE CONCEPTOS DE VIABILIDAD PARA PROYECTOS EN EL MARCO DEL MECANISMO DEPARTAMENTAL DE VIABILIZACION EN EL SECTOR DE AGUA POTABLE Y SANEAMIENTO”
A4: ÍTEM | B4: CONCEPTO | C4: CANTIDAD | D4: CATEGORÍA | E4: COSTO MES | F4: FACTOR MULTIPLICADOR | G4: COSTO TOTAL MENSUAL | H4: DEDICACIÓN | M4: VALOR PARCIAL
H5: 1 | I5: 2 | J5: 3 | K5: 4 | L5: TOTAL MESES
A6: A | B6: PERSONAL PROFESIONAL
A7: 1.1 | B7: LIDER DE PROYECTO | C7: 1 | D7: Profesional | F7: 1.96 | G7: =ROUNDUP(E7*F7*C7,0) -> 0 | H7: 1 | I7: 1 | J7: 1 | L7: =SUM(H7:K7) -> 3 | M7: =G7*L7 -> 0
A8: 1.2 | B8: ESPECIALISTA HIDRÁULICO SANITARIO EN DISEÑO DE REDES Y ESTRUCTURAS DE SISTEMAS DE ACUEDUCTO Y ALCANTARILLADO | C8: 1 | D8: Profesional | F8: 1.96 | G8: =ROUNDUP(E8*F8*C8,0) -> 0 | H8: 1 | I8: 1 | J8: 1 | L8: =SUM(H8:K8) -> 3 | M8: =G8*L8 -> 0
A9: 1.3 | B9: ESPECIALISTA EN DISEÑO ESTRUCTURAL | C9: 1 | D9: Profesional | F9: 1.96 | G9: =ROUNDUP(E9*F9*C9,0) -> 0 | H9: 1 | I9: 1 | J9: 1 | L9: =SUM(H9:K9) -> 3 | M9: =G9*L9 -> 0
A10: 1.4 | B10: ASESOR TOPÓGRAFO | C10: 1 | D10: Profesional | F10: 1.96 | G10: =ROUNDUP(E10*F10*C10,0) -> 0 | H10: 1 | I10: 1 | J10: 1 | L10: =SUM(H10:K10) -> 3 | M10: =G10*L10 -> 0 | N10: =+M10/#REF! -> #REF! | O10: =+N10*#REF! -> #REF!
A11: 1.5 | B11: ASESOR EN GEOTECNIA | C11: 1 | D11: Profesional | F11: 1.96 | G11: =ROUNDUP(E11*F11*C11,0) -> 0 | H11: 1 | I11: 1 | J11: 1 | L11: =SUM(H11:K11) -> 3 | M11: =G11*L11 -> 0
A12: 1.6 | B12: PROFESIONAL EN FORTALECIMIENTO INSTITUCIONAL | C12: 1 | D12: Profesional | F12: 1.96 | G12: =ROUNDUP(E12*F12*C12,0) -> 0 | H12: 1 | I12: 1 | J12: 1 | L12: =SUM(H12:K12) -> 3 | M12: =G12*L12 -> 0 | N12: =+M12/#REF! -> #REF! | O12: =+N12*#REF! -> #REF!
A14: SUBTOTAL PERSONAL PROFESIONAL | M14: =M12+M11+M10+M9+M7+M8 -> 0 | N14: =1-N22 -> #DIV/0! | O14: =+N14*O24 -> #DIV/0!
A16: ÍTEM | B16: CONCEPTO | C16: CANTIDAD | D16: CATEGORÍA | E16: =+E4 -> COSTO MES | F16: =+F4 -> FACTOR MULTIPLICADOR | G16: =+G4 -> COSTO TOTAL MENSUAL | H16: DEDICACIÓN | M16: VALOR
H17: 1 | I17: 2 | J17: 3 | K17: 4 | L17: TOTAL MESES | M17: PARCIAL
A18: B | B18: PERSONAL TECNICO AUXILIAR
A19: B1 | B19: SECRETARIA | C19: 2 | D19: Tecnico | F19: 1.96 | G19: =ROUNDUP(E19*F19*C19,0) -> 0 | H19: 1 | I19: 1 | J19: 1 | L19: =SUM(H19:K19) -> 3 | M19: =G19*L19 -> 0 | N19: =+M19/$M$22 -> #DIV/0! | O19: =+N19*$O$22 -> #DIV/0!
A20: B2 | B20: MENSAJERO-CONDUCTOIR | C20: 1 | D20: Tecnico | F20: 1.96 | G20: =ROUNDUP(E20*F20*C20,0) -> 0 | H20: 1 | I20: 1 | J20: 1 | L20: =SUM(H20:K20) -> 3 | M20: =G20*L20 -> 0
A22: SUBTOTAL PERSONAL TECNICO AUXILIAR | M22: =M19+M20 -> 0 | N22: =+M22/M24 -> #DIV/0! | O22: =+N22*O24 -> #DIV/0!
A24: TOTAL COSTOS DEL PERSONAL | M24: =+M14+M22 -> 0 | N24: =+M24/M39 -> #DIV/0! | O24: =+N24*O39 -> #DIV/0!
A26: COSTOS DE INSUMOS, ADMINISTRACION Y OTROS COSTOS (*)
A27: ITEM | B27: CONCEPTO | C27: CANTIDAD | D27: UNIDAD | F27: VALOR UNITARIO | G27: COSTO TOTAL MENSUAL | H27: DEDICACIÓN | M27: VALOR
H28: 1 | I28: 2 | J28: 3 | L28: TOTAL MESES | M28: PARCIAL
A29: C | B29: INSUMOS (OTROS COSTOS)
A30: C1 | B30: ALQUILER DE OFICINA | C30: 1 | D30: MES | G30: =F30 -> 0 | H30: 1 | I30: 1 | J30: 1 | L30: =SUM(H30:K30) -> 3 | M30: =G30*L30 -> 0 | N30: =+#REF!/$M$37 -> #REF! | O30: =+N30*$O$37 -> #REF!
A31: C2 | B31: VEHICULO DE 1300 -2000 C.C. | C31: 1 | D31: MES | G31: =+F31*C31 -> 0 | H31: 1 | I31: 1 | J31: 1 | L31: =SUM(H31:K31) -> 3 | M31: =+G31*L31 -> 0
A32: C3 | B32: EDICION DE INFORMES, DOCUMENTACION, FOTOCOPIAS, PAPELERIA Y PLOTTEADA DE PLANOS. | C32: 8 | D32: UNIDAD | G32: =+F32*C32 -> 0 | H32: 1 | I32: 1 | J32: 1 | L32: =SUM(H32:K32) -> 3 | M32: =ROUND(+G32*L32,0) -> 0
A33: C4 | B33: ALQUILER EQUIPOS TOPOGRAFIA, RTK y ESTACION | C33: 1 | D33: MES | G33: =+F33*C33 -> 0 | H33: 1 | I33: 1 | J33: 1 | L33: =SUM(H33:K33) -> 3 | M33: =+G33*L33 -> 0
A34: C5 | B34: ALQUILER EQUIPOS DE COMPUTO Y MOBILIARIO DE OFICINA, INCLUYE MANTENIMIENTOS PREVENTIVOS Y CORRECTIVOS | C34: 1 | D34: MES | G34: =+F34*C34 -> 0 | H34: 1 | I34: 1 | J34: 1 | L34: =SUM(H34:K34) -> 3 | M34: =+G34*L34 -> 0
A35: C6 | B35: GASTOS DE REPRESENTACION. | C35: 1 | D35: MES | G35: =+F35*C35 -> 0 | H35: 1 | I35: 1 | J35: 1 | L35: =SUM(H35:K35) -> 3 | M35: =+G35*L35 -> 0
A37: * TOTAL INSUMOS, ADMINISTRACION Y OTROS COSTOS | M37: =SUM(M30:M35) -> 0 | N37: =+M37/M39 -> #DIV/0! | O37: =+N37*O39 -> #DIV/0!
A39: TOTAL COSTOS DIRECTOS | M39: =M37+M24 -> 0 | N39: 312321546 | O39: 2.6010188e+08
A40: IVA 19% | M40: =ROUND(M39*19%,0) -> 0 | N40: 59341094 | O40: 49419358
A41: TOTAL COSTOS | M41: =M39+M40 -> 0 | N41: 371662640 | O41: =+O39+O40 -> 309521242
A43: FIRMA PROPONENTE
G52: =3219*0.06 -> 193.14

Sheet PRESUPUESTO DEFINITIVO
A1: GOBERNACION DEL HUILA
A2: DEPARTAMENTO ADMINISTRATIVO DE PLANEACION DEL HUILA
A3: FORTALECIMIENTO DEL ORDENAMIENTO TERRITORIAL PARA LA CONSTRUCCION DE VISION REGIONAL DEL DEPARTAMENTO DEL HUILA
A5: PROYECTO | B5: OBJETIVO GENERAL | C5: OBJETIVOS ESPECIFICOS | D5: COMPONENTE | E5: CAPITULO | F5: PRODUCTO | G5: INDICADORES | H5: META | I5: ACTIVIDADES | J5: TIEMPO DE EJECUCION (MESES) | K5: MANO DE OBRA CALIFICADA | L5: MANO DE OBRA NO CALIFICADA | M5: TRANSPORTE | N5: MAQUINARIA, EQUIPOS Y SOFTWARE | O5: ESTUDIOS COMPLEMETARIOS | P5: OTROS GASTOS GENERALES | Q5: SUBTOTAL | R5: IVA 16% | S5: VALOR TOTAL CAPITULO
A6: FORTALECIMIENTO DEL ORDENAMIENTO TERRITORIAL PARA LA CONSTRUCCION DE VISION REGIONAL EN EL DEPARTAMENTO DEL HUILA | B6: Formular el Plan de Ordenamiento Departamental POD, como una política pública integral y de largo plazo, para planear, ordenar y gestionar las actuaciones sobre el territorio y orientar los POT Municipales, en procura del desarrollo económico, social, sostenible y armónico, con el propósito de mejorar la calidad de vida de la población, teniendo en cuenta el impacto y resultados de las propuestas, ejecuciones y evaluación del POTD | C6: 1. Elaborar el diagnóstico del territorio del departamento del Huila, mediante del análisis de sus elementos estructurantes, el estado actual de su ordenamiento, de modo tal que permita entender la evolución de cada uno de estos elementos y su incidencia en el desarrollo integral del departamento. 2.Formular el Plan de Ordenamiento Departamental mediante la construcción de escenarios, la definición de directrices para el uso y ocupación, la gestión integral del riesgo de las áreas de conurbanizacion, localización de infraestructura física y social, políticas que faciliten las relaciones y la gestión del riesgo entre los centros urbanos y asentamientos poblacionales, la armonización en la proyección espacial de los planes sectoriales entre el departamento y los municipios. 3.Elaboración de la cartografía temática y especifica mediante la espacializacion de las problemáticas actuales y las propuestas de organización de sus sistemas estructurantes, que permita visualizar su organización físico espacial y funcional. | D6: 1 | E6: DIAGNÓSTICO TERRITORIAL | F6: Documento de recopilación y análisis de información y acuerdo de plan de trabajo | G6: DOCUMENTO REALIZADO | H6: 1 | I6: Analizar el territorio mediante la identificacion de los elementos estructurantes del ordenamiento territorial, identificando el estado actual de ordenamiento. | J6: 9 | K6: =#REF!+#REF!*J6 -> #REF! | Q6: =SUM(K6:P6) -> #REF! | S6: =SUM(Q6:Q8) -> #REF!
F7: Documento Diagnóstico territorial y escenarios actual y tendencial | G7: DOCUMENTO REALIZADO | H7: 1 | I7: Realizar de manera dinámica el diagnostico, de modo que se cuente con los elementos básicos para entender la forma cómo ha evolucionado el departamento en cada uno de los aspectos ecomicos, sociales, ambientales y fisicos espaciales. | K7: =#REF!*J6 -> #REF! | L7: =#REF!*4 -> #REF! | M7: =#REF!*10 -> #REF! | P7: =#REF!*4+#REF! -> #REF! | Q7: =SUM(K7:P7) -> #REF!
I8: Identificacion de los sistemas estructurantes. | K8: ='[1]PRESUPUESTO FINAL'!$F$12+'[1]PRESUPUESTO FINAL'!$F$13+'[1]PRESUPUESTO FINAL'!$F$14+'[1]PRESUPUESTO FINAL'!$F$15+'[1]PRESUPUESTO FINAL'!$F$16+'[1]PRESUPUESTO FINAL'!$F$17+'[1]PRESUPUESTO FINAL'!$F$18+'[1]PRESUPUESTO FINAL'!$F$19+'[1]PRESUPUESTO FINAL'!$F$20 -> 137115000 | L8: ='[1]PRESUPUESTO FINAL'!$G$12+'[1]PRESUPUESTO FINAL'!$G$13+'[1]PRESUPUESTO FINAL'!$G$14+'[1]PRESUPUESTO FINAL'!$G$19 -> 10560000 | M8: ='[1]PRESUPUESTO FINAL'!$H$20 -> 17500000 | O8: ='[1]PRESUPUESTO FINAL'!$J$13+'[1]PRESUPUESTO FINAL'!$J$14+'[1]PRESUPUESTO FINAL'!$J$16 -> 225000000 | Q8: =SUM(K8:P8) -> 390175000
E9: FORMULACION TERRITORIAL | F9: Documento de formulación con su correspondiente modelo de territorio deseado y directrices. | G9: DOCUMENTO REALIZADO | H9: 1 | I9: Elaboración de directrices y orientaciones con el fin de determinar los escenarios de uso y ocupación del espacio, especialmente en áreas de conurbación. | J9: 4 | K9: ='[1]PRESUPUESTO FINAL'!$F$22+'[1]PRESUPUESTO FINAL'!$F$23+'[1]PRESUPUESTO FINAL'!$F$24+'[1]PRESUPUESTO FINAL'!$F$25+'[1]PRESUPUESTO FINAL'!$F$26 -> 127462500 | L9: ='[1]PRESUPUESTO FINAL'!$G$24 -> 3960000 | M9: ='[1]PRESUPUESTO FINAL'!$H$22+'[1]PRESUPUESTO FINAL'!$H$25 -> 28000000 | O9: ='[1]PRESUPUESTO FINAL'!$J$22 -> 75000000 | P9: ='[1]PRESUPUESTO FINAL'!$K$24+'[1]PRESUPUESTO FINAL'!$K$25 -> 95000000 | Q9: =SUM(K9:P9) -> 329422500 | S9: =SUM(Q9:Q14) -> #REF!
F10: Documento de formulación con sus correspondientes estrategias, programas y proyectos. | G10: DOCUMENTO REALIZADO | H10: 1 | I10: Políticas de asentamientos poblacionales y centros urbanos, de tal manera que facilite el desarrollo de su territorio. | K10: ='[1]PRESUPUESTO FINAL'!$F$28+'[1]PRESUPUESTO FINAL'!$F$29+'[1]PRESUPUESTO FINAL'!$F$30+'[1]PRESUPUESTO FINAL'!$F$31 -> 104912500 | L10: ='[1]PRESUPUESTO FINAL'!$G$30 -> 3960000 | M10: ='[1]PRESUPUESTO FINAL'!$H$31 -> 17500000 | P10: ='[1]PRESUPUESTO FINAL'!$K$29+'[1]PRESUPUESTO FINAL'!$K$31 -> 95000000 | Q10: =SUM(K10:P10) -> 221372500
F11: Documentos Técnicos de Soporte | G11: DOCUMENTO REALIZADO | H11: 1 | I11: Directrices y orientaciones para la localización de la infraestructura física-social de manera que se aprovechen las ventajas competitivas regionales y se promueva la equidad en el desarrollo departamental y municipal. | K11: ='[1]PRESUPUESTO FINAL'!$F$33+'[1]PRESUPUESTO FINAL'!$F$34+'[1]PRESUPUESTO FINAL'!$F$35+'[1]PRESUPUESTO FINAL'!$F$36+'[1]PRESUPUESTO FINAL'!$F$37+'[1]PRESUPUESTO FINAL'!$F$38 -> 162525000 | L11: ='[1]PRESUPUESTO FINAL'!$G$33 -> 1980000 | M11: ='[1]PRESUPUESTO FINAL'!$H$36 -> 14000000 | P11: ='[1]PRESUPUESTO FINAL'!$K$37 -> 16000000 | Q11: =SUM(K11:P11) -> 194505000
I12: Integración y orientación del POD, en la proyección espacial de los planes sectoriales departamentales con los planes de los municipios y de los grupos étnicos. | K12: =#REF!+#REF!*5 -> #REF! | P12: =#REF!*4 -> #REF! | Q12: =SUM(K12:P12) -> #REF!
F13: Proyecto de Ordenanza | G13: DOCUMENTO REALIZADO | H13: 1 | I13: Programa de ejecución del POD, estableciendo cronograma para el corto, mediano y largo plazo | K13: =#REF!+#REF!+#REF!*3 -> #REF! | Q13: =SUM(K13:P13) -> #REF!
I14: Elaboración del proyecto de Ordenanza. | K14: =#REF! -> #REF! | Q14: =SUM(K14:P14) -> #REF!
E15: CARTOGRAFÍA PROCESO DE DIAGNOSTICO Y FORMULACION POD | F15: Cartografía digital e impresa, aerofotografías, base de datos | G15: CARTOGRAFIA PARA ELABORACION DEL DIAGNOSTICO | H15: 1 | I15: Elaboración de cartografía para los diferentes análisis que se realicen en el proceso de diagnóstico del POD, que deberán seguir los parámetros establecidos por la Infraestructura Colombiana de Datos Espaciales (ICDE). | J15: 3 | K15: =#REF!+#REF!*2 -> #REF! | L15: =#REF!*4*2 -> #REF! | N15: =#REF!*2+'[1]MANO DE OBRA'!$D$59 -> #REF! | O15: =#REF! -> #REF! | P15: =#REF! -> #REF! | Q15: =SUM(K15:P15) -> #REF! | S15: =SUM(Q15:Q16) -> #REF!
G16: CARTOGRAFIA PARA ELABORACION DE LA FORMULACION | H16: 1 | I16: Elaboración y estructuración de las cartografías temáticas para el proceso de formulacion que deberán seguir los parámetros establecidos por la Infraestructura Colombiana de Datos Espaciales (ICDE). | K16: =#REF!+#REF!*2 -> #REF! | L16: =#REF!*4*2 -> #REF! | N16: =#REF!*2 -> #REF! | O16: =#REF! -> #REF! | P16: =#REF! -> #REF! | Q16: =SUM(K16:P16) -> #REF!
D17: VALOR TOTAL COMPONENTE 1-PLAN DE ORDENAMIENTO DEPARTAMENTAL | S17: =SUM(S6:S16) -> #REF!
D18: 2 | E18: EXPLORACIÓN DEL SUBSUELO Y ENSAYOS DE LABORATORIO | F18: INFORME FINAL DE RESULTADOS DE LOS ENSAYOS Y EXPLORACION DEL SUBSUELO | G18: ENSAYOS DE LABORATORIO REALIZADOS PARA ESTUDIOS BASICOS | H18: 1 | I18: Ejecutar apiques, perforaciones, trincheras y lineas de refraccion sismica y geoelectrica | J18: 1 | K18: ='[2]VALOR TOTAL 2809'!$H$5+'[2]VALOR TOTAL 2809'!$H$6+'[2]VALOR TOTAL 2809'!$H$7 -> 798424000 | L18: ='[2]VALOR TOTAL 2809'!$H$8+'[2]VALOR TOTAL 2809'!$H$9 -> 73315000 | O18: ='[2]VALOR TOTAL 2809'!$H$10+'[2]VALOR TOTAL 2809'!$H$11 -> 3.8786e+08 | Q18: =SUM(K18:P18) -> 1259599000 | R18: =Q18*16% -> 201535840 | S18: =Q18+R18 -> 1461134840
G19: EXPLORACION DEL SUBSUELO | H19: 1 | I19: Elaboracion de diferentes ensayos de laboratorios requeridos para los estudios basicos | J19: 1 | O19: ='[2]VALOR TOTAL 2809'!$H$14+'[2]VALOR TOTAL 2809'!$H$15+'[2]VALOR TOTAL 2809'!$H$16+'[2]VALOR TOTAL 2809'!$H$17+'[2]VALOR TOTAL 2809'!$H$18+'[2]VALOR TOTAL 2809'!$H$19+'[2]VALOR TOTAL 2809'!$H$20+'[2]VALOR TOTAL 2809'!$H$21+'[2]VALOR TOTAL 2809'!$H$22+'[2]VALOR TOTAL 2809'!$H$23 -> 239598150 | Q19: =SUM(K19:P19) -> 239598150 | R19: =Q19*16% -> 38335704 | S19: =Q19+R19 -> 277933854
E20: CARTOGRAFIA ESTUDIOS BASICOS | F20: CARTOGRAFÍA DIGITAL E IMPRESA, AEROFOTOGRAFÍAS, BASE DE DATOS | G20: CARTOGRAFIA PARA LA ELABORACION DE ESTUDIOS BASICOS | H20: 1 | I20: Elaborar la cartografia requeria por el DECRETO 1807 DE 2014 Y 1077 DE 2015, para los estudios basicos ambientales | J20: 2 | K20: ='[2]VALOR TOTAL 2809'!$H$26+'[2]VALOR TOTAL 2809'!$H$27 -> 156090000 | L20: ='[2]VALOR TOTAL 2809'!$H$28+'[2]VALOR TOTAL 2809'!$H$29 -> 476027200 | P20: ='[2]VALOR TOTAL 2809'!$H$30+'[2]VALOR TOTAL 2809'!$H$31 -> 70713500 | Q20: =SUM(K20:P20) -> 702830700 | R20: =Q20*16% -> 112452912 | S20: =Q20+R20 -> 815283612
E21: ACTIVIDADES Y ESTUDIOS DE APOYO | F21: INFORME FINAL CON RESULTADOS DE ACTIVAIDADES DE APOYO Y SOPORTES | G21: DOCUMENTO REALIZADO | H21: 1 | I21: Elaboracion de la Metodologia, Cronograma y Plan de Trabajo | J21: 1.5 | K21: ='[2]VALOR TOTAL 2809'!$H$33 -> 24821955 | Q21: =SUM(K21:P21) -> 24821955 | R21: =Q21*16% -> 3971512.8 | S21: =SUM(Q21:R32) -> 9.9499881e+08
I22: Recopilación, Revisión y Analisis de Información Secundaria | K22: ='[2]VALOR TOTAL 2809'!$H$34 -> 42868261 | Q22: =SUM(K22:P22) -> 42868261 | R22: =Q22*16% -> 6858921.8
I23: Elaboracion de la Geologia y Geomorfologia Rural y Local | K23: ='[2]VALOR TOTAL 2809'!$H$35 -> 58774678 | O23: ='[2]VALOR TOTAL 2809'!$H$36 -> 58774678 | Q23: =SUM(K23:P23) -> 1.1754936e+08 | R23: =Q23*16% -> 18807897
I24: Elaboracion de la Sismologia | O24: ='[2]VALOR TOTAL 2809'!$H$37 -> 27197321 | Q24: =SUM(K24:P24) -> 27197321 | R24: =Q24*16% -> 4351571.3
I25: Analisis de la Cobertura del Suelo Local y rural | K25: ='[2]VALOR TOTAL 2809'!$H$38 -> 34770824 | O25: ='[2]VALOR TOTAL 2809'!$H$39 -> 27353324 | Q25: =SUM(K25:P25) -> 62124148 | R25: =Q25*16% -> 9939863.6
I26: Elaboracion del Modelo Geologico Geotecnico Rural y urbano | K26: ='[2]VALOR TOTAL 2809'!$H$40 -> 35857546 | O26: ='[2]VALOR TOTAL 2809'!$H$41 -> 53945757 | Q26: =SUM(K26:P26) -> 89803303 | R26: =Q26*16% -> 14368529
I27: Elaboracion del Estudio Hidrologico e hidraulicoRural, local y cabeceras municipales | K27: ='[2]VALOR TOTAL 2809'!$H$42+'[2]VALOR TOTAL 2809'!$H$45 -> 58227017 | O27: ='[2]VALOR TOTAL 2809'!$H$43+'[2]VALOR TOTAL 2809'!$H$44 -> 60487588 | Q27: =SUM(K27:P27) -> 1.187146e+08 | R27: =Q27*16% -> 18994337
I28: Analisis de las Amenazas en zona Urbana (Escala 1:2000)y zona rural (Escala 1:25,000) | K28: ='[2]VALOR TOTAL 2809'!$H$46 -> 68342236 | O28: ='[2]VALOR TOTAL 2809'!$H$47 -> 37908009 | Q28: =SUM(K28:P28) -> 1.0625025e+08 | R28: =Q28*16% -> 17000039
I29: Analisis de la Vulnerabilidad zona Urbana (Escala 1:2000) y zona Rural (Escala 1:25,000) | K29: ='[2]VALOR TOTAL 2809'!$H$48 -> 73091630 | O29: ='[2]VALOR TOTAL 2809'!$H$49 -> 39264405 | Q29: =SUM(K29:P29) -> 1.1235604e+08 | R29: =Q29*16% -> 17976966
I30: Elaboracion de la Medidas de Reduccion del Riesgo - Zona Rural y Zona Urbana | K30: ='[2]VALOR TOTAL 2809'!$H$50 -> 34523574 | O30: ='[2]VALOR TOTAL 2809'!$H$51 -> 59177931 | Q30: =SUM(K30:P30) -> 93701505 | R30: =Q30*16% -> 14992241
I31: Elaboracion de Talleres de Socialización | K31: ='[2]VALOR TOTAL 2809'!$H$52 -> 25054487 | Q31: =SUM(K31:P31) -> 25054487 | R31: =Q31*16% -> 4008718
I32: Elaboracion del informe final | K32: ='[2]VALOR TOTAL 2809'!$H$53 -> 37316375 | Q32: =SUM(K32:P32) -> 37316375 | R32: =Q32*16% -> 5970620
E33: EQUIPO Y OTROS GASTOS | F33: DOCUMENTOS SOPORTES DE ESTUDIOS BASICOS | G33: DOCUMENTO IMPRESO FINAL DE ESTUDIO BASICO | H33: 1 | I33: Desplazamiento a la zona rural y urbana | J33: 1.5 | M33: ='[2]VALOR TOTAL 2809'!$H$54 -> 28758400 | Q33: =SUM(K33:P33) -> 28758400 | R33: =Q33*16% -> 4601344 | S33: =Q33+R33 -> 33359744
I34: Impresión y presentación de informes, ploteo de planos, fotocopias y otros gastos de papelería | J34: 0.5 | P34: ='[2]VALOR TOTAL 2809'!$H$55 -> 16555000 | Q34: =SUM(K34:P34) -> 16555000 | R34: =Q34*16% -> 2648800 | S34: =Q34+R34 -> 19203800
D35: VALOR TOTAL COMPONENTE 2-ESTUDIOS BASICOS | S35: =SUM(S18:S34) -> 3.6019147e+09
D36: TOTAL COMPONENTE 1 + 2 | S36: =S17+S35 -> #REF!
D37: VALOR INTERVENTORIA 7% | S37: =S36*7% -> #REF!
D38: GRAN TOTAL | S38: =S36+S37 -> #REF!

Sheet PROGRAMACION FINAL
J2: MESES
A4: PROYECTO | B4: OBJETIVO GENERAL | C4: OBJETIVOS ESPECIFICOS | D4: COMPONENTE | E4: CAPITULO | F4: PRODUCTO | G4: INDICADORES | H4: META | I4: ACTIVIDADES | J4: TIEMPO DE EJECUCION (MESES) | K4: 1 | M4: 2 | N4: 3 | O4: 4 | P4: 5 | Q4: 6 | R4: 7 | S4: 8 | U4: 9 | V4: 10 | W4: 11 | X4: 12 | Y4: 13 | Z4: 14
A5: FORTALECIMIENTO DEL ORDENAMIENTO TERRITORIAL PARA LA CONSTRUCCION DE VISION REGIONAL EN EL DEPARTAMENTO DEL HUILA | B5: Formular el Plan de Ordenamiento Departamental POD, como una política pública integral y de largo plazo, para planear, ordenar y gestionar las actuaciones sobre el territorio y orientar los POT Municipales, en procura del desarrollo económico, social, sostenible y armónico, con el propósito de mejorar la calidad de vida de la población, teniendo en cuenta el impacto y resultados de las propuestas, ejecuciones y evaluación del POTD | C5: 1. Elaborar el diagnóstico del territorio del departamento del Huila, mediante del análisis de sus elementos estructurantes, el estado actual de su ordenamiento, de modo tal que permita entender la evolución de cada uno de estos elementos y su incidencia en el desarrollo integral del departamento. 2.Formular el Plan de Ordenamiento Departamental mediante la construcción de escenarios, la definición de directrices para el uso y ocupación, la gestión integral del riesgo de las áreas de conurbanizacion, localización de infraestructura física y social, políticas que faciliten las relaciones y la gestión del riesgo entre los centros urbanos y asentamientos poblacionales, la armonización en la proyección espacial de los planes sectoriales entre el departamento y los municipios. 3.Elaboración de la cartografía temática y especifica mediante la espacializacion de las problemáticas actuales y las propuestas de organización de sus sistemas estructurantes, que permita visualizar su organización físico espacial y funcional. | D5: 1 | E5: DIAGNÓSTICO TERRITORIAL | F5: DOCUMENTO DIAGNOSTICO CON SUS CORRESPONDIENTES SOPORTES | G5: DOCUMENTO REALIZADO | H5: 1 | I5: Analizar el territorio mediante la identificacion de los elementos estructurantes del ordenamiento territorial, identificando el estado actual de ordenamiento. | J5: 4
I6: Realizar de manera dinámica el diagnostico, de modo que se cuente con los elementos básicos para entender la forma cómo ha evolucionado el departamento en cada uno de los aspectos ecomicos, sociales, ambientales y fisicos espaciales.
I7: Identificar y determinar los sistemas estructurantes regionales.
E8: FORMULACION TERRITORIAL | F8: DOCUMENTO DE FORMULACION CON SUS CORRESPONDIENTES SOPORTES | G8: DOCUMENTO REALIZADO | H8: 1 | I8: Elaboración de directrices y orientaciones con el fin de determinar los escenarios de uso y ocupación del espacio, especialmente en áreas de conurbación. | J8: 6
I9: Políticas de asentamientos poblacionales y centros urbanos, de tal manera que facilite el desarrollo de su territorio.
I10: Directrices y orientaciones para la localización de la infraestructura física-social de manera que se aprovechen las ventajas competitivas regionales y se promueva la equidad en el desarrollo departamental y municipal.
I11: Integración y orientación del POD, en la proyección espacial de los planes sectoriales departamentales con los planes de los municipios y de los grupos étnicos.
I12: Programa de ejecución del POD, estableciendo cronograma para el corto, mediano y largo plazo
E13: CARTOGRAFÍA PROCESO DE DIAGNOSTICO Y FORMULACION POD | F13: CARTOGRAFÍA DIGITAL E IMPRESA, AEROFOTOGRAFÍAS, BASE DE DATOS | G13: CARTOGRAFIA PARA ELABORACION DEL DIAGNOSTICO | H13: 1 | I13: Elaboración de cartografía para los diferentes análisis que se realicen en el proceso de diagnóstico del POD, que deberán seguir los parámetros establecidos por la Infraestructura Colombiana de Datos Espaciales (ICDE). | J13: 3
G14: CARTOGRAFIA PARA ELABORACION DE LA FORMULACION | H14: 1 | I14: Elaboración y estructuración de las cartografías temáticas para el proceso de formulacion que deberán seguir los parámetros establecidos por la Infraestructura Colombiana de Datos Espaciales (ICDE).
D15: 2 | E15: EXPLORACIÓN DEL SUBSUELO Y ENSAYOS DE LABORATORIO | F15: INFORME FINAL DE RESULTADOS DE LOS ENSAYOS Y EXPLORACION DEL SUBSUELO | G15: ENSAYOS DE LABORATORIO REALIZADOS PARA ESTUDIOS BASICOS | H15: 1 | I15: Ejecutar apiques, perforaciones, trincheras y lineas de refraccion sismica y geoelectrica | J15: 2
G16: EXPLORACION DEL SUBSUELO | H16: 1 | I16: Elaboracion de diferentes ensayos de laboratorios requeridos para los estudios basicos | J16: 2
E17: CARTOGRAFIA ESTUDIOS BASICOS | F17: CARTOGRAFÍA DIGITAL E IMPRESA, AEROFOTOGRAFÍAS, BASE DE DATOS | G17: CARTOGRAFIA PARA LA ELABORACION DE ESTUDIOS BASICOS | H17: 1 | I17: Elaborar la cartografia requeria por el DECRETO 1807 DE 2014 Y 1077 DE 2015, para los estudios basicos ambientales | J17: 3
E18: ACTIVIDADES Y ESTUDIOS DE APOYO | F18: INFORME FINAL CON RESULTADOS DE ACTIVAIDADES DE APOYO Y SOPORTES | G18: DOCUMENTO REALIZADO | H18: 1 | I18: Elaboracion de la Metodologia, Cronograma y Plan de Trabajo | J18: 4
I19: Recopilación, Revisión y Analisis de Información Secundaria
I20: Elaboracion de la Geologia y Geomorfologia Rural y Local
I21: Elaboracion de la Sismologia
I22: Analisis de la Cobertura del Suelo Local y rural
I23: Elaboracion del Modelo Geologico Geotecnico Rural y urbano
I24: Elaboracion del Estudio Hidrologico e hidraulicoRural, local y cabeceras municipales
I25: Analisis de las Amenazas en zona Urbana (Escala 1:2000)y zona rural (Escala 1:25,000)
I26: Analisis de la Vulnerabilidad zona Urbana (Escala 1:2000) y zona Rural (Escala 1:25,000)
I27: Elaboracion de la Medidas de Reduccion del Riesgo - Zona Rural y Zona Urbana
I28: Elaboracion de Talleres de Socialización
I29: Elaboracion del informe final
E30: EQUIPO Y OTROS GASTOS | F30: DOCUMENTOS SOPORTES DE ESTUDIOS BASICOS | G30: DOCUMENTO IMPRESO FINAL DE ESTUDIO BASICO | H30: 1 | I30: Desplazamiento a la zona rural y urbana | J30: 1.5
I31: Impresión y presentación de informes, ploteo de planos, fotocopias y otros gastos de papelería | J31: 0.5

Sheet PRESUPUESTO INTERVENTORIA
C1: GOBERNACION DEL HUILA
C2: DEPARTAMENTO ADMINISTRATIVO DE PLANEACION DEL HUILA
C3: REALIZAR LA INTERVENTORIA TECNICA ADMINISTRATIVA Y FINANCIERA AL CONTRATO CUYO OBJETO ES: “FORTALECIMIENTO DEL ORDENAMIENTO TERRITORIAL PARA LA CONSTRUCCION DE VISION REGIONAL DEL DEPARTAMENTO DEL HUILA”
A4: ÍTEM | B4: CONCEPTO | C4: CANTIDAD | D4: CATEGORÍA | E4: COSTO MES | F4: FACTOR MULTIPLICADOR | G4: COSTO TOTAL MENSUAL | H4: DEDICACIÓN | W4: VALOR PARCIAL
H5: 1 | I5: 2 | J5: 3 | K5: 4 | L5: 5 | M5: 6 | N5: 7 | O5: 8 | P5: 9 | Q5: 10 | R5: 11 | S5: 12 | T5: 13 | U5: 14 | V5: TOTAL MESES | AF5: 8730000
A6: A | B6: PERSONAL PROFESIONAL | AF6: 0.0402
A7: 1 | B7: DIRECTOR DE INTERVENTORIA | AF7: =+AF5*(1+AF6) -> 9080946
A8: 1.1 | B8: DIRECTOR DE CONSULTORIA - ARQUITECTO ESPECIALISTA EN PLANIFICACION TERRITORIAL Y/O ORDENAMIENTO TERRITORIAL | C8: 1 | D8: Profesional Grado 17 | E8: =G8/F8 -> 5043017.5 | F8: 2.1 | G8: =W8/V8 -> 10590337 | H8: 0.5 | I8: 0.5 | J8: 0.5 | K8: 0.5 | L8: 0.5 | M8: 0.5 | N8: 0.5 | O8: 0.5 | P8: 0.5 | Q8: 0.5 | R8: 0.5 | S8: 0.5 | T8: 0.5 | U8: 0.5 | V8: =SUM(H8:U8) -> 7 | W8: =W9 -> 74132357 | X8: 74132357
A9: SUBTOTAL PERSONAL PROFESIONAL DIRECCION INTERVENTORIA | W9: =73294200+Z15 -> 74132357 | X9: 74132357
A10: 2 | B10: GESTION DEL RIESGO
A11: 2.1 | B11: INGENIERO CIVIL Y/O AMBIENTAL Y/O GEOLOGO CON EXPERIENCIA EN GESTION DEL RIESGO | C11: 1 | D11: Profesional Grado 5 | E11: =G11/F11 -> 2593514.6 | F11: =F8 -> 2.1 | G11: =W11/V11 -> 5446380.6 | H11: 0.6 | I11: 0.6 | J11: 0.6 | K11: 0.6 | L11: 0.6 | M11: 0.6 | N11: 0.6 | O11: 0.6 | P11: 0.6 | Q11: 0.6 | R11: 0.6 | S11: 0.6 | T11: 0.6 | U11: 0.6 | V11: =SUM(H11:U11) -> 8.4 | W11: =W12 -> 45749597 | X11: 45749597
A12: SUBTOTAL PERSONAL PROFESIONAL INSPECTOR DE OBRA | W12: =44911440+Z15 -> 45749597 | X12: 45749597
A13: 3 | B13: EQUIPO PROFESIONAL ADICIONAL
A14: 3.1 | B14: ABOGADO CON EXPERIENCIA EN PROCESOS DE ORDENAMIENTO TERRITORIAL Y/O GESTION DEL RIESGO | C14: 1 | D14: Profesional Grado 6 | E14: =G14/F14 -> 3133271.9 | F14: 2.1 | G14: =W14/V14 -> 6579871 | H14: 0.2 | I14: 0.2 | J14: 0.2 | K14: 0.2 | L14: 0.2 | M14: 0.2 | N14: 0.2 | O14: 0.2 | P14: 0.2 | Q14: 0.2 | R14: 0.2 | S14: 0.2 | T14: 0.2 | U14: 0.2 | V14: =SUM(H14:U14) -> 2.8 | W14: =18004560+Z14 -> 18423639 | X14: 18423639 | Z14: =Z15/2 -> 419078.67
A15: 3.2 | B15: CONTADOR | C15: 1 | D15: Profesional Grado 5 | E15: =G15/F15 -> 2388271.9 | F15: 2.1 | G15: =W15/V15 -> 5015371 | H15: 0.2 | I15: 0.2 | J15: 0.2 | K15: 0.2 | L15: 0.2 | M15: 0.2 | N15: 0.2 | O15: 0.2 | P15: 0.2 | Q15: 0.2 | R15: 0.2 | S15: 0.2 | T15: 0.2 | U15: 0.2 | V15: =SUM(H15:U15) -> 2.8 | W15: =13623960+Z14 -> 14043039 | X15: 14043039 | Z15: =Z19/3 -> 838157.34
A16: SUBTOTAL PERSONAL PROFESIONAL INSPECTOR DE OBRA | W16: =31628520+Z15 -> 32466677 | X16: 32466677 | Z16: 149834160
A18: TOTAL PERSONAL PROFESIONAL | W18: =Z16+Z19 -> 1.5234863e+08 | X18: 1.5234863e+08 | Z18: 5028944.1 | AA18: =W9+W12+W16 -> 1.5234863e+08
Z19: =Z18/2 -> 2514472
A20: ÍTEM | B20: CONCEPTO | C20: CANTIDAD | D20: CATEGORÍA | E20: =+E4 -> COSTO MES | F20: =+F4 -> FACTOR MULTIPLICADOR | G20: =+G4 -> COSTO TOTAL MENSUAL | H20: DEDICACIÓN | W20: VALOR
H21: 1 | I21: 2 | J21: 3 | K21: 4 | L21: 5 | M21: 6 | N21: 7 | O21: =N21+1 -> 8 | P21: =O21+1 -> 9 | Q21: =P21+1 -> 10 | R21: =Q21+1 -> 11 | S21: =R21+1 -> 12 | T21: =S21+1 -> 13 | U21: =T21+1 -> 14 | V21: TOTAL MESES | W21: PARCIAL
A22: B | B22: PERSONAL TECNICO AUXILIAR
A23: B1 | B23: SECRETARIA | C23: 1 | D23: Tecnico 01 | E23: =G23/F23 -> 1544763.1 | F23: =F11 -> 2.1 | G23: =W23/V23 -> 3244002.6 | H23: 0.5 | I23: 0.5 | J23: 0.5 | K23: 0.5 | L23: 0.5 | M23: 0.5 | N23: 0.5 | O23: 0.5 | P23: 0.5 | Q23: 0.5 | R23: 0.5 | S23: 0.5 | T23: 0.5 | U23: 0.5 | V23: =SUM(H23:U23) -> 7 | W23: =22079400+Z26 -> 22708018 | X23: 22708018
A24: B2 | B24: TECNICO AMBIENTAL | C24: 2 | D24: Tecnico 01 | E24: =G24/F24 -> 1541912.3 | F24: =F11 -> 2.1 | G24: =W24/V24 -> 3238015.7 | H24: 1 | I24: 1 | J24: 1 | K24: 1 | L24: 1 | M24: 1 | N24: 1 | O24: 0.5 | P24: 0 | Q24: 0 | R24: 0 | S24: 0 | T24: 0 | U24: 0 | V24: =SUM(H24:U24) -> 7.5 | W24: =23656500+Z26 -> 24285118 | X24: 24285118 | AB24: =G24*H24 -> 3238015.7 | AC24: =G24*I24 -> 3238015.7 | AD24: =G24*K24 -> 3238015.7 | AE24: =G24*#REF! -> #REF! | AF24: =AE24+AD24+AC24+AB24 -> #REF!
A25: B3 | B25: TECNICO EN SIG | C25: 1 | D25: Tecnico 03 | E25: =G25/F25 -> 1980526.3 | F25: 2.1 | G25: =W25/V25 -> 4159105.1 | H25: 0.25 | I25: 0.25 | J25: 0.25 | K25: 0.25 | L25: 0.25 | M25: 0.25 | N25: 0.25 | O25: 0.25 | P25: 0.25 | Q25: 0.25 | R25: 0.25 | S25: 0.25 | T25: 0.25 | U25: 0.25 | V25: =SUM(H25:U25) -> 3.5 | W25: =13928250+Z26 -> 14556868 | X25: 14556868
A26: B4 | B26: TECNICO EN SUELOS | C26: 2 | D26: Tecnico 01 | E26: =G26/F26 -> 3043912.3 | F26: =F24 -> 2.1 | G26: =W26/V26 -> 6392215.7 | H26: 1 | I26: 1 | J26: 1 | K26: 1 | L26: 1 | M26: 1 | N26: 1 | O26: 0.5 | P26: 0 | Q26: 0 | R26: 0 | S26: 0 | T26: 0 | U26: 0 | V26: =SUM(H26:U26) -> 7.5 | W26: =47313000+Z26 -> 47941618 | X26: 47941618 | Z26: =Z19/4 -> 628618.01 | AB26: =(G26*H26)*2 -> 12784431 | AC26: =G26*I26 -> 6392215.7 | AD26: =G26*K26 -> 6392215.7 | AE26: =G26*#REF! -> #REF! | AF26: =AE26+AD26+AC26+AB26 -> #REF!
A27: SUBTOTAL PERSONAL TECNICO AUXILIAR | W27: =Z27+Z19 -> 1.0949162e+08 | X27: 1.0949162e+08 | Z27: 106977150 | AA27: =W23+W24+W25+W26 -> 1.0949162e+08
Y28: =Y29/2 -> 1986164.2 | Z28: =W29-Z29 -> 9001272.6
A29: TOTAL COSTOS DEL PERSONAL | W29: =X29+Y39 -> 2.6581258e+08 | X29: 2.6184025e+08 | Y29: =W29-X29 -> 3972328.5 | Z29: 256811310 | AA29: 2.6184025e+08
A32: COSTOS DE INSUMOS, ADMINISTRACION Y OTROS COSTOS (*)
A33: ITEM | B33: CONCEPTO | C33: CANTIDAD | D33: UNIDAD | G33: COSTO TOTAL MENSUAL | H33: DEDICACIÓN | W33: VALOR | Y33: =W29+W41 -> 3.1033819e+08 | AB33: =W29+W41 -> 3.1033819e+08
H34: 1 | I34: 2 | J34: 3 | K34: 4 | L34: 5 | M34: 6 | N34: =M34+1 -> 7 | O34: =N34+1 -> 8 | P34: =O34+1 -> 9 | Q34: =P34+1 -> 10 | R34: =Q34+1 -> 11 | S34: =R34+1 -> 12 | T34: =S34+1 -> 13 | U34: =T34+1 -> 14 | V34: TOTAL MESES | W34: PARCIAL
A35: C | B35: INSUMOS (OTROS COSTOS)
A36: C1 | B36: VEHICULO DE 1300 -2000 C.C. | C36: 1 | D36: MES | G36: =W36/V36 -> 2086702 | H36: 1 | I36: 1 | J36: 1 | K36: 1 | L36: 1 | M36: 1 | N36: 1 | O36: 1 | P36: 1 | Q36: 0 | R36: 0 | S36: 0 | T36: 0 | U36: 0 | V36: 9 | W36: =16530000+Z45 -> 18780318 | X36: 18780318 | Y36: =W36+W37+W38+W39 -> 44525608
A37: C2 | B37: EDICION DE INFORMES, ESTUDIOS FOTOGRAFICOS, DOCUMENTACION, FOTOCOPIAS, PAPELERIA Y PLOTTEADA DE PLANOS. | C37: 1 | D37: MES | G37: =W37/V37 -> 510737.01 | H37: 1 | I37: 1 | J37: 1 | K37: 1 | L37: 1 | M37: 1 | N37: 1 | O37: 1 | P37: 1 | Q37: 1 | R37: 1 | S37: 1 | T37: 1 | U37: 1 | V37: =SUM(H37:U37) -> 14 | W37: =4900000+Z45 -> 7150318.1 | X37: 7150318.1
A38: C3 | B38: ALQUILER EQUIPOS DE COMPUTO Y DE OFICINA | C38: 1 | D38: MES | G38: =W38/V38 -> 990737.01 | H38: 1 | I38: 1 | J38: 1 | K38: 1 | L38: 1 | M38: 1 | N38: 1 | O38: 1 | P38: 1 | Q38: 1 | R38: 1 | S38: 1 | T38: 1 | U38: 1 | V38: =SUM(H38:U38) -> 14 | W38: =11620000+Z45 -> 13870318 | X38: 13870318 | Y38: =Y39/4 -> 993082.12 | Z38: 35524335 | AB38: =G38*H38 -> 990737.01 | AC38: =G38*I38 -> 990737.01 | AD38: =G38*K38 -> 990737.01 | AE38: =G38*#REF! -> #REF! | AF38: =AE38+AD38+AC38+AB38 -> #REF!
A39: C3 | B39: COMUNICACIONES (telefonía fija o celular, fax, correo, etc.) | C39: 2 | D39: MES | G39: =W39/V39 -> 337475.22 | H39: 1 | I39: 1 | J39: 1 | K39: 1 | L39: 1 | M39: 1 | N39: 1 | O39: 1 | P39: 1 | Q39: 1 | R39: 1 | S39: 1 | T39: 1 | U39: 1 | V39: =SUM(H39:U39) -> 14 | W39: =2474335+Z45 -> 4724653.1 | X39: 4724653.1 | Y39: =Y40/2 -> 3972328.5 | Z39: =W41+Z44 -> 53526880 | AA39: =W41+W29 -> 3.1033819e+08 | AB39: =G39*H39 -> 337475.22 | AC39: =G39*I39 -> 337475.22 | AD39: =G39*K39 -> 337475.22 | AE39: =G39*#REF! -> #REF! | AF39: =AE39+AD39+AC39+AB39 -> #REF!
Y40: =W43-Y41 -> 7944657 | Z40: =W36+W37+W38+W39 -> 44525608
A41: * TOTAL INSUMOS, ADMINISTRACION Y OTROS COSTOS | W41: =X41+Y39 -> 44525608 | X41: 40553279 | Y41: =X29+X41 -> 3.0239353e+08 | Z41: =Z29+Z38 -> 292335645 | AB41: 1030250000 | AC41: =AB41*0.07 -> 72117500
A43: TOTAL COSTOS DIRECTOS | W43: =AA43 -> 3.1033819e+08 | Z43: =W43-Z41 -> 18002545 | AA43: 3.1033819e+08 | AB43: 425420956
A44: IVA 16% | W44: =W43*16% -> 49654110 | Z44: =Z43/2 -> 9001272.6 | AB44: 68067353
...

Sheet PRESUPUESTO MODIFICADO
A1: GOBERNACION DEL HUILA - DEPARTAMENTO ADMINISTRATIVO DE PLANEACION DEL HUILA
A2: FORMULAR EL PLAN DE ORDENAMIENTO TERRITORIAL PARA EL DEPARTAMENTO DEL HUILA
A4: PROYECTO | B4: OBJETIVO GENERAL | C4: OBJETIVOS ESPECIFICOS | D4: PRODUCTO | E4: INDICADORES | F4: META | G4: ACTIVIDADES | I4: TIEMPO DE EJECUCION (MESES) | J4: MANO DE OBRA CALIFICADA | K4: MANO DE OBRA NO CALIFICADA | L4: TRANSPORTE | M4: MAQUINARIA, EQUIPOS Y SOFTWARE | N4: ESTUDIOS COMPLEMETARIOS | O4: OTROS GASTOS GENERALES | P4: SUBTOTAL | Q4: VALOR TOTAL CAPITULO
A5: FORMULAR EL PLAN DE ORDENAMIENTO TERRITORIAL PARA EL DEPARTAMENTO DEL HUILA | B5: Formular un Plan de Ordenamiento territorial para el departamento del Huila, como una política pública de integración regional y de largo plazo, que permita una eficiente planificación física y socioeconómica del territorio mediante la emisión de directrices a los POT Municipales | C5: A.Atender mediante la formulación del plan de ordenamiento departamental, las nuevas demandas globales en materia ambiental, tecnológica y logística; con el fin consolidar una plataforma territorial para la competitividad regional basada en el fomento de los proyectos regionales de desarrollo económico, potenciando los circuitos económicos existentes para reducir las desigualdades socio-espaciales, aportando a la consolidación de un territorio regional, funcionalmente integrado y conectado en su movilidad y que promueve la conservación de su base natural y estructura ecológica como principal elemento de articulación con los demás municipios del Departamento del Huila. | D5: DOCUMENTO BASE PARA EL ALISTAMIENTO INSTITUCIONAL | E5: DOCUMENTO REALIZADO | F5: 1 | G5: 1 | H5: Elaboración de un Documento de recopilación y análisis de información con sus correspondientes soportes | I5: 3 | J5: =#REF!+#REF!*I5 -> #REF! | K5: =#REF!*I5 -> #REF! | L5: =#REF!*37 -> #REF! | O5: =#REF!+#REF! -> #REF! | P5: =SUM(J5:O5) -> #REF! | Q5: =P5+P6+P7+P8 -> #REF!
G6: 2 | H6: Elaboración de un documento donde se definan los mecanismos y estrategias de comunicación para la inclusión participativa de los diversos actores durante el proceso de formulación del plan de ordenamiento | J6: =#REF!+#REF!*I5 -> #REF! | K6: =#REF!*I5 -> #REF! | O6: =#REF! -> #REF! | P6: =SUM(J6:O6) -> #REF!
G7: 3 | H7: Conformación de la Comisión de Ordenamiento Departamental con su respectivo reglamento | J7: =#REF!+#REF!*I5 -> #REF! | K7: =#REF! -> #REF! | P7: =SUM(J7:O7) -> #REF!
G8: 4 | H8: Preparación de un espacio físico, equipos y recurso humano | J8: =#REF! -> #REF! | M8: =#REF!+#REF! -> #REF! | P8: =SUM(J8:O8) -> #REF!
D9: DOCUMENTO DE DIAGNÓSTICO TERRITORIAL CON SUS RESPECTIVOS SOPORTES | E9: DOCUMENTO REALIZADO | F9: 1 | G9: 1 | H9: Elaboración de un Documento Diagnóstico territorial con su correspondiente escenario actual y tendencial | I9: 8 | J9: =#REF!+#REF!+#REF!+#REF!+#REF!+#REF!+#REF!+#REF!+#REF!+#REF!+#REF!*I9 -> #REF! | K9: =#REF!*I9 -> #REF! | L9: =#REF!*37 -> #REF! | O9: =#REF!+#REF! -> #REF! | P9: =SUM(J9:O9) -> #REF! | Q9: =P9+P10+P11 -> #REF!
G10: 2 | H10: Elaboración de Estudios complementarios | J10: =#REF!*I9 -> #REF! | N10: =#REF! -> #REF! | P10: =SUM(J10:O10) -> #REF! | R10: 2.5599912e+09
G11: 3 | H11: Elaboración de cartografía para los diferentes análisis que se realicen en el proceso de diagnóstico del POD, que deberán seguir los parámetros establecidos por la Infraestructura Colombiana de Datos Espaciales (ICDE). | J11: =#REF!*I9*2 -> #REF! | K11: =#REF!*I9 -> #REF! | O11: =#REF!+#REF! -> #REF! | P11: =SUM(J11:O11) -> #REF!
D12: DOCUMENTO DE FORMULACION TERRITORIAL CON SUS RESPECTIVOS SOPORTES | E12: DOCUMENTO REALIZADO | F12: 1 | G12: 1 | H12: Elaboración del Documento de formulación con su correspondiente modelo de territorio deseado, directrices, estrategias, programas y proyectos | I12: 6 | J12: =#REF!+#REF!+#REF!+#REF!+#REF!+#REF!+#REF!+#REF!+#REF!+#REF!+#REF!+#REF!+#REF!+#REF!+#REF!*I12 -> #REF! | K12: =#REF!+#REF!*I12 -> #REF! | L12: =#REF!*37 -> #REF! | O12: =#REF!+#REF! -> #REF! | P12: =SUM(J12:O12) -> #REF! | Q12: =P12+P13 -> #REF! | S12: }
G13: 2 | H13: Elaboración y estructuración de las cartografías temáticas para el proceso de formulación que deberán seguir los parámetros establecidos por la Infraestructura Colombiana de Datos Espaciales (ICDE). | J13: =#REF!*I12*2 -> #REF! | K13: =#REF!*I12 -> #REF! | O13: =#REF!+#REF! -> #REF! | P13: =SUM(J13:O13) -> #REF!
D14: INSTRUMENTO JURIDICO POR EL CUAL SE ADOPTA EL POD MEDIANTE LA DEFINICIÓN DE SU MARCO NORMATIVO, ESTRUCTURA, CONTENIDOS Y ALCANCES | E14: DOCUMENTO REALIZADO | F14: 1 | G14: 1 | H14: Elaboración del Instrumento jurídico por el cual se adopta el POD mediante la definición de su marco normativo, estructura, contenidos y alcances | I14: 2 | J14: =#REF!+#REF!+#REF!*I14 -> #REF! | O14: =#REF! -> #REF! | P14: =SUM(J14:O14) -> #REF! | Q14: =P14 -> #REF!
C15: B.Preparar a la sociedad para la resolución pacífica de conflictos territoriales y del postconflicto, mediante la creación de estrategias de comunicación, participación y gobernanza como una política de inclusión en los procesos de planeación del desarrollo durante la formulación del Plan de Ordenamiento Departamental. | D15: SOCIALIZACIONES, CAPACITACIONES Y TALLERES PARTICIPATIVOS | E15: CAPACITACIONES REALIZADAS | F15: 12 | G15: 1 | H15: SOCIALIZACIONES, CAPACITACIONES Y TALLERES PARTICIPATIVOS | I15: 4 | J15: =#REF!+#REF!*I15 -> #REF! | K15: =#REF!*I15 -> #REF! | L15: =#REF!*37 -> #REF! | O15: =#REF!+#REF!+#REF! -> #REF! | P15: =SUM(J15:O15) -> #REF! | Q15: =P15 -> #REF!
J16: VALOR PARCIAL SIN IVA | Q16: =SUM(Q5:Q15) -> #REF!
J17: IVA 19% | Q17: =Q16*19% -> #REF!
J18: VALOR TOTAL + IVA | Q18: =Q16+Q17 -> #REF!
J19: VALOR INTERVENTORIA 7% | Q19: =Q18*7% -> #REF!
J20: VALOR TOTAL | Q20: =Q18+Q19 -> #REF!

Sheet PRESUPUESTO MODIFICADO (2)
A1: GOBERNACION DEL HUILA - DEPARTAMENTO ADMINISTRATIVO DE PLANEACION DEL HUILA
A2: FORMULAR EL PLAN DE ORDENAMIENTO TERRITORIAL PARA EL DEPARTAMENTO DEL HUILA
A4: PROYECTO | B4: OBJETIVO GENERAL | C4: OBJETIVOS ESPECIFICOS | D4: PRODUCTO | E4: SUBPRODUCTO | F4: INDICADORES | G4: META | H4: TIEMPO DE EJECUCION (MESES) | I4: MANO DE OBRA CALIFICADA | J4: MANO DE OBRA NO CALIFICADA | K4: TRANSPORTE | L4: MAQUINARIA, EQUIPOS Y SOFTWARE | M4: ESTUDIOS COMPLEMETARIOS | N4: OTROS GASTOS GENERALES | O4: VALOR TOTAL CAPITULO
A5: FORMULAR EL PLAN DE ORDENAMIENTO TERRITORIAL PARA EL DEPARTAMENTO DEL HUILA | B5: Elaborar un instrumento de ordenamiento para el departamento del Huila que permita una eficiente planificación física y socioeconómica del territorio, mediante la emisión de directrices y lineamientos a los para los POT Municipales; estrategias para optimizar las inversiones públicas territoriales, y mecanismos para la participación y la gobernanza para del ordenamiento territorial. | C5: A. Formular los documentos técnicos del plan de ordenamiento departamental del Huila, para atender a las nuevas demandas globales en materia ambiental, tecnológica y logística; con el fin de consolidar una plataforma territorial para la competitividad regional basada en el fomento de los proyectos regionales de desarrollo económico, potenciando los circuitos económicos existentes para reducir las desigualdades socio-espaciales, aportando a la consolidación de un territorio regional, funcionalmente integrado y conectado en su movilidad y que promueve la conservación de su base natural y estructura ecológica como principal elemento de articulación con los demás municipios del Departamento del Huila.. | D5: 1. DOCUMENTO DEL ALISTAMIENTO | E5: 1.1. DOCUMENTO DE RECOPILACIÓN Y ANÁLISIS DE INFORMACIÓN CON SUS CORRESPONDIENTES SOPORTES. | F5: DOCUMENTO REALIZADO | G5: 1 | H5: 3 | I5: =Q5+Q6+Q7+Q8 -> 71500000 | J5: =R5+R6+R7 -> 11550000 | K5: =S5 -> 12950000 | L5: =T8 -> 86000000 | N5: =V5+V6 -> 78000000 | O5: =I5+J5+K5+L5+M5+N5 -> 260000000 | Q5: 23100000 | R5: 4950000 | S5: 12950000 | V5: 43000000 | W5: 84000000 | X5: 260000000
E6: 1.2. DOCUMENTO DE PROPUESTA DE MECANISMOS Y ESTRATEGIAS DE COMUNICACIÓN PARA LA INCLUSIÓN PARTICIPATIVA DE LOS DIVERSOS ACTORES DURANTE EL PROCESO DE FORMULACIÓN DEL PLAN DE ORDENAMIENTO. | Q6: 19800000 | R6: 4950000 | V6: 35000000 | W6: 59750000
E7: 1.3 REGLAMENTO DEL COMITÉ TÉCNICO DE ACOMPAÑAMIENTO AL PROCESO DE ORDENAMIENTO | Q7: 20900000 | R7: 1650000 | W7: 22550000
E8: 1.4 DOCUMENTO DE DETALLE Y AJUSTE AL PLAN DE TRABAJO | Q8: 7700000 | T8: 86000000 | W8: 93700000
D9: 2. DOCUMENTOS Y CARTOGRAFÍA DE DIAGNÓSTICO | E9: 2.1 DOCUMENTOS TÉCNICOS DE ANÁLISIS POR SUSBSISTEMAS, Y DE INDENTIFICACIÓN DE ESCENARIOS ACTUAL Y TENDENCIAL | F9: DOCUMENTO REALIZADO | G9: 1 | H9: 8 | I9: =Q9+Q10+Q11 -> 231275000 | J9: =R9+R11 -> 29200000 | K9: =S9 -> 12950000 | M9: =U10 -> 2.5599912e+09 | N9: =V9+V11 -> 94000000 | O9: =I9+J9+K9+L9+M9+N9 -> 2.9274162e+09 | Q9: 86075000 | R9: 13200000 | S9: 12950000 | V9: 51000000 | W9: 163225000 | X9: 2.9274162e+09
E10: 2.2 DOCUMENTOS Y CARTOGRAFÍA DE ESTUDIOS COMPLEMENTARIOS DE ANÁLISIS DE AMENAZAS DE 16 MUNICIPIOS | P10: 2.5599912e+09 | Q10: 39600000 | U10: 2.5599912e+09 | W10: 2.5995912e+09
E11: 2.3 CARTOGRAFÍA DE ANÁLISIS POR SUBSISTEMAS Y DE INDENTIFICACIÓN DE ESCENARIOS DEL DIAGNÓSTICO | Q11: 1.056e+08 | R11: 16000000 | V11: 43000000 | W11: 164600000
D12: 3. DOCUMENTOS TÉCNICOS DE LA FORMULACIÓN | E12: 3.1. DOCUMENTO DE MODELO Y DIRECTRICES DE ORDENAMIENTO. | F12: DOCUMENTO REALIZADO | G12: 1 | H12: 6 | I12: =Q12+Q15+Q16 -> 212300000 | J12: =R12+R15 -> 21075000 | K12: =S12 -> 12950000 | N12: =V12+V15+V16 -> 129000000 | O12: =I12+J12+K12+L12+M12+N12 -> 375325000 | Q12: 108350000 | R12: 9075000 | S12: 12950000 | V12: 51000000 | W12: 181375000 | X12: 315575000
E13: 3.2. DOCUMENTO DE PROGRAMAS, PROYECTOS, FUENTES DE FINANCIACIACIÓN Y ESTRATEGIAS DE GESTIÓN CON HOJA DE RUTA PARA LA IMPLEMENTACIÓN DEL PLAN.
E14: 3.3. DOCUMENTO DE PROPUESTA DEL SISTEMA SEGUIMIENTO, EVALUACIÓN Y CONTROL DEL POD EN LA ETAPA DE IMPLEMENTACIÓN.
E15: 3.4. CARTOGRAFÍAS TEMÁTICAS PARA EL PROCESO DE FORMULACIÓN QUE DEBERÁN SEGUIR LOS PARÁMETROS ESTABLECIDOS POR LA INFRAESTRUCTURA COLOMBIANA DE DATOS ESPACIALES (ICDE). | Q15: 79200000 | R15: 12000000 | V15: 43000000 | W15: 1.342e+08
E16: 3.5. BORRADOR DE INSTRUMENTO JURIDICO POR EL CUAL SE ADOPTA EL POD MEDIANTE LA DEFINICIÓN DE SU MARCO NORMATIVO, ESTRUCTURA, CONTENIDOS Y ALCANCES. | Q16: 24750000 | V16: 35000000 | W16: 59750000 | X16: 59750000
C17: B. Implementar la estrategia de comunicación, participación, gobernanza y fortalecimiento institucional para todos los actores, preparando a la sociedad para la resolución pacífica de conflictos territoriales y del postconflicto en la formulación del Plan de Ordenamiento Departamental. | D17: 4. DOCUMENTOS DE DESARROLLO Y SEGUIMIENTO A LA IMPLEMENTACIÓIN DE LA ESTRAEGIA DE COMUNICACIÓN ELABORADA EN LA ETAPA DE ALISTAMIENTO (SOCIALIZACIONES, CAPACITACIONES Y TALLERES PARTICIPATIVOS REGIONALES). | E17: 4.1. PIEZAS DE COMUNICACIÓN | F17: NUMERO DE PIEZAS DE COMUNICACIÓN | G17: 12 | H17: 6 | I17: =Q19 -> 31350000 | J17: =R19 -> 6600000 | K17: =S19 -> 12950000 | N17: =V19 -> 102100000 | O17: =I17+J17+K17+L17+M17+N17 -> 153000000
E18: 4.2. TALLERES Y OTROS ESPACIOS DE PARTICIPACIÓN CON LOS CORRESPONDIENTES DOCUMENTOS DE TRAZABILIDAD DEL PROCESO. | F18: NUMERO DE TALLERES REALIZADOS | G18: 12
E19: 4.3. EVENTOS Y ACTIVIDADES PARA EL FORTALECIMIENTO INSTITUCIONAL Y DE LA GOBERNANZA. | F19: NUMERO DE EVENTOS REALIZADOS | G19: 12 | Q19: 31350000 | R19: 6600000 | S19: 12950000 | V19: 102100000 | W19: 153000000 | X19: 153000000
I20: VALOR PARCIAL SIN IVA | O20: =SUM(O5:O18) -> 3.7157412e+09 | Q20: VALOR PARCIAL SIN IVA | X20: 3.7157412e+09
I21: IVA 19% | O21: =O20*19% -> 7.0599083e+08 | Q21: IVA 19% | X21: 7.0599083e+08
I22: VALOR TOTAL + IVA | O22: =O20+O21 -> 4.421732e+09 | Q22: VALOR TOTAL + IVA | X22: 4.421732e+09
I23: VALOR INTERVENTORIA 7% | O23: =O22*7% -> 3.0952124e+08 | Q23: VALOR INTERVENTORIA 7% | X23: 3.0952124e+08
I24: VALOR TOTAL | O24: =O22+O23 -> 4.7312533e+09 | Q24: VALOR TOTAL | X24: 4.7312533e+09

Sheet CADENA DE VALOR
A1: GOBERNACION DEL HUILA - DEPARTAMENTO ADMINISTRATIVO DE PLANEACION DEL HUILA
A2: FORMULAR EL PLAN DE ORDENAMIENTO TERRITORIAL PARA EL DEPARTAMENTO DEL HUILA
A4: PROYECTO | B4: OBJETIVO GENERAL | C4: OBJETIVOS ESPECIFICOS | D4: PRODUCTO | E4: SUBPRODUCTO | F4: ACTIVIDADES | G4: INDICADORES | H4: META | I4: TIEMPO DE EJECUCION (MESES) | J4: MANO DE OBRA CALIFICADA | K4: MANO DE OBRA NO CALIFICADA | L4: TRANSPORTE | M4: MAQUINARIA, EQUIPOS Y SOFTWARE | N4: ESTUDIOS COMPLEMETARIOS | O4: OTROS GASTOS GENERALES | P4: VALOR TOTAL CAPITULO
A5: FORMULAR EL PLAN DE ORDENAMIENTO TERRITORIAL PARA EL DEPARTAMENTO DEL HUILA | B5: ='PRESUPUESTO MODIFICADO (2)'!B5:B19 -> Elaborar un instrumento de ordenamiento para el departamento del Huila que permita una eficiente planificación física y socioeconómica del territorio, mediante la emisión de directrices y lineamientos a los para los POT Municipales; estrategias para optimizar las inversiones públicas territoriales, y mecanismos para la participación y la gobernanza para del ordenamiento territorial. | C5: ='PRESUPUESTO MODIFICADO (2)'!C5:C16 -> A. Formular los documentos técnicos del plan de ordenamiento departamental del Huila, para atender a las nuevas demandas globales en materia ambiental, tecnológica y logística; con el fin de consolidar una plataforma territorial para la competitividad regional basada en el fomento de los proyectos regionales de desarrollo económico, potenciando los circuitos económicos existentes para reducir las desigualdades socio-espaciales, aportando a la consolidación de un territorio regional, funcionalmente integrado y conectado en su movilidad y que promueve la conservación de su base natural y estructura ecológica como principal elemento de articulación con los demás municipios del Departamento del Huila.. | D5: 1. DOCUMENTO DEL ALISTAMIENTO | E5: 1.1. DOCUMENTO DE RECOPILACIÓN Y ANÁLISIS DE INFORMACIÓN CON SUS CORRESPONDIENTES SOPORTES. | F5: • Identificar y recolectar información cartográfica, estadística, técnica y de marco jurídico para el POD de nivel nacional, departamental y municipal • Realizar un balance del estado, calidad y vacíos de información • Sistematizar la información existente y fijar ruta o agenda para consecución de información faltante | G5: DOCUMENTO REALIZADO | H5: 1 | I5: 3 | J5: =R5+R6+R7+R8 -> 71500000 | K5: =S5+S6+S7 -> 11550000 | L5: =T5 -> 12950000 | M5: =U8 -> 86000000 | O5: =W5+W6 -> 78000000 | P5: =J5+K5+L5+M5+N5+O5 -> 260000000 | R5: 23100000 | S5: 4950000 | T5: 12950000 | W5: 43000000 | X5: 84000000 | Y5: 260000000
E6: 1.2. DOCUMENTO DE PROPUESTA DE MECANISMOS Y ESTRATEGIAS DE COMUNICACIÓN PARA LA INCLUSIÓN PARTICIPATIVA DE LOS DIVERSOS ACTORES DURANTE EL PROCESO DE FORMULACIÓN DEL PLAN DE ORDENAMIENTO. | F6: • Identificar y elaborar mapa de actores y escalas de trabajo (Nacional, departamental, subregional, municipal, gremios, organizaciones civiles y comunitarias, relacionadas con el POD). • Identificar los mecanismos y actividades de participación, de armonización y concertación según grupos de actores. • Elaborar matriz de actores teniendo en cuenta: nivel de conocimiento social, cargo, especialidad, expectativa /aspiración, grado de influencia (líder de opinión, consultor, influencia local). • Identificación de actores de acuerdo a las diferentes instancias de participación: nacional, regional, local. • Proponer las instancias o mecanismos, formatos etc.; para la verificación y seguimiento de resultados de los actividades de participación. • Realizar 4 talleres de acercamiento con los principales actores para informar sobre el proceso. | R6: 19800000 | S6: 4950000 | W6: 35000000 | X6: 59750000
