Workbook
Name \X: [1]!ERR
Name \X: [1]!ERR
Name \X: [1]!ERR
Name \X: [1]!ERR
Name \X: [1]!ERR
Name \X: [1]!ERR
Name \X: [1]!ERR
Name \X: [1]!ERR
Name \X: [1]!ERR
Name \X: [1]!ERR
Name \X: [1]!ERR
Name \X: [1]!ERR
Name \X: [1]!ERR
Name \X: [1]!ERR
Name \X: [1]!ERR
Name \X: [1]!ERR
Name \X: [1]!ERR
Name \X: [1]!ERR
Name \X: [1]!ERR
Name \X: [1]!ERR
Name \X: [1]!ERR
Name \X: [1]!ERR
Name \X: [1]!ERR
Name \X: [1]!ERR
Name \X: [1]!ERR
Name \X: [1]!ERR
Name \X: [1]!ERR
Name \X: [1]!ERR
Name \X: [1]!ERR
Name \X: [1]!ERR
Name \Z: [1]!ERR
Name \Z: [1]!ERR
Name \Z: [1]!ERR
Name \Z: [1]!ERR
Name \Z: [1]!ERR
Name \Z: [1]!ERR
Name \Z: [1]!ERR
Name \Z: [1]!ERR
Name \Z: [1]!ERR
Name \Z: [1]!ERR
Name \Z: [1]!ERR
Name \Z: [1]!ERR
Name \Z: [1]!ERR
Name \Z: [1]!ERR
Name \Z: [1]!ERR
Name \Z: [1]!ERR
Name \Z: [1]!ERR
Name \Z: [1]!ERR
Name \Z: [1]!ERR
Name \Z: [1]!ERR
Name \Z: [1]!ERR
Name \Z: [1]!ERR
Name \Z: [1]!ERR
Name \Z: [1]!ERR
Name \Z: [1]!ERR
Name \Z: [1]!ERR
Name \Z: [1]!ERR
Name \Z: [1]!ERR
Name \Z: [1]!ERR
Name \Z: [1]!ERR

Sheet PRESUPUESTO
A1: NOMBRE INSTITUCION EDUCATIVA | E1: INSTITUCION EDUCATIVA LA INMACULADA (PRINCIPAL y PRIMARIA)
A2: NOMBRE PROYECTO
A3: FECHA ESTUDIO DE MERCADO
A4: PRESUPUESTO OFICIAL
A5: PLAZO DE EJECUCIÓN | E5: TREINTA (30) Días
A6: VARIABLES CONSIDERADAS PARA CALCULAR EL PRESUPUESTO | E6: -
A8: ITEM | B8: ACTIVIDAD | C8: CODIGO UNSPSC | D8: DESCRIPCIÓN | E8: UND. | F8: CANT. | G8: VALOR UNI. | H8: IVA | I8: VALOR TOTAL
B9: SEDE PRINCIPAL
A10: 1 | B10: CUBIERTA 12,5x2
A11: 1.1 | B11: Correa metalica en perfil estructural rectangular 100 x 40 x 1.5 mm, con anticorrosivo, esmalte e instalacion. Cod. 6713 | E11: ML | F11: =+'1,1'!I17 -> 54.6 | G11: 47801.52 | I11: =+Tabla22[[#This Row],[VALOR UNI.]]*Tabla22[[#This Row],[CANT.]] -> 2609963
A12: 1.2 | B12: Correa metalica en perfil estructural cuadrado 100 x 100 x 2 mm, con anticorrosivo, esmalte e instalacion. Cod. 7778 | E12: ML | F12: =+'1,2'!I16 -> 27 | G12: 77801.42 | I12: =+Tabla22[[#This Row],[VALOR UNI.]]*Tabla22[[#This Row],[CANT.]] -> 2100638.3
A13: 1.3 | B13: Teja tipo master 1000 cal 28 pintada. Cod. 4807 | E13: M2 | F13: =+'1,3'!I17 -> 24.4 | G13: 56248.73 | I13: =+Tabla22[[#This Row],[VALOR UNI.]]*Tabla22[[#This Row],[CANT.]] -> 1372469
A14: 1.4 | B14: Platina apoyo 0.15*0.1 m lamina HR 1/4" con 2 anclajes de 5/8" instalada. Cod. 7280 | E14: UND | F14: =+'1,4'!I17 -> 9 | G14: 43826.44 | I14: =+Tabla22[[#This Row],[VALOR UNI.]]*Tabla22[[#This Row],[CANT.]] -> 394437.96
A15: 2 | B15: SOPORTE PLACA
A16: 2.1 | B16: Acero ASTM - A706 (Incluye: suministro - fabricacion - pintura - montaje). Cod. 5422 | E16: KG | F16: =+'2,1'!I16 -> 123.23 | G16: 11468 | I16: =+Tabla22[[#This Row],[VALOR UNI.]]*Tabla22[[#This Row],[CANT.]] -> 1413201.6
A17: 2.2 | B17: Columnas Tuberia Petrolera D=3 1/2 ". Cod. 5327 | E17: ML | F17: =+'2,2'!I15 -> 5.2 | G17: 136268.6 | I17: =+Tabla22[[#This Row],[VALOR UNI.]]*Tabla22[[#This Row],[CANT.]] -> 708596.72
A18: 2.3 | B18: Platina apoyo fijo 0.25*0.25 m lámina HR 1/4" con 4 perforaciones y 4 pernos 3/4" * 500 mm, tuerca contratuerca. Suministro e Instalacion. Cod. 6670 | E18: UND | F18: =+'2,3'!I26 -> 2 | G18: 317880.32 | I18: =+Tabla22[[#This Row],[VALOR UNI.]]*Tabla22[[#This Row],[CANT.]] -> 635760.64
A19: 3 | B19: ACTIVIDADES VARIAS
A20: 3.1 | B20: Desmonte lavaderos prefabricados, con retiro. Cod. 6639 | E20: M2 | F20: =+'3,1'!I18 -> 2.2 | G20: 78612.75 | I20: =+Tabla22[[#This Row],[VALOR UNI.]]*Tabla22[[#This Row],[CANT.]] -> 172948.05
A21: 3.2 | B21: Lavadero prefabricado de 60 x 80. Suministro e Instal. Cod. 1219 | E21: UND | F21: =+'3,2'!I17 -> 1 | G21: 230126.26 | I21: =+Tabla22[[#This Row],[VALOR UNI.]]*Tabla22[[#This Row],[CANT.]] -> 230126.26
B22: SEDE PRIMARIA
A23: 4 | B23: CUBIERTA 6,5x3
A24: 4.1 | B24: Correa metalica en perfil estructural rectangular 100 x 40 x 1.5 mm, con anticorrosivo, esmalte e instalacion. Cod. 6713 | E24: ML | F24: =+'4,1'!I26 -> 30 | G24: 47801.52 | I24: =+Tabla22[[#This Row],[VALOR UNI.]]*Tabla22[[#This Row],[CANT.]] -> 1434045.6
A25: 4.2 | B25: Correa metalica en perfil estructural cuadrado 100 x 100 x 2 mm, con anticorrosivo, esmalte e instalacion. Cod. 7778 | E25: UND | F25: =+'4,2'!I26 -> 12 | G25: 77448.42 | I25: =+Tabla22[[#This Row],[VALOR UNI.]]*Tabla22[[#This Row],[CANT.]] -> 929381.04
A26: 4.3 | B26: Teja tipo master 1000 cal 28 pintada. Cod. 4807 | E26: M2 | F26: =+'4,3'!I26 -> 18 | G26: 56248.73 | I26: =+Tabla22[[#This Row],[VALOR UNI.]]*Tabla22[[#This Row],[CANT.]] -> 1012477.1
A27: 4.4 | B27: Platina apoyo 0.15*0.1 m lamina HR 1/4" con 2 anclajes de 5/8" instalada. Cod. 7280 | E27: UND | F27: =+'4,4'!I26 -> 8 | G27: 43826.44 | I27: =+Tabla22[[#This Row],[VALOR UNI.]]*Tabla22[[#This Row],[CANT.]] -> 350611.52
A28: 5 | B28: CARPINTERIA METALICA
A29: 5.1 | B29: Correa metalica en perfil estructural rectangular 100 x 40 x 1.5 mm, con anticorrosivo, esmalte e instalacion. Cod. 6713 | E29: ML | F29: =+'5,1'!I26 -> 40 | G29: 47801.52 | I29: =+Tabla22[[#This Row],[VALOR UNI.]]*Tabla22[[#This Row],[CANT.]] -> 1912060.8
A30: 5.2 | B30: Correa metalica en perfil estructural cuadrado 100 x 100 x 2 mm, con anticorrosivo, esmalte e instalacion. Cod 7778 | E30: ML | F30: =+'5,2'!I26 -> 2 | G30: 77448.42 | I30: =+Tabla22[[#This Row],[VALOR UNI.]]*Tabla22[[#This Row],[CANT.]] -> 154896.84
A31: 5.3 | B31: Teja tipo master 1000 cal 28 pintada. Cod. 4807 | E31: M2 | F31: =+'5,3'!I26 -> 29.25 | G31: 56248.73 | I31: =+Tabla22[[#This Row],[VALOR UNI.]]*Tabla22[[#This Row],[CANT.]] -> 1645275.4
A32: 5.4 | B32: Enchape pared blanco 25x35 cm de corona o similar 0.25 m. Cod. 6025 | E32: M2 | F32: =+'5,4'!I17 -> 28 | G32: 56248.73 | I32: =+Tabla22[[#This Row],[VALOR UNI.]]*Tabla22[[#This Row],[CANT.]] -> 1574964.4
A33: 5.5 | B33: Demolicion placas aligeradas de espesor menor a 0.25 m. Cod. 6597 | E33: M2 | F33: =+'5,5'!I26 -> 4 | G33: 31392.59 | I33: =+Tabla22[[#This Row],[VALOR UNI.]]*Tabla22[[#This Row],[CANT.]] -> 125570.36
A34: 5.6 | B34: Placa base en concreto 3000 psi e=0.20 m reforzado con malla electrosoldada Q-5 de 6 mm. Cod. 8213 | E34: M2 | F34: =+'5,6'!I26 -> 6 | G34: 147321.03 | I34: =+Tabla22[[#This Row],[VALOR UNI.]]*Tabla22[[#This Row],[CANT.]] -> 883926.18
A35: 5.7 | B35: Platina apoyo 0.15*0.1 m lamina HR 1/4" con 2 anclajes de 5/8" instalada. Cod. 7280 | E35: UND | F35: =+'5,7'!$I$26 -> 2 | G35: 43826.44 | I35: =+Tabla22[[#This Row],[VALOR UNI.]]*Tabla22[[#This Row],[CANT.]] -> 87652.88
A36: 6 | B36: INSTALACIONES HIDRAULICAS
A37: 6.1 | B37: Tanque plástico de 5000 lt. con conexion y distribucion PVC de 1/2" y 1". Suministro e instal. Cod. 1255 | E37: UND | F37: =+'6,1'!$I$17 -> 1 | G37: 4764236.1 | I37: =+Tabla22[[#This Row],[VALOR UNI.]]*Tabla22[[#This Row],[CANT.]] -> 4764236.1
A38: 7 | B38: COMPLEMENTARIOS
A39: 7.1 | B39: Transporte de materiales. (Item modificado) | E39: KM | F39: =+'7,1'!$I$17 -> 52.098 | G39: =+'A.P.U.-TRANSPORTE DE MATERIALES'!H52 -> 17713.32 | I39: =+Tabla22[[#This Row],[VALOR UNI.]]*Tabla22[[#This Row],[CANT.]] -> 922828.55
A40: 7.2 | B40: Reparacion de acometida domiciliaria alcantarillado Ø= 6". Cod. 6143 | E40: ml | F40: =+'7,2'!I26 -> 24 | G40: 85354.74 | I40: =+Tabla22[[#This Row],[VALOR UNI.]]*Tabla22[[#This Row],[CANT.]] -> 2048513.8
A41: 7.3 | B41: Acometida subterranea en cable de cobre aislado 4x4+1x8T AWG THHN/THWN-2 600 V 90°C. Suministro e instalacion. Cod. 7561 | E41: ml | F41: =+'7,3'!I16 -> 18 | G41: 98791.37 | I41: =+Tabla22[[#This Row],[VALOR UNI.]]*Tabla22[[#This Row],[CANT.]] -> 1778244.7
...

Sheet G1
A1: ANALISIS DE PRECIOS UNITARIOS
A3: OBJETO: ADECUACION DE INSTALACIONES PARA RESTAURANTE ESCOLAR EN LA I.E SANTA TERESA- SEDE POLICARPA SALAVARRIETA, VDA 1RO DE MAYO
A5: CAPITULO | B5: =PRESUPUESTO!A15 -> 2 | C5: =PRESUPUESTO!B15 -> SOPORTE PLACA | D5: ITEM | E5: =PRESUPUESTO!A16 -> 2.1 | F5: =PRESUPUESTO!B16 -> Acero ASTM - A706 (Incluye: suministro - fabricacion - pintura - montaje). Cod. 5422 | H5: UNIDAD: m
A7: I. EQUIPOS
A8: DESCRIPCIÓN | D8: UNIDAD | E8: CANT. | F8: VALOR UNITARIO | G8: VALOR PARCIAL
A9: Herramienta menor | D9: hr | E9: 0.67 | F9: 2201.6 | G9: =E9*F9 -> 1475.072
A10: Andamio tubular stand. (inc. Tijeras) | D10: hr | E10: 1 | F10: 174 | G10: =E10*F10 -> 174
A11: Hidrolavadora | D11: hr | E11: 0.033 | F11: 7537 | G11: =E11*F11 -> 248.721
G12: =E12*F12 -> 0
G13: =E13*F13 -> 0
G14: =E14*F14 -> 0
A15: SUBTOTAL $ | H15: =SUM(G9:G14) -> 1897.793
A17: II. MATERIALES
A18: DESCRIPCIÓN | D18: UNIDAD | E18: CANT. | F18: VALOR UNITARIO | G18: VALOR PARCIAL
A19: Agua para obra | D19: Lt | E19: 15 | F19: 100 | G19: =E19*F19 -> 1500
A20: Jabon industrial neutro | D20: Lt | E20: 0.005 | F20: 7582 | G20: =E20*F20 -> 37.91
A21: Cinta multiseal rollo 10*0.15 m gris o aluminio | D21: Und | E21: 0.015 | F21: 175942 | G21: =E21*F21 -> 2639.13
A22: Sikaflex-1A cartucho 300 ml | D22: Und | E22: 0.07 | F22: 57572 | G22: =E22*F22 -> 4030.04
A23: Amarre teja tapa metalica 26 cm cal. 18 | D23: Und | E23: 1 | F23: 377 | G23: =E23*F23 -> 377
A24: Teja eternit ondulada No.6 | D24: Und | E24: 0.1 | F24: 35735 | G24: =E24*F24 -> 3573.5
A25: Tablon de madera de 3 x 0.25 x 0.05 (alquiler) | D25: Sm | E25: 0.05 | F25: 4127 | G25: =E25*F25 -> 206.35
A26: SUBTOTAL $ | H26: =SUM(G19:G25) -> 12363.93
A28: III. MANO DE OBRA
A29: DESCRIPCIÓN | D29: UNIDAD | E29: CANT | F29: VALOR UNITARIO | G29: VALOR PARCIAL
A30: Cuadrilla AA (Albañileria) | D30: hr | E30: 0.67 | F30: 22016 | G30: =E30*F30 -> 14750.72
G31: =E31*F31 -> 0
G32: =E32*F32 -> 0
G33: =E33*F33 -> 0
G34: =E34*F34 -> 0
A35: SUBTOTAL $ | H35: =SUM(G30:G34) -> 14750.72
A37: IV. TRANSPORTES
A38: DESCRIPCIÓN | D38: UNIDAD | E38: CANTIDAD | F38: VALOR UNITARIO | G38: VALOR PARCIAL
G39: =E39*F39 -> 0
G40: =E40*F40 -> 0
G41: =E41*F41 -> 0
A42: SUBTOTAL $ | H42: =SUM(G39:G41) -> 0
A43: TOTAL COSTO DIRECTO $ | H43: =H15+H26+H35+H42 -> 29012.443
A45: COSTOS INDIRECTOS
A46: DESCRIPCIÓN | F46: PORCENTAJE (%) | G46: VALOR TOTAL
A47: Administracion | F47: 0.22
...

Sheet G2
A1: ANALISIS DE PRECIOS UNITARIOS
A3: OBJETO: | B3: =+'[10]PRESUPUESTO OFICIAL'!B6:G6 -> ADECUACION DE COCINA Y COMEDOR ESCOLAR, I.E. DIVINO SALVADOR, SEDE EL PALMAR
A5: CAPITULO | B5: =+'[10]PRESUPUESTO OFICIAL'!A20 -> 5 | C5: =+'[10]PRESUPUESTO OFICIAL'!C20 -> PINTURA | D5: ITEM | E5: =+'[10]PRESUPUESTO OFICIAL'!A24 -> 5.4 | F5: =+'[10]PRESUPUESTO OFICIAL'!C24 -> Esmalte sobre reja tipo bancaria | H5: UNIDAD (m2)
A7: I. EQUIPOS
A8: DESCRIPCIÓN | D8: UNIDAD | E8: CANTIDAD | F8: VALOR UNITARIO | G8: VALOR PARCIAL
A9: Herramienta menor 10% M.O. HH | D9: HR | E9: 0.5 | F9: 3050 | G9: =E9*F9 -> 1525
A11: SUBTOTAL $ | H11: =SUM(G9:G10) -> 1525
A13: II. MATERIALES
A14: DESCRIPCIÓN | D14: UNIDAD | E14: CANTIDAD | F14: VALOR UNITARIO | G14: VALOR PARCIAL
A15: Lija pliego No 120 de 9" x 11" (230 x 280 mm) | D15: und | E15: 0.3494 | F15: 1478 | G15: =E15*F15 -> 516.4132
A16: Anticorrosivo gris/blanco/rojo | D16: gal | E16: 0.11 | F16: 59292 | G16: =E16*F16 -> 6522.12
A17: Thinner | D17: gal | E17: 0.09 | F17: 48130 | G17: =E17*F17 -> 4331.7
A18: Esmalte brillante tipo pintulux de Pintuco o similar | D18: gal | E18: 0.11 | F18: 78829 | G18: =E18*F18 -> 8671.19
A19: SUBTOTAL $ | H19: =SUM(G15:G18) -> 20041.423
A21: III. MANO DE OBRA
A22: DESCRIPCIÓN | D22: UNIDAD | E22: CANTIDAD | F22: VALOR UNITARIO | G22: VALOR PARCIAL
A23: Cuadrilla CC-1 (Pintura) | D23: h | E23: 0.5 | F23: 30496 | G23: =E23*F23 -> 15248
G24: =E24*F24 -> 0
G25: =E25*F25 -> 0
A26: SUBTOTAL $ | H26: =SUM(G23:G25) -> 15248
A28: IV. TRANSPORTES
A29: DESCRIPCIÓN | D29: UNIDAD | E29: CANTIDAD | F29: VALOR UNITARIO | G29: VALOR PARCIAL
G30: =E30*F30 -> 0
G31: =E31*F31 -> 0
G32: =E32*F32 -> 0
G33: =E33*F33 -> 0
G34: =E34*F34 -> 0
A35: SUBTOTAL $ | H35: =SUM(G30:G34) -> 0
A36: TOTAL COSTO DIRECTO $ | H36: =H11+H19+H26+H35 -> 36814.423
A38: COSTOS INDIRECTOS
A39: DESCRIPCIÓN | F39: PORCENTAJE (%) | G39: VALOR TOTAL
A40: Administracion | F40: 0.22
A41: Imprevistos | F41: 0.03
A42: Utilidades | F42: 0.05
A43: TOTAL COSTOS INDIRECTOS $ | H43: =SUM(G40:G42) -> 0
A45: TOTAL PRECIOS UNITARIOS $ | H45: =H36+H43 -> 36814.423
A47: Observaciones: | F47: Vo. Bo.
A48: Datos tomados según Resolución 0077 de 2022, por medio del cual se adopta los precios oficiales de la Gobernación de Casanare.
F50: Elaborado Por: JEFFERSON CORREDOR GONZALEZ
F51: Cargo: Profesional Contratado
...

Sheet G3
A1: ANALISIS DE PRECIOS UNITARIOS
A3: OBJETO: ADECUACION DE INSTALACIONES PARA RESTAURANTE ESCOLAR EN LA I.E SANTA TERESA- SEDE POLICARPA SALAVARRIETA, VDA 1RO DE MAYO
A5: CAPITULO | B5: 7 | C5: =PRESUPUESTO!#REF! -> #REF! | D5: ITEM | E5: 7.2 | F5: =PRESUPUESTO!#REF! -> #REF! | H5: UNIDAD: m
A7: I. EQUIPOS
A8: DESCRIPCIÓN | D8: UNIDAD | E8: CANT. | F8: VALOR UNITARIO | G8: VALOR PARCIAL
A9: Herramienta menor | D9: hr | E9: 0.1404 | F9: 3426.5 | G9: =E9*F9 -> 481.0806
G10: =E10*F10 -> 0
G11: =E11*F11 -> 0
G12: =E12*F12 -> 0
G13: =E13*F13 -> 0
A14: SUBTOTAL $ | H14: =SUM(G9:G13) -> 481.0806
A16: II. MATERIALES
A17: DESCRIPCIÓN | D17: UNIDAD | E17: CANT. | F17: VALOR UNITARIO | G17: VALOR PARCIAL
A18: Interruptor sencillo line decorativa | D18: Und | E18: 1 | F18: 7920 | G18: =E18*F18 -> 7920
G19: =E19*F19 -> 0
G20: =E20*F20 -> 0
G21: =E21*F21 -> 0
A22: SUBTOTAL $ | H22: =SUM(G18:G21) -> 7920
A24: III. MANO DE OBRA
A25: DESCRIPCIÓN | D25: UNIDAD | E25: CANT | F25: VALOR UNITARIO | G25: VALOR PARCIAL
A26: Cuadrilla FF (Electrica) | D26: hr | E26: 0.1404 | F26: 34265 | G26: =E26*F26 -> 4810.806
G27: =E27*F27 -> 0
G28: =E28*F28 -> 0
G29: =E29*F29 -> 0
G30: =E30*F30 -> 0
A31: SUBTOTAL $ | H31: =SUM(G26:G30) -> 4810.806
A33: IV. TRANSPORTES
A34: DESCRIPCIÓN | D34: UNIDAD | E34: CANTIDAD | F34: VALOR UNITARIO | G34: VALOR PARCIAL
G35: =E35*F35 -> 0
G36: =E36*F36 -> 0
G37: =E37*F37 -> 0
G38: =E38*F38 -> 0
G39: =E39*F39 -> 0
A40: SUBTOTAL $ | H40: =SUM(G35:G39) -> 0
A41: TOTAL COSTO DIRECTO $ | H41: =H14+H22+H31+H40 -> 13211.887
A43: COSTOS INDIRECTOS
A44: DESCRIPCIÓN | F44: PORCENTAJE (%) | G44: VALOR TOTAL
A45: Administracion | F45: 0.22
A46: Imprevistos | F46: 0.03
A47: Utilidades | F47: 0.05
...

Sheet G4
A1: ANALISIS DE PRECIOS UNITARIOS
A3: OBJETO: ADECUACION DE INSTALACIONES PARA RESTAURANTE ESCOLAR EN LA I.E SANTA TERESA- SEDE POLICARPA SALAVARRIETA, VDA 1RO DE MAYO
A5: CAPITULO | B5: 7 | C5: =PRESUPUESTO!#REF! -> #REF! | D5: ITEM | E5: 7.3 | F5: =PRESUPUESTO!#REF! -> #REF! | H5: UNIDAD: Und
A7: I. EQUIPOS
A8: DESCRIPCIÓN | D8: UNIDAD | E8: CANT. | F8: VALOR UNITARIO | G8: VALOR PARCIAL
A9: Herramienta menor | D9: hr | E9: 0.1404 | F9: 34265 | G9: =E9*F9 -> 4810.806
G10: =E10*F10 -> 0
G11: =E11*F11 -> 0
G12: =E12*F12 -> 0
G13: =E13*F13 -> 0
A14: SUBTOTAL $ | H14: =SUM(G9:G13) -> 4810.806
A16: II. MATERIALES
A17: DESCRIPCIÓN | D17: UNIDAD | E17: CANT. | F17: VALOR UNITARIO | G17: VALOR PARCIAL
A18: Interruptor doble linea decorativa | D18: Und | E18: 1 | F18: 9400 | G18: =E18*F18 -> 9400
G19: =E19*F19 -> 0
G20: =E20*F20 -> 0
G21: =E21*F21 -> 0
G22: =E22*F22 -> 0
A24: SUBTOTAL $ | H24: =SUM(G18:G23) -> 9400
A26: III. MANO DE OBRA
A27: DESCRIPCIÓN | D27: UNIDAD | E27: CANT | F27: VALOR UNITARIO | G27: VALOR PARCIAL
A28: Cuadrilla FF (Electrica) | D28: hr | E28: 0.1404 | F28: 34265 | G28: =E28*F28 -> 4810.806
G29: =E29*F29 -> 0
G30: =E30*F30 -> 0
G31: =E31*F31 -> 0
G32: =E32*F32 -> 0
A33: SUBTOTAL $ | H33: =SUM(G28:G32) -> 4810.806
A35: IV. TRANSPORTES
A36: DESCRIPCIÓN | D36: UNIDAD | E36: CANTIDAD | F36: VALOR UNITARIO | G36: VALOR PARCIAL
G37: =E37*F37 -> 0
G38: =E38*F38 -> 0
G39: =E39*F39 -> 0
G40: =E40*F40 -> 0
G41: =E41*F41 -> 0
A42: SUBTOTAL $ | H42: =SUM(G37:G41) -> 0
A43: TOTAL COSTO DIRECTO $ | H43: =H14+H24+H33+H42 -> 19021.612
A45: COSTOS INDIRECTOS
A46: DESCRIPCIÓN | F46: PORCENTAJE (%) | G46: VALOR TOTAL
A47: Administracion | F47: 0.22
A48: Imprevistos | F48: 0.03
...

Sheet CRONOGRAMA
A1: INSTITUCION EDUCATIVA | C1: =+[11]PRESUPUESTO!E1 -> I.E. LA INMACULADA SEDE ALEMANIA Y SEDE PRIMARIA
A2: NOMBRE DEL PROYECTO | C2: =+[11]PRESUPUESTO!E2 -> 0
B4: VIGENCIA | C4: 2022
B5: MESES | C5: MES 1 | G5: MES 2 | K5: MES 3 | O5: MES 4 | S5: MES 5 | W5: N
A7: ACTIVIDAD DEL PROYECTO | B7: DURACION | C7: S1 | D7: S2 | E7: S3 | F7: S4 | G7: S5 | H7: S6 | I7: S7 | J7: S8 | K7: S9 | L7: S10 | M7: S11 | N7: S12 | O7: S13 | P7: S14 | Q7: S15 | R7: S16 | S7: S17 | T7: S18 | U7: S19 | V7: S20 | W7: FLUJO DE FONDOS
A8: =+PRESUPUESTO!B10 -> CUBIERTA 12,5x2
A9: =+PRESUPUESTO!B15 -> SOPORTE PLACA
A10: =+PRESUPUESTO!B19 -> ACTIVIDADES VARIAS
A11: =+PRESUPUESTO!B23 -> CUBIERTA 6,5x3
A12: =+PRESUPUESTO!B28 -> CARPINTERIA METALICA
A13: =+PRESUPUESTO!B36 -> INSTALACIONES HIDRAULICAS
A14: =+[11]PRESUPUESTO!B17 -> CARPINTERIA METALICA
A16: VALOR TOTAL DEL PROYECTO | W16: =SUBTOTAL(109,Tabla24[FLUJO DE FONDOS]) -> 0
H20: Elaboró: | Q20: Revisó:
A21: Firma
A22: Nombre y Apellidos | H22: Nombre | Q22: Nombre
A23: Institucion Educativa | H23: Cargo | Q23: Cargo
A24: Cargo: | B24: Rector

Sheet A.P.U.-TRANSPORTE DE MATERIALES
A1: ANALISIS DE PRECIOS UNITARIOS
A3: OBJETO: | B3: =+PRESUPUESTO!E2 -> 0
A5: CAPITULO | B5: =+'7,1'!B5 -> 7 | C5: =+'7,1'!C5 -> COMPLEMENTARIOS | D5: ITEM | E5: =+PRESUPUESTO!A39 -> 7.1 | F5: =+PRESUPUESTO!B39 -> Transporte de materiales. (Item modificado) | H5: UNIDAD (KM)
A7: I. EQUIPOS
A8: DESCRIPCIÓN | D8: UNIDAD | E8: CANTIDAD | F8: VALOR UNITARIO | G8: VALOR PARCIAL
G12: =E12*F12 -> 0
A13: SUBTOTAL $ | H13: =SUM(G9:G12) -> 0
A15: II. MATERIALES
A16: DESCRIPCIÓN | D16: UNIDAD | E16: CANTIDAD | F16: VALOR UNITARIO | G16: VALOR PARCIAL
A25: SUBTOTAL $ | H25: =SUM(G17:G24) -> 0
A27: III. MANO DE OBRA
A28: DESCRIPCIÓN | D28: UNIDAD | E28: CANTIDAD | F28: VALOR UNITARIO | G28: VALOR PARCIAL
A34: SUBTOTAL $ | H34: =SUM(G29:G33) -> 0
A36: IV. TRANSPORTES
A37: DESCRIPCIÓN | D37: UNIDAD | E37: CANTIDAD | F37: VALOR UNITARIO | G37: VALOR PARCIAL
A38: Transporte de materiales - t (pavimentada) | D38: KM | E38: 52.098 | F38: 340 | G38: =E38*F38 -> 17713.32
G41: =E41*F41 -> 0
A42: SUBTOTAL $ | H42: =SUM(G38:G41) -> 17713.32
A43: TOTAL COSTO DIRECTO $ | H43: =H13+H25+H34+H42 -> 17713.32
A45: COSTOS INDIRECTOS
A46: DESCRIPCIÓN | F46: PORCENTAJE (%) | G46: VALOR TOTAL
A47: Administracion | F47: 0.22
A48: Imprevistos | F48: 0.03
A49: Utilidades | F49: 0.05
A50: TOTAL COSTOS INDIRECTOS $ | H50: =SUM(G47:G49) -> 0
A52: TOTAL PRECIOS UNITARIOS $ | H52: =H43+H50 -> 17713.32
A54: Observaciones: | F54: Vo. Bo.
A55: Datos tomados según el listado de precios de referencia para la contratacion de obra publica en la Gobernacion de Casanare, según la resolucion No. 0172 De 28 de Agosto del 2023.
F57: Elaborado Por: LUIS CARLOS MORA ÁVILA
F58: Cargo: Profesional de apoyo infraestructura educativa
F59: No. Cedula: 1.118.544.065

Sheet 1,1
A1: MEMORIA DE CANTIDADES
A3: OBJETO | B3: =+PRESUPUESTO!E2 -> 0
A5: CAPITULO | B5: =+PRESUPUESTO!A10 -> 1 | C5: =+PRESUPUESTO!B10 -> CUBIERTA 12,5x2 | D5: ITEM | E5: =PRESUPUESTO!$A$11 -> 1.1 | F5: =PRESUPUESTO!B11 -> Correa metalica en perfil estructural rectangular 100 x 40 x 1.5 mm, con anticorrosivo, esmalte e instalacion. Cod. 6713
A7: UBICACIÓN | C7: =+PRESUPUESTO!B9 -> SEDE PRINCIPAL | H7: UNIDAD | I7: =PRESUPUESTO!E11 -> ML
A9: DESCRIPCION | D9: DIMENSIONES | I9: MEDIDA TOTAL
D10: Longitud (m) | E10: Alto (m) | F10: Ancho (m) | G10: No. Elemento | H10: Area/Vol./Peso (m2/m3/Kg)
A11: =F5 -> Correa metalica en perfil estructural rectangular 100 x 40 x 1.5 mm, con anticorrosivo, esmalte e instalacion. Cod. 6713 | D11: 2 | G11: 9 | I11: =G11*D11 -> 18
A12: =+A11 -> Correa metalica en perfil estructural rectangular 100 x 40 x 1.5 mm, con anticorrosivo, esmalte e instalacion. Cod. 6713 | D12: 12.2 | G12: 3 | I12: =G12*D12 -> 36.6
A15: SUB TOTAL | I15: =SUM(I11:I13) -> 54.6
A17: TOTAL | I17: =I15 -> 54.6
A19: ESQUEMA / PLANO DESCRIPTIVO
A61: OBSERVACIONES
A67: Elaboro | F67: Vo. Bo. Entidad
A72: LUIS CARLOS MORA ÁVILA | F72: JHONATAN FERNANDO CELY MALDONADO
A73: Profesional de apoyo infraestructura educativa | F73: Profesional de apoyo infraestructura educativa

Sheet 1,2
A1: MEMORIA DE CANTIDADES
A3: OBJETO | B3: =PRESUPUESTO!$E$2 -> 0
A5: CAPITULO | B5: =PRESUPUESTO!$A$12 -> 1.2 | C5: =PRESUPUESTO!B15 -> SOPORTE PLACA | D5: ITEM | E5: =PRESUPUESTO!$A$12 -> 1.2 | F5: =PRESUPUESTO!B12 -> Correa metalica en perfil estructural cuadrado 100 x 100 x 2 mm, con anticorrosivo, esmalte e instalacion. Cod. 7778
A7: UBICACIÓN | C7: ='1,1'!C7:G7 -> SEDE PRINCIPAL | H7: UNIDAD | I7: ml
A9: DESCRIPCION | D9: DIMENSIONES | I9: MEDIDA TOTAL
D10: Longitud (m) | E10: Alto (m) | F10: Ancho (m) | G10: No. Elemento | H10: Area/Vol./Peso (m2/m3/Kg)
A11: =PRESUPUESTO!B12 -> Correa metalica en perfil estructural cuadrado 100 x 100 x 2 mm, con anticorrosivo, esmalte e instalacion. Cod. 7778 | D11: 3 | G11: 9 | I11: =+G11*D11 -> 27
A14: SUB TOTAL | I14: =SUM(I11:I12) -> 27
A16: TOTAL | I16: =I14 -> 27
A18: ESQUEMA / PLANO DESCRIPTIVO
A41: OBSERVACIONES
A47: Elaboro | F47: Vo. Bo. Entidad
A52: LUIS CARLOS MORA ÁVILA | F52: JHONATAN FERNANDO CELY MALDONADO
A53: Profesional de apoyo infraestructura educativa | F53: Profesional de apoyo infraestructura educativa

Sheet 1,3
A1: MEMORIA DE CANTIDADES
A3: OBJETO | B3: =PRESUPUESTO!$E$2 -> 0
A5: CAPITULO | B5: =PRESUPUESTO!A13 -> 1.3 | C5: =PRESUPUESTO!B13 -> Teja tipo master 1000 cal 28 pintada. Cod. 4807 | D5: ITEM | E5: =PRESUPUESTO!A13 -> 1.3 | F5: =PRESUPUESTO!B13 -> Teja tipo master 1000 cal 28 pintada. Cod. 4807
A7: UBICACIÓN | C7: =+PRESUPUESTO!B9 -> SEDE PRINCIPAL | H7: UNIDAD | I7: =PRESUPUESTO!E13 -> M2
A9: DESCRIPCION | D9: DIMENSIONES | I9: MEDIDA TOTAL
D10: Longitud (m) | E10: Alto (m) | F10: Ancho (m) | G10: No. Elemento | H10: Area/Vol./Peso (m2/m3/Kg)
A11: =PRESUPUESTO!B13 -> Teja tipo master 1000 cal 28 pintada. Cod. 4807 | D11: 12.2 | F11: 2 | H11: =+D11*F11 -> 24.4 | I11: =H11 -> 24.4
A15: SUB TOTAL | I15: =SUM(I11:I13) -> 24.4
A17: TOTAL | I17: =I15 -> 24.4
A19: ESQUEMA / PLANO DESCRIPTIVO
A40: OBSERVACIONES
A46: Elaboro | F46: Vo. Bo. Entidad
A51: LUIS CARLOS MORA ÁVILA | F51: JHONATAN FERNANDO CELY MALDONADO
A52: Profesional de apoyo infraestructura educativa | F52: Profesional de apoyo infraestructura educativa

Sheet 1,4
A1: MEMORIA DE CANTIDADES
A3: OBJETO | B3: =+PRESUPUESTO!E2 -> 0
A5: CAPITULO | B5: 5 | C5: =PRESUPUESTO!B14 -> Platina apoyo 0.15*0.1 m lamina HR 1/4" con 2 anclajes de 5/8" instalada. Cod. 7280 | D5: ITEM | E5: =PRESUPUESTO!A14 -> 1.4 | F5: =PRESUPUESTO!B14 -> Platina apoyo 0.15*0.1 m lamina HR 1/4" con 2 anclajes de 5/8" instalada. Cod. 7280
A7: UBICACIÓN | C7: =+PRESUPUESTO!B9 -> SEDE PRINCIPAL | H7: UNIDAD | I7: =PRESUPUESTO!E14 -> UND
A9: DESCRIPCION | D9: DIMENSIONES | I9: MEDIDA TOTAL
D10: Longitud (m) | E10: Alto (m) | F10: Ancho (m) | G10: No. Elemento | H10: -
A11: =F5 -> Platina apoyo 0.15*0.1 m lamina HR 1/4" con 2 anclajes de 5/8" instalada. Cod. 7280 | G11: 9 | I11: =+G11 -> 9
A15: SUB TOTAL | I15: =SUM(I11:I13) -> 9
A17: TOTAL | I17: =I15 -> 9
A19: ESQUEMA / PLANO DESCRIPTIVO
A57: OBSERVACIONES
A63: Elaboro | F63: Vo. Bo. Entidad
A68: LUIS CARLOS MORA ÁVILA | F68: JHONATAN FERNANDO CELY MALDONADO
A69: Profesional de apoyo infraestructura educativa | F69: Profesional de apoyo infraestructura educativa

Sheet 2,1
A1: MEMORIA DE CANTIDADES
A3: OBJETO | B3: =PRESUPUESTO!$E$2 -> 0
A5: CAPITULO | B5: =PRESUPUESTO!A15 -> 2 | C5: =PRESUPUESTO!B15 -> SOPORTE PLACA | D5: ITEM | E5: =PRESUPUESTO!A16 -> 2.1 | F5: =PRESUPUESTO!B16 -> Acero ASTM - A706 (Incluye: suministro - fabricacion - pintura - montaje). Cod. 5422
A7: UBICACIÓN | C7: =+PRESUPUESTO!B9 -> SEDE PRINCIPAL | H7: UNIDAD | I7: =PRESUPUESTO!E16 -> KG
A9: DESCRIPCION | D9: DIMENSIONES | I9: MEDIDA TOTAL
D10: Longitud (m) | E10: Alto (m) | F10: Ancho (m) | G10: No. Elemento | H10: Area/Vol./Peso (m2/m3/Kg)
A11: =F5 -> Acero ASTM - A706 (Incluye: suministro - fabricacion - pintura - montaje). Cod. 5422 | H11: 123.23 | I11: =+H11 -> 123.23
A14: SUB TOTAL | I14: =SUM(I11:I12) -> 123.23
A16: TOTAL | I16: =I14 -> 123.23
A18: ESQUEMA / PLANO DESCRIPTIVO
C30: Acero ASTM - A706
A57: OBSERVACIONES
A63: Elaboro | F63: Vo. Bo. Entidad
A68: LUIS CARLOS MORA ÁVILA | F68: JHONATAN FERNANDO CELY MALDONADO
A69: Profesional de apoyo infraestructura educativa | F69: Profesional de apoyo infraestructura educativa

Sheet 2,2
A1: MEMORIA DE CANTIDADES
A3: OBJETO | B3: =PRESUPUESTO!$E$2 -> 0
A5: CAPITULO | B5: =PRESUPUESTO!A15 -> 2 | C5: =PRESUPUESTO!B15 -> SOPORTE PLACA | D5: ITEM | E5: =PRESUPUESTO!A17 -> 2.2 | F5: =PRESUPUESTO!B17 -> Columnas Tuberia Petrolera D=3 1/2 ". Cod. 5327
A7: UBICACIÓN | C7: =+PRESUPUESTO!B9 -> SEDE PRINCIPAL | H7: UNIDAD | I7: =PRESUPUESTO!E17 -> ML
A9: DESCRIPCION | D9: DIMENSIONES | I9: MEDIDA TOTAL
D10: Longitud (m) | E10: Alto (m) | F10: Ancho (m) | G10: No. Elemento | H10: Area/Vol./Peso (m2/m3/Kg)
A11: =F5 -> Columnas Tuberia Petrolera D=3 1/2 ". Cod. 5327 | D11: 2.6 | G11: 2 | I11: =+D11*G11 -> 5.2
A13: SUB TOTAL | I13: =SUM(I11:I12) -> 5.2
A15: TOTAL | I15: =I13 -> 5.2
H21: Columnas Tuberia Petrolera D=3 1/2 "
E23: Columnas Tuberia Petrolera D=3 1/2 "
A35: OBSERVACIONES
A41: Elaboro | F41: Vo. Bo. Entidad
A46: LUIS CARLOS MORA ÁVILA | F46: JHONATAN FERNANDO CELY MALDONADO
A47: Profesional de apoyo infraestructura educativa | F47: Profesional de apoyo infraestructura educativa

Sheet 2,3
A1: MEMORIA DE CANTIDADES
A3: OBJETO | B3: =PRESUPUESTO!$E$2 -> 0
A5: CAPITULO | B5: =PRESUPUESTO!A15 -> 2 | C5: =PRESUPUESTO!B15 -> SOPORTE PLACA | D5: ITEM | E5: =PRESUPUESTO!A18 -> 2.3 | F5: =PRESUPUESTO!B18 -> Platina apoyo fijo 0.25*0.25 m lámina HR 1/4" con 4 perforaciones y 4 pernos 3/4" * 500 mm, tuerca contratuerca. Suministro e Instalacion. Cod. 6670
A7: UBICACIÓN | C7: =+PRESUPUESTO!B9 -> SEDE PRINCIPAL | H7: UNIDAD | I7: =PRESUPUESTO!E18 -> UND
A9: DESCRIPCION | D9: DIMENSIONES | I9: MEDIDA TOTAL
D10: Longitud (m) | E10: Alto (m) | F10: Ancho (m) | G10: No. Elemento | H10: Area/Vol./Peso (m2/m3/Kg)
A11: =F5 -> Platina apoyo fijo 0.25*0.25 m lámina HR 1/4" con 4 perforaciones y 4 pernos 3/4" * 500 mm, tuerca contratuerca. Suministro e Instalacion. Cod. 6670 | G11: 2 | I11: =G11 -> 2
A24: SUB TOTAL | I24: =SUM(I11:I21) -> 2
A26: TOTAL | I26: =I24 -> 2
A28: ESQUEMA / PLANO DESCRIPTIVO
A67: OBSERVACIONES
A73: Elaboro | F73: Vo. Bo. Entidad
A78: LUIS CARLOS MORA ÁVILA | F78: JHONATAN FERNANDO CELY MALDONADO
A79: Profesional de apoyo infraestructura educativa | F79: Profesional de apoyo infraestructura educativa

Sheet 3,1
A1: MEMORIA DE CANTIDADES
A3: OBJETO | B3: =PRESUPUESTO!$E$2 -> 0
A5: CAPITULO | B5: =PRESUPUESTO!A38 -> 7 | C5: =PRESUPUESTO!B38 -> COMPLEMENTARIOS | D5: ITEM | E5: =PRESUPUESTO!A20 -> 3.1 | F5: =PRESUPUESTO!B20 -> Desmonte lavaderos prefabricados, con retiro. Cod. 6639
A7: UBICACIÓN | C7: =+PRESUPUESTO!B22 -> SEDE PRIMARIA | H7: UNIDAD | I7: =PRESUPUESTO!E20 -> M2
A9: DESCRIPCION | D9: DIMENSIONES | I9: MEDIDA TOTAL
D10: Longitud (m) | E10: Alto (m) | F10: Ancho (m) | G10: No. Elemento | H10: Area/Vol./Peso (m2/m3/Kg)
A11: =F5 -> Desmonte lavaderos prefabricados, con retiro. Cod. 6639 | E11: 1 | F11: 0.8 | I11: =+F11*E11 -> 0.8
E12: 1 | F12: 0.7 | I12: =+F12*E12 -> 0.7
E13: 1 | F13: 0.7 | I13: =+F13*E13 -> 0.7
A16: SUB TOTAL | I16: =SUM(I11:I14) -> 2.2
A18: TOTAL | I18: =I16 -> 2.2
A20: ESQUEMA / PLANO DESCRIPTIVO
A52: OBSERVACIONES
A58: Elaboro | F58: Vo. Bo. Entidad
A63: LUIS CARLOS MORA ÁVILA | F63: JHONATAN FERNANDO CELY MALDONADO
A64: Profesional de apoyo infraestructura educativa | F64: Profesional de apoyo infraestructura educativa

Sheet 3,2
A1: MEMORIA DE CANTIDADES
A3: OBJETO | B3: =PRESUPUESTO!$E$2 -> 0
A5: CAPITULO | B5: =PRESUPUESTO!A38 -> 7 | C5: =PRESUPUESTO!B38 -> COMPLEMENTARIOS | D5: ITEM | E5: =PRESUPUESTO!A21 -> 3.2 | F5: =PRESUPUESTO!B21 -> Lavadero prefabricado de 60 x 80. Suministro e Instal. Cod. 1219
A7: UBICACIÓN | C7: =+PRESUPUESTO!B22 -> SEDE PRIMARIA | H7: UNIDAD | I7: =PRESUPUESTO!E21 -> UND
A9: DESCRIPCION | D9: DIMENSIONES | I9: MEDIDA TOTAL
D10: Longitud (m) | E10: Alto (m) | F10: Ancho (m) | G10: No. Elemento | H10: Area/Vol./Peso (m2/m3/Kg)
A11: =F5 -> Lavadero prefabricado de 60 x 80. Suministro e Instal. Cod. 1219 | I11: 1
A15: SUB TOTAL | I15: =SUM(I11:I13) -> 1
A17: TOTAL | I17: =I15 -> 1
A19: ESQUEMA / PLANO DESCRIPTIVO
A58: OBSERVACIONES
A64: Elaboro | F64: Vo. Bo. Entidad
A69: LUIS CARLOS MORA ÁVILA | F69: JHONATAN FERNANDO CELY MALDONADO
A70: Profesional de apoyo infraestructura educativa | F70: Profesional de apoyo infraestructura educativa

Sheet 4,1
A1: MEMORIA DE CANTIDADES
A3: OBJETO | B3: =PRESUPUESTO!$E$2 -> 0
A5: CAPITULO | B5: =PRESUPUESTO!A23 -> 4 | C5: =PRESUPUESTO!B23 -> CUBIERTA 6,5x3 | D5: ITEM | E5: =PRESUPUESTO!A24 -> 4.1 | F5: =PRESUPUESTO!B24 -> Correa metalica en perfil estructural rectangular 100 x 40 x 1.5 mm, con anticorrosivo, esmalte e instalacion. Cod. 6713
A7: UBICACIÓN | C7: =+PRESUPUESTO!B9 -> SEDE PRINCIPAL | H7: UNIDAD | I7: =PRESUPUESTO!E24 -> ML
A9: DESCRIPCION | D9: DIMENSIONES | I9: MEDIDA TOTAL
D10: Longitud (m) | E10: Alto (m) | F10: Ancho (m) | G10: No. Elemento | H10: Area/Vol./Peso (m2/m3/Kg)
A11: =F5 -> Correa metalica en perfil estructural rectangular 100 x 40 x 1.5 mm, con anticorrosivo, esmalte e instalacion. Cod. 6713 | D11: 6 | G11: 3 | I11: =G11*D11 -> 18
A12: =+A11 -> Correa metalica en perfil estructural rectangular 100 x 40 x 1.5 mm, con anticorrosivo, esmalte e instalacion. Cod. 6713 | D12: 3 | G12: 4 | I12: =G12*D12 -> 12
A24: SUB TOTAL | I24: =SUM(I11:I21) -> 30
A26: TOTAL | I26: =I24 -> 30
A28: ESQUEMA / PLANO DESCRIPTIVO
A67: OBSERVACIONES
A73: Elaboro | F73: Vo. Bo. Entidad
A78: LUIS CARLOS MORA ÁVILA | F78: JHONATAN FERNANDO CELY MALDONADO
A79: Profesional de apoyo infraestructura educativa | F79: Profesional de apoyo infraestructura educativa

Sheet 4,2
A1: MEMORIA DE CANTIDADES
A3: OBJETO | B3: =PRESUPUESTO!$E$2 -> 0
A5: CAPITULO | B5: =PRESUPUESTO!A23 -> 4 | C5: =PRESUPUESTO!B23 -> CUBIERTA 6,5x3 | D5: ITEM | E5: =PRESUPUESTO!A25 -> 4.2 | F5: =PRESUPUESTO!B25 -> Correa metalica en perfil estructural cuadrado 100 x 100 x 2 mm, con anticorrosivo, esmalte e instalacion. Cod. 7778
A7: UBICACIÓN | C7: =+PRESUPUESTO!B9 -> SEDE PRINCIPAL | H7: UNIDAD | I7: =PRESUPUESTO!E25 -> UND
A9: DESCRIPCION | D9: DIMENSIONES | I9: MEDIDA TOTAL
D10: Longitud (m) | E10: Alto (m) | F10: Ancho (m) | G10: No. Elemento | H10: Area/Vol./Peso (m2/m3/Kg)
A11: =F5 -> Correa metalica en perfil estructural cuadrado 100 x 100 x 2 mm, con anticorrosivo, esmalte e instalacion. Cod. 7778 | D11: 3 | G11: 4 | I11: =G11*D11 -> 12
A24: SUB TOTAL | I24: =SUM(I11:I21) -> 12
A26: TOTAL | I26: =I24 -> 12
A28: ESQUEMA / PLANO DESCRIPTIVO
A67: OBSERVACIONES
A73: Elaboro | F73: Vo. Bo. Entidad
A78: LUIS CARLOS MORA ÁVILA | F78: JHONATAN FERNANDO CELY MALDONADO
A79: Profesional de apoyo infraestructura educativa | F79: Profesional de apoyo infraestructura educativa

Sheet 4,3
A1: MEMORIA DE CANTIDADES
A3: OBJETO | B3: =PRESUPUESTO!$E$2 -> 0
A5: CAPITULO | B5: =PRESUPUESTO!A23 -> 4 | C5: =PRESUPUESTO!B23 -> CUBIERTA 6,5x3 | D5: ITEM | E5: =PRESUPUESTO!A26 -> 4.3 | F5: =PRESUPUESTO!B26 -> Teja tipo master 1000 cal 28 pintada. Cod. 4807
A7: UBICACIÓN | C7: =+PRESUPUESTO!B9 -> SEDE PRINCIPAL | H7: UNIDAD | I7: =PRESUPUESTO!E26 -> M2
A9: DESCRIPCION | D9: DIMENSIONES | I9: MEDIDA TOTAL
D10: Longitud (m) | E10: Alto (m) | F10: Ancho (m) | G10: No. Elemento | H10: Area/Vol./Peso (m2/m3/Kg)
A11: =F5 -> Teja tipo master 1000 cal 28 pintada. Cod. 4807 | D11: 6 | F11: 3 | H11: =+D11*F11 -> 18 | I11: =+H11 -> 18
A24: SUB TOTAL | I24: =SUM(I11:I21) -> 18
A26: TOTAL | I26: =I24 -> 18
A28: ESQUEMA / PLANO DESCRIPTIVO
A67: OBSERVACIONES
A73: Elaboro | F73: Vo. Bo. Entidad
A78: LUIS CARLOS MORA ÁVILA | F78: JHONATAN FERNANDO CELY MALDONADO
A79: Profesional de apoyo infraestructura educativa | F79: Profesional de apoyo infraestructura educativa

Sheet 4,4
A1: MEMORIA DE CANTIDADES
A3: OBJETO | B3: =PRESUPUESTO!$E$2 -> 0
A5: CAPITULO | B5: =PRESUPUESTO!A23 -> 4 | C5: =PRESUPUESTO!B23 -> CUBIERTA 6,5x3 | D5: ITEM | E5: =PRESUPUESTO!A27 -> 4.4 | F5: =PRESUPUESTO!B27 -> Platina apoyo 0.15*0.1 m lamina HR 1/4" con 2 anclajes de 5/8" instalada. Cod. 7280
A7: UBICACIÓN | C7: =+PRESUPUESTO!B9 -> SEDE PRINCIPAL | H7: UNIDAD | I7: =PRESUPUESTO!E27 -> UND
A9: DESCRIPCION | D9: DIMENSIONES | I9: MEDIDA TOTAL
D10: Longitud (m) | E10: Alto (m) | F10: Ancho (m) | G10: No. Elemento | H10: Area/Vol./Peso (m2/m3/Kg)
A11: =F5 -> Platina apoyo 0.15*0.1 m lamina HR 1/4" con 2 anclajes de 5/8" instalada. Cod. 7280 | G11: 8 | I11: =G11 -> 8
A24: SUB TOTAL | I24: =SUM(I11:I21) -> 8
A26: TOTAL | I26: =I24 -> 8
A28: ESQUEMA / PLANO DESCRIPTIVO
A67: OBSERVACIONES
A73: Elaboro | F73: Vo. Bo. Entidad
A78: LUIS CARLOS MORA ÁVILA | F78: JHONATAN FERNANDO CELY MALDONADO
A79: Profesional de apoyo infraestructura educativa | F79: Profesional de apoyo infraestructura educativa

Sheet 5,1
A1: MEMORIA DE CANTIDADES
A3: OBJETO | B3: =PRESUPUESTO!$E$2 -> 0
A5: CAPITULO | B5: =PRESUPUESTO!A28 -> 5 | C5: =PRESUPUESTO!B28 -> CARPINTERIA METALICA | D5: ITEM | E5: =PRESUPUESTO!A29 -> 5.1 | F5: =PRESUPUESTO!B29 -> Correa metalica en perfil estructural rectangular 100 x 40 x 1.5 mm, con anticorrosivo, esmalte e instalacion. Cod. 6713
A7: UBICACIÓN | C7: =+PRESUPUESTO!B22 -> SEDE PRIMARIA | H7: UNIDAD | I7: =PRESUPUESTO!E29 -> ML
A9: DESCRIPCION | D9: DIMENSIONES | I9: MEDIDA TOTAL
D10: Longitud (m) | E10: Alto (m) | F10: Ancho (m) | G10: No. Elemento | H10: Area/Vol./Peso (m2/m3/Kg)
A11: =F5 -> Correa metalica en perfil estructural rectangular 100 x 40 x 1.5 mm, con anticorrosivo, esmalte e instalacion. Cod. 6713 | D11: 4.5 | G11: 6 | I11: =+G11*D11 -> 27
D12: 6.5 | G12: 2 | I12: =+G12*D12 -> 13
A24: SUB TOTAL | I24: =SUM(I11:I21) -> 40
A26: TOTAL | I26: =I24 -> 40
A28: ESQUEMA / PLANO DESCRIPTIVO
A67: OBSERVACIONES
A73: Elaboro | F73: Vo. Bo. Entidad
A78: LUIS CARLOS MORA ÁVILA | F78: JHONATAN FERNANDO CELY MALDONADO
A79: Profesional de apoyo infraestructura educativa | F79: Profesional de apoyo infraestructura educativa

Sheet 5,2
A1: MEMORIA DE CANTIDADES
A3: OBJETO | B3: =PRESUPUESTO!$E$2 -> 0
A5: CAPITULO | B5: =PRESUPUESTO!A28 -> 5 | C5: =PRESUPUESTO!B28 -> CARPINTERIA METALICA | D5: ITEM | E5: =PRESUPUESTO!A30 -> 5.2 | F5: =PRESUPUESTO!B30 -> Correa metalica en perfil estructural cuadrado 100 x 100 x 2 mm, con anticorrosivo, esmalte e instalacion. Cod 7778
A7: UBICACIÓN | C7: =+PRESUPUESTO!B22 -> SEDE PRIMARIA | H7: UNIDAD | I7: =PRESUPUESTO!E30 -> ML
A9: DESCRIPCION | D9: DIMENSIONES | I9: MEDIDA TOTAL
D10: Longitud (m) | E10: Alto (m) | F10: Ancho (m) | G10: No. Elemento | H10: Area/Vol./Peso (m2/m3/Kg)
A11: =F5 -> Correa metalica en perfil estructural cuadrado 100 x 100 x 2 mm, con anticorrosivo, esmalte e instalacion. Cod 7778 | D11: 3 | G11: 2 | I11: =G11 -> 2
A24: SUB TOTAL | I24: =SUM(I11:I21) -> 2
A26: TOTAL | I26: =I24 -> 2
A28: ESQUEMA / PLANO DESCRIPTIVO
C54: Correa metalica en perfil estructural cuadrado 100 x 100 x 2 mm, con anticorrosivo
A67: OBSERVACIONES
A73: Elaboro | F73: Vo. Bo. Entidad
A78: LUIS CARLOS MORA ÁVILA | F78: JHONATAN FERNANDO CELY MALDONADO
A79: Profesional de apoyo infraestructura educativa | F79: Profesional de apoyo infraestructura educativa

Sheet 5,3
A1: MEMORIA DE CANTIDADES
A3: OBJETO | B3: =PRESUPUESTO!$E$2 -> 0
A5: CAPITULO | B5: =PRESUPUESTO!A28 -> 5 | C5: =PRESUPUESTO!B28 -> CARPINTERIA METALICA | D5: ITEM | E5: =PRESUPUESTO!A31 -> 5.3 | F5: =PRESUPUESTO!B31 -> Teja tipo master 1000 cal 28 pintada. Cod. 4807
A7: UBICACIÓN | C7: =+PRESUPUESTO!B22 -> SEDE PRIMARIA | H7: UNIDAD | I7: =PRESUPUESTO!E31 -> M2
A9: DESCRIPCION | D9: DIMENSIONES | I9: MEDIDA TOTAL
D10: Longitud (m) | E10: Alto (m) | F10: Ancho (m) | G10: No. Elemento | H10: Area/Vol./Peso (m2/m3/Kg)
A11: =F5 -> Teja tipo master 1000 cal 28 pintada. Cod. 4807 | D11: 6.5 | F11: 4.5 | I11: =+D11*F11 -> 29.25
A24: SUB TOTAL | I24: =SUM(I11:I21) -> 29.25
A26: TOTAL | I26: =I24 -> 29.25
A28: ESQUEMA / PLANO DESCRIPTIVO
C48: Teja tipo master 1000 cal 28 pintada
A67: OBSERVACIONES
A73: Elaboro | F73: Vo. Bo. Entidad
A78: LUIS CARLOS MORA ÁVILA | F78: JHONATAN FERNANDO CELY MALDONADO
A79: Profesional de apoyo infraestructura educativa | F79: Profesional de apoyo infraestructura educativa

Sheet 5,4
A1: MEMORIA DE CANTIDADES
A3: OBJETO | B3: =PRESUPUESTO!$E$2 -> 0
A5: CAPITULO | B5: =PRESUPUESTO!A28 -> 5 | C5: =PRESUPUESTO!B28 -> CARPINTERIA METALICA | D5: ITEM | E5: =PRESUPUESTO!A32 -> 5.4 | F5: =PRESUPUESTO!B32 -> Enchape pared blanco 25x35 cm de corona o similar 0.25 m. Cod. 6025
A7: UBICACIÓN | C7: =+PRESUPUESTO!B22 -> SEDE PRIMARIA | H7: UNIDAD | I7: =PRESUPUESTO!E32 -> M2
A9: DESCRIPCION | D9: DIMENSIONES | I9: MEDIDA TOTAL
D10: Longitud (m) | E10: Alto (m) | F10: Ancho (m) | G10: No. Elemento | H10: Area/Vol./Peso (m2/m3/Kg)
A11: =F5 -> Enchape pared blanco 25x35 cm de corona o similar 0.25 m. Cod. 6025 | I11: 28
A15: SUB TOTAL | I15: =SUM(I11:I13) -> 28
A17: TOTAL | I17: =I15 -> 28
A19: ESQUEMA / PLANO DESCRIPTIVO
A63: OBSERVACIONES
A69: Elaboro | F69: Vo. Bo. Entidad
A74: LUIS CARLOS MORA ÁVILA | F74: JHONATAN FERNANDO CELY MALDONADO
A75: Profesional de apoyo infraestructura educativa | F75: Profesional de apoyo infraestructura educativa

Sheet 5,5
A1: MEMORIA DE CANTIDADES
A3: OBJETO | B3: =PRESUPUESTO!$E$2 -> 0
A5: CAPITULO | B5: =PRESUPUESTO!A28 -> 5 | C5: =PRESUPUESTO!B28 -> CARPINTERIA METALICA | D5: ITEM | E5: =PRESUPUESTO!A33 -> 5.5 | F5: =PRESUPUESTO!B33 -> Demolicion placas aligeradas de espesor menor a 0.25 m. Cod. 6597
A7: UBICACIÓN | C7: =+PRESUPUESTO!B22 -> SEDE PRIMARIA | H7: UNIDAD | I7: =PRESUPUESTO!E33 -> M2
A9: DESCRIPCION | D9: DIMENSIONES | I9: MEDIDA TOTAL
D10: Longitud (m) | E10: Alto (m) | F10: Ancho (m) | G10: No. Elemento | H10: Area/Vol./Peso (m2/m3/Kg)
A11: =F5 -> Demolicion placas aligeradas de espesor menor a 0.25 m. Cod. 6597 | I11: 4
A24: SUB TOTAL | I24: =SUM(I11:I21) -> 4
A26: TOTAL | I26: =I24 -> 4
A28: ESQUEMA / PLANO DESCRIPTIVO
A67: OBSERVACIONES
A73: Elaboro | F73: Vo. Bo. Entidad
A78: LUIS CARLOS MORA ÁVILA | F78: JHONATAN FERNANDO CELY MALDONADO
A79: Profesional de apoyo infraestructura educativa | F79: Profesional de apoyo infraestructura educativa

Sheet 5,6
A1: MEMORIA DE CANTIDADES
A3: OBJETO | B3: =PRESUPUESTO!$E$2 -> 0
A5: CAPITULO | B5: =PRESUPUESTO!A28 -> 5 | C5: =PRESUPUESTO!B28 -> CARPINTERIA METALICA | D5: ITEM | E5: =PRESUPUESTO!A34 -> 5.6 | F5: =PRESUPUESTO!B34 -> Placa base en concreto 3000 psi e=0.20 m reforzado con malla electrosoldada Q-5 de 6 mm. Cod. 8213
A7: UBICACIÓN | C7: =+PRESUPUESTO!B22 -> SEDE PRIMARIA | H7: UNIDAD | I7: =PRESUPUESTO!E34 -> M2
A9: DESCRIPCION | D9: DIMENSIONES | I9: MEDIDA TOTAL
D10: Longitud (m) | E10: Alto (m) | F10: Ancho (m) | G10: No. Elemento | H10: Area/Vol./Peso (m2/m3/Kg)
A11: =F5 -> Placa base en concreto 3000 psi e=0.20 m reforzado con malla electrosoldada Q-5 de 6 mm. Cod. 8213 | I11: 6
A24: SUB TOTAL | I24: =SUM(I11:I21) -> 6
A26: TOTAL | I26: =I24 -> 6
A28: ESQUEMA / PLANO DESCRIPTIVO
C56: Placa base en concreto 3000 psi e=0.20 m reforzado con malla electrosoldada Q-5 de 6 mmPISO
A67: OBSERVACIONES
A73: Elaboro | F73: Vo. Bo. Entidad
A78: LUIS CARLOS MORA ÁVILA | F78: JHONATAN FERNANDO CELY MALDONADO
A79: Profesional de apoyo infraestructura educativa | F79: Profesional de apoyo infraestructura educativa

Sheet 5,7
A1: MEMORIA DE CANTIDADES
A3: OBJETO | B3: =PRESUPUESTO!$E$2 -> 0
A5: CAPITULO | B5: =PRESUPUESTO!A28 -> 5 | C5: =PRESUPUESTO!B28 -> CARPINTERIA METALICA | D5: ITEM | E5: =PRESUPUESTO!A35 -> 5.7 | F5: =PRESUPUESTO!B35 -> Platina apoyo 0.15*0.1 m lamina HR 1/4" con 2 anclajes de 5/8" instalada. Cod. 7280
A7: UBICACIÓN | C7: =+PRESUPUESTO!B22 -> SEDE PRIMARIA | H7: UNIDAD | I7: =PRESUPUESTO!E34 -> M2
A9: DESCRIPCION | D9: DIMENSIONES | I9: MEDIDA TOTAL
D10: Longitud (m) | E10: Alto (m) | F10: Ancho (m) | G10: No. Elemento | H10: Area/Vol./Peso (m2/m3/Kg)
A11: =F5 -> Platina apoyo 0.15*0.1 m lamina HR 1/4" con 2 anclajes de 5/8" instalada. Cod. 7280 | I11: 2
A24: SUB TOTAL | I24: =SUM(I11:I21) -> 2
A26: TOTAL | I26: =I24 -> 2
A28: ESQUEMA / PLANO DESCRIPTIVO
A67: OBSERVACIONES
A73: Elaboro | F73: Vo. Bo. Entidad
A78: LUIS CARLOS MORA ÁVILA | F78: JHONATAN FERNANDO CELY MALDONADO
A79: Profesional de apoyo infraestructura educativa | F79: Profesional de apoyo infraestructura educativa

Sheet 6,1
A1: MEMORIA DE CANTIDADES
A3: OBJETO | B3: =[12]PRESUPUESTO!$E$2 -> MEJORAR LA CUBIERTAS DE LOS RESAURANTES ESCOLARES DE LA INSTITUCION EDUCATIVALA INMACULADA, CORREGIMIENTO DE TILO, ZONA RURAL DEL MUNICIPIO DE YOPAL
A5: CAPITULO | B5: =+PRESUPUESTO!A36 -> 6 | C5: =+PRESUPUESTO!B36 -> INSTALACIONES HIDRAULICAS | D5: ITEM | E5: =+PRESUPUESTO!A37 -> 6.1 | F5: =+PRESUPUESTO!B37 -> Tanque plástico de 5000 lt. con conexion y distribucion PVC de 1/2" y 1". Suministro e instal. Cod. 1255
A7: UBICACIÓN | C7: ='[12]1.1'!C7:G7 -> I.E. INMACULADA, CORREGIMIENTO DE TILO | H7: UNIDAD | I7: =+PRESUPUESTO!E37 -> UND
A9: DESCRIPCION | D9: DIMENSIONES | I9: MEDIDA TOTAL
D10: Longitud (m) | E10: Alto (m) | F10: Ancho (m) | G10: No. Elemento | H10: Area/Vol./Peso (m2/m3/Kg)
A11: =F5 -> Tanque plástico de 5000 lt. con conexion y distribucion PVC de 1/2" y 1". Suministro e instal. Cod. 1255 | G11: 1 | I11: =G11 -> 1
A15: SUB TOTAL | I15: =SUM(I11:I13) -> 1
A17: TOTAL | I17: =I15 -> 1
A19: ESQUEMA / PLANO DESCRIPTIVO
A58: OBSERVACIONES
A64: Elaboro | F64: Vo. Bo. Entidad
A69: LUIS CARLOS MORA ÁVILA | F69: JHONATAN FERNANDO CELY MALDONADO
A70: Profesional de apoyo infraestructura educativa | F70: Profesional de apoyo infraestructura educativa

Sheet 7,1
A1: MEMORIA DE CANTIDADES
A3: OBJETO | B3: =PRESUPUESTO!$E$2 -> 0
A5: CAPITULO | B5: =PRESUPUESTO!A38 -> 7 | C5: =PRESUPUESTO!B38 -> COMPLEMENTARIOS | D5: ITEM | E5: =PRESUPUESTO!A39 -> 7.1 | F5: =PRESUPUESTO!B39 -> Transporte de materiales. (Item modificado)
A7: UBICACIÓN | C7: I.E. LA INMACULADA | H7: UNIDAD | I7: =PRESUPUESTO!E39 -> KM
A9: DESCRIPCION | D9: DIMENSIONES | I9: MEDIDA TOTAL
D10: Longitud (km) | E10: Alto (m) | F10: Ancho (m) | G10: No. Elemento | H10: Area/Vol./Peso (m2/m3/Kg)
A11: Transporte de materiales | D11: 51.8 | I11: =+D11 -> 51.8
A12: Distancia A | D12: 0.298 | I12: =+D12 -> 0.298
A15: SUB TOTAL | I15: =SUM(I11:I13) -> 52.098
A17: TOTAL | I17: =I15 -> 52.098
A19: ESQUEMA / PLANO DESCRIPTIVO
D90: Distancia B (carretera Tilodiran-Algarrobo a ingreso sede educativa)
A100: OBSERVACIONES
A106: Elaboro | F106: Vo. Bo. Entidad
A111: LUIS CARLOS MORA ÁVILA | F111: JHONATAN FERNANDO CELY MALDONADO
A112: Profesional de apoyo infraestructura educativa | F112: Profesional de apoyo infraestructura educativa

Sheet 7,2
A1: MEMORIA DE CANTIDADES
A3: OBJETO | B3: =PRESUPUESTO!$E$2 -> 0
A5: CAPITULO | B5: =PRESUPUESTO!A38 -> 7 | C5: =PRESUPUESTO!B38 -> COMPLEMENTARIOS | D5: ITEM | E5: =+PRESUPUESTO!A40 -> 7.2 | F5: =+PRESUPUESTO!B40 -> Reparacion de acometida domiciliaria alcantarillado Ø= 6". Cod. 6143
A7: UBICACIÓN | C7: =#REF! -> #REF! | H7: UNIDAD | I7: =+PRESUPUESTO!E40 -> ml
A9: DESCRIPCION | D9: DIMENSIONES | I9: MEDIDA TOTAL
D10: Longitud (m) | E10: Alto (m) | F10: Ancho (m) | G10: No. Elemento | H10: Area/Vol./Peso (m2/m3/Kg)
A11: =F5 -> Reparacion de acometida domiciliaria alcantarillado Ø= 6". Cod. 6143 | D11: 24 | I11: =+D11 -> 24
A24: SUB TOTAL | I24: =SUM(I11:I21) -> 24
A26: TOTAL | I26: =I24 -> 24
A28: ESQUEMA / PLANO DESCRIPTIVO
A67: OBSERVACIONES
A73: Elaboro | F73: Vo. Bo. Entidad
A78: LUIS CARLOS MORA ÁVILA | F78: JHONATAN FERNANDO CELY MALDONADO
A79: Profesional de apoyo infraestructura educativa | F79: Profesional de apoyo infraestructura educativa

Sheet 7,3
A1: MEMORIA DE CANTIDADES
A3: OBJETO | B3: =PRESUPUESTO!$E$2 -> 0
A5: CAPITULO | B5: =PRESUPUESTO!A38 -> 7 | C5: =PRESUPUESTO!B38 -> COMPLEMENTARIOS | D5: ITEM | E5: =+PRESUPUESTO!A41 -> 7.3 | F5: =+PRESUPUESTO!B41 -> Acometida subterranea en cable de cobre aislado 4x4+1x8T AWG THHN/THWN-2 600 V 90°C. Suministro e instalacion. Cod. 7561
A7: UBICACIÓN | C7: I.E. LA INMACULADA | H7: UNIDAD | I7: =+PRESUPUESTO!E41 -> ml
A9: DESCRIPCION | D9: DIMENSIONES | I9: MEDIDA TOTAL
D10: Longitud (m) | E10: Alto (m) | F10: Ancho (m) | G10: No. Elemento | H10: Area/Vol./Peso (m2/m3/Kg)
A11: =F5 -> Acometida subterranea en cable de cobre aislado 4x4+1x8T AWG THHN/THWN-2 600 V 90°C. Suministro e instalacion. Cod. 7561 | D11: 18 | I11: =+D11 -> 18
A14: SUB TOTAL | I14: =SUM(I11:I12) -> 18
A16: TOTAL | I16: =I14 -> 18
A18: ESQUEMA / PLANO DESCRIPTIVO
A47: OBSERVACIONES
A53: Elaboro | F53: Vo. Bo. Entidad
A58: LUIS CARLOS MORA ÁVILA | F58: JHONATAN FERNANDO CELY MALDONADO
A59: Profesional de apoyo infraestructura educativa | F59: Profesional de apoyo infraestructura educativa

Sheet COTIZADO
A1: MEMORIA DE CANTIDADES
A3: OBJETO | B3: =PRESUPUESTO!$E$2 -> 0
A5: CAPITULO | B5: =PRESUPUESTO!A38 -> 7 | C5: =PRESUPUESTO!B38 -> COMPLEMENTARIOS | D5: ITEM | E5: =PRESUPUESTO!#REF! -> #REF! | F5: =PRESUPUESTO!#REF! -> #REF!
A7: UBICACIÓN | C7: =+PRESUPUESTO!#REF! -> #REF! | H7: UNIDAD | I7: =PRESUPUESTO!#REF! -> #REF!
A9: DESCRIPCION | D9: DIMENSIONES | I9: MEDIDA TOTAL
D10: Longitud (m) | E10: Alto (m) | F10: Ancho (m) | G10: No. Elemento | H10: Area/Vol./Peso (m2/m3/Kg)
A11: =F5 -> #REF! | I11: 1
A15: SUB TOTAL | I15: =SUM(I11:I13) -> 1
A17: TOTAL | I17: =I15 -> 1
A19: ESQUEMA / PLANO DESCRIPTIVO
A48: OBSERVACIONES
A54: Elaboro | F54: Vo. Bo. Entidad
A59: LUIS CARLOS MORA ÁVILA | F59: JHONATAN FERNANDO CELY MALDONADO
A60: Profesional de apoyo infraestructura educativa | F60: Profesional de apoyo infraestructura educativa
