Workbook

Sheet Amortizacion de pagos
C4: Valor total Contrato | D4: 14491812
D6: Valor a pagar | E6: Saldo
C7: Enero | E7: =+D4 -> 14491812 | G7: =+E7-H7 -> 3131921.3 | H7: =+D9+D10+D11+D12 -> 11359891
C8: Febrero | D8: 0 | E8: =+E7-D8 -> 14491812
C9: marzo | D9: 3239950 | E9: =+E8-D9 -> 11251862 | F9: =+D10-D9 -> -734194.3
C10: abril | D10: 2505755.7 | E10: =+E9-D10 -> 8746106.3
C11: mayo | D11: 2360283 | E11: =+E10-D11 -> 6385823.3
C12: JULIO | D12: 3253902 | E12: =+E11-D12 -> 3131921.3
C13: AMB | D13: =+D4/2 -> 7245906 | E13: =+E12-D13 -> -4113984.7
C14: DICIEMBRE | D14: =+D13 -> 7245906 | E14: =+E13-D14 -> -11359891

Sheet Julio
A1: HOSPITAL MILITAR CENTRAL | D1: FORMATO: INFORME DE SUPERVISIÓN PARA TRÁMITES A PAGO | K1: CÓDIGO: GA-GECO-MN-01-FT-05
D2: UNIDAD: COMPRAS, LICITACIONES Y BIENES ACTIVOS | K2: FECHA DE EMISIÓN: 13-07-2023
D4: PROCESO: GESTIÓN ADQUISICIONES | K4: VERSIÓN: 08
D5: SISTEMA DE GESTION INTEGRADO SGI | K5: PAGINA 1 DE 2
A7: Fecha: | B7: 30 de DICIEMBRE de 2022
A8: TIPO DE CONTRATO | B8: PRESTACIÓN DE SERVICIOS | E8: TIPO DE PROCESO | G8: minima cuantia | J8: N° DE PROCESO EN EL SECOP II / TIENDA VIRTUAL | L8: MC-163-2022-HOMIL
A10: CONTRATO No. | C10: OBJETO: | E10: DATOS GENERALES DEL CONTRATO
A11: CONTRATO N°194-2022 | C11: OBJETO: PRESTACIÓN DE SERVICIO DE CLASIFICACIÓN Y APROVECHAMIENTO DE LOS RESIDUOS APROVECHABLES JUNTO CON EL ACOMPAÑAMIENTO Y FOMENTO DE LA CULTURA DE RECICLAJE DEL MATERIAL QUE SE PRODUCEN EN EL HOSPITAL MILITAR CENTRAL | E11: Fecha de suscripción: | J11: 44754
E12: Valor inicial: | L12: =L13+#REF!+#REF!+#REF!+#REF! -> #REF!
E13: VIGENCIA AÑO (Ej:2022) | J13: =+J12 -> 0 | L13: 0
E14: Adiciones (Si aplica) : | J14: =SUM(J15:M18) -> 0 | L14: =SUM(L15:M17) -> 0
E15: 1- | J15: 0 | L15: 0
E16: 2- | J16: 0 | L16: 0
E17: 3- | J17: 0
E18: 4- | J18: 0
E19: Reducciones y/o Liberaciones (Si aplica): | L19: =SUM(L20,L21,M23) -> 0
E20: 1- | L20: 0
E21: 2- | J21: 0 | L21: 0
E22: 3- | J22: 0
E23: 4- | J23: 0 | M23: 0
E24: Valor Total Contrato | J24: =+J12+J14-J19 -> 0 | L24: =L12+L14-L19 -> #REF!
E25: COMPROMISO PRESUPUESTAL | J25: SIIF | L25: N°CDP (SIIF).
J26: 1 | L26: 1
J27: Fecha:
E28: Garantía Cumplimiento (Si aplica) :
E29: Aseguradora (Si aplica):
E30: Fecha de aprobación de la Garantía (Si aplica):
E31: Nombre del Supervisor y fecha de notificación: | J31: Ss. Ruben Dario Devia Ortiz 30/07/2023
E32: Fecha de inicio de contrato | J32: =+L27 -> 0
E33: Plazo de ejecución | J33: FECHA DE INICIO | L33: FECHA DE TERMINACION
J34: 44754 | L34: 45138
E35: Vigencia del Contrato: 11 meses y 19 dias
E36: Prorrogas: En tiempo
E37: 1-
E38: 2-
E39: 3-
A40: RAZON SOCIAL DEL CONTRATISTA: | E40: NIT: 900.653.576-7
A41: ASOCIACION DE RECICLADORES CRECER SIN FRONTERAS | E41: Dirección: Diagonal 38 Sur Nº81g- 66 bodega 5 y 6
E42: Teléfono: 3017595025
E43: Cuenta Bancaria No.
...

Sheet Diciembre
A1: HOSPITAL MILITAR CENTRAL | D1: FORMATO: INFORME DE SUPERVISIÓN PARA TRÁMITES A PAGO | K1: CÓDIGO: GA-GECO-MN-01-FT-05
D2: UNIDAD: COMPRAS, LICITACIONES Y BIENES ACTIVOS | K2: FECHA DE EMISIÓN: 13-07-2022
D4: PROCESO: GESTIÓN ADQUISICIONES | K4: VERSIÓN: 08
D5: SISTEMA DE GESTION INTEGRADO SGI | K5: PAGINA 1 DE 2
A7: Fecha: | B7: DICIEMBRE 2022
A8: TIPO DE CONTRATO | B8: =+Julio!B8 -> PRESTACIÓN DE SERVICIOS | E8: TIPO DE PROCESO | G8: =+#REF! -> #REF! | J8: N° DE PROCESO EN EL SECOP II / TIENDA VIRTUAL | L8: =+#REF! -> #REF!
A10: CONTRATO No. | C10: OBJETO: | E10: DATOS GENERALES DEL CONTRATO
A11: =+Julio!A11 -> CONTRATO N°194-2022 | C11: =+#REF! -> #REF! | E11: Fecha de suscripción: | J11: =+#REF! -> #REF!
E12: Valor inicial: | J12: =+'Amortizacion de pagos'!D4 -> 14491812 | L12: =L13+L14+L15+L16+L17 -> 0
E13: VIGENCIA AÑO (Ej:2022) | J13: =+J12 -> 14491812 | L13: 0
E14: VIGENCIA AÑO (Ej: 2021) | J14: 0
E15: VIGENCIA AÑO | J15: 0
E16: VIGENCIA AÑO | J16: 0 | L16: 0
E17: VIGENCIA AÑO | J17: 0
E18: Adiciones (Si aplica) : | J18: =SUM(J19:M22) -> 0 | L18: =SUM(L19:M21) -> 0
E19: 1- | J19: 0 | L19: 0
E20: 2- | J20: 0 | L20: 0
E21: 3- | J21: 0
E22: 4- | J22: 0
E23: Reducciones y/o Liberaciones (Si aplica): | J23: =SUM(J24:M27) -> 0 | L23: =SUM(L24,L25,M27) -> 0
E24: 1- | J24: 0 | L24: 0
E25: 2- | J25: 0 | L25: 0
E26: 3- | J26: 0
E27: 4- | J27: 0 | M27: 0
E28: Valor Total Contrato | J28: =+J12+J18-J23 -> 14491812 | L28: =L12+L18-L23 -> 0
E29: COMPROMISO PRESUPUESTAL | J29: SIIF | L29: N°CDP (SIIF).
J30: =+#REF! -> #REF! | L30: =+Julio!L26 -> 1
J31: Fecha: | L31: =+#REF! -> #REF!
E32: Garantía Cumplimiento (Si aplica) : | J32: =+Julio!J28 -> 0
E33: Aseguradora (Si aplica): | J33: =+J32 -> 0
E34: Fecha de aprobación de la Garantía (Si aplica): | J34: =+J33 -> 0
E35: Nombre del Supervisor y fecha de notificación: | J35: =+#REF! -> #REF!
E36: Fecha de inicio de contrato | J36: =+#REF! -> #REF!
E37: Plazo de ejecución | J37: FECHA DE INICIO | L37: FECHA DE TERMINACION
J38: =+#REF! -> #REF! | L38: =+#REF! -> #REF!
E39: Vigencia del Contrato: 09 MESES
E40: Prorrogas: En tiempo
E41: 1-
E42: 2-
E43: 3-
...
