Workbook
Name grupodos: 'EXPERIENCIA HABILITANTE'!$A$34
Name grupouno: 'EXPERIENCIA HABILITANTE'!$A$16

Sheet PROPONENTES
A1: AGENCIA NACIONAL DE MINERIA
A2: VICEPRESIDENCIA ADMINISTRATIVA Y FINANCIERA
A3: SELECCIÓN ABREVIADA DE MENOR CUANTÍA N° SA-MC-037 DE 2019
A4: Realizar el traslado montaje y adecuación de la sede temporal de AMAGA.
A6: PROPONENTE No. | B6: NOMBRE DEL PROPONENTE | C6: NIT
A7: 1 | B7: INGENIERIA Y PROYECTOS JLE S.A.S. | C7: 901.061.214-9
A8: =A7+1 -> 2 | B8: LUIS ENRIQUE OYOLA QUINTERO | C8: 73.077.245
A9: =A8+1 -> 3 | B9: CONSTRUSION SAS | C9: 900.263-309-3
A10: =A9+1 -> 4 | B10: SAFRID INGENIERIA SAS | C10: 900.520.848-4
A15: ROLANDO DAVID ACUÑA PAEZ
A16: Evaluador Tecnico
A17: Grupo de Servicios Administrativos

Sheet EXPERIENCIA HABILITANTE
A1: AGENCIA NACIONAL DE MINERIA
A2: VICEPRESIDENCIA ADMINISTRATIVA Y FINANCIERA | L2: 123021183
A3: =PROPONENTES!A3 -> SELECCIÓN ABREVIADA DE MENOR CUANTÍA N° SA-MC-037 DE 2019 | L3: =L2*2 -> 246042366
A4: =PROPONENTES!A4 -> Realizar el traslado montaje y adecuación de la sede temporal de AMAGA. | J4: 65370250
A5: 4.1.3 CONDICIONES DE EXPERIENCIA | J5: 828116
A6: EXPERIENCIA MINIMA REQUERIDA | D6: Código del Clasificador de Bienes y Servicios (Aplica para los dos grupos) | G6: Cuantía Mínima Individual de cada contrato certificado (SMMLV) | H6: Cuantía Mínima total (Sumatoria Certificaciones) en SMMLV
A7: Los Oferentes deben acreditar experiencia con dos (2) contratos terminados dentro de los últimos tres años anteriores al presente proceso, dentro de los cuales un contrato contenga como mínimo dos de los códigos relacionados en el cuadro titulado “Experiencia requerida”; cuyo objeto sea construcción y/o ampliación y/o adecuación y/o mejoramiento de edificaciones, suscritos con entidades públicas y/o privadas debidamente inscritos en el RUP, cuya sumatoria sea igual o superior a dos (2) veces el presupuesto oficial, expresado en SMMLV. | D7: 72102900, Servicios de mantenimiento y reparación de instalaciones | G7: =L2/J5 -> 148.5555 | H7: =G7*2 -> 297.11099
D8: 72103300 - Servicios de mantenimiento y reparación de infraestructura
D9: 72121100, Servicios de renovación y reparación de edificios comerciales y de oficinas
A11: =PROPONENTES!B7 -> INGENIERIA Y PROYECTOS JLE S.A.S. | I11: 1
A12: CONTRATO | B12: # consecutivo en RUP | C12: NOMBRE CONTRATANTE | D12: VALOR ($) | E12: VALOR EN SMMLV | F12: % DE PARTICIPACIÓN | G12: CÓDIGOS DE BIENES Y SERVICIOS (RUP) | H12: OBSERVACIONES
B13: 19 | C13: CONSTRUCCIONES Y SERVICIOS SAS | E13: 261.04 | F13: 1 | G13: 72102900 - 72103300 - 72121100
B14: 16 | C14: CONSTRUCCIONES Y SERVICIOS SAS | E14: 495.92 | F14: 1 | G14: 72102900 - 72103300 - 72121100
A15: SUMATORIA | D15: =SUM(D13:D14) -> 0 | E15: =SUM(E13:E14) -> 756.96
A16: Cuantía Mínima Individual de cada contrato certificado (148,564 SMMLV) $ 246'042.366 | D16: =L2*2 -> 246042366 | E16: =H7 -> 297.11099 | F16: =IF(E15>=E16,"CUMPLE","NO CUMPLE") -> CUMPLE | K16: 1984 | L16: 11298
K17: 1985 | L17: 13558
A18: NOTAS: | K18: 1986 | L18: 16811
K19: 1987 | L19: 20510
A20: =PROPONENTES!B8 -> LUIS ENRIQUE OYOLA QUINTERO | I20: =I11+1 -> 2 | K20: 1989 | L20: 32560
A21: CONTRATO | B21: # consecutivo en RUP | C21: NOMBRE CONTRATANTE | D21: VALOR ($) | E21: VALOR EN SMMLV | F21: % DE PARTICIPACIÓN | G21: CÓDIGOS DE BIENES Y SERVICIOS (RUP) | H21: OBSERVACIONES | K21: 1990 | L21: 41025
B22: 55 | C22: INSTITUTO NACIONAL DE VIGILANCIA DE MEDICAMENTOS Y ALIMENTOS INVIMA | E22: 149.88 | F22: 1 | G22: 72102900 - 72103300 | K22: 1991 | L22: 51716
B23: 58 | C23: ESCUELA NAVAL DE SUB OFICIALES ARC "BARRANQUILLA" | E23: 441.17 | F23: 1 | K23: 1992 | L23: 65190
A24: SUMATORIA | D24: =SUM(D21:D23) -> 0 | E24: =SUM(E21:E23) -> 591.05 | K24: 1993 | L24: 81510
A25: =grupouno -> Cuantía Mínima Individual de cada contrato certificado (148,564 SMMLV) $ 246'042.366 | D25: =D16 -> 246042366 | E25: =E16 -> 297.11099 | F25: =IF(E24>=E25,"CUMPLE","NO CUMPLE") -> CUMPLE | K25: 1994 | L25: 98700
K26: 1995 | L26: 118934
A27: NOTAS: | K27: 1996 | L27: 142125
K28: 1997 | L28: 172005
A29: =PROPONENTES!B9 -> CONSTRUSION SAS | I29: =I20+1 -> 3 | K29: 2000 | L29: 260100
A30: CONTRATO | B30: # consecutivo en RUP | C30: NOMBRE CONTRATANTE | D30: VALOR ($) | E30: VALOR EN SMMLV | F30: % DE PARTICIPACIÓN | G30: CÓDIGOS DE BIENES Y SERVICIOS (RUP) | H30: OBSERVACIONES | K30: 2001 | L30: 286000
B31: 39 | C31: DIRECCION SECCIONAL DE IMPUESTOS Y ADUANAS SANTA MARTA | E31: =1166.4*F31 -> 583.2 | F31: 0.5 | G31: 72102900 | H31: Solo cumple con uno de los codigos solicitados | K31: 2002 | L31: 309000
B32: 40 | C32: ARMADA NACIONAL BASE NAVAL ARC "BOLIVAR" | D32: 154337798 | E32: =197.55*F32 -> 98.775 | F32: 0.5 | G32: 72101500 - 72102900 | H32: No cumple con la cuantia minima solicitada | K32: 2004 | L32: 358000
A33: SUMATORIA | D33: =SUM(D31:D32) -> 154337798 | E33: =SUM(E31:E32) -> 681.975 | K33: 2005 | L33: 381500
A34: =A25 -> Cuantía Mínima Individual de cada contrato certificado (148,564 SMMLV) $ 246'042.366 | D34: =D25 -> 246042366 | E34: =E25 -> 297.11099 | F34: NO CUMPLE | K34: 2006 | L34: 408000
K35: 2007 | L35: 433700
A36: NOTAS: El contrato realcionado con la Dian no cuple con el requisito minimo dos de los codigos solicitados. El contratao relacionado Con la Superintendencia de notariado y registro fue realizado en consorcio y no cumple con la cuantia individual minima exigida | K36: 2008 | L36: 461500
K37: 2009 | L37: 496900
A38: =PROPONENTES!B10 -> SAFRID INGENIERIA SAS | I38: =I29+1 -> 4 | K38: 2010 | L38: 515000
A39: CONTRATO | B39: # consecutivo en RUP | C39: NOMBRE CONTRATANTE | D39: VALOR ($) | E39: VALOR EN SMMLV | F39: % DE PARTICIPACIÓN | G39: CÓDIGOS DE BIENES Y SERVICIOS (RUP) | H39: OBSERVACIONES | K39: 2011 | L39: 535600
B40: 19 | C40: U.A.E. DIRECCION DE IMPUESTOS Y ADUANAS NACIONALES | E40: 718.12 | F40: 1 | G40: 72102900 - 72103300 - 72121100 | K40: 2012 | L40: 566700
B41: 42 | C41: SUPERINTENDENCIA DE NOTARIADO Y REGISTRO | E41: 1171.64 | F41: 1 | G41: 72103300 - 72121100 | K41: 2013 | L41: 589500
...

Sheet REQUIS. TECNICOS HABILITANTES
A1: AGENCIA NACIONAL DE MINERÍA
A2: VICEPRESIDENCIA ADMINISTRATIVA Y FINANCIERA
A3: =PROPONENTES!A3 -> SELECCIÓN ABREVIADA DE MENOR CUANTÍA N° SA-MC-037 DE 2019
A4: =PROPONENTES!A4 -> Realizar el traslado montaje y adecuación de la sede temporal de AMAGA.
A6: OFERTA TÉCNICA Y REQUISITOS TECNICOS HABILITANTES
C7: PROPONENTE 1 | D7: PROPONENTE 2 | E7: PROPONENTE 3
A8: REQUISITOS EXIGIDOS | B8: DECRIPCIÓN DEL REQUISITO | C8: ='EXPERIENCIA HABILITANTE'!A11 -> INGENIERIA Y PROYECTOS JLE S.A.S. | D8: ='EXPERIENCIA HABILITANTE'!A20 -> LUIS ENRIQUE OYOLA QUINTERO | E8: =PROPONENTES!B9 -> CONSTRUSION SAS
A9: 4.1.3.2 ACEPTACIÓN DE LAS ESPECIFICACIONES Y REQUERIMIENTOS TÉCNICOS MINIMOS | B9: Serán habilitadas técnicamente los proponentes que atiendan el objeto, el alcance del objeto y la totalidad de las especificaciones técnicas, condiciones, cantidades y demás requerimientos establecidos en el Anexo denominado “ESPECIFICACIONES REQUISITOS Y TÉCNICOS MÍNIMOS”, para lo cual el proponente deberá manifestar que conoce, acepta y se compromete con la suscripción del mismo, a cumplir con todos los requerimientos mínimos obligatorios establecidos en este documento. | C9: CUMPLE | D9: CUMPLE | E9: CUMPLE
C11: PROPONENTE 4
A12: REQUISITOS EXIGIDOS | B12: DECRIPCIÓN DEL REQUISITO | C12: ='EXPERIENCIA HABILITANTE'!A38 -> SAFRID INGENIERIA SAS
A13: 4.1.3.2 ACEPTACIÓN DE LAS ESPECIFICACIONES Y REQUERIMIENTOS TÉCNICOS MINIMOS | B13: Serán habilitadas técnicamente los proponentes que atiendan el objeto, el alcance del objeto y la totalidad de las especificaciones técnicas, condiciones, cantidades y demás requerimientos establecidos en el Anexo denominado “ESPECIFICACIONES REQUISITOS Y TÉCNICOS MÍNIMOS”, para lo cual el proponente deberá manifestar que conoce, acepta y se compromete con la suscripción del mismo, a cumplir con todos los requerimientos mínimos obligatorios establecidos en este documento.
A15: ROLANDO DAVID ACUÑA PAEZ
A16: Evaluador Tecnico
A17: Grupo de Servicios Administrativos

Sheet CALIFICACIÓN TÉCNICA
A1: AGENCIA NACIONAL DE MINERIA
A2: VICEPRESIDENCIA ADMINISTRATIVA Y FINANCIERA
A3: =PROPONENTES!A3 -> SELECCIÓN ABREVIADA DE MENOR CUANTÍA N° SA-MC-037 DE 2019
A4: =PROPONENTES!A4 -> Realizar el traslado montaje y adecuación de la sede temporal de AMAGA.
A5: 4.2.1.1 CALIFICACIÓN TECNICA (Máximo 30 PUNTOS)
A6: GRUPO 1 IBAGUE
A7: FACTOR | D7: TOTAL OFRECIDO | E7: PUNTAJE
A8: El proponente que ofrezca señalizar las rutas de evacuación incluyendo el plano con las mismas, con los respectivos avisos según las normas vigentes obtendrá 15 puntos. Si no ofrece dicha señalización obtendrá 0 puntos. | D8: OFRECE | E8: 15 Puntos
A9: El oferente que ofrezca el traslado equipo de aire acondicionado piso 9 obtendrá 15 puntos. Si no ofrece nada obtendrá 0 puntos. (anexos a la propuesta técnica) | D9: OFRECE | E9: 15 Puntos
A10: PUNTAJE MÁXIMO | E10: 30 PUNTOS
A11: =PROPONENTES!A6 -> PROPONENTE No. | B11: =PROPONENTES!B6 -> NOMBRE DEL PROPONENTE | D11: Personal Minimo Requerido | E11: PUNTAJE OBTENIDO CALIFICACIÓN TÉCNICA | F11: OBSERVACIONES
A12: 1 | B12: ='REQUIS. TECNICOS HABILITANTES'!C8 -> INGENIERIA Y PROYECTOS JLE S.A.S. | D12: HABILITADO | E12: 30 | F12: Solicitar hoja de vida de Oficial de construccion
A13: =A12+1 -> 2 | B13: ='REQUIS. TECNICOS HABILITANTES'!D8 -> LUIS ENRIQUE OYOLA QUINTERO | D13: HABILITADO | E13: 30 | F13: Solicitar la presentacion de los ayudantes para oficios varios
A14: =A13+1 -> 3 | B14: =PROPONENTES!B9 -> CONSTRUSION SAS | D14: =D13 -> HABILITADO | E14: 30
A15: =A14+1 -> 4 | B15: =PROPONENTES!B10 -> SAFRID INGENIERIA SAS | D15: =D14 -> HABILITADO | E15: 30
A20: ROLANDO DAVID ACUÑA PAEZ
A21: Evaluador Tecnico
A22: Grupo de Servicios Administrativos

Sheet APOYO IND. NACIONAL
A1: AGENCIA NACIONAL DE MINERIA
A2: VICEPRESIDENCIA ADMINISTRATIVA Y FINANCIERA
A3: =PROPONENTES!A3 -> SELECCIÓN ABREVIADA DE MENOR CUANTÍA N° SA-MC-037 DE 2019
A4: =PROPONENTES!A4 -> Realizar el traslado montaje y adecuación de la sede temporal de AMAGA.
A6: 7.3 FACTOR APOYO A LA INDUSTRIA NACIONAL (100 PUNTOS)
A7: ='CALIFICACIÓN TÉCNICA'!A6 -> GRUPO 1 IBAGUE
A8: =PROPONENTES!A6 -> PROPONENTE No. | B8: =PROPONENTES!B6 -> NOMBRE DEL PROPONENTE | D8: HABILITADO / NO HABILITADO | E8: PORCENTAJE | F8: PUNTAJE OBTENIDO
A9: 1 | B9: ='CALIFICACIÓN TÉCNICA'!B12:C12 -> INGENIERIA Y PROYECTOS JLE S.A.S. | D9: ='CALIFICACIÓN TÉCNICA'!D12 -> HABILITADO | E9: 1 | F9: 10
A10: =A9+1 -> 2 | B10: ='CALIFICACIÓN TÉCNICA'!B13:C13 -> LUIS ENRIQUE OYOLA QUINTERO | D10: HABILITADO | E10: 1 | F10: 10
A11: =A10+1 -> 3 | B11: =PROPONENTES!B9 -> CONSTRUSION SAS | D11: =D10 -> HABILITADO | E11: 1 | F11: 10
A12: =A11+1 -> 4 | B12: ='CALIFICACIÓN TÉCNICA'!B15:C15 -> SAFRID INGENIERIA SAS | D12: =D11 -> HABILITADO | E12: 1 | F12: 10
A16: ROLANDO DAVID ACUÑA PAEZ
A17: Evaluador Tecnico
A18: Grupo de Servicios Administrativos

Sheet TOTAL CALIFICACIÓN TÉCNICA
A1: AGENCIA NACIONAL DE MINERIA
A2: VICEPRESIDENCIA ADMINISTRATIVA Y FINANCIERA
A3: =PROPONENTES!A3 -> SELECCIÓN ABREVIADA DE MENOR CUANTÍA N° SA-MC-037 DE 2019
A4: =PROPONENTES!A4 -> Realizar el traslado montaje y adecuación de la sede temporal de AMAGA.
A5: 4.2.2 APOYO A LA INDUSTRIA NACIONAL (10 PUNTOS)
A6: ='APOYO IND. NACIONAL'!A7:E7 -> GRUPO 1 IBAGUE
A7: GRUPO 1 | E7: PUNTAJE OBTENIDO
A8: ='APOYO IND. NACIONAL'!A8 -> PROPONENTE No. | B8: =PROPONENTES!B6 -> NOMBRE DEL PROPONENTE | D8: HABILITADO / NO HABILITADO | E8: CALIFICACION TECNICA | F8: APOYO INDUSTRIA NACIONAL | G8: TOTAL
A9: 1 | B9: ='APOYO IND. NACIONAL'!B9:C9 -> INGENIERIA Y PROYECTOS JLE S.A.S. | D9: NO HABILITADO
A10: =A9+1 -> 2 | B10: ='APOYO IND. NACIONAL'!B10:C10 -> LUIS ENRIQUE OYOLA QUINTERO | D10: NO HABILITADO
A11: =A10+1 -> 3 | B11: =PROPONENTES!B9 -> CONSTRUSION SAS | D11: NO HABILITADO
A12: =A11+1 -> 4 | B12: ='APOYO IND. NACIONAL'!B12:C12 -> SAFRID INGENIERIA SAS | D12: HABILITADO | E12: ='CALIFICACIÓN TÉCNICA'!E15 -> 30 | F12: ='APOYO IND. NACIONAL'!F12 -> 10 | G12: =E12+F12 -> 40
A16: ROLANDO DAVID ACUÑA PAEZ
A17: Evaluador Tecnico
A18: Grupo de Servicios Administrativos
