Workbook
Name _Hlk511664705: Evaluación!#REF!

Sheet Evaluación
A1: EVALUACION Y VERIFICACIÓN DE REQUISITOS HABILITANTES SA-04-2023 | G1: EVALUACION Y VERIFICACIÓN DE REQUISITOS HABILITANTES SA-04-2023
B2: VALOR DEL CONTRATO | C2: 67179046 | D2: =+C2/1160000 -> 57.912971 | E2: SMMLV | H2: VALOR DEL CONTRATO | I2: 67179046 | J2: =+I2/1160000 -> 57.912971 | K2: SMMLV
A3: NUMERO DE PROPONENTE: | B3: NUMERO DE PROPONENTE | C3: 1 | G3: NUMERO DE PROPONENTE: | H3: NUMERO DE PROPONENTE | I3: 2
A4: PROPONENTE: | C4: OSCAR ADOLFO DIEZ YEPES | G4: PROPONENTE: | I4: SOLUCIONES INTEGRALES TM SAS
A5: PROPONENTE SINGULAR: | C5: X | D5: INTEGRANTES: | G5: PROPONENTE SINGULAR: | I5: X | J5: INTEGRANTES:
A6: PROPONENTE PLURAL: | G6: PROPONENTE PLURAL:
C7: CUMPLE | D7: NO CUMPLE | E7: OBSERVACIONES | I7: CUMPLE | J7: NO CUMPLE | K7: OBSERVACIONES
A8: REQUISITOS HABILITANTES Y SU VERIFICACION | G8: REQUISITOS HABILITANTES Y SU VERIFICACION
A9: 2.1 | B9: PRESENTACION DE LA OFERTA | G9: 2.1 | H9: PRESENTACION DE LA OFERTA
A10: A | B10: Formato 1 - Carta de presentación de la oferta. | C10: X | G10: A | H10: Formato 1 - Carta de presentación de la oferta. | I10: X
A11: B | B11: Aval de la propuesta por profesional en el área de la ingeniería. | C11: X | G11: B | H11: Aval de la propuesta por profesional en el área de la ingeniería. | I11: X | K11: Subsanó dentro del plazo establecido
A12: C | B12: Registro Único Tributario (RUT) del proponente singular. | C12: X | G12: C | H12: Registro Único Tributario (RUT) del proponente singular. | I12: X
A13: D | B13: Registro Único Tributario (RUT) de los miembros del proponente plural. | C13: N.A | G13: D | H13: Registro Único Tributario (RUT) de los miembros del proponente plural. | I13: N.A
A14: 3.2 | B14: CAPACIDAD JURIDICA | G14: 3.2 | H14: CAPACIDAD JURIDICA
A15: A. | B15: Capacidad juridica para la presentacion de la oferta | C15: X | G15: A. | H15: Capacidad juridica para la presentacion de la oferta | I15: X
A16: B. | B16: Capacidad jurídica para la celebracion y ejecucion del contrato. | C16: X | G16: B. | H16: Capacidad jurídica para la celebracion y ejecucion del contrato. | I16: X
A17: D1. | B17: No reporte boletín de responsables fiscales. | C17: X | E17: Verificado por la entidad | G17: D1. | H17: No reporte boletín de responsables fiscales. | I17: X | K17: Verificado por la entidad
A18: D2. | B18: Antecendentes disciplinarios. | C18: X | E18: Verificado por la entidad | G18: D2. | H18: Antecendentes disciplinarios. | I18: X | K18: Verificado por la entidad
A19: D3. | B19: Antecedentes judiciales. | C19: X | E19: Verificado por la entidad | G19: D3. | H19: Antecedentes judiciales. | I19: X | K19: Verificado por la entidad
A20: D4. | B20: Registro nacional de medidas correctivas. | C20: X | E20: Verificado por la entidad | G20: D4. | H20: Registro nacional de medidas correctivas. | I20: X | K20: Verificado por la entidad
A21: 3.3 | B21: EXISTENCIA Y REPRESENTACION LEGAL | G21: 3.3 | H21: EXISTENCIA Y REPRESENTACION LEGAL
A22: 3.3.1 | B22: PERSONAS NATURALES | G22: 3.3.1 | H22: PERSONAS NATURALES
A23: A | B23: Existencia y representación legal persona natural. Cedula | C23: X | G23: A | H23: Existencia y representación legal persona natural. Cedula | I23: N.A
A24: B | B24: Persona natural extranjera residente en Colombia. | C24: X | G24: B | H24: Persona natural extranjera residente en Colombia. | I24: N.A
A25: C | B25: Persona natural extranjera si domicilio en Colombia. | C25: X | G25: C | H25: Persona natural extranjera si domicilio en Colombia. | I25: N.A
A26: 3.3.2 | B26: PERSONAS JURIDICAS | G26: 3.3.2 | H26: PERSONAS JURIDICAS
A27: A. | B27: Persona jurídica nacional o extranjera con sucursal en Colombia | G27: A. | H27: Persona jurídica nacional o extranjera con sucursal en Colombia
A28: A1. | B28: Certificado de existencia y representacion legal persona jurídica | G28: A1. | H28: Certificado de existencia y representacion legal persona jurídica
B29: Fecha de expedición del certificado. | C29: N.A | H29: Fecha de expedición del certificado. | I29: X
B30: Objeto de la sociedad. | C30: N.A | H30: Objeto de la sociedad. | I30: X
B31: Vigencia de la persona jurídica. | C31: N.A | H31: Vigencia de la persona jurídica. | I31: X
B32: Capacidad del reprentante legal. | C32: N.A | H32: Capacidad del reprentante legal. | I32: X
B33: Nombramiento del revisor fiscal en caso de que exista. | C33: N.A | H33: Nombramiento del revisor fiscal en caso de que exista. | I33: X
B34: Persona jurídica extranjera legalmente establecidad. | C34: N.A | H34: Persona jurídica extranjera legalmente establecidad. | I34: X
A35: A.2. | B35: Certificación del revisor fiscal en caso de ser sociedad anónima. | C35: N.A | G35: A.2. | H35: Certificación del revisor fiscal en caso de ser sociedad anónima. | I35: N.A
A36: B. | B36: Persona Jurídica extranjera sin sucursal o domicilio en Colombia. | C36: N.A | G36: B. | H36: Persona Jurídica extranjera sin sucursal o domicilio en Colombia. | I36: N.A
A37: B1. | B37: I. Nombre o razón social completa. | C37: N.A | G37: B1. | H37: I. Nombre o razón social completa. | I37: N.A
A38: B2. | B38: II. Nombre del Representante Legal o de la persona facultada para comprometer a la persona jurídica. | C38: N.A | G38: B2. | H38: II. Nombre del Representante Legal o de la persona facultada para comprometer a la persona jurídica. | I38: N.A
A39: B3. | B39: III. Que el objeto de la sociedad permita ejecutar las actividades descritas en el objeto del presente Proceso de Contratación. | C39: N.A | G39: B3. | H39: III. Que el objeto de la sociedad permita ejecutar las actividades descritas en el objeto del presente Proceso de Contratación. | I39: N.A
A40: B4. | B40: IV. Facultades del representante legal o de la persona facultada para comprometer a la persona jurídica, en la que se señale expresamente que el representante no tiene limitaciones para contraer obligaciones en nombre de la misma o aportando la autorización o documento correspondiente del órgano social competente respectivo para cada caso. | C40: N.A | G40: B4. | H40: IV. Facultades del representante legal o de la persona facultada para comprometer a la persona jurídica, en la que se señale expresamente que el representante no tiene limitaciones para contraer obligaciones en nombre de la misma o aportando la autorización o documento correspondiente del órgano social competente respectivo para cada caso. | I40: N.A
...

Sheet Puntaje Oferta Economica
A2: Numero de Proponente | B2: Proponente | C2: Valor Oferta Economica | D2: Valido / No Valido | E2: De acuerdo a la TRM la formula será: MENOR VALOR
A3: 1 | B3: =+Evaluación!C4 -> OSCAR ADOLFO DIEZ YEPES | C3: 65594000 | D3: No Valido | E3: 0
A4: 2 | B4: =+Evaluación!H103 -> SOLUCIONES INTEGRALES TM SAS | C4: 65870934 | D4: Valido | E4: 59.5

Sheet Resumen
A1: No. | B1: PORPONENTE | C1: Cumple | D1: No Cumple SUBSANAR | E1: Rechazado | F1: Puntaje
F2: =+Evaluación!A109 -> Oferta Economica | G2: =+Evaluación!A110 -> Factor de Calidad | H2: =+Evaluación!A111 -> Apoyo Industria Nacional | I2: =+Evaluación!A112 -> Emprendimientos y empresas de mujeres | J2: =+Evaluación!A113 -> Mipyme | K2: TOTAL
A3: 1 | B3: =+Evaluación!C4 -> OSCAR ADOLFO DIEZ YEPES | E3: X | F3: =+Evaluación!C117 -> - | G3: 0 | H3: 0 | I3: =+Evaluación!C124 -> 0 | J3: =+Evaluación!C126 -> 0 | K3: =SUM(F3:J3) -> 0
A4: 2 | B4: =+Evaluación!I4 -> SOLUCIONES INTEGRALES TM SAS | C4: X | F4: =+Evaluación!I117 -> 59.5 | G4: =+Evaluación!I119 -> 20 | H4: =+Evaluación!I121 -> 20 | I4: =+Evaluación!I124 -> 0.25 | J4: =+Evaluación!I126 -> 0.25 | K4: =SUM(F4:J4) -> 100
