Workbook
Name _____________________________________________________TEP44: #N/A
Name _____________________________________________________TEP44: #N/A
Name _____________________________________________________TEP44: #N/A
Name _____________________________________________________TZ216: #N/A
Name _____________________________________________________TZ216: #N/A
Name _____________________________________________________TZ216: #N/A
Name ____________________________________________________ADM4: [1]BASE!$D$120
Name ____________________________________________________AIU1: #REF!
Name ____________________________________________________AIU1: #REF!
Name ____________________________________________________AIU1: #REF!
Name ____________________________________________________TPE1132: #N/A
Name ____________________________________________________TPE1132: #N/A
Name ____________________________________________________TPE1132: #N/A
Name ____________________________________________________TPE12: #REF!
Name ____________________________________________________TPE12: #REF!
Name ____________________________________________________TPE12: #REF!
Name ____________________________________________________TPE1331: #N/A
Name ____________________________________________________TPE1331: #N/A
Name ____________________________________________________TPE1331: #N/A
Name ____________________________________________________TPE1702: #N/A
Name ____________________________________________________TPE1702: #N/A
Name ____________________________________________________TPE1702: #N/A
Name ____________________________________________________TPE1703: #N/A
Name ____________________________________________________TPE1703: #N/A
Name ____________________________________________________TPE1703: #N/A
Name ____________________________________________________TPE1704: #N/A
Name ____________________________________________________TPE1704: #N/A
Name ____________________________________________________TPE1704: #N/A
Name ____________________________________________________TPE1706: #N/A
Name ____________________________________________________TPE1706: #N/A
Name ____________________________________________________TPE1706: #N/A
Name ____________________________________________________TPE1708: #N/A
Name ____________________________________________________TPE1708: #N/A
Name ____________________________________________________TPE1708: #N/A
Name ____________________________________________________TPE1710: #N/A
Name ____________________________________________________TPE1710: #N/A
Name ____________________________________________________TPE1710: #N/A
Name ____________________________________________________TPE1735: #N/A
Name ____________________________________________________TPE1735: #N/A
Name ____________________________________________________TPE1735: #N/A
Name ____________________________________________________TPE1763: #N/A
Name ____________________________________________________TPE1763: #N/A
Name ____________________________________________________TPE1763: #N/A
Name ____________________________________________________TPE1790: #N/A
Name ____________________________________________________TPE1790: #N/A
Name ____________________________________________________TPE1790: #N/A
Name ____________________________________________________TUZ22: '[2]BASE ORIGINAL'!#REF!
Name ____________________________________________________TUZ22: '[2]BASE ORIGINAL'!#REF!
Name ____________________________________________________TUZ22: '[2]BASE ORIGINAL'!#REF!
Name ____________________________________________________TUZ36: '[2]BASE ORIGINAL'!#REF!
Name ____________________________________________________TUZ36: '[2]BASE ORIGINAL'!#REF!
Name ____________________________________________________TUZ36: '[2]BASE ORIGINAL'!#REF!
Name ____________________________________________________TZ214: #N/A
Name ____________________________________________________TZ214: #N/A
Name ____________________________________________________TZ214: #N/A
Name ____________________________________________________TZ323: '[2]BASE ORIGINAL'!#REF!
Name ____________________________________________________TZ323: '[2]BASE ORIGINAL'!#REF!
Name ____________________________________________________TZ323: '[2]BASE ORIGINAL'!#REF!
Name ____________________________________________________TZ324: '[2]BASE ORIGINAL'!#REF!
Name ____________________________________________________TZ324: '[2]BASE ORIGINAL'!#REF!

Sheet Plan ejecución
C1: SISTEMA DE GESTIÓN INTEGRAL - SGI | AC1: Instructivo
C2: COMPONENTE FINANCIERO EP - PLAN DE EJECUCIÓN FÍSICA Y DE INVERSIONES
C3: CÓDIGO: F-PGC-21 | H3: =[74]Instructivo!G3 -> VERSIÓN: 03
A4: MODALIDAD DE CONTRATACIÓN: | C4: CONVENIO INTERADMINISTRATIVO | AC4: =C4 -> CONVENIO INTERADMINISTRATIVO
A5: OBJETO A CONTRATAR: | C5: “Aunar esfuerzos con el municipio de Santa Fe de Antioquia para cofinanciar el saneamiento hídrico rural en su territorio" | AC5: =C5 -> “Aunar esfuerzos con el municipio de Santa Fe de Antioquia para cofinanciar el saneamiento hídrico rural en su territorio"
A7: CONTRATISTA/CONVENIANTE: | C7: Municipio de Santa Fe de Antioquia
A8: NOMBRE DEL TÉCNICO (A): | C8: EL DESIGNADO POR EL ORDENADOR DEL GASTO
A9: DURACIÓN Y/O PLAZO DEL CONTRATO (MESES): | C9: 6 meses
A10: PERIODO DE PROGRAMACIÓN Y SEGUIMIENTO: | C10: mensual
A12: PROGRAMACIÓN FÍSICA
B13: Descripción | C13: % de importancia | D13: % de importancia subactividades | E13: Unidad de medida | F13: Cantidad Programada | G13: Distribución física
G14: Período 1 | H14: Período 2 | I14: Período 3 | J14: Período 4 | K14: Período 5 | L14: Período 6 | M14: Período 9 | N14: Período 10 | O14: Período 11 | P14: Período 12 | Q14: Período 13 | R14: Período 14 | S14: Período 15 | T14: Período 16 | U14: Período 17 | V14: Período 18 | W14: Período 19 | X14: Período 20 | Y14: Período 21 | Z14: Período 22 | AA14: Período 23 | AB14: Período 24
A15: META/ PRODUCTO A OBTENER: | B15: Apoyar la infraestructura de descontaminación hídrica en comunidades rurales | C15: 1 | D15: =SUM(D16:D16) -> 1 | E15: Convenio | F15: 1 | AC15: =F15-SUM(G15:AB15) -> 1
A16: Alcance 1 | B16: Cofinanciar al Municipio de Santa Fe de Antioquia para el suministro, transporte e instalación de cuarenta y cuatro (44) sistemas sépticos. | C16: 1 | D16: 1 | E16: Tanques | F16: 44 | G16: 10 | H16: 10 | I16: 10 | J16: 5 | K16: 5 | L16: 4 | M16: =+#REF! -> #REF! | N16: =+#REF! -> #REF! | O16: =+#REF! -> #REF! | P16: =+#REF! -> #REF! | Q16: =+#REF! -> #REF! | R16: =+#REF! -> #REF! | S16: =+#REF! -> #REF! | T16: =+#REF! -> #REF! | ... AB16: =+#REF! -> #REF! | AC16: =+F16-SUM(G16:L16) -> 0
A17: TOTAL | G17: =IF(ISERROR((G$16/$F$16)*$C$16),0,(G$16/$F$16)*$C$16) -> 0.22727273 | H17: =IF(ISERROR((H$16/$F$16)*$C$16),0,(H$16/$F$16)*$C$16) -> 0.22727273 | I17: =IF(ISERROR((I$16/$F$16)*$C$16),0,(I$16/$F$16)*$C$16) -> 0.22727273 | J17: =IF(ISERROR((J$16/$F$16)*$C$16),0,(J$16/$F$16)*$C$16) -> 0.11363636 | K17: =IF(ISERROR((K$16/$F$16)*$C$16),0,(K$16/$F$16)*$C$16) -> 0.11363636 | L17: =IF(ISERROR((L$16/$F$16)*$C$16),0,(L$16/$F$16)*$C$16) -> 0.090909091 | M17: =IFERROR(((#REF!/#REF!)*#REF!),0) -> 0 | N17: =IFERROR(((#REF!/#REF!)*#REF!),0) -> 0 | O17: =IFERROR(((#REF!/#REF!)*#REF!),0) -> 0 | P17: =IFERROR(((#REF!/#REF!)*#REF!),0) -> 0 | Q17: =IFERROR(((#REF!/#REF!)*#REF!),0) -> 0 | R17: =IFERROR(((#REF!/#REF!)*#REF!),0) -> 0 | S17: =IFERROR(((#REF!/#REF!)*#REF!),0) -> 0 | T17: =IFERROR(((#REF!/#REF!)*#REF!),0) -> 0 | ... AB17: =IFERROR(((#REF!/#REF!)*#REF!),0) -> 0
A18: ACUMULADO | G18: =+G17 -> 0.22727273 | H18: =G18+H17 -> 0.45454545 | I18: =H18+I17 -> 0.68181818 | J18: =I18+J17 -> 0.79545455 | K18: =J18+K17 -> 0.90909091 | L18: =K18+L17 -> 1 | M18: =M17+L18 -> 1 | N18: =N17+M18 -> 1 | O18: =O17+N18 -> 1 | P18: =P17+O18 -> 1 | Q18: =Q17+P18 -> 1 | R18: =R17+Q18 -> 1 | S18: =S17+R18 -> 1 | T18: =T17+S18 -> 1 | ... AB18: =AB17+AA18 -> 1
E20: PROGRAMACIÓN FINANCIERA INICIAL
E21: Valor del contrato o convenio | F21: Valor aportado por Corantioquia | G21: Distribución de recursos del valor aportado por Corantioquia
G22: Período 1 | H22: Período 2 | I22: Período 3 | J22: Período 4 | K22: Período 5 | L22: Período 6 | M22: Período 9 | N22: Período 10 | O22: Período 11 | P22: Período 12 | Q22: Período 13 | R22: Período 14 | S22: Período 15 | T22: Período 16 | U22: Período 17 | V22: Período 18 | W22: Período 19 | X22: Período 20 | Y22: Período 21 | Z22: Período 22 | AA22: Período 23 | AB22: Período 24
E23: =+'Presupuesto Convenio '!I106 -> 4.245642e+08 | F23: =+'Presupuesto Convenio '!D121 -> 3.3965136e+08 | G23: =+F23 -> 3.3965136e+08 | M23: =$F$23*M24 -> 0 | N23: =$F$23*N24 -> 0 | O23: =$F$23*O24 -> 0 | P23: =$F$23*P24 -> 0 | Q23: =$F$23*Q24 -> 0 | R23: =$F$23*R24 -> 0 | S23: =$F$23*S24 -> 0 | T23: =$F$23*T24 -> 0 | ... AB23: =$F$23*AB24 -> 0
E24: Porcentaje (%) | G24: 1 | H24: 0 | I24: =IFERROR(I23/$F$23,0) -> 0 | J24: =IFERROR(J23/$F$23,0) -> 0 | K24: =IFERROR(K23/$F$23,0) -> 0 | L24: 0 | M24: =M17 -> 0 | N24: =N17 -> 0 | O24: =O17 -> 0 | P24: =P17 -> 0 | Q24: =Q17 -> 0 | R24: =R17 -> 0 | S24: =S17 -> 0 | T24: =T17 -> 0 | ... AB24: =AB17 -> 0
E25: Porcentaje Acumulado (%) | G25: =+G24 -> 1 | H25: =+G25+H24 -> 1 | I25: =+H25+I24 -> 1 | J25: =+I25+J24 -> 1 | K25: =+J25+K24 -> 1 | L25: =+K25+L24 -> 1 | M25: =+L25+M24 -> 1 | N25: =+M25+N24 -> 1 | O25: =+N25+O24 -> 1 | ... AB25: =+AA25+AB24 -> 1
E26: Valores ya ejecutados | G26: =+G23 -> 3.3965136e+08 | H26: =+H23 -> 0 | I26: =+I23 -> 0 | J26: =+J23 -> 0 | K26: =+K23 -> 0 | L26: =+L23 -> 0 | M26: =+M23 -> 0 | N26: =+N23 -> 0 | ... AB26: =+AB23 -> 0
E27: Porcentaje (%) PGAR | G27: =IFERROR(G26/$F$23,0) -> 1 | H27: =IFERROR(H26/$F$23,0) -> 0 | I27: =IFERROR(I26/$F$23,0) -> 0 | J27: =IFERROR(J26/$F$23,0) -> 0 | K27: =IFERROR(K26/$F$23,0) -> 0 | L27: =IFERROR(L26/$F$23,0) -> 0 | M27: =IFERROR(M26/$F$23,0) -> 0 | N27: =IFERROR(N26/$F$23,0) -> 0 | ... AB27: =IFERROR(AB26/$F$23,0) -> 0
E28: Porcentaje Acumulado (%) PGAR | G28: =G27 -> 1 | H28: =G28+H27 -> 1 | I28: =H28+I27 -> 1 | J28: =I28+J27 -> 1 | K28: =J28+K27 -> 1 | L28: =K28+L27 -> 1 | M28: =L28+M27 -> 1 | N28: =M28+N27 -> 1 | O28: =N28+O27 -> 1 | ... AB28: =AA28+AB27 -> 1
E29: IVA EXCLUIBLE | G29: =+'Presupuesto Convenio '!I98 -> 42562750
E30: DESEMBOLSOS | G30: =+G23-G29 -> 2.9708861e+08 | H30: =+H23-H29 -> 0 | I30: =+I23-I29 -> 0 | J30: =+J23-J29 -> 0 | K30: =+K23-K29 -> 0 | L30: =+L23-L29 -> 0
C33: PROGRAMACIÓN FINANCIERA EN CASO DE ADICIÓN DE RECURSOS O PRÓRROGA
C34: Valor total del contrato o convenio (incluida la adición) | D34: Valor de la adición aportado por Corantioquia | E34: Valor total aportado por Corantioquia (incluida la adición) | F34: Distribución de recursos del valor aportado por Corantioquia
G35: Período 1 | H35: Período 2 | I35: Período 3 | J35: Período 4 | K35: Período 5 | L35: Período 8 | M35: Período 9 | N35: Período 10 | O35: Período 11 | P35: Período 12 | Q35: Período 13 | R35: Período 14 | S35: Período 15 | T35: Período 16 | U35: Período 17 | V35: Período 18 | W35: Período 19 | X35: Período 20 | Y35: Período 21 | Z35: Período 22 | AA35: Período 23 | AB35: Período 24 | AC35: Total Valores
F36: Valores ya ejecutados | M36: =M26 -> 0 | N36: =N26 -> 0 | O36: =O26 -> 0 | P36: =P26 -> 0 | Q36: =Q26 -> 0 | R36: =R26 -> 0 | S36: =S26 -> 0 | T36: =T26 -> 0 | ... AB36: =AB26 -> 0 | AC36: =SUM(G36:AB36) -> 0
F37: Porcentaje (%) | G37: =IFERROR(G36/$E$36,0) -> 0 | H37: =IFERROR(H36/$E$36,0) -> 0 | I37: =IFERROR(I36/$E$36,0) -> 0 | J37: =IFERROR(J36/$E$36,0) -> 0 | K37: =IFERROR(K36/$E$36,0) -> 0 | L37: =IFERROR(L36/$E$36,0) -> 0 | M37: =IFERROR(M36/$E$36,0) -> 0 | N37: =IFERROR(N36/$E$36,0) -> 0 | ... AB37: =IFERROR(AB36/$E$36,0) -> 0
F38: Porcentaje Acumulado (%) | G38: =+G37 -> 0 | H38: =+G38+H37 -> 0 | I38: =+H38+I37 -> 0 | J38: =+I38+J37 -> 0 | K38: =+J38+K37 -> 0 | L38: =+K38+L37 -> 0 | M38: =+L38+M37 -> 0 | N38: =+M38+N37 -> 0 | O38: =+N38+O37 -> 0 | ... AB38: =+AA38+AB37 -> 0
F39: Valores por ejecutar | AC39: =SUM(G39:AB39) -> 0
F40: Porcentaje (%) | G40: =IFERROR(G39/$E$36,0) -> 0 | H40: =IFERROR(H39/$E$36,0) -> 0 | I40: =IFERROR(I39/$E$36,0) -> 0 | J40: =IFERROR(J39/$E$36,0) -> 0 | K40: =IFERROR(K39/$E$36,0) -> 0 | L40: =IFERROR(L39/$E$36,0) -> 0 | M40: =IFERROR(M39/$E$36,0) -> 0 | N40: =IFERROR(N39/$E$36,0) -> 0 | ... AB40: =IFERROR(AB39/$E$36,0) -> 0
F41: Porcentaje Acumulado (%) | G41: =+G40 -> 0 | H41: =+G41+H40 -> 0 | I41: =+H41+I40 -> 0 | J41: =+I41+J40 -> 0 | K41: =+J41+K40 -> 0 | L41: =+K41+L40 -> 0 | M41: =+L41+M40 -> 0 | N41: =+M41+N40 -> 0 | O41: =+N41+O40 -> 0 | ... AB41: =+AA41+AB40 -> 0
C42: PORCENTAJE ACUMULADO (%) TOTAL | G42: =G38+G41 -> 0 | H42: =H38+H41 -> 0 | I42: =I38+I41 -> 0 | J42: =J38+J41 -> 0 | K42: =K38+K41 -> 0 | L42: =L38+L41 -> 0 | M42: =M38+M41 -> 0 | N42: =N38+N41 -> 0 | ... AB42: =AB38+AB41 -> 0 | AC42: =IFERROR((AC36+AC39)/E36,0) -> 0
AC44: =AC36+AC39 -> 0 | AD44: =E36-AC44 -> 0
E46: Nota el aporte de Corantioquia incluye el valor del IVA, es importante señalar que los desembolsos seran girados al municipio sin el valor del IVA sometido a trámite de exclusión de IVA
B51: GERENTE PROGRAMA | H51: COORDINADOR GIT

Sheet Presupuesto Convenio 
D2: PRESUPUESTO OFICIAL ESTUDIOS PREVIOS CONVENIO INTERADMINISTRATIVO “Aunar esfuerzos con el municipio de Santa Fe de Antioquia para cofinanciar el saneamiento hídrico rural en su territorio" MODALIDAD DE SELECCIÓN - OBJETO Convenio interadministrativo | H2: Versión 01
H3: Fecha Versión: 17/07/2013
B5: 1. COSTOS DE PERSONAL
B6: ÍTEM | C6: CANTIDAD | D6: DEDICACION (%) | E6: UNIDAD DE MEDIDA | F6: CANTIDAD UNIDAD DE MEDIDA | G6: VALOR UNITARIO | H6: FACTOR PRESTACIONAL | I6: VALOR TOTAL
B7: Mano de Obra Calificada
I10: =+C10*D10*F10*G10*H10 -> 0
B11: Subtotal Mano de Obra calificada | I11: =SUM(I8:I10) -> 0
B12: Mano de Obra No Calificada
I13: =+C13*D13*F13*G13*H13 -> 0
I14: =+C14*D14*F14*G14*H14 -> 0
B15: Subtotal Mano de Obra No Calificada | I15: =SUM(I13:I14) -> 0
B16: SUBTOTAL PERSONAL (Mano de Obra Calificada + Mano de Obra no Calificada)
B18: 2. COSTOS DIRECTOS
B19: ÍTEM | E19: UNIDAD DE MEDIDA | G19: CANTIDAD UNIDAD DE MEDIDA | H19: VALOR UNITARIO | I19: VALOR TOTAL
B20: Subtotal instalación:
B21: Excavación manual en material común hasta 4 m de profundidad, bajo cualquier grado de humedad | E21: m3 | G21: =+'ppto sistema septico'!V12+'ppto sistema septico'!V48 -> 486 | H21: =+'ppto sistema septico'!W12 -> 28013.16 | I21: =+G21*H21 -> 13614396
B22: Excavación en roca a cualquier profundidad | E22: m3 | G22: =+'ppto sistema septico'!V13 -> 4.4 | H22: =+'ppto sistema septico'!W13 -> 145647.74 | I22: =+G22*H22 -> 640850.06
B23: Lleno y apisonado de zanjas y apiques con material selecto de la excavación, incluye acarreo interno | E23: m3 | G23: =+'ppto sistema septico'!V14 -> 340.5 | H23: =+'ppto sistema septico'!W14 -> 23344.3 | I23: =+G23*H23 -> 7948734.2
B24: Regada de material proveniente de la excavación y conformación del terreno | E24: m3 | G24: =+'ppto sistema septico'!V15+'ppto sistema septico'!V49 -> 145.5 | H24: =+'ppto sistema septico'!W15 -> 2801.316 | I24: =+G24*H24 -> 407591.48 | M24: EN ESTOS DE AQUÍ PARA ARRIBA NO SEPARA SUMINISTRO DE INSTALACIÓN, PORQUE NO TIENEN SUMINISTRO
B25: I. Tubería pvc-s de ø2" (50 mm). Efluente+purga. incluye accesorios. | E25: m | G25: =+'ppto sistema septico'!V16 -> 289 | H25: =+'ppto sistema septico'!AG16 -> 4086.663 | I25: =+G25*H25 -> 1181045.6
B26: I. Tubería pvc-s de ø3" (75 mm). Incluye accesorios | E26: m | G26: =+'ppto sistema septico'!V17 -> 741 | H26: =+'ppto sistema septico'!AG17 -> 5108.3287 | I26: =+G26*H26 -> 3785271.6
B27: I. Tubería pvc-s de ø2" (50 mm). Trampa de grasas.Incluye accesorios | E27: m | G27: =+'ppto sistema septico'!V18 -> 766 | H27: =+'ppto sistema septico'!AG18 -> 4086.663 | I27: =+G27*H27 -> 3130383.9
B28: I. De sifón S.R. De 135° en pvc-s ø3" para control de olores | E28: un | G28: =+'ppto sistema septico'!V19 -> 44 | H28: =+'ppto sistema septico'!AG19 -> 6715.0125 | I28: =+G28*H28 -> 295460.55
B29: I. De sifón S.R. De 135° en pvc-s ø4" para control de olores | E29: un | G29: =+'ppto sistema septico'!V20 -> 0 | H29: =+'ppto sistema septico'!AG20 -> 8953.35 | I29: =+G29*H29 -> 0
B30: I. Sistema séptico y FAFA prefabricado en P.R.F.V (Poliéster Reforzado Con Fibra De Vidrio) con capacidad para atender una población entre tres a nueve (3 a 9) habitantes, (incluye: accesorios internos, material filtrante para el FAFA que garanticen un área superficial de contacto ≥ 90m2/m3, tubería de PVC-S ø2" con accesorios y malla mosquitera doble. Volumen de 1,500-1,800 litros. | E30: un | G30: =+'ppto sistema septico'!V21 -> 42 | H30: =+'ppto sistema septico'!AG21 -> 457276.75 | I30: =+G30*H30 -> 19205624 | L30: Relacionar para cada sistema y trampa, la capacidad en volumenes
B31: I.Trampa de grasas prefabricada en P.R.F.V (Poliéster Reforzado con Fibra De Vidrio) con capacidad para atender una población de tres a nueve (3 a 9) habitantes. | E31: un | G31: =+'ppto sistema septico'!V22 -> 46 | H31: =+'ppto sistema septico'!AG22 -> 67150.125 | I31: =+G31*H31 -> 3088905.8
B32: I. Sistema séptico y FAFA prefabricado en P.R.F.V (Poliéster Reforzado Con Fibra De Vidrio) con capacidad para atender una población de diez a quince (10 a 15) habitantes, (incluye: accesorios internos, material filtrante para el FAFA que garanticen un área superficial de contacto ≥ 90m2/m3, tubería de PVC-S ø2" con accesorios y malla mosquitera doble. Volumen de 2,300-2,500 litros. | E32: un | G32: =+'ppto sistema septico'!V23 -> 2 | H32: =+'ppto sistema septico'!AG23 -> 457276.75 | I32: =+G32*H32 -> 914553.5
B33: I. trampa de grasas prefabricado en P.R.F.V (Poliéster Reforzado con Fibra De Vidrio) con capacidad para atender una población de diez a quince (10 a 15) habitantes. | E33: un | G33: =+'ppto sistema septico'!V24 -> 0 | H33: =+'ppto sistema septico'!AG24 -> 70032.9 | I33: =+G33*H33 -> 0
B34: I. Sistema séptico y FAFA prefabricado en P.R.F.V (Poliéster Reforzado Con Fibra De Vidrio) con capacidad para atender una población de dieciséis a veinte (16 a 20) habitantes, (incluye: accesorios internos, material filtrante para el FAFA que garanticen un área superficial de contacto ≥ 90m2/m3, tubería de PVC-S ø2" con accesorios y malla mosquitera doble. Volumen de 3,000-3,300 litros. | E34: un | G34: =+'ppto sistema septico'!V25 -> 0 | H34: =+'ppto sistema septico'!AG25 -> 457276.75 | I34: =+G34*H34 -> 0
B35: I. trampa de grasas prefabricado en P.R.F.V (Poliéster Reforzado con Fibra De Vidrio) con capacidad para atender una población de dieciséis a veinte (16 a 20) habitantes | E35: un | G35: =+'ppto sistema septico'!V26 -> 0 | H35: =+'ppto sistema septico'!AG26 -> 70032.9 | I35: =+G35*H35 -> 0
B36: I. sistema séptico y FAFA prefabricado en P.R.F.V (Poliéster Reforzado Con Fibra De Vidrio) con capacidad para atender una población de veinti uno a treinta (21 a 30) habitantes, (incluye: accesorios internos, material filtrante para el FAFA que garanticen un área superficial de contacto ≥ 90m2/m3, tubería de PVC-S ø2" con accesorios y malla mosquitera doble. Volumen 4,500-5,000 litros. | E36: un | G36: =+'ppto sistema septico'!V27 -> 0 | H36: =+'ppto sistema septico'!AG27 -> 548732.1 | I36: =+G36*H36 -> 0
B37: I. trampa de grasas prefabricado en P.R.F.V (Poliéster Reforzado con Fibra De Vidrio) con capacidad para atender una población de veintiuno a treinta (21 a 30) habitantes. | E37: un | G37: =+'ppto sistema septico'!V28 -> 0 | H37: =+'ppto sistema septico'!AG29 -> 685915.12 | I37: =+G37*H37 -> 0
B38: I. sistema séptico y FAFA prefabricado en P.R.F.V (Poliéster Reforzado Con Fibra De Vidrio) con capacidad para atender una población de treinta y uno a cuarenta (31 a 40) habitantes, (incluye: accesorios internos, material filtrante para el FAFA que garanticen un área superficial de contacto ≥ 90m2/m3, tubería de PVC-S ø2" con accesorios y malla mosquitera doble. Volumen 6,000-6,500 litros. | E38: un | G38: =+'ppto sistema septico'!V29 -> 0 | H38: =+'ppto sistema septico'!AG29 -> 685915.12 | I38: =+G38*H38 -> 0
B39: I. trampa de grasas prefabricado en P.R.F.V (Poliéster Reforzado con Fibra De Vidrio) con capacidad para atender una población treinta y uno a cuarenta (31 a 40) habitantes. | E39: un | G39: =+'ppto sistema septico'!V30 -> 0 | H39: =+'ppto sistema septico'!AG30 -> 67150.125 | I39: =+G39*H39 -> 0
B40: I.sistema séptico y FAFA prefabricado en P.R.F.V (Poliéster Reforzado Con Fibra De Vidrio) con capacidad para atender una población de cuarenta y uno a cincuenta (41 a 50) habitantes, (incluye: accesorios internos, material filtrante para el FAFA que garanticen un área superficial de contacto ≥ 90m2/m3, tubería de PVC-S ø2" con accesorios y malla mosquitera doble. Volumen de 7,500-8,000 litros. | E40: un | G40: =+'ppto sistema septico'!V31 -> 0 | H40: =+'ppto sistema septico'!AG31 -> 685915.12 | I40: =+G40*H40 -> 0
B41: I. trampa de grasas prefabricado en P.R.F.V (Poliéster Reforzado con Fibra De Vidrio) con capacidad para atender una población de cuarenta y uno a cincuenta (41a 50) habitantes | E41: un | G41: =+'ppto sistema septico'!V32 -> 0 | H41: =+'ppto sistema septico'!AG32 -> 67150.125 | I41: =+G41*H41 -> 0
B42: I. sistema séptico y FAFA prefabricado en P.R.F.V (Poliéster Reforzado Con Fibra De Vidrio) con capacidad para atender una población de cincuenta y uno a setenta (51 a 70) habitantes, (incluye: accesorios internos, material filtrante para el FAFA que garanticen un área superficial de contacto ≥ 90m2/m3, tubería de PVC-S ø2" con accesorios y malla mosquitera doble. Volumen de 10,000-12,000 litros. | E42: un | G42: =+'ppto sistema septico'!V33 -> 0 | H42: =+'ppto sistema septico'!AG33 -> 914553.5 | I42: =+G42*H42 -> 0
B43: I. trampa de grasas prefabricado en P.R.F.V (Poliéster Reforzado con Fibra De Vidrio) con capacidad para atender una población de cincuenta y uno a setenta (51 a 70) habitantes. | E43: un | G43: =+'ppto sistema septico'!V34 -> 0 | H43: =+'ppto sistema septico'!AG34 -> 67150.125 | I43: =+G43*H43 -> 0
B44: I. Suministro sistema séptico y FAFA prefabricado en P.R.F.V (Poliéster Reforzado Con Fibra De Vidrio) con capacidad para atender una población de setenta y uno a noventa (71 a 90) habitantes, (incluye: accesorios internos, material filtrante para el FAFA que garanticen un área superficial de contacto ≥ 90m2/m3, tubería de PVC-S ø2" con accesorios y malla mosquitera doble. Volumen > 12,000 litros. | E44: un | G44: =+'ppto sistema septico'!V35 -> 0 | H44: =+'ppto sistema septico'!AG35 -> 914553.5 | I44: =+G44*H44 -> 0
B45: I. trampa de grasas prefabricado en P.R.F.V (Poliéster Reforzado con Fibra De Vidrio) con capacidad para atender una población de setenta y uno a noventa (71 a 90) habitantes. | E45: un | G45: =+'ppto sistema septico'!V36 -> 0 | H45: =+'ppto sistema septico'!AG36 -> 67150.125 | I45: =+G45*H45 -> 0
...

Sheet ppto sistema septico
A1: CANTIDADES DE OBRA Y PRESUPUESTO DESAGREGADO POR COMPONENTES
A3: (AUNAR ESFUERZOS AUNAR ESFUERZOS PARA CONTRIBUÍR AL SANEAMIENTO HÍDRICO RURAL EN MUNICIPIOS DE LA JURISDICCIÓN DE CORANTIQOUIA 2019)
A4: (CANTIDAD TOTAL TANQUES DISTRIBUIDOS ASI:
E5: OCULTAR
A6: ITEM | B6: ESPECIF. TÉCNICA | C6: DESCRIPCIÓN | D6: UNIDAD | E6: CANTIDAD | G6: CANTIDADES | I6: CANTIDADES | K6: CANTIDADES | M6: CANTIDADES | O6: CANTIDADES | Q6: CANTIDADES | S6: CANTIDADES | U6: CANTIDAD TOTAL | V6: CANTIDAD TOTAL | W6: COSTO DIRECTO (CON EL DESCUENTO POR LA EXCLUSIÓN DEL IVA) | X6: COSTO DIRECTO (CON IVA INCLUÍDO) | Y6: COSTO TOTAL (CON EL DESCUENTO POR LA EXCLUSIÓN DEL IVA) | Z6: COSTO TOTAL (CON IVA INCLUÍDO) | AA6: COMPONENTE | AI6: TOTAL
E7: T.S. 1 VIV. | F7: No. | G7: T.S. 1 VIV. | H7: No. | I7: T.S. 1 VIV. | J7: No. | K7: T.S. 1 VIV. | L7: No. | M7: T.S. 1 VIV. | N7: No. | O7: T.S. 1 VIV. | P7: No. | Q7: T.S. 1 VIV. | R7: No. | S7: T.S. 1 VIV. | T7: No. | AA7: SUMINISTRO | AC7: ACCESORIOS | AE7: TRANSPORTE | AG7: INSTALACIÓN
E8: 3≤ 9 PERS. | F8: ='FICHAS '!P56 -> 42 | G8: 10<P≤15 | H8: ='FICHAS '!Q56 -> 2 | I8: 16<P≤20 | J8: =+'FICHAS '!R56 -> 0 | K8: 21<P≤30 | L8: ='FICHAS '!S56 -> 0 | M8: 31<P≤40 | N8: ='FICHAS '!T56 -> 0 | O8: 41<P≤50 | P8: ='FICHAS '!U56 -> 0 | Q8: 51<P≤70 | R8: =+'FICHAS '!V56 -> 0 | S8: 71<P≤90 | T8: =+'FICHAS '!W56 -> 0 | AA8: COSTO DIRECTO (CON IVA) | AB8: COSTO TOTAL | AC8: COSTO DIRECTO (CON IVA) | AD8: COSTO TOTAL | AE8: COSTO DIRECTO (CON IVA) | AF8: COSTO TOTAL | AG8: COSTO DIRECTO (CON IVA) | AH8: COSTO TOTAL
E9: Fuente | F9: =+'FICHAS '!BL56 -> 1 | G9: Fuente | H9: =+'FICHAS '!BM56 -> 1 | I9: Fuente | J9: =+'FICHAS '!BN56 -> 0 | K9: Fuente | L9: ='FICHAS '!BO56 -> 0 | M9: Fuente | N9: ='FICHAS '!BP56 -> 0 | O9: Fuente | P9: ='FICHAS '!BQ56 -> 0 | Q9: Fuente | R9: =+'FICHAS '!BR56 -> 0 | S9: Fuente | T9: =+'FICHAS '!BS56 -> 0 | AJ9: IVA
E10: Pozo absorc. | F10: =+'FICHAS '!BL57 -> 41 | G10: Pozo absorc. | H10: =+'FICHAS '!BM57 -> 1 | I10: Pozo absorc. | J10: =+'FICHAS '!BN57 -> 0 | K10: Pozo absorc. | L10: ='FICHAS '!BO57 -> 0 | M10: Pozo absorc. | N10: ='FICHAS '!BP57 -> 0 | O10: Pozo absorc. | P10: ='FICHAS '!BQ57 -> 0 | Q10: Pozo absorc. | R10: =+'FICHAS '!BR57 -> 0 | S10: Pozo absorc. | T10: =+'FICHAS '!BS57 -> 0
E11: Trampas de Grasas | F11: ='FICHAS '!BU56+'FICHAS '!BW56 -> 46 | G11: Trampas de Grasas | H11: ='FICHAS '!BX56 -> 0 | I11: Trampas de Grasas | J11: ='FICHAS '!BY56 -> 0 | K11: Trampas de Grasas | L11: ='FICHAS '!BZ56 -> 0 | M11: Trampas de Grasas | N11: ='FICHAS '!CA56 -> 0 | O11: Trampas de Grasas | P11: ='FICHAS '!CB56 -> 0 | Q11: Trampas de Grasas | R11: ='FICHAS '!CC56 -> 0 | S11: Trampas de Grasas | T11: ='FICHAS '!CD56 -> 0
A12: 1 | B12: NEGC 201 | C12: Excavación manual en material común hasta 4 m de profundidad, bajo cualquier grado de humedad | D12: m3 | E12: =+(E16*0.4*0.4)+(E17*0.4*0.5)+(E18*0.4*0.4)+(E22*((PI()*(0.2^2))/2)*0.35)+E21*(((PI()*(1.5)^2)/4)*1.8)+0.1+IF(F9>0,(E43*0.15*0.1),0) -> 9.8009489 | F12: =+E12*$F$8 -> 411.63986 | G12: =+(G16*0.4*0.4)+(G17*0.4*0.5)+(G18*0.4*0.5)+(G24*((PI()*(0.2^2))/2)*0.35)+G23*(((3.1416*(1.8)^2)/4)*1.8)+0.1+IF(H9>0,(G42*0.15*0.1),0) -> 15.932444 | H12: =+G12*$H$8 -> 31.864888 | I12: =+(I16*0.4*0.4)+(I17*0.4*0.5)+(I18*0.4*0.4)+(I26*((PI()*(0.2^2))/2)*0.35)+I25*(((3.1416*(1.9)^2)/4)*1.9)+0.1+IF(J9>0,(I43*0.15*0.15),0) -> 5.9890497 | J12: =+I12*$J$8 -> 0 | K12: =+(K16*0.4*0.4)+(K17*0.4*0.5)+(K18*0.4*0.4)+(K28*((PI()*(0.2^2))/2)*0.35)+K27*(((3.1416*(2.1)^2)/4)*2.2)+0.12+IF(L9>0,(K43*0.15*0.15),0) -> 8.3219419 | L12: =+K12*$L$8 -> 0 | M12: =+(M16*0.4*0.4)+(M17*0.4*0.5)+(M18*0.4*0.4)+(M30*((PI()*(0.2^2))/2)*0.35)+M29*(((3.1416*(2.5)^2)/4)*2.3)+0.12+IF(N9>0,(M43*0.15*0.15)) -> 11.992116 | N12: =+M12*$N$8 -> 0 | O12: =+(O16*0.4*0.4)+(O17*0.4*0.5)+(O18*0.4*0.4)+(O32*((PI()*(0.2^2))/2)*0.35)+O31*(((3.1416*(2.5)^2)/4)*2.3)+0.15+IF(P9>0,(O43*0.15*0.15),0) -> 12.022116 | P12: =+O12*$P$8 -> 0 | Q12: =+(Q16*0.4*0.4)+(Q17*0.4*0.5)+(Q18*0.4*0.4)+(Q34*((PI()*(0.2^2))/2)*0.35)+Q33*(((3.1416*(2.6)^2)/4)*2.5)+0.15+IF(R9>0,(Q43*0.15*0.15),0) -> 14.005251 | R12: =+Q12*$R$8 -> 0 | S12: =+(S16*0.4*0.4)+(S17*0.4*0.5)+(S18*0.4*0.4)+(S36*((PI()*(0.2^2))/2)*0.35)+S35*(((3.1416*(2.8)^2)/4)*2.6)+0.15+IF(T9>0,(S43*0.15*0.15),0) -> 16.741585 | T12: =+S12*$T$8 -> 0 | U12: =+F12+H12+J12+L12+N12+P12+R12+T12 -> 443.50474 | V12: =+ROUND(U12,1) -> 443.5 | W12: ='A.P.U. 2023'!F9 -> 28013.16 | X12: ='A.P.U. 2023'!G9 -> 28013.16 | Y12: =V12*W12 -> 12423836 | Z12: =V12*X12 -> 12423836 | AG12: ='A.P.U. 2023'!F9 -> 28013.16 | AH12: =+AG12*V12 -> 12423836 | AI12: =+AB12+AD12+AF12+AH12 -> 12423836
A13: =+A12+1 -> 2 | B13: NEGC 107.2 | C13: Excavación en roca a cualquier profundidad | D13: m3 | E13: =+E12*0.01 -> 0.098009489 | F13: =+E13*$F$8 -> 4.1163986 | G13: =G12*0.01 -> 0.15932444 | H13: =+G13*$H$8 -> 0.31864888 | I13: =+I12*0.01 -> 0.059890497 | J13: =+I13*$J$8 -> 0 | K13: =+K12*0.01 -> 0.083219419 | L13: =+K13*$L$8 -> 0 | M13: =+M12*0.01 -> 0.11992116 | N13: =+M13*$N$8 -> 0 | O13: =+O12*0.01 -> 0.12022116 | P13: =+O13*$P$8 -> 0 | Q13: =+Q12*0.01 -> 0.14005251 | R13: =+Q13*$R$8 -> 0 | S13: =+S12*1% -> 0.16741585 | T13: =+S13*$T$8 -> 0 | U13: =+F13+H13+J13+L13+N13+P13+R13+T13 -> 4.4350474 | V13: =+ROUND(U13,1) -> 4.4 | W13: ='A.P.U. 2023'!F17 -> 145647.74 | X13: ='A.P.U. 2023'!G17 -> 145647.74 | Y13: =V13*W13 -> 640850.06 | Z13: =V13*X13 -> 640850.06 | AG13: ='A.P.U. 2023'!F17 -> 145647.74 | AH13: =+AG13*V13 -> 640850.06 | AI13: =+AB13+AD13+AF13+AH13 -> 640850.06
A14: =+A12+1 -> 2 | B14: NEGC 204 | C14: Lleno y apisonado de zanjas y apiques con material selecto de la excavación, incluye acarreo interno | D14: m3 | E14: =+E12-((((3.1416*(2*0.0254)^2)/4)*E16)+(((3.1416*(3*0.0254)^2)/4)*E17)+(((3.1416*(3*0.0254)^2)/4)*E18)+(((3.1416*(4*0.0254)^2)/4)*E42)+E21*(((3.1416*(1.2)^2)/4)*1.5)+IF(F9>0,(((3.1416*(2*0.0254)^2)/4)*E42),0)) -> 7.489594 | F14: =+E14*$F$8 -> 314.56295 | G14: =+G12-((((3.1416*(2*0.0254)^2)/4)*G16)+(((3.1416*(3*0.0254)^2)/4)*G17)+(((3.1416*(3*0.0254)^2)/4)*G18)+(((G23*(((3.1416*(1.5)^2)/4)*1.5)+IF(H9>0,(((3.1416*(2*0.0254)^2)/4)*G42),0))))) -> 12.946278 | H14: =+G14*$H$8 -> 25.892556 | I14: =+I12-((((3.1416*(2*0.0254)^2)/4)*I16)+(((3.1416*(3*0.0254)^2)/4)*I17)+(((3.1416*(3*0.0254)^2)/4)*I18)+I25*(((3.1416*(1.6)^2)/4)*1.6)+IF(J9>0,(((3.1416*(2*0.0254)^2)/4)*I43),0)) -> 2.7659708 | J14: =+I14*$J$8 -> 0 | K14: =+K12-((((3.1416*(2*0.0254)^2)/4)*K16)+(((3.1416*(3*0.0254)^2)/4)*K17)+(((3.1416*(3*0.0254)^2)/4)*K18)+K27*(((3.1416*(1.8)^2)/4)*1.9)+IF(L9>0,(((3.1416*(2*0.0254)^2)/4)*K43),0)) -> 3.4799256 | L14: =+K14*$L$8 -> 0 | M14: =+M12-((((3.1416*(2*0.0254)^2)/4)*M16)+(((3.1416*(3*0.0254)^2)/4)*M17)+(((3.1416*(3*0.0254)^2)/4)*M18)+M29*(((3.1416*(2)^2)/4)*2)+IF(N9>0,(((3.1416*(2*0.0254)^2)/4)*M43),0)) -> 5.7018222 | N14: =+M14*$N$8 -> 0 | O14: =+O12-((((3.1416*(2*0.0254)^2)/4)*O16)+(((3.1416*(3*0.0254)^2)/4)*O17)+(((3.1416*(3*0.0254)^2)/4)*O18)+O31*(((3.1416*(2.2)^2)/4)*2)+IF(P9>0,(((3.1416*(2*0.0254)^2)/4)*O43),0)) -> 4.4123502 | P14: =+O14*$P$8 -> 0 | Q14: =+Q12-((((3.1416*(2*0.0254)^2)/4)*Q16)+(((3.1416*(3*0.0254)^2)/4)*Q17)+(((3.1416*(3*0.0254)^2)/4)*Q18)+Q31*(((3.1416*(2.2)^2)/4)*2)+IF(R9>0,(((3.1416*(2*0.0254)^2)/4)*Q43),0)) -> 13.998157 | R14: =+Q14*$R$8 -> 0 | S14: =+S12-((((3.1416*(2*0.0254)^2)/4)*S16)+(((3.1416*(3*0.0254)^2)/4)*S17)+(((3.1416*(3*0.0254)^2)/4)*S18)+S31*(((3.1416*(2.2)^2)/4)*2)+IF(T9>0,(((3.1416*(2*0.0254)^2)/4)*S43),0)) -> 16.734491 | T14: =+S14*$T$8 -> 0 | U14: =+F14+H14+J14+L14+N14+P14+R14+T14 -> 340.4555 | V14: =+ROUND(U14,1) -> 340.5 | W14: ='A.P.U. 2023'!F23 -> 23344.3 | X14: ='A.P.U. 2023'!G23 -> 23344.3 | Y14: =V14*W14 -> 7948734.2 | Z14: =V14*X14 -> 7948734.2 | AG14: ='A.P.U. 2023'!F23 -> 23344.3 | AH14: =+AG14*V14 -> 7948734.2 | AI14: =+AB14+AD14+AF14+AH14 -> 7948734.2
A15: =+A14+1 -> 3 | B15: NEGC 207 | C15: Regada de material proveniente de la excavación y conformación del terreno | D15: m3 | E15: =+(E12-E14) -> 2.311355 | F15: =+E15*$F$8 -> 97.076908 | G15: =+(G12-G14) -> 2.9861661 | H15: =+G15*$H$8 -> 5.9723323 | I15: =+(I12-I14) -> 3.2230789 | J15: =+I15*$J$8 -> 0 | K15: =+(K12-K14) -> 4.8420163 | L15: =+K15*$L$8 -> 0 | M15: =+(M12-M14) -> 6.2902939 | N15: =+M15*$N$8 -> 0 | O15: =+(O12-O14) -> 7.6097659 | P15: =+O15*$P$8 -> 0 | Q15: =+(Q12-Q14) -> 0.0070939213 | R15: =+Q15*$R$8 -> 0 | S15: =+(S12-S14) -> 0.0070939213 | T15: =+S15*$T$8 -> 0 | U15: =+F15+H15+J15+L15+N15+P15+R15+T15 -> 103.04924 | V15: =+ROUND(U15,1) -> 103 | W15: ='A.P.U. 2023'!F29 -> 2801.316 | X15: ='A.P.U. 2023'!G29 -> 2801.316 | Y15: =V15*W15 -> 288535.55 | Z15: =V15*X15 -> 288535.55 | AG15: ='A.P.U. 2023'!G29 -> 2801.316 | AH15: =+AG15*V15 -> 288535.55 | AI15: =+AB15+AD15+AF15+AH15 -> 288535.55 | AJ15: 2023
A16: =+A15+1 -> 4 | B16: NTC 1500 | C16: S.T.I. Tubería pvc-s de ø2" (50 mm) incluye accesorios. | D16: m | E16: =3 -> 3 | F16: =E16*$F$8+(IF(F10=0,"0",(F10*'FICHAS '!AZ57))) -> 283 | G16: 3 | H16: =+G16*$H$8 -> 6 | I16: 3 | J16: =+I16*$J$8 -> 0 | K16: 3.5 | L16: =+K16*$L$8 -> 0 | M16: =5*0.7 -> 3.5 | N16: =+M16*$N$8 -> 0 | O16: =5*0.7 -> 3.5 | P16: =+O16*$P$8+(P10*'FICHAS '!BE56) -> 0 | Q16: =5*0.7 -> 3.5 | R16: =+Q16*$P$8 -> 0 | S16: =5*0.7 -> 3.5 | T16: =+S16*$P$8 -> 0 | U16: =+F16+H16+J16+L16+N16+P16+R16+T16 -> 289 | V16: =+ROUND(U16,1) -> 289 | W16: ='A.P.U. 2023'!F39 -> 34659.042 | X16: ='A.P.U. 2023'!G39 -> 40436.186 | Y16: =V16*W16 -> 10016463 | Z16: =V16*X16 -> 11686058 | AA16: ='A.P.U. 2023'!G32 -> 15877.575 | AB16: =AA16*V16 -> 4588619.2 | AC16: ='A.P.U. 2023'!G33+'A.P.U. 2023'!G35 -> 20305.588 | AD16: =+AC16*V16 -> 5868314.9 | AE16: =+'A.P.U. 2023'!G34 -> 166.35983 | AF16: =+AE16*V16 -> 48077.989 | AG16: =+'A.P.U. 2023'!G36+'A.P.U. 2023'!G37 -> 4086.663 | AH16: =+AG16*V16 -> 1181045.6 | AI16: =+AB16+AD16+AF16+AH16 -> 11686058 | AJ16: =+'A.P.U. 2023'!L32 -> 1669594.5
A17: =+A16+1 -> 5 | B17: NTC 1500 | C17: S.T.I. Tubería pvc-s de ø3" (75 mm). Incluye accesorios | D17: m | E17: =+'FICHAS '!Y57 -> 16.452381 | F17: =+E17*$F$8 -> 691 | G17: =+'FICHAS '!Z57 -> 25 | H17: =+G17*$H$8 -> 50 | I17: =+'FICHAS '!AA57 -> 0 | J17: =+I17*$J$8+(1*J9)+(5*J10) -> 0 | K17: =+'FICHAS '!AB57 -> 0 | L17: =+K17*$L$8+(1*L9)+(5*L10) -> 0 | M17: =+'FICHAS '!AC57 -> 0 | N17: =+M17*$N$8+(1*N9)+(5*N10) -> 0 | O17: =+'FICHAS '!AD57 -> 0 | P17: =+O17*$P$8+(1*P9)+(5*P10) -> 0 | Q17: =+'FICHAS '!AE57 -> 0 | R17: =+Q17*$R$8+(1*R9)+(5*R10) -> 0 | S17: =+'FICHAS '!AF57 -> 0 | T17: =+S17*$P$8+(1*T9)+(5*T10) -> 0 | U17: =+F17+H17+J17+L17+N17+P17+R17+T17 -> 741 | V17: =+ROUND(U17,1) -> 741 | W17: =+'A.P.U. 2023'!F49 -> 30846.664 | X17: =+'A.P.U. 2023'!G49 -> 35705.34 | Y17: =V17*W17 -> 22857378 | Z17: =V17*X17 -> 26457657 | AA17: =+'A.P.U. 2023'!G42 -> 23715.3 | AB17: =+AA17*V17 -> 17573037 | AC17: =+'A.P.U. 2023'!G43+'A.P.U. 2023'!G45 -> 6715.3512 | AD17: =+AC17*V17 -> 4976075.2 | AE17: =+'A.P.U. 2023'!G44 -> 166.35983 | AF17: =+AE17*V17 -> 123272.63 | AG17: =+'A.P.U. 2023'!G46+'A.P.U. 2023'!G47 -> 5108.3287 | AH17: =+AG17*V17 -> 3785271.6 | AI17: =+AB17+AD17+AF17+AH17 -> 26457657 | AJ17: =+'A.P.U. 2023'!L42 -> 3600278.5
C18: S.T.I. Tubería pvc-s de ø2" (50 mm). Trampa de grasa. Incluye accesorios | D18: m | E18: =+'FICHAS '!AH57 -> 17.047619 | F18: =+E18*F$8 -> 716 | G18: =+'FICHAS '!AI57 -> 25 | H18: =+G18*H$8 -> 50 | I18: =+'FICHAS '!AJ56 -> 0 | J18: =+I18*J47 -> 0 | K18: =+'FICHAS '!AK56 -> 0 | L18: =+K18*L47 -> 0 | M18: =+'FICHAS '!AL56 -> 0 | N18: =+M18*N$8 -> 0 | O18: =+'FICHAS '!AM56 -> 0 | P18: =+O18*P$8 -> 0 | Q18: =+'FICHAS '!AN56 -> 0 | R18: =+Q18*R$8 -> 0 | S18: =+'FICHAS '!AO56 -> 0 | T18: =+S18*T$8 -> 0 | U18: =+F18+H18+J18+L18+N18+P18+R18+T18 -> 766 | V18: =+ROUND(U18,1) -> 766 | W18: =+'A.P.U. 2023'!F59 -> 23238.675 | X18: =+'A.P.U. 2023'!G59 -> 26845.949 | Y18: =V18*W18 -> 17800825 | Z18: =V18*X18 -> 20563997 | AA18: =+'A.P.U. 2023'!G52 -> 15877.575 | AB18: =+AA18*V18 -> 12162222 | AC18: =+'A.P.U. 2023'!G53+'A.P.U. 2023'!G55 -> 6715.3512 | AD18: =+AC18*V18 -> 5143959 | AE18: =+'A.P.U. 2023'!G54 -> 166.35983 | AF18: =+AE18*V18 -> 127431.63 | AG18: =+'A.P.U. 2023'!G56+'A.P.U. 2023'!G57 -> 4086.663 | AH18: =+AG18*V18 -> 3130383.9 | AI18: =+AB18+AD18+AF18+AH18 -> 20563997 | AJ18: =+'A.P.U. 2023'!L56 -> 2672990
A19: =+#REF!+1 -> #REF! | B19: Particular | C19: S.T.I. De sifón S.R. De 135° en pvc-s ø3" para control de olores | D19: un | E19: =1 -> 1 | F19: =+E19*$F$8 -> 42 | G19: 1 | H19: =+G19*$H$8 -> 2 | J19: =+I19*$J$8 -> 0 | L19: =K19*$L$8 -> 0 | N19: =+M19*$N$8 -> 0 | P19: =+O19*$P$8 -> 0 | R19: =+Q19*$R$8 -> 0 | T19: =+S19*$R$8 -> 0 | U19: =+F19+H19+J19+L19+N19+P19+R19+T19 -> 44 | V19: =+ROUND(U19,1) -> 44 | W19: =+'A.P.U. 2023'!F70 -> 42530.645 | X19: =+'A.P.U. 2023'!G70 -> 48940.51 | Y19: =V19*W19 -> 1871348.4 | Z19: =V19*X19 -> 2153382.5 | AA19: =+'A.P.U. 2023'!G62 -> 13459 | AB19: =+AA19*V19 -> 592196 | AC19: =+'A.P.U. 2023'!G63+'A.P.U. 2023'!G64+'A.P.U. 2023'!G65 -> 26687 | AD19: =+AC19*V19 -> 1174228 | AE19: =+'A.P.U. 2023'!G66 -> 2079.4978 | AF19: =+AE19*V19 -> 91497.904 | AG19: =+'A.P.U. 2023'!G67+'A.P.U. 2023'!G68 -> 6715.0125 | AH19: =+AG19*V19 -> 295460.55 | AI19: =+AB19+AD19+AF19+AH19 -> 2153382.5 | AJ19: =+'A.P.U. 2023'!L62 -> 282034.08
A20: =+A19+1 -> #REF! | B20: Particular | C20: S.T.I. De sifón S.R. De 135° en pvc-s ø4" para control de olores | D20: un | I20: 1 | J20: =+I20*$J$8 -> 0 | K20: 1 | L20: =+K20*$L$8 -> 0 | M20: 1 | N20: =+M20*$N$8 -> 0 | O20: 1 | P20: =+O20*$P$8 -> 0 | Q20: 1 | R20: =+Q20*$R$8 -> 0 | S20: 1 | T20: =+S20*$T$8 -> 0 | U20: =+F20+H20+J20+L20+N20+P20+R20+T20 -> 0 | V20: =+ROUND(U20,1) -> 0 | W20: =+'A.P.U. 2023'!F81 -> 75556.686 | X20: =+'A.P.U. 2023'!G81 -> 87684.514 | Y20: =V20*W20 -> 0 | Z20: =V20*X20 -> 0 | AA20: =+'A.P.U. 2023'!G73 -> 29417 | AB20: =+AA20*V20 -> 0 | AC20: =+'A.P.U. 2023'!G74+'A.P.U. 2023'!G75+'A.P.U. 2023'!G76 -> 46541.5 | AD20: =+AC20*V20 -> 0 | AE20: =+'A.P.U. 2023'!G77 -> 2772.6638 | AF20: =+AE20*V20 -> 0 | AG20: =+'A.P.U. 2023'!G78+'A.P.U. 2023'!G79 -> 8953.35 | AH20: =+AG20*V20 -> 0 | AI20: =+AB20+AD20+AF20+AH20 -> 0 | AJ20: =+'A.P.U. 2023'!L73 -> 0
A21: =+A20+1 -> #REF! | B21: Particular | C21: =+'A.P.U. 2023'!A84 -> sistema séptico y FAFA prefabricado en P.R.F.V (Poliéster Reforzado Con Fibra De Vidrio) con capacidad para atender una población entre tres a nueve (3 a 9) habitantes, (incluye: accesorios internos, material filtrante para el FAFA que garanticen un área superficial de contacto ≥ 90m2/m3, tubería de PVC-S ø2" con accesorios y malla mosquitera doble. Volumen de 1,500-1,800 litros. | D21: un | E21: 1 | F21: =+F8*E21 -> 42 | U21: =+F21+H21+J21+L21+N21+P21+R21+T21 -> 42 | V21: =+ROUND(U21,1) -> 42 | W21: =+'A.P.U. 2023'!F94 -> 3469001.8 | X21: =+'A.P.U. 2023'!G94 -> 4010349.3 | Y21: =V21*W21 -> 1.4569808e+08 | Z21: =V21*X21 -> 1.6843467e+08 | AA21: =+'A.P.U. 2023'!G84 -> 3363362 | AB21: =+AA21*V21 -> 1.412612e+08 | AC21: =+'A.P.U. 2023'!G87+'A.P.U. 2023'!G85 -> 27182.5 | AD21: =+AC21*V21 -> 1141665 | AE21: =+'A.P.U. 2023'!G89 -> 162527.98 | AF21: =+AE21*V21 -> 6826175.3 | AG21: =+'A.P.U. 2023'!G91+'A.P.U. 2023'!G92 -> 457276.75 | AH21: =+AG21*V21 -> 19205624 | AI21: =+AB21+AD21+AF21+AH21 -> 1.6843467e+08 | AJ21: =+'A.P.U. 2023'!L84 -> 22736593
C22: trampa de grasas prefabricada en P.R.F.V (Poliéster Reforzado con Fibra De Vidrio) con capacidad para atender una población de tres a nueve (3 a 9) habitantes. | D22: un | E22: 1 | F22: =F11*E22 -> 46 | U22: =+F22+H22+J22+L22+N22+P22+R22+T22 -> 46 | V22: =+ROUND(U22,1) -> 46 | W22: ='A.P.U. 2023'!F106 -> 693269.88 | X22: ='A.P.U. 2023'!G106 -> 780624.27 | Y22: =V22*W22 -> 31890415 | Z22: =V22*X22 -> 35908716 | AA22: ='A.P.U. 2023'!G97 -> 536821.32 | AB22: =+AA22*V22 -> 24693781 | AC22: ='A.P.U. 2023'!G99+'A.P.U. 2023'!G100 -> 10293 | AD22: =+AC22*V22 -> 473478 | AE22: ='A.P.U. 2023'!G101 -> 166359.83 | AF22: =+AE22*V22 -> 7652552 | AG22: ='A.P.U. 2023'!F105 -> 67150.125 | AH22: =+AG22*V22 -> 3088905.8 | AI22: =+AB22+AD22+AF22+AH22 -> 35908716 | AJ22: ='A.P.U. 2023'!L102 -> 4018301.8
A23: =+A21+1 -> #REF! | B23: Particular | C23: =+'A.P.U. 2023'!A109 -> sistema séptico y FAFA prefabricado en P.R.F.V (Poliéster Reforzado Con Fibra De Vidrio) con capacidad para atender una población de diez a quince (10 a 15) habitantes, (incluye: accesorios internos, material filtrante para el FAFA que garanticen un área superficial de contacto ≥ 90m2/m3, tubería de PVC-S ø2" con accesorios y malla mosquitera doble. Volumen de 2,300-2,500 litros. | D23: un | G23: 1 | H23: =+G23*$H$8 -> 2 | U23: =+F23+H23+J23+L23+N23+P23+R23+T23 -> 2 | V23: =+ROUND(U23,1) -> 2 | W23: =+'A.P.U. 2023'!F119 -> 4243952.2 | X23: =+'A.P.U. 2023'!G119 -> 4916523.1 | Y23: =V23*W23 -> 8487904.3 | Z23: =V23*X23 -> 9833046.2 | AA23: =+'A.P.U. 2023'!G109 -> 4185235.3 | AB23: =+AA23*V23 -> 8370470.6 | AC23: =+'A.P.U. 2023'!G112+'A.P.U. 2023'!G110 -> 27182.5 | AD23: =+AC23*V23 -> 54365 | AE23: =+'A.P.U. 2023'!G114 -> 246828.52 | AF23: =+AE23*V23 -> 493657.04 | AG23: =+'A.P.U. 2023'!G116+'A.P.U. 2023'!G117 -> 457276.75 | AH23: =+AG23*V23 -> 914553.5 | AI23: =+AB23+AD23+AF23+AH23 -> 9833046.2 | AJ23: =+'A.P.U. 2023'!L109 -> 1345141.8
C24: trampa de grasas prefabricado en P.R.F.V (Poliéster Reforzado con Fibra De Vidrio) con capacidad para atender una población de diez a quince (10 a 15) habitantes. | D24: un | G24: 1 | H24: =+G24*$H$11 -> 0 | U24: =+F24+H24+J24+L24+N24+P24+R24+T24 -> 0 | V24: =+ROUND(U24,1) -> 0 | W24: ='A.P.U. 2023'!F131 -> 746397.68 | X24: ='A.P.U. 2023'!G131 -> 843298.62 | Y24: =V24*W24 -> 0 | Z24: =V24*X24 -> 0 | AA24: ='A.P.U. 2023'!G122 -> 596612.9 | AB24: =+AA24*V24 -> 0 | AC24: ='A.P.U. 2023'!G124+'A.P.U. 2023'!G125 -> 10293 | AD24: =+AC24*V24 -> 0 | AE24: ='A.P.U. 2023'!G126 -> 166359.83 | AF24: =+AE24*V24 -> 0 | AG24: ='A.P.U. 2023'!F130 -> 70032.9 | AH24: =+AG24*V24 -> 0 | AI24: =+AB24+AD24+AF24+AH24 -> 0 | AJ24: ='A.P.U. 2023'!L128 -> 0
A25: =+A23+1 -> #REF! | B25: Particular | C25: =+'A.P.U. 2023'!A135 -> sistema séptico y FAFA prefabricado en P.R.F.V (Poliéster Reforzado Con Fibra De Vidrio) con capacidad para atender una población de dieciséis a veinte (16 a 20) habitantes, (incluye: accesorios internos, material filtrante para el FAFA que garanticen un área superficial de contacto ≥ 90m2/m3, tubería de PVC-S ø2" con accesorios y malla mosquitera doble. Volumen de 3,000-3,300 litros. | D25: un | I25: 1 | J25: =+I25*$J$8 -> 0 | U25: =+F25+H25+J25+L25+N25+P25+R25+T25 -> 0 | V25: =+ROUND(U25,1) -> 0 | W25: =+'A.P.U. 2023'!F144 -> 5395859.4 | X25: =+'A.P.U. 2023'!G144 -> 6334190.1 | Y25: =V25*W25 -> 0 | Z25: =V25*X25 -> 0 | AA25: =+'A.P.U. 2023'!G135 -> 5849730.9 | AB25: =+AA25*V25 -> 0 | AC25: =+'A.P.U. 2023'!G138+'A.P.U. 2023'!G136 -> 27182.5 | AD25: =+AC25*V25 -> 0 | AE25: =+'A.P.U. 2023'!G140 -> 0 | AF25: =+AE25*V25 -> 0 | AG25: =+'A.P.U. 2023'!G141+'A.P.U. 2023'!G142 -> 457276.75 | AH25: =+AG25*V25 -> 0 | AI25: =+AB25+AD25+AF25+AH25 -> 0 | AJ25: =+'A.P.U. 2023'!L135 -> 0
C26: trampa de grasas prefabricado en P.R.F.V (Poliéster Reforzado con Fibra De Vidrio) con capacidad para atender una población de dieciséis a veinte (16 a 20) habitantes. | D26: un | I26: 1 | J26: =+I26*$J$11 -> 0 | U26: =+F26+H26+J26+L26+N26+P26+R26+T26 -> 0 | V26: =+ROUND(U26,1) -> 0 | W26: ='A.P.U. 2023'!F156 -> 875725.11 | X26: ='A.P.U. 2023'!G156 -> 997198.26 | Y26: =V26*W26 -> 0 | Z26: =V26*X26 -> 0 | AA26: ='A.P.U. 2023'!G147 -> 750512.54 | AB26: =+AA26*V26 -> 0 | AC26: ='A.P.U. 2023'!G149+'A.P.U. 2023'!G150 -> 10293 | AD26: =+AC26*V26 -> 0 | AE26: ='A.P.U. 2023'!G151 -> 166359.83 | AF26: =+AE26*V26 -> 0 | AG26: ='A.P.U. 2023'!F155 -> 70032.9 | AH26: =+AG26*V26 -> 0 | AI26: =+AB26+AD26+AF26+AH26 -> 0 | AJ26: ='A.P.U. 2023'!L153 -> 0
A27: =+A25+1 -> #REF! | B27: Particular | C27: =+'A.P.U. 2023'!A159 -> sistema séptico y FAFA prefabricado en P.R.F.V (Poliéster Reforzado Con Fibra De Vidrio) con capacidad para atender una población de veinti uno a treinta (21 a 30) habitantes, (incluye: accesorios internos, material filtrante para el FAFA que garanticen un área superficial de contacto ≥ 90m2/m3, tubería de PVC-S ø2" con accesorios y malla mosquitera doble. Volumen de 4,500-5,000 litros. | D27: un | K27: 1 | L27: =+K27*$L$8 -> 0 | U27: =+F27+H27+J27+L27+N27+P27+R27+T27 -> 0 | V27: =+ROUND(U27,1) -> 0 | W27: =+'A.P.U. 2023'!F168 -> 7459952.5 | X27: =+'A.P.U. 2023'!G168 -> 8773084.4 | Y27: =V27*W27 -> 0 | Z27: =V27*X27 -> 0 | AA27: =+'A.P.U. 2023'!G159 -> 8197169.8 | AB27: =+AA27*V27 -> 0 | AC27: =+'A.P.U. 2023'!G162+'A.P.U. 2023'!G160 -> 27182.5 | AD27: =+AC27*V27 -> 0 | AE27: =+'A.P.U. 2023'!G164 -> 0 | AF27: =+AE27*V27 -> 0 | AG27: =+'A.P.U. 2023'!G165+'A.P.U. 2023'!G166 -> 548732.1 | AH27: =+AG27*V27 -> 0 | AI27: =+AB27+AD27+AF27+AH27 -> 0 | AJ27: =+'A.P.U. 2023'!L159 -> 0
C28: trampa de grasas prefabricado en P.R.F.V (Poliéster Reforzado con Fibra De Vidrio) con capacidad para atender una población de veinti uno a treinta (21 a 30) habitantes. | D28: un | K28: 1 | L28: =+K28*$L$11 -> 0 | U28: =+F28+H28+J28+L28+N28+P28+R28+T28 -> 0 | V28: =+ROUND(U28,1) -> 0 | W28: ='A.P.U. 2023'!F180 -> 955704.19 | X28: ='A.P.U. 2023'!G180 -> 1092921.1 | Y28: =V28*W28 -> 0 | Z28: =V28*X28 -> 0 | AA28: ='A.P.U. 2023'!G171 -> 849118.14 | AB28: =+AA28*V28 -> 0 | AC28: ='A.P.U. 2023'!G173+'A.P.U. 2023'!G174 -> 10293 | AD28: =+AC28*V28 -> 0 | AE28: ='A.P.U. 2023'!G175 -> 166359.83 | AF28: =+AE28*V28 -> 0 | AG28: ='A.P.U. 2023'!F179 -> 67150.125 | AH28: =+AG28*V28 -> 0 | AI28: =+AB28+AD28+AF28+AH28 -> 0 | AJ28: ='A.P.U. 2023'!L177 -> 0
A29: =+A27+1 -> #REF! | B29: Particular | C29: =+'A.P.U. 2023'!A183 -> sistema séptico y FAFA prefabricado en P.R.F.V (Poliéster Reforzado Con Fibra De Vidrio) con capacidad para atender una población de treinta y uno a cuarenta (31 a 40) habitantes, (incluye: accesorios internos, material filtrante para el FAFA que garanticen un área superficial de contacto ≥ 90m2/m3, tubería de PVC-S ø2" con accesorios y malla mosquitera doble. Volumen de 6,000-6,500 litros. | D29: un | M29: 1 | N29: =+M29*$N$8 -> 0 | U29: =+F29+H29+J29+L29+N29+P29+R29+T29 -> 0 | V29: =+ROUND(U29,1) -> 0 | W29: =+'A.P.U. 2023'!F192 -> 9944663.2 | X29: =+'A.P.U. 2023'!G192 -> 11703825 | Y29: =V29*W29 -> 0 | Z29: =V29*X29 -> 0 | AA29: =+'A.P.U. 2023'!G183 -> 10990728 | AB29: =+AA29*V29 -> 0 | AC29: =+'A.P.U. 2023'!G186+'A.P.U. 2023'!G184 -> 27182.5 | AD29: =+AC29*V29 -> 0 | AE29: =+'A.P.U. 2023'!G188 -> 0 | AF29: =+AE29*V29 -> 0 | AG29: =+'A.P.U. 2023'!G189+'A.P.U. 2023'!G190 -> 685915.12 | AH29: =+AG29*V29 -> 0 | AI29: =+AB29+AD29+AF29+AH29 -> 0 | AJ29: =+'A.P.U. 2023'!L183 -> 0
C30: trampa de grasas prefabricado en P.R.F.V (Poliéster Reforzado con Fibra De Vidrio) con capacidad para atender una población de treinta y uno a cuarenta (31 a 40) habitantes. | D30: un | M30: 1 | N30: =+M30*$N$11 -> 0 | U30: =+F30+H30+J30+L30+N30+P30+R30+T30 -> 0 | V30: =+ROUND(U30,1) -> 0 | W30: ='A.P.U. 2023'!F204 -> 1495361.1 | X30: ='A.P.U. 2023'!G204 -> 1735112.9 | Y30: =V30*W30 -> 0 | Z30: =V30*X30 -> 0 | AA30: ='A.P.U. 2023'!G195 -> 1491309.9 | AB30: =+AA30*V30 -> 0 | AC30: ='A.P.U. 2023'!G197+'A.P.U. 2023'!G198 -> 10293 | AD30: =+AC30*V30 -> 0 | AE30: ='A.P.U. 2023'!G199 -> 166359.83 | AF30: =+AE30*V30 -> 0 | AG30: ='A.P.U. 2023'!F203 -> 67150.125 | AH30: =+AG30*V30 -> 0 | AI30: =+AB30+AD30+AF30+AH30 -> 0 | AJ30: ='A.P.U. 2023'!L200 -> 0
A31: =+A29+1 -> #REF! | B31: Particular | C31: =+'A.P.U. 2023'!A207 -> sistema séptico y FAFA prefabricado en P.R.F.V (Poliéster Reforzado Con Fibra De Vidrio) con capacidad para atender una población de cuarenta y uno a cincuenta (41 a 50) habitantes, (incluye: accesorios internos, material filtrante para el FAFA que garanticen un área superficial de contacto ≥ 90m2/m3, tubería de PVC-S ø2" con accesorios y malla mosquitera doble. Volumen de 7,500-,8,000 litros. | D31: un | O31: 1 | P31: =+O31*$P$8 -> 0 | U31: =+F31+H31+J31+L31+N31+P31+R31+T31 -> 0 | V31: =+ROUND(U31,1) -> 0 | W31: =+'A.P.U. 2023'!F216 -> 13341174 | X31: =+'A.P.U. 2023'!G216 -> 15745673 | Y31: =V31*W31 -> 0 | Z31: =V31*X31 -> 0 | AA31: =+'A.P.U. 2023'!G207 -> 15032575 | AB31: =+AA31*V31 -> 0 | AC31: =+'A.P.U. 2023'!G210+'A.P.U. 2023'!G208 -> 27182.5 | AD31: =+AC31*V31 -> 0 | AE31: =+'A.P.U. 2023'!G212 -> 0 | AF31: =+AE31*V31 -> 0 | AG31: =+'A.P.U. 2023'!G213+'A.P.U. 2023'!G214 -> 685915.12 | AH31: =+AG31*V31 -> 0 | AI31: =+AB31+AD31+AF31+AH31 -> 0 | AJ31: =+'A.P.U. 2023'!L207 -> 0
C32: trampa de grasas prefabricado en P.R.F.V (Poliéster Reforzado con Fibra De Vidrio) con capacidad para atender una población de cuarenta y uno a cincuenta (41 a 50) habitantes. | D32: un | O32: 1 | P32: =+O32*$P$11 -> 0 | U32: =+F32+H32+J32+L32+N32+P32+R32+T32 -> 0 | V32: =+ROUND(U32,1) -> 0 | W32: ='A.P.U. 2023'!F228 -> 1742076.4 | X32: ='A.P.U. 2023'!G228 -> 2028704 | Y32: =V32*W32 -> 0 | Z32: =V32*X32 -> 0 | AA32: ='A.P.U. 2023'!G219 -> 1784901 | AB32: =+AA32*V32 -> 0 | AC32: ='A.P.U. 2023'!G221+'A.P.U. 2023'!G222 -> 10293 | AD32: =+AC32*V32 -> 0 | AE32: ='A.P.U. 2023'!G223 -> 166359.83 | AF32: =+AE32*V32 -> 0 | AG32: ='A.P.U. 2023'!F227 -> 67150.125 | AH32: =+AG32*V32 -> 0 | AI32: =+AB32+AD32+AF32+AH32 -> 0 | AJ32: ='A.P.U. 2023'!L224 -> 0
C33: =+'A.P.U. 2023'!A230 -> sistema séptico y FAFA prefabricado en P.R.F.V (Poliéster Reforzado Con Fibra De Vidrio) con capacidad para atender una población de cincuenta y uno a setenta (51 a 70) habitantes, (incluye: accesorios internos, material filtrante para el FAFA que garanticen un área superficial de contacto ≥ 90m2/m3, tubería de PVC-S ø2" con accesorios y malla mosquitera doble. Volumen de 10,000-12,000 litros. | D33: un | Q33: 1 | R33: =+Q33*$R$8 -> 0 | U33: =+F33+H33+J33+L33+N33+P33+R33+T33 -> 0 | V33: =+ROUND(U33,1) -> 0 | W33: =+'A.P.U. 2023'!F239 -> 17654681 | X33: =+'A.P.U. 2023'!G239 -> 20835306 | Y33: =V33*W33 -> 0 | Z33: =V33*X33 -> 0 | AA33: =+'A.P.U. 2023'!G230 -> 19893570 | AB33: =+AA33*V33 -> 0 | AC33: =+'A.P.U. 2023'!G233+'A.P.U. 2023'!G231 -> 27182.5 | AD33: =+AC33*V33 -> 0 | AE33: =+'A.P.U. 2023'!G235 -> 0 | AF33: =+AE33*V33 -> 0 | AG33: =+'A.P.U. 2023'!G236+'A.P.U. 2023'!G237 -> 914553.5 | AH33: =+AG33*V33 -> 0 | AI33: =+AB33+AD33+AF33+AH33 -> 0 | AJ33: =+'A.P.U. 2023'!L230 -> 0
C34: trampa de grasas prefabricado en P.R.F.V (Poliéster Reforzado con Fibra De Vidrio) con capacidad para atender una población de cincuenta y uno a setenta (51 a 70) habitantes. | D34: un | Q34: 1 | R34: =+Q34*$R$11 -> 0 | U34: =+F34+H34+J34+L34+N34+P34+R34+T34 -> 0 | V34: =+ROUND(U34,1) -> 0 | W34: ='A.P.U. 2023'!F251 -> 2558593.8 | X34: ='A.P.U. 2023'!G251 -> 3000359.7 | Y34: =V34*W34 -> 0 | Z34: =V34*X34 -> 0 | AA34: ='A.P.U. 2023'!G242 -> 2756556.8 | AB34: =+AA34*V34 -> 0 | AC34: ='A.P.U. 2023'!G244+'A.P.U. 2023'!G245 -> 10293 | AD34: =+AC34*V34 -> 0 | AE34: ='A.P.U. 2023'!G246 -> 166359.83 | AF34: =+AE34*V34 -> 0 | AG34: ='A.P.U. 2023'!F250 -> 67150.125 | AH34: =+AG34*V34 -> 0 | AI34: =+AB34+AD34+AF34+AH34 -> 0 | AJ34: ='A.P.U. 2023'!L247 -> 0
C35: =+'A.P.U. 2023'!A254 -> Suministro sistema séptico y FAFA prefabricado en P.R.F.V (Poliéster Reforzado Con Fibra De Vidrio) con capacidad para atender una población de setenta y uno a noventa (71 a 90) habitantes, (incluye: accesorios internos, material filtrante para el FAFA que garanticen un área superficial de contacto ≥ 90m2/m3, tubería de PVC-S ø2" con accesorios y malla mosquitera doble. Volumen > 12,000 litros. | D35: un | S35: 1 | T35: =+S35*$T$8 -> 0 | U35: =+F35+H35+J35+L35+N35+P35+R35+T35 -> 0 | V35: =+ROUND(U35,1) -> 0 | W35: =+'A.P.U. 2023'!F263 -> 21996683 | X35: =+'A.P.U. 2023'!G263 -> 26002288 | Y35: =V35*W35 -> 0 | Z35: =V35*X35 -> 0 | AA35: =+'A.P.U. 2023'!G254 -> 25060552 | AB35: =+AA35*V35 -> 0 | AC35: =+'A.P.U. 2023'!G257 -> 12061 | AD35: =+AC35*V35 -> 0 | AE35: =+'A.P.U. 2023'!G259 -> 0 | AF35: =+AE35*V35 -> 0 | AG35: =+'A.P.U. 2023'!G260+'A.P.U. 2023'!G261 -> 914553.5 | AH35: =+AG35*V35 -> 0 | AI35: =+AB35+AD35+AF35+AH35 -> 0 | AJ35: =+'A.P.U. 2023'!L254 -> 0
C36: trampa de grasas prefabricado en P.R.F.V (Poliéster Reforzado con Fibra De Vidrio) con capacidad para atender una población de setenta y uno a noventa (71 a 90) habitantes. | D36: un | S36: 1 | T36: =+S36*$T$11 -> 0 | U36: =+F36+H36+J36+L36+N36+P36+R36+T36 -> 0 | V36: =+ROUND(U36,1) -> 0 | W36: ='A.P.U. 2023'!F275 -> 3255927.4 | X36: ='A.P.U. 2023'!G275 -> 3830186.8 | Y36: =V36*W36 -> 0 | Z36: =V36*X36 -> 0 | AA36: ='A.P.U. 2023'!G266 -> 3586383.8 | AB36: =+AA36*V36 -> 0 | AC36: ='A.P.U. 2023'!G268+'A.P.U. 2023'!G269 -> 10293 | AD36: =+AC36*V36 -> 0 | AE36: ='A.P.U. 2023'!G270 -> 166359.83 | AF36: =+AE36*V36 -> 0 | AG36: ='A.P.U. 2023'!F274 -> 67150.125 | AH36: =+AG36*V36 -> 0 | AI36: =+AB36+AD36+AF36+AH36 -> 0 | AJ36: ='A.P.U. 2023'!L272 -> 0
A37: =+A40+1 -> #REF! | B37: Particular | C37: S.T.I. Suministro de canal de entrada elaborado en P.R.F.V (Poliéster Reforzado con Fibra de Vidrio), incluye reja de cribado, bandeja de escurrimiento, desarenador, caja de derivación y vertedero) Dimensiones L=2,20m h=0,6 m a=0,4m | D37: un | O37: 1 | P37: =+O37*$P$8 -> 0 | Q37: 1 | R37: =+Q37*$R$8 -> 0 | S37: 1 | T37: =+S37*$T$8 -> 0 | U37: =+F37+H37+J37+L37+N37+P37+R37+T37 -> 0 | V37: =+ROUND(U37,1) -> 0 | W37: ='A.P.U. 2023'!F283 -> 5481671.1 | X37: ='A.P.U. 2023'!G283 -> 6452757 | Y37: =V37*W37 -> 0 | Z37: =V37*X37 -> 0 | AA37: ='A.P.U. 2023'!G278 -> 6082064 | AB37: =+AA37*V37 -> 0 | AD37: =+AC37*V37 -> 0 | AE37: ='A.P.U. 2023'!G279 -> 166359.83 | AF37: =+AE37*V37 -> 0 | AG37: ='A.P.U. 2023'!F280+'A.P.U. 2023'!F281 -> 204333.15 | AH37: =+AG37*V37 -> 0 | AI37: =+AB37+AD37+AF37+AH37 -> 0 | AJ37: =+'A.P.U. 2023'!L275 -> 0
A38: =+A41+1 -> #REF! | B38: Particular | C38: S.T.I. Suministro de lecho de secado elaborado en P.R.F.V (Poliéster Reforzado con Fibra de Vidrio) Ø=1,2m h=1,0m. Incluye accesorios y cubiertas | D38: un | O38: 1 | P38: =+O38*$P$8 -> 0 | Q38: 1 | R38: =+Q38*$R$8 -> 0 | S38: 1 | T38: =+S38*$T$8 -> 0 | U38: =+F38+H38+J38+L38+N38+P38+R38+T38 -> 0 | V38: =+ROUND(U38,1) -> 0 | W38: =+'A.P.U. 2023'!F298 -> 6322157.5 | X38: =+'A.P.U. 2023'!G298 -> 7387500 | Y38: =V38*W38 -> 0 | Z38: =V38*X38 -> 0 | AA38: =+'A.P.U. 2023'!G286 -> 5679063.9 | AB38: =+AA38*V38 -> 0 | AC38: =SUM('A.P.U. 2023'!G287:G293) -> 993344.19 | AD38: =+AC38*V38 -> 0 | AE38: =+'A.P.U. 2023'!G294 -> 166359.83 | AF38: =+AE38*V38 -> 0 | AG38: =+'A.P.U. 2023'!G295+'A.P.U. 2023'!G296 -> 548732.1 | AH38: =+AG38*V38 -> 0 | AI38: =+AB38+AD38+AF38+AH38 -> 0 | AJ38: =+'A.P.U. 2023'!L286 -> 0
A39: =+A23+1 -> #REF! | B39: Particular | C39: S.T.I. Válvula de bola de ø2" PVC para purga de lodos. Incluye accesorios | D39: un | E39: 1 | F39: =+E39*$F$8 -> 42 | G39: 1 | H39: =+G39*$H$8 -> 2 | U39: =+F39+H39+J39+L39+N39+P39+R39+T39 -> 44 | V39: =+ROUND(U39,1) -> 44 | W39: =+'A.P.U. 2023'!F312 -> 125186.59 | X39: =+'A.P.U. 2023'!G312 -> 141539.16 | Y39: =V39*W39 -> 5508209.8 | Z39: =V39*X39 -> 6227723.2 | AA39: =+'A.P.U. 2023'!G302 -> 60860.822 | AB39: =+AA39*V39 -> 2677876.2 | AC39: =SUM('A.P.U. 2023'!G305:G309)+'A.P.U. 2023'!G302 -> 102418.77 | AD39: =+AC39*V39 -> 4506426.1 | AE39: =+'A.P.U. 2023'!G303 -> 5545.3275 | AF39: =+AE39*V39 -> 243994.41 | AG39: =+'A.P.U. 2023'!G304+'A.P.U. 2023'!G310 -> 33575.062 | AH39: =+AG39*V39 -> 1477302.8 | AI39: =+AA39+AD39+AF39+AH39 -> 6288584.1 | AJ39: ='A.P.U. 2023'!L302 -> 719513.41
A40: =+A39+1 -> #REF! | B40: Particular | C40: S.T.I. Válvula de bola de ø3" en PVC extremo liso para purga de lodos. Incluye accesorios | D40: un | I40: 1 | J40: =+I40*$J$8 -> 0 | K40: 1 | L40: =+K40*$L$8 -> 0 | M40: 1 | N40: =+M40*$N$8 -> 0 | O40: 1 | P40: =+O40*$P$8 -> 0 | Q40: 1 | R40: =+Q40*$R$8 -> 0 | S40: 1 | T40: =+S40*$T$8 -> 0 | U40: =+F40+H40+J40+L40+N40+P40+R40+T40 -> 0 | V40: =+ROUND(U40,1) -> 0 | W40: =+'A.P.U. 2023'!F324 -> 138180.64 | X40: =+'A.P.U. 2023'!G324 -> 220601.78 | Y40: =V40*W40 -> 0 | Z40: =V40*X40 -> 0 | AA40: ='A.P.U. 2023'!G315 -> 85093 | AB40: =+AA40*V40 -> 0 | AC40: =SUM('A.P.U. 2023'!G318:G321)+'A.P.U. 2023'!G315 -> 181481.39 | AD40: =+AC40*V40 -> 0 | AE40: =+'A.P.U. 2023'!G316 -> 5545.3275 | AF40: =+AE40*V40 -> 0 | AG40: =+'A.P.U. 2023'!G317+'A.P.U. 2023'!G322 -> 33575.062 | AH40: =+AG40*V40 -> 0 | AI40: =+AB40+AD40+AF40+AH40 -> 0 | AJ40: =+'A.P.U. 2023'!L315 -> 0
A41: =+A39+1 -> #REF! | B41: Particular | C41: S.T.I. Caja circular en tubería pvc-novafort de ø12" para válvula de purga. Incluye tapa en fibra de vidrio con manila sintética | D41: m | E41: 1 | F41: =+E41*$F$8 -> 42 | G41: 1 | H41: =+G41*$H$8 -> 2 | I41: 1 | J41: =+I41*$J$8 -> 0 | K41: 1 | L41: =+K41*$L$8 -> 0 | M41: 1 | N41: =+M41*$N$8 -> 0 | O41: 1 | P41: =+O41*$P$8 -> 0 | Q41: 1 | R41: =+Q41*$R$8 -> 0 | S41: 1 | T41: =+S41*$T$8 -> 0 | U41: =+F41+H41+J41+L41+N41+P41+R41+T41 -> 44 | V41: =+ROUND(U41,1) -> 44 | W41: =+'A.P.U. 2023'!F334 -> 142948.34 | X41: =+'A.P.U. 2023'!G334 -> 167718.71 | Y41: =V41*W41 -> 6289727.1 | Z41: =V41*X41 -> 7379623.1 | AA41: =+'A.P.U. 2023'!G327 -> 62467.126 | AB41: =+AA41*V41 -> 2748553.6 | AC41: =+'A.P.U. 2023'!G328 -> 92673.56 | AD41: =+AC41*V41 -> 4077636.6 | AE41: =+'A.P.U. 2023'!G329 -> 1386.3319 | AF41: =+AE41*V41 -> 60998.603 | AG41: =+'A.P.U. 2023'!G330+'A.P.U. 2023'!G331 -> 11191.688 | AH41: =+AG41*V41 -> 492434.25 | AI41: =+AB41+AD41+AF41+AH41 -> 7379623.1 | AJ41: ='A.P.U. 2023'!L327 -> 1089895.9
...

Sheet FICHAS 
A1: LISTADO DE USUARIOS BENEFICIARIOS SEGÚN LA INFORMACIÓN REPORTADA EN LAS "FICHAS DE ASIGNACIÓN Y UBICACIÓN DE TANQUES SÉPTICOS" - (AUNAR ESFUERZOS AUNAR ESFUERZOS PARA CONTRIBUÍR AL SANEAMIENTO HÍDRICO RURAL EN MUNICIPIOS DE LA JURISDICCIÓN DE CORANTIQOUIA 2018)
P2: OCULTAR
A3: FICHA No. | B3: Usuario | C3: Municipio | D3: Vereda / Resguardo Indígena | E3: No. de viviendas beneficiadas | F3: No personas atendidas | G3: Fuente Hídrica mas cercana | H3: Vivienda? SI/NO | I3: Distancia Horizontal Vivienda - T. Séptico+trampa de grasa (m) | J3: Distancia Horizontal Trampa de grasa al postratamiento (m) | K3: Distancia Horizontal T.Séptico-Sitio descarga (m) | L3: Disposición Efluente en Pozo de Absorción | M3: SITIIO DE DESCARGA | N3: Distancia Municipio - Vereda (Km) | P3: CAPACIDAD DE LOS SISTEMAS SEGÚN POBLACIÓN (P) | Y3: Distancia Horizontal Vivienda al tanque séptico+trampa de grasa Vivienda - T. Séptico (m) | AH3: Distancia HorizontaTrampa de grasa al postratamiento (m) | AQ3: Distancia Horizontal T. Séptico - Fuente (m) | AZ3: Distancia Horizontal T. Séptico - Pozo de Absorcion (m) | BJ3: Futuro Sitio de descarga | BL3: DISPOSICIÓN EFLUENTE | BU3: CAPACIDAD TRAMPA DE GRASAS PARA VIVIENDAS | BW3: CAPACIDAD TRAMPA DE GRASAS PARA MULTIUSOS
P4: 3≤ 9 PERS. | Q4: 10≤P≤15 | R4: 16<P≤20 | S4: 21<P≤30 | T4: 31<P≤40 | U4: 41<P≤50 | V4: 51<P≤70 | W4: 71<P≤90 | Y4: 3≤ 9 PERS. | Z4: 10<P≤15 | AA4: 16<P≤20 | AB4: 21<P≤30 | AC4: 31<P≤40 | AD4: 41<P≤50 | AE4: 51<P≤70 | AF4: 71<P≤90 | AH4: 3≤ 9 PERS. | AI4: 10<P≤15 | AJ4: 16<P≤20 | AK4: 21<P≤30 | AL4: 31<P≤40 | AM4: 41<P≤50 | AN4: 51<P≤70 | AO4: 71<P≤90 | AQ4: 3≤ 9 PERS. | AR4: 10<P≤15 | AS4: 16<P≤20 | AT4: 21<P≤30 | AU4: 31<P≤40 | AV4: 41<P≤50 | AW4: 51<P≤70 | AX4: 71<P≤90 | AZ4: 3≤ 9 PERS. | BA4: 10<P≤15 | BB4: 16<P≤20 | BC4: 21<P≤30 | BD4: 31<P≤40 | BE4: 41<P≤50 | BF4: 51<P≤70 | BG4: 71<P≤90 | BL4: 3≤ 9 PERS. | BM4: 10<P≤15 | BN4: 16<P≤20 | BO4: 21<P≤30 | BP4: 31<P≤40 | BQ4: 41<P≤50 | BR4: 51<P≤70 | BS4: 71<P≤90 | BU4: 3≤ 9 PERS. | BW4: 3≤ 9 PERS. | BX4: 10<P≤15 | BY4: 16<P≤20 | BZ4: 21<P≤30 | CA4: 31<P≤40 | CB4: 41<P≤50 | CC4: 51<P≤70 | CD4: 71<P≤90
P5: 1500-1800 | Q5: 2300-2500 | R5: 3000-3300 | S5: 4500-5000 | T5: 6000-6500 | U5: 7500-8000 | V5: 10000-12000 | W5: >12500 | Y5: 1500-1800 | Z5: 2300-2500 | AA5: 3000-3300 | AB5: 4500-5000 | AC5: 6000-6500 | AD5: 7500-8000 | AE5: 10000-12000 | AF5: >12500 | AH5: 1500-1800 | AI5: 2300-2500 | AJ5: 3000-3300 | AK5: 4500-5000 | AL5: 6000-6500 | AM5: 7500-8000 | AN5: 10000-12000 | AO5: >12500 | AQ5: 1500-1800 | AR5: 2300-2500 | AS5: 3000-3300 | AT5: 4500-5000 | AU5: 6000-6500 | AV5: 7500-8000 | AW5: 10000-12000 | AX5: >12500 | AZ5: 1500-1800 | BA5: 2300-2500 | BB5: 3000-3300 | BC5: 4500-5000 | BD5: 6000-6500 | BE5: 7500-8000 | BF5: 10000-12000 | BG5: >12500 | BJ5: F = Fuente P = Pozo | BL5: 1500-1800 | BM5: 2300-2500 | BN5: 3000-3300 | BO5: 4500-5000 | BP5: 6000-6500 | BQ5: 7500-8000 | BR5: 10000-12000 | BS5: >12500 | BU5: 1500-1800 | BW5: 1500-1800 | BX5: 2300-2500 | BY5: 3000-3300 | BZ5: 4500-5000 | CA5: 6000-6500 | CB5: 7500-8000 | CC5: 10000-12000 | CD5: >12500
