Workbook
Name CapFinanciera1: #REF!
Name CapFinanciera2: #REF!
Name CapFinanciera3: #REF!
Name CapFinanciera4: #REF!
Name CapTecnica1: #REF!
Name CapTecnica2: #REF!
Name Experiencia1: #REF!
Name Experiencia2: #REF!
Name Experiencia3: #REF!
Name prueba: #REF!
Name SMMLV: #REF!

Sheet Formato 8 - Capacidad Residual
D5: FORMATO 8
D6: CAPACIDAD RESIDUAL
D10: [La Entidad Estatal deberá estructurar los Formatos para la verificación de la capacidad residual utlizando los Formatos y la metodología señalada en la "Guía para Determinar y Verificar la Capacidad Residual del Proponente en los Procesos de Contratación de Obra Pública" de la Agencia Nacional de Contratación Pública - Colombia Compra Eficiente]

Sheet Capacidad Residual Oferente 8A
A1: FORMATO 8A - CAPACIDAD ORGANIZACIONAL
A3: NUMERO DEL PROCESO | B3: SAMC-ICC-233-2023
A4: OFERENTE (RAZÓN SOCIAL): | B4: ='Contratos RUP 8B'!D8 -> 0
A5: RAZÓN SOCIAL DEL PARTICIPE: | B5: ='Contratos RUP 8B'!D9 -> 0
A7: Factor | B7: Puntaje máximo | C7: Presupuesto oficial
A8: Experiencia (E) | B8: 120 | C8: AÑO PUBLICACIÓN | D8: 2023
A9: Capacidad financiera (CF) | B9: 40 | C9: VALOR | D9: 89993228
A10: Capacidad técnica (CT) | B10: 40 | C10: SMMLV | D10: =ROUND(D9/(VLOOKUP(D8,Sheet1!A7:C46,3,FALSE)),2) -> 77.58
A11: Total | B11: =SUM(B8:B10) -> 200
A13: Capacidad de Organización del Proponente.
A14: AÑOS DE INFORMACIÓN FINANCIERA | B14: CAPACIDAD DE ORGANIZACIÓN | D14: VALORES
A15: Cinco (5) años o más. | B15: Mayor Ingreso Operacional obtenido en los últimos cinco (5) años.
A16: Entre uno (1) y cinco (5) años. * | B16: Mayor Ingreso Operacional obtenido en los años de constitución formal del proponente
A17: Menos de un (1) año. ** | B17: **USD 125.000,00
A18: CO | D18: =MAX(D15:E17) -> 0
A20: Experiencia (Individual o Consorciado)
A21: Valor total de los contratos inscritos en el RUP en SMMLV. | E21: =IF(D21>0,(ROUND((D21/($D$10*D22)),2)),0) -> 0
A22: Porcentaje de participación cuando el proponente es plural.
A23: EXPERIENCIA TOTAL OFERENTE (INDIVIDUAL O PLURAL) Asignación de puntaje según Manual Colombia Compra Eficiente
A24: SUPERIOR A | B24: HASTA | C24: PUNTAJE | E24: PUNTAJE
A25: 0 | B25: 3 | C25: 60
A26: 3 | B26: 6 | C26: 80
A27: 6 | B27: 10 | C27: 100
A28: 10 | B28: En adelante | C28: 120
A30: Capacidad financiera oferente
A31: =CONCATENATE("Experiencia (Individual o Consorciado) ") -> Experiencia (Individual o Consorciado)
A32: Activo Corriente
A33: Pasivo Corriente.
A34: Índice de Liquidez. Asignación de puntaje según Manual Colombia Compra Eficiente | D34: =IF(B32>0,(ROUND((B32/B33),4)),0) -> 0
A35: I.L. SUPERIOR A | B35: I.L. HASTA | C35: PUNTAJE PREVISTO | E35: PUNTAJE
A36: 0 | B36: 0.5 | C36: 20
A37: 0.5 | B37: 0.75 | C37: 25
A38: 0.75 | B38: 1 | C38: 30
A39: 1 | B39: 1.5 | C39: 35
A40: 1.5 | C40: 40
A42: Capacidad técnica. Asignación de puntaje según Manual Colombia Compra Eficiente
A43: PROFESIONALES TOTALES OFERENTE (INDIVIDUAL O PLURAL)
A44: Profesionales arquitectura, ingeniería, y geología | B44: DESDE: | C44: HASTA: | D44: PUNTAJE PREVISTO | E44: PUNTAJE
B45: 1 | C45: 5 | D45: 20 | E45: {=IF($E43>0,(_xlfn.IFS($E43=1,$D45,$E43=2,$D45,$E43=3,$D45,$E43=4,$D45,$E43=5,$D45,$E43=6,$D46,$E43=7,$D46,$E43=8,$D46,$E43=9,$D46,$E43=10,$D46,$E43>=$B47,$D47)),0)} -> 0
B46: 6 | C46: 10 | D46: 30
...

Sheet Contratos RUP 8B
A2: MINISTERIO DE LAS CULTURAS, LOS ARTES Y LOS SABERES - INSTITUTO CARO Y CUERVO
A5: FORMATO 5 - ACREDITACIÓN DE EXPERIENCIA PARA EL KRC (CONTRATOS INSCRITOS EN EL RUP - SEGMENTO 72)
A7: NUMERO DEL PROCESO
A8: OFERENTE (RAZÓN SOCIAL):
A9: RAZÓN SOCIAL DEL PARTICIPE:
A11: ÍTEMS | B11: CONTRATO No. | C11: CONTRATANTE | D11: FECHA TERMINACIÓN (DD/MM/AAAA) | E11: VALOR DEL CONTRATO | F11: PORCENTAJE DE PARTICIPACIÓN | G11: VALOR CONTRATO AFECTADO POR PORCENTAJE DE PARTICIPACIÓN | H11: VR. DEL CONTRATO EN SMMLV
A12: 1 | G12: =ROUND((E12*F12),0) -> 0 | H12: =IF(D12>0,(ROUND((G12/VLOOKUP((YEAR(D12)),Sheet1!$A$7:$C$46,3,FALSE)),2)),0) -> 0
A13: =A12+1 -> 2 | G13: =ROUND((E13*F13),0) -> 0 | H13: =IF(D13>0,(ROUND((G13/VLOOKUP((YEAR(D13)),Sheet1!$A$7:$C$46,3,FALSE)),2)),0) -> 0
A14: =A13+1 -> 3 | G14: =ROUND((E14*F14),0) -> 0 | H14: =IF(D14>0,(ROUND((G14/VLOOKUP((YEAR(D14)),Sheet1!$A$7:$C$46,3,FALSE)),2)),0) -> 0
A15: =A14+1 -> 4 | G15: =ROUND((E15*F15),0) -> 0 | H15: =IF(D15>0,(ROUND((G15/VLOOKUP((YEAR(D15)),Sheet1!$A$7:$C$46,3,FALSE)),2)),0) -> 0
A16: =A15+1 -> 5 | G16: =ROUND((E16*F16),0) -> 0 | H16: =IF(D16>0,(ROUND((G16/VLOOKUP((YEAR(D16)),Sheet1!$A$7:$C$46,3,FALSE)),2)),0) -> 0
A17: =A16+1 -> 6 | G17: =ROUND((E17*F17),0) -> 0 | H17: =IF(D17>0,(ROUND((G17/VLOOKUP((YEAR(D17)),Sheet1!$A$7:$C$46,3,FALSE)),2)),0) -> 0
A18: =A17+1 -> 7 | G18: =ROUND((E18*F18),0) -> 0 | H18: =IF(D18>0,(ROUND((G18/VLOOKUP((YEAR(D18)),Sheet1!$A$7:$C$46,3,FALSE)),2)),0) -> 0
A19: =A18+1 -> 8 | G19: =ROUND((E19*F19),0) -> 0 | H19: =IF(D19>0,(ROUND((G19/VLOOKUP((YEAR(D19)),Sheet1!$A$7:$C$46,3,FALSE)),2)),0) -> 0
A20: =A19+1 -> 9 | G20: =ROUND((E20*F20),0) -> 0 | H20: =IF(D20>0,(ROUND((G20/VLOOKUP((YEAR(D20)),Sheet1!$A$7:$C$46,3,FALSE)),2)),0) -> 0
A21: =A20+1 -> 10 | G21: =ROUND((E21*F21),0) -> 0 | H21: =IF(D21>0,(ROUND((G21/VLOOKUP((YEAR(D21)),Sheet1!$A$7:$C$46,3,FALSE)),2)),0) -> 0
A22: =A21+1 -> 11 | G22: =ROUND((E22*F22),0) -> 0 | H22: =IF(D22>0,(ROUND((G22/VLOOKUP((YEAR(D22)),Sheet1!$A$7:$C$46,3,FALSE)),2)),0) -> 0
A23: =A22+1 -> 12 | G23: =ROUND((E23*F23),0) -> 0 | H23: =IF(D23>0,(ROUND((G23/VLOOKUP((YEAR(D23)),Sheet1!$A$7:$C$46,3,FALSE)),2)),0) -> 0
A24: =A23+1 -> 13 | G24: =ROUND((E24*F24),0) -> 0 | H24: =IF(D24>0,(ROUND((G24/VLOOKUP((YEAR(D24)),Sheet1!$A$7:$C$46,3,FALSE)),2)),0) -> 0
... A110: =A109+1 -> 99 | G110: =ROUND((E110*F110),0) -> 0 | H110: =IF(D110>0,(ROUND((G110/VLOOKUP((YEAR(D110)),Sheet1!$A$7:$C$46,3,FALSE)),2)),0) -> 0
A111: =A110+1 -> 100
A113: TOTAL | H113: =SUM(H12:H112) -> 0
A118: FIRMA PROPONENTE O REPRESENTANTE LEGAL

Sheet Saldo Contrato Ejecución 8C
A1: FORMATO 8C - CONTRATOS EN EJECUCIÓN
A3: NUMERO DEL PROCESO | D3: ='Capacidad Residual Oferente 8A'!B3 -> SAMC-ICC-233-2023
A4: OFERENTE (RAZÓN SOCIAL): | D4: ='Capacidad Residual Oferente 8A'!B4 -> 0
A5: RAZÓN SOCIAL DEL PARTICIPE: | D5: ='Capacidad Residual Oferente 8A'!B5 -> 0
A7: Fecha presentación oferta (Cierre)
A9: Consecutivo | B9: Contrato No. | C9: Fecha de inicio | D9: Plazo (Dias) | E9: Porcentaje participación | F9: Dias ejecutados | G9: Fecha suspensión (Si aplica) | H9: Plazo faltante | I9: Valor contrato | J9: Saldo contrato ejecución
A10: 1 | F10: =IF(C10>0,($D$7-C10),0) -> 0 | H10: =IF(G10>0,(D10-(G10-C10)),(D10-F10)) -> 0 | J10: =IF(E10>0,(ROUND(((I10/(MIN(D10,"360")))*(MIN(H10,360))*E10),0)),0) -> 0
A11: =A10+1 -> 2 | F11: =IF(C11>0,($D$7-C11),0) -> 0 | H11: =IF(G11>0,(D11-(G11-C11)),(D11-F11)) -> 0 | J11: =IF(E11>0,(ROUND(((I11/(MIN(D11,"360")))*(MIN(H11,360))*E11),0)),0) -> 0
A12: =A11+1 -> 3 | F12: =IF(C12>0,($D$7-C12),0) -> 0 | H12: =IF(G12>0,(D12-(G12-C12)),(D12-F12)) -> 0 | J12: =IF(E12>0,(ROUND(((I12/(MIN(D12,"360")))*(MIN(H12,360))*E12),0)),0) -> 0
A13: =A12+1 -> 4 | F13: =IF(C13>0,($D$7-C13),0) -> 0 | H13: =IF(G13>0,(D13-(G13-C13)),(D13-F13)) -> 0 | J13: =IF(E13>0,(ROUND(((I13/(MIN(D13,"360")))*(MIN(H13,360))*E13),0)),0) -> 0
A14: =A13+1 -> 5 | F14: =IF(C14>0,($D$7-C14),0) -> 0 | H14: =IF(G14>0,(D14-(G14-C14)),(D14-F14)) -> 0 | J14: =IF(E14>0,(ROUND(((I14/(MIN(D14,"360")))*(MIN(H14,360))*E14),0)),0) -> 0
A15: =A14+1 -> 6 | F15: =IF(C15>0,($D$7-C15),0) -> 0 | H15: =IF(G15>0,(D15-(G15-C15)),(D15-F15)) -> 0 | J15: =IF(E15>0,(ROUND(((I15/(MIN(D15,"360")))*(MIN(H15,360))*E15),0)),0) -> 0
A16: =A15+1 -> 7 | F16: =IF(C16>0,($D$7-C16),0) -> 0 | H16: =IF(G16>0,(D16-(G16-C16)),(D16-F16)) -> 0 | J16: =IF(E16>0,(ROUND(((I16/(MIN(D16,"360")))*(MIN(H16,360))*E16),0)),0) -> 0
A17: =A16+1 -> 8 | F17: =IF(C17>0,($D$7-C17),0) -> 0 | H17: =IF(G17>0,(D17-(G17-C17)),(D17-F17)) -> 0 | J17: =IF(E17>0,(ROUND(((I17/(MIN(D17,"360")))*(MIN(H17,360))*E17),0)),0) -> 0
A18: =A17+1 -> 9 | F18: =IF(C18>0,($D$7-C18),0) -> 0 | H18: =IF(G18>0,(D18-(G18-C18)),(D18-F18)) -> 0 | J18: =IF(E18>0,(ROUND(((I18/(MIN(D18,"360")))*(MIN(H18,360))*E18),0)),0) -> 0
A19: =A18+1 -> 10 | F19: =IF(C19>0,($D$7-C19),0) -> 0 | H19: =IF(G19>0,(D19-(G19-C19)),(D19-F19)) -> 0 | J19: =IF(E19>0,(ROUND(((I19/(MIN(D19,"360")))*(MIN(H19,360))*E19),0)),0) -> 0
A20: =A19+1 -> 11 | F20: =IF(C20>0,($D$7-C20),0) -> 0 | H20: =IF(G20>0,(D20-(G20-C20)),(D20-F20)) -> 0 | J20: =IF(E20>0,(ROUND(((I20/(MIN(D20,"360")))*(MIN(H20,360))*E20),0)),0) -> 0
A21: =A20+1 -> 12 | F21: =IF(C21>0,($D$7-C21),0) -> 0 | H21: =IF(G21>0,(D21-(G21-C21)),(D21-F21)) -> 0 | J21: =IF(E21>0,(ROUND(((I21/(MIN(D21,"360")))*(MIN(H21,360))*E21),0)),0) -> 0
A22: =A21+1 -> 13 | F22: =IF(C22>0,($D$7-C22),0) -> 0 | H22: =IF(G22>0,(D22-(G22-C22)),(D22-F22)) -> 0 | J22: =IF(E22>0,(ROUND(((I22/(MIN(D22,"360")))*(MIN(H22,360))*E22),0)),0) -> 0
... A49: =A48+1 -> 40 | F49: =IF(C49>0,($D$7-C49),0) -> 0 | H49: =IF(G49>0,(D49-(G49-C49)),(D49-F49)) -> 0 | J49: =IF(E49>0,(ROUND(((I49/(MIN(D49,"360")))*(MIN(H49,360))*E49),0)),0) -> 0
A52: VALOR FINAL CONTRATOS EN EJECUCIÓN | J52: =SUM(J10:J51) -> 0
A57: FIRMA PROPONENTE O REPRESENTANTE LEGAL | G57: FIRMA CONTADOR PÚBLICO
G58: TP:
G59: C.C.
G62: FIRMA DEL REVISOR FISCAL
G63: TP:
G64: C.C.

Sheet Capacidad técnica 8D
A1: FORMATO N° 8 D - CERTIFICACION DE LA CAPACIDAD TECNICA
A2: SELECCIÓN ABREVIADA DE MENOR CUANTÍA N° SAMC-233-2023
A3: OFERENTE:
A4: N° | B4: NOMBRE DEL SOCIO O PROFESIONAL VINCULADO | C4: PROFESION | D4: N° MATRICULA PROFESIONAL | E4: No. del Contrato Laboral | F4: Fecha del Contrato Laboral | G4: VIGENCIA DEL CONTRATO
A18: En constancia de lo anterior firmo este documento a los días [ ] del mes de [ ] de [ ].
A23: FIRMA DEL REPRESENTANTE LEGAL OFERENTE
A24: Nombre:
A25: Documento de Identidad:
A27: Los representantes de los integrantes del Oferente plural deben suscribir cada uno el presente documento.
A29: NOTA: El presente formato debe ser diligenciado suministrando la información de la experiencia de cada uno de los integrantes del consorcio, unión temporal o promesa sociedad futura, se debe establecer su experiencia individual indicando el nombre del integrante que aporta cada contrato teniendo en cuenta que esta experiencia puede ser acreditada mediante la suma de las experiencias parciales de cada uno de los integrantes.

Sheet C. Residual Proceso 8E
A1: FORMATO 8 E - CAPACIDAD RESIDUAL DE CONTRATACIÓN
A3: NUMERO DEL PROCESO | C3: ='Capacidad Residual Oferente 8A'!B3 -> SAMC-ICC-233-2023
A8: PRESUPUESTO OFICIAL ESTIMADO | D8: ='Capacidad Residual Oferente 8A'!D9 -> 89993228
A9: ANTICIPO | C9: 0 | D9: =ROUND((D8*C9),0) -> 0
A10: CAPACIDAD RESIDUAL PROCESO | D10: =D8-D9 -> 89993228
A12: CAPACIDAD RESIDUAL OFERENTES
A13: No. | B13: Nombre | D13: C. Residual
A14: Consorciado 1 | D14: ='Capacidad Residual Oferente 8A'!D53 -> 0
A15: Consorciado 2 | D15: ='Capacidad Residual Oferente 8A'!D54 -> 0
A16: Consorciado 3 | D16: ='Capacidad Residual Oferente 8A'!D55 -> 0
A17: Total Capacidad Residual | D17: =SUM(D14:D16) -> 0
D19: =IF((D17>=D10),"Cumple","No Cumple") -> No Cumple

Sheet Sheet1
A1: Salario mínimo legal en Colombia
A2: 1.1.1. Serie histórica en pesos colombianos_periodicidad anual
A4: Información disponible desde el 1 de julio de 1984.
A6: Año (aaaa) | B6: Salario mínimo diario (COP) | C6: Salario mínimo mensual (COP) | D6: Variación porcentual anual % | E6: Decretos del Gobierno Nacional
A7: 1984 | B7: 376.6 | C7: 11298 | E7: 3506 de diciembre 27 de 1983
A8: 1985 | B8: 451.92 | C8: 13558 | D8: 20 | E8: 0001 de enero de 1985
A9: 1986 | B9: 560.38 | C9: 16811 | D9: 24 | E9: 3754 de diciembre de 1985
A10: 1987 | B10: 683.66 | C10: 20510 | D10: 22 | E10: 3732 de diciembre de 1986
A11: 1988 | B11: 854.58 | C11: 25637 | D11: 25 | E11: 2545 de diciembre de 1987
A12: 1989 | B12: 1085.32 | C12: 32560 | D12: 27 | E12: 2662 de diciembre de 1988
A13: 1990 | B13: 1367.5 | C13: 41025 | D13: 26 | E13: 3000 de diciembre de 1989
A14: 1991 | B14: 1724 | C14: 51720 | D14: 26.1 | E14: 3074 de diciembre de 1990
A15: 1992 | B15: 2173 | C15: 65190 | D15: 26.044 | E15: 2867 de diciembre de 1991
A16: 1993 | B16: 2717 | C16: 81510 | D16: 25 | E16: 2061 de diciembre de 1992
A17: 1994 | B17: 3290 | C17: 98700 | D17: 21.1 | E17: 2548 de diciembre de 1993
A18: 1995 | B18: 3964.45 | C18: 118934 | D18: 20.5 | E18: 2872 de diciembre de 1994
A19: 1996 | B19: 4737.5 | C19: 142125 | D19: 19.5 | E19: 2310 de diciembre de 1995
... A45: 2022 | B45: 33333.33 | C45: 1000000 | D45: 10.07 | E45: 1724 de diciembre 15 de 2021
A46: 2023 | B46: =C46/30 -> 38666.667 | C46: 1160000 | D46: 16 | E46: 2613 de diciembre 28 de 2022
A48: Fuente: Ministerio del Trabajo (www.mintrabajo.gov.co) y decretos del Gobierno Nacional (www.presidencia.gov.co).
A50: Notas:
A52: desde el 1 de julio de 1984 se unificó el salario mínimo para todos los sectores de la economía. En los años en que se decretó el salario mínimo diario, este se multiplica por 30 días y se redondea a la unidad para determinar el valor mensual. Cuando se decretó el salario mínimo mensual, se divide por 30 y se redondea a dos decimales para obtener el salario diario.
A54: Variación porcentual con respecto al dato del año inmediatamente anterior.
A55: (N/A) No aplica
A57: Banco de la República - Gerencia Técnica - información extraída de la bodega de datos -Serankua- el 18/01/2022 09:41:43
