Workbook

Sheet Balance 2022 
B2: SALDOS PRESUPUESTALES 2022
B3: CENTRO VIDA | C3: =119632103.03-583333.33 -> 1.1904877e+08
B4: CENTRO DE BIENESTAR | C4: 67824990
B6: LIBERACIÓN DE RESERVAS 2021 EN 2022
B7: CENTRO VIDA | C7: 18317671
B8: CENTRO DE BIENESTAR | C8: 59404388
B9: CENTRO DE BIENESTAR RENDIMIENTOS FINANCIEROS LIBERADOS | C9: 8000000
B11: Concepto | C11: valores
B12: Mayor Recaudo vigencia 2022 | C12: 2544653303
B13: (-)Fonpet(20%) pendiente por girar 2022 del Mayor Recaudo | C13: 508930661
B14: Saldo a distribuir 2022 | C14: =+C12-C13 -> 2035722642
B16: Modalidad Centro vida (70%) | C16: 1425005849
B17: Modalidad Centro de Bienestar del Anciano (30%) | C17: 610716793
B18: Rendimientos financieros Mayor recaudo | C18: 2.4161277e+08
B20: TOTAL ESTAMPILLAS BALANCE 2022 | C20: =+C18+C12+C9+C8+C7+C4+C3 -> 3.0588619e+09
B24: DISTRIBUCIÓN RECURSOS DEL BALANCE ESTAMPILLAS 2022 | F24: Rubros sumados
F25: Fonpet hacienda | G25: =+C27 -> 508930661
B26: Traslado a FONPET | C26: Valor | D26: Rubros | F26: 2.3.2.02.01.002.4104008.2399926.520 | G26: =+C30 -> 1120000000
B27: Recursos del balance 2022 - Mayor recaudo | C27: =+C13 -> 508930661 | D27: Sec Hacienda lo define | F27: 2.3.2.02.02.009.4104008.93491.520 | G27: =+C31+C32+C33 -> 4.4237229e+08
F28: 2.3.2.02.02.009.4104008.93304.520 | G28: =+C37+C39+C40 -> 737946171
B29: Modalidad Centro vida | C29: Valor | D29: Rubros | F29: 2.3.2.02.02.009.4104008.93304.558 | G29: =+C38+C41 -> 2.4961277e+08
B30: Recursos del balance 2022 - Mayor recaudo | C30: 1120000000 | D30: 2.3.2.02.01.002.4104008.2399926.520 | F30: Total | G30: =SUM(G25:G29) -> 3.0588619e+09
C31: =+C16-C30 -> 305005849 | D31: 2.3.2.02.02.009.4104008.93491.520 | F31: Ok | G31: =+G30-C45 -> 0
B32: Saldos presupuestales Centro vida 2022 | C32: =+C3 -> 1.1904877e+08 | D32: 2.3.2.02.02.009.4104008.93491.520
B33: Liberación de reservas Centro vida | C33: =+C7 -> 18317671 | D33: =+D32 -> 2.3.2.02.02.009.4104008.93491.520
B34: Total Centro vida | C34: =SUM(C30:C33) -> 1.5623723e+09
B36: Modalidad Centro de Bienestar del Anciano | C36: Valor | D36: Rubros
B37: Recursos del balance 2022 - Mayor recaudo | C37: =+C17 -> 610716793 | D37: 2.3.2.02.02.009.4104008.93304.520
B38: Rendimientos financieros Mayor recaudo | C38: 2.4161277e+08 | D38: 2.3.2.02.02.009.4104008.93304.558
B39: Saldos presupuestales Centro de Bienestar 2022 | C39: =+C4 -> 67824990 | D39: 2.3.2.02.02.009.4104008.93304.520
B40: Liberación de reservas Centro de Bienestar | C40: =+C8 -> 59404388 | D40: 2.3.2.02.02.009.4104008.93304.520
B41: Liberación de reservas rendimientos financieros Centro de Bienestar | C41: =+C9 -> 8000000 | D41: 2.3.2.02.02.009.4104008.93304.558
B42: Total Centro de Bienestar | C42: =SUM(C37:C41) -> 9.8755894e+08
B45: Totales estampillas Balance 2022 | C45: =+C42+C34+C27 -> 3.0588619e+09
B46: Diferencias | C46: =+C45-C20 -> 0

Sheet CB distribución adición
B2: Resumen presupuesto | H2: Valor Cupo 2022 | J2: Aporte MB | L2: Aporte ESAL | N2: # Días Convenio adicional
B3: Saldos 2022 Estampilla municipal CB | C3: =+'Balance 2022 '!C39 -> 67824990 | H3: 30961 | J3: 15790 | L3: =H3-J3 -> 15171 | N3: 72
B4: Saldos de balance mayor recaudo 2022 | C4: =+'Balance 2022 '!C37 -> 610716793
B5: Vigencia años anterioresPPTO Rendimientos | C5: =+'Balance 2022 '!C38 -> 2.4161277e+08
B6: Liberación reservas 2021 en 2022 | C6: =+'Balance 2022 '!C40 -> 59404388
B7: Liberación reservas 2021 en 2022 rendimientos | C7: =+'Balance 2022 '!C41 -> 8000000
B8: Total | C8: =SUM(C3:D7) -> 9.8755894e+08
B10: Valor adición convenios | C10: =+J31 -> 764788650 | H10: 0 | J10: =J3/H3 -> 0.50999645 | L10: =L3/H3 -> 0.49000355
B11: Superavit o deficit de recursos | C11: =+C8-C10 -> 2.2277029e+08
B13: Aporte Día estampilla Dtal | C13: =INT(H10/N3) -> 0
B14: Aporte Día estampilla MB | C14: =J3-C13 -> 15790
J16: FINANCIACION ADICIÓN | Q16: TOTALES
A17: # Convenio | B17: NOMBRE DE LA FUNDACIÓN | C17: TOTAL CUPOS | D17: Días inicial | E17: Días Adicional | F17: Total contrato | H17: Valor Convenio adicional | J17: APORTE (EST- MB) | L17: APORTE (EST-DEPTAL) | N17: Rendimientos Y PROPIOS | O17: APORTE ESAL | S17: PRUEBA
A18: 54 | B18: CENTRO BIENESTAR DEL ANCIANO | C18: 96 | D18: =+'Fechas-Convenios adición'!D4 -> 146 | E18: =+'Fechas-Convenios adición'!G4 -> 73 | F18: =+E18+D18 -> 219 | G18: =+F26-'Fechas-Convenios adición'!I12 -> 0 | H18: =C18*E18*$H$3 -> 216974688 | J18: =C18*E18*$J$3 -> 110656320 | L18: =C18*E18*$C$13 -> 0 | N18: =C18*D18*$C$15 -> 0 | O18: =+$L$3*C18*E18 -> 106318368 | Q18: =J18+L18+N18+O18 -> 216974688 | S18: =+Q18-H18 -> 0
A19: 58 | B19: FUNDACION CENTRO DIA TERESA DE JHS | C19: 0 | D19: =+'Fechas-Convenios adición'!D5 -> 0 | E19: =+'Fechas-Convenios adición'!G5 -> 0 | F19: =+E19+D19 -> 0 | G19: =+F20-'Fechas-Convenios adición'!I6 -> 0 | H19: =C19*E19*$H$3 -> 0 | J19: =C19*E19*$J$3 -> 0 | L19: =C19*E19*$C$13 -> 0 | N19: =C19*D19*$C$15 -> 0 | O19: =+$L$3*C19*E19 -> 0 | Q19: =J19+L19+N19+O19 -> 0 | S19: =+Q19-H19 -> 0
A20: 49 | B20: ASILO SAN RAFAEL | C20: 170 | D20: =+'Fechas-Convenios adición'!D6 -> 145 | E20: =+'Fechas-Convenios adición'!G6 -> 72 | F20: =+E20+D20 -> 217 | G20: =+F23-'Fechas-Convenios adición'!I9 -> 0 | H20: =C20*E20*$H$3 -> 378962640 | J20: =C20*E20*$J$3 -> 193269600 | L20: =C20*E20*$C$13 -> 0 | N20: =C20*D20*$C$15 -> 0 | O20: =+$L$3*C20*E20 -> 185693040 | Q20: =J20+L20+N20+O20 -> 378962640 | S20: =+Q20-H20 -> 0
A21: 46 | B21: FAVAC | C21: 60 | D21: =+'Fechas-Convenios adición'!D7 -> 145 | E21: =+'Fechas-Convenios adición'!G7 -> 72 | F21: =+E21+D21 -> 217 | G21: =+F28-'Fechas-Convenios adición'!I14 -> 0 | H21: =C21*E21*$H$3 -> 133751520 | J21: =C21*E21*$J$3 -> 68212800 | L21: =C21*E21*$C$13 -> 0 | N21: =C21*D21*$C$15 -> 0 | O21: =+$L$3*C21*E21 -> 65538720 | Q21: =J21+L21+N21+O21 -> 133751520 | S21: =+Q21-H21 -> 0
A22: 42 | B22: FUNDACION CRISTO REDENTOR | C22: 35 | D22: =+'Fechas-Convenios adición'!D8 -> 146 | E22: =+'Fechas-Convenios adición'!G8 -> 73 | F22: =+E22+D22 -> 219 | G22: =+F27-'Fechas-Convenios adición'!I13 -> 0 | H22: =C22*E22*$H$3 -> 79105355 | J22: =C22*E22*$J$3 -> 40343450 | L22: =C22*E22*$C$13 -> 0 | N22: =C22*D22*$C$15 -> 0 | O22: =+$L$3*C22*E22 -> 38761905 | Q22: =J22+L22+N22+O22 -> 79105355 | S22: =+Q22-H22 -> 0
A23: 50 | B23: ASILO SAN ANTONIO | C23: 75 | D23: =+'Fechas-Convenios adición'!D9 -> 145 | E23: =+'Fechas-Convenios adición'!G9 -> 72 | F23: =+E23+D23 -> 217 | G23: =+F22-'Fechas-Convenios adición'!I8 -> 0 | H23: =C23*E23*$H$3 -> 167189400 | J23: =C23*E23*$J$3 -> 85266000 | L23: =C23*E23*$C$13 -> 0 | N23: =C23*D23*$C$15 -> 0 | O23: =+$L$3*C23*E23 -> 81923400 | Q23: =J23+L23+N23+O23 -> 167189400 | S23: =+Q23-H23 -> 0
A24: 57 | B24: FUNTALUZ | C24: 30 | D24: =+'Fechas-Convenios adición'!D10 -> 145 | E24: =+'Fechas-Convenios adición'!G10 -> 72 | F24: =+E24+D24 -> 217 | G24: =+F21-'Fechas-Convenios adición'!I7 -> 0 | H24: =C24*E24*$H$3 -> 66875760 | J24: =C24*E24*$J$3 -> 34106400 | L24: =C24*E24*$C$13 -> 0 | N24: =C24*D24*$C$15 -> 0 | O24: =+$L$3*C24*E24 -> 32769360 | Q24: =J24+L24+N24+O24 -> 66875760 | S24: =+Q24-H24 -> 0
A25: 55 | B25: SANTA RITA DE ACASIA | C25: 30 | D25: =+'Fechas-Convenios adición'!D11 -> 145 | E25: =+'Fechas-Convenios adición'!G11 -> 72 | F25: =+E25+D25 -> 217 | G25: =+F18-'Fechas-Convenios adición'!I4 -> 0 | H25: =C25*E25*$H$3 -> 66875760 | J25: =C25*E25*$J$3 -> 34106400 | L25: =C25*E25*$C$13 -> 0 | N25: =C25*D25*$C$15 -> 0 | O25: =+$L$3*C25*E25 -> 32769360 | Q25: =J25+L25+N25+O25 -> 66875760 | S25: =+Q25-H25 -> 0
A26: 48 | B26: AVAC | C26: 15 | D26: =+'Fechas-Convenios adición'!D12 -> 146 | E26: =+'Fechas-Convenios adición'!G12 -> 73 | F26: =+E26+D26 -> 219 | G26: =+F24-'Fechas-Convenios adición'!I10 -> 0 | H26: =C26*E26*$H$3 -> 33902295 | J26: =C26*E26*$J$3 -> 17290050 | L26: =C26*E26*$C$13 -> 0 | N26: =C26*D26*$C$15 -> 0 | O26: =+$L$3*C26*E26 -> 16612245 | Q26: =J26+L26+N26+O26 -> 33902295 | S26: =+Q26-H26 -> 0
A27: 52 | B27: FUNDELUZ | C27: 110 | D27: =+'Fechas-Convenios adición'!D13 -> 145 | E27: =+'Fechas-Convenios adición'!G13 -> 72 | F27: =+E27+D27 -> 217 | G27: =+F25-'Fechas-Convenios adición'!I11 -> 0 | H27: =C27*E27*$H$3 -> 245211120 | J27: =C27*E27*$J$3 -> 125056800 | L27: =C27*E27*$C$13 -> 0 | N27: =C27*D27*$C$15 -> 0 | O27: =+$L$3*C27*E27 -> 120154320 | Q27: =J27+L27+N27+O27 -> 245211120 | S27: =+Q27-H27 -> 0
B28: HOGAR JERUSALEN | C28: 35 | D28: =+'Fechas-Convenios adición'!D14 -> 0 | E28: =+'Fechas-Convenios adición'!G14 -> 0 | F28: =+E28+D28 -> 0 | G28: =+F29-'Fechas-Convenios adición'!I15 -> 0 | H28: =C28*E28*$H$3 -> 0 | J28: =C28*E28*$J$3 -> 0 | L28: =C28*E28*$C$13 -> 0 | N28: =C28*D28*$C$15 -> 0 | O28: =+$L$3*C28*E28 -> 0 | Q28: =J28+L28+N28+O28 -> 0 | S28: =+Q28-H28 -> 0
A29: 51 | B29: SHALOM | C29: 49 | D29: =+'Fechas-Convenios adición'!D15 -> 146 | E29: =+'Fechas-Convenios adición'!G15 -> 73 | F29: =+E29+D29 -> 219 | G29: =+F19-'Fechas-Convenios adición'!I5 -> 0 | H29: =C29*E29*$H$3 -> 110747497 | J29: =C29*E29*$J$3 -> 56480830 | L29: =C29*E29*$C$13 -> 0 | N29: =C29*D29*$C$15 -> 0 | O29: =+$L$3*C29*E29 -> 54266667 | Q29: =J29+L29+N29+O29 -> 110747497 | S29: =+Q29-H29 -> 0
B30: TOTAL CUPOS | C30: =SUM(C18:C29) -> 705 | H30: =SUM(H18:H29) -> 1499596035 | J30: =SUM(J18:J29) -> 764788650 | L30: =SUM(L18:L29) -> 0 | N30: =SUM(N18:N29) -> 0 | O30: =SUM(O18:O29) -> 734807385 | Q30: =SUM(Q18:Q29) -> 1499596035 | S30: =+Q30-H30 -> 0
J31: =J30+L30+N30 -> 764788650 | O31: =O30 -> 734807385
J32: =(J31/H30) -> 0.50999645 | O32: =O31/H30 -> 0.49000355
B36: La suma de las cifras en color azul son los aportes del Municipio de Bucaramanga

Sheet Fechas-Convenios adición
A2: ADULTO MAYOR
A3: No. CONVENIO | B3: FUNDACIÓN | C3: FECHA INICIO | D3: PLAZO | E3: FECHA DE TERMINACIÓN | F3: FECHA ADICIÓN | G3: PLAZO ADICIÓN | H3: FECHA FINAL ADICIÓN | I3: TOTAL DÍAS CONVENIOS
A4: 54 | B4: CENTRO BIENESTAR DEL ANCIANO | C4: 45017 | D4: 146 | E4: =+C4+D4-1 -> 45162 | F4: =+E4+1 -> 45163 | G4: 73 | H4: =+E4+G4 -> 45235 | I4: =+G4+D4 -> 219
A5: 58 | B5: FUNDACION CENTRO DIA TERESA DE JHS | C5: 45017
A6: 49 | B6: ASILO SAN RAFAEL | C6: 45016 | D6: 145 | E6: =+C6+D6-1 -> 45160 | F6: =+E6+1 -> 45161 | G6: 72 | H6: =+E6+G6 -> 45232 | I6: =+G6+D6 -> 217
A7: 46 | B7: FAVAC | C7: 45015 | D7: 145 | E7: =+C7+D7-1 -> 45159 | F7: =+E7+1 -> 45160 | G7: 72 | H7: =+E7+G7 -> 45231 | I7: =+G7+D7 -> 217
A8: 42 | B8: FUNDACION CRISTO REDENTOR | C8: 45016 | D8: 146 | E8: =+C8+D8-1 -> 45161 | F8: =+E8+1 -> 45162 | G8: 73 | H8: =+E8+G8 -> 45234 | I8: =+G8+D8 -> 219
A9: 50 | B9: ASILO SAN ANTONIO | C9: 45016 | D9: 145 | E9: =+C9+D9-1 -> 45160 | F9: =+E9+1 -> 45161 | G9: 72 | H9: =+E9+G9 -> 45232 | I9: =+G9+D9 -> 217
A10: 57 | B10: FUNTALUZ | C10: 45017 | D10: 145 | E10: =+C10+D10-1 -> 45161 | F10: =+E10+1 -> 45162 | G10: 72 | H10: =+E10+G10 -> 45233 | I10: =+G10+D10 -> 217
A11: 55 | B11: SANTA RITA DE CASIA | C11: 45017 | D11: 145 | E11: =+C11+D11-1 -> 45161 | F11: =+E11+1 -> 45162 | G11: 72 | H11: =+E11+G11 -> 45233 | I11: =+G11+D11 -> 217
A12: 48 | B12: AVAC | C12: 45017 | D12: 146 | E12: =+C12+D12-1 -> 45162 | F12: =+E12+1 -> 45163 | G12: 73 | H12: =+E12+G12 -> 45235 | I12: =+G12+D12 -> 219
A13: 52 | B13: FUNDELUZ | C13: 45016 | D13: 145 | E13: =+C13+D13-1 -> 45160 | F13: =+E13+1 -> 45161 | G13: 72 | H13: =+E13+G13 -> 45232 | I13: =+G13+D13 -> 217
B14: HOGAR JERUSALEN
A15: 51 | B15: SHALOM | C15: 45016 | D15: 146 | E15: =+C15+D15-1 -> 45161 | F15: =+E15+1 -> 45162 | G15: 73 | H15: =+E15+G15 -> 45234 | I15: =+G15+D15 -> 219

Sheet Fechas-Convenios final año
A2: ADULTO MAYOR
A3: No. CONVENIO | B3: FUNDACIÓN | C3: FECHA INICIO | D3: PLAZO | E3: FECHA DE TERMINACIÓN
B4: CENTRO BIENESTAR DEL ANCIANO | C4: =+'Fechas-Convenios adición'!H4+2 -> 45237 | D4: 41 | E4: =+C4+D4-1 -> 45277
B5: FUNDACION CENTRO DIA TERESA DE JHS
B6: ASILO SAN RAFAEL | C6: =+'Fechas-Convenios adición'!H6+2 -> 45234 | D6: 44 | E6: =+C6+D6-1 -> 45277
B7: FAVAC | C7: =+'Fechas-Convenios adición'!H7+2 -> 45233 | D7: 45 | E7: =+C7+D7-1 -> 45277
B8: FUNDACION CRISTO REDENTOR | C8: =+'Fechas-Convenios adición'!H8+2 -> 45236 | D8: 42 | E8: =+C8+D8-1 -> 45277
B9: ASILO SAN ANTONIO | C9: =+'Fechas-Convenios adición'!H9+2 -> 45234 | D9: 44 | E9: =+C9+D9-1 -> 45277
B10: FUNTALUZ | C10: =+'Fechas-Convenios adición'!H10+2 -> 45235 | D10: 43 | E10: =+C10+D10-1 -> 45277
B11: SANTA RITA DE CASIA | C11: =+'Fechas-Convenios adición'!H11+2 -> 45235 | D11: 43 | E11: =+C11+D11-1 -> 45277
B12: AVAC | C12: =+'Fechas-Convenios adición'!H12+2 -> 45237 | D12: 41 | E12: =+C12+D12-1 -> 45277
B13: FUNDELUZ | C13: =+'Fechas-Convenios adición'!H13+2 -> 45234 | D13: 44 | E13: =+C13+D13-1 -> 45277
B14: HOGAR JERUSALEN
B15: SHALOM | C15: =+'Fechas-Convenios adición'!H15+2 -> 45236 | D15: 42 | E15: =+C15+D15-1 -> 45277
B18: FECHAS CONVENIOS CENTRO DE BIENESTAR NUEVOS

Sheet CB final nuevo 
A2: Resumen presupuesto | F2: Valor Cupo 2022 | H2: Aporte MB | J2: Aporte ESAL
A3: balance no usado en la adición de agt 2023 | B3: =+'CB distribución adición'!C11 -> 2.2277029e+08 | D3: 2.4961277e+08 | F3: 31665 | H3: 16149 | J3: =F3-H3 -> 15516 | L3: 46
A4: Saldos Ppto 2023 | B4: =+'[1]JULIO-2023'!$U$15 -> 86912000 | D4: 140216384
A5: Propios 201 | D5: 1721587
A6: Propios 501 | D6: 76951305
A7: Total | B7: =SUM(B3:C5) -> 3.0968229e+08 | D7: =SUM(D3:E6) -> 4.6850204e+08
A9: Valor adición convenios | B9: =+H28 -> 467981871 | D9: =+D7-B9 -> 520173.39 | F9: 0 | H9: =H3/F3 -> 0.50999526 | J9: =J3/F3 -> 0.49000474
A10: Superavit o deficit de recursos | B10: =+B7-B9 -> -1.5829958e+08 | H10: =F3*51% -> 16149.15 | J10: =F3*49% -> 15515.85
A12: Aporte Día estampilla Dtal | B12: =INT(F9/L3) -> 0 | E12: NUEVO CONVENIO PARA CENTRO DE BIENESTAR
A13: Aporte Día estampilla MB | B13: =H3-B12 -> 16149
H15: FINANCIACION | O15: TOTALES
A16: NOMBRE DE LA ESAL | B16: TOTAL CUPOS | C16: NÚMERO DE DÍAS | E16: Total DIAS contrato | F16: Valor TOTAL Convenio | H16: APORTE (EST- MB) | J16: APORTE (EST-DEPTAL) | L16: Rendimientos Y PROPIOS | M16: APORTE ESAL | Q16: PRUEBA
A17: CENTRO BIENESTAR DEL ANCIANO | B17: 96 | C17: =+'Fechas-Convenios final año'!D4 -> 41 | E17: =+D17+C17 -> 41 | F17: =B17*E17*$F$3 -> 124633440 | H17: =B17*E17*$H$3 -> 63562464 | J17: =B17*E17*$B$14 -> 0 | L17: =B17*E17*$B$15 -> 0 | M17: =+$J$3*B17*E17 -> 61070976 | O17: =H17+J17+L17+M17 -> 124633440 | Q17: =+O17-F17 -> 0
A18: ASILO SAN RAFAEL | B18: 170 | C18: =+'Fechas-Convenios final año'!D6 -> 44 | E18: =+D18+C18 -> 44 | F18: =B18*E18*$F$3 -> 236854200 | H18: =B18*E18*$H$3 -> 120794520 | J18: =B18*E18*$B$14 -> 0 | L18: =B18*E18*$B$15 -> 0 | M18: =+$J$3*B18*E18 -> 116059680 | O18: =H18+J18+L18+M18 -> 236854200 | Q18: =+O18-F18 -> 0
A19: FAVAC | B19: 60 | C19: =+'Fechas-Convenios final año'!D7 -> 45 | E19: =+D19+C19 -> 45 | F19: =B19*E19*$F$3 -> 85495500 | H19: =B19*E19*$H$3 -> 43602300 | J19: =B19*E19*$B$14 -> 0 | L19: =B19*E19*$B$15 -> 0 | M19: =+$J$3*B19*E19 -> 41893200 | O19: =H19+J19+L19+M19 -> 85495500 | Q19: =+O19-F19 -> 0
A20: FUNDACION CRISTO REDENTOR | B20: 35 | C20: =+'Fechas-Convenios final año'!D8 -> 42 | E20: =+D20+C20 -> 42 | F20: =B20*E20*$F$3 -> 46547550 | H20: =B20*E20*$H$3 -> 23739030 | J20: =B20*E20*$B$14 -> 0 | L20: =B20*E20*$B$15 -> 0 | M20: =+$J$3*B20*E20 -> 22808520 | O20: =H20+J20+L20+M20 -> 46547550 | Q20: =+O20-F20 -> 0
A21: ASILO SAN ANTONIO | B21: 75 | C21: =+'Fechas-Convenios final año'!D9 -> 44 | E21: =+D21+C21 -> 44 | F21: =B21*E21*$F$3 -> 104494500 | H21: =B21*E21*$H$3 -> 53291700 | J21: =B21*E21*$B$14 -> 0 | L21: =B21*E21*$B$15 -> 0 | M21: =+$J$3*B21*E21 -> 51202800 | O21: =H21+J21+L21+M21 -> 104494500 | Q21: =+O21-F21 -> 0
A22: FUNTALUZ | B22: 30 | C22: =+'Fechas-Convenios final año'!D10 -> 43 | E22: =+D22+C22 -> 43 | F22: =B22*E22*$F$3 -> 40847850 | H22: =B22*E22*$H$3 -> 20832210 | J22: =B22*E22*$B$14 -> 0 | L22: =B22*E22*$B$15 -> 0 | M22: =+$J$3*B22*E22 -> 20015640 | O22: =H22+J22+L22+M22 -> 40847850 | Q22: =+O22-F22 -> 0
A23: SANTA RITA DE ACASIA | B23: 30 | C23: =+'Fechas-Convenios final año'!D11 -> 43 | E23: =+D23+C23 -> 43 | F23: =B23*E23*$F$3 -> 40847850 | H23: =B23*E23*$H$3 -> 20832210 | J23: =B23*E23*$B$14 -> 0 | L23: =B23*E23*$B$15 -> 0 | M23: =+$J$3*B23*E23 -> 20015640 | O23: =H23+J23+L23+M23 -> 40847850 | Q23: =+O23-F23 -> 0
A24: AVAC | B24: 15 | C24: =+'Fechas-Convenios final año'!D12 -> 41 | E24: =+D24+C24 -> 41 | F24: =B24*E24*$F$3 -> 19473975 | H24: =B24*E24*$H$3 -> 9931635 | J24: =B24*E24*$B$14 -> 0 | L24: =B24*E24*$B$15 -> 0 | M24: =+$J$3*B24*E24 -> 9542340 | O24: =H24+J24+L24+M24 -> 19473975 | Q24: =+O24-F24 -> 0
A25: FUNDELUZ | B25: 110 | C25: =+'Fechas-Convenios final año'!D13 -> 44 | E25: =+D25+C25 -> 44 | F25: =B25*E25*$F$3 -> 153258600 | H25: =B25*E25*$H$3 -> 78161160 | J25: =B25*E25*$B$14 -> 0 | L25: =B25*E25*$B$15 -> 0 | M25: =+$J$3*B25*E25 -> 75097440 | O25: =H25+J25+L25+M25 -> 153258600 | Q25: =+O25-F25 -> 0
A26: SHALOM | B26: 49 | C26: =+'Fechas-Convenios final año'!D15 -> 42 | E26: =+D26+C26 -> 42 | F26: =B26*E26*$F$3 -> 65166570 | H26: =B26*E26*$H$3 -> 33234642 | J26: =B26*E26*$B$14 -> 0 | L26: =B26*E26*$B$15 -> 0 | M26: =+$J$3*B26*E26 -> 31931928 | O26: =H26+J26+L26+M26 -> 65166570 | Q26: =+O26-F26 -> 0
A27: TOTAL CUPOS | B27: =SUM(B17:B26) -> 670 | F27: =SUM(F17:F26) -> 917620035 | H27: =SUM(H17:H26) -> 467981871 | J27: =SUM(J17:J26) -> 0 | L27: =SUM(L17:L26) -> 0 | M27: =SUM(M17:M26) -> 449638164 | O27: =SUM(O17:O26) -> 917620035 | Q27: =+O27-F27 -> 0
H28: =H27+J27+L27 -> 467981871 | M28: =M27 -> 449638164
H29: =(H28/F27) -> 0.50999526 | M29: =M28/F27 -> 0.49000474
A30: La suma de las cifras en color azul son los aportes del Municipio de Bucaramanga
