Workbook
Name ASDF: #REF!
Name DWQ: #REF!
Name EQU: #REF!
Name EQUIPOS: #REF!
Name ESTACION: #REF!
Name ITEM: #REF!
Name ITEMS: #REF!
Name MAN: #REF!
Name MANO_DE_OBRA: #REF!
Name MARIO: #REF!
Name MAT: #REF!
Name MATERIALES: #REF!
Name PPTO: #REF!
Name TRA: #REF!
Name TRANSPORTE: #REF!

Sheet ESPECIFICACIONES
B2: ÍTEM | C2: UNIDAD DE MEDIDA | D2: ESPECIFICACIONES TÉCNICAS
B3: =VLOOKUP(ESPECIFICACIONES!D3,[1]ACTIV_EST!C:K,9,FALSE) -> 1.01. | C3: =VLOOKUP(ESPECIFICACIONES!D3,[1]ACTIV_EST!C:E,2,FALSE) -> M2 | D3: Replanteo
D4: Este ítem comprende los trabajos de replanteo necesarios para las obras de acuerdo a los planos.
D5: Todo el trabajo de replanteo será iniciado previa notificación a la Supervisión de Obra.
D6: Igualmente, comprende la realización de todas las pruebas necesarias para determinar la calidad y resistencia del terreno y su capacidad para soportar las cargas de diseño
D7: El Contratista proveerá todos los materiales, herramientas y equipo necesarios, tanto para el replanteo y trazado de las obras a ejecutarse como para los ensayos del terreno, totalmente estarán a su cargo los gastos que demanden los ensayos de materiales y de suelos, cuyo presupuesto será incluido en la propuesta del presente Ítem.
B8: =VLOOKUP(ESPECIFICACIONES!D8,[1]ACTIV_EST!C:K,9,FALSE) -> 1.02. | C8: =VLOOKUP(ESPECIFICACIONES!D8,[1]ACTIV_EST!C:E,2,FALSE) -> ML | D8: Cerramiento en alambre de púas 5 Hilos H=2.50 m
D9: Esta especificación se refiere al suministro e instalación de cinco hilos de alambre de púas retorcido. Fijando los hilos paralelos, estirados y templados.
D10: En los postes terminales el alambre de púas se envolverá alrededor del poste y se fijará con los ganchos de los postes existentes, doblando, anudando y apretando las puntas sueltas.
D11: Materiales: Alambre de púas: Fabricado en alambre de acero calidad mínima SAE 1008 - 1010 galvanizado en caliente, con dos (02) hilos, cada hilo de diámetro mínimo 2.50 mm (calibre 12) y esfuerzo de rotura mínimo de 290 Kgf/mm2, el alambre debe ser galvanizado bajo la norma NTC2076 con una densidad mínima del recubrimiento de zinc de 60 gr/m2. Para las púas, el alambre debe tener grupos de cuatro (04) púas fabricadas con dos hilos de alambre entrelazado, distancia entre grupos de cuatro (04) púas debe ser de mínimo 95 mm y máximo 135 mm (Medido desde la última púa hasta la primer púa de grupos consecutivos), las púas deben tener una longitud mínima de 10 mm y máximo de 15 mm.
B12: =VLOOKUP(ESPECIFICACIONES!D12,[1]ACTIV_EST!C:K,9,FALSE) -> 1.03. | C12: =VLOOKUP(ESPECIFICACIONES!D12,[1]ACTIV_EST!C:E,2,FALSE) -> M2 | D12: Cerca en tabla
D13: Ejecución de cerramientos provisionales y perimetrales para facilitar el control del predio y las labores de obra. El cerramiento deberá ser fácilmente desmontable para facilitar el ingreso de materiales.
D14: Los materiales sobrantes al momento de retirarlo, serán propiedad de la ENTIDAD.
D15: PROCEDIMIENTO DE EJECUCIÓN
D16: · Estudiar y aplicar normas distritales sobre manejo del espacio público.
D17: · Prever zonas de excavación y taludes
D18: · Estudiar alternativas de accesos vehiculares y peatonales.
D19: · Localizar accesos vehiculares y peatonales.
D20: · Realizar excavación manual para cimientos.
D21: · Fundir cimientos, armar base en mampostería y empotrar vara de clavo cada 3 metros.
D22: · Arriostrar las varas de clavo con perfil estructural calibre 19 en caso de necesidad.
D23: · Colocar las láminas trapes.
D24: · Instalar puertas peatonales.
D25: · Instalar puertas vehiculares desmontables
B26: =VLOOKUP(ESPECIFICACIONES!D26,[1]ACTIV_EST!C:K,9,FALSE) -> 1.04. | C26: =VLOOKUP(ESPECIFICACIONES!D26,[1]ACTIV_EST!C:E,2,FALSE) -> ML | D26: Cerca lamina base H: 2,25
D27: Ejecución de cerramientos provisionales y perimetrales para facilitar el control del predio y las labores de obra. El cerramiento deberá ser fácilmente desmontable para facilitar el ingreso de materiales.
D28: Los materiales sobrantes al momento de retirarlo, serán propiedad de la ENTIDAD.
D29: PROCEDIMIENTO DE EJECUCIÓN
D30: • Prever zonas de excavación y taludes
D31: • Estudiar alternativas de accesos vehiculares y peatonales.
D32: • Localizar accesos vehiculares y peatonales.
D33: • Realizar excavación manual para cimientos.
D34: • Fundir cimientos, armar base
D35: • Arriostrar perfil estructural
D36: • Colocar las láminas
D37: • Instalar puertas peatonales.
D38: • Instalar puertas vehiculares desmontables.
B39: =VLOOKUP(ESPECIFICACIONES!D39,[1]ACTIV_EST!C:K,9,FALSE) -> 1.05. | C39: =VLOOKUP(ESPECIFICACIONES!D39,[1]ACTIV_EST!C:E,2,FALSE) -> M3 | D39: Excavación Mecánica
D40: Comprende el retiro de toda la capa orgánica y vegetal, así como escombros, residuos, mezcla, etc. de la zona a intervenir demarcada en la localización arquitectónica del proyecto que se va a intervenir. Incluye el corte, carga y retiro de sobrantes.
D41: PROCEDIMIENTO DE EJECUCIÓN
...
