Workbook

Sheet ENERO
C2: DOCUMENTO EQUIVALENTE A LA | Y2: NUMERO | AG2: FECHA
C3: FACTURA DE VENTA | Y3: 1 | AG3: A | AJ3: M | AM3: D
C4: Para Personas Naturales No Comerciantes o Regimen Simplificado | AG4: 44957
C5: Decreto 522 de 2003, Articulo 3º
C7: INFORMACIÓN DE LA PERSONA NATURAL (Vendedor)
C8: Nombre | W8: CC | Z8: NIT | AC8: No. DE IDENTIFICACION | AN8: DV
C9: KATHERINE WILCHES CASTILLO | W9: X | Z9: - | AC9: 1014237211
C11: Dirección | T11: Teléfono | AG11: Ciudad
C12: CARRERA 113 Nº 83 A -42 | T12: 3164195997 | AG12: BOGOTA
C15: INFORMACIÓN DEL CONTRATANTE
C16: Nombre | W16: C.C. | Z16: NIT | AC16: No. DE IDENTIFICACION | AN16: DV
C17: E.S.E NUESTRA SEÑORA DEL CARMEN DE TABIO | Z17: X | AC17: 899.999.164 | AN17: 9
C19: Dirección | T19: Teléfono | AG19: Ciudad
C20: CALLE 3 N 3-87 | T20: 8647222 | AG20: TABIO
C23: CONCEPTO | AF23: VALOR
D26: PRESTACION DE SERVICIOS PROFESIONALES COMO JEFE DE ENFERMERIA DEL AREA DE URGENCIAS Y HOSPITALIZACION DE LA E.S.E HOSPITAL NUESTRA SEÑORA DEL CARMEN DE TABIO CUNDINAMARCA | AG26: 2900000
D33: DURANTE EL PERIODO DEL: | M33: 3 AL 31 DE ENERO DE 2023
D34: CONTRATO: | J34: 29 | O34: CDP: | S34: 25
V37: TOTAL | AG37: =AG26 -> 2900000
D38: FIRMA VENDEDOR O PRESTADOR DEL SERVICIO
D42: KATHERINE WILCHES CASTILLO
V43: NETO A PAGAR | AG43: =AG26 -> 2900000
D44: CEDULA: | H44: =AC9 -> 1014237211
D45: De: BOGOTA

Sheet FEBRERO
C2: DOCUMENTO EQUIVALENTE A LA | Y2: NUMERO | AG2: FECHA
C3: FACTURA DE VENTA | Y3: 2 | AG3: A | AJ3: M | AM3: D
C4: Para Personas Naturales No Comerciantes o Regimen Simplificado | AG4: 44985
C5: Decreto 522 de 2003, Articulo 3º
C7: INFORMACIÓN DE LA PERSONA NATURAL (Vendedor)
C8: Nombre | W8: CC | Z8: NIT | AC8: No. DE IDENTIFICACION | AN8: DV
C9: =ENERO!C9 -> KATHERINE WILCHES CASTILLO | W9: X | Z9: - | AC9: =ENERO!AC9 -> 1014237211
C11: Dirección | T11: Teléfono | AG11: Ciudad
C12: =ENERO!C12 -> CARRERA 113 Nº 83 A -42 | T12: =ENERO!T12 -> 3164195997 | AG12: =ENERO!AG12 -> BOGOTA
C15: INFORMACIÓN DEL CONTRATANTE
C16: Nombre | W16: C.C. | Z16: NIT | AC16: No. DE IDENTIFICACION | AN16: DV
C17: E.S.E NUESTRA SEÑORA DEL CARMEN DE TABIO | Z17: X | AC17: 899.999.164 | AN17: 9
C19: Dirección | T19: Teléfono | AG19: Ciudad
C20: CALLE 3 N 3-87 | T20: 8647222 | AG20: TABIO
C23: CONCEPTO | AF23: VALOR
D26: =ENERO!D26 -> PRESTACION DE SERVICIOS PROFESIONALES COMO JEFE DE ENFERMERIA DEL AREA DE URGENCIAS Y HOSPITALIZACION DE LA E.S.E HOSPITAL NUESTRA SEÑORA DEL CARMEN DE TABIO CUNDINAMARCA | AG26: =ENERO!AG26 -> 2900000
D32: DURANTE EL PERIODO DEL: | M32: 1 AL 28 DE FEBRERO DE 2023
D33: CONTRATO: | J33: =ENERO!J34 -> 29 | O33: CDP: | S33: =ENERO!S34 -> 25
V35: TOTAL | AG35: =AG26 -> 2900000
D36: FIRMA VENDEDOR O PRESTADOR DEL SERVICIO
D40: KATHERINE WILCHES CASTILLO
V41: NETO A PAGAR | AG41: =AG26 -> 2900000
D42: CEDULA: | H42: =ENERO!H44 -> 1014237211
D43: =ENERO!D45 -> De: BOGOTA

Sheet MARZO
C2: DOCUMENTO EQUIVALENTE A LA | Y2: NUMERO | AG2: FECHA
C3: FACTURA DE VENTA | Y3: 3 | AG3: A | AJ3: M | AM3: D
C4: Para Personas Naturales No Comerciantes o Regimen Simplificado | AG4: 45016
C5: Decreto 522 de 2003, Articulo 3º
C7: INFORMACIÓN DE LA PERSONA NATURAL (Vendedor)
C8: Nombre | W8: CC | Z8: NIT | AC8: No. DE IDENTIFICACION | AN8: DV
C9: =ENERO!C9 -> KATHERINE WILCHES CASTILLO | W9: X | Z9: - | AC9: =ENERO!AC9 -> 1014237211
C11: Dirección | T11: Teléfono | AG11: Ciudad
C12: =ENERO!C12 -> CARRERA 113 Nº 83 A -42 | T12: =ENERO!T12 -> 3164195997 | AG12: =ENERO!AG12 -> BOGOTA
C15: INFORMACIÓN DEL CONTRATANTE
C16: Nombre | W16: C.C. | Z16: NIT | AC16: No. DE IDENTIFICACION | AN16: DV
C17: E.S.E NUESTRA SEÑORA DEL CARMEN DE TABIO | Z17: X | AC17: 899.999.164 | AN17: 9
C19: Dirección | T19: Teléfono | AG19: Ciudad
C20: CALLE 3 N 3-87 | T20: 8647222 | AG20: TABIO
C23: CONCEPTO | AF23: VALOR
D26: =ENERO!D26 -> PRESTACION DE SERVICIOS PROFESIONALES COMO JEFE DE ENFERMERIA DEL AREA DE URGENCIAS Y HOSPITALIZACION DE LA E.S.E HOSPITAL NUESTRA SEÑORA DEL CARMEN DE TABIO CUNDINAMARCA | AG26: =ENERO!AG26 -> 2900000
D32: DURANTE EL PERIODO DEL: | M32: 1 AL 31 DE MARZO DE 2023
D33: CONTRATO: | J33: =ENERO!J34 -> 29 | O33: CDP: | S33: =ENERO!S34 -> 25
V35: TOTAL | AG35: =AG26 -> 2900000
D36: FIRMA VENDEDOR O PRESTADOR DEL SERVICIO
D40: KATHERINE WILCHES CASTILLO
V41: NETO A PAGAR | AG41: =AG26 -> 2900000
D42: CEDULA: | H42: =ENERO!H44 -> 1014237211
D43: =ENERO!D45 -> De: BOGOTA

Sheet ABRIL
C2: DOCUMENTO EQUIVALENTE A LA | Y2: NUMERO | AG2: FECHA
C3: FACTURA DE VENTA | Y3: 4 | AG3: A | AJ3: M | AM3: D
C4: Para Personas Naturales No Comerciantes o Regimen Simplificado | AG4: 45046
C5: Decreto 522 de 2003, Articulo 3º
C7: INFORMACIÓN DE LA PERSONA NATURAL (Vendedor)
C8: Nombre | W8: CC | Z8: NIT | AC8: No. DE IDENTIFICACION | AN8: DV
C9: =ENERO!C9 -> KATHERINE WILCHES CASTILLO | W9: X | Z9: - | AC9: =ENERO!AC9 -> 1014237211
C11: Dirección | T11: Teléfono | AG11: Ciudad
C12: =ENERO!C12 -> CARRERA 113 Nº 83 A -42 | T12: =ENERO!T12 -> 3164195997 | AG12: =ENERO!AG12 -> BOGOTA
C15: INFORMACIÓN DEL CONTRATANTE
C16: Nombre | W16: C.C. | Z16: NIT | AC16: No. DE IDENTIFICACION | AN16: DV
C17: E.S.E NUESTRA SEÑORA DEL CARMEN DE TABIO | Z17: X | AC17: 899.999.164 | AN17: 9
C19: Dirección | T19: Teléfono | AG19: Ciudad
C20: CALLE 3 N 3-87 | T20: 8647222 | AG20: TABIO
C23: CONCEPTO | AF23: VALOR
D26: =ENERO!D26 -> PRESTACION DE SERVICIOS PROFESIONALES COMO JEFE DE ENFERMERIA DEL AREA DE URGENCIAS Y HOSPITALIZACION DE LA E.S.E HOSPITAL NUESTRA SEÑORA DEL CARMEN DE TABIO CUNDINAMARCA | AG26: =ENERO!AG26 -> 2900000
D32: DURANTE EL PERIODO DEL: | M32: 1 AL 30 DE ABRIL DE 2023
D33: CONTRATO: | J33: =ENERO!J34 -> 29 | O33: CDP: | S33: 25 / 224
V35: TOTAL | AG35: =AG26 -> 2900000
D36: FIRMA VENDEDOR O PRESTADOR DEL SERVICIO
D40: KATHERINE WILCHES CASTILLO
V41: NETO A PAGAR | AG41: =AG26 -> 2900000
D42: CEDULA: | H42: =ENERO!H44 -> 1014237211
D43: =ENERO!D45 -> De: BOGOTA

Sheet MAYO
C2: DOCUMENTO EQUIVALENTE A LA | Y2: NUMERO | AG2: FECHA
C3: FACTURA DE VENTA | Y3: 10 | AG3: A | AJ3: M | AM3: D
C4: Para Personas Naturales No Comerciantes o Regimen Simplificado | AG4: 45230
C5: Decreto 522 de 2003, Articulo 3º
C7: INFORMACIÓN DE LA PERSONA NATURAL (Vendedor)
C8: Nombre | W8: CC | Z8: NIT | AC8: No. DE IDENTIFICACION | AN8: DV
C9: =ENERO!C9 -> KATHERINE WILCHES CASTILLO | W9: X | Z9: - | AC9: =ENERO!AC9 -> 1014237211
C11: Dirección | T11: Teléfono | AG11: Ciudad
C12: =ENERO!C12 -> CARRERA 113 Nº 83 A -42 | T12: =ENERO!T12 -> 3164195997 | AG12: =ENERO!AG12 -> BOGOTA
C15: INFORMACIÓN DEL CONTRATANTE
C16: Nombre | W16: C.C. | Z16: NIT | AC16: No. DE IDENTIFICACION | AN16: DV
C17: E.S.E NUESTRA SEÑORA DEL CARMEN DE TABIO | Z17: X | AC17: 899.999.164 | AN17: 9
C19: Dirección | T19: Teléfono | AG19: Ciudad
C20: CALLE 3 N 3-87 | T20: 8647222 | AG20: TABIO
C23: CONCEPTO | AF23: VALOR
D26: =ENERO!D26 -> PRESTACION DE SERVICIOS PROFESIONALES COMO JEFE DE ENFERMERIA DEL AREA DE URGENCIAS Y HOSPITALIZACION DE LA E.S.E HOSPITAL NUESTRA SEÑORA DEL CARMEN DE TABIO CUNDINAMARCA | AG26: =ENERO!AG26 -> 2900000
D32: DURANTE EL PERIODO DEL: | M32: 1 AL 31 DE OCTUBRE DE 2023
D33: CONTRATO: | J33: 181 | O33: CDP: | S33: 336 - 608
V35: TOTAL | AG35: =AG26 -> 2900000
D36: FIRMA VENDEDOR O PRESTADOR DEL SERVICIO
D40: KATHERINE WILCHES CASTILLO
V41: NETO A PAGAR | AG41: =AG26 -> 2900000
D42: CEDULA: | H42: =ENERO!H44 -> 1014237211
D43: =ENERO!D45 -> De: BOGOTA

Sheet JUNIO
C2: DOCUMENTO EQUIVALENTE A LA | Y2: NUMERO | AG2: FECHA
C3: FACTURA DE VENTA | Y3: 6 | AG3: A | AJ3: M | AM3: D
C4: Para Personas Naturales No Comerciantes o Regimen Simplificado | AG4: 45107
C5: Decreto 522 de 2003, Articulo 3º
C7: INFORMACIÓN DE LA PERSONA NATURAL (Vendedor)
C8: Nombre | W8: CC | Z8: NIT | AC8: No. DE IDENTIFICACION | AN8: DV
C9: =ENERO!C9 -> KATHERINE WILCHES CASTILLO | W9: X | Z9: - | AC9: =ENERO!AC9 -> 1014237211
C11: Dirección | T11: Teléfono | AG11: Ciudad
C12: =ENERO!C12 -> CARRERA 113 Nº 83 A -42 | T12: =ENERO!T12 -> 3164195997 | AG12: =ENERO!AG12 -> BOGOTA
C15: INFORMACIÓN DEL CONTRATANTE
C16: Nombre | W16: C.C. | Z16: NIT | AC16: No. DE IDENTIFICACION | AN16: DV
C17: E.S.E NUESTRA SEÑORA DEL CARMEN DE TABIO | Z17: X | AC17: 899.999.164 | AN17: 9
C19: Dirección | T19: Teléfono | AG19: Ciudad
C20: CALLE 3 N 3-87 | T20: 8647222 | AG20: TABIO
C23: CONCEPTO | AF23: VALOR
D26: =ENERO!D26 -> PRESTACION DE SERVICIOS PROFESIONALES COMO JEFE DE ENFERMERIA DEL AREA DE URGENCIAS Y HOSPITALIZACION DE LA E.S.E HOSPITAL NUESTRA SEÑORA DEL CARMEN DE TABIO CUNDINAMARCA | AG26: =ENERO!AG26 -> 2900000
D32: DURANTE EL PERIODO DEL: | M32: X AL XX DE JUNIO DE 2023
D33: CONTRATO: | J33: =ENERO!J34 -> 29 | O33: CDP: | S33: =ENERO!S34 -> 25
V35: TOTAL | AG35: =AG26 -> 2900000
D36: FIRMA VENDEDOR O PRESTADOR DEL SERVICIO
D41: =ENERO!D43 -> 0 | V41: NETO A PAGAR | AG41: =AG26 -> 2900000
D42: CEDULA: | H42: =ENERO!H44 -> 1014237211
D43: =ENERO!D45 -> De: BOGOTA
