Workbook
Name \a: #REF!
Name \s: #REF!
Name \X: [0]!err
Name \Z: [0]!err
Name _________________________________________________AFC1: [1]INV!$A$25:$D$28
Name _________________________________________________AFC3: [1]INV!$F$25:$I$28
Name _________________________________________________AFC5: [1]INV!$K$25:$N$28
Name _________________________________________________BGC1: [1]INV!$A$5:$D$8
Name _________________________________________________BGC3: [1]INV!$F$5:$I$8
Name _________________________________________________BGC5: [1]INV!$K$5:$N$8
Name _________________________________________________CAC1: [1]INV!$A$19:$D$22
Name _________________________________________________CAC3: [1]INV!$F$19:$I$22
Name _________________________________________________CAC5: [1]INV!$K$19:$N$22
Name _________________________________________________i1: #REF!
Name _________________________________________________SBC1: [1]INV!$A$12:$D$15
Name _________________________________________________SBC3: [1]INV!$F$12:$I$15
Name _________________________________________________SBC5: [1]INV!$K$12:$N$15
Name ________________________________________________AFC1: [1]INV!$A$25:$D$28
Name ________________________________________________AFC3: [1]INV!$F$25:$I$28
Name ________________________________________________AFC5: [1]INV!$K$25:$N$28
Name ________________________________________________BGC1: [1]INV!$A$5:$D$8
Name ________________________________________________BGC3: [1]INV!$F$5:$I$8
Name ________________________________________________BGC5: [1]INV!$K$5:$N$8
Name ________________________________________________CAC1: [1]INV!$A$19:$D$22
Name ________________________________________________CAC3: [1]INV!$F$19:$I$22
Name ________________________________________________CAC5: [1]INV!$K$19:$N$22
Name ________________________________________________i1: #REF!
Name ________________________________________________SBC1: [1]INV!$A$12:$D$15
Name ________________________________________________SBC3: [1]INV!$F$12:$I$15
Name ________________________________________________SBC5: [1]INV!$K$12:$N$15
Name _______________________________________________AFC1: [1]INV!$A$25:$D$28
Name _______________________________________________AFC3: [1]INV!$F$25:$I$28
Name _______________________________________________AFC5: [1]INV!$K$25:$N$28
Name _______________________________________________BGC1: [1]INV!$A$5:$D$8
Name _______________________________________________BGC3: [1]INV!$F$5:$I$8
Name _______________________________________________BGC5: [1]INV!$K$5:$N$8
Name _______________________________________________CAC1: [1]INV!$A$19:$D$22
Name _______________________________________________CAC3: [1]INV!$F$19:$I$22
Name _______________________________________________CAC5: [1]INV!$K$19:$N$22
Name _______________________________________________i1: #REF!
Name _______________________________________________SBC1: [1]INV!$A$12:$D$15
Name _______________________________________________SBC3: [1]INV!$F$12:$I$15
Name _______________________________________________SBC5: [1]INV!$K$12:$N$15
Name ______________________________________________AFC1: [1]INV!$A$25:$D$28
Name ______________________________________________AFC3: [1]INV!$F$25:$I$28
Name ______________________________________________AFC5: [1]INV!$K$25:$N$28
Name ______________________________________________BGC1: [1]INV!$A$5:$D$8
Name ______________________________________________BGC3: [1]INV!$F$5:$I$8
Name ______________________________________________BGC5: [1]INV!$K$5:$N$8
Name ______________________________________________CAC1: [1]INV!$A$19:$D$22
Name ______________________________________________CAC3: [1]INV!$F$19:$I$22
Name ______________________________________________CAC5: [1]INV!$K$19:$N$22
Name ______________________________________________i1: #REF!
Name ______________________________________________SBC1: [1]INV!$A$12:$D$15
Name ______________________________________________SBC3: [1]INV!$F$12:$I$15
Name ______________________________________________SBC5: [1]INV!$K$12:$N$15
Name _____________________________________________AFC1: [1]INV!$A$25:$D$28
Name _____________________________________________AFC3: [1]INV!$F$25:$I$28
Name _____________________________________________AFC5: [1]INV!$K$25:$N$28
Name _____________________________________________BGC1: [1]INV!$A$5:$D$8

Sheet TRANSPORTE
B1: INSTITUTO NACIONAL DE VÍAS SUBDIRECCIÓN DE PLANIFICACIÓN DE INFRAESTRUCTURA ANÁLISIS DE PRECIOS UNITARIOS DE REFERENCIA | G1: OBSERVACIONES
B4: LISTADO DE TRANSPORTE
B5: # | C5: Código | D5: unidad | E5: Insumo | F5: Precio ($ COP)
B6: 1 | C6: T0100002 | D6: kg-km | E6: Transporte de acero | F6: 0.72605358
B7: 2 | C7: T0010001 | D7: t-km | E7: Transporte de acero | F7: 726.05358
B8: 3 | C8: T0010011 | D8: m3-km | E8: Transporte de adoquín e=8cm | F8: 899.69223
B9: 4 | C9: T0010400 | D9: m3-km | E9: Transporte de agregados | F9: 1300
B10: 5 | C10: T0010004 | D10: m3-km | E10: Transporte de arena | F10: 1300
B11: 6 | C11: T0010053 | D11: m3-km | E11: Transporte de barrera de seguridad en concreto | F11: 1300
B12: 7 | C12: T0010550 | D12: kg-km | E12: Transporte de cal | F12: 1.1720976
B13: 8 | C13: T0015011 | D13: kg-km | E13: Transporte de cemento asfáltico | F13: 1.1720976
B14: 9 | C14: T0010500 | D14: kg-km | E14: Transporte de cemento hidráulico | F14: 1.1720976
B15: 10 | C15: T0010009 | D15: m3-km | E15: Transporte de concreto | F15: 1300
B16: 11 | C16: T0010120 | D16: m3-km | E16: Transporte de emulsión asfáltica | F16: 1.3823352
B17: 12 | C17: T0010160 | D17: kg-km | E17: Transporte de estructuras metálicas | F17: 2.3173982
... B40: 35 | C40: T0010016 | D40: m3-km | E40: Transporte tierra abonada | F40: 1300

Sheet Distancia Fuentes Materiales
B6: DISTANCIAS DE FUENTE DE MATERIALES
B8: MATERIAL | C8: UNIDAD | D8: DISTANCIA | E8: OBSERVACIONES
B9: Material de afirmado | C9: km | D9: 10
B10: Transporte de material de Sub Base CBR=40% | C10: km | D10: 33 | E10: PETRAE S.A.S
B11: Terraplén (con material seleccionado) | C11: km | D11: 10
B12: Terraplén (Material de la zona) | C12: km | D12: 10
B13: Recebo para relleno | C13: km | D13: =+D10 -> 33 | E13: =+E10 -> PETRAE S.A.S
B14: Agregado Triturado | C14: km | D14: =+D10 -> 33 | E14: =+E10 -> PETRAE S.A.S
B15: Arena Lavada | C15: km | D15: =+D10 -> 33 | E15: =+E10 -> PETRAE S.A.S
B16: Agregado Piedra Rajón | C16: km | D16: =+D10 -> 33 | E16: =+E10 -> PETRAE S.A.S
B17: Material de piedra para gavión | C17: km | D17: =+D10 -> 33 | E17: =+E10 -> PETRAE S.A.S
B18: Acero de refuerzo de FY = 4.200 Kg/cm 2 | C18: km | D18: 18 | E18: SANTANDER DE QUILICHAO
B19: Tubo de Concreto de 900 mm | C19: km | D19: =+D18 -> 18 | E19: =+E18 -> SANTANDER DE QUILICHAO
B20: Botadero | C20: km | D20: 5
B21: Transporte Fluvial | C21: Gl | D21: 10

Sheet Materiales
B1: INSTITUTO NACIONAL DE VÍAS SUBDIRECCIÓN DE PLANIFICACIÓN DE INFRAESTRUCTURA ANÁLISIS DE PRECIOS UNITARIOS DE REFERENCIA
B4: LISTADO DE MATERIALES
B5: # | C5: Código | D5: unidad | E5: Insumo | F5: Precio ($ COP) | G5: CATEGORÍA
B6: 1 | C6: B0010045 | D6: kg | E6: Abrasivo para sandblasting (arena sílica, de cuarzo y/o abrasivo sintético) | F6: 4059.4431 | G6: Agregados
B7: 2 | C7: B0020001 | D7: kg | E7: Acero A-36 para estructura metálica | F7: 5828.8219 | G7: Acero, alambres, soldadura y mallas metálicas
B8: 3 | C8: B0020004 | D8: kg | E8: Acero A-37 | F8: 5828.8219 | G8: Acero, alambres, soldadura y mallas metálicas
B9: 4 | C9: B0020002 | D9: kg | E9: Acero A-40 | F9: 5642.1175 | G9: Acero, alambres, soldadura y mallas metálicas
B10: 5 | C10: B0020003 | D10: kg | E10: Acero de refuerzo PDR-60, Fy: 4200 kg/cm2 | F10: 5500 | G10: Acero, alambres, soldadura y mallas metálicas
B11: 6 | C11: B0014905 | D11: kg | E11: Adhesivo bituminoso para tacha | F11: 59500 | G11: Aditivos y adhesivos
B12: 7 | C12: B0014896 | D12: kg | E12: Adhesivo epoxico para pega de concreto endurecido y concreto fresco | F12: 55 | G12: Aditivos y adhesivos
B13: 8 | C13: B003003 | D13: kg | E13: Aditivo acelerante de fraguado para concreto hidraulico | F13: 12500 | G13: Aditivos y adhesivos
B14: 9 | C14: B0014899 | D14: kg | E14: Aditivo acuoso acelerante de fraguado y resistencia del concreto | F14: 7500 | G14: Aditivos y adhesivos
B15: 10 | C15: B0030001 | D15: kg | E15: Aditivo curador para pilotes | F15: 44030 | G15: Aditivos y adhesivos
B16: 11 | C16: B003004 | D16: kg | E16: Aditivo inclusor de aire para concreto | F16: 590 | G16: Aditivos y adhesivos
B17: 12 | C17: B003007 | D17: kg | E17: Aditivo para modificar la reología | F17: 6456 | G17: Aditivos y adhesivos
... B25: 20 | C25: B0053102 | D25: m3 | E25: Agregado fino tamaño No. 2 - NTC 2240 | F25: 37800 | G25: Agregados
B26: 21 | C26: B0053103 | D26: m3 | E26: Agregado grueso (grava, grava triturada y/o roca triturada) | F26: =55000*1.19 -> 65450 | G26: Agregados
B27: 22 | C27: B0053193 | D27: m3 | E27: Agregado grueso para mezcla asfáltica (trituración de roca y/o de grava) | F27: 37888 | G27: Agregados
B28: 23 | C28: B0053100 | D28: m3 | E28: Agregado para concreto hidráulico | F28: 60892 | G28: Agregados
B29: 24 | C29: B0053160 | D29: m3 | E29: Agregado para lechada asfáltica gradación tipo LA 10 | F29: 62626 | G29: Agregados
B30: 25 | C30: B0053150 | D30: m3 | E30: Agregado para lechada asfáltica gradación tipo LA 13 | F30: 94720.34 | G30: Agregados
B31: 26 | C31: B0053180 | D31: m3 | E31: Agregado para lechada asfáltica gradación tipo LA 3 | F31: 94720.34 | G31: Agregados
B32: 27 | C32: B0053170 | D32: m3 | E32: Agregado para lechada asfáltica gradación tipo LA 5 | F32: 94720.34 | G32: Agregados
B33: 28 | C33: B0053111 | D33: m3 | E33: Agregado para tratamiento superficial doble tipo TSD-10 | F33: 94720.34 | G33: Agregados
B34: 29 | C34: B0053112 | D34: m3 | E34: Agregado para tratamiento superficial doble tipo TSD-25 | F34: 94720.34 | G34: Agregados
B35: 30 | C35: B0053121 | D35: m3 | E35: Agregado para tratamiento superficial tipo TSS-13 / TSD-13 | F35: 94720.34 | G35: Agregados
B36: 31 | C36: B0053122 | D36: m3 | E36: Agregado para tratamiento superficial tipo TSS-19/TSD-19 | F36: 94720.34 | G36: Agregados
B37: 32 | C37: B0053194 | D37: m3 | E37: Agregado pétreo para mezcla asfáltica tipo MAF-19 | F37: 81188.863 | G37: Agregados
B38: 33 | C38: B0053195 | D38: m3 | E38: Agregado pétreo para mezcla asfáltica tipo MAF-25 | F38: 81188.863 | G38: Agregados
... B62: 57 | C62: B009111 | D62: m3 | E62: Arena de trituración y/o arena natural | F62: 56120.75 | G62: Agregados
B63: 58 | C63: B0093350 | D63: m3 | E63: Agregado fino | F63: =33000*1.19 -> 39270 | G63: Agregados
B64: 59 | C64: B0093330 | D64: m3 | E64: Arena media de rio para capa de soporte | F64: 55109.444 | G64: Agregados
B65: 60 | C65: B0013281 | D65: m | E65: Armadura de acero galvanizado A-663 | F65: 5828.8219 | G65: Acero, alambres, soldadura y mallas metálicas
B66: 61 | C66: B008010 | D66: gl | E66: Asfalto líquido MC 70 | F66: 17756.628 | G66: Cementantes y bituminosos
B67: 62 | C67: B008011 | D67: gl | E67: Asfalto líquido MC-30 | F67: 16142.389 | G67: Cementantes y bituminosos
B68: 63 | C68: B008009 | D68: gl | E68: Asfalto líquido RC 250 | F68: 16142.389 | G68: Cementantes y bituminosos
B69: 64 | C69: B0010090 | D69: u | E69: Baño portátil sencillo | F69: 3988359.1 | G69: Independiente
B70: 65 | C70: B0013381 | D70: kg | E70: Barras de amarre corrugadas fy= 420 MPa | F70: 4629.6929 | G70: Acero, alambres, soldadura y mallas metálicas
B71: 66 | C71: B0013380 | D71: kg | E71: Barras de transferencia de carga (1'') | F71: 4629.6929 | G71: Acero, alambres, soldadura y mallas metálicas
B72: 67 | C72: B0013390 | D72: kg | E72: Barras de unión de 1/2" | F72: 4629.6929 | G72: Acero, alambres, soldadura y mallas metálicas
...

Sheet Equipos
B1: INSTITUTO NACIONAL DE VÍAS SUBDIRECCIÓN DE PLANIFICACIÓN DE INFRAESTRUCTURA ANÁLISIS DE PRECIOS UNITARIOS DE REFERENCIA | H1: OBSERVACIONES
B4: LISTADO DE EQUIPOS
B5: # | C5: Código | D5: unidad | E5: Insumo | F5: CLASIFICACIÓN | G5: Precio ($ COP)
B6: 1 | C6: C0010011 | D6: u | E6: Andamiaje para aplicar la carga (Equipo sustituto de la tara) | F6: Mixto - Herramienta menor | G6: 63714.724
B7: 2 | C7: C0010010 | D7: h | E7: Aspersor manual de 20 litros | F7: Mixto - Herramienta menor | G7: 3397
B8: 3 | C8: C0010015 | D8: h | E8: Astilladora de madera para triturar, potencia aproximada 75 HP | F8: Mixto - Herramienta menor | G8: 82709.325
B9: 4 | C9: C0010600 | D9: h | E9: Motobomba de concreto | F9: Concreto y mortero | G9: 78657.923
B10: 5 | C10: C0010020 | D10: h | E10: Barredora de succión, almacenamiento aproximado 6 m3 | F10: Mixto - Herramienta menor | G10: 122335.37
B11: 6 | C11: C0010030 | D11: h | E11: Bomba de concreto, producción: 30 m3/h- 50 m3/h | F11: Concreto y mortero | G11: 64055.005
B12: 7 | C12: C0010040 | D12: h | E12: Bomba de inyección de lechada | F12: Concreto y mortero | G12: 64052.018
B13: 8 | C13: C0010034 | D13: h | E13: Bomba eléctrica para accionar la celda especial de carga | F13: Mixto - Herramienta menor | G13: 64257.481
B14: 9 | C14: C0010050 | D14: h | E14: Bomba para gato de tensionamiento (fuerza máxima 300 toneladas) | F14: Mixto - Herramienta menor | G14: 79501.781
B15: 10 | C15: C0010053 | D15: h | E15: Buldozer potencia al volante de 305 HP, motor de 2100 RPM, longitud de hoja 6,39m | F15: Movimiento de tierra | G15: 181000
B16: 11 | C16: C0010052 | D16: h | E16: Buldozer, potencia al volante de 140 HP, motor de 2200 RPM, longitud de hoja 4,80m | F16: Movimiento de tierra | G16: 172248.75
B17: 12 | C17: C0010051 | D17: h | E17: Buldozer, Potencia al volante de 80 HP, motor de 2400 RPM, longitud de hoja 3,99m | F17: Movimiento de tierra | G17: 150717.66
... B137: 132 | C137: C0010959 | D137: h | E137: Volqueta 7 m3 | F137: Transporte – Acarreo | G137: 67284.67

Sheet Mano de Obra
A4: MANO DE OBRA | B4: UNIDAD | C4: COSTO
A5: Oficial | B5: día | C5: =+C6*2 -> 86708
A6: Obrero | B6: día | C6: =ROUND(1300606/30,0) -> 43354

Sheet Rendimientos
A2: RENDIMIENTOS DE REFERENCIA
A6: OBRAS DE MEJORAMIENTO
A7: ACTIVIDAD | E7: PERSONAL | H7: RENDIMIENTO
A8: ALCANTARILLA | E8: 1 OFICIAL, 5 AYUDANTES | H8: 12 días X Alcantarilla
A9: PLACA HUELLA | E9: 2 OFICIAL, 8 AYUDANTES | H9: 45 ml / semana
A10: MURO EN GAVIÓN | E10: 1 OFICIAL, 5 AYUDANTES | H10: 40 m3 / semana
A11: BOX-CULVERT 1 X 2 | E11: 2 OFICIALES, 4 AYUDANTES | H11: 3 meses
A12: CUNETAS | E12: 2 OFICIAL, 6 AYUDANTES | H12: 200 ml / semana
A15: OBRAS DE MANTENIMIENTO
A16: ACTIVIDAD | E16: PERSONAL | H16: RENDIMIENTO
A17: LIMPIEZA DE ALCANTARILLAS | E17: 2 AYUDANTES | H17: 3 días X Alcantarilla
A18: ROCERÍA | E18: 2 AYUDANTES | H18: 1000 ml / Dos carriles
A21: Nota: Los rendimientos indicados provienen de la ejecución de los convenios solidarios con OAC, que el INVIAS actualmente tiene en ejecución.

Sheet Costos Admon
B5: COSTOS DE ADMINISTRACIÓN DE REFERENCIA
B7: ÍTEM | E7: MESES | G7: 3
B8: 1 | C8: PERSONAL TÉCNICO Y ADMINISTRATIVO
B9: 1.1 | C9: Residente de Obra (CPS) | D9: Mes | E9: 3 | F9: 3500000 | G9: =+F9*E9 -> 10500000
B10: 1.2 | C10: Inspector SISO (CPS) | D10: Mes | E10: 0 | F10: 2320000 | G10: =+F10*E10 -> 0
B11: 1.3 | C11: Contador Público (CPS) | D11: Mes | E11: 1 | F11: 2800000 | G11: =+F11*E11 -> 2800000
B12: 1.4 | C12: Maestro de obra (Nómina) | D12: Mes | E12: =+$G$7 -> 3 | F12: 2320000 | G12: =+F12*E12 -> 6960000 | I12: =+F12+1444469 -> 3764469 | J12: =+F12/24 -> 96666.667
B13: 1.4.1 | C13: Carga Prestacional Maestro de Obra | D13: Mes | E13: 3 | F13: 1517765 | G13: =+F13*E13 -> 4553295 | I13: =+I12/24 -> 156852.88
B14: SUBTOTAL | G14: =+SUM(G9:G13) -> 24813295
B15: 2 | C15: SEGURIDAD INDUSTRIAL Y DOTACIÓN
B16: 2.1 | C16: Casco Industrial con certificación ansi con rache para obrero | D16: Unidad | E16: 7 | F16: 17850 | G16: =+F16*E16 -> 124950
B17: 2.2 | C17: Bota en caucho punta de acero para obrero | D17: Unidad | E17: 7 | F17: 63070 | G17: =+F17*E17 -> 441490
B18: 2.3 | C18: Gafa industrial unilente clara protectora | D18: Unidad | E18: 7 | F18: 6545 | G18: =+F18*E18 -> 45815
B19: 2.4 | C19: Guante de Carnaza corto reforzado | D19: Unidad | E19: =+E16*2 -> 14 | F19: 7735 | G19: =+F19*E19 -> 108290
B20: 2.5 | C20: Guante baqueta corto reforzado | D20: Unidad | E20: =+E16*2 -> 14 | F20: 7140 | G20: =+F20*E20 -> 99960
B21: 2.6 | C21: Peto Carnaza | D21: Unidad | E21: 1 | F21: 26180 | G21: =+F21*E21 -> 26180
B22: 2.7 | C22: Careta para guadañar | D22: Unidad | E22: 1 | F22: 30345 | G22: =+E22*F22 -> 30345
B23: 2.8 | C23: Tapaoidos de inserción siliconado | D23: Unidad | E23: 14 | F23: 2975 | G23: =+F23*E23 -> 41650
B24: 2.9 | C24: Botiquín Tipo A | D24: Unidad | E24: 1 | F24: 70000 | G24: =+F24*E24 -> 70000
B25: 2.10 | C25: Uniforme | D25: Unidad | E25: 7 | F25: 140000 | G25: =+F25*E25 -> 980000
B26: SUBTOTAL | G26: =+SUM(G16:G25) -> 1968680
B27: 3 | C27: MEDIDAS AMBIENTALES
B28: 3.1 | C28: Tela polipropileno para cerramiento H=2,10 M | D28: ML | E28: 30 | F28: 6700 | G28: =+F28*E28 -> 201000
B29: 3.2 | C29: Plástico negro Cal. 6 ancho 4m para cubrimiento de agregados | D29: ML | E29: 40 | F29: 7200 | G29: =+F29*E29 -> 288000
B30: 3.3 | C30: Cinta de demarcación L=500 M | D30: UND | E30: 2 | F30: 47000 | G30: =+F30*E30 -> 94000
B31: 3.4 | C31: Cono de señalización en Plástico h=70 cm reforzado | D31: UND | E31: 2 | F31: 50000 | G31: =+F31*E31 -> 100000
B32: 3.5 | C32: Paleta de señalización PARE-SIGA | D32: UND | E32: 2 | F32: 30000 | G32: =+F32*E32 -> 60000
B33: 3.6 | C33: Caneca Plástica 55 gal para residuos | D33: UND | E33: 3 | F33: 70000 | G33: =+F33*E33 -> 210000
B34: SUBTOTAL | G34: =+SUM(G28:G33) -> 953000
B35: 4 | C35: GASTOS BANCARIOS
B36: 4.1 | C36: Gravámenes financieros 4*1000 | D36: Global | E36: 1 | F36: 541258 | G36: =+E36*F36 -> 541258
B37: 4.2 | C37: Chequeras (100 cheques) o token | D37: Global | E37: 2 | F37: 350000 | G37: =+F37*E37 -> 700000
B38: SUBTOTAL | G38: =+SUM(G36:G37) -> 1241258
B39: 5 | C39: OTROS COSTOS
B40: 5.1 | C40: Ensayos de Laboratorio | D40: Unidad | E40: 20 | F40: 35000 | G40: =+E40*F40 -> 700000
B41: 5.2 | C41: Valla (1x2) | D41: Global | E41: 1 | F41: 350000 | G41: =+F41*E41 -> 350000
B42: 5.3 | C42: Revisión y/o Ajuste de Estudios y Diseños | D42: Global | E42: 1 | F42: 6500000 | G42: =+F42*E42 -> 6500000
B43: 5.4 | C43: Topografía | D43: Mes | E43: 2 | F43: 1500000 | G43: =+F43*E43 -> 3000000
B44: 5.5 | C44: Bodega | D44: Mes | E44: 2 | F44: 200000 | G44: =+F44*E44 -> 400000
B45: 5.6 | C45: Exámenes de ingreso personal nómina | D45: Global | E45: =+E16+4 -> 11 | F45: 60000 | G45: =+F45*E45 -> 660000
...

Sheet Alcance Convenio
A4: ALCANCE DEL CONVENIO SOLIDARIO
A6: DEPARTAMENTO | B6: MUNICIPIO | C6: NOMBRE DEL ORGANISMO DE ACCIÓN COMUNAL | D6: LONGITUD CORREDOR (km) | E6: MANTENIMIENTO RUTINARIO | G6: MEJORAMIENTO
E7: LIMPIEZA DE ALCANTARILLAS (UND) | F7: ROCERÍA (HA) | G7: PLACA HUELLA (ml) | H7: ALCANTARILLAS (UND) | I7: BOX-CULVERT 1X1 (UND) | J7: BOX-CULVERT 1X2 (UND) | K7: MUROS EN GAVIONES (UND) | L7: CUNETAS (ml)
A8: CAUCA | B8: SANTANDER DE QUILICHAO | C8: JUNTA DE ACCION COMUNAL DE LA VEREDA DE LA PALOMERA | D8: 0.29 | E8: 0 | F8: 0 | G8: 165 | H8: 2 | I8: 0 | J8: 0 | K8: 0 | L8: 0

Sheet Presupuesto
A4: PRESUPUESTO ESTIMADO DE REFERENCIA
A5: =+CONCATENATE("AUNAR ESFUERZOS ENTRE EL INSTITUTO NACIONAL DE VIAS Y LA ",'Alcance Convenio'!C8," DEL MUNICIPIO DE ",'Alcance Convenio'!B8," EN EL DEPARTAMENTO DE CAUCA PARA EL MEJORAMIENTO VIAL EN EL MARCO DEL PROGRAMA CAMINOS COMUNITARIOS DE LA PAZ TOTAL. ") -> AUNAR ESFUERZOS ENTRE EL INSTITUTO NACIONAL DE VIAS Y LA JUNTA DE ACCION COMUNAL DE LA VEREDA DE LA PALOMERA DEL MUNICIPIO DE SANTANDER DE QUILICHAO EN EL DEPARTAMENTO DE CAUCA PARA EL MEJORAMIENTO VIAL EN EL MARCO DEL PROGRAMA CAMINOS COMUNITARIOS DE LA PAZ TOTAL.
A6: DEPARTAMENTO | C6: MUNICIPIO | E6: NOMBRE DEL ORGANISMO DE ACCIÓN COMUNAL | G6: LONGITUD DEL CORREDOR (Km) | I6: DIRECCIÓN TERRITORIAL | J6: FECHA ELABORACIÓN
A7: CAUCA | C7: =+'Alcance Convenio'!B8 -> SANTANDER DE QUILICHAO | E7: =+'Alcance Convenio'!C8 -> JUNTA DE ACCION COMUNAL DE LA VEREDA DE LA PALOMERA | G7: =+'Alcance Convenio'!D8 -> 0.29 | I7: CAUCA | J7: =+TODAY() -> 45225
A8: ACTIVIDADES DE MEJORAMIENTO
A9: No | B9: ÍTEM DE PAGO | C9: ESPECIFICACIONES | E9: DESCRIPCIÓN | G9: UNID | H9: CANTIDAD | I9: VALOR UNITARIO | J9: VALOR TOTAL
C10: GENERAL 2013 | D10: PARTICULAR
A12: SECCIÓN 1 - ACTIVIDADES DE MANTENIMIENTO
A13: LIMPIEZA OBRAS MENORES DE DRENAJE
A14: 1 | B14: 800.1P | C14: 800-13 | D14: PART | E14: Limpieza a mano de alcantarillas de 600mm a 900mm | G14: ml | H14: =TRUNC('Memoria Mantenimiento'!D15,2) -> 0 | I14: =ROUND('800.1P'!N78,0) -> 64271 | J14: =ROUND(H14*I14,0) -> 0
A15: SUB-TOTAL | J15: =SUM(J14) -> 0
A16: DESMONTE Y LIMPIEZA DE ZONAS NO BOSCOSAS
A17: 2 | B17: 200.2 | C17: 200-13 | E17: Desmonte y limpieza de zonas no boscosas | G17: Ha | H17: =TRUNC('Memoria Mantenimiento'!G22,2) -> 0 | I17: =ROUND('200.2'!N78,0) -> 178125 | J17: =ROUND(H17*I17,0) -> 0
A18: SUB-TOTAL | J18: =SUM(J17) -> 0
A19: SECCIÓN 2 - ACTIVIDADES DE MEJORAMIENTO
A20: CONSTRUCCIÓN PLACA HUELLA
A21: 3 | B21: 600.1.1 | C21: 600-13 | E21: Excavaciones varias sin Clasificar | G21: M3 | H21: =TRUNC('Memoria Placa Huella'!E22,2) -> 94.77 | I21: =+ROUND('600.1.1'!N78,0) -> 23590 | J21: =ROUND(H21*I21,0) -> 2235624
A22: 4 | B22: 320.3 | C22: 320-13 | E22: Subbase Granular Clase C | G22: M3 | H22: =TRUNC('Memoria Placa Huella'!E20,2) -> 124.2 | I22: =+ROUND('320.3.1'!N78,0) -> 139142 | J22: =ROUND(H22*I22,0) -> 17281436
A23: 5 | B23: 630.1.4.1 | C23: 630-13 | E23: Concreto reforzado resistencia 21 MPA (D) - mezcla in situ | G23: M3 | H23: =TRUNC('Memoria Placa Huella'!E17,2) -> 81.75 | I23: =+ROUND('630.1.4.1'!N78,0) -> 644646 | J23: =ROUND(H23*I23,0) -> 52699811
A24: 6 | B24: 630.1.7 | C24: 630-13 | E24: Concreto Ciclópeo Resistencia 14MPa (G) | G24: M3 | H24: =TRUNC('Memoria Placa Huella'!E21,2) -> 21.48 | I24: =+ROUND('630.1.7'!N78,0) -> 370259 | J24: =ROUND(H24*I24,0) -> 7953163 | L24: ML PLACA
A25: 7 | B25: 640.1 | C25: 640-13 | E25: Acero de refuerzo de FY = 4.200 Kg/cm 2 (60.000 PSI) | G25: KG | H25: =TRUNC('Memoria Placa Huella'!E19,2) -> 4220.52 | I25: =+ROUND('640.1'!N78,0) -> 7013 | J25: =ROUND(H25*I25,0) -> 29598507
A26: SUB-TOTAL | J26: =SUM(J21:K25) -> 109768541 | L26: =+J26/'Memoria Placa Huella'!C6 -> 665263.88
A27: CONSTRUCCIÓN DE ALCANTARILLAS
A28: =A25+1 -> 8 | B28: 600.1.1 | C28: 600-13 | E28: Excavaciones Varias sin Clasificar | G28: M3 | H28: =+TRUNC('Alcan Tipo I '!G14+'Alcan Tipo II'!G14+'Alcan Tipo III'!G14,2) -> 87 | I28: =+ROUND('600.1.1'!N78,0) -> 23590 | J28: =ROUND(H28*I28,0) -> 2052330
A29: =A28+1 -> 9 | B29: 600.2.1 | C29: 600-13 | E29: Excavaciones en roca en seco | G29: M3 | H29: =+TRUNC('Alcan Tipo I '!G15+'Alcan Tipo II'!G15+'Alcan Tipo III'!G15,2) -> 15.3 | I29: =+ROUND('600.2.1'!N78,0) -> 51385 | J29: =ROUND(H29*I29,0) -> 786191
A30: =A29+1 -> 10 | B30: 201.7 | C30: 201-13 | E30: Demolición de Estructuras | G30: M3 | H30: =+TRUNC('Alcan Tipo I '!E94+'Alcan Tipo II'!E92+'Alcan Tipo III'!E93,2) -> 7.16 | I30: =+ROUND('201.7'!N78,0) -> 167468 | J30: =ROUND(H30*I30,0) -> 1199071
A31: =+A30+1 -> 11 | B31: 630.1.6 | C31: 630-13 | E31: Concreto reforzado resistencia 14 Mpa (F) - mezcla in situ | G31: M3 | H31: =+TRUNC('Alcan Tipo I '!G18+'Alcan Tipo II'!G18+'Alcan Tipo III'!G18,2) -> 0.9 | I31: =+ROUND('630.1.6'!N78,0) -> 465805 | J31: =ROUND(H31*I31,0) -> 419225
A32: =+A31+1 -> 12 | B32: 630.1.4.1 | C32: 630-13 | E32: Concreto reforzado resistencia 21 MPa (D) - mezcla in situ | G32: M3 | H32: =+TRUNC('Alcan Tipo I '!G17+'Alcan Tipo II'!G17+'Alcan Tipo III'!G17,2) -> 19.9 | I32: =+ROUND('630.1.4.1'!N78,0) -> 644646 | J32: =ROUND(H32*I32,0) -> 12828455
A33: =+A32+1 -> 13 | B33: 640.1 | C33: 640-13 | E33: Acero de Refuerzo Fy 4200 Mpa | G33: KG | H33: =+TRUNC('Alcan Tipo I '!G20+'Alcan Tipo II'!G20+'Alcan Tipo III'!G20,2) -> 1210.3 | I33: =+ROUND('640.1'!N78,0) -> 7013 | J33: =ROUND(H33*I33,0) -> 8487834
A34: =+A33+1 -> 14 | B34: 610.2 | C34: 610-13 | E34: Relleno para Estructuras con Recebo | G34: M3 | H34: =+TRUNC('Alcan Tipo I '!G16+'Alcan Tipo II'!G16+'Alcan Tipo III'!G16,2) -> 45.9 | I34: =+ROUND('610.2'!M84,0) -> 131214 | J34: =ROUND(H34*I34,0) -> 6022723
A35: =+A34+1 -> 15 | B35: 661.3 | C35: 661-13 | E35: Tubería de Concreto Reforzado 21 Mpa de 900 mm de diámetro interior | G35: M | H35: =+TRUNC('Alcan Tipo I '!G19+'Alcan Tipo II'!G19+'Alcan Tipo III'!G19,2) -> 10 | I35: =+ROUND('661.3'!N78,0) -> 861266 | J35: =ROUND(H35*I35,0) -> 8612660 | L35: ALC X UND
A36: 16 | B36: 610.1P | C36: 610-13 | D36: X | E36: Relleno para Estructuras con material producto de la excavación | G36: M3 | H36: =+TRUNC('Memoria Placa Huella'!H20,2) -> 45 | I36: =+ROUND('610.1 P'!N78,0) -> 21197 | J36: =ROUND(H36*I36,0) -> 953865
A37: SUB-TOTAL | J37: =SUM(J28:K36) -> 41362354 | L37: =+J37/('Alcan Tipo I '!B26+'Alcan Tipo II'!B24+'Alcan Tipo III'!B24) -> 20681177
A38: CONSTRUCCIÓN DE BOX-CULVERT
A39: =+A36+1 -> 17 | B39: 600.1.1 | C39: 600-13 | E39: Excavaciones Varias sin Clasificar | G39: M3 | H39: =TRUNC(+'Memoria Box-Culvert'!H11,2) -> 0 | I39: =+ROUND('600.1.1'!N78,0) -> 23590 | J39: =ROUND(H39*I39,0) -> 0
A40: =+A39+1 -> 18 | B40: 600.2.1 | C40: 600-13 | E40: Excavaciones en roca en seco | G40: M3 | H40: =TRUNC('Memoria Box-Culvert'!H12,2) -> 0 | I40: =+ROUND('600.2.1'!N78,0) -> 51385 | J40: =ROUND(H40*I40,0) -> 0
A41: =+A40+1 -> 19 | B41: 610.1 | C41: 610-13 | E41: Relleno para Estructuras con Suelo | G41: M3 | H41: =TRUNC('Memoria Box-Culvert'!H5,2) -> 0 | I41: =+ROUND('610.1'!N78,0) -> 117495 | J41: =ROUND(H41*I41,0) -> 0
A42: =+A41+1 -> 20 | B42: 630.4 | C42: 630-13 | E42: Concreto Clase D (210 kg/cm2 ó 3000 PSI) | G42: M3 | H42: =TRUNC('Memoria Box-Culvert'!H13,2) -> 0 | I42: =+ROUND('630.1.4.1'!N78,0) -> 644646 | J42: =ROUND(H42*I42,0) -> 0
A43: =+A42+1 -> 21 | B43: 630.6 | C43: 630-13 | E43: Concreto Clase F (140 kg/cm2 ó 2000 PSI) | G43: M3 | H43: =TRUNC('Memoria Box-Culvert'!H14,2) -> 0 | I43: =+ROUND('630.1.6'!N78,0) -> 465805
A44: =+A43+1 -> 22 | B44: 640.1 | C44: 640-13 | E44: Acero de Refuerzo Fy 4200 Mpa | G44: M3 | H44: =TRUNC('Memoria Box-Culvert'!H15,2) -> 0 | I44: =+ROUND('640.1'!N78,0) -> 7013 | J44: =ROUND(H44*I44,0) -> 0
...

Sheet Memoria Mantenimiento
A2: MEMORIAS DE CÁLCULO ACTIVIDADES DE MANTENIMIENTO
K4: Jornales | Q4: DISTANCIAS
K5: Obrero | L5: =+'Mano de Obra'!C5 -> 86708
A7: LIMPIEZA OBRAS MENORES DE DRENAJE
B9: ELEMENTO | D9: LOCALIZACIÓN
B10: Alcantarilla No. 1 | E10: =+IF(D10>0,"SI","NO") -> NO
B11: Alcantarilla No. 2 | E11: =+IF(D11>0,"SI","NO") -> NO
B12: Alcantarilla No. 3 | E12: =+IF(D12>0,"SI","NO") -> NO
B13: Alcantarilla No. 4 | E13: =+IF(D13>0,"SI","NO") -> NO
B14: Alcantarilla No. 5 | E14: =+IF(D14>0,"SI","NO") -> NO
B15: TOTAL | D15: =+COUNTIF(E10:E14,"SI") -> 0
A18: DESMONTE Y LIMPIEZA DE ZONAS NO BOSCOSAS
B21: ELEMENTO | D21: Altura Izq (ml) | E21: Altura Der (ml) | F21: Longitud (ml) | G21: TOTAL (Ha)
B22: Rocería | D22: 2 | E22: 2 | F22: 0 | G22: =+((D22+E22)*(F22))/10000 -> 0

Sheet Memoria Placa Huella
A2: MEMORIAS DE CALCULO
A3: SECCIÓN 2 - ACTIVIDADES DE MEJORAMIENTO
A4: CONSTRUCCIÓN PLACA HUELLA
B6: LONGITUD P.H. (m) | C6: ='Alcance Convenio'!G8 -> 165 | D6: LONG V.R. (m) | E6: =C7 -> 3.6 | F6: No V.R. | G6: =+(G7/2)+1 -> 53 | H6: Sobreancho Promedio Ciclópeo (m) | J6: =IF((C7-2.7>1.6),C7-4.1,(0)) -> 0 | M6: CONCRETO - D - P.H. | O6: CONCRETO CICLOPEO
B7: ANCHO P.H. (m) | C7: 3.6 | D7: LONG HUELLA (m) | E7: 3 | F7: No Secciones | G7: =+(ROUND((C6/3.2),0))*2 -> 104 | H7: ALTO VR (m) | J7: 0.25 | M7: CANTIDAD HUELLAS (M3) | N7: =+ROUND((G7*0.9*E10*E7),2) -> 42.12 | O7: CANTIDAD CENTRO (M3) | P7: =+ROUND(((G7/2)*0.9*E10*E7),2) -> 21.06
M8: CANTIDAD VIGAS RIOST. (M3) | N8: =+ROUND((G6*E6*J7*C10),2) -> 9.54 | O8: CANTIDAD SOBREANCHO (M3) | P8: =+ROUND(((G7/2)*J6*E10*E7),2) -> 0
M9: CANTIDAD CUNETA (M3) | N9: =+ROUND((G7*E7*E10*D11),2) -> 21.06
B10: ANCHO VR (m) | C10: 0.2 | D10: ESP P.H (m) | E10: 0.15 | F10: ESP SBG (m) | G10: 0.15 | H10: ESP CUNETA (m) | I10: 0.15 | M10: CANTIDAD BORDILLOS (M3) | N10: =+ROUND((C6*D13*I10*2),2) -> 7.43
B11: ANCHO CUNETA INCL. BORD (m) | D11: =+(C7-2.7-J6)/2 -> 0.45 | M11: TOTAL CONCRETOS P.H. | N11: =+ROUND((N7+N8+N9+N10),2) -> 80.15 | O11: TOTAL CONCRETO | P11: =+ROUND((P7+P8),2) -> 21.06
B12: ANCHO CUNETA PLACA (m) | D12: =+D11-0.15 -> 0.3 | M12: ACERO P.H. Y VR | O12: ACERO CUNETAS Y BORDILLOS
B13: ANCHO BORDILLO | D13: 0.15 | M13: CANTIDAD ACERO REFUERZO VR LONG (KG) | N13: =+ROUND((G6*(E6-0.1)*4*0.56),2) -> 415.52 | O13: CANTIDAD ACERO REFUERZO CUNETA LONG (KG) | P13: =ROUND(3*2*C6*0.56,2) -> 554.4
M14: CANTIDAD ACERO REFUERZO VR TRANSV. (KG) | N14: =+ROUND((((E6/0.25))*0.65*0.56*G6),2) -> 277.8 | O14: CANTIDAD ACERO REFUERZO CUNETA TRANSV. (KG) | P14: =ROUND(15*2*G7*0.45*0.56,2) -> 786.24
M15: CANTIDAD ACERO REFUERZO PH LONG (KG) | N15: =+ROUND(4*2*C6*0.56,2) -> 739.2 | O15: CANTIDAD ACERO REFUERZO BORDILLO LONG (KG) | P15: =ROUND(2*2*$C$6*0.56,2) -> 369.6
B16: Item | E16: "+2% desp" | G16: RELLENOS HOMBROS TALUD | M16: CANTIDAD ACERO REFUERZO PH TRANSV. (KG) | N16: =ROUND((E7/0.2),0)*(0.8*0.56*G7) -> 698.88 | O16: CANT. FLEJES BORDILLO (KG) | P16: =+ROUND((((C6/0.25)+1)*0.4*2*0.56),2) -> 296.13
B17: Concreto clase D (210 kg/cm2 ó 3000 PSI) - Placa, VR, Cuneta y Bordillos | E17: =N11*1.02 -> 81.753 | G17: Ancho | H17: =0.45*2 -> 0.9 | M17: TOTAL ACERO P.H. | N17: =+ROUND((N13+N14+N15++N16),2) -> 2131.4 | O17: TOTAL ACERO CUNETAS | P17: =+ROUND((P13+P14+P15+P16),2) -> 2006.37
B18: Concreto clase D (210 kg/cm2 ó 3000 PSI) - Placa, VR, Cuneta y Bordillos | G18: Alto | H18: 0.15
B19: Acero de refuerzo de FY = 4.200 Kg/cm 2 (60.000 PSI) - Placa, VR, cunetas y bordillos | E19: =+(N17+P17)*1.02 -> 4220.5254 | G19: Longitud | H19: =+C6*2 -> 330
B20: Subbase Granular Clase C | E20: =+C6*((C7+0.5))*G10*1.02*1.2 -> 124.2054 | G20: Volumen M3 | H20: =ROUND(H19*H18*H17,0) -> 45
B21: Concreto Ciclópeo (Concreto Clase D f'c = 21 MPa 60% concreto - 40% agregado ciclópeo) | E21: =P11*1.02 -> 21.4812
B22: Excavaciones Varias sin Clasificar | E22: =+ROUND(((J7-E10)*E6*G6*0.2+(C6*E10*C7)),2)*1.02 -> 94.7784

Sheet Alcan Tipo I 
A8: SECCIÓN 2 - ACTIVIDADES DE MEJORAMIENTO
A9: CONSTRUCCIÓN ALCANTARILLAS
A11: RESUMEN DE LA ACTIVIDAD COMPLETA
A12: Ítems que conforman la actividad:
A13: ÍTEMS DE PAGO | B13: ESP. GRAL. | C13: DESCRIPCIÓN | F13: UNIDAD | G13: CANTIDAD | H13: VR. UNITARIO | I13: VR. PARCIAL
A14: 600.1.1 | B14: 600-13 | C14: Excavaciones varias sin clasificar | F14: m3 | G14: =ROUND(I35*0.85,1) -> 87 | H14: =+'600.1.1'!N78 -> 23590.098 | I14: =+G14*H14 -> 2052338.5
A15: 600.2.1 | B15: 600-13 | C15: Excavaciones Varias en rocas en seco | F15: m3 | G15: =ROUND(I35*0.15,1) -> 15.3 | H15: =+'600.2.1'!N78 -> 51384.882 | I15: =+G15*H15 -> 786188.69
A16: 610.1P | B16: 610-13 | C16: Rellenos para estructuras con material de la excavación | F16: m3 | G16: =ROUND(+I46,1) -> 45.9 | H16: =+'610.1 P'!N78 -> 21197.456 | I16: =+G16*H16 -> 972963.24
A17: 630.1.4.1 | B17: 630-13 | C17: Concreto resistencia 21MPA (D) | F17: m3 | G17: =ROUND(+I59+M98,1) -> 19.1 | H17: =+'630.1.4.1'!N78 -> 644646.31 | I17: =+G17*H17 -> 12312744
A18: 630.6 | B18: 630-13 | C18: Concreto resistencia 14MPA (F) | F18: m3 | G18: =ROUND(+I67,1) -> 0.9 | H18: =+'630.1.6'!N78 -> 465805.2 | I18: =+G18*H18 -> 419224.68 | P18: =18*3 -> 54
A19: 661.1 | B19: 661-13 | C19: Tubería concreto reforzado 21 MPA de 900 mm diámetro interior | F19: m | G19: =ROUND(+I75,1) -> 10 | H19: =+'661.3'!N78 -> 861266.33 | I19: =+G19*H19 -> 8612663.3 | P19: =+P18/0.25 -> 216
A20: 640.1 | B20: 640-13 | C20: Acero de refuerzo fy = 4200 MPA. | F20: kg | G20: =ROUND(+G80+R110,1) -> 1157.8 | H20: =+'640.1'!N78 -> 7012.7297 | I20: =+G20*H20 -> 8119338.5
A21: 201.7 | B21: 201-13 | C21: Demolición de Estructuras | F21: m3 | G21: =+E94 -> 7.16 | H21: =+'201.7'!N78 -> 167468.33 | I21: =+G21*H21 -> 1199073.3
G22: Subtotal Actividad: | I22: =SUM(I14:I21) -> 34474535
A25: PR Inicial | B25: No. De Alcantarillas | C25: DESCRIPCIÓN | H25: Longitud
A26: PR XX+XXX PR XX+XXX | B26: 2 | C26: Alcantarillas longitud de | H26: 5
A28: =+A14 -> 600.1.1 | B28: =+C14 -> Excavaciones varias sin clasificar | H28: Unidad: | I28: (m3)
A29: LOCALIZACIÓN | C29: ELEMENTO | E29: Cant. | F29: DIMENSIONES | I29: Volumen
A30: PR Inicial | B30: CANTIDAD | F30: Longitud | G30: Ancho | H30: Altura
A31: =+A26 -> PR XX+XXX PR XX+XXX | B31: =+B26 -> 2 | C31: Caja entrada | E31: 1 | F31: =1.8+0.3+0.3 -> 2.4 | G31: =+F31 -> 2.4 | H31: 2.75 | I31: =+E31*F31*G31*H31*B31 -> 31.68
C32: Cabezote | E32: 1 | F32: =+(2.25+4.35)/2 -> 3.3 | G32: 2.1 | H32: 2.55 | I32: =+E32*F32*G32*H32*B31 -> 35.343
C33: Tubería | E33: 1 | F33: =+H26 -> 5 | G33: 1.5 | H33: 2.35011 | I33: =+E33*F33*G33*H33*B31 -> 35.25165
A34: DESCOLES | E34: 0 | F34: 1 | G34: 1.5 | H34: 1.5 | I34: =+E34*F34*G34*H34 -> 0
H35: Subtotal ítem | I35: =ROUND(SUM(I31:I34),1) -> 102.3
A37: =+A16 -> 610.1P | B37: =+C16 -> Rellenos para estructuras con material de la excavación | H37: Unidad: | I37: (m3)
A38: LOCALIZACIÓN | C38: ELEMENTO | F38: DIMENSIONES | I38: CANTIDAD
A39: PR Inicial | B39: CANTIDAD | F39: Longitud | G39: Ancho | H39: Altura
A40: =+A31 -> PR XX+XXX PR XX+XXX | B40: =+B26 -> 2 | C40: Muros post/front caja | E40: 2 | F40: 2.4 | G40: 0.3 | H40: 2.75 | I40: =+H40*G40*F40*E40*B40 -> 7.92
C41: Muros laterales caja | E41: 2 | F41: 1.8 | G41: 0.3 | H41: 2.75 | I41: =+H41*G41*F41*E41*B40 -> 5.94
C42: Aletas | E42: 2 | F42: 1.8 | G42: 0.5 | H42: =+(1.6+2.55)/2 -> 2.075 | I42: =+E42*F42*G42*H42*B40 -> 7.47
C43: Tubería/laterales | E43: 2 | F43: =+H26 -> 5 | G43: 0.3 | H43: 1.1 | I43: =+E43*F43*G43*H43*B40 -> 6.6
C44: Tubería/superior | E44: 1 | F44: =+H26 -> 5 | G44: 1.5 | H44: 1.2 | I44: =+E44*F44*G44*H44*B40 -> 18
A45: DESCOLES | E45: =+E34 -> 0 | F45: 1 | G45: =+IF(I34>0,PI()*(0.5*0.5),0) -> 0 | I45: =+I34-G45 -> 0
H46: Subtotal ítem | I46: =ROUND(SUM(I40:I45),1) -> 45.9
A48: =+A17 -> 630.1.4.1 | B48: =+C17 -> Concreto resistencia 21MPA (D) | H48: Unidad: | I48: (m3)
A49: LOCALIZACIÓN | C49: ELEMENTO | F49: DIMENSIONES | I49: CANTIDAD
A50: PR Inicial | B50: CANTIDAD | F50: Longitud | G50: Ancho | H50: Altura
A51: =+A40 -> PR XX+XXX PR XX+XXX | B51: =+B26 -> 2 | C51: Muros post/front caja | E51: 2 | F51: 1.8 | G51: 0.2 | H51: 2.5 | I51: =+H51*G51*F51*E51*B51 -> 3.6
C52: Muros laterales caja | E52: 2 | F52: 1.4 | G52: 0.2 | H52: 2.5 | I52: =+H52*G52*F52*E52*B51 -> 2.8
C53: Piso Caja | E53: 1 | F53: 1.8 | G53: 1.8 | H53: 0.25 | I53: =+H53*G53*F53*E53*B51 -> 1.62
...

Sheet Alcan Tipo II
A8: SECCIÓN 2 - ACTIVIDADES DE MEJORAMIENTO
A9: CONSTRUCCIÓN ALCANTARILLAS
A11: RESUMEN DE LA ACTIVIDAD COMPLETA
A12: Ítems que conforman la actividad:
A13: ÍTEMS DE PAGO | B13: ESP. GRAL. | C13: DESCRIPCIÓN | F13: UNIDAD | G13: CANTIDAD | H13: VR. UNITARIO | I13: VR. PARCIAL
A14: 600.1.1 | B14: 600-13 | C14: Excavaciones varias sin clasificar | F14: m3 | G14: =ROUND(I33*0.85,1) -> 0 | H14: =+'600.1.1'!N78 -> 23590.098 | I14: =+G14*H14 -> 0
A15: 600.2.1 | B15: 600-13 | C15: Excavaciones Varias en rocas en seco | F15: m3 | G15: =ROUND(I33*0.15,1) -> 0 | H15: =+'600.2.1'!N78 -> 51384.882 | I15: =+G15*H15 -> 0
A16: 610.1P | B16: 610-13 | C16: Rellenos para estructuras con material de la excavación | F16: m3 | G16: =ROUND(+I44,1) -> 0 | H16: =+'610.1 P'!N78 -> 21197.456 | I16: =+G16*H16 -> 0
A17: 630.4 | B17: 630-13 | C17: Concreto resistencia 21MPA (D) | F17: m3 | G17: =ROUND(+I57+M98,1) -> 0 | H17: =+'630.1.4.1'!N78 -> 644646.31 | I17: =+G17*H17 -> 0
A18: 630.6 | B18: 630-13 | C18: Concreto resistencia 14MPA (F) | F18: m3 | G18: =ROUND(+I65,1) -> 0 | H18: =+'630.1.6'!N78 -> 465805.2 | I18: =+G18*H18 -> 0
A19: 661.1 | B19: 661-13 | C19: Tubería concreto reforzado 21 MPA de 900 mm diámetro interior | F19: m | G19: =ROUND(+I73,1) -> 0 | H19: =+'661.3'!N78 -> 861266.33 | I19: =+G19*H19 -> 0
A20: 640.1 | B20: 640-13 | C20: Acero de refuerzo fy = 4200 MPA. | F20: kg | G20: =ROUND(+G78+R110,1) -> 0 | H20: =+'640.1'!N78 -> 7012.7297 | I20: =+G20*H20 -> 0
G21: Subtotal Actividad: | I21: =SUM(I14:I20) -> 0
A23: PR Inicial | B23: No. De Alcantarillas | C23: DESCRIPCIÓN | H23: Longitud
A24: PR XX+XXX PR XX+XXX | B24: 0 | C24: Alcantarillas longitud de | H24: 6
A26: =+A14 -> 600.1.1 | B26: =+C14 -> Excavaciones varias sin clasificar | H26: Unidad: | I26: (m3)
A27: LOCALIZACIÓN | C27: ELEMENTO | E27: Cant. | F27: DIMENSIONES | I27: Volumen
A28: PR Inicial | B28: CANTIDAD | F28: Longitud | G28: Ancho | H28: Altura
A29: =+A24 -> PR XX+XXX PR XX+XXX | B29: =+B24 -> 0 | C29: Caja entrada | E29: 1 | F29: =1.8+0.3+0.3 -> 2.4 | G29: =+F29 -> 2.4 | H29: 2.75 | I29: =+E29*F29*G29*H29*B29 -> 0
C30: Cabezote | E30: 1 | F30: =+(2.25+4.35)/2 -> 3.3 | G30: 2.1 | H30: 2.55 | I30: =+E30*F30*G30*H30*B29 -> 0
C31: Tubería | E31: 1 | F31: =+H24 -> 6 | G31: 1.5 | H31: 2.35011 | I31: =+E31*F31*G31*H31*B29 -> 0
A32: DESCOLES | E32: 0 | F32: 1 | G32: 1.5 | H32: 1.5 | I32: =+E32*F32*G32*H32 -> 0
H33: Subtotal ítem | I33: =ROUND(SUM(I29:I32),1) -> 0
A35: =+A16 -> 610.1P | B35: =+C16 -> Rellenos para estructuras con material de la excavación | H35: Unidad: | I35: (m3)
A36: LOCALIZACIÓN | C36: ELEMENTO | F36: DIMENSIONES | I36: CANTIDAD
A37: PR Inicial | B37: CANTIDAD | F37: Longitud | G37: Ancho | H37: Altura
A38: =+A29 -> PR XX+XXX PR XX+XXX | B38: =+B24 -> 0 | C38: Muros post/front caja | E38: 2 | F38: 2.4 | G38: 0.3 | H38: 2.75 | I38: =+H38*G38*F38*E38*B38 -> 0
C39: Muros laterales caja | E39: 2 | F39: 1.8 | G39: 0.3 | H39: 2.75 | I39: =+H39*G39*F39*E39*B38 -> 0
C40: Aletas | E40: 2 | F40: 1.8 | G40: 0.5 | H40: =+(1.6+2.55)/2 -> 2.075 | I40: =+E40*F40*G40*H40*B38 -> 0
C41: Tubería/laterales | E41: 2 | F41: =+H24 -> 6 | G41: 0.3 | H41: 1.1 | I41: =+E41*F41*G41*H41*B38 -> 0
C42: Tubería/superior | E42: 1 | F42: =+H24 -> 6 | G42: 1.5 | H42: 1.2 | I42: =+E42*F42*G42*H42*B38 -> 0
A43: DESCOLES | E43: =+E32 -> 0 | F43: 1 | G43: =+IF(I32>0,PI()*(0.5*0.5),0) -> 0 | I43: =+I32-G43 -> 0
H44: Subtotal ítem | I44: =ROUND(SUM(I38:I43),1) -> 0
A46: =+A17 -> 630.4 | B46: =+C17 -> Concreto resistencia 21MPA (D) | H46: Unidad: | I46: (m3)
A47: LOCALIZACIÓN | C47: ELEMENTO | F47: DIMENSIONES | I47: CANTIDAD
A48: PR Inicial | B48: CANTIDAD | F48: Longitud | G48: Ancho | H48: Altura
A49: =+A38 -> PR XX+XXX PR XX+XXX | B49: =+B24 -> 0 | C49: Muros post/front caja | E49: 2 | F49: 1.8 | G49: 0.2 | H49: 2.5 | I49: =+H49*G49*F49*E49*B49 -> 0
C50: Muros laterales caja | E50: 2 | F50: 1.4 | G50: 0.2 | H50: 2.5 | I50: =+H50*G50*F50*E50*B49 -> 0
C51: Piso Caja | E51: 1 | F51: 1.8 | G51: 1.8 | H51: 0.25 | I51: =+H51*G51*F51*E51*B49 -> 0
C52: Muro cabezal | E52: 1 | F52: 1.8 | G52: 0.2 | H52: 2.75 | I52: =+H52*G52*F52*E52*B49 -> 0
...

Sheet Alcan Tipo III
A8: SECCIÓN 2 - ACTIVIDADES DE MEJORAMIENTO
A9: CONSTRUCCIÓN ALCANTARILLAS
A11: RESUMEN DE LA ACTIVIDAD COMPLETA
A12: Ítems que conforman la actividad:
A13: ÍTEMS DE PAGO | B13: ESP. GRAL. | C13: DESCRIPCIÓN | F13: UNIDAD | G13: CANTIDAD | H13: VR. UNITARIO | I13: VR. PARCIAL
A14: 600.1.1 | B14: 600-13 | C14: Excavaciones varias sin clasificar | F14: m3 | G14: =ROUND(I33*0.85,1) -> 0 | H14: =+'600.1.1'!N78 -> 23590.098 | I14: =+G14*H14 -> 0
A15: 600.2.1 | B15: 600-13 | C15: Excavaciones Varias en rocas en seco | F15: m3 | G15: =ROUND(I33*0.15,1) -> 0 | H15: =+'600.2.1'!N78 -> 51384.882 | I15: =+G15*H15 -> 0
A16: 610.1P | B16: 610-13 | C16: Rellenos para estructuras con material de la excavación | F16: m3 | G16: =ROUND(+I44,1) -> 0 | H16: =+'610.1 P'!N78 -> 21197.456 | I16: =+G16*H16 -> 0
A17: 630.4 | B17: 630-13 | C17: Concreto resistencia 21MPA (D) | F17: m3 | G17: =ROUND(+I57+M99,1) -> 0.8 | H17: =+'630.1.4.1'!N78 -> 644646.31 | I17: =+G17*H17 -> 515717.05
A18: 630.6 | B18: 630-13 | C18: Concreto resistencia 14MPA (F) | F18: m3 | G18: =ROUND(+I65,1) -> 0 | H18: =+'630.1.6'!N78 -> 465805.2 | I18: =+G18*H18 -> 0
A19: 661.1 | B19: 661-13 | C19: Tubería concreto reforzado 21 MPA de 900 mm diámetro interior | F19: m | G19: =ROUND(+I74,1) -> 0 | H19: =+'661.3'!N78 -> 861266.33 | I19: =+G19*H19 -> 0
A20: 640.1 | B20: 640-13 | C20: Acero de refuerzo fy = 4200 MPA. | F20: kg | G20: =ROUND(+G79+R111,1) -> 52.5 | H20: =+'640.1'!N78 -> 7012.7297 | I20: =+G20*H20 -> 368168.31
G21: Subtotal Actividad: | I21: =SUM(I14:I20) -> 883885.36
A23: PR Inicial | B23: No. De Alcantarillas | C23: DESCRIPCIÓN | H23: Longitud
A24: PR XX+XXX PR XX+XXX | B24: 0 | C24: Alcantarillas longitud de | H24: 8
A26: =+A14 -> 600.1.1 | B26: =+C14 -> Excavaciones varias sin clasificar | H26: Unidad: | I26: (m3)
A27: LOCALIZACIÓN | C27: ELEMENTO | E27: Cant. | F27: DIMENSIONES | I27: Volumen
A28: PR Inicial | B28: CANTIDAD | F28: Longitud | G28: Ancho | H28: Altura
A29: =+A24 -> PR XX+XXX PR XX+XXX | B29: =+B24 -> 0 | C29: Caja entrada | E29: 1 | F29: =1.8+0.3+0.3 -> 2.4 | G29: =+F29 -> 2.4 | H29: 2.75 | I29: =+E29*F29*G29*H29*B29 -> 0
C30: Cabezote | E30: 1 | F30: =+(2.25+4.35)/2 -> 3.3 | G30: 2.1 | H30: 2.55 | I30: =+E30*F30*G30*H30*B29 -> 0
C31: Tubería | E31: 1 | F31: =+H24 -> 8 | G31: 1.5 | H31: 2.35011 | I31: =+E31*F31*G31*H31*B29 -> 0
A32: DESCOLES | F32: 1 | G32: 1.5 | H32: 1.5 | I32: =+E32*F32*G32*H32 -> 0
H33: Subtotal ítem | I33: =ROUND(SUM(I29:I32),1) -> 0
A35: =+A16 -> 610.1P | B35: =+C16 -> Rellenos para estructuras con material de la excavación | H35: Unidad: | I35: (m3)
A36: LOCALIZACIÓN | C36: ELEMENTO | F36: DIMENSIONES | I36: CANTIDAD
A37: PR Inicial | B37: CANTIDAD | F37: Longitud | G37: Ancho | H37: Altura
A38: =+A29 -> PR XX+XXX PR XX+XXX | B38: =+B24 -> 0 | C38: Muros post/front caja | E38: 2 | F38: 2.4 | G38: 0.3 | H38: 2.75 | I38: =+H38*G38*F38*E38*B38 -> 0
C39: Muros laterales caja | E39: 2 | F39: 1.8 | G39: 0.3 | H39: 2.75 | I39: =+H39*G39*F39*E39*B38 -> 0
C40: Aletas | E40: 2 | F40: 1.8 | G40: 0.5 | H40: =+(1.6+2.55)/2 -> 2.075 | I40: =+E40*F40*G40*H40*B38 -> 0
C41: Tubería/laterales | E41: 2 | F41: =+H24 -> 8 | G41: 0.3 | H41: 1.1 | I41: =+E41*F41*G41*H41*B38 -> 0
C42: Tubería/superior | E42: 1 | F42: =+H24 -> 8 | G42: 1.5 | H42: 1.2 | I42: =+E42*F42*G42*H42*B38 -> 0
A43: DESCOLES | E43: =+E32 -> 0 | F43: 1 | G43: =+IF(I32>0,PI()*(0.5*0.5),0) -> 0 | I43: =+I32-G43 -> 0
H44: Subtotal ítem | I44: =ROUND(SUM(I38:I43),1) -> 0
A46: =+A17 -> 630.4 | B46: =+C17 -> Concreto resistencia 21MPA (D) | H46: Unidad: | I46: (m3)
A47: LOCALIZACIÓN | C47: ELEMENTO | F47: DIMENSIONES | I47: CANTIDAD
A48: PR Inicial | B48: CANTIDAD | F48: Longitud | G48: Ancho | H48: Altura
A49: =+A38 -> PR XX+XXX PR XX+XXX | B49: =+B24 -> 0 | C49: Muros post/front caja | E49: 2 | F49: 1.8 | G49: 0.2 | H49: 2.5 | I49: =+H49*G49*F49*E49*B49 -> 0
C50: Muros laterales caja | E50: 2 | F50: 1.4 | G50: 0.2 | H50: 2.5 | I50: =+H50*G50*F50*E50*B49 -> 0
C51: Piso Caja | E51: 1 | F51: 1.8 | G51: 1.8 | H51: 0.25 | I51: =+H51*G51*F51*E51*B49 -> 0
C52: Muro cabezal | E52: 1 | F52: 1.8 | G52: 0.2 | H52: 2.75 | I52: =+H52*G52*F52*E52*B49 -> 0
...

Sheet Memoria Box-Culvert
A2: MEMORIAS DE CALCULO
A6: SECCIÓN 2 - ACTIVIDADES DE MEJORAMIENTO
A7: Box Culvert 1X2
A9: ANCHO BOX | B9: ELEMENTO | C9: CANT | D9: CANT X M | E9: ALTURA RELLENO | F9: LONGITUD (M) | G9: UN | H9: CANTIDAD (M3)
A10: 0 | B10: Relleno para Estructuras con Suelo | C10: =C11*0.1 -> 0 | H10: =C10 -> 0
B11: Excavaciones Varias sin Clasificar | C11: =2*1*A10 -> 0 | G11: M3 | H11: =C11 -> 0
B12: Excavaciones en roca en seco | C12: =2*1*A10 -> 0 | G12: M3 | H12: =C12 -> 0
B13: Concreto Clase C (28 MPa ó 4000 PSI) | C13: 1.75 | D13: =C13*$A$10 -> 0 | E13: 1 | G13: M3 | H13: =D13 -> 0
B14: Solado | C14: 0.13 | D14: =C14*$A$10 -> 0 | E14: 1 | G14: M3 | H14: =D14 -> 0
B15: Acero de Refuerzo Fy 4200 Mpa | C15: 200.58 | D15: =C15*$A$10 -> 0 | E15: 1 | G15: Kg | H15: =ROUND(D15,2) -> 0

Sheet Memoria Muro Gaviones
A2: MEMORIAS DE CALCULO
A6: SECCIÓN 2 - ACTIVIDADES DE MEJORAMIENTO
A7: MURO EN GAVIONES
B9: LOCALIZACIÓN | C9: PR XX+XXX | G9: Nota: Los muros de contención en gavión en la cartilla se evaluaron para alturas de 3 m y 4 m, con variaciones en la dimensión de sus bases desde 3 m hasta 5 m.
B11: LARGO (ml) | C11: 0
B12: ANCHO (ml) | C12: 0
B13: ALTURA (ml) | C13: 0
B14: No. GAVIONES POR FILA | C14: =+C11/C40 -> 0
B16: EXCAVACIONES VARIAS SIN CLASIFICAR | D16: Unidad: | E16: m3
B17: CANTIDAD | C17: Largo | D17: Ancho | E17: Alto | F17: TOTAL
B18: 1 | C18: =+C11 -> 0 | D18: =+C12+0.8 -> 0.8 | E18: =+C13 -> 0 | F18: =+C18*E18*D18 -> 0
E19: SUBTOTAL | F19: =+SUM(F18:F18) -> 0
B21: GEOTEXTIL TIPO NO TEJIDO | E21: Unidad: | F21: m2
B22: ELEMENTO | C22: Largo | D22: Ancho | E22: Alto | F22: TOTAL
B23: Espaldón | C23: =+C11 -> 0 | E23: =+C13 -> 0 | F23: =+C23*E23 -> 0
B24: Laterales | C24: =+C13*2 -> 0 | D24: =C12 -> 0 | F24: =+C24*D24 -> 0
E25: SUBTOTAL | F25: =+SUM(F23:F24) -> 0
B27: CONCRETO CLASE F | E27: Unidad: | F27: m3
B28: ELEMENTO | C28: Largo | D28: Ancho | E28: Alto | F28: Volumen
B29: SOLADO | C29: =+C11 -> 0 | D29: =+C12 -> 0 | E29: 0.05 | F29: =+C29*D29*E29 -> 0
E30: SUBTOTAL | F30: =+SUM(F28:F29) -> 0
B32: RELLENO PARA ESTRUCTURAS CON RECEBO | E32: Unidad: | F32: m3
B33: ELEMENTO | C33: Largo | D33: Ancho | E33: Alto | F33: Volumen
B34: Espaldón | C34: =+C11 -> 0 | D34: 0.5 | E34: =+C13 -> 0 | F34: =+C34*D34*E34 -> 0
B35: Laterales | D35: =+C12 -> 0 | E35: =+C13 -> 0 | F35: =(((D35*E35)/2)*0.5)*2 -> 0
E36: SUBTOTAL | F36: =SUM(F34:F35) -> 0
B38: GAVIONES DE MALLA DE ALAMBRE DE ACERO | E38: Unidad: | F38: m3
B39: CANTIDAD | C39: Largo | D39: Ancho | E39: Alto | F39: Volumen
B40: =+C14+(C14*2)+(C14*3)+(C14*4)+(C14*4) -> 0 | C40: 2 | D40: 1 | E40: 1 | F40: =+C40*D40*E40*B40 -> 0
E41: SUBTOTAL | F41: =+SUM(F39:F40) -> 0
B43: DREN HORIZONTAL 4" | E43: Unidad: | F43: ml
B44: CANTIDAD | C44: Largo | D44: Ancho | E44: Alto | F44: Volumen
B45: =+C14 -> 0 | D45: =+C12+0.2 -> 0.2 | F45: =+D45*B45 -> 0
E46: SUBTOTAL | F46: =+SUM(F45:F45) -> 0
B48: FILTRO EN GRAVA FINA | E48: Unidad: | F48: m3
B49: ELEMENTO | C49: Largo | D49: Ancho | E49: Alto | F49: Volumen
B50: ESPALDÓN | C50: =+C11 -> 0 | D50: 0.3 | E50: =+C13 -> 0 | F50: =+C50*D50*E50 -> 0
E51: SUBTOTAL | F51: =+SUM(F49:F50) -> 0

Sheet 200.2
E1: INSTITUTO NACIONAL DE VIAS
E4: ANÁLISIS DE PRECIOS UNITARIOS REGIONALIZADOS DE REFERENCIA
E6: ACTUALIZACIÓN PERIÓDICA
K7: FECHA | M7: 06 | N7: 2023
L8: (Día) | M8: (Mes) | N8: (Año)
B9: ÍTEM BASE DE APU DE REFERENCIA: | E9: ⊠
B11: UNIDAD EJECUTORA: | D11: SUBDIRECCIÓN DE VÍAS REGIONALES | J11: DIRECCIÓN TERRITORIAL: | K11: =+Presupuesto!I7 -> CAUCA
B14: CONVENIO No. | D14: FECHA:
B15: OBJETO DEL CONVENIO: | D15: =+Presupuesto!A5 -> AUNAR ESFUERZOS ENTRE EL INSTITUTO NACIONAL DE VIAS Y LA JUNTA DE ACCION COMUNAL DE LA VEREDA DE LA PALOMERA DEL MUNICIPIO DE SANTANDER DE QUILICHAO EN EL DEPARTAMENTO DE CAUCA PARA EL MEJORAMIENTO VIAL EN EL MARCO DEL PROGRAMA CAMINOS COMUNITARIOS DE LA PAZ TOTAL.
B19: CONTRATISTA:
B21: INTERVENTOR: | K21: CONTRATO No. | M21: FECHA: | N21: ______________
B24: DATOS ESPECÍFICOS
B26: ÍTEM | C26: DESCRIPCIÓN | L26: UNIDAD | N26: CANTIDAD
B27: =+Presupuesto!B17 -> 200.2 | C27: Desmonte y limpieza de zonas no boscosas | L27: =+Presupuesto!G17 -> Ha
B29: I. EQUIPO
B31: CÓDIGO | C31: DESCRIPCIÓN | J31: TIPO | K31: TARIFA/HORA | L31: RENDIMIENTO | N31: Vr. UNITARIO
B32: C0010530 | C32: Guadañadora cilindraje 38-58 cm3 | K32: =+Equipos!G83 -> 8212 | L32: =1/0.36 -> 2.7777778 | N32: =K32*L32 -> 22811.111
B33: C0010620 | C33: Motosierra, 4.5 HP - 7.1 HP, longitud de espada 45-90 cm | K33: =+Equipos!G97 -> 9591 | L33: =1/0.103 -> 9.7087379 | N33: =K33*L33 -> 93116.505
N34: =K34*L34 -> 0
N35: =K35*L35 -> 0
N36: =K36*L36 -> 0
N37: =K37*L37 -> 0
N38: =K38*L38 -> 0
N39: =K39*L39 -> 0
B41: SUBTOTAL $ | N41: =SUM(N32:N40) -> 115927.62
B43: II. MATERIALES
B45: CÓDIGO | C45: DESCRIPCIÓN | J45: UNIDAD | K45: CANTIDAD | L45: PRECIO UNIT. | N45: Vr. UNITARIO
N46: =K46*L46 -> 0
N47: =K47*L47 -> 0
N48: =K48*L48 -> 0
N49: =K49*L49 -> 0
N50: =K50*L50 -> 0
N51: =K51*L51 -> 0
N52: =K52*L52 -> 0
N53: =K53*L53 -> 0
N54: =K54*L54 -> 0
N55: =K55*L55 -> 0
B56: SUBTOTAL $ | N56: =SUM(N46:N55) -> 0
B58: III. TRANSPORTES
B60: CÓDIGO | C60: DESCRIPCIÓN | I60: UNIDAD | J60: CANTIDAD (1) | K60: DISTANCIA (2) | L60: (1) * (2) | M60: TARIFA | N60: Vr. UNITARIO
...

Sheet 201.7
E1: INSTITUTO NACIONAL DE VIAS
E4: ANÁLISIS DE PRECIOS UNITARIOS REGIONALIZADOS DE REFERENCIA
E6: ACTUALIZACIÓN PERIÓDICA
K7: FECHA | M7: 06 | N7: 2023
L8: (Día) | M8: (Mes) | N8: (Año)
B9: ÍTEM BASE DE APU DE REFERENCIA: | E9: ⊠
B11: UNIDAD EJECUTORA: | D11: SUBDIRECCIÓN DE VÍAS REGIONALES | J11: DIRECCIÓN TERRITORIAL: | K11: =+Presupuesto!I7 -> CAUCA
B14: CONVENIO No. | D14: FECHA:
B15: OBJETO DEL CONVENIO: | D15: =+Presupuesto!A5 -> AUNAR ESFUERZOS ENTRE EL INSTITUTO NACIONAL DE VIAS Y LA JUNTA DE ACCION COMUNAL DE LA VEREDA DE LA PALOMERA DEL MUNICIPIO DE SANTANDER DE QUILICHAO EN EL DEPARTAMENTO DE CAUCA PARA EL MEJORAMIENTO VIAL EN EL MARCO DEL PROGRAMA CAMINOS COMUNITARIOS DE LA PAZ TOTAL.
B19: CONTRATISTA:
B21: INTERVENTOR: | K21: CONTRATO No. | M21: FECHA: | N21: ______________
B24: DATOS ESPECÍFICOS
B26: ÍTEM | C26: DESCRIPCIÓN | L26: UNIDAD | N26: CANTIDAD
B27: 201.7 | C27: DEMOLICIÓN DE ESTRUCTURAS | L27: m3
B29: I. EQUIPO
B31: CÓDIGO | C31: DESCRIPCIÓN | J31: TIPO | K31: TARIFA/HORA | L31: RENDIMIENTO | N31: Vr. UNITARIO
B32: C0010790 | C32: Retroexcavadora sobre oruga, potencia 158 kw, balde de 1.5 m3 | K32: =VLOOKUP(B32,Equipos!$C$6:$G$137,5,0) -> 141000 | L32: =1/2.5 -> 0.4 | N32: =K32*L32 -> 56400
B33: C0010270 | C33: Compresor portátil de 70 a 120 HP, con martillo | K33: =VLOOKUP(B33,Equipos!$C$6:$G$137,5,0) -> 83650 | L33: =1/2.5 -> 0.4 | N33: =K33*L33 -> 33460
B34: C0010330 | C34: Equipo de oxicorte y soldadura, capacidad de corte 6"-14" | K34: =VLOOKUP(B34,Equipos!$C$6:$G$137,5,0) -> 15000 | L34: =1/2.5 -> 0.4 | N34: =K34*L34 -> 6000
N35: =K35*L35 -> 0
N36: =K36*L36 -> 0
N37: =K37*L37 -> 0
N38: =K38*L38 -> 0
N39: =K39*L39 -> 0
B41: SUBTOTAL $ | N41: =SUM(N32:N40) -> 95860
B43: II. MATERIALES
B45: CÓDIGO | C45: DESCRIPCIÓN | J45: UNIDAD | K45: CANTIDAD | L45: PRECIO UNIT. | N45: Vr. UNITARIO
B46: B0013791 | C46: Derechos de conformación y/o disposición de materiales sobrantes (Incluye todos los costos inherentes a las posibles obras requeridas en los sitios de disposición de sobrantes) | J46: m3 | K46: 1.4 | L46: =VLOOKUP(B46,Materiales!$C$6:$F$373,4,0) -> 6456 | N46: =K46*L46 -> 9038.4
N47: =K47*L47 -> 0
N48: =K48*L48 -> 0
N49: =K49*L49 -> 0
N50: =K50*L50 -> 0
N51: =K51*L51 -> 0
N52: =K52*L52 -> 0
N53: =K53*L53 -> 0
N54: =K54*L54 -> 0
N55: =K55*L55 -> 0
B56: SUBTOTAL $ | N56: =SUM(N46:N55) -> 9038.4
B58: III. TRANSPORTES
B60: CÓDIGO | C60: DESCRIPCIÓN | I60: UNIDAD | J60: CANTIDAD (1) | K60: DISTANCIA (2) | L60: (1) * (2) | M60: TARIFA | N60: Vr. UNITARIO
...

Sheet 230.1
E1: INSTITUTO NACIONAL DE VIAS
E4: ANÁLISIS DE PRECIOS UNITARIOS REGIONALIZADOS DE REFERENCIA
E6: ACTUALIZACIÓN PERIÓDICA
K7: FECHA | M7: 06 | N7: 2023
L8: (Día) | M8: (Mes) | N8: (Año)
B9: ÍTEM BASE DE APU DE REFERENCIA: | E9: ⊠
B11: UNIDAD EJECUTORA: | D11: SUBDIRECCIÓN DE VÍAS REGIONALES | J11: DIRECCIÓN TERRITORIAL: | K11: =+Presupuesto!I7 -> CAUCA
B14: CONVENIO No. | D14: FECHA:
B15: OBJETO DEL CONVENIO: | D15: =+Presupuesto!A5 -> AUNAR ESFUERZOS ENTRE EL INSTITUTO NACIONAL DE VIAS Y LA JUNTA DE ACCION COMUNAL DE LA VEREDA DE LA PALOMERA DEL MUNICIPIO DE SANTANDER DE QUILICHAO EN EL DEPARTAMENTO DE CAUCA PARA EL MEJORAMIENTO VIAL EN EL MARCO DEL PROGRAMA CAMINOS COMUNITARIOS DE LA PAZ TOTAL.
B19: CONTRATISTA:
B21: INTERVENTOR: | K21: CONTRATO No. | M21: FECHA: | N21: ______________
B24: DATOS ESPECÍFICOS
B26: ÍTEM | C26: DESCRIPCIÓN | L26: UNIDAD | N26: CANTIDAD
B27: 230.1 | C27: MEJORAMIENTO DE LA SUBRASANTE CON ADICION DE MATERIALES | L27: m2
B29: I. EQUIPO
B31: CÓDIGO | C31: DESCRIPCIÓN | J31: TIPO | K31: TARIFA/HORA | L31: RENDIMIENTO | N31: Vr. UNITARIO
B32: C0010610 | C32: =+Equipos!E95 -> Motoniveladora potencia 215 HP, ancho de cuchilla 4,27 m, peso 18 ton | K32: =VLOOKUP(B32,Equipos!$C$6:$G$137,5,0) -> 180000 | L32: 0.028571429 | N32: =K32*L32 -> 5142.8571
B33: =+Equipos!C133 -> C0010923 | C33: =+Equipos!E133 -> Vibrocompactador, potencia 153 HP, peso 10 ton | K33: =VLOOKUP(B33,Equipos!$C$6:$G$137,5,0) -> 102367 | L33: 0.028571429 | N33: =K33*L33 -> 2924.7714
B34: =+Equipos!C30 -> C0010150 | C34: =+Equipos!E30 -> Carrotanque de agua(1000 Galones) | K34: =VLOOKUP(B34,Equipos!$C$6:$G$137,5,0) -> 107655 | L34: 0.028571429 | N34: =K34*L34 -> 3075.8571
N35: =K35*L35 -> 0
N36: =K36*L36 -> 0
N37: =K37*L37 -> 0
N38: =K38*L38 -> 0
N39: =K39*L39 -> 0
B41: SUBTOTAL $ | N41: =SUM(N32:N40) -> 11143.486
B43: II. MATERIALES
B45: CÓDIGO | C45: DESCRIPCIÓN | J45: UNIDAD | K45: CANTIDAD | L45: PRECIO UNIT. | N45: Vr. UNITARIO
B46: =Materiales!$C$218 -> B0014270 | C46: =Materiales!$E$218 -> Material de afirmado CBR ≥ 15% | J46: m3 | K46: 1.25 | L46: =VLOOKUP(B46,Materiales!$C$6:$F$373,4,0) -> 33828.693 | N46: =K46*L46 -> 42285.866
B47: =+Materiales!C44 -> B0063200 | C47: =+Materiales!E44 -> Agua | J47: L | K47: 25 | L47: =VLOOKUP(B47,Materiales!$C$6:$F$373,4,0) -> 89 | N47: =K47*L47 -> 2225
N48: =K48*L48 -> 0
N49: =K49*L49 -> 0
N50: =K50*L50 -> 0
N51: =K51*L51 -> 0
N52: =K52*L52 -> 0
N53: =K53*L53 -> 0
N54: =K54*L54 -> 0
N55: =K55*L55 -> 0
B56: SUBTOTAL $ | N56: =SUM(N46:N55) -> 44510.866
B58: III. TRANSPORTES
B60: CÓDIGO | C60: DESCRIPCIÓN | I60: UNIDAD | J60: CANTIDAD (1) | K60: DISTANCIA (2) | L60: (1) * (2) | M60: TARIFA | N60: Vr. UNITARIO
...

Sheet 310.1
E1: INSTITUTO NACIONAL DE VIAS
E4: ANÁLISIS DE PRECIOS UNITARIOS REGIONALIZADOS DE REFERENCIA
E6: ACTUALIZACIÓN PERIÓDICA
K7: FECHA | M7: 06 | N7: 2023
L8: (Día) | M8: (Mes) | N8: (Año)
B9: ÍTEM BASE DE APU DE REFERENCIA: | E9: ⊠
B11: UNIDAD EJECUTORA: | D11: SUBDIRECCIÓN DE VÍAS REGIONALES | J11: DIRECCIÓN TERRITORIAL: | K11: =+Presupuesto!I7 -> CAUCA
B14: CONVENIO No. | D14: FECHA:
B15: OBJETO DEL CONVENIO: | D15: =+Presupuesto!A5 -> AUNAR ESFUERZOS ENTRE EL INSTITUTO NACIONAL DE VIAS Y LA JUNTA DE ACCION COMUNAL DE LA VEREDA DE LA PALOMERA DEL MUNICIPIO DE SANTANDER DE QUILICHAO EN EL DEPARTAMENTO DE CAUCA PARA EL MEJORAMIENTO VIAL EN EL MARCO DEL PROGRAMA CAMINOS COMUNITARIOS DE LA PAZ TOTAL.
B19: CONTRATISTA:
B21: INTERVENTOR: | K21: CONTRATO No. | M21: FECHA: | N21: ______________
B24: DATOS ESPECÍFICOS
B26: ÍTEM | C26: DESCRIPCIÓN | L26: UNIDAD | N26: CANTIDAD
B27: 310.1 | C27: CONFORMACIÓN DE LA CALZADA EXISTENTE | L27: m2
B29: I. EQUIPO
B31: CÓDIGO | C31: DESCRIPCIÓN | J31: TIPO | K31: TARIFA/HORA | L31: RENDIMIENTO | N31: Vr. UNITARIO
B32: C0010150 | C32: Carrotanque de agua(1000 Galones) | K32: =VLOOKUP(B32,Equipos!$C$6:$G$137,5,0) -> 107655 | L32: =1/619.375 -> 0.0016145308 | N32: =K32*L32 -> 173.81231
B33: C0010610 | C33: Motoniveladora potencia 215 HP, ancho de cuchilla 4,27 m, peso 18 ton | K33: =VLOOKUP(B33,Equipos!$C$6:$G$137,5,0) -> 180000 | L33: =1/619.375 -> 0.0016145308 | N33: =K33*L33 -> 290.61554
B34: C0010923 | C34: Vibrocompactador, potencia 153 HP, peso 10 ton | K34: =VLOOKUP(B34,Equipos!$C$6:$G$137,5,0) -> 102367 | L34: =1/619.375 -> 0.0016145308 | N34: =K34*L34 -> 165.27467
B35: C0010130 | C35: Cargador: potencia en el volante 110 hp, clasificación de rpm del motor 2300 | K35: =VLOOKUP(B35,Equipos!$C$6:$G$137,5,0) -> 132000 | L35: =1/619.375 -> 0.0016145308 | N35: =K35*L35 -> 213.11806
N36: =K36*L36 -> 0
N37: =K37*L37 -> 0
N38: =K38*L38 -> 0
N39: =K39*L39 -> 0
B41: SUBTOTAL $ | N41: =SUM(N32:N40) -> 842.82059
B43: II. MATERIALES
B45: CÓDIGO | C45: DESCRIPCIÓN | J45: UNIDAD | K45: CANTIDAD | L45: PRECIO UNIT. | N45: Vr. UNITARIO
B46: B0063200 | C46: Agua | J46: L | K46: 3 | L46: =VLOOKUP(B46,Materiales!$C$6:$F$373,4,0) -> 89 | N46: =K46*L46 -> 267
N47: =K47*L47 -> 0
N48: =K48*L48 -> 0
N49: =K49*L49 -> 0
N50: =K50*L50 -> 0
N51: =K51*L51 -> 0
N52: =K52*L52 -> 0
N53: =K53*L53 -> 0
N54: =K54*L54 -> 0
N55: =K55*L55 -> 0
B56: SUBTOTAL $ | N56: =SUM(N46:N55) -> 267
B58: III. TRANSPORTES
B60: CÓDIGO | C60: DESCRIPCIÓN | I60: UNIDAD | J60: CANTIDAD (1) | K60: DISTANCIA (2) | L60: (1) * (2) | M60: TARIFA | N60: Vr. UNITARIO
...

Sheet 311.1
E1: INSTITUTO NACIONAL DE VIAS
E4: ANÁLISIS DE PRECIOS UNITARIOS REGIONALIZADOS DE REFERENCIA
E6: ACTUALIZACIÓN PERIÓDICA
K7: FECHA | M7: 06 | N7: 2023
L8: (Día) | M8: (Mes) | N8: (Año)
B9: ÍTEM BASE DE APU DE REFERENCIA: | E9: ⊠
B11: UNIDAD EJECUTORA: | D11: SUBDIRECCIÓN DE VÍAS REGIONALES | J11: DIRECCIÓN TERRITORIAL: | K11: =+Presupuesto!I7 -> CAUCA
B14: CONVENIO No. | D14: FECHA:
B15: OBJETO DEL CONVENIO: | D15: =+Presupuesto!A5 -> AUNAR ESFUERZOS ENTRE EL INSTITUTO NACIONAL DE VIAS Y LA JUNTA DE ACCION COMUNAL DE LA VEREDA DE LA PALOMERA DEL MUNICIPIO DE SANTANDER DE QUILICHAO EN EL DEPARTAMENTO DE CAUCA PARA EL MEJORAMIENTO VIAL EN EL MARCO DEL PROGRAMA CAMINOS COMUNITARIOS DE LA PAZ TOTAL.
B19: CONTRATISTA:
B21: INTERVENTOR: | K21: CONTRATO No. | M21: FECHA: | N21: ______________
B24: DATOS ESPECÍFICOS
B26: ÍTEM | C26: DESCRIPCIÓN | L26: UNIDAD | N26: CANTIDAD
B27: 311.1 | C27: AFIRMADO | L27: m3
B29: I. EQUIPO
B31: CÓDIGO | C31: DESCRIPCIÓN | J31: TIPO | K31: TARIFA/HORA | L31: RENDIMIENTO | N31: Vr. UNITARIO
B32: C0010150 | C32: =VLOOKUP(B32,Equipos!$C$6:$G$137,3,0) -> Carrotanque de agua(1000 Galones) | K32: =VLOOKUP(B32,Equipos!$C$6:$G$137,5,0) -> 107655 | L32: =1/45 -> 0.022222222 | N32: =K32*L32 -> 2392.3333
B33: C0010610 | C33: =VLOOKUP(B33,Equipos!$C$6:$G$137,3,0) -> Motoniveladora potencia 215 HP, ancho de cuchilla 4,27 m, peso 18 ton | K33: =VLOOKUP(B33,Equipos!$C$6:$G$137,5,0) -> 180000 | L33: =1/45 -> 0.022222222 | N33: =K33*L33 -> 4000
B34: C0010923 | C34: =VLOOKUP(B34,Equipos!$C$6:$G$137,3,0) -> Vibrocompactador, potencia 153 HP, peso 10 ton | K34: =VLOOKUP(B34,Equipos!$C$6:$G$137,5,0) -> 102367 | L34: =1/45 -> 0.022222222 | N34: =K34*L34 -> 2274.8222
N35: =K35*L35 -> 0
N36: =K36*L36 -> 0
N37: =K37*L37 -> 0
N38: =K38*L38 -> 0
N39: =K39*L39 -> 0
B41: SUBTOTAL $ | N41: =SUM(N32:N40) -> 8667.1556
B43: II. MATERIALES
B45: CÓDIGO | C45: DESCRIPCIÓN | J45: UNIDAD | K45: CANTIDAD | L45: PRECIO UNIT. | N45: Vr. UNITARIO
B46: B0063200 | C46: Agua | J46: L | K46: 22 | L46: =VLOOKUP(B46,Materiales!$C$6:$F$373,4,0) -> 89 | N46: =K46*L46 -> 1958
B47: B0014270 | C47: Material de afirmado CBR ≥ 15% | J47: m3 | K47: 1.25 | L47: =VLOOKUP(B47,Materiales!$C$6:$F$373,4,0) -> 33828.693 | N47: =K47*L47 -> 42285.866
N48: =K48*L48 -> 0
N49: =K49*L49 -> 0
N50: =K50*L50 -> 0
N51: =K51*L51 -> 0
N52: =K52*L52 -> 0
N53: =K53*L53 -> 0
N54: =K54*L54 -> 0
N55: =K55*L55 -> 0
B56: SUBTOTAL $ | N56: =SUM(N46:N55) -> 44243.866
B58: III. TRANSPORTES
B60: CÓDIGO | C60: DESCRIPCIÓN | I60: UNIDAD | J60: CANTIDAD (1) | K60: DISTANCIA (2) | L60: (1) * (2) | M60: TARIFA | N60: Vr. UNITARIO
...

Sheet 320.3.1
E1: INSTITUTO NACIONAL DE VIAS
E4: ANÁLISIS DE PRECIOS UNITARIOS REGIONALIZADOS DE REFERENCIA
E6: ACTUALIZACIÓN PERIÓDICA
K7: FECHA | M7: 06 | N7: 2023
L8: (Día) | M8: (Mes) | N8: (Año)
B9: ÍTEM BASE DE APU DE REFERENCIA: | E9: ⊠
B11: UNIDAD EJECUTORA: | D11: SUBDIRECCIÓN DE VÍAS REGIONALES | J11: DIRECCIÓN TERRITORIAL: | K11: =+Presupuesto!I7 -> CAUCA
B14: CONVENIO No. | D14: FECHA:
B15: OBJETO DEL CONVENIO: | D15: =+Presupuesto!A5 -> AUNAR ESFUERZOS ENTRE EL INSTITUTO NACIONAL DE VIAS Y LA JUNTA DE ACCION COMUNAL DE LA VEREDA DE LA PALOMERA DEL MUNICIPIO DE SANTANDER DE QUILICHAO EN EL DEPARTAMENTO DE CAUCA PARA EL MEJORAMIENTO VIAL EN EL MARCO DEL PROGRAMA CAMINOS COMUNITARIOS DE LA PAZ TOTAL.
B19: CONTRATISTA:
B21: INTERVENTOR: | K21: CONTRATO No. | M21: FECHA: | N21: ______________
B24: DATOS ESPECÍFICOS
B26: ÍTEM | C26: DESCRIPCIÓN | L26: UNIDAD | N26: CANTIDAD
B27: 320.3.1 | C27: SUBBASE GRANULAR CLASE C SBG-50 | L27: m3
B29: I. EQUIPO
B31: CÓDIGO | C31: DESCRIPCIÓN | J31: TIPO | K31: TARIFA/HORA | L31: RENDIMIENTO | N31: Vr. UNITARIO
B32: C0010150 | C32: Carrotanque de agua(1000 Galones) | K32: =VLOOKUP(B32,Equipos!$C$6:$G$137,5,0) -> 107655 | L32: =1/40 -> 0.025 | N32: =K32*L32 -> 2691.375
B33: C0010610 | C33: Motoniveladora potencia 215 HP, ancho de cuchilla 4,27 m, peso 18 ton | K33: =VLOOKUP(B33,Equipos!$C$6:$G$137,5,0) -> 180000 | L33: =1/40 -> 0.025 | N33: =K33*L33 -> 4500
