Workbook
Name listado: #REF!
Name PERSONAL: #REF!

Sheet FUMIGACION
A2: ANEXO NO. 2 - SERVICIOS REQUERIDOS
A3: SERVICIO DE FUMIGACIÓN
A5: REGIONALES | B5: DEPARTAMENTOS | C5: PUNTOS DE ATENCIÓN | D5: INDEXACIÓN FNA-VGHA-CD-050-2022 | I5: COTIZACIÓN 1 | L5: COTIZACIÓN 2 | O5: MEDIDA DE TENDENCIA: DESVIACIONES | S5: MEDIDA DE TENDENCIA: PROMEDIO | V5: MEDIDA DE TENDENCIA: MEDIANA | Y5: MEDIDA DE TENDENCIA: MEDIA GEOMETRICA | AB5: MEDIDA DE TENDENCIA: MEDIA ARMONICA
D6: VALOR UNITARIO | E6: IPC | F6: VALOR UNITARIO | G6: IVA (19%) | H6: TOTAL | I6: VALOR UNITARIO | J6: IVA (19%) | K6: TOTAL | L6: VALOR UNITARIO | M6: IVA (19%) | N6: TOTAL | O6: PROMEDIO | P6: DESVEST | Q6: MAX | R6: MIN | S6: VALOR UNITARIO | T6: VALOR DEL IVA 19% | U6: VALOR TOTAL | V6: VALOR UNITARIO | W6: VALOR DEL IVA 19% | X6: VALOR TOTAL | Y6: VALOR UNITARIO | Z6: VALOR DEL IVA 19% | AA6: VALOR TOTAL | AB6: VALOR UNITARIO | AC6: VALOR DEL IVA 19% | AD6: VALOR TOTAL
A7: BOGOTA CENTRO ZONA 1 | B7: BOGOTÁ D.C. | C7: CNA | D7: 800986 | E7: =D7*13.12% -> 105089.36 | F7: =D7+E7 -> 906075.36 | G7: =F7*0.19 -> 172154.32 | H7: =ROUND(F7+G7,0) -> 1078230 | I7: 1120000 | J7: =I7*0.19 -> 212800 | K7: =I7+J7 -> 1332800 | L7: 470000 | M7: =L7*0.19 -> 89300 | N7: =L7+M7 -> 559300 | O7: =ROUND(AVERAGE(F7,I7,L7),0) -> 832025 | P7: =ROUND(STDEV(F7,I7,L7),0) -> 331267 | Q7: =O7+P7 -> 1163292 | R7: =O7-P7 -> 500758 | S7: =ROUND(AVERAGE(F7,I7),0) -> 1013038 | T7: =ROUND(S7*19%,0) -> 192477 | U7: =S7+T7 -> 1205515 | V7: =ROUND(MEDIAN(F7,I7),0) -> 1013038 | W7: =ROUND(V7*19%,0) -> 192477 | X7: =V7+W7 -> 1205515 | Y7: =ROUND(GEOMEAN(F7,I7),0) -> 1007375 | Z7: =ROUND(Y7*19%,0) -> 191401 | AA7: =Y7+Z7 -> 1198776 | AB7: =ROUND(HARMEAN(F7,I7),0) -> 1001744 | AC7: =ROUND(AB7*19%,0) -> 190331 | AD7: =AB7+AC7 -> 1192075
B8: BOGOTÁ D.C. | C8: CAFAM | D8: 203145 | E8: =D8*13.12% -> 26652.624 | F8: =D8+E8 -> 229797.62 | G8: =F8*0.19 -> 43661.549 | H8: =ROUND(F8+G8,0) -> 273459 | I8: 304000 | J8: =I8*0.19 -> 57760 | K8: =I8+J8 -> 361760 | L8: 282000 | M8: =L8*0.19 -> 53580 | N8: =L8+M8 -> 335580 | O8: =AVERAGE(F8,I8,L8) -> 271932.54 | P8: =ROUND(STDEV(F8,I8,L8),0) -> 38112 | Q8: =O8+P8 -> 310044.54 | R8: =O8-P8 -> 233820.54 | S8: =AVERAGE(I8,L8) -> 293000 | T8: =ROUND(S8*19%,0) -> 55670 | U8: =S8+T8 -> 348670 | V8: =ROUND(MEDIAN(I8,L8),0) -> 293000 | W8: =ROUND(V8*19%,0) -> 55670 | X8: =V8+W8 -> 348670 | Y8: =ROUND(GEOMEAN(I8,L8),0) -> 292793 | Z8: =ROUND(Y8*19%,0) -> 55631 | AA8: =Y8+Z8 -> 348424 | AB8: =ROUND(HARMEAN(I8,L8),0) -> 292587 | AC8: =ROUND(AB8*19%,0) -> 55592 | AD8: =AB8+AC8 -> 348179
B9: BOGOTÁ D.C. | C9: Suba | D9: 343875 | E9: =D9*13.12% -> 45116.4 | F9: =D9+E9 -> 388991.4 | G9: =F9*0.19 -> 73908.366 | H9: =ROUND(F9+G9,0) -> 462900 | I9: 528000 | J9: =I9*0.19 -> 100320 | K9: =I9+J9 -> 628320 | L9: 357200 | M9: =L9*0.19 -> 67868 | N9: =L9+M9 -> 425068 | O9: =AVERAGE(F9,I9,L9) -> 424730.47 | P9: =ROUND(STDEV(F9,I9,L9),0) -> 90836 | Q9: =O9+P9 -> 515566.47 | R9: =O9-P9 -> 333894.47 | S9: =AVERAGE(F9,L9) -> 373095.7 | T9: =ROUND(S9*19%,0) -> 70888 | U9: =S9+T9 -> 443983.7 | V9: =ROUND(MEDIAN(F9,L9),0) -> 373096 | W9: =ROUND(V9*19%,0) -> 70888 | X9: =V9+W9 -> 443984 | Y9: =ROUND(GEOMEAN(F9,L9),0) -> 372757 | Z9: =ROUND(Y9*19%,0) -> 70824 | AA9: =Y9+Z9 -> 443581 | AB9: =ROUND(HARMEAN(F9,L9),0) -> 372418 | AC9: =ROUND(AB9*19%,0) -> 70759 | AD9: =AB9+AC9 -> 443177
B10: BOYACA | C10: Tunja | D10: 278972 | E10: =D10*13.12% -> 36601.126 | F10: =D10+E10 -> 315573.13 | G10: =F10*0.19 -> 59958.894 | H10: =ROUND(F10+G10,0) -> 375532 | I10: 432000 | J10: =I10*0.19 -> 82080 | K10: =I10+J10 -> 514080 | L10: 799000 | M10: =L10*0.19 -> 151810 | N10: =L10+M10 -> 950810 | O10: =AVERAGE(F10,I10,L10) -> 515524.38 | P10: =ROUND(STDEV(F10,I10,L10),0) -> 252305 | Q10: =O10+P10 -> 767829.38 | R10: =O10-P10 -> 263219.38 | S10: =AVERAGE(F10,I10) -> 373786.56 | T10: =ROUND(S10*19%,0) -> 71019 | U10: =S10+T10 -> 444805.56 | V10: =ROUND(MEDIAN(F10,I10),0) -> 373787 | W10: =ROUND(V10*19%,0) -> 71020 | X10: =V10+W10 -> 444807 | Y10: =ROUND(GEOMEAN(F10,I10),0) -> 369226 | Z10: =ROUND(Y10*19%,0) -> 70153 | AA10: =Y10+Z10 -> 439379 | AB10: =ROUND(HARMEAN(F10,I10),0) -> 364720 | AC10: =ROUND(AB10*19%,0) -> 69297 | AD10: =AB10+AC10 -> 434017
B11: CUNDINAMARCA | C11: Chía | D11: 154008 | E11: =D11*13.12% -> 20205.85 | F11: =D11+E11 -> 174213.85 | G11: =F11*0.19 -> 33100.631 | H11: =ROUND(F11+G11,0) -> 207314 | I11: 224000 | J11: =I11*0.19 -> 42560 | K11: =I11+J11 -> 266560 | L11: 376000 | M11: =L11*0.19 -> 71440 | N11: =L11+M11 -> 447440 | O11: =AVERAGE(F11,I11,L11) -> 258071.28 | P11: =ROUND(STDEV(F11,I11,L11),0) -> 105119 | Q11: =O11+P11 -> 363190.28 | R11: =O11-P11 -> 152952.28 | S11: =AVERAGE(F11,I11) -> 199106.92 | T11: =ROUND(S11*19%,0) -> 37830 | U11: =S11+T11 -> 236936.92 | V11: =ROUND(MEDIAN(F11,I11),0) -> 199107 | W11: =ROUND(V11*19%,0) -> 37830 | X11: =V11+W11 -> 236937 | Y11: =ROUND(GEOMEAN(F11,I11),0) -> 197545 | Z11: =ROUND(Y11*19%,0) -> 37534 | AA11: =Y11+Z11 -> 235079 | AB11: =ROUND(HARMEAN(F11,I11),0) -> 195995 | AC11: =ROUND(AB11*19%,0) -> 37239 | AD11: =AB11+AC11 -> 233234
B12: CUNDINAMARCA | C12: Girardot | D12: 265109 | E12: =D12*13.12% -> 34782.301 | F12: =D12+E12 -> 299891.3 | G12: =F12*0.19 -> 56979.347 | H12: =ROUND(F12+G12,0) -> 356871 | I12: 400000 | J12: =I12*0.19 -> 76000 | K12: =I12+J12 -> 476000 | L12: 376000 | M12: =L12*0.19 -> 71440 | N12: =L12+M12 -> 447440 | O12: =AVERAGE(F12,I12,L12) -> 358630.43 | P12: =ROUND(STDEV(F12,I12,L12),0) -> 52266 | Q12: =O12+P12 -> 410896.43 | R12: =O12-P12 -> 306364.43 | S12: =AVERAGE(I12,L12) -> 388000 | T12: =ROUND(S12*19%,0) -> 73720 | U12: =S12+T12 -> 461720 | V12: =ROUND(MEDIAN(I12,L12),0) -> 388000 | W12: =ROUND(V12*19%,0) -> 73720 | X12: =V12+W12 -> 461720 | Y12: =ROUND(GEOMEAN(I12,L12),0) -> 387814 | Z12: =ROUND(Y12*19%,0) -> 73685 | AA12: =Y12+Z12 -> 461499 | AB12: =ROUND(HARMEAN(I12,L12),0) -> 387629 | AC12: =ROUND(AB12*19%,0) -> 73650 | AD12: =AB12+AC12 -> 461279
B13: CUNDINAMARCA | C13: Zipaquirá | D13: 187770 | E13: =D13*13.12% -> 24635.424 | F13: =D13+E13 -> 212405.42 | G13: =F13*0.19 -> 40357.031 | H13: =ROUND(F13+G13,0) -> 252762 | I13: 272000 | J13: =I13*0.19 -> 51680 | K13: =I13+J13 -> 323680 | L13: 376000 | M13: =L13*0.19 -> 71440 | N13: =L13+M13 -> 447440 | O13: =AVERAGE(F13,I13,L13) -> 286801.81 | P13: =ROUND(STDEV(F13,I13,L13),0) -> 82796 | Q13: =O13+P13 -> 369597.81 | R13: =O13-P13 -> 204005.81 | S13: =AVERAGE(F13,I13) -> 242202.71 | T13: =ROUND(S13*19%,0) -> 46019 | U13: =S13+T13 -> 288221.71 | V13: =ROUND(MEDIAN(F13,I13),0) -> 242203 | W13: =ROUND(V13*19%,0) -> 46019 | X13: =V13+W13 -> 288222 | Y13: =ROUND(GEOMEAN(F13,I13),0) -> 240363 | Z13: =ROUND(Y13*19%,0) -> 45669 | AA13: =Y13+Z13 -> 286032 | AB13: =ROUND(HARMEAN(F13,I13),0) -> 238537 | AC13: =ROUND(AB13*19%,0) -> 45322 | AD13: =AB13+AC13 -> 283859
A14: BOGOTA CENTRO ZONA 2 | B14: BOGOTÁ D.C. | C14: Ángel | D14: 484076 | E14: =D14*13.12% -> 63510.771 | F14: =D14+E14 -> 547586.77 | G14: =F14*0.19 -> 104041.49 | H14: =ROUND(F14+G14,0) -> 651628 | I14: 624000 | J14: =I14*0.19 -> 118560 | K14: =I14+J14 -> 742560 | L14: 282000 | M14: =L14*0.19 -> 53580 | N14: =L14+M14 -> 335580 | O14: =AVERAGE(F14,I14,L14) -> 484528.92 | P14: =ROUND(STDEV(F14,I14,L14),0) -> 179508 | Q14: =O14+P14 -> 664036.92 | R14: =O14-P14 -> 305020.92 | S14: =AVERAGE(F14,I14) -> 585793.39 | T14: =ROUND(S14*19%,0) -> 111301 | U14: =S14+T14 -> 697094.39 | V14: =ROUND(MEDIAN(F14,I14),0) -> 585793 | W14: =ROUND(V14*19%,0) -> 111301 | X14: =V14+W14 -> 697094 | Y14: =ROUND(GEOMEAN(F14,I14),0) -> 584546 | Z14: =ROUND(Y14*19%,0) -> 111064 | AA14: =Y14+Z14 -> 695610 | AB14: =ROUND(HARMEAN(F14,I14),0) -> 583301 | AC14: =ROUND(AB14*19%,0) -> 110827 | AD14: =AB14+AC14 -> 694128
B15: BOGOTA D.C | C15: CAN | D15: 284493 | E15: =D15*13.12% -> 37325.482 | F15: =D15+E15 -> 321818.48 | G15: =F15*0.19 -> 61145.512 | H15: =ROUND(F15+G15,0) -> 382964 | I15: 432000 | J15: =I15*0.19 -> 82080 | K15: =I15+J15 -> 514080 | L15: 282000 | M15: =L15*0.19 -> 53580 | N15: =L15+M15 -> 335580 | O15: =AVERAGE(F15,I15,L15) -> 345272.83 | P15: =ROUND(STDEV(F15,I15,L15),0) -> 77702 | Q15: =O15+P15 -> 422974.83 | R15: =O15-P15 -> 267570.83 | S15: =AVERAGE(F15,L15) -> 301909.24 | T15: =ROUND(S15*19%,0) -> 57363 | U15: =S15+T15 -> 359272.24 | V15: =ROUND(MEDIAN(F15,L15),0) -> 301909 | W15: =ROUND(V15*19%,0) -> 57363 | X15: =V15+W15 -> 359272 | Y15: =ROUND(GEOMEAN(F15,L15),0) -> 301252 | Z15: =ROUND(Y15*19%,0) -> 57238 | AA15: =Y15+Z15 -> 358490 | AB15: =ROUND(HARMEAN(F15,L15),0) -> 300596 | AC15: =ROUND(AB15*19%,0) -> 57113 | AD15: =AB15+AC15 -> 357709
B16: BOGOTA D.C | C16: Paseo Villa del Rio | D16: 184578 | E16: =D16*13.12% -> 24216.634 | F16: =D16+E16 -> 208794.63 | G16: =F16*0.19 -> 39670.98 | H16: =ROUND(F16+G16,0) -> 248466 | I16: 272000 | J16: =I16*0.19 -> 51680 | K16: =I16+J16 -> 323680 | L16: 282000 | M16: =L16*0.19 -> 53580 | N16: =L16+M16 -> 335580 | O16: =AVERAGE(F16,I16,L16) -> 254264.88 | P16: =ROUND(STDEV(F16,I16,L16),0) -> 39695 | Q16: =O16+P16 -> 293959.88 | R16: =O16-P16 -> 214569.88 | S16: =AVERAGE(I16,L16) -> 277000 | T16: =ROUND(S16*19%,0) -> 52630 | U16: =S16+T16 -> 329630 | V16: =ROUND(MEDIAN(I16,L16),0) -> 277000 | W16: =ROUND(V16*19%,0) -> 52630 | X16: =V16+W16 -> 329630 | Y16: =ROUND(GEOMEAN(I16,L16),0) -> 276955 | Z16: =ROUND(Y16*19%,0) -> 52621 | AA16: =Y16+Z16 -> 329576 | AB16: =ROUND(HARMEAN(I16,L16),0) -> 276910 | AC16: =ROUND(AB16*19%,0) -> 52613 | AD16: =AB16+AC16 -> 329523
B17: CUNDINAMARCA | C17: Soacha | D17: 275639 | E17: =D17*13.12% -> 36163.837 | F17: =D17+E17 -> 311802.84 | G17: =F17*0.19 -> 59242.539 | H17: =ROUND(F17+G17,0) -> 371045 | I17: 416000 | J17: =I17*0.19 -> 79040 | K17: =I17+J17 -> 495040 | L17: 329000 | M17: =L17*0.19 -> 62510 | N17: =L17+M17 -> 391510 | O17: =AVERAGE(F17,I17,L17) -> 352267.61 | P17: =ROUND(STDEV(F17,I17,L17),0) -> 55860 | Q17: =O17+P17 -> 408127.61 | R17: =O17-P17 -> 296407.61 | S17: =AVERAGE(F17,L17) -> 320401.42 | T17: =ROUND(S17*19%,0) -> 60876 | U17: =S17+T17 -> 381277.42 | V17: =ROUND(MEDIAN(F17,L17),0) -> 320401 | W17: =ROUND(V17*19%,0) -> 60876 | X17: =V17+W17 -> 381277 | Y17: =ROUND(GEOMEAN(F17,L17),0) -> 320286 | Z17: =ROUND(Y17*19%,0) -> 60854 | AA17: =Y17+Z17 -> 381140 | AB17: =ROUND(HARMEAN(F17,L17),0) -> 320171 | AC17: =ROUND(AB17*19%,0) -> 60832 | AD17: =AB17+AC17 -> 381003
B18: HUILA | C18: Neiva | D18: 311194 | E18: =D18*13.12% -> 40828.653 | F18: =D18+E18 -> 352022.65 | G18: =F18*0.19 -> 66884.304 | H18: =ROUND(F18+G18,0) -> 418907 | I18: 464000 | J18: =I18*0.19 -> 88160 | K18: =I18+J18 -> 552160 | L18: 799000 | M18: =L18*0.19 -> 151810 | N18: =L18+M18 -> 950810 | O18: =AVERAGE(F18,I18,L18) -> 538340.88 | P18: =ROUND(STDEV(F18,I18,L18),0) -> 232577 | Q18: =O18+P18 -> 770917.88 | R18: =O18-P18 -> 305763.88 | S18: =AVERAGE(F18,I18) -> 408011.33 | T18: =ROUND(S18*19%,0) -> 77522 | U18: =S18+T18 -> 485533.33 | V18: =ROUND(MEDIAN(F18,I18),0) -> 408011 | W18: =ROUND(V18*19%,0) -> 77522 | X18: =V18+W18 -> 485533 | Y18: =ROUND(GEOMEAN(F18,I18),0) -> 404152 | Z18: =ROUND(Y18*19%,0) -> 76789 | AA18: =Y18+Z18 -> 480941 | AB18: =ROUND(HARMEAN(F18,I18),0) -> 400328 | AC18: =ROUND(AB18*19%,0) -> 76062 | AD18: =AB18+AC18 -> 476390
B19: TOLIMA | C19: Espinal | E19: =D19*13.12% -> 0 | G19: =F19*0.19 -> 0 | H19: =ROUND(F19+G19,0) -> 0 | I19: 323000 | J19: =I19*0.19 -> 61370 | K19: =I19+J19 -> 384370 | L19: 799000 | M19: =L19*0.19 -> 151810 | N19: =L19+M19 -> 950810 | O19: =AVERAGE(I19,L19) -> 561000 | P19: =ROUND(STDEV(I19,L19),0) -> 336583 | Q19: =O19+P19 -> 897583 | R19: =O19-P19 -> 224417 | S19: =AVERAGE(I19,L19) -> 561000 | T19: =ROUND(S19*19%,0) -> 106590 | U19: =S19+T19 -> 667590 | V19: =ROUND(MEDIAN(I19,L19),0) -> 561000 | W19: =ROUND(V19*19%,0) -> 106590 | X19: =V19+W19 -> 667590 | Y19: =ROUND(GEOMEAN(I19,L19),0) -> 508013 | Z19: =ROUND(Y19*19%,0) -> 96522 | AA19: =Y19+Z19 -> 604535 | AB19: =ROUND(HARMEAN(I19,L19),0) -> 460030 | AC19: =ROUND(AB19*19%,0) -> 87406 | AD19: =AB19+AC19 -> 547436
B20: TOLIMA | C20: Ibagué | D20: 311111 | E20: =D20*13.12% -> 40817.763 | F20: =D20+E20 -> 351928.76 | G20: =F20*0.19 -> 66866.465 | H20: =ROUND(F20+G20,0) -> 418795 | I20: 464000 | J20: =I20*0.19 -> 88160 | K20: =I20+J20 -> 552160 | L20: 799000 | M20: =L20*0.19 -> 151810 | N20: =L20+M20 -> 950810 | O20: =AVERAGE(F20,I20,L20) -> 538309.59 | P20: =ROUND(STDEV(F20,I20,L20),0) -> 232615 | Q20: =O20+P20 -> 770924.59 | R20: =O20-P20 -> 305694.59 | S20: =AVERAGE(F20,I20) -> 407964.38 | T20: =ROUND(S20*19%,0) -> 77513 | U20: =S20+T20 -> 485477.38 | V20: =ROUND(MEDIAN(F20,I20),0) -> 407964 | W20: =ROUND(V20*19%,0) -> 77513 | X20: =V20+W20 -> 485477 | Y20: =ROUND(GEOMEAN(F20,I20),0) -> 404098 | Z20: =ROUND(Y20*19%,0) -> 76779 | AA20: =Y20+Z20 -> 480877 | AB20: =ROUND(HARMEAN(F20,I20),0) -> 400268 | AC20: =ROUND(AB20*19%,0) -> 76051 | AD20: =AB20+AC20 -> 476319
A21: ANTIOQUIA - EJE CAFETERO | B21: ANTIOQUIA | C21: Apartado | D21: 241643 | E21: =D21*13.12% -> 31703.562 | F21: =D21+E21 -> 273346.56 | G21: =F21*0.19 -> 51935.847 | H21: =ROUND(F21+G21,0) -> 325282 | I21: 480000 | J21: =I21*0.19 -> 91200 | K21: =I21+J21 -> 571200 | L21: 799000 | M21: =L21*0.19 -> 151810 | N21: =L21+M21 -> 950810 | O21: =AVERAGE(F21,I21,L21) -> 517448.85 | P21: =ROUND(STDEV(F21,I21,L21),0) -> 264820 | Q21: =O21+P21 -> 782268.85 | R21: =O21-P21 -> 252628.85 | S21: =AVERAGE(F21,I21) -> 376673.28 | T21: =ROUND(S21*19%,0) -> 71568 | U21: =S21+T21 -> 448241.28 | V21: =ROUND(MEDIAN(F21,I21),0) -> 376673 | W21: =ROUND(V21*19%,0) -> 71568 | X21: =V21+W21 -> 448241 | Y21: =ROUND(GEOMEAN(F21,I21),0) -> 362224 | Z21: =ROUND(Y21*19%,0) -> 68823 | AA21: =Y21+Z21 -> 431047 | AB21: =ROUND(HARMEAN(F21,I21),0) -> 348329 | AC21: =ROUND(AB21*19%,0) -> 66183 | AD21: =AB21+AC21 -> 414512
B22: ANTIOQUIA | C22: Mayorca | D22: 198775 | E22: =D22*13.12% -> 26079.28 | G22: =F22*0.19 -> 0 | H22: =ROUND(F22+G22,0) -> 0 | I22: 272000 | J22: =I22*0.19 -> 51680 | K22: =I22+J22 -> 323680 | L22: 799000 | M22: =L22*0.19 -> 151810 | N22: =L22+M22 -> 950810 | O22: =AVERAGE(I22,L22) -> 535500 | P22: =ROUND(STDEV(I22,L22),0) -> 372645 | Q22: =O22+P22 -> 908145 | R22: =O22-P22 -> 162855 | S22: =AVERAGE(I22,L22) -> 535500 | T22: =ROUND(S22*19%,0) -> 101745 | U22: =S22+T22 -> 637245 | V22: =ROUND(MEDIAN(I22,L22),0) -> 535500 | W22: =ROUND(V22*19%,0) -> 101745 | X22: =V22+W22 -> 637245 | Y22: =ROUND(GEOMEAN(I22,L22),0) -> 466185 | Z22: =ROUND(Y22*19%,0) -> 88575 | AA22: =Y22+Z22 -> 554760 | AB22: =ROUND(HARMEAN(I22,L22),0) -> 405841 | AC22: =ROUND(AB22*19%,0) -> 77110 | AD22: =AB22+AC22 -> 482951
B23: ANTIOQUIA | C23: Medellín | D23: 378011 | E23: =D23*13.12% -> 49595.043 | F23: =D23+E23 -> 427606.04 | G23: =F23*0.19 -> 81245.148 | H23: =ROUND(F23+G23,0) -> 508851 | I23: 560000 | J23: =I23*0.19 -> 106400 | K23: =I23+J23 -> 666400 | L23: 799000 | M23: =L23*0.19 -> 151810 | N23: =L23+M23 -> 950810 | O23: =AVERAGE(F23,I23,L23) -> 595535.35 | P23: =ROUND(STDEV(F23,I23,L23),0) -> 188230 | Q23: =O23+P23 -> 783765.35 | R23: =O23-P23 -> 407305.35 | S23: =AVERAGE(F23,I23) -> 493803.02 | T23: =ROUND(S23*19%,0) -> 93823 | U23: =S23+T23 -> 587626.02 | V23: =ROUND(MEDIAN(F23,I23),0) -> 493803 | W23: =ROUND(V23*19%,0) -> 93823 | X23: =V23+W23 -> 587626 | Y23: =ROUND(GEOMEAN(F23,I23),0) -> 489346 | Z23: =ROUND(Y23*19%,0) -> 92976 | AA23: =Y23+Z23 -> 582322 | AB23: =ROUND(HARMEAN(F23,I23),0) -> 484929 | AC23: =ROUND(AB23*19%,0) -> 92137 | AD23: =AB23+AC23 -> 577066
B24: ANTIOQUIA | C24: Rio Negro | D24: 172124 | E24: =D24*13.12% -> 22582.669 | F24: =D24+E24 -> 194706.67 | G24: =F24*0.19 -> 36994.267 | H24: =ROUND(F24+G24,0) -> 231701 | I24: 400000 | J24: =I24*0.19 -> 76000 | K24: =I24+J24 -> 476000 | L24: 799000 | M24: =L24*0.19 -> 151810 | N24: =L24+M24 -> 950810 | O24: =AVERAGE(F24,I24,L24) -> 464568.89 | P24: =ROUND(STDEV(F24,I24,L24),0) -> 307278 | Q24: =O24+P24 -> 771846.89 | R24: =O24-P24 -> 157290.89 | S24: =AVERAGE(F24,I24) -> 297353.33 | T24: =ROUND(S24*19%,0) -> 56497 | U24: =S24+T24 -> 353850.33 | V24: =ROUND(MEDIAN(F24,I24),0) -> 297353 | W24: =ROUND(V24*19%,0) -> 56497 | X24: =V24+W24 -> 353850 | Y24: =ROUND(GEOMEAN(F24,I24),0) -> 279075 | Z24: =ROUND(Y24*19%,0) -> 53024 | AA24: =Y24+Z24 -> 332099 | AB24: =ROUND(HARMEAN(F24,I24),0) -> 261920 | AC24: =ROUND(AB24*19%,0) -> 49765 | AD24: =AB24+AC24 -> 311685
B25: CALDAS | C25: La Dorada | D25: 217457 | E25: =D25*13.12% -> 28530.358 | F25: =D25+E25 -> 245987.36 | G25: =F25*0.19 -> 46737.598 | H25: =ROUND(F25+G25,0) -> 292725 | I25: 320000 | J25: =I25*0.19 -> 60800 | K25: =I25+J25 -> 380800 | L25: 799000 | M25: =L25*0.19 -> 151810 | N25: =L25+M25 -> 950810 | O25: =AVERAGE(F25,I25,L25) -> 454995.79 | P25: =ROUND(STDEV(F25,I25,L25),0) -> 300206 | Q25: =O25+P25 -> 755201.79 | R25: =O25-P25 -> 154789.79 | S25: =AVERAGE(F25,I25) -> 282993.68 | T25: =ROUND(S25*19%,0) -> 53769 | U25: =S25+T25 -> 336762.68 | V25: =ROUND(MEDIAN(F25,I25),0) -> 282994 | W25: =ROUND(V25*19%,0) -> 53769 | X25: =V25+W25 -> 336763 | Y25: =ROUND(GEOMEAN(F25,I25),0) -> 280564 | Z25: =ROUND(Y25*19%,0) -> 53307 | AA25: =Y25+Z25 -> 333871 | AB25: =ROUND(HARMEAN(F25,I25),0) -> 278154 | AC25: =ROUND(AB25*19%,0) -> 52849 | AD25: =AB25+AC25 -> 331003
B26: CALDAS | C26: Manizales | D26: 306758 | E26: =D26*13.12% -> 40246.65 | F26: =D26+E26 -> 347004.65 | G26: =F26*0.19 -> 65930.883 | H26: =ROUND(F26+G26,0) -> 412936 | I26: 464000 | J26: =I26*0.19 -> 88160 | K26: =I26+J26 -> 552160 | L26: 799000 | M26: =L26*0.19 -> 151810 | N26: =L26+M26 -> 950810 | O26: =AVERAGE(F26,I26,L26) -> 536668.22 | P26: =ROUND(STDEV(F26,I26,L26),0) -> 234596 | Q26: =O26+P26 -> 771264.22 | R26: =O26-P26 -> 302072.22 | S26: =AVERAGE(F26,I26) -> 405502.32 | T26: =ROUND(S26*19%,0) -> 77045 | U26: =S26+T26 -> 482547.32 | V26: =ROUND(MEDIAN(F26,I26),0) -> 405502 | W26: =ROUND(V26*19%,0) -> 77045 | X26: =V26+W26 -> 482547 | Y26: =ROUND(GEOMEAN(F26,I26),0) -> 401261 | Z26: =ROUND(Y26*19%,0) -> 76240 | AA26: =Y26+Z26 -> 477501 | AB26: =ROUND(HARMEAN(F26,I26),0) -> 397063 | AC26: =ROUND(AB26*19%,0) -> 75442 | AD26: =AB26+AC26 -> 472505
B27: QUINDIO | C27: Armenia | D27: 299064 | E27: =D27*13.12% -> 39237.197 | F27: =D27+E27 -> 338301.2 | G27: =F27*0.19 -> 64277.227 | H27: =ROUND(F27+G27,0) -> 402578 | I27: 432000 | J27: =I27*0.19 -> 82080 | K27: =I27+J27 -> 514080 | L27: 799000 | M27: =L27*0.19 -> 151810 | N27: =L27+M27 -> 950810 | O27: =AVERAGE(F27,I27,L27) -> 523100.4 | P27: =ROUND(STDEV(F27,I27,L27),0) -> 243486 | Q27: =O27+P27 -> 766586.4 | R27: =O27-P27 -> 279614.4 | S27: =AVERAGE(F27,I27) -> 385150.6 | T27: =ROUND(S27*19%,0) -> 73179 | U27: =S27+T27 -> 458329.6 | V27: =ROUND(MEDIAN(F27,I27),0) -> 385151 | W27: =ROUND(V27*19%,0) -> 73179 | X27: =V27+W27 -> 458330 | Y27: =ROUND(GEOMEAN(F27,I27),0) -> 382291 | Z27: =ROUND(Y27*19%,0) -> 72635 | AA27: =Y27+Z27 -> 454926 | AB27: =ROUND(HARMEAN(F27,I27),0) -> 379452 | AC27: =ROUND(AB27*19%,0) -> 72096 | AD27: =AB27+AC27 -> 451548
B28: RISARALDA | C28: Pereira | D28: 360554 | E28: =D28*13.12% -> 47304.685 | F28: =D28+E28 -> 407858.68 | G28: =F28*0.19 -> 77493.15 | H28: =ROUND(F28+G28,0) -> 485352 | I28: 544000 | J28: =I28*0.19 -> 103360 | K28: =I28+J28 -> 647360 | L28: 799000 | M28: =L28*0.19 -> 151810 | N28: =L28+M28 -> 950810 | O28: =AVERAGE(F28,I28,L28) -> 583619.56 | P28: =ROUND(STDEV(F28,I28,L28),0) -> 198558 | Q28: =O28+P28 -> 782177.56 | R28: =O28-P28 -> 385061.56 | S28: =AVERAGE(F28,I28) -> 475929.34 | T28: =ROUND(S28*19%,0) -> 90427 | U28: =S28+T28 -> 566356.34 | V28: =ROUND(MEDIAN(F28,I28),0) -> 475929 | W28: =ROUND(V28*19%,0) -> 90427 | X28: =V28+W28 -> 566356 | Y28: =ROUND(GEOMEAN(F28,I28),0) -> 471036 | Z28: =ROUND(Y28*19%,0) -> 89497 | AA28: =Y28+Z28 -> 560533 | AB28: =ROUND(HARMEAN(F28,I28),0) -> 466193 | AC28: =ROUND(AB28*19%,0) -> 88577 | AD28: =AB28+AC28 -> 554770
A29: NORTE | B29: ATLÁNTICO | C29: Soledad | D29: 246539 | E29: =D29*13.12% -> 32345.917 | F29: =D29+E29 -> 278884.92 | G29: =F29*0.19 -> 52988.134 | H29: =ROUND(F29+G29,0) -> 331873 | I29: 352000 | J29: =I29*0.19 -> 66880 | K29: =I29+J29 -> 418880 | L29: 799000 | M29: =L29*0.19 -> 151810 | N29: =L29+M29 -> 950810 | O29: =AVERAGE(F29,I29,L29) -> 476628.31 | P29: =ROUND(STDEV(F29,I29,L29),0) -> 281565 | Q29: =O29+P29 -> 758193.31 | R29: =O29-P29 -> 195063.31 | S29: =AVERAGE(F29,I29) -> 315442.46 | T29: =ROUND(S29*19%,0) -> 59934 | U29: =S29+T29 -> 375376.46 | V29: =ROUND(MEDIAN(F29,I29),0) -> 315442 | W29: =ROUND(V29*19%,0) -> 59934 | X29: =V29+W29 -> 375376 | Y29: =ROUND(GEOMEAN(F29,I29),0) -> 313317 | Z29: =ROUND(Y29*19%,0) -> 59530 | AA29: =Y29+Z29 -> 372847 | AB29: =ROUND(HARMEAN(F29,I29),0) -> 311206 | AC29: =ROUND(AB29*19%,0) -> 59129 | AD29: =AB29+AC29 -> 370335
B30: ATLÁNTICO | C30: Viva Barranquilla | D30: 393493 | E30: =D30*13.12% -> 51626.282 | F30: =D30+E30 -> 445119.28 | G30: =F30*0.19 -> 84572.664 | H30: =ROUND(F30+G30,0) -> 529692 | I30: 592000 | J30: =I30*0.19 -> 112480 | K30: =I30+J30 -> 704480 | L30: 799000 | M30: =L30*0.19 -> 151810 | N30: =L30+M30 -> 950810 | O30: =AVERAGE(F30,I30,L30) -> 612039.76 | P30: =ROUND(STDEV(F30,I30,L30),0) -> 177789 | Q30: =O30+P30 -> 789828.76 | R30: =O30-P30 -> 434250.76 | S30: =AVERAGE(F30,I30) -> 518559.64 | T30: =ROUND(S30*19%,0) -> 98526 | U30: =S30+T30 -> 617085.64 | V30: =ROUND(MEDIAN(F30,I30),0) -> 518560 | W30: =ROUND(V30*19%,0) -> 98526 | X30: =V30+W30 -> 617086 | Y30: =ROUND(GEOMEAN(F30,I30),0) -> 513333 | Z30: =ROUND(Y30*19%,0) -> 97533 | AA30: =Y30+Z30 -> 610866 | AB30: =ROUND(HARMEAN(F30,I30),0) -> 508159 | AC30: =ROUND(AB30*19%,0) -> 96550 | AD30: =AB30+AC30 -> 604709
B31: BOLIVAR | C31: Cartagena | D31: 297124 | E31: =D31*13.12% -> 38982.669 | F31: =D31+E31 -> 336106.67 | G31: =F31*0.19 -> 63860.267 | H31: =ROUND(F31+G31,0) -> 399967 | I31: 432000 | J31: =I31*0.19 -> 82080 | K31: =I31+J31 -> 514080 | L31: 799000 | M31: =L31*0.19 -> 151810 | N31: =L31+M31 -> 950810 | O31: =AVERAGE(F31,I31,L31) -> 522368.89 | P31: =ROUND(STDEV(F31,I31,L31),0) -> 244320 | Q31: =O31+P31 -> 766688.89 | R31: =O31-P31 -> 278048.89 | S31: =AVERAGE(F31,I31) -> 384053.33 | T31: =ROUND(S31*19%,0) -> 72970 | U31: =S31+T31 -> 457023.33 | V31: =ROUND(MEDIAN(F31,I31),0) -> 384053 | W31: =ROUND(V31*19%,0) -> 72970 | X31: =V31+W31 -> 457023 | Y31: =ROUND(GEOMEAN(F31,I31),0) -> 381049 | Z31: =ROUND(Y31*19%,0) -> 72399 | AA31: =Y31+Z31 -> 453448 | AB31: =ROUND(HARMEAN(F31,I31),0) -> 378067 | AC31: =ROUND(AB31*19%,0) -> 71833 | AD31: =AB31+AC31 -> 449900
B32: BOLIVAR | C32: Éxito Cartagena | D32: 197573 | E32: =D32*13.12% -> 25921.578 | F32: =D32+E32 -> 223494.58 | G32: =F32*0.19 -> 42463.97 | H32: =ROUND(F32+G32,0) -> 265959 | I32: 400000 | J32: =I32*0.19 -> 76000 | K32: =I32+J32 -> 476000 | L32: 799000 | M32: =L32*0.19 -> 151810 | N32: =L32+M32 -> 950810 | O32: =AVERAGE(F32,I32,L32) -> 474164.86 | P32: =ROUND(STDEV(F32,I32,L32),0) -> 294834 | Q32: =O32+P32 -> 768998.86 | R32: =O32-P32 -> 179330.86 | S32: =AVERAGE(F32,I32) -> 311747.29 | T32: =ROUND(S32*19%,0) -> 59232 | U32: =S32+T32 -> 370979.29 | V32: =ROUND(MEDIAN(F32,I32),0) -> 311747 | W32: =ROUND(V32*19%,0) -> 59232 | X32: =V32+W32 -> 370979 | Y32: =ROUND(GEOMEAN(F32,I32),0) -> 298995 | Z32: =ROUND(Y32*19%,0) -> 56809 | AA32: =Y32+Z32 -> 355804 | AB32: =ROUND(HARMEAN(F32,I32),0) -> 286764 | AC32: =ROUND(AB32*19%,0) -> 54485 | AD32: =AB32+AC32 -> 341249
B33: CESAR | C33: Valledupar | D33: 343446 | E33: =D33*13.12% -> 45060.115 | F33: =D33+E33 -> 388506.12 | G33: =F33*0.19 -> 73816.162 | H33: =ROUND(F33+G33,0) -> 462322 | I33: 512000 | J33: =I33*0.19 -> 97280 | K33: =I33+J33 -> 609280 | L33: 799000 | M33: =L33*0.19 -> 151810 | N33: =L33+M33 -> 950810 | O33: =AVERAGE(F33,I33,L33) -> 566502.04 | P33: =ROUND(STDEV(F33,I33,L33),0) -> 210604 | Q33: =O33+P33 -> 777106.04 | R33: =O33-P33 -> 355898.04 | S33: =AVERAGE(F33,I33) -> 450253.06 | T33: =ROUND(S33*19%,0) -> 85548 | U33: =S33+T33 -> 535801.06 | V33: =ROUND(MEDIAN(F33,I33),0) -> 450253 | W33: =ROUND(V33*19%,0) -> 85548 | X33: =V33+W33 -> 535801 | Y33: =ROUND(GEOMEAN(F33,I33),0) -> 445999 | Z33: =ROUND(Y33*19%,0) -> 84740 | AA33: =Y33+Z33 -> 530739 | AB33: =ROUND(HARMEAN(F33,I33),0) -> 441785 | AC33: =ROUND(AB33*19%,0) -> 83939 | AD33: =AB33+AC33 -> 525724
B34: CÓRDOBA | C34: Montería | D34: 272469 | E34: =D34*13.12% -> 35747.933 | F34: =D34+E34 -> 308216.93 | G34: =F34*0.19 -> 58561.217 | H34: =ROUND(F34+G34,0) -> 366778 | I34: 400000 | J34: =I34*0.19 -> 76000 | K34: =I34+J34 -> 476000 | L34: 799000 | M34: =L34*0.19 -> 151810 | N34: =L34+M34 -> 950810 | O34: =AVERAGE(F34,I34,L34) -> 502405.64 | P34: =ROUND(STDEV(F34,I34,L34),0) -> 260926 | Q34: =O34+P34 -> 763331.64 | R34: =O34-P34 -> 241479.64 | S34: =AVERAGE(F34,I34) -> 354108.47 | T34: =ROUND(S34*19%,0) -> 67281 | U34: =S34+T34 -> 421389.47 | V34: =ROUND(MEDIAN(F34,I34),0) -> 354108 | W34: =ROUND(V34*19%,0) -> 67281 | X34: =V34+W34 -> 421389 | Y34: =ROUND(GEOMEAN(F34,I34),0) -> 351122 | Z34: =ROUND(Y34*19%,0) -> 66713 | AA34: =Y34+Z34 -> 417835 | AB34: =ROUND(HARMEAN(F34,I34),0) -> 348161 | AC34: =ROUND(AB34*19%,0) -> 66151 | AD34: =AB34+AC34 -> 414312
B35: GUAJIRA | C35: Riohacha | D35: 298821 | E35: =D35*13.12% -> 39205.315 | F35: =D35+E35 -> 338026.32 | G35: =F35*0.19 -> 64225 | H35: =ROUND(F35+G35,0) -> 402251 | I35: 432000 | J35: =I35*0.19 -> 82080 | K35: =I35+J35 -> 514080 | L35: 799000 | M35: =L35*0.19 -> 151810 | N35: =L35+M35 -> 950810 | O35: =AVERAGE(F35,I35,L35) -> 523008.77 | P35: =ROUND(STDEV(F35,I35,L35),0) -> 243590 | Q35: =O35+P35 -> 766598.77 | R35: =O35-P35 -> 279418.77 | S35: =AVERAGE(F35,I35) -> 385013.16 | T35: =ROUND(S35*19%,0) -> 73152 | U35: =S35+T35 -> 458165.16 | V35: =ROUND(MEDIAN(F35,I35),0) -> 385013 | W35: =ROUND(V35*19%,0) -> 73152 | X35: =V35+W35 -> 458165 | Y35: =ROUND(GEOMEAN(F35,I35),0) -> 382135 | Z35: =ROUND(Y35*19%,0) -> 72606 | AA35: =Y35+Z35 -> 454741 | AB35: =ROUND(HARMEAN(F35,I35),0) -> 379279 | AC35: =ROUND(AB35*19%,0) -> 72063 | AD35: =AB35+AC35 -> 451342
B36: MAGDALENA | C36: Santa Marta | D36: 379580 | E36: =D36*13.12% -> 49800.896 | F36: =D36+E36 -> 429380.9 | G36: =F36*0.19 -> 81582.37 | H36: =ROUND(F36+G36,0) -> 510963 | I36: 560000 | J36: =I36*0.19 -> 106400 | K36: =I36+J36 -> 666400 | L36: 799000 | M36: =L36*0.19 -> 151810 | N36: =L36+M36 -> 950810 | O36: =AVERAGE(F36,I36,L36) -> 596126.97 | P36: =ROUND(STDEV(F36,I36,L36),0) -> 187439 | Q36: =O36+P36 -> 783565.97 | R36: =O36-P36 -> 408687.97 | S36: =AVERAGE(F36,I36) -> 494690.45 | T36: =ROUND(S36*19%,0) -> 93991 | U36: =S36+T36 -> 588681.45 | V36: =ROUND(MEDIAN(F36,I36),0) -> 494690 | W36: =ROUND(V36*19%,0) -> 93991 | X36: =V36+W36 -> 588681 | Y36: =ROUND(GEOMEAN(F36,I36),0) -> 490360 | Z36: =ROUND(Y36*19%,0) -> 93168 | AA36: =Y36+Z36 -> 583528 | AB36: =ROUND(HARMEAN(F36,I36),0) -> 486068 | AC36: =ROUND(AB36*19%,0) -> 92353 | AD36: =AB36+AC36 -> 578421
B37: SAN ANDRÉS | C37: San Andrés | D37: 224960 | E37: =D37*13.12% -> 29514.752 | F37: =D37+E37 -> 254474.75 | G37: =F37*0.19 -> 48350.203 | H37: =ROUND(F37+G37,0) -> 302825 | I37: 450000 | J37: =I37*0.19 -> 85500 | K37: =I37+J37 -> 535500 | L37: 799000 | M37: =L37*0.19 -> 151810 | N37: =L37+M37 -> 950810 | O37: =AVERAGE(F37,I37,L37) -> 501158.25 | P37: =ROUND(STDEV(F37,I37,L37),0) -> 275844 | Q37: =O37+P37 -> 777002.25 | R37: =O37-P37 -> 225314.25 | S37: =AVERAGE(F37,I37) -> 352237.38 | T37: =ROUND(S37*19%,0) -> 66925 | U37: =S37+T37 -> 419162.38 | V37: =ROUND(MEDIAN(F37,I37),0) -> 352237 | W37: =ROUND(V37*19%,0) -> 66925 | X37: =V37+W37 -> 419162 | Y37: =ROUND(GEOMEAN(F37,I37),0) -> 338399 | Z37: =ROUND(Y37*19%,0) -> 64296 | AA37: =Y37+Z37 -> 402695 | AB37: =ROUND(HARMEAN(F37,I37),0) -> 325104 | AC37: =ROUND(AB37*19%,0) -> 61770 | AD37: =AB37+AC37 -> 386874
B38: SUCRE | C38: Sincelejo | D38: 272397 | E38: =D38*13.12% -> 35738.486 | F38: =D38+E38 -> 308135.49 | G38: =F38*0.19 -> 58545.742 | H38: =ROUND(F38+G38,0) -> 366681 | I38: 400000 | J38: =I38*0.19 -> 76000 | K38: =I38+J38 -> 476000 | L38: 799000 | M38: =L38*0.19 -> 151810 | N38: =L38+M38 -> 950810 | O38: =AVERAGE(F38,I38,L38) -> 502378.5 | P38: =ROUND(STDEV(F38,I38,L38),0) -> 260956 | Q38: =O38+P38 -> 763334.5 | R38: =O38-P38 -> 241422.5 | S38: =AVERAGE(F38,I38) -> 354067.74 | T38: =ROUND(S38*19%,0) -> 67273 | U38: =S38+T38 -> 421340.74 | V38: =ROUND(MEDIAN(F38,I38),0) -> 354068 | W38: =ROUND(V38*19%,0) -> 67273 | X38: =V38+W38 -> 421341 | Y38: =ROUND(GEOMEAN(F38,I38),0) -> 351076 | Z38: =ROUND(Y38*19%,0) -> 66704 | AA38: =Y38+Z38 -> 417780 | AB38: =ROUND(HARMEAN(F38,I38),0) -> 348109 | AC38: =ROUND(AB38*19%,0) -> 66141 | AD38: =AB38+AC38 -> 414250
A39: SANTANDERES | B39: NORTE DE SANTADER | C39: Cúcuta | D39: 344160 | E39: =D39*13.12% -> 45153.792 | F39: =D39+E39 -> 389313.79 | G39: =F39*0.19 -> 73969.62 | H39: =ROUND(F39+G39,0) -> 463283 | I39: 544000 | J39: =I39*0.19 -> 103360 | K39: =I39+J39 -> 647360 | L39: 799000 | M39: =L39*0.19 -> 151810 | N39: =L39+M39 -> 950810 | O39: =AVERAGE(F39,I39,L39) -> 577437.93 | P39: =ROUND(STDEV(F39,I39,L39),0) -> 206880 | Q39: =O39+P39 -> 784317.93 | R39: =O39-P39 -> 370557.93 | S39: =AVERAGE(F39,I39) -> 466656.9 | T39: =ROUND(S39*19%,0) -> 88665 | U39: =S39+T39 -> 555321.9 | V39: =ROUND(MEDIAN(F39,I39),0) -> 466657 | W39: =ROUND(V39*19%,0) -> 88665 | X39: =V39+W39 -> 555322 | Y39: =ROUND(GEOMEAN(F39,I39),0) -> 460203 | Z39: =ROUND(Y39*19%,0) -> 87439 | AA39: =Y39+Z39 -> 547642 | AB39: =ROUND(HARMEAN(F39,I39),0) -> 453838 | AC39: =ROUND(AB39*19%,0) -> 86229 | AD39: =AB39+AC39 -> 540067
B40: SANTANDER | C40: Bucaramanga | D40: 397074 | E40: =D40*13.12% -> 52096.109 | F40: =D40+E40 -> 449170.11 | G40: =F40*0.19 -> 85342.321 | H40: =ROUND(F40+G40,0) -> 534512 | I40: 592000 | J40: =I40*0.19 -> 112480 | K40: =I40+J40 -> 704480 | L40: 799000 | M40: =L40*0.19 -> 151810 | N40: =L40+M40 -> 950810 | O40: =AVERAGE(F40,I40,L40) -> 613390.04 | P40: =ROUND(STDEV(F40,I40,L40),0) -> 175893 | Q40: =O40+P40 -> 789283.04 | R40: =O40-P40 -> 437497.04 | S40: =AVERAGE(F40,I40) -> 520585.05 | T40: =ROUND(S40*19%,0) -> 98911 | U40: =S40+T40 -> 619496.05 | V40: =ROUND(MEDIAN(F40,I40),0) -> 520585 | W40: =ROUND(V40*19%,0) -> 98911 | X40: =V40+W40 -> 619496 | Y40: =ROUND(GEOMEAN(F40,I40),0) -> 515663 | Z40: =ROUND(Y40*19%,0) -> 97976 | AA40: =Y40+Z40 -> 613639 | AB40: =ROUND(HARMEAN(F40,I40),0) -> 510788 | AC40: =ROUND(AB40*19%,0) -> 97050 | AD40: =AB40+AC40 -> 607838
B41: SANTANDER | C41: Piedecuesta | D41: 227609 | E41: =D41*13.12% -> 29862.301 | F41: =D41+E41 -> 257471.3 | G41: =F41*0.19 -> 48919.547 | H41: =ROUND(F41+G41,0) -> 306391 | I41: 480000 | J41: =I41*0.19 -> 91200 | K41: =I41+J41 -> 571200 | L41: 799000 | M41: =L41*0.19 -> 151810 | N41: =L41+M41 -> 950810 | O41: =AVERAGE(F41,I41,L41) -> 512157.1 | P41: =ROUND(STDEV(F41,I41,L41),0) -> 272193 | Q41: =O41+P41 -> 784350.1 | R41: =O41-P41 -> 239964.1 | S41: =AVERAGE(F41,I41) -> 368735.65 | T41: =ROUND(S41*19%,0) -> 70060 | U41: =S41+T41 -> 438795.65 | V41: =ROUND(MEDIAN(F41,I41),0) -> 368736 | W41: =ROUND(V41*19%,0) -> 70060 | X41: =V41+W41 -> 438796 | Y41: =ROUND(GEOMEAN(F41,I41),0) -> 351548 | Z41: =ROUND(Y41*19%,0) -> 66794 | AA41: =Y41+Z41 -> 418342 | AB41: =ROUND(HARMEAN(F41,I41),0) -> 335162 | AC41: =ROUND(AB41*19%,0) -> 63681 | AD41: =AB41+AC41 -> 398843
B42: SANTANDER | C42: Viva Barrancabermeja | D42: 195193 | E42: =D42*13.12% -> 25609.322 | F42: =D42+E42 -> 220802.32 | G42: =F42*0.19 -> 41952.441 | H42: =ROUND(F42+G42,0) -> 262755 | I42: 480000 | J42: =I42*0.19 -> 91200 | K42: =I42+J42 -> 571200 | L42: 799000 | M42: =L42*0.19 -> 151810 | N42: =L42+M42 -> 950810 | O42: =AVERAGE(F42,I42,L42) -> 499934.11 | P42: =ROUND(STDEV(F42,I42,L42),0) -> 289614 | Q42: =O42+P42 -> 789548.11 | R42: =O42-P42 -> 210320.11 | S42: =AVERAGE(F42,I42) -> 350401.16 | T42: =ROUND(S42*19%,0) -> 66576 | U42: =S42+T42 -> 416977.16 | V42: =ROUND(MEDIAN(F42,I42),0) -> 350401 | W42: =ROUND(V42*19%,0) -> 66576 | X42: =V42+W42 -> 416977 | Y42: =ROUND(GEOMEAN(F42,I42),0) -> 325554 | Z42: =ROUND(Y42*19%,0) -> 61855 | AA42: =Y42+Z42 -> 387409 | AB42: =ROUND(HARMEAN(F42,I42),0) -> 302468 | AC42: =ROUND(AB42*19%,0) -> 57469 | AD42: =AB42+AC42 -> 359937
A43: SUR | B43: CAUCA | C43: Popayán | D43: 379680 | E43: =D43*13.12% -> 49814.016 | F43: =D43+E43 -> 429494.02 | G43: =F43*0.19 -> 81603.863 | H43: =ROUND(F43+G43,0) -> 511098 | I43: 560000 | J43: =I43*0.19 -> 106400 | K43: =I43+J43 -> 666400 | L43: 799000 | M43: =L43*0.19 -> 151810 | N43: =L43+M43 -> 950810 | O43: =AVERAGE(F43,I43,L43) -> 596164.67 | P43: =ROUND(STDEV(F43,I43,L43),0) -> 187389 | Q43: =O43+P43 -> 783553.67 | R43: =O43-P43 -> 408775.67 | S43: =AVERAGE(F43,I43) -> 494747.01 | T43: =ROUND(S43*19%,0) -> 94002 | U43: =S43+T43 -> 588749.01 | V43: =ROUND(MEDIAN(F43,I43),0) -> 494747 | W43: =ROUND(V43*19%,0) -> 94002 | X43: =V43+W43 -> 588749 | Y43: =ROUND(GEOMEAN(F43,I43),0) -> 490425 | Z43: =ROUND(Y43*19%,0) -> 93181 | AA43: =Y43+Z43 -> 583606 | AB43: =ROUND(HARMEAN(F43,I43),0) -> 486141 | AC43: =ROUND(AB43*19%,0) -> 92367 | AD43: =AB43+AC43 -> 578508
B44: NARIÑO | C44: Ipiales | D44: 188003 | E44: =D44*13.12% -> 24665.994 | F44: =D44+E44 -> 212668.99 | G44: =F44*0.19 -> 40407.109 | H44: =ROUND(F44+G44,0) -> 253076 | I44: 480000 | J44: =I44*0.19 -> 91200 | K44: =I44+J44 -> 571200 | L44: 799000 | M44: =L44*0.19 -> 151810 | N44: =L44+M44 -> 950810 | O44: =AVERAGE(F44,I44,L44) -> 497223 | P44: =ROUND(STDEV(F44,I44,L44),0) -> 293545 | Q44: =O44+P44 -> 790768 | R44: =O44-P44 -> 203678 | S44: =AVERAGE(F44,I44) -> 346334.5 | T44: =ROUND(S44*19%,0) -> 65804 | U44: =S44+T44 -> 412138.5 | V44: =ROUND(MEDIAN(F44,I44),0) -> 346334 | W44: =ROUND(V44*19%,0) -> 65803 | X44: =V44+W44 -> 412137 | Y44: =ROUND(GEOMEAN(I44),0) -> 480000 | Z44: =ROUND(Y44*19%,0) -> 91200 | AA44: =Y44+Z44 -> 571200 | AB44: =ROUND(HARMEAN(F44,I44),0) -> 294747 | AC44: =ROUND(AB44*19%,0) -> 56002 | AD44: =AB44+AC44 -> 350749
B45: NARIÑO | C45: Pasto | D45: 426792 | E45: =D45*13.12% -> 55995.11 | F45: =D45+E45 -> 482787.11 | G45: =F45*0.19 -> 91729.551 | H45: =ROUND(F45+G45,0) -> 574517 | I45: 640000 | J45: =I45*0.19 -> 121600 | K45: =I45+J45 -> 761600 | L45: 799000 | M45: =L45*0.19 -> 151810 | N45: =L45+M45 -> 950810 | O45: =AVERAGE(F45,I45,L45) -> 640595.7 | P45: =ROUND(STDEV(F45,I45,L45),0) -> 158107 | Q45: =O45+P45 -> 798702.7 | R45: =O45-P45 -> 482488.7 | S45: =AVERAGE(F45,I45) -> 561393.56 | T45: =ROUND(S45*19%,0) -> 106665 | U45: =S45+T45 -> 668058.56 | V45: =ROUND(MEDIAN(F45,I45),0) -> 561394 | W45: =ROUND(V45*19%,0) -> 106665 | X45: =V45+W45 -> 668059 | Y45: =ROUND(GEOMEAN(F45,I45),0) -> 555863 | Z45: =ROUND(Y45*19%,0) -> 105614 | AA45: =Y45+Z45 -> 661477 | AB45: =ROUND(HARMEAN(F45,I45),0) -> 550387 | AC45: =ROUND(AB45*19%,0) -> 104574 | AD45: =AB45+AC45 -> 654961
B46: VALLE DEL CAUCA | C46: Palmira | E46: =D46*13.12% -> 0 | G46: =F46*0.19 -> 0 | H46: =ROUND(F46+G46,0) -> 0 | I46: 400000 | J46: =I46*0.19 -> 76000 | K46: =I46+J46 -> 476000 | L46: 799000 | M46: =L46*0.19 -> 151810 | N46: =L46+M46 -> 950810 | O46: =AVERAGE(I46,L46) -> 599500 | P46: =ROUND(STDEV(I46,L46),0) -> 282136 | Q46: =O46+P46 -> 881636 | R46: =O46-P46 -> 317364 | S46: =AVERAGE(I46,L46) -> 599500 | T46: =ROUND(S46*19%,0) -> 113905 | U46: =S46+T46 -> 713405 | V46: =ROUND(MEDIAN(I46,L46),0) -> 599500 | W46: =ROUND(V46*19%,0) -> 113905 | X46: =V46+W46 -> 713405 | Y46: =ROUND(GEOMEAN(I46,L46),0) -> 565332 | Z46: =ROUND(Y46*19%,0) -> 107413 | AA46: =Y46+Z46 -> 672745 | AB46: =ROUND(HARMEAN(I46,L46),0) -> 533111 | AC46: =ROUND(AB46*19%,0) -> 101291 | AD46: =AB46+AC46 -> 634402
B47: VALLE DEL CAUCA | C47: Cali Av. Guadalupe | D47: 433463 | E47: =D47*13.12% -> 56870.346 | F47: =D47+E47 -> 490333.35 | G47: =F47*0.19 -> 93163.336 | H47: =ROUND(F47+G47,0) -> 583497 | I47: 656000 | J47: =I47*0.19 -> 124640 | K47: =I47+J47 -> 780640 | L47: 799000 | M47: =L47*0.19 -> 151810 | N47: =L47+M47 -> 950810 | O47: =AVERAGE(F47,I47,L47) -> 648444.45 | P47: =ROUND(STDEV(F47,I47,L47),0) -> 154472 | Q47: =O47+P47 -> 802916.45 | R47: =O47-P47 -> 493972.45 | S47: =AVERAGE(I47,L47) -> 727500 | T47: =ROUND(S47*19%,0) -> 138225 | U47: =S47+T47 -> 865725 | V47: =ROUND(MEDIAN(I47,L47),0) -> 727500 | W47: =ROUND(V47*19%,0) -> 138225 | X47: =V47+W47 -> 865725 | Y47: =ROUND(GEOMEAN(I47,L47),0) -> 723978 | Z47: =ROUND(Y47*19%,0) -> 137556 | AA47: =Y47+Z47 -> 861534 | AB47: =ROUND(HARMEAN(I47,L47),0) -> 720473 | AC47: =ROUND(AB47*19%,0) -> 136890 | AD47: =AB47+AC47 -> 857363
B48: VALLE DEL CAUCA | C48: Cali Av. Las Américas | D48: 465360 | E48: =D48*13.12% -> 61055.232 | F48: =D48+E48 -> 526415.23 | G48: =F48*0.19 -> 100018.89 | H48: =ROUND(F48+G48,0) -> 626434 | I48: 720000 | J48: =I48*0.19 -> 136800 | K48: =I48+J48 -> 856800 | L48: 799000 | M48: =L48*0.19 -> 151810 | N48: =L48+M48 -> 950810 | O48: =AVERAGE(F48,I48,L48) -> 681805.08 | P48: =ROUND(STDEV(F48,I48,L48),0) -> 140249 | Q48: =O48+P48 -> 822054.08 | R48: =O48-P48 -> 541556.08 | S48: =AVERAGE(I48,L48) -> 759500 | T48: =ROUND(S48*19%,0) -> 144305 | U48: =S48+T48 -> 903805 | V48: =ROUND(MEDIAN(I48,L48),0) -> 759500 | W48: =ROUND(V48*19%,0) -> 144305 | X48: =V48+W48 -> 903805 | Y48: =ROUND(GEOMEAN(I48,L48),0) -> 758472 | Z48: =ROUND(Y48*19%,0) -> 144110 | AA48: =Y48+Z48 -> 902582 | AB48: =ROUND(HARMEAN(I48,L48),0) -> 757446 | AC48: =ROUND(AB48*19%,0) -> 143915 | AD48: =AB48+AC48 -> 901361
B49: VALLE DEL CAUCA | C49: Viva Buenaventura | D49: 207041 | E49: =D49*13.12% -> 27163.779 | F49: =D49+E49 -> 234204.78 | G49: =F49*0.19 -> 44498.908 | H49: =ROUND(F49+G49,0) -> 278704 | I49: 460000 | J49: =I49*0.19 -> 87400 | K49: =I49+J49 -> 547400 | L49: 799000 | M49: =L49*0.19 -> 151810 | N49: =L49+M49 -> 950810 | O49: =AVERAGE(F49,I49,L49) -> 497734.93 | P49: =ROUND(STDEV(F49,I49,L49),0) -> 284282 | Q49: =O49+P49 -> 782016.93 | R49: =O49-P49 -> 213452.93 | S49: =AVERAGE(F49,I49) -> 347102.39 | T49: =ROUND(S49*19%,0) -> 65949 | U49: =S49+T49 -> 413051.39 | V49: =ROUND(MEDIAN(F49,I49),0) -> 347102 | W49: =ROUND(V49*19%,0) -> 65949 | X49: =V49+W49 -> 413051 | Y49: =ROUND(GEOMEAN(F49,I49),0) -> 328229 | Z49: =ROUND(Y49*19%,0) -> 62364 | AA49: =Y49+Z49 -> 390593 | AB49: =ROUND(HARMEAN(F49,I49),0) -> 310382 | AC49: =ROUND(AB49*19%,0) -> 58973 | AD49: =AB49+AC49 -> 369355
A50: TERRITORIOS NACIONALES | B50: AMAZONAS | C50: Leticia | D50: 175503 | E50: =D50*13.12% -> 23025.994 | F50: =D50+E50 -> 198528.99 | G50: =F50*0.19 -> 37720.509 | H50: =ROUND(F50+G50,0) -> 236250 | I50: 660000 | J50: =I50*0.19 -> 125400 | K50: =I50+J50 -> 785400 | L50: 799000 | M50: =L50*0.19 -> 151810 | N50: =L50+M50 -> 950810 | O50: =AVERAGE(F50,I50,L50) -> 552509.66 | P50: =ROUND(STDEV(F50,I50,L50),0) -> 314336 | Q50: =O50+P50 -> 866845.66 | R50: =O50-P50 -> 238173.66 | S50: =AVERAGE(I50,L50) -> 729500 | T50: =ROUND(S50*19%,0) -> 138605 | U50: =S50+T50 -> 868105 | V50: =ROUND(MEDIAN(I50,L50),0) -> 729500 | W50: =ROUND(V50*19%,0) -> 138605 | X50: =V50+W50 -> 868105 | Y50: =ROUND(GEOMEAN(I50,L50),0) -> 726182 | Z50: =ROUND(Y50*19%,0) -> 137975 | AA50: =Y50+Z50 -> 864157 | AB50: =ROUND(HARMEAN(I50,L50),0) -> 722879 | AC50: =ROUND(AB50*19%,0) -> 137347 | AD50: =AB50+AC50 -> 860226
B51: ARAUCA | C51: Arauca | D51: 200503 | E51: =D51*13.12% -> 26305.994 | F51: =D51+E51 -> 226808.99 | G51: =F51*0.19 -> 43093.709 | H51: =ROUND(F51+G51,0) -> 269903 | I51: 660000 | J51: =I51*0.19 -> 125400 | K51: =I51+J51 -> 785400 | L51: 799000 | M51: =L51*0.19 -> 151810 | N51: =L51+M51 -> 950810 | O51: =AVERAGE(F51,I51,L51) -> 561936.33 | P51: =ROUND(STDEV(F51,I51,L51),0) -> 298434 | Q51: =O51+P51 -> 860370.33 | R51: =O51-P51 -> 263502.33 | S51: =AVERAGE(I51,L51) -> 729500 | T51: =ROUND(S51*19%,0) -> 138605 | U51: =S51+T51 -> 868105 | V51: =ROUND(MEDIAN(I51,L51),0) -> 729500 | W51: =ROUND(V51*19%,0) -> 138605 | X51: =V51+W51 -> 868105 | Y51: =ROUND(GEOMEAN(I51,L51),0) -> 726182 | Z51: =ROUND(Y51*19%,0) -> 137975 | AA51: =Y51+Z51 -> 864157 | AB51: =ROUND(HARMEAN(I51,L51),0) -> 722879 | AC51: =ROUND(AB51*19%,0) -> 137347 | AD51: =AB51+AC51 -> 860226
B52: CAQUETA | C52: Florencia | D52: 223077 | E52: =D52*13.12% -> 29267.702 | F52: =D52+E52 -> 252344.7 | G52: =F52*0.19 -> 47945.493 | H52: =ROUND(F52+G52,0) -> 300290 | I52: 350000 | J52: =I52*0.19 -> 66500 | K52: =I52+J52 -> 416500 | L52: 799000 | M52: =L52*0.19 -> 151810 | N52: =L52+M52 -> 950810 | O52: =AVERAGE(F52,I52,L52) -> 467114.9 | P52: =ROUND(STDEV(F52,I52,L52),0) -> 291539 | Q52: =O52+P52 -> 758653.9 | R52: =O52-P52 -> 175575.9 | S52: =AVERAGE(F52,I52) -> 301172.35 | T52: =ROUND(S52*19%,0) -> 57223 | U52: =S52+T52 -> 358395.35 | V52: =ROUND(MEDIAN(F52,I52),0) -> 301172 | W52: =ROUND(V52*19%,0) -> 57223 | X52: =V52+W52 -> 358395 | Y52: =ROUND(GEOMEAN(F52,I52),0) -> 297188 | Z52: =ROUND(Y52*19%,0) -> 56466 | AA52: =Y52+Z52 -> 353654 | AB52: =ROUND(HARMEAN(F52,I52),0) -> 293256 | AC52: =ROUND(AB52*19%,0) -> 55719 | AD52: =AB52+AC52 -> 348975
B53: CASANARE | C53: Yopal | D53: 184023 | E53: =D53*13.12% -> 24143.818 | F53: =D53+E53 -> 208166.82 | G53: =F53*0.19 -> 39551.695 | H53: =ROUND(F53+G53,0) -> 247719 | I53: 350000 | J53: =I53*0.19 -> 66500 | K53: =I53+J53 -> 416500 | L53: 799000 | M53: =L53*0.19 -> 151810 | N53: =L53+M53 -> 950810 | O53: =AVERAGE(F53,I53,L53) -> 452388.94 | P53: =ROUND(STDEV(F53,I53,L53),0) -> 308437 | Q53: =O53+P53 -> 760825.94 | R53: =O53-P53 -> 143951.94 | S53: =AVERAGE(F53,I53) -> 279083.41 | T53: =ROUND(S53*19%,0) -> 53026 | U53: =S53+T53 -> 332109.41 | V53: =ROUND(MEDIAN(F53,I53,L53),0) -> 350000 | W53: =ROUND(V53*19%,0) -> 66500 | X53: =V53+W53 -> 416500 | Y53: =ROUND(GEOMEAN(F53,I53,L53),0) -> 387563 | Z53: =ROUND(Y53*19%,0) -> 73637 | AA53: =Y53+Z53 -> 461200 | AB53: =ROUND(HARMEAN(F53,I53,L53),0) -> 336604 | AC53: =ROUND(AB53*19%,0) -> 63955 | AD53: =AB53+AC53 -> 400559
B54: CHOCÓ | C54: Quibdó | D54: 248887 | E54: =D54*13.12% -> 32653.974 | F54: =D54+E54 -> 281540.97 | G54: =F54*0.19 -> 53492.785 | H54: =ROUND(F54+G54,0) -> 335034 | I54: 500000 | J54: =I54*0.19 -> 95000 | K54: =I54+J54 -> 595000 | L54: 799000 | M54: =L54*0.19 -> 151810 | N54: =L54+M54 -> 950810 | O54: =AVERAGE(F54,I54,L54) -> 526846.99 | P54: =ROUND(STDEV(F54,I54,L54),0) -> 259772 | Q54: =O54+P54 -> 786618.99 | R54: =O54-P54 -> 267074.99 | S54: =AVERAGE(F54,I54) -> 390770.49 | T54: =ROUND(S54*19%,0) -> 74246 | U54: =S54+T54 -> 465016.49 | V54: =ROUND(MEDIAN(F54,I54),0) -> 390770 | W54: =ROUND(V54*19%,0) -> 74246 | X54: =V54+W54 -> 465016 | Y54: =ROUND(GEOMEAN(F54,I54),0) -> 375194 | Z54: =ROUND(Y54*19%,0) -> 71287 | AA54: =Y54+Z54 -> 446481 | AB54: =ROUND(HARMEAN(F54,I54),0) -> 360238 | AC54: =ROUND(AB54*19%,0) -> 68445 | AD54: =AB54+AC54 -> 428683
B55: GUANIA | C55: Puerto Inírida | D55: 268971 | E55: =D55*13.12% -> 35288.995 | F55: =D55+E55 -> 304260 | G55: =F55*0.19 -> 57809.399 | H55: =ROUND(F55+G55,0) -> 362069 | I55: 660000 | J55: =I55*0.19 -> 125400 | K55: =I55+J55 -> 785400 | L55: 799000 | M55: =L55*0.19 -> 151810 | N55: =L55+M55 -> 950810 | O55: =AVERAGE(F55,I55,L55) -> 587753.33 | P55: =ROUND(STDEV(F55,I55,L55),0) -> 255160 | Q55: =O55+P55 -> 842913.33 | R55: =O55-P55 -> 332593.33 | S55: =AVERAGE(I55,L55) -> 729500 | T55: =ROUND(S55*19%,0) -> 138605 | U55: =S55+T55 -> 868105 | V55: =ROUND(MEDIAN(I55,L55),0) -> 729500 | W55: =ROUND(V55*19%,0) -> 138605 | X55: =V55+W55 -> 868105 | Y55: =ROUND(GEOMEAN(I55,L55),0) -> 726182 | Z55: =ROUND(Y55*19%,0) -> 137975 | AA55: =Y55+Z55 -> 864157 | AB55: =ROUND(HARMEAN(I55,L55),0) -> 722879 | AC55: =ROUND(AB55*19%,0) -> 137347 | AD55: =AB55+AC55 -> 860226
B56: GUAVIARE | C56: San José del Guaviare | D56: 229676 | E56: =D56*13.12% -> 30133.491 | F56: =D56+E56 -> 259809.49 | G56: =F56*0.19 -> 49363.803 | H56: =ROUND(F56+G56,0) -> 309173 | I56: 510000 | J56: =I56*0.19 -> 96900 | K56: =I56+J56 -> 606900 | L56: 799000 | M56: =L56*0.19 -> 151810 | N56: =L56+M56 -> 950810 | O56: =AVERAGE(F56,I56,L56) -> 522936.5 | P56: =ROUND(STDEV(F56,I56,L56),0) -> 269828 | Q56: =O56+P56 -> 792764.5 | R56: =O56-P56 -> 253108.5 | S56: =AVERAGE(F56,I56) -> 384904.75 | T56: =ROUND(S56*19%,0) -> 73132 | U56: =S56+T56 -> 458036.75 | V56: =ROUND(MEDIAN(F56,I56),0) -> 384905 | W56: =ROUND(V56*19%,0) -> 73132 | X56: =V56+W56 -> 458037 | Y56: =ROUND(GEOMEAN(F56,I56),0) -> 364009 | Z56: =ROUND(Y56*19%,0) -> 69162 | AA56: =Y56+Z56 -> 433171 | AB56: =ROUND(HARMEAN(F56,I56),0) -> 344248 | AC56: =ROUND(AB56*19%,0) -> 65407 | AD56: =AB56+AC56 -> 409655
B57: META | C57: Acacias | E57: =D57*13.12% -> 0 | G57: =F57*0.19 -> 0 | H57: =ROUND(F57+G57,0) -> 0 | I57: 420000 | J57: =I57*0.19 -> 79800 | K57: =I57+J57 -> 499800 | L57: 799000 | M57: =L57*0.19 -> 151810 | N57: =L57+M57 -> 950810 | O57: =AVERAGE(I57,L57) -> 609500 | P57: =ROUND(STDEV(I57,L57),0) -> 267993 | Q57: =O57+P57 -> 877493 | R57: =O57-P57 -> 341507 | S57: =AVERAGE(I57,L57) -> 609500 | T57: =ROUND(S57*19%,0) -> 115805 | U57: =S57+T57 -> 725305 | V57: =ROUND(MEDIAN(I57,L57),0) -> 609500 | W57: =ROUND(V57*19%,0) -> 115805 | X57: =V57+W57 -> 725305 | Y57: =ROUND(GEOMEAN(I57,L57),0) -> 579293 | Z57: =ROUND(Y57*19%,0) -> 110066 | AA57: =Y57+Z57 -> 689359 | AB57: =ROUND(HARMEAN(I57,L57),0) -> 550582 | AC57: =ROUND(AB57*19%,0) -> 104611 | AD57: =AB57+AC57 -> 655193
B58: META | C58: Villavicencio | D58: 217245 | E58: =D58*13.12% -> 28502.544 | F58: =D58+E58 -> 245747.54 | G58: =F58*0.19 -> 46692.033 | H58: =ROUND(F58+G58,0) -> 292440 | I58: 320000 | J58: =I58*0.19 -> 60800 | K58: =I58+J58 -> 380800 | L58: 799000 | M58: =L58*0.19 -> 151810 | N58: =L58+M58 -> 950810 | O58: =AVERAGE(F58,I58,L58) -> 454915.85 | P58: =ROUND(STDEV(F58,I58,L58),0) -> 300290 | Q58: =O58+P58 -> 755205.85 | R58: =O58-P58 -> 154625.85 | S58: =AVERAGE(F58,I58) -> 282873.77 | T58: =ROUND(S58*19%,0) -> 53746 | U58: =S58+T58 -> 336619.77 | V58: =ROUND(MEDIAN(F58,I58),0) -> 282874 | W58: =ROUND(V58*19%,0) -> 53746 | X58: =V58+W58 -> 336620 | Y58: =ROUND(GEOMEAN(F58,I58),0) -> 280427 | Z58: =ROUND(Y58*19%,0) -> 53281 | AA58: =Y58+Z58 -> 333708 | AB58: =ROUND(HARMEAN(F58,I58),0) -> 278001 | AC58: =ROUND(AB58*19%,0) -> 52820 | AD58: =AB58+AC58 -> 330821
B59: PUTUMAYO | C59: Mocoa | D59: 200503 | E59: =D59*13.12% -> 26305.994 | F59: =D59+E59 -> 226808.99 | G59: =F59*0.19 -> 43093.709 | H59: =ROUND(F59+G59,0) -> 269903 | I59: 580000 | J59: =I59*0.19 -> 110200 | K59: =I59+J59 -> 690200 | L59: 799000 | M59: =L59*0.19 -> 151810 | N59: =L59+M59 -> 950810 | O59: =AVERAGE(F59,I59,L59) -> 535269.66 | P59: =ROUND(STDEV(F59,I59,L59),0) -> 288706 | Q59: =O59+P59 -> 823975.66 | R59: =O59-P59 -> 246563.66 | S59: =AVERAGE(I59,L59) -> 689500 | T59: =ROUND(S59*19%,0) -> 131005 | U59: =S59+T59 -> 820505 | V59: =ROUND(MEDIAN(I59,L59),0) -> 689500 | W59: =ROUND(V59*19%,0) -> 131005 | X59: =V59+W59 -> 820505 | Y59: =ROUND(GEOMEAN(I59,L59),0) -> 680750 | Z59: =ROUND(Y59*19%,0) -> 129343 | AA59: =Y59+Z59 -> 810093 | AB59: =ROUND(HARMEAN(I59,L59),0) -> 672110 | AC59: =ROUND(AB59*19%,0) -> 127701 | AD59: =AB59+AC59 -> 799811
B60: VAUPÉS | C60: Mitú | D60: 321261 | E60: =D60*13.12% -> 42149.443 | F60: =D60+E60 -> 363410.44 | G60: =F60*0.19 -> 69047.984 | H60: =ROUND(F60+G60,0) -> 432458 | I60: 660000 | J60: =I60*0.19 -> 125400 | K60: =I60+J60 -> 785400 | L60: 799000 | M60: =L60*0.19 -> 151810 | N60: =L60+M60 -> 950810 | O60: =AVERAGE(F60,I60,L60) -> 607470.15 | P60: =ROUND(STDEV(F60,I60,L60),0) -> 222495 | Q60: =O60+P60 -> 829965.15 | R60: =O60-P60 -> 384975.15 | S60: =AVERAGE(I60,L60) -> 729500 | T60: =ROUND(S60*19%,0) -> 138605 | U60: =S60+T60 -> 868105 | V60: =ROUND(MEDIAN(I60,L60),0) -> 729500 | W60: =ROUND(V60*19%,0) -> 138605 | X60: =V60+W60 -> 868105 | Y60: =ROUND(GEOMEAN(I60,L60),0) -> 726182 | Z60: =ROUND(Y60*19%,0) -> 137975 | AA60: =Y60+Z60 -> 864157 | AB60: =ROUND(HARMEAN(I60,L60),0) -> 722879 | AC60: =ROUND(AB60*19%,0) -> 137347 | AD60: =AB60+AC60 -> 860226
B61: VICHADA | C61: Puerto Carreño | D61: 210503 | E61: =D61*13.12% -> 27617.994 | F61: =D61+E61 -> 238120.99 | G61: =F61*0.19 -> 45242.989 | H61: =ROUND(F61+G61,0) -> 283364 | I61: 660000 | J61: =I61*0.19 -> 125400 | K61: =I61+J61 -> 785400 | L61: 799000 | M61: =L61*0.19 -> 151810 | N61: =L61+M61 -> 950810 | O61: =AVERAGE(F61,I61,L61) -> 565707 | P61: =ROUND(STDEV(F61,I61,L61),0) -> 292087 | Q61: =O61+P61 -> 857794 | R61: =O61-P61 -> 273620 | S61: =AVERAGE(I61,L61) -> 729500 | T61: =ROUND(S61*19%,0) -> 138605 | U61: =S61+T61 -> 868105 | V61: =ROUND(MEDIAN(I61,L61),0) -> 729500 | W61: =ROUND(V61*19%,0) -> 138605 | X61: =V61+W61 -> 868105 | Y61: =ROUND(GEOMEAN(I61,L61),0) -> 726182 | Z61: =ROUND(Y61*19%,0) -> 137975 | AA61: =Y61+Z61 -> 864157 | AB61: =ROUND(HARMEAN(I61,L61),0) -> 722879 | AC61: =ROUND(AB61*19%,0) -> 137347 | AD61: =AB61+AC61 -> 860226
F62: =SUM(F7:F61) -> 16664268 | I62: =SUM(I7:I61) -> 26619000 | L62: =SUM(L7:L61) -> 39367200 | U62: =SUM(U7:U61) -> 29803727 | X62: =SUM(X7:X61) -> 29888114 | AA62: =SUM(AA7:AA61) -> 29530501 | AD62: =SUM(AD7:AD61) -> 28719695

Sheet DESINFECCION DE AMBIENTE
A2: ANEXO NO. 2 - SERVICIOS REQUERIDOS
A3: SERVICIO DE DESINFECCION DE AMBIENTE
A5: REGIONALES | B5: DEPARTAMENTOS | C5: PUNTOS DE ATENCIÓN | D5: INDEXACIÓN FNA-VGHA-CD-050-2022 | I5: COTIZACIÓN 1 | L5: COTIZACIÓN 2 | O5: MEDIDA TENDENCIA: DESVIACIONES | S5: MEDIDA DE TENDENCIA: PROMEDIO | V5: MEDIDA DE TENDENCIA: MEDIANA | Y5: MEDIDA DE TENDENCIA: MEDIA GEOMETRICA | AB5: MEDIDA DE TENDENCIA: MEDIA ARMONICA
D6: VALOR UNITARIO | E6: IPC | F6: VALOR UNITARIO | G6: IVA (19%) | H6: TOTAL | I6: VALOR UNITARIO | J6: IVA (19%) | K6: TOTAL | L6: VALOR UNITARIO | M6: IVA (19%) | N6: TOTAL | O6: PROMEDIO | P6: DESVEST | Q6: MAX | R6: MIN | S6: VALOR UNITARIO | T6: VALOR DEL IVA 19% | U6: VALOR TOTAL | V6: VALOR UNITARIO | W6: VALOR DEL IVA 19% | X6: VALOR TOTAL | Y6: VALOR UNITARIO | Z6: VALOR DEL IVA 19% | AA6: VALOR TOTAL | AB6: VALOR UNITARIO | AC6: VALOR DEL IVA 19% | AD6: VALOR TOTAL
A7: BOGOTA CENTRO ZONA 1 | B7: BOGOTÁ D.C. | C7: CNA | D7: 951940 | E7: =D7*13.12% -> 124894.53 | F7: =D7+E7 -> 1076834.5 | G7: =F7*0.19 -> 204598.56 | H7: =G7+F7 -> 1281433.1 | I7: 1110000 | J7: =I7*0.19 -> 210900 | K7: =I7+J7 -> 1320900 | L7: 470000 | M7: =L7*0.19 -> 89300 | N7: =L7+M7 -> 559300 | O7: =ROUND(AVERAGE(F7,I7,L7),0) -> 885612 | P7: =ROUND(STDEV(F7,I7,L7),0) -> 360312 | Q7: =O7+P7 -> 1245924 | R7: =O7-P7 -> 525300 | S7: =ROUND(AVERAGE(F7,I7),0) -> 1093417 | T7: =ROUND(S7*19%,0) -> 207749 | U7: =S7+T7 -> 1301166 | V7: =ROUND(MEDIAN(F7,I7),0) -> 1093417 | W7: =ROUND(V7*19%,0) -> 207749 | X7: =V7+W7 -> 1301166 | Y7: =ROUND(GEOMEAN(F7,I7),0) -> 1093292 | Z7: =ROUND(Y7*19%,0) -> 207725 | AA7: =Y7+Z7 -> 1301017 | AB7: =ROUND(HARMEAN(F7,I7),0) -> 1093166 | AC7: =ROUND(AB7*19%,0) -> 207702 | AD7: =AB7+AC7 -> 1300868
B8: BOGOTÁ D.C. | C8: CAFAM | D8: 213740 | E8: =D8*13.12% -> 28042.688 | F8: =D8+E8 -> 241782.69 | G8: =F8*0.19 -> 45938.711 | H8: =G8+F8 -> 287721.4 | I8: 294000 | J8: =I8*0.19 -> 55860 | K8: =I8+J8 -> 349860 | L8: 282000 | M8: =L8*0.19 -> 53580 | N8: =L8+M8 -> 335580 | O8: =ROUND(AVERAGE(F8,I8,L8),0) -> 272594 | P8: =ROUND(STDEV(F8,I8,L8),0) -> 27350 | Q8: =O8+P8 -> 299944 | R8: =O8-P8 -> 245244 | S8: =ROUND(AVERAGE(I8,L8),0) -> 288000 | T8: =ROUND(S8*19%,0) -> 54720 | U8: =S8+T8 -> 342720 | V8: =ROUND(MEDIAN(I8,L8),0) -> 288000 | W8: =ROUND(V8*19%,0) -> 54720 | X8: =V8+W8 -> 342720 | Y8: =ROUND(GEOMEAN(I8,L8),0) -> 287937 | Z8: =ROUND(Y8*19%,0) -> 54708 | AA8: =Y8+Z8 -> 342645 | AB8: =ROUND(HARMEAN(I8,L8),0) -> 287875 | AC8: =ROUND(AB8*19%,0) -> 54696 | AD8: =AB8+AC8 -> 342571
B9: BOGOTÁ D.C. | C9: Suba | D9: 356316 | E9: =D9*13.12% -> 46748.659 | F9: =D9+E9 -> 403064.66 | G9: =F9*0.19 -> 76582.285 | H9: =G9+F9 -> 479646.94 | I9: 518000 | J9: =I9*0.19 -> 98420 | K9: =I9+J9 -> 616420 | L9: 357200 | M9: =L9*0.19 -> 67868 | N9: =L9+M9 -> 425068 | O9: =ROUND(AVERAGE(F9,I9,L9),0) -> 426088 | P9: =ROUND(STDEV(F9,I9,L9),0) -> 82836 | Q9: =O9+P9 -> 508924 | R9: =O9-P9 -> 343252 | S9: =ROUND(AVERAGE(F9,L9),0) -> 380132 | T9: =ROUND(S9*19%,0) -> 72225 | U9: =S9+T9 -> 452357 | V9: =ROUND(MEDIAN(F9,L9),0) -> 380132 | W9: =ROUND(V9*19%,0) -> 72225 | X9: =V9+W9 -> 452357 | Y9: =ROUND(GEOMEAN(F9,L9),0) -> 379440 | Z9: =ROUND(Y9*19%,0) -> 72094 | AA9: =Y9+Z9 -> 451534 | AB9: =ROUND(HARMEAN(F9,L9),0) -> 378749 | AC9: =ROUND(AB9*19%,0) -> 71962 | AD9: =AB9+AC9 -> 450711
B10: BOYACA | C10: Tunja | D10: 279185 | E10: =D10*13.12% -> 36629.072 | F10: =D10+E10 -> 315814.07 | G10: =F10*0.19 -> 60004.674 | H10: =G10+F10 -> 375818.75 | I10: 422000 | J10: =I10*0.19 -> 80180 | K10: =I10+J10 -> 502180 | L10: 799000 | M10: =L10*0.19 -> 151810 | N10: =L10+M10 -> 950810 | O10: =ROUND(AVERAGE(F10,I10,L10),0) -> 512271 | P10: =ROUND(STDEV(F10,I10,L10),0) -> 253927 | Q10: =O10+P10 -> 766198 | R10: =O10-P10 -> 258344 | S10: =ROUND(AVERAGE(F10,I10),0) -> 368907 | T10: =ROUND(S10*19%,0) -> 70092 | U10: =S10+T10 -> 438999 | V10: =ROUND(MEDIAN(F10,I10),0) -> 368907 | W10: =ROUND(V10*19%,0) -> 70092 | X10: =V10+W10 -> 438999 | Y10: =ROUND(GEOMEAN(F10,I10),0) -> 365066 | Z10: =ROUND(Y10*19%,0) -> 69363 | AA10: =Y10+Z10 -> 434429 | AB10: =ROUND(HARMEAN(F10,I10),0) -> 361266 | AC10: =ROUND(AB10*19%,0) -> 68641 | AD10: =AB10+AC10 -> 429907
B11: CUNDINAMARCA | C11: Chía | D11: 142725 | E11: =D11*13.12% -> 18725.52 | F11: =D11+E11 -> 161450.52 | G11: =F11*0.19 -> 30675.599 | H11: =G11+F11 -> 192126.12 | I11: 214000 | J11: =I11*0.19 -> 40660 | K11: =I11+J11 -> 254660 | L11: 376000 | M11: =L11*0.19 -> 71440 | N11: =L11+M11 -> 447440 | O11: =ROUND(AVERAGE(F11,I11,L11),0) -> 250484 | P11: =ROUND(STDEV(F11,I11,L11),0) -> 111831 | Q11: =O11+P11 -> 362315 | R11: =O11-P11 -> 138653 | S11: =ROUND(AVERAGE(F11,I11),0) -> 187725 | T11: =ROUND(S11*19%,0) -> 35668 | U11: =S11+T11 -> 223393 | V11: =ROUND(MEDIAN(F11,I11),0) -> 187725 | W11: =ROUND(V11*19%,0) -> 35668 | X11: =V11+W11 -> 223393 | Y11: =ROUND(GEOMEAN(F11,I11),0) -> 185877 | Z11: =ROUND(Y11*19%,0) -> 35317 | AA11: =Y11+Z11 -> 221194 | AB11: =ROUND(HARMEAN(F11,I11),0) -> 184048 | AC11: =ROUND(AB11*19%,0) -> 34969 | AD11: =AB11+AC11 -> 219017
B12: CUNDINAMARCA | C12: Girardot | D12: 265005 | E12: =D12*13.12% -> 34768.656 | F12: =D12+E12 -> 299773.66 | G12: =F12*0.19 -> 56956.995 | H12: =G12+F12 -> 356730.65 | I12: 390000 | J12: =I12*0.19 -> 74100 | K12: =I12+J12 -> 464100 | L12: 376000 | M12: =L12*0.19 -> 71440 | N12: =L12+M12 -> 447440 | O12: =ROUND(AVERAGE(F12,I12,L12),0) -> 355258 | P12: =ROUND(STDEV(F12,I12,L12),0) -> 48558 | Q12: =O12+P12 -> 403816 | R12: =O12-P12 -> 306700 | S12: =ROUND(AVERAGE(I12,L12),0) -> 383000 | T12: =ROUND(S12*19%,0) -> 72770 | U12: =S12+T12 -> 455770 | V12: =ROUND(MEDIAN(I12,L12),0) -> 383000 | W12: =ROUND(V12*19%,0) -> 72770 | X12: =V12+W12 -> 455770 | Y12: =ROUND(GEOMEAN(I12,L12),0) -> 382936 | Z12: =ROUND(Y12*19%,0) -> 72758 | AA12: =Y12+Z12 -> 455694 | AB12: =ROUND(HARMEAN(I12,L12),0) -> 382872 | AC12: =ROUND(AB12*19%,0) -> 72746 | AD12: =AB12+AC12 -> 455618
B13: CUNDINAMARCA | C13: Zipaquirá | D13: 159550 | E13: =D13*13.12% -> 20932.96 | F13: =D13+E13 -> 180482.96 | G13: =F13*0.19 -> 34291.762 | H13: =G13+F13 -> 214774.72 | I13: 262000 | J13: =I13*0.19 -> 49780 | K13: =I13+J13 -> 311780 | L13: 376000 | M13: =L13*0.19 -> 71440 | N13: =L13+M13 -> 447440 | O13: =ROUND(AVERAGE(F13,I13,L13),0) -> 272828 | P13: =ROUND(STDEV(F13,I13,L13),0) -> 98207 | Q13: =O13+P13 -> 371035 | R13: =O13-P13 -> 174621 | S13: =ROUND(AVERAGE(F13,I13),0) -> 221241 | T13: =ROUND(S13*19%,0) -> 42036 | U13: =S13+T13 -> 263277 | V13: =ROUND(MEDIAN(F13,I13),0) -> 221241 | W13: =ROUND(V13*19%,0) -> 42036 | X13: =V13+W13 -> 263277 | Y13: =ROUND(GEOMEAN(F13,I13),0) -> 217455 | Z13: =ROUND(Y13*19%,0) -> 41316 | AA13: =Y13+Z13 -> 258771 | AB13: =ROUND(HARMEAN(F13,I13),0) -> 213733 | AC13: =ROUND(AB13*19%,0) -> 40609 | AD13: =AB13+AC13 -> 254342
A14: BOGOTA CENTRO ZONA 2 | B14: BOGOTÁ D.C. | C14: Ángel | D14: 519348 | E14: =D14*13.12% -> 68138.458 | F14: =D14+E14 -> 587486.46 | G14: =F14*0.19 -> 111622.43 | H14: =G14+F14 -> 699108.88 | I14: 614000 | J14: =I14*0.19 -> 116660 | K14: =I14+J14 -> 730660 | L14: 282000 | M14: =L14*0.19 -> 53580 | N14: =L14+M14 -> 335580 | O14: =ROUND(AVERAGE(F14,I14,L14),0) -> 494495 | P14: =ROUND(STDEV(F14,I14,L14),0) -> 184503 | Q14: =O14+P14 -> 678998 | R14: =O14-P14 -> 309992 | S14: =ROUND(AVERAGE(F14,I14),0) -> 600743 | T14: =ROUND(S14*19%,0) -> 114141 | U14: =S14+T14 -> 714884 | V14: =ROUND(MEDIAN(F14,I14),0) -> 600743 | W14: =ROUND(V14*19%,0) -> 114141 | X14: =V14+W14 -> 714884 | Y14: =ROUND(GEOMEAN(F14,I14),0) -> 600597 | Z14: =ROUND(Y14*19%,0) -> 114113 | AA14: =Y14+Z14 -> 714710 | AB14: =ROUND(HARMEAN(F14,I14),0) -> 600451 | AC14: =ROUND(AB14*19%,0) -> 114086 | AD14: =AB14+AC14 -> 714537
B15: BOGOTA D.C | C15: CAN | D15: 283135 | E15: =D15*13.12% -> 37147.312 | F15: =D15+E15 -> 320282.31 | G15: =F15*0.19 -> 60853.639 | H15: =G15+F15 -> 381135.95 | I15: 422000 | J15: =I15*0.19 -> 80180 | K15: =I15+J15 -> 502180 | L15: 282000 | M15: =L15*0.19 -> 53580 | N15: =L15+M15 -> 335580 | O15: =ROUND(AVERAGE(F15,I15,L15),0) -> 341427 | P15: =ROUND(STDEV(F15,I15,L15),0) -> 72356 | Q15: =O15+P15 -> 413783 | R15: =O15-P15 -> 269071 | S15: =ROUND(AVERAGE(F15,L15),0) -> 301141 | T15: =ROUND(S15*19%,0) -> 57217 | U15: =S15+T15 -> 358358 | V15: =ROUND(MEDIAN(F15,L15),0) -> 301141 | W15: =ROUND(V15*19%,0) -> 57217 | X15: =V15+W15 -> 358358 | Y15: =ROUND(GEOMEAN(F15,L15),0) -> 300532 | Z15: =ROUND(Y15*19%,0) -> 57101 | AA15: =Y15+Z15 -> 357633 | AB15: =ROUND(HARMEAN(F15,L15),0) -> 299925 | AC15: =ROUND(AB15*19%,0) -> 56986 | AD15: =AB15+AC15 -> 356911
B16: BOGOTA D.C | C16: Paseo Villa del Rio | D16: 181020 | E16: =D16*13.12% -> 23749.824 | F16: =D16+E16 -> 204769.82 | G16: =F16*0.19 -> 38906.267 | H16: =G16+F16 -> 243676.09 | I16: 262000 | J16: =I16*0.19 -> 49780 | K16: =I16+J16 -> 311780 | L16: 282000 | M16: =L16*0.19 -> 53580 | N16: =L16+M16 -> 335580 | O16: =ROUND(AVERAGE(F16,I16,L16),0) -> 249590 | P16: =ROUND(STDEV(F16,I16,L16),0) -> 40083 | Q16: =O16+P16 -> 289673 | R16: =O16-P16 -> 209507 | S16: =ROUND(AVERAGE(I16,L16),0) -> 272000 | T16: =ROUND(S16*19%,0) -> 51680 | U16: =S16+T16 -> 323680 | V16: =ROUND(MEDIAN(I16,L16),0) -> 272000 | W16: =ROUND(V16*19%,0) -> 51680 | X16: =V16+W16 -> 323680 | Y16: =ROUND(GEOMEAN(I16,L16),0) -> 271816 | Z16: =ROUND(Y16*19%,0) -> 51645 | AA16: =Y16+Z16 -> 323461 | AB16: =ROUND(HARMEAN(I16,L16),0) -> 271632 | AC16: =ROUND(AB16*19%,0) -> 51610 | AD16: =AB16+AC16 -> 323242
B17: CUNDINAMARCA | C17: Soacha | D17: 287224 | E17: =D17*13.12% -> 37683.789 | F17: =D17+E17 -> 324907.79 | G17: =F17*0.19 -> 61732.48 | H17: =G17+F17 -> 386640.27 | I17: 406000 | J17: =I17*0.19 -> 77140 | K17: =I17+J17 -> 483140 | L17: 329000 | M17: =L17*0.19 -> 62510 | N17: =L17+M17 -> 391510 | O17: =ROUND(AVERAGE(F17,I17,L17),0) -> 353303 | P17: =ROUND(STDEV(F17,I17,L17),0) -> 45683 | Q17: =O17+P17 -> 398986 | R17: =O17-P17 -> 307620 | S17: =ROUND(AVERAGE(I17,L17),0) -> 367500 | T17: =ROUND(S17*19%,0) -> 69825 | U17: =S17+T17 -> 437325 | V17: =ROUND(MEDIAN(F17,L17),0) -> 326954 | W17: =ROUND(V17*19%,0) -> 62121 | X17: =V17+W17 -> 389075 | Y17: =ROUND(GEOMEAN(F17,L17),0) -> 326947 | Z17: =ROUND(Y17*19%,0) -> 62120 | AA17: =Y17+Z17 -> 389067 | AB17: =ROUND(HARMEAN(F17,L17),0) -> 326941 | AC17: =ROUND(AB17*19%,0) -> 62119 | AD17: =AB17+AC17 -> 389060
B18: HUILA | C18: Neiva | D18: 317908 | E18: =D18*13.12% -> 41709.53 | F18: =D18+E18 -> 359617.53 | G18: =F18*0.19 -> 68327.331 | H18: =G18+F18 -> 427944.86 | I18: 454000 | J18: =I18*0.19 -> 86260 | K18: =I18+J18 -> 540260 | L18: 799000 | M18: =L18*0.19 -> 151810 | N18: =L18+M18 -> 950810 | O18: =ROUND(AVERAGE(F18,I18,L18),0) -> 537539 | P18: =ROUND(STDEV(F18,I18,L18),0) -> 231297 | Q18: =O18+P18 -> 768836 | R18: =O18-P18 -> 306242 | S18: =ROUND(AVERAGE(F18,I18),0) -> 406809 | T18: =ROUND(S18*19%,0) -> 77294 | U18: =S18+T18 -> 484103 | V18: =ROUND(MEDIAN(F18,I18),0) -> 406809 | W18: =ROUND(V18*19%,0) -> 77294 | X18: =V18+W18 -> 484103 | Y18: =ROUND(GEOMEAN(F18,I18),0) -> 404062 | Z18: =ROUND(Y18*19%,0) -> 76772 | AA18: =Y18+Z18 -> 480834 | AB18: =ROUND(HARMEAN(F18,I18),0) -> 401334 | AC18: =ROUND(AB18*19%,0) -> 76253 | AD18: =AB18+AC18 -> 477587
B19: TOLIMA | C19: Espinal | E19: =D19*13.12% -> 0 | F19: 0 | G19: =F19*0.19 -> 0 | H19: =G19+F19 -> 0 | I19: 313000 | J19: =I19*0.19 -> 59470 | K19: =I19+J19 -> 372470 | L19: 799000 | M19: =L19*0.19 -> 151810 | N19: =L19+M19 -> 950810 | O19: =ROUND(AVERAGE(I19,L19),0) -> 556000 | P19: =ROUND(STDEV(F19,I19,L19),0) -> 402609 | Q19: =O19+P19 -> 958609 | R19: =O19-P19 -> 153391 | S19: =ROUND(AVERAGE(I19,L19),0) -> 556000 | T19: =ROUND(S19*19%,0) -> 105640 | U19: =S19+T19 -> 661640 | V19: =ROUND(MEDIAN(I19,L19),0) -> 556000 | W19: =ROUND(V19*19%,0) -> 105640 | X19: =V19+W19 -> 661640 | Y19: =ROUND(GEOMEAN(I19,L19),0) -> 500087 | Z19: =ROUND(Y19*19%,0) -> 95017 | AA19: =Y19+Z19 -> 595104 | AB19: =ROUND(HARMEAN(I19,L19),0) -> 449797 | AC19: =ROUND(AB19*19%,0) -> 85461 | AD19: =AB19+AC19 -> 535258
B20: TOLIMA | C20: Ibagué | D20: 320887 | E20: =D20*13.12% -> 42100.374 | F20: =D20+E20 -> 362987.37 | G20: =F20*0.19 -> 68967.601 | H20: =G20+F20 -> 431954.98 | I20: 454000 | J20: =I20*0.19 -> 86260 | K20: =I20+J20 -> 540260 | L20: 799000 | M20: =L20*0.19 -> 151810 | N20: =L20+M20 -> 950810 | O20: =ROUND(AVERAGE(F20,I20,L20),0) -> 538662 | P20: =ROUND(STDEV(F20,I20,L20),0) -> 230006 | Q20: =O20+P20 -> 768668 | R20: =O20-P20 -> 308656 | S20: =ROUND(AVERAGE(F20,I20),0) -> 408494 | T20: =ROUND(S20*19%,0) -> 77614 | U20: =S20+T20 -> 486108 | V20: =ROUND(MEDIAN(F20,I20),0) -> 408494 | W20: =ROUND(V20*19%,0) -> 77614 | X20: =V20+W20 -> 486108 | Y20: =ROUND(GEOMEAN(F20,I20),0) -> 405951 | Z20: =ROUND(Y20*19%,0) -> 77131 | AA20: =Y20+Z20 -> 483082 | AB20: =ROUND(HARMEAN(F20,I20),0) -> 403424 | AC20: =ROUND(AB20*19%,0) -> 76651 | AD20: =AB20+AC20 -> 480075
A21: ANTIOQUIA - EJE CAFETERO | B21: ANTIOQUIA | C21: Apartado | D21: 239390 | E21: =D21*13.12% -> 31407.968 | F21: =D21+E21 -> 270797.97 | G21: =F21*0.19 -> 51451.614 | H21: =G21+F21 -> 322249.58 | I21: 470000 | J21: =I21*0.19 -> 89300 | K21: =I21+J21 -> 559300 | L21: 799000 | M21: =L21*0.19 -> 151810 | N21: =L21+M21 -> 950810 | O21: =ROUND(AVERAGE(F21,I21,L21),0) -> 513266 | P21: =ROUND(STDEV(F21,I21,L21),0) -> 266746 | Q21: =O21+P21 -> 780012 | R21: =O21-P21 -> 246520 | S21: =ROUND(AVERAGE(F21,I21),0) -> 370399 | T21: =ROUND(S21*19%,0) -> 70376 | U21: =S21+T21 -> 440775 | V21: =ROUND(MEDIAN(F21,I21),0) -> 370399 | W21: =ROUND(V21*19%,0) -> 70376 | X21: =V21+W21 -> 440775 | Y21: =ROUND(GEOMEAN(F21,I21),0) -> 356756 | Z21: =ROUND(Y21*19%,0) -> 67784 | AA21: =Y21+Z21 -> 424540 | AB21: =ROUND(HARMEAN(F21,I21),0) -> 343616 | AC21: =ROUND(AB21*19%,0) -> 65287 | AD21: =AB21+AC21 -> 408903
B22: ANTIOQUIA | C22: Mayorca | D22: 189450 | E22: =D22*13.12% -> 24855.84 | F22: =D22+E22 -> 214305.84 | G22: =F22*0.19 -> 40718.11 | H22: =G22+F22 -> 255023.95 | I22: 262000 | J22: =I22*0.19 -> 49780 | K22: =I22+J22 -> 311780 | L22: 799000 | M22: =L22*0.19 -> 151810 | N22: =L22+M22 -> 950810 | O22: =ROUND(AVERAGE(F22,I22,L22),0) -> 425102 | P22: =ROUND(STDEV(F22,I22,L22),0) -> 324682 | Q22: =O22+P22 -> 749784 | R22: =O22-P22 -> 100420 | S22: =ROUND(AVERAGE(F22,I22),0) -> 238153 | T22: =ROUND(S22*19%,0) -> 45249 | U22: =S22+T22 -> 283402 | V22: =ROUND(MEDIAN(F22,I22),0) -> 238153 | W22: =ROUND(V22*19%,0) -> 45249 | X22: =V22+W22 -> 283402 | Y22: =ROUND(GEOMEAN(F22,I22),0) -> 236956 | Z22: =ROUND(Y22*19%,0) -> 45022 | AA22: =Y22+Z22 -> 281978 | AB22: =ROUND(HARMEAN(F22,I22),0) -> 235765 | AC22: =ROUND(AB22*19%,0) -> 44795 | AD22: =AB22+AC22 -> 280560
B23: ANTIOQUIA | C23: Medellín | D23: 394127 | E23: =D23*13.12% -> 51709.462 | F23: =D23+E23 -> 445836.46 | G23: =F23*0.19 -> 84708.928 | H23: =G23+F23 -> 530545.39 | I23: 550000 | J23: =I23*0.19 -> 104500 | K23: =I23+J23 -> 654500 | L23: 799000 | M23: =L23*0.19 -> 151810 | N23: =L23+M23 -> 950810 | O23: =ROUND(AVERAGE(F23,I23,L23),0) -> 598279 | P23: =ROUND(STDEV(F23,I23,L23),0) -> 181464 | Q23: =O23+P23 -> 779743 | R23: =O23-P23 -> 416815 | S23: =ROUND(AVERAGE(F23,I23),0) -> 497918 | T23: =ROUND(S23*19%,0) -> 94604 | U23: =S23+T23 -> 592522 | V23: =ROUND(MEDIAN(F23,I23),0) -> 497918 | W23: =ROUND(V23*19%,0) -> 94604 | X23: =V23+W23 -> 592522 | Y23: =ROUND(GEOMEAN(F23,I23),0) -> 495187 | Z23: =ROUND(Y23*19%,0) -> 94086 | AA23: =Y23+Z23 -> 589273 | AB23: =ROUND(HARMEAN(F23,I23),0) -> 492471 | AC23: =ROUND(AB23*19%,0) -> 93569 | AD23: =AB23+AC23 -> 586040
B24: ANTIOQUIA | C24: Rio Negro | D24: 168308 | E24: =D24*13.12% -> 22082.01 | F24: =D24+E24 -> 190390.01 | G24: =F24*0.19 -> 36174.102 | H24: =G24+F24 -> 226564.11 | I24: 390000 | J24: =I24*0.19 -> 74100 | K24: =I24+J24 -> 464100 | L24: 799000 | M24: =L24*0.19 -> 151810 | N24: =L24+M24 -> 950810 | O24: =ROUND(AVERAGE(F24,I24,L24),0) -> 459797 | P24: =ROUND(STDEV(F24,I24,L24),0) -> 310250 | Q24: =O24+P24 -> 770047 | R24: =O24-P24 -> 149547 | S24: =ROUND(AVERAGE(F24,I24),0) -> 290195 | T24: =ROUND(S24*19%,0) -> 55137 | U24: =S24+T24 -> 345332 | V24: =ROUND(MEDIAN(F24,I24),0) -> 290195 | W24: =ROUND(V24*19%,0) -> 55137 | X24: =V24+W24 -> 345332 | Y24: =ROUND(GEOMEAN(F24,I24),0) -> 272492 | Z24: =ROUND(Y24*19%,0) -> 51773 | AA24: =Y24+Z24 -> 324265 | AB24: =ROUND(HARMEAN(F24,I24),0) -> 255870 | AC24: =ROUND(AB24*19%,0) -> 48615 | AD24: =AB24+AC24 -> 304485
B25: CALDAS | C25: La Dorada | D25: 211083 | E25: =D25*13.12% -> 27694.09 | F25: =D25+E25 -> 238777.09 | G25: =F25*0.19 -> 45367.647 | H25: =G25+F25 -> 284144.74 | I25: 310000 | J25: =I25*0.19 -> 58900 | K25: =I25+J25 -> 368900 | L25: 799000 | M25: =L25*0.19 -> 151810 | N25: =L25+M25 -> 950810 | O25: =ROUND(AVERAGE(F25,I25,L25),0) -> 449259 | P25: =ROUND(STDEV(F25,I25,L25),0) -> 304971 | Q25: =O25+P25 -> 754230 | R25: =O25-P25 -> 144288 | S25: =ROUND(AVERAGE(F25,I25),0) -> 274389 | T25: =ROUND(S25*19%,0) -> 52134 | U25: =S25+T25 -> 326523 | V25: =ROUND(MEDIAN(F25,I25),0) -> 274389 | W25: =ROUND(V25*19%,0) -> 52134 | X25: =V25+W25 -> 326523 | Y25: =ROUND(GEOMEAN(F25,I25),0) -> 272068 | Z25: =ROUND(Y25*19%,0) -> 51693 | AA25: =Y25+Z25 -> 323761 | AB25: =ROUND(HARMEAN(F25,I25),0) -> 269767 | AC25: =ROUND(AB25*19%,0) -> 51256 | AD25: =AB25+AC25 -> 321023
B26: CALDAS | C26: Manizales | D26: 315119 | E26: =D26*13.12% -> 41343.613 | F26: =D26+E26 -> 356462.61 | G26: =F26*0.19 -> 67727.896 | H26: =G26+F26 -> 424190.51 | I26: 454000 | J26: =I26*0.19 -> 86260 | K26: =I26+J26 -> 540260 | L26: 799000 | M26: =L26*0.19 -> 151810 | N26: =L26+M26 -> 950810 | O26: =ROUND(AVERAGE(F26,I26,L26),0) -> 536488 | P26: =ROUND(STDEV(F26,I26,L26),0) -> 232514 | Q26: =O26+P26 -> 769002 | R26: =O26-P26 -> 303974 | S26: =ROUND(AVERAGE(F26,I26),0) -> 405231 | T26: =ROUND(S26*19%,0) -> 76994 | U26: =S26+T26 -> 482225 | V26: =ROUND(MEDIAN(F26,I26),0) -> 405231 | W26: =ROUND(V26*19%,0) -> 76994 | X26: =V26+W26 -> 482225 | Y26: =ROUND(GEOMEAN(F26,I26),0) -> 402286 | Z26: =ROUND(Y26*19%,0) -> 76434 | AA26: =Y26+Z26 -> 478720 | AB26: =ROUND(HARMEAN(F26,I26),0) -> 399362 | AC26: =ROUND(AB26*19%,0) -> 75879 | AD26: =AB26+AC26 -> 475241
B27: QUINDIO | C27: Armenia | D27: 299475 | E27: =D27*13.12% -> 39291.12 | F27: =D27+E27 -> 338766.12 | G27: =F27*0.19 -> 64365.563 | H27: =G27+F27 -> 403131.68 | I27: 422000 | J27: =I27*0.19 -> 80180 | K27: =I27+J27 -> 502180 | L27: 799000 | M27: =L27*0.19 -> 151810 | N27: =L27+M27 -> 950810 | O27: =ROUND(AVERAGE(F27,I27,L27),0) -> 519922 | P27: =ROUND(STDEV(F27,I27,L27),0) -> 245245 | Q27: =O27+P27 -> 765167 | R27: =O27-P27 -> 274677 | S27: =ROUND(AVERAGE(F27,I27),0) -> 380383 | T27: =ROUND(S27*19%,0) -> 72273 | U27: =S27+T27 -> 452656 | V27: =ROUND(MEDIAN(F27,I27),0) -> 380383 | W27: =ROUND(V27*19%,0) -> 72273 | X27: =V27+W27 -> 452656 | Y27: =ROUND(GEOMEAN(F27,I27),0) -> 378100 | Z27: =ROUND(Y27*19%,0) -> 71839 | AA27: =Y27+Z27 -> 449939 | AB27: =ROUND(HARMEAN(F27,I27),0) -> 375830 | AC27: =ROUND(AB27*19%,0) -> 71408 | AD27: =AB27+AC27 -> 447238
B28: RISARALDA | C28: Pereira | D28: 354130 | E28: =D28*13.12% -> 46461.856 | F28: =D28+E28 -> 400591.86 | G28: =F28*0.19 -> 76112.453 | H28: =G28+F28 -> 476704.31 | I28: 534000 | J28: =I28*0.19 -> 101460 | K28: =I28+J28 -> 635460 | L28: 799000 | M28: =L28*0.19 -> 151810 | N28: =L28+M28 -> 950810 | O28: =ROUND(AVERAGE(F28,I28,L28),0) -> 577864 | P28: =ROUND(STDEV(F28,I28,L28),0) -> 202794 | Q28: =O28+P28 -> 780658 | R28: =O28-P28 -> 375070 | S28: =ROUND(AVERAGE(F28,I28),0) -> 467296 | T28: =ROUND(S28*19%,0) -> 88786 | U28: =S28+T28 -> 556082 | V28: =ROUND(MEDIAN(F28,I28),0) -> 467296 | W28: =ROUND(V28*19%,0) -> 88786 | X28: =V28+W28 -> 556082 | Y28: =ROUND(GEOMEAN(F28,I28),0) -> 462511 | Z28: =ROUND(Y28*19%,0) -> 87877 | AA28: =Y28+Z28 -> 550388 | AB28: =ROUND(HARMEAN(F28,I28),0) -> 457774 | AC28: =ROUND(AB28*19%,0) -> 86977 | AD28: =AB28+AC28 -> 544751
A29: NORTE | B29: ATLÁNTICO | C29: Soledad | D29: 238100 | E29: =D29*13.12% -> 31238.72 | F29: =D29+E29 -> 269338.72 | G29: =F29*0.19 -> 51174.357 | H29: =G29+F29 -> 320513.08 | I29: 342000 | J29: =I29*0.19 -> 64980 | K29: =I29+J29 -> 406980 | L29: 799000 | M29: =L29*0.19 -> 151810 | N29: =L29+M29 -> 950810 | O29: =ROUND(AVERAGE(F29,I29,L29),0) -> 470113 | P29: =ROUND(STDEV(F29,I29,L29),0) -> 287132 | Q29: =O29+P29 -> 757245 | R29: =O29-P29 -> 182981 | S29: =ROUND(AVERAGE(F29,I29),0) -> 305669 | T29: =ROUND(S29*19%,0) -> 58077 | U29: =S29+T29 -> 363746 | V29: =ROUND(MEDIAN(F29,I29),0) -> 305669 | W29: =ROUND(V29*19%,0) -> 58077 | X29: =V29+W29 -> 363746 | Y29: =ROUND(GEOMEAN(F29,I29),0) -> 303503 | Z29: =ROUND(Y29*19%,0) -> 57666 | AA29: =Y29+Z29 -> 361169 | AB29: =ROUND(HARMEAN(F29,I29),0) -> 301351 | AC29: =ROUND(AB29*19%,0) -> 57257 | AD29: =AB29+AC29 -> 358608
B30: ATLÁNTICO | C30: Viva Barranquilla | D30: 415126 | E30: =D30*13.12% -> 54464.531 | F30: =D30+E30 -> 469590.53 | G30: =F30*0.19 -> 89222.201 | H30: =G30+F30 -> 558812.73 | I30: 582000 | J30: =I30*0.19 -> 110580 | K30: =I30+J30 -> 692580 | L30: 799000 | M30: =L30*0.19 -> 151810 | N30: =L30+M30 -> 950810 | O30: =ROUND(AVERAGE(F30,I30,L30),0) -> 616864 | P30: =ROUND(STDEV(F30,I30,L30),0) -> 167449 | Q30: =O30+P30 -> 784313 | R30: =O30-P30 -> 449415 | S30: =ROUND(AVERAGE(F30,I30),0) -> 525795 | T30: =ROUND(S30*19%,0) -> 99901 | U30: =S30+T30 -> 625696 | V30: =ROUND(MEDIAN(F30,I30),0) -> 525795 | W30: =ROUND(V30*19%,0) -> 99901 | X30: =V30+W30 -> 625696 | Y30: =ROUND(GEOMEAN(F30,I30),0) -> 522783 | Z30: =ROUND(Y30*19%,0) -> 99329 | AA30: =Y30+Z30 -> 622112 | AB30: =ROUND(HARMEAN(F30,I30),0) -> 519787 | AC30: =ROUND(AB30*19%,0) -> 98760 | AD30: =AB30+AC30 -> 618547
B31: BOLIVAR | C31: Cartagena | D31: 298827 | E31: =D31*13.12% -> 39206.102 | F31: =D31+E31 -> 338033.1 | G31: =F31*0.19 -> 64226.289 | H31: =G31+F31 -> 402259.39 | I31: 422000 | J31: =I31*0.19 -> 80180 | K31: =I31+J31 -> 502180 | L31: 799000 | M31: =L31*0.19 -> 151810 | N31: =L31+M31 -> 950810 | O31: =ROUND(AVERAGE(F31,I31,L31),0) -> 519678 | P31: =ROUND(STDEV(F31,I31,L31),0) -> 245516 | Q31: =O31+P31 -> 765194 | R31: =O31-P31 -> 274162 | S31: =ROUND(AVERAGE(F31,I31),0) -> 380017 | T31: =ROUND(S31*19%,0) -> 72203 | U31: =S31+T31 -> 452220 | V31: =ROUND(MEDIAN(F31,I31),0) -> 380017 | W31: =ROUND(V31*19%,0) -> 72203 | X31: =V31+W31 -> 452220 | Y31: =ROUND(GEOMEAN(F31,I31),0) -> 377690 | Z31: =ROUND(Y31*19%,0) -> 71761 | AA31: =Y31+Z31 -> 449451 | AB31: =ROUND(HARMEAN(F31,I31),0) -> 375378 | AC31: =ROUND(AB31*19%,0) -> 71322 | AD31: =AB31+AC31 -> 446700
B32: BOLIVAR | C32: Éxito Cartagena | D32: 170199 | E32: =D32*13.12% -> 22330.109 | F32: =D32+E32 -> 192529.11 | G32: =F32*0.19 -> 36580.531 | H32: =G32+F32 -> 229109.64 | I32: 390000 | J32: =I32*0.19 -> 74100 | K32: =I32+J32 -> 464100 | L32: 799000 | M32: =L32*0.19 -> 151810 | N32: =L32+M32 -> 950810 | O32: =ROUND(AVERAGE(F32,I32,L32),0) -> 460510 | P32: =ROUND(STDEV(F32,I32,L32),0) -> 309323 | Q32: =O32+P32 -> 769833 | R32: =O32-P32 -> 151187 | S32: =ROUND(AVERAGE(F32,I32),0) -> 291265 | T32: =ROUND(S32*19%,0) -> 55340 | U32: =S32+T32 -> 346605 | V32: =ROUND(MEDIAN(F32,I32),0) -> 291265 | W32: =ROUND(V32*19%,0) -> 55340 | X32: =V32+W32 -> 346605 | Y32: =ROUND(GEOMEAN(F32,I32),0) -> 274019 | Z32: =ROUND(Y32*19%,0) -> 52064 | AA32: =Y32+Z32 -> 326083 | AB32: =ROUND(HARMEAN(F32,I32),0) -> 257794 | AC32: =ROUND(AB32*19%,0) -> 48981 | AD32: =AB32+AC32 -> 306775
B33: CESAR | C33: Valledupar | D33: 352290 | E33: =D33*13.12% -> 46220.448 | F33: =D33+E33 -> 398510.45 | G33: =F33*0.19 -> 75716.985 | H33: =G33+F33 -> 474227.43 | I33: 400000 | J33: =I33*0.19 -> 76000 | K33: =I33+J33 -> 476000 | L33: 799000 | M33: =L33*0.19 -> 151810 | N33: =L33+M33 -> 950810 | O33: =ROUND(AVERAGE(F33,I33,L33),0) -> 532503 | P33: =ROUND(STDEV(F33,I33,L33),0) -> 230794 | Q33: =O33+P33 -> 763297 | R33: =O33-P33 -> 301709 | S33: =ROUND(AVERAGE(F33,I33),0) -> 399255 | T33: =ROUND(S33*19%,0) -> 75858 | U33: =S33+T33 -> 475113 | V33: =ROUND(MEDIAN(F33,I33),0) -> 399255 | W33: =ROUND(V33*19%,0) -> 75858 | X33: =V33+W33 -> 475113 | Y33: =ROUND(GEOMEAN(F33,I33),0) -> 399255 | Z33: =ROUND(Y33*19%,0) -> 75858 | AA33: =Y33+Z33 -> 475113 | AB33: =ROUND(HARMEAN(F33,I33),0) -> 399254 | AC33: =ROUND(AB33*19%,0) -> 75858 | AD33: =AB33+AC33 -> 475112
B34: CÓRDOBA | C34: Montería | D34: 271525 | E34: =D34*13.12% -> 35624.08 | F34: =D34+E34 -> 307149.08 | G34: =F34*0.19 -> 58358.325 | H34: =G34+F34 -> 365507.41 | I34: 390000 | J34: =I34*0.19 -> 74100 | K34: =I34+J34 -> 464100 | L34: 799000 | M34: =L34*0.19 -> 151810 | N34: =L34+M34 -> 950810 | O34: =ROUND(AVERAGE(F34,I34,L34),0) -> 498716 | P34: =ROUND(STDEV(F34,I34,L34),0) -> 263332 | Q34: =O34+P34 -> 762048 | R34: =O34-P34 -> 235384 | S34: =ROUND(AVERAGE(F34,I34),0) -> 348575 | T34: =ROUND(S34*19%,0) -> 66229 | U34: =S34+T34 -> 414804 | V34: =ROUND(MEDIAN(F34,I34),0) -> 348575 | W34: =ROUND(V34*19%,0) -> 66229 | X34: =V34+W34 -> 414804 | Y34: =ROUND(GEOMEAN(F34,I34),0) -> 346104 | Z34: =ROUND(Y34*19%,0) -> 65760 | AA34: =Y34+Z34 -> 411864 | AB34: =ROUND(HARMEAN(F34,I34),0) -> 343651 | AC34: =ROUND(AB34*19%,0) -> 65294 | AD34: =AB34+AC34 -> 408945
B35: GUAJIRA | C35: Riohacha | D35: 300918 | E35: =D35*13.12% -> 39480.442 | F35: =D35+E35 -> 340398.44 | G35: =F35*0.19 -> 64675.704 | H35: =G35+F35 -> 405074.15 | I35: 422000 | J35: =I35*0.19 -> 80180 | K35: =I35+J35 -> 502180 | L35: 799000 | M35: =L35*0.19 -> 151810 | N35: =L35+M35 -> 950810 | O35: =ROUND(AVERAGE(F35,I35,L35),0) -> 520466 | P35: =ROUND(STDEV(F35,I35,L35),0) -> 244644 | Q35: =O35+P35 -> 765110 | R35: =O35-P35 -> 275822 | S35: =ROUND(AVERAGE(F35,I35),0) -> 381199 | T35: =ROUND(S35*19%,0) -> 72428 | U35: =S35+T35 -> 453627 | V35: =ROUND(MEDIAN(F35,I35),0) -> 381199 | W35: =ROUND(V35*19%,0) -> 72428 | X35: =V35+W35 -> 453627 | Y35: =ROUND(GEOMEAN(F35,I35),0) -> 379009 | Z35: =ROUND(Y35*19%,0) -> 72012 | AA35: =Y35+Z35 -> 451021 | AB35: =ROUND(HARMEAN(F35,I35),0) -> 376832 | AC35: =ROUND(AB35*19%,0) -> 71598 | AD35: =AB35+AC35 -> 448430
B36: MAGDALENA | C36: Santa Marta | D36: 397980 | E36: =D36*13.12% -> 52214.976 | F36: =D36+E36 -> 450194.98 | G36: =F36*0.19 -> 85537.045 | H36: =G36+F36 -> 535732.02 | I36: 550000 | J36: =I36*0.19 -> 104500 | K36: =I36+J36 -> 654500 | L36: 799000 | M36: =L36*0.19 -> 151810 | N36: =L36+M36 -> 950810 | O36: =ROUND(AVERAGE(F36,I36,L36),0) -> 599732 | P36: =ROUND(STDEV(F36,I36,L36),0) -> 179642 | Q36: =O36+P36 -> 779374 | R36: =O36-P36 -> 420090 | S36: =ROUND(AVERAGE(F36,I36),0) -> 500097 | T36: =ROUND(S36*19%,0) -> 95018 | U36: =S36+T36 -> 595115 | V36: =ROUND(MEDIAN(F36,I36),0) -> 500097 | W36: =ROUND(V36*19%,0) -> 95018 | X36: =V36+W36 -> 595115 | Y36: =ROUND(GEOMEAN(F36,I36),0) -> 497601 | Z36: =ROUND(Y36*19%,0) -> 94544 | AA36: =Y36+Z36 -> 592145 | AB36: =ROUND(HARMEAN(F36,I36),0) -> 495118 | AC36: =ROUND(AB36*19%,0) -> 94072 | AD36: =AB36+AC36 -> 589190
B37: SAN ANDRÉS | C37: San Andrés | D37: 213587 | E37: =D37*13.12% -> 28022.614 | F37: =D37+E37 -> 241609.61 | G37: =F37*0.19 -> 45905.827 | H37: =G37+F37 -> 287515.44 | I37: 440000 | J37: =I37*0.19 -> 83600 | K37: =I37+J37 -> 523600 | L37: 799000 | M37: =L37*0.19 -> 151810 | N37: =L37+M37 -> 950810 | O37: =ROUND(AVERAGE(F37,I37,L37),0) -> 493537 | P37: =ROUND(STDEV(F37,I37,L37),0) -> 282525 | Q37: =O37+P37 -> 776062 | R37: =O37-P37 -> 211012 | S37: =ROUND(AVERAGE(F37,I37),0) -> 340805 | T37: =ROUND(S37*19%,0) -> 64753 | U37: =S37+T37 -> 405558 | V37: =ROUND(MEDIAN(F37,I37),0) -> 340805 | W37: =ROUND(V37*19%,0) -> 64753 | X37: =V37+W37 -> 405558 | Y37: =ROUND(GEOMEAN(F37,I37),0) -> 326049 | Z37: =ROUND(Y37*19%,0) -> 61949 | AA37: =Y37+Z37 -> 387998 | AB37: =ROUND(HARMEAN(F37,I37),0) -> 311933 | AC37: =ROUND(AB37*19%,0) -> 59267 | AD37: =AB37+AC37 -> 371200
B38: SUCRE | C38: Sincelejo | D38: 271436 | E38: =D38*13.12% -> 35612.403 | F38: =D38+E38 -> 307048.4 | G38: =F38*0.19 -> 58339.197 | H38: =G38+F38 -> 365387.6 | I38: 390000 | J38: =I38*0.19 -> 74100 | K38: =I38+J38 -> 464100 | L38: 799000 | M38: =L38*0.19 -> 151810 | N38: =L38+M38 -> 950810 | O38: =ROUND(AVERAGE(F38,I38,L38),0) -> 498683 | P38: =ROUND(STDEV(F38,I38,L38),0) -> 263369 | Q38: =O38+P38 -> 762052 | R38: =O38-P38 -> 235314 | S38: =ROUND(AVERAGE(F38,I38),0) -> 348524 | T38: =ROUND(S38*19%,0) -> 66220 | U38: =S38+T38 -> 414744 | V38: =ROUND(MEDIAN(F38,I38),0) -> 348524 | W38: =ROUND(V38*19%,0) -> 66220 | X38: =V38+W38 -> 414744 | Y38: =ROUND(GEOMEAN(F38,I38),0) -> 346048 | Z38: =ROUND(Y38*19%,0) -> 65749 | AA38: =Y38+Z38 -> 411797 | AB38: =ROUND(HARMEAN(F38,I38),0) -> 343588 | AC38: =ROUND(AB38*19%,0) -> 65282 | AD38: =AB38+AC38 -> 408870
A39: SANTANDERES | B39: NORTE DE SANTADER | C39: Cúcuta | D39: 350982 | E39: =D39*13.12% -> 46048.838 | F39: =D39+E39 -> 397030.84 | G39: =F39*0.19 -> 75435.859 | H39: =G39+F39 -> 472466.7 | I39: 534000 | J39: =I39*0.19 -> 101460 | K39: =I39+J39 -> 635460 | L39: 799000 | M39: =L39*0.19 -> 151810 | N39: =L39+M39 -> 950810 | O39: =ROUND(AVERAGE(F39,I39,L39),0) -> 576677 | P39: =ROUND(STDEV(F39,I39,L39),0) -> 204355 | Q39: =O39+P39 -> 781032 | R39: =O39-P39 -> 372322 | S39: =ROUND(AVERAGE(F39,I39),0) -> 465515 | T39: =ROUND(S39*19%,0) -> 88448 | U39: =S39+T39 -> 553963 | V39: =ROUND(MEDIAN(F39,I39),0) -> 465515 | W39: =ROUND(V39*19%,0) -> 88448 | X39: =V39+W39 -> 553963 | Y39: =ROUND(GEOMEAN(F39,I39),0) -> 460450 | Z39: =ROUND(Y39*19%,0) -> 87486 | AA39: =Y39+Z39 -> 547936 | AB39: =ROUND(HARMEAN(F39,I39),0) -> 455440 | AC39: =ROUND(AB39*19%,0) -> 86534 | AD39: =AB39+AC39 -> 541974
B40: SANTANDER | C40: Bucaramanga | D40: 418730 | E40: =D40*13.12% -> 54937.376 | F40: =D40+E40 -> 473667.38 | G40: =F40*0.19 -> 89996.801 | H40: =G40+F40 -> 563664.18 | I40: 582000 | J40: =I40*0.19 -> 110580 | K40: =I40+J40 -> 692580 | L40: 799000 | M40: =L40*0.19 -> 151810 | N40: =L40+M40 -> 950810 | O40: =ROUND(AVERAGE(F40,I40,L40),0) -> 618222 | P40: =ROUND(STDEV(F40,I40,L40),0) -> 165663 | Q40: =O40+P40 -> 783885 | R40: =O40-P40 -> 452559 | S40: =ROUND(AVERAGE(F40,I40),0) -> 527834 | T40: =ROUND(S40*19%,0) -> 100288 | U40: =S40+T40 -> 628122 | V40: =ROUND(MEDIAN(F40,I40),0) -> 527834 | W40: =ROUND(V40*19%,0) -> 100288 | X40: =V40+W40 -> 628122 | Y40: =ROUND(GEOMEAN(F40,I40),0) -> 525047 | Z40: =ROUND(Y40*19%,0) -> 99759 | AA40: =Y40+Z40 -> 624806 | AB40: =ROUND(HARMEAN(F40,I40),0) -> 522275 | AC40: =ROUND(AB40*19%,0) -> 99232 | AD40: =AB40+AC40 -> 621507
B41: SANTANDER | C41: Piedecuesta | D41: 219175 | E41: =D41*13.12% -> 28755.76 | F41: =D41+E41 -> 247930.76 | G41: =F41*0.19 -> 47106.844 | H41: =G41+F41 -> 295037.6 | I41: 470000 | J41: =I41*0.19 -> 89300 | K41: =I41+J41 -> 559300 | L41: 799000 | M41: =L41*0.19 -> 151810 | N41: =L41+M41 -> 950810 | O41: =ROUND(AVERAGE(F41,I41,L41),0) -> 505644 | P41: =ROUND(STDEV(F41,I41,L41),0) -> 277258 | Q41: =O41+P41 -> 782902 | R41: =O41-P41 -> 228386 | S41: =ROUND(AVERAGE(F41,I41),0) -> 358965 | T41: =ROUND(S41*19%,0) -> 68203 | U41: =S41+T41 -> 427168 | V41: =ROUND(MEDIAN(F41,I41),0) -> 358965 | W41: =ROUND(V41*19%,0) -> 68203 | X41: =V41+W41 -> 427168 | Y41: =ROUND(GEOMEAN(F41,I41),0) -> 341361 | Z41: =ROUND(Y41*19%,0) -> 64859 | AA41: =Y41+Z41 -> 406220 | AB41: =ROUND(HARMEAN(F41,I41),0) -> 324620 | AC41: =ROUND(AB41*19%,0) -> 61678 | AD41: =AB41+AC41 -> 386298
B42: SANTANDER | C42: Viva Barrancabermeja | D42: 181687 | E42: =D42*13.12% -> 23837.334 | F42: =D42+E42 -> 205524.33 | G42: =F42*0.19 -> 39049.624 | H42: =G42+F42 -> 244573.96 | I42: 470000 | J42: =I42*0.19 -> 89300 | K42: =I42+J42 -> 559300 | L42: 799000 | M42: =L42*0.19 -> 151810 | N42: =L42+M42 -> 950810 | O42: =ROUND(AVERAGE(F42,I42,L42),0) -> 491508 | P42: =ROUND(STDEV(F42,I42,L42),0) -> 297322 | Q42: =O42+P42 -> 788830 | R42: =O42-P42 -> 194186 | S42: =ROUND(AVERAGE(F42,I42),0) -> 337762 | T42: =ROUND(S42*19%,0) -> 64175 | U42: =S42+T42 -> 401937 | V42: =ROUND(MEDIAN(F42,I42),0) -> 337762 | W42: =ROUND(V42*19%,0) -> 64175 | X42: =V42+W42 -> 401937 | Y42: =ROUND(GEOMEAN(F42,I42),0) -> 310800 | Z42: =ROUND(Y42*19%,0) -> 59052 | AA42: =Y42+Z42 -> 369852 | AB42: =ROUND(HARMEAN(F42,I42),0) -> 285990 | AC42: =ROUND(AB42*19%,0) -> 54338 | AD42: =AB42+AC42 -> 340328
A43: SUR | B43: CAUCA | C43: Popayán | D43: 392296 | E43: =D43*13.12% -> 51469.235 | F43: =D43+E43 -> 443765.24 | G43: =F43*0.19 -> 84315.395 | H43: =G43+F43 -> 528080.63 | I43: 550000 | J43: =I43*0.19 -> 104500 | K43: =I43+J43 -> 654500 | L43: 799000 | M43: =L43*0.19 -> 151810 | N43: =L43+M43 -> 950810 | O43: =ROUND(AVERAGE(F43,I43,L43),0) -> 597588 | P43: =ROUND(STDEV(F43,I43,L43),0) -> 182336 | Q43: =O43+P43 -> 779924 | R43: =O43-P43 -> 415252 | S43: =ROUND(AVERAGE(F43,I43),0) -> 496883 | T43: =ROUND(S43*19%,0) -> 94408 | U43: =S43+T43 -> 591291 | V43: =ROUND(MEDIAN(F43,I43),0) -> 496883 | W43: =ROUND(V43*19%,0) -> 94408 | X43: =V43+W43 -> 591291 | Y43: =ROUND(GEOMEAN(F43,I43),0) -> 494035 | Z43: =ROUND(Y43*19%,0) -> 93867 | AA43: =Y43+Z43 -> 587902 | AB43: =ROUND(HARMEAN(F43,I43),0) -> 491204 | AC43: =ROUND(AB43*19%,0) -> 93329 | AD43: =AB43+AC43 -> 584533
B44: NARIÑO | C44: Ipiales | D44: 177825 | E44: =D44*13.12% -> 23330.64 | F44: =D44+E44 -> 201155.64 | G44: =F44*0.19 -> 38219.572 | H44: =G44+F44 -> 239375.21 | I44: 470000 | J44: =I44*0.19 -> 89300 | K44: =I44+J44 -> 559300 | L44: 799000 | M44: =L44*0.19 -> 151810 | N44: =L44+M44 -> 950810 | O44: =ROUND(AVERAGE(F44,I44,L44),0) -> 490052 | P44: =ROUND(STDEV(F44,I44,L44),0) -> 299426 | Q44: =O44+P44 -> 789478 | R44: =O44-P44 -> 190626 | S44: =ROUND(AVERAGE(F44,I44),0) -> 335578 | T44: =ROUND(S44*19%,0) -> 63760 | U44: =S44+T44 -> 399338 | V44: =ROUND(MEDIAN(F44,I44),0) -> 335578 | W44: =ROUND(V44*19%,0) -> 63760 | X44: =V44+W44 -> 399338 | Y44: =ROUND(GEOMEAN(F44,I44),0) -> 307479 | Z44: =ROUND(Y44*19%,0) -> 58421 | AA44: =Y44+Z44 -> 365900 | AB44: =ROUND(HARMEAN(F44,I44),0) -> 281732 | AC44: =ROUND(AB44*19%,0) -> 53529 | AD44: =AB44+AC44 -> 335261
B45: NARIÑO | C45: Pasto | D45: 456110 | E45: =D45*13.12% -> 59841.632 | F45: =D45+E45 -> 515951.63 | G45: =F45*0.19 -> 98030.81 | H45: =G45+F45 -> 613982.44 | I45: 630000 | J45: =I45*0.19 -> 119700 | K45: =I45+J45 -> 749700 | L45: 799000 | M45: =L45*0.19 -> 151810 | N45: =L45+M45 -> 950810 | O45: =ROUND(AVERAGE(F45,I45,L45),0) -> 648317 | P45: =ROUND(STDEV(F45,I45,L45),0) -> 142410 | Q45: =O45+P45 -> 790727 | R45: =O45-P45 -> 505907 | S45: =ROUND(AVERAGE(F45,I45),0) -> 572976 | T45: =ROUND(S45*19%,0) -> 108865 | U45: =S45+T45 -> 681841 | V45: =ROUND(MEDIAN(F45,I45),0) -> 572976 | W45: =ROUND(V45*19%,0) -> 108865 | X45: =V45+W45 -> 681841 | Y45: =ROUND(GEOMEAN(F45,I45),0) -> 570131 | Z45: =ROUND(Y45*19%,0) -> 108325 | AA45: =Y45+Z45 -> 678456 | AB45: =ROUND(HARMEAN(F45,I45),0) -> 567301 | AC45: =ROUND(AB45*19%,0) -> 107787 | AD45: =AB45+AC45 -> 675088
B46: VALLE DEL CAUCA | C46: Palmira | E46: =D46*13.12% -> 0 | F46: =D46+E46 -> 0 | G46: =F46*0.19 -> 0 | H46: =G46+F46 -> 0 | I46: 390000 | J46: =I46*0.19 -> 74100 | K46: =I46+J46 -> 464100 | L46: 799000 | M46: =L46*0.19 -> 151810 | N46: =L46+M46 -> 950810 | O46: =ROUND(AVERAGE(I46,L46),0) -> 594500 | P46: =ROUND(STDEV(F46,I46,L46),0) -> 399538 | Q46: =O46+P46 -> 994038 | R46: =O46-P46 -> 194962 | S46: =ROUND(AVERAGE(I46,L46),0) -> 594500 | T46: =ROUND(S46*19%,0) -> 112955 | U46: =S46+T46 -> 707455 | V46: =ROUND(MEDIAN(I46,L46),0) -> 594500 | W46: =ROUND(V46*19%,0) -> 112955 | X46: =V46+W46 -> 707455 | Y46: =ROUND(GEOMEAN(I46,L46),0) -> 558220 | Z46: =ROUND(Y46*19%,0) -> 106062 | AA46: =Y46+Z46 -> 664282 | AB46: =ROUND(HARMEAN(I46,L46),0) -> 524155 | AC46: =ROUND(AB46*19%,0) -> 99589 | AD46: =AB46+AC46 -> 623744
B47: VALLE DEL CAUCA | C47: Cali Av. Guadalupe | D47: 433736 | E47: =D47*13.12% -> 56906.163 | F47: =D47+E47 -> 490642.16 | G47: =F47*0.19 -> 93222.011 | H47: =G47+F47 -> 583864.17 | I47: 646000 | J47: =I47*0.19 -> 122740 | K47: =I47+J47 -> 768740 | L47: 799000 | M47: =L47*0.19 -> 151810 | N47: =L47+M47 -> 950810 | O47: =ROUND(AVERAGE(F47,I47,L47),0) -> 645214 | P47: =ROUND(STDEV(F47,I47,L47),0) -> 154180 | Q47: =O47+P47 -> 799394 | R47: =O47-P47 -> 491034 | S47: =ROUND(AVERAGE(F47,I47),0) -> 568321 | T47: =ROUND(S47*19%,0) -> 107981 | U47: =S47+T47 -> 676302 | V47: =ROUND(MEDIAN(I47,L47),0) -> 722500 | W47: =ROUND(V47*19%,0) -> 137275 | X47: =V47+W47 -> 859775 | Y47: =ROUND(GEOMEAN(I47,L47),0) -> 718439 | Z47: =ROUND(Y47*19%,0) -> 136503 | AA47: =Y47+Z47 -> 854942 | AB47: =ROUND(HARMEAN(I47,L47),0) -> 714400 | AC47: =ROUND(AB47*19%,0) -> 135736 | AD47: =AB47+AC47 -> 850136
B48: VALLE DEL CAUCA | C48: Cali Av. Las Américas | D48: 491719 | E48: =D48*13.12% -> 64513.533 | F48: =D48+E48 -> 556232.53 | G48: =F48*0.19 -> 105684.18 | H48: =G48+F48 -> 661916.71 | I48: 710000 | J48: =I48*0.19 -> 134900 | K48: =I48+J48 -> 844900 | L48: 799000 | M48: =L48*0.19 -> 151810 | N48: =L48+M48 -> 950810 | O48: =ROUND(AVERAGE(F48,I48,L48),0) -> 688411 | P48: =ROUND(STDEV(F48,I48,L48),0) -> 122815 | Q48: =O48+P48 -> 811226 | R48: =O48-P48 -> 565596 | S48: =ROUND(AVERAGE(I48,L48),0) -> 754500 | T48: =ROUND(S48*19%,0) -> 143355 | U48: =S48+T48 -> 897855 | V48: =ROUND(MEDIAN(I48,L48),0) -> 754500 | W48: =ROUND(V48*19%,0) -> 143355 | X48: =V48+W48 -> 897855 | Y48: =ROUND(GEOMEAN(I48,L48),0) -> 753187 | Z48: =ROUND(Y48*19%,0) -> 143106 | AA48: =Y48+Z48 -> 896293 | AB48: =ROUND(HARMEAN(I48,L48),0) -> 751875 | AC48: =ROUND(AB48*19%,0) -> 142856 | AD48: =AB48+AC48 -> 894731
B49: VALLE DEL CAUCA | C49: Viva Buenaventura | D49: 194544 | E49: =D49*13.12% -> 25524.173 | F49: =D49+E49 -> 220068.17 | G49: =F49*0.19 -> 41812.953 | H49: =G49+F49 -> 261881.13 | I49: 450000 | J49: =I49*0.19 -> 85500 | K49: =I49+J49 -> 535500 | L49: 799000 | M49: =L49*0.19 -> 151810 | N49: =L49+M49 -> 950810 | O49: =ROUND(AVERAGE(F49,I49,L49),0) -> 489689 | P49: =ROUND(STDEV(F49,I49,L49),0) -> 291499 | Q49: =O49+P49 -> 781188 | R49: =O49-P49 -> 198190 | S49: =ROUND(AVERAGE(F49,I49),0) -> 335034 | T49: =ROUND(S49*19%,0) -> 63656 | U49: =S49+T49 -> 398690 | V49: =ROUND(MEDIAN(F49,I49),0) -> 335034 | W49: =ROUND(V49*19%,0) -> 63656 | X49: =V49+W49 -> 398690 | Y49: =ROUND(GEOMEAN(F49,I49),0) -> 314691 | Z49: =ROUND(Y49*19%,0) -> 59791 | AA49: =Y49+Z49 -> 374482 | AB49: =ROUND(HARMEAN(I49,L49),0) -> 575741 | AC49: =ROUND(AB49*19%,0) -> 109391 | AD49: =AB49+AC49 -> 685132
A50: TERRITORIOS NACIONALES | B50: AMAZONAS | C50: Leticia | D50: 155325 | E50: =D50*13.12% -> 20378.64 | F50: =D50+E50 -> 175703.64 | G50: =F50*0.19 -> 33383.692 | H50: =G50+F50 -> 209087.33 | I50: 650000 | J50: =I50*0.19 -> 123500 | K50: =I50+J50 -> 773500 | L50: 799000 | M50: =L50*0.19 -> 151810 | N50: =L50+M50 -> 950810 | O50: =ROUND(AVERAGE(F50,I50,L50),0) -> 541568 | P50: =ROUND(STDEV(F50,I50,L50),0) -> 325488 | Q50: =O50+P50 -> 867056 | R50: =O50-P50 -> 216080 | S50: =ROUND(AVERAGE(I50,L50),0) -> 724500 | T50: =ROUND(S50*19%,0) -> 137655 | U50: =S50+T50 -> 862155 | V50: =ROUND(MEDIAN(I50,L50),0) -> 724500 | W50: =ROUND(V50*19%,0) -> 137655 | X50: =V50+W50 -> 862155 | Y50: =ROUND(GEOMEAN(I50,L50),0) -> 720659 | Z50: =ROUND(Y50*19%,0) -> 136925 | AA50: =Y50+Z50 -> 857584 | AB50: =ROUND(HARMEAN(I50,L50),0) -> 716839 | AC50: =ROUND(AB50*19%,0) -> 136199 | AD50: =AB50+AC50 -> 853038
B51: ARAUCA | C51: Arauca | D51: 187825 | E51: =D51*13.12% -> 24642.64 | F51: =D51+E51 -> 212467.64 | G51: =F51*0.19 -> 40368.852 | H51: =G51+F51 -> 252836.49 | I51: 650000 | J51: =I51*0.19 -> 123500 | K51: =I51+J51 -> 773500 | L51: 799000 | M51: =L51*0.19 -> 151810 | N51: =L51+M51 -> 950810 | O51: =ROUND(AVERAGE(F51,I51,L51),0) -> 553823 | P51: =ROUND(STDEV(F51,I51,L51),0) -> 304865 | Q51: =O51+P51 -> 858688 | R51: =O51-P51 -> 248958 | S51: =ROUND(AVERAGE(I51,L51),0) -> 724500 | T51: =ROUND(S51*19%,0) -> 137655 | U51: =S51+T51 -> 862155 | V51: =ROUND(MEDIAN(I51,L51),0) -> 724500 | W51: =ROUND(V51*19%,0) -> 137655 | X51: =V51+W51 -> 862155 | Y51: =ROUND(GEOMEAN(I51,L51),0) -> 720659 | Z51: =ROUND(Y51*19%,0) -> 136925 | AA51: =Y51+Z51 -> 857584 | AB51: =ROUND(HARMEAN(I51,L51),0) -> 716839 | AC51: =ROUND(AB51*19%,0) -> 136199 | AD51: =AB51+AC51 -> 853038
B52: CAQUETA | C52: Florencia | D52: 216670 | E52: =D52*13.12% -> 28427.104 | F52: =D52+E52 -> 245097.1 | G52: =F52*0.19 -> 46568.45 | H52: =G52+F52 -> 291665.55 | I52: 340000 | J52: =I52*0.19 -> 64600 | K52: =I52+J52 -> 404600 | L52: 799000 | M52: =L52*0.19 -> 151810 | N52: =L52+M52 -> 950810 | O52: =ROUND(AVERAGE(F52,I52,L52),0) -> 461366 | P52: =ROUND(STDEV(F52,I52,L52),0) -> 296225 | Q52: =O52+P52 -> 757591 | R52: =O52-P52 -> 165141 | S52: =ROUND(AVERAGE(F52,I52),0) -> 292549 | T52: =ROUND(S52*19%,0) -> 55584 | U52: =S52+T52 -> 348133 | V52: =ROUND(MEDIAN(F52,I52),0) -> 292549 | W52: =ROUND(V52*19%,0) -> 55584 | X52: =V52+W52 -> 348133 | Y52: =ROUND(GEOMEAN(F52,I52),0) -> 288675 | Z52: =ROUND(Y52*19%,0) -> 54848 | AA52: =Y52+Z52 -> 343523 | AB52: =ROUND(HARMEAN(F52,I52),0) -> 284852 | AC52: =ROUND(AB52*19%,0) -> 54122 | AD52: =AB52+AC52 -> 338974
B53: CASANARE | C53: Yopal | D53: 172744 | E53: =D53*13.12% -> 22664.013 | F53: =D53+E53 -> 195408.01 | G53: =F53*0.19 -> 37127.522 | H53: =G53+F53 -> 232535.54 | I53: 340000 | J53: =I53*0.19 -> 64600 | K53: =I53+J53 -> 404600 | L53: 799000 | M53: =L53*0.19 -> 151810 | N53: =L53+M53 -> 950810 | O53: =ROUND(AVERAGE(F53,I53,L53),0) -> 444803 | P53: =ROUND(STDEV(F53,I53,L53),0) -> 315148 | Q53: =O53+P53 -> 759951 | R53: =O53-P53 -> 129655 | S53: =ROUND(AVERAGE(F53,I53),0) -> 267704 | T53: =ROUND(S53*19%,0) -> 50864 | U53: =S53+T53 -> 318568 | V53: =ROUND(MEDIAN(F53,I53),0) -> 267704 | W53: =ROUND(V53*19%,0) -> 50864 | X53: =V53+W53 -> 318568 | Y53: =ROUND(GEOMEAN(F53,I53),0) -> 257757 | Z53: =ROUND(Y53*19%,0) -> 48974 | AA53: =Y53+Z53 -> 306731 | AB53: =ROUND(HARMEAN(F53,I53),0) -> 248180 | AC53: =ROUND(AB53*19%,0) -> 47154 | AD53: =AB53+AC53 -> 295334
B54: CHOCÓ | C54: Quibdó | D54: 242669 | E54: =D54*13.12% -> 31838.173 | F54: =D54+E54 -> 274507.17 | G54: =F54*0.19 -> 52156.363 | H54: =G54+F54 -> 326663.54 | I54: 490000 | J54: =I54*0.19 -> 93100 | K54: =I54+J54 -> 583100 | L54: 799000 | M54: =L54*0.19 -> 151810 | N54: =L54+M54 -> 950810 | O54: =ROUND(AVERAGE(F54,I54,L54),0) -> 521169 | P54: =ROUND(STDEV(F54,I54,L54),0) -> 263632 | Q54: =O54+P54 -> 784801 | R54: =O54-P54 -> 257537 | S54: =ROUND(AVERAGE(F54,I54),0) -> 382254 | T54: =ROUND(S54*19%,0) -> 72628 | U54: =S54+T54 -> 454882 | V54: =ROUND(MEDIAN(F54,I54),0) -> 382254 | W54: =ROUND(V54*19%,0) -> 72628 | X54: =V54+W54 -> 454882 | Y54: =ROUND(GEOMEAN(F54,I54),0) -> 366754 | Z54: =ROUND(Y54*19%,0) -> 69683 | AA54: =Y54+Z54 -> 436437 | AB54: =ROUND(HARMEAN(F54,I54),0) -> 351883 | AC54: =ROUND(AB54*19%,0) -> 66858 | AD54: =AB54+AC54 -> 418741
B55: GUANIA | C55: Puerto Inírida | D55: 266030 | E55: =D55*13.12% -> 34903.136 | F55: =D55+E55 -> 300933.14 | G55: =F55*0.19 -> 57177.296 | H55: =G55+F55 -> 358110.43 | I55: 650000 | J55: =I55*0.19 -> 123500 | K55: =I55+J55 -> 773500 | L55: 799000 | M55: =L55*0.19 -> 151810 | N55: =L55+M55 -> 950810 | O55: =ROUND(AVERAGE(F55,I55,L55),0) -> 583311 | P55: =ROUND(STDEV(F55,I55,L55),0) -> 255643 | Q55: =O55+P55 -> 838954 | R55: =O55-P55 -> 327668 | S55: =ROUND(AVERAGE(I55,L55),0) -> 724500 | T55: =ROUND(S55*19%,0) -> 137655 | U55: =S55+T55 -> 862155 | V55: =ROUND(MEDIAN(I55,L55),0) -> 724500 | W55: =ROUND(V55*19%,0) -> 137655 | X55: =V55+W55 -> 862155 | Y55: =ROUND(GEOMEAN(I55,L55),0) -> 720659 | Z55: =ROUND(Y55*19%,0) -> 136925 | AA55: =Y55+Z55 -> 857584 | AB55: =ROUND(HARMEAN(I55,L55),0) -> 716839 | AC55: =ROUND(AB55*19%,0) -> 136199 | AD55: =AB55+AC55 -> 853038
B56: GUAVIARE | C56: San José del Guaviare | D56: 228060 | E56: =D56*13.12% -> 29921.472 | F56: =D56+E56 -> 257981.47 | G56: =F56*0.19 -> 49016.48 | H56: =G56+F56 -> 306997.95 | I56: 500000 | J56: =I56*0.19 -> 95000 | K56: =I56+J56 -> 595000 | L56: 799000 | M56: =L56*0.19 -> 151810 | N56: =L56+M56 -> 950810 | O56: =ROUND(AVERAGE(F56,I56,L56),0) -> 518994 | P56: =ROUND(STDEV(F56,I56,L56),0) -> 271009 | Q56: =O56+P56 -> 790003 | R56: =O56-P56 -> 247985 | S56: =ROUND(AVERAGE(F56,I56),0) -> 378991 | T56: =ROUND(S56*19%,0) -> 72008 | U56: =S56+T56 -> 450999 | V56: =ROUND(MEDIAN(F56,I56),0) -> 378991 | W56: =ROUND(V56*19%,0) -> 72008 | X56: =V56+W56 -> 450999 | Y56: =ROUND(GEOMEAN(F56,I56),0) -> 359153 | Z56: =ROUND(Y56*19%,0) -> 68239 | AA56: =Y56+Z56 -> 427392 | AB56: =ROUND(HARMEAN(F56,I56),0) -> 340353 | AC56: =ROUND(AB56*19%,0) -> 64667 | AD56: =AB56+AC56 -> 405020
B57: META | C57: Acacias | E57: =D57*13.12% -> 0 | F57: =D57+E57 -> 0 | G57: =F57*0.19 -> 0 | H57: =G57+F57 -> 0 | I57: 410000 | J57: =I57*0.19 -> 77900 | K57: =I57+J57 -> 487900 | L57: 799000 | M57: =L57*0.19 -> 151810 | N57: =L57+M57 -> 950810 | O57: =ROUND(AVERAGE(I57,L57),0) -> 604500 | P57: =ROUND(STDEV(F57,I57,L57),0) -> 399546 | Q57: =O57+P57 -> 1004046 | R57: =O57-P57 -> 204954 | S57: =ROUND(AVERAGE(I57,L57),0) -> 604500 | T57: =ROUND(S57*19%,0) -> 114855 | U57: =S57+T57 -> 719355 | V57: =ROUND(MEDIAN(I57,L57),0) -> 604500 | W57: =ROUND(V57*19%,0) -> 114855 | X57: =V57+W57 -> 719355 | Y57: =ROUND(GEOMEAN(I57,L57),0) -> 572355 | Z57: =ROUND(Y57*19%,0) -> 108747 | AA57: =Y57+Z57 -> 681102 | AB57: =ROUND(HARMEAN(I57,L57),0) -> 541919 | AC57: =ROUND(AB57*19%,0) -> 102965 | AD57: =AB57+AC57 -> 644884
B58: META | C58: Villavicencio | D58: 212808 | E58: =D58*13.12% -> 27920.41 | F58: =D58+E58 -> 240728.41 | G58: =F58*0.19 -> 45738.398 | H58: =G58+F58 -> 286466.81 | I58: 310000 | J58: =I58*0.19 -> 58900 | K58: =I58+J58 -> 368900 | L58: 799000 | M58: =L58*0.19 -> 151810 | N58: =L58+M58 -> 950810 | O58: =ROUND(AVERAGE(F58,I58,L58),0) -> 449909 | P58: =ROUND(STDEV(F58,I58,L58),0) -> 304299 | Q58: =O58+P58 -> 754208 | R58: =O58-P58 -> 145610 | S58: =ROUND(AVERAGE(F58,I58),0) -> 275364 | T58: =ROUND(S58*19%,0) -> 52319 | U58: =S58+T58 -> 327683 | V58: =ROUND(MEDIAN(F58,I58),0) -> 275364 | W58: =ROUND(V58*19%,0) -> 52319 | X58: =V58+W58 -> 327683 | Y58: =ROUND(GEOMEAN(F58,I58),0) -> 273177 | Z58: =ROUND(Y58*19%,0) -> 51904 | AA58: =Y58+Z58 -> 325081 | AB58: =ROUND(HARMEAN(F58,I58),0) -> 271008 | AC58: =ROUND(AB58*19%,0) -> 51492 | AD58: =AB58+AC58 -> 322500
B59: PUTUMAYO | C59: Mocoa | D59: 187285 | E59: =D59*13.12% -> 24571.792 | F59: =D59+E59 -> 211856.79 | G59: =F59*0.19 -> 40252.79 | H59: =G59+F59 -> 252109.58 | I59: 570000 | J59: =I59*0.19 -> 108300 | K59: =I59+J59 -> 678300 | L59: 799000 | M59: =L59*0.19 -> 151810 | N59: =L59+M59 -> 950810 | O59: =ROUND(AVERAGE(F59,I59,L59),0) -> 526952 | P59: =ROUND(STDEV(F59,I59,L59),0) -> 295929 | Q59: =O59+P59 -> 822881 | R59: =O59-P59 -> 231023 | S59: =ROUND(AVERAGE(I59,L59),0) -> 684500 | T59: =ROUND(S59*19%,0) -> 130055 | U59: =S59+T59 -> 814555 | V59: =ROUND(MEDIAN(I59,L59),0) -> 684500 | W59: =ROUND(V59*19%,0) -> 130055 | X59: =V59+W59 -> 814555 | Y59: =ROUND(GEOMEAN(I59,L59),0) -> 674856 | Z59: =ROUND(Y59*19%,0) -> 128223 | AA59: =Y59+Z59 -> 803079 | AB59: =ROUND(HARMEAN(I59,L59),0) -> 665347 | AC59: =ROUND(AB59*19%,0) -> 126416 | AD59: =AB59+AC59 -> 791763
B60: VAUPÉS | C60: Mitú | D60: 237958 | E60: =D60*13.12% -> 31220.09 | F60: =D60+E60 -> 269178.09 | G60: =F60*0.19 -> 51143.837 | H60: =G60+F60 -> 320321.93 | I60: 650000 | J60: =I60*0.19 -> 123500 | K60: =I60+J60 -> 773500 | L60: 799000 | M60: =L60*0.19 -> 151810 | N60: =L60+M60 -> 950810 | O60: =ROUND(AVERAGE(F60,I60,L60),0) -> 572726 | P60: =ROUND(STDEV(F60,I60,L60),0) -> 273233 | Q60: =O60+P60 -> 845959 | R60: =O60-P60 -> 299493 | S60: =ROUND(AVERAGE(I60,L60),0) -> 724500 | T60: =ROUND(S60*19%,0) -> 137655 | U60: =S60+T60 -> 862155 | V60: =ROUND(MEDIAN(I60,L60),0) -> 724500 | W60: =ROUND(V60*19%,0) -> 137655 | X60: =V60+W60 -> 862155 | Y60: =ROUND(GEOMEAN(I60,L60),0) -> 720659 | Z60: =ROUND(Y60*19%,0) -> 136925 | AA60: =Y60+Z60 -> 857584 | AB60: =ROUND(HARMEAN(I60,L60),0) -> 716839 | AC60: =ROUND(AB60*19%,0) -> 136199 | AD60: =AB60+AC60 -> 853038
B61: VICHADA | C61: Puerto Carreño | D61: 200325 | E61: =D61*13.12% -> 26282.64 | F61: =D61+E61 -> 226607.64 | G61: =F61*0.19 -> 43055.452 | H61: =G61+F61 -> 269663.09 | I61: 650000 | J61: =I61*0.19 -> 123500 | K61: =I61+J61 -> 773500 | L61: 799000 | M61: =L61*0.19 -> 151810 | N61: =L61+M61 -> 950810 | O61: =ROUND(AVERAGE(F61,I61,L61),0) -> 558536 | P61: =ROUND(STDEV(F61,I61,L61),0) -> 296955 | Q61: =O61+P61 -> 855491 | R61: =O61-P61 -> 261581 | S61: =ROUND(AVERAGE(I61,L61),0) -> 724500 | T61: =ROUND(S61*19%,0) -> 137655 | U61: =S61+T61 -> 862155 | V61: =ROUND(MEDIAN(I61,L61),0) -> 724500 | W61: =ROUND(V61*19%,0) -> 137655 | X61: =V61+W61 -> 862155 | Y61: =ROUND(GEOMEAN(I61,L61),0) -> 720659 | Z61: =ROUND(Y61*19%,0) -> 136925 | AA61: =Y61+Z61 -> 857584 | AB61: =ROUND(HARMEAN(I61,L61),0) -> 716839 | AC61: =ROUND(AB61*19%,0) -> 136199 | AD61: =AB61+AC61 -> 853038
F62: =SUM(F7:F61) -> 16972023 | I62: =SUM(I7:I61) -> 25967000 | L62: =SUM(L7:L61) -> 39367200 | U62: =SUM(U7:U61) -> 29079437 | X62: =SUM(X7:X61) -> 29214660 | AA62: =SUM(AA7:AA61) -> 28703128 | AD62: =SUM(AD7:AD61) -> 28551460

Sheet LAVADO DE TANQUES
A2: ANEXO NO. 2 - SERVICIOS REQUERIDOS
A3: LAVADO Y DESINFECCIÓN DE TANQUES DE ALMACENAMIENTO DE AGUA POTABLE
A5: REGIONALES | B5: DEPARTAMENTOS | C5: PUNTOS DE ATENCIÓN | D5: TIPO DE TANQUE | J5: INDEXACIÓN FNA-VGHA-CD-050-2022 | O5: COTIZACIÓN 1 | R5: COTIZACIÓN 2 | U5: MEDIDA TENDENCIA: DESVIACIONES | Y5: MEDIDA DE TENDENCIA: PROMEDIO | AB5: MEDIDA DE TENDENCIA: MEDIANA | AE5: MEDIDA DE TENDENCIA: MEDIA GEOMETRICA | AH5: MEDIDA DE TENDENCIA: MEDIA ARMONICA
D6: Aéreo | F6: Superficial | H6: Subterráneo | J6: VALOR UNITARIO | K6: IPC | L6: VALOR UNITARIO | M6: IVA (19%) | N6: TOTAL | O6: VALOR UNITARIO | P6: IVA (19%) | Q6: TOTAL | R6: VALOR UNITARIO | S6: IVA (19%) | T6: TOTAL | U6: PROMEDIO | V6: DESVEST | W6: MAX | X6: MIN | Y6: VALOR UNITARIO | Z6: VALOR DEL IVA 19% | AA6: VALOR TOTAL | AB6: VALOR UNITARIO | AC6: VALOR DEL IVA 19% | AD6: VALOR TOTAL | AE6: VALOR UNITARIO | AF6: VALOR DEL IVA 19% | AG6: VALOR TOTAL | AH6: VALOR UNITARIO | AI6: VALOR DEL IVA 19% | AJ6: VALOR TOTAL
D7: 500 Lts | E7: 1000 Lts | F7: 500 Lts | G7: 1000 Lts | H7: 0 – 15 Mts³ | I7: 90 – 120 Mts³
A8: BOGOTA CENTRO ZONA 1 | B8: BOGOTÁ D.C. | C8: CNA | J8: 739667 | K8: =J8*12.13% -> 89721.607 | L8: =J8+K8 -> 829388.61 | M8: =L8*0.19 -> 157583.84 | N8: =L8+M8 -> 986972.44 | O8: 1120000 | P8: =O8*0.19 -> 212800 | Q8: =O8+P8 -> 1332800 | R8: 893000 | S8: =R8*0.19 -> 169670 | T8: =R8+S8 -> 1062670 | U8: =ROUND(AVERAGE(L8,O8,R8),0) -> 947463 | V8: =ROUND(STDEV(L8,O8,R8),0) -> 152769 | W8: =U8+V8 -> 1100232 | X8: =U8-V8 -> 794694 | Y8: =ROUND(AVERAGE(L8,R8),0) -> 861194 | Z8: =ROUND(Y8*19%,0) -> 163627 | AA8: =Y8+Z8 -> 1024821 | AB8: =ROUND(MEDIAN(L8,R8),0) -> 861194 | AC8: =ROUND(AB8*19%,0) -> 163627 | AD8: =AB8+AC8 -> 1024821 | AE8: =ROUND(GEOMEAN(L8,R8),0) -> 860607 | AF8: =ROUND(AE8*19%,0) -> 163515 | AG8: =AE8+AF8 -> 1024122 | AH8: =ROUND(HARMEAN(L8,R8),0) -> 860020 | AI8: =ROUND(AH8*19%,0) -> 163404 | AJ8: =AH8+AI8 -> 1023424
B9: BOGOTÁ D.C. | C9: Suba | J9: 153333 | K9: =J9*12.13% -> 18599.293 | L9: =J9+K9 -> 171932.29 | M9: =L9*0.19 -> 32667.136 | N9: =L9+M9 -> 204599.43 | O9: 240000 | P9: =O9*0.19 -> 45600 | Q9: =O9+P9 -> 285600 | R9: 94000 | S9: =R9*0.19 -> 17860 | T9: =R9+S9 -> 111860 | U9: =ROUND(AVERAGE(L9,O9,R9),0) -> 168644 | V9: =ROUND(STDEV(L9,O9,R9),0) -> 73056 | W9: =U9+V9 -> 241700 | X9: =U9-V9 -> 95588 | Y9: =ROUND(AVERAGE(L9,O9),0) -> 205966 | Z9: =ROUND(Y9*19%,0) -> 39134 | AA9: =Y9+Z9 -> 245100 | AB9: =ROUND(MEDIAN(L9,O9),0) -> 205966 | AC9: =ROUND(AB9*19%,0) -> 39134 | AD9: =AB9+AC9 -> 245100 | AE9: =ROUND(GEOMEAN(L9,O9),0) -> 203135 | AF9: =ROUND(AE9*19%,0) -> 38596 | AG9: =AE9+AF9 -> 241731 | AH9: =ROUND(HARMEAN(L9,O9),0) -> 200342 | AI9: =ROUND(AH9*19%,0) -> 38065 | AJ9: =AH9+AI9 -> 238407
B10: CUNDINAMARCA | C10: Girardot | J10: 193333 | K10: =J10*12.13% -> 23451.293 | L10: =J10+K10 -> 216784.29 | M10: =L10*0.19 -> 41189.016 | N10: =L10+M10 -> 257973.31 | O10: 288000 | P10: =O10*0.19 -> 54720 | Q10: =O10+P10 -> 342720 | R10: 112800 | S10: =R10*0.19 -> 21432 | T10: =R10+S10 -> 134232 | U10: =ROUND(AVERAGE(L10,O10,R10),0) -> 205861 | V10: =ROUND(STDEV(L10,O10,R10),0) -> 88109 | W10: =U10+V10 -> 293970 | X10: =U10-V10 -> 117752 | Y10: =ROUND(AVERAGE(L10,O10),0) -> 252392 | Z10: =ROUND(Y10*19%,0) -> 47954 | AA10: =Y10+Z10 -> 300346 | AB10: =ROUND(MEDIAN(L10,O10),0) -> 252392 | AC10: =ROUND(AB10*19%,0) -> 47954 | AD10: =AB10+AC10 -> 300346 | AE10: =ROUND(GEOMEAN(L10,O10),0) -> 249868 | AF10: =ROUND(AE10*19%,0) -> 47475 | AG10: =AE10+AF10 -> 297343 | AH10: =ROUND(HARMEAN(L10,O10),0) -> 247369 | AI10: =ROUND(AH10*19%,0) -> 47000 | AJ10: =AH10+AI10 -> 294369
B11: CUNDINAMARCA | C11: Zipaquira | J11: 173333 | K11: =J11*12.13% -> 21025.293 | L11: =J11+K11 -> 194358.29 | M11: =L11*0.19 -> 36928.076 | N11: =L11+M11 -> 231286.37 | O11: 264000 | P11: =O11*0.19 -> 50160 | Q11: =O11+P11 -> 314160 | R11: 94000 | S11: =R11*0.19 -> 17860 | T11: =R11+S11 -> 111860 | U11: =ROUND(AVERAGE(L11,O11,R11),0) -> 184119 | V11: =ROUND(STDEV(L11,O11,R11),0) -> 85461 | W11: =U11+V11 -> 269580 | X11: =U11-V11 -> 98658 | Y11: =ROUND(AVERAGE(L11,O11),0) -> 229179 | Z11: =ROUND(Y11*19%,0) -> 43544 | AA11: =Y11+Z11 -> 272723 | AB11: =ROUND(MEDIAN(L11,O11),0) -> 229179 | AC11: =ROUND(AB11*19%,0) -> 43544 | AD11: =AB11+AC11 -> 272723 | AE11: =ROUND(GEOMEAN(L11,O11),0) -> 226518 | AF11: =ROUND(AE11*19%,0) -> 43038 | AG11: =AE11+AF11 -> 269556 | AH11: =ROUND(HARMEAN(L11,O11),0) -> 223889 | AI11: =ROUND(AH11*19%,0) -> 42539 | AJ11: =AH11+AI11 -> 266428
B12: BOYACA | C12: Tunja | K12: =J12*12.13% -> 0 | M12: =L12*0.19 -> 0 | N12: =L12+M12 -> 0 | O12: 26400 | P12: =O12*0.19 -> 5016 | Q12: =O12+P12 -> 31416 | R12: 282000 | S12: =R12*0.19 -> 53580 | T12: =R12+S12 -> 335580 | U12: =ROUND(AVERAGE(O12,R12),0) -> 154200 | V12: =ROUND(STDEV(L12,O12,R12),0) -> 180736 | W12: =U12+V12 -> 334936 | X12: =U12-V12 -> -26536 | Y12: =ROUND(AVERAGE(O12,R12),0) -> 154200 | Z12: =ROUND(Y12*19%,0) -> 29298 | AA12: =Y12+Z12 -> 183498 | AB12: =ROUND(MEDIAN(O12,R12),0) -> 154200 | AC12: =ROUND(AB12*19%,0) -> 29298 | AD12: =AB12+AC12 -> 183498 | AE12: =ROUND(GEOMEAN(O12,R12),0) -> 86283 | AF12: =ROUND(AE12*19%,0) -> 16394 | AG12: =AE12+AF12 -> 102677 | AH12: =ROUND(HARMEAN(O12,R12),0) -> 48280 | AI12: =ROUND(AH12*19%,0) -> 9173 | AJ12: =AH12+AI12 -> 57453
A13: BOGOTA CENTRO ZONA 2 | B13: BOGOTA D.C | C13: CAN | J13: 163333 | K13: =J13*12.13% -> 19812.293 | L13: =J13+K13 -> 183145.29 | M13: =L13*0.19 -> 34797.606 | N13: =L13+M13 -> 217942.9 | O13: 240000 | P13: =O13*0.19 -> 45600 | Q13: =O13+P13 -> 285600 | R13: 94000 | S13: =R13*0.19 -> 17860 | T13: =R13+S13 -> 111860 | U13: =ROUND(AVERAGE(L13,O13,R13),0) -> 172382 | V13: =ROUND(STDEV(L13,O13,R13),0) -> 73593 | W13: =U13+V13 -> 245975 | X13: =U13-V13 -> 98789 | Y13: =ROUND(AVERAGE(L13,O13),0) -> 211573 | Z13: =ROUND(Y13*19%,0) -> 40199 | AA13: =Y13+Z13 -> 251772 | AB13: =ROUND(MEDIAN(L13,O13),0) -> 211573 | AC13: =ROUND(AB13*19%,0) -> 40199 | AD13: =AB13+AC13 -> 251772 | AE13: =ROUND(GEOMEAN(L13,O13),0) -> 209654 | AF13: =ROUND(AE13*19%,0) -> 39834 | AG13: =AE13+AF13 -> 249488 | AH13: =ROUND(HARMEAN(L13,O13),0) -> 207753 | AI13: =ROUND(AH13*19%,0) -> 39473 | AJ13: =AH13+AI13 -> 247226
B14: HUILA | C14: Neiva | J14: 180000 | K14: =J14*12.13% -> 21834 | L14: =J14+K14 -> 201834 | M14: =L14*0.19 -> 38348.46 | N14: =L14+M14 -> 240182.46 | O14: 272000 | P14: =O14*0.19 -> 51680 | Q14: =O14+P14 -> 323680 | R14: 282000 | S14: =R14*0.19 -> 53580 | T14: =R14+S14 -> 335580 | U14: =ROUND(AVERAGE(L14,O14,R14),0) -> 251945 | V14: =ROUND(STDEV(L14,O14,R14),0) -> 43684 | W14: =U14+V14 -> 295629 | X14: =U14-V14 -> 208261 | Y14: =ROUND(AVERAGE(O14,R14),0) -> 277000 | Z14: =ROUND(Y14*19%,0) -> 52630 | AA14: =Y14+Z14 -> 329630 | AB14: =ROUND(MEDIAN(O14,R14),0) -> 277000 | AC14: =ROUND(AB14*19%,0) -> 52630 | AD14: =AB14+AC14 -> 329630 | AE14: =ROUND(GEOMEAN(O14,R14),0) -> 276955 | AF14: =ROUND(AE14*19%,0) -> 52621 | AG14: =AE14+AF14 -> 329576 | AH14: =ROUND(HARMEAN(O14,R14),0) -> 276910 | AI14: =ROUND(AH14*19%,0) -> 52613 | AJ14: =AH14+AI14 -> 329523
B15: TOLIMA | C15: Ibagué | J15: 221500 | K15: =J15*12.13% -> 26867.95 | L15: =J15+K15 -> 248367.95 | M15: =L15*0.19 -> 47189.911 | N15: =L15+M15 -> 295557.86 | O15: 336000 | P15: =O15*0.19 -> 63840 | Q15: =O15+P15 -> 399840 | R15: 282000 | S15: =R15*0.19 -> 53580 | T15: =R15+S15 -> 335580 | U15: =ROUND(AVERAGE(L15,O15,R15),0) -> 288789 | V15: =ROUND(STDEV(L15,O15,R15),0) -> 44209 | W15: =U15+V15 -> 332998 | X15: =U15-V15 -> 244580 | Y15: =ROUND(AVERAGE(L15,R15),0) -> 265184 | Z15: =ROUND(Y15*19%,0) -> 50385 | AA15: =Y15+Z15 -> 315569 | AB15: =ROUND(MEDIAN(L15,R15),0) -> 265184 | AC15: =ROUND(AB15*19%,0) -> 50385 | AD15: =AB15+AC15 -> 315569 | AE15: =ROUND(GEOMEAN(L15,R15),0) -> 264650 | AF15: =ROUND(AE15*19%,0) -> 50284 | AG15: =AE15+AF15 -> 314934 | AH15: =ROUND(HARMEAN(L15,R15),0) -> 264118 | AI15: =ROUND(AH15*19%,0) -> 50182 | AJ15: =AH15+AI15 -> 314300
A16: NORTE | B16: BOLIVAR | C16: Cartagena | J16: 405600 | K16: =J16*12.13% -> 49199.28 | L16: =J16+K16 -> 454799.28 | M16: =L16*0.19 -> 86411.863 | N16: =L16+M16 -> 541211.14 | O16: 624000 | P16: =O16*0.19 -> 118560 | Q16: =O16+P16 -> 742560 | R16: 799000 | S16: =R16*0.19 -> 151810 | T16: =R16+S16 -> 950810 | U16: =ROUND(AVERAGE(L16,O16,R16),0) -> 625933 | V16: =ROUND(STDEV(L16,O16,R16),0) -> 172109 | W16: =U16+V16 -> 798042 | X16: =U16-V16 -> 453824 | Y16: =ROUND(AVERAGE(L16,O16),0) -> 539400 | Z16: =ROUND(Y16*19%,0) -> 102486 | AA16: =Y16+Z16 -> 641886 | AB16: =ROUND(MEDIAN(L16,O16),0) -> 539400 | AC16: =ROUND(AB16*19%,0) -> 102486 | AD16: =AB16+AC16 -> 641886 | AE16: =ROUND(GEOMEAN(L16,O16),0) -> 532724 | AF16: =ROUND(AE16*19%,0) -> 101218 | AG16: =AE16+AF16 -> 633942 | AH16: =ROUND(HARMEAN(L16,O16),0) -> 526131 | AI16: =ROUND(AH16*19%,0) -> 99965 | AJ16: =AH16+AI16 -> 626096
B17: GUAJIRA | C17: Riohacha | J17: 165000 | K17: =J17*12.13% -> 20014.5 | L17: =J17+K17 -> 185014.5 | M17: =L17*0.19 -> 35152.755 | N17: =L17+M17 -> 220167.26 | O17: 256000 | P17: =O17*0.19 -> 48640 | Q17: =O17+P17 -> 304640 | R17: 282000 | S17: =R17*0.19 -> 53580 | T17: =R17+S17 -> 335580 | U17: =ROUND(AVERAGE(L17,O17,R17),0) -> 241005 | V17: =ROUND(STDEV(L17,O17,R17),0) -> 50201 | W17: =U17+V17 -> 291206 | X17: =U17-V17 -> 190804 | Y17: =ROUND(AVERAGE(O17,R17),0) -> 269000 | Z17: =ROUND(Y17*19%,0) -> 51110 | AA17: =Y17+Z17 -> 320110 | AB17: =ROUND(MEDIAN(O17,R17),0) -> 269000 | AC17: =ROUND(AB17*19%,0) -> 51110 | AD17: =AB17+AC17 -> 320110 | AE17: =ROUND(GEOMEAN(O17,R17),0) -> 268686 | AF17: =ROUND(AE17*19%,0) -> 51050 | AG17: =AE17+AF17 -> 319736 | AH17: =ROUND(HARMEAN(O17,R17),0) -> 268372 | AI17: =ROUND(AH17*19%,0) -> 50991 | AJ17: =AH17+AI17 -> 319363
B18: MAGDALENA | C18: Santa Marta | J18: 221500 | K18: =J18*12.13% -> 26867.95 | L18: =J18+K18 -> 248367.95 | M18: =L18*0.19 -> 47189.911 | N18: =L18+M18 -> 295557.86 | O18: 336000 | P18: =O18*0.19 -> 63840 | Q18: =O18+P18 -> 399840 | R18: 282000 | S18: =R18*0.19 -> 53580 | T18: =R18+S18 -> 335580 | U18: =ROUND(AVERAGE(L18,O18,R18),0) -> 288789 | V18: =ROUND(STDEV(L18,O18,R18),0) -> 44209 | W18: =U18+V18 -> 332998 | X18: =U18-V18 -> 244580 | Y18: =ROUND(AVERAGE(L18,R18),0) -> 265184 | Z18: =ROUND(Y18*19%,0) -> 50385 | AA18: =Y18+Z18 -> 315569 | AB18: =ROUND(MEDIAN(L18,R18),0) -> 265184 | AC18: =ROUND(AB18*19%,0) -> 50385 | AD18: =AB18+AC18 -> 315569 | AE18: =ROUND(GEOMEAN(L18,R18),0) -> 264650 | AF18: =ROUND(AE18*19%,0) -> 50284 | AG18: =AE18+AF18 -> 314934 | AH18: =ROUND(HARMEAN(L18,R18),0) -> 264118 | AI18: =ROUND(AH18*19%,0) -> 50182 | AJ18: =AH18+AI18 -> 314300
B19: SUCRE | C19: Sincelejo | J19: 372100 | K19: =J19*12.13% -> 45135.73 | L19: =J19+K19 -> 417235.73 | M19: =L19*0.19 -> 79274.789 | N19: =L19+M19 -> 496510.52 | O19: 576000 | P19: =O19*0.19 -> 109440 | Q19: =O19+P19 -> 685440 | R19: 611000 | S19: =R19*0.19 -> 116090 | T19: =R19+S19 -> 727090 | U19: =ROUND(AVERAGE(L19,O19,R19),0) -> 534745 | V19: =ROUND(STDEV(L19,O19,R19),0) -> 103260 | W19: =U19+V19 -> 638005 | X19: =U19-V19 -> 431485 | Y19: =ROUND(AVERAGE(O19,R19),0) -> 593500 | Z19: =ROUND(Y19*19%,0) -> 112765 | AA19: =Y19+Z19 -> 706265 | AB19: =ROUND(MEDIAN(O19,R19),0) -> 593500 | AC19: =ROUND(AB19*19%,0) -> 112765 | AD19: =AB19+AC19 -> 706265 | AE19: =ROUND(GEOMEAN(O19,R19),0) -> 593242 | AF19: =ROUND(AE19*19%,0) -> 112716 | AG19: =AE19+AF19 -> 705958 | AH19: =ROUND(HARMEAN(O19,R19),0) -> 592984 | AI19: =ROUND(AH19*19%,0) -> 112667 | AJ19: =AH19+AI19 -> 705651
A20: SANTANDERES | B20: SANTANDER | C20: Bucaramanga | J20: 753000 | K20: =J20*12.13% -> 91338.9 | L20: =J20+K20 -> 844338.9 | M20: =L20*0.19 -> 160424.39 | N20: =L20+M20 -> 1004763.3 | O20: 1120000 | P20: =O20*0.19 -> 212800 | Q20: =O20+P20 -> 1332800 | R20: 1692000 | S20: =R20*0.19 -> 321480 | T20: =R20+S20 -> 2013480 | U20: =ROUND(AVERAGE(L20,O20,R20),0) -> 1218780 | V20: =ROUND(STDEV(L20,O20,R20),0) -> 432378 | W20: =U20+V20 -> 1651158 | X20: =U20-V20 -> 786402 | Y20: =ROUND(AVERAGE(L20,O20),0) -> 982169 | Z20: =ROUND(Y20*19%,0) -> 186612 | AA20: =Y20+Z20 -> 1168781 | AB20: =ROUND(MEDIAN(L20,O20),0) -> 982169 | AC20: =ROUND(AB20*19%,0) -> 186612 | AD20: =AB20+AC20 -> 1168781 | AE20: =ROUND(GEOMEAN(L20,O20),0) -> 972450 | AF20: =ROUND(AE20*19%,0) -> 184766 | AG20: =AE20+AF20 -> 1157216 | AH20: =ROUND(HARMEAN(L20,O20),0) -> 962827 | AI20: =ROUND(AH20*19%,0) -> 182937 | AJ20: =AH20+AI20 -> 1145764
B21: NORTE DE SANTADER | C21: Cúcuta | J21: 183333 | K21: =J21*12.13% -> 22238.293 | L21: =J21+K21 -> 205571.29 | M21: =L21*0.19 -> 39058.546 | N21: =L21+M21 -> 244629.84 | O21: 276800 | P21: =O21*0.19 -> 52592 | Q21: =O21+P21 -> 329392 | R21: 282000 | S21: =R21*0.19 -> 53580 | T21: =R21+S21 -> 335580 | U21: =ROUND(AVERAGE(L21,O21,R21),0) -> 254790 | V21: =ROUND(STDEV(L21,O21,R21),0) -> 42704 | W21: =U21+V21 -> 297494 | X21: =U21-V21 -> 212086 | Y21: =ROUND(AVERAGE(O21,R21),0) -> 279400 | Z21: =ROUND(Y21*19%,0) -> 53086 | AA21: =Y21+Z21 -> 332486 | AB21: =ROUND(MEDIAN(O21,R21),0) -> 279400 | AC21: =ROUND(AB21*19%,0) -> 53086 | AD21: =AB21+AC21 -> 332486 | AE21: =ROUND(GEOMEAN(O21,R21),0) -> 279388 | AF21: =ROUND(AE21*19%,0) -> 53084 | AG21: =AE21+AF21 -> 332472 | AH21: =ROUND(HARMEAN(O21,R21),0) -> 279376 | AI21: =ROUND(AH21*19%,0) -> 53081 | AJ21: =AH21+AI21 -> 332457
A22: SUR | B22: NARIÑO | C22: Pasto | J22: 183333 | K22: =J22*12.13% -> 22238.293 | L22: =J22+K22 -> 205571.29 | M22: =L22*0.19 -> 39058.546 | N22: =L22+M22 -> 244629.84 | O22: 276800 | P22: =O22*0.19 -> 52592 | Q22: =O22+P22 -> 329392 | R22: 282000 | S22: =R22*0.19 -> 53580 | T22: =R22+S22 -> 335580 | U22: =ROUND(AVERAGE(L22,O22,R22),0) -> 254790 | V22: =ROUND(STDEV(L22,O22,R22),0) -> 42704 | W22: =U22+V22 -> 297494 | X22: =U22-V22 -> 212086 | Y22: =ROUND(AVERAGE(O22,R22),0) -> 279400 | Z22: =ROUND(Y22*19%,0) -> 53086 | AA22: =Y22+Z22 -> 332486 | AB22: =ROUND(MEDIAN(O22,R22),0) -> 279400 | AC22: =ROUND(AB22*19%,0) -> 53086 | AD22: =AB22+AC22 -> 332486 | AE22: =ROUND(GEOMEAN(O22,R22),0) -> 279388 | AF22: =ROUND(AE22*19%,0) -> 53084 | AG22: =AE22+AF22 -> 332472 | AH22: =ROUND(HARMEAN(O22,R22),0) -> 279376 | AI22: =ROUND(AH22*19%,0) -> 53081 | AJ22: =AH22+AI22 -> 332457
A23: TERRITORIOS NACIONALES | B23: CHOCÓ | C23: Quibdó | J23: 163333 | K23: =J23*12.13% -> 19812.293 | L23: =J23+K23 -> 183145.29 | M23: =L23*0.19 -> 34797.606 | N23: =L23+M23 -> 217942.9 | O23: 240000 | P23: =O23*0.19 -> 45600 | Q23: =O23+P23 -> 285600 | R23: 282000 | S23: =R23*0.19 -> 53580 | T23: =R23+S23 -> 335580 | U23: =ROUND(AVERAGE(L23,O23,R23),0) -> 235048 | V23: =ROUND(STDEV(L23,O23,R23),0) -> 49613 | W23: =U23+V23 -> 284661 | X23: =U23-V23 -> 185435 | Y23: =ROUND(AVERAGE(O23,R23),0) -> 261000 | Z23: =ROUND(Y23*19%,0) -> 49590 | AA23: =Y23+Z23 -> 310590 | AB23: =ROUND(MEDIAN(O23,R23),0) -> 261000 | AC23: =ROUND(AB23*19%,0) -> 49590 | AD23: =AB23+AC23 -> 310590 | AE23: =ROUND(GEOMEAN(O23,R23),0) -> 260154 | AF23: =ROUND(AE23*19%,0) -> 49429 | AG23: =AE23+AF23 -> 309583 | AH23: =ROUND(HARMEAN(O23,R23),0) -> 259310 | AI23: =ROUND(AH23*19%,0) -> 49269 | AJ23: =AH23+AI23 -> 308579
B24: CAQUETA | C24: Florencia | J24: 170000 | K24: =J24*12.13% -> 20621 | L24: =J24+K24 -> 190621 | M24: =L24*0.19 -> 36217.99 | N24: =L24+M24 -> 226838.99 | O24: 256000 | P24: =O24*0.19 -> 48640 | Q24: =O24+P24 -> 304640 | R24: 282000 | S24: =R24*0.19 -> 53580 | T24: =R24+S24 -> 335580 | U24: =ROUND(AVERAGE(L24,O24,R24),0) -> 242874 | V24: =ROUND(STDEV(L24,O24,R24),0) -> 47082 | W24: =U24+V24 -> 289956 | X24: =U24-V24 -> 195792 | Y24: =ROUND(AVERAGE(O24,R24),0) -> 269000 | Z24: =ROUND(Y24*19%,0) -> 51110 | AA24: =Y24+Z24 -> 320110 | AB24: =ROUND(MEDIAN(O24,R24),0) -> 269000 | AC24: =ROUND(AB24*19%,0) -> 51110 | AD24: =AB24+AC24 -> 320110 | AE24: =ROUND(GEOMEAN(O24,R24),0) -> 268686 | AF24: =ROUND(AE24*19%,0) -> 51050 | AG24: =AE24+AF24 -> 319736 | AH24: =ROUND(HARMEAN(O24,R24),0) -> 268372 | AI24: =ROUND(AH24*19%,0) -> 50991 | AJ24: =AH24+AI24 -> 319363
B25: GUAVIARE | C25: San José del Guaviare | J25: 170000 | K25: =J25*12.13% -> 20621 | L25: =J25+K25 -> 190621 | M25: =L25*0.19 -> 36217.99 | N25: =L25+M25 -> 226838.99 | O25: 256000 | P25: =O25*0.19 -> 48640 | Q25: =O25+P25 -> 304640 | R25: 282000 | S25: =R25*0.19 -> 53580 | T25: =R25+S25 -> 335580 | U25: =ROUND(AVERAGE(L25,O25,R25),0) -> 242874 | V25: =ROUND(STDEV(L25,O25,R25),0) -> 47082 | W25: =U25+V25 -> 289956 | X25: =U25-V25 -> 195792 | Y25: =ROUND(AVERAGE(O25,R25),0) -> 269000 | Z25: =ROUND(Y25*19%,0) -> 51110 | AA25: =Y25+Z25 -> 320110 | AB25: =ROUND(MEDIAN(O25,R25),0) -> 269000 | AC25: =ROUND(AB25*19%,0) -> 51110 | AD25: =AB25+AC25 -> 320110 | AE25: =ROUND(GEOMEAN(O25,R25),0) -> 268686 | AF25: =ROUND(AE25*19%,0) -> 51050 | AG25: =AE25+AF25 -> 319736 | AH25: =ROUND(HARMEAN(O25,R25),0) -> 268372 | AI25: =ROUND(AH25*19%,0) -> 50991 | AJ25: =AH25+AI25 -> 319363
B26: META | C26: Villavicencio | J26: 183333 | K26: =J26*12.13% -> 22238.293 | L26: =J26+K26 -> 205571.29 | M26: =L26*0.19 -> 39058.546 | N26: =L26+M26 -> 244629.84 | O26: 272000 | P26: =O26*0.19 -> 51680 | Q26: =O26+P26 -> 323680 | R26: 282000 | S26: =R26*0.19 -> 53580 | T26: =R26+S26 -> 335580 | U26: =ROUND(AVERAGE(L26,O26,R26),0) -> 253190 | V26: =ROUND(STDEV(L26,O26,R26),0) -> 41541 | W26: =U26+V26 -> 294731 | X26: =U26-V26 -> 211649 | Y26: =ROUND(AVERAGE(O26,R26),0) -> 277000 | Z26: =ROUND(Y26*19%,0) -> 52630 | AA26: =Y26+Z26 -> 329630 | AB26: =ROUND(MEDIAN(O26,R26),0) -> 277000 | AC26: =ROUND(AB26*19%,0) -> 52630 | AD26: =AB26+AC26 -> 329630 | AE26: =ROUND(GEOMEAN(O26,R26),0) -> 276955 | AF26: =ROUND(AE26*19%,0) -> 52621 | AG26: =AE26+AF26 -> 329576 | AH26: =ROUND(HARMEAN(O26,R26),0) -> 276910 | AI26: =ROUND(AH26*19%,0) -> 52613 | AJ26: =AH26+AI26 -> 329523
L27: =SUM(L8:L26) -> 5376668.3 | O27: =SUM(O8:O26) -> 7276000 | R27: =SUM(R8:R26) -> 7491800 | AA27: =SUM(AA8:AA26) -> 8021482 | AD27: =SUM(AD8:AD26) -> 8021482 | AG27: =SUM(AG8:AG26) -> 7904788 | AJ27: =SUM(AJ8:AJ26) -> 7824046

Sheet SEDES
A2: ANEXO NO. 2 - SERVICIOS REQUERIDOS
A3: SEDES A NIVEL NACIONAL
A5: REGIONALES | B5: DEPARTAMENTOS | C5: PUNTOS DE ATENCIÓN | D5: DIRECCIÓN | E5: ÁREA (m2)
A6: BOGOTA CENTRO ZONA 1 | B6: BOGOTA D.C | C6: CNA | D6: Calle 12 No. 65 -11 Zona Industrial Puente Aranda | E6: 1577
B7: BOGOTA D.C | C7: Cafam | D7: Crr 68 # 90-88 Local 2062 E 2062F | E7: 177
B8: BOGOTA D.C | C8: Suba | D8: Tv 60 No. 128a - 68 | E8: 500.99
B9: BOYACA | C9: Tunja | D9: Carrera 11 # 21-87 | E9: 380
B10: CUNDINAMARCA | C10: Chia | D10: calle 10 # 11-36 local 108 Centro comercial la libertad | E10: 30
B11: CUNDINAMARCA | C11: Girardot | D11: CLL 20 No 12 -38 Barrio Sucre | E11: 283.46
B12: CUNDINAMARCA | C12: Zipaquirá | D12: Parque el brigar al lado del Sisben Calle 8 No 8 - 51 Piso 1 | E12: 80
A13: BOGOTA CENTRO ZONA 2 | B13: BOGOTA D.C | C13: Angel | D13: Calle 19 No 6 - 68 | E13: 825.4
B14: BOGOTA D.C | C14: CAN | D14: Calle 44 No. 52 - 06 | E14: 373
B15: BOGOTA D.C | C15: Paseo Villa del Rio | D15: Dg 57C sur # 62-60 Local 110K | E15: 111
B16: CUNDINAMARCA | C16: Soacha | D16: Crr 4 estre # 31 - 40 Centro Comercial Gran Plaza local 2 - 219a | E16: 380
B17: HUILA | C17: Neiva | D17: Cl. 10 No. 7 a-33 Centro | E17: 345.36
B18: TOLIMA | C18: Epinal | D18: Cra 6 # 8-7 Palacio municipal el espinal | E18: 10
B19: TOLIMA | C19: Ibague | D19: CALLE 64#7-24 Local 04 | E19: 353.41
A20: ANTIOQUIA - EJE CAFETERO | B20: ANTIOQUIA | C20: Aparta | D20: CLL 95 No. 99-11 Barrio Fundadores | E20: 172
B21: ANTIOQUIA | C21: Mayorca | D21: Calle 51 sur # 48 57 local 2192 | E21: 100
B22: ANTIOQUIA | C22: Medellín | D22: Cra 55 No. 42-90 local 203-204 Plaza la Libertad | E22: 522.1
B23: ANTIOQUIA | C23: Rionegro | D23: Calle 49 n # 50 59 centro comercial ganadero local 108-110 | E23: 65.36
B24: CALDAS | C24: La dorada | D24: Cra 3 No. 11-18 Centro | E24: 70.63
B25: CALDAS | C25: Manizales | D25: Cll 20 No 22-27 Local 2 Edificio Cumanday | E25: 297.28
B26: QUINDIO | C26: Armenia | D26: Cra 14 No. 5-99 Avenida Bolivar | E26: 255
B27: RISARALDA | C27: Pereira | D27: CLL 19 # 6-48 LOCAL 211 | E27: 414
A28: NORTE | B28: ATLANTICO | C28: Soledad | D28: Autopista Aeropuerto 23 # 13-25 local 12 y 13 | E28: 155
B29: ATLANTICO | C29: Viva Barranquilla | D29: Cr. 51 B No. 87-50 | E29: 565.34
B30: BOLIVAR | C30: Cartagena | D30: Calle Arsenal # 8B - 121 | E30: 273.52
B31: BOLIVAR | C31: Éxito Cartagena | D31: AV. HEREDIA No. 69-75 Sector Contador | E31: 50.2
B32: CESAR | C32: VALLEDUPAR | D32: Cll 16 A No. 12 -67 Barrio Loperena Local 103,104 y 105 | E32: 382
B33: CORDOBA | C33: MONTERÍA | D33: Cra 3 No. 25 -78 Barrio Centro | E33: 199.73
B34: GUAJIRA | C34: RIOHACHA | D34: Cll 3 No. 6-73 Barrio Centro | E34: 279.17
B35: MAGDALENA | C35: SANTA MARTA | D35: Cl. 15 No. 03-45 | E35: 519
B36: SAN ANDRES | C36: San Andrés | D36: Av Providencia Centro Comercial New Point Local 201-202 | E36: 70.64
B37: SUCRE | C37: SINCELEJO | D37: Cra 20 No 19-59 Centro | E37: 199.49
A38: SANTANDERES | B38: NORTE DE SANTADER | C38: Cúcuta | D38: Cll 12 A No 2E-48 Quinta Velez Caobos | E38: 346.91
B39: SANTANDER | C39: BUCARAMANGA | D39: Carrera 36 # 51-48 | E39: 494
B40: SANTANDER | C40: PIEDECUESTA | D40: Carrera 15 #3 an - 10 Centro Comercial de la Cuesta | E40: 112.77
B41: SANTANDER | C41: VIVA BARRANCABERMEJA | D41: Cr. 11 con Cl 50 Local 3-19B | E41: 33.95
A42: SUR | B42: CAUCA | C42: Popayán | D42: Cra 7 No 1n-27 | E42: 436.07
B43: NARIÑO | C43: Ipiales | D43: Carrera 6 N° 8-29 Plaza 20 de julio Local 1 | E43: 10
B44: NARIÑO | C44: Pasto | D44: Cll 20 No 26 -38 Centro | E44: 568
B45: VALLE DEL CAUCA | C45: Palmira | D45: Cra. 30 # 31-39 | E45: 102,58
B46: VALLE DEL CAUCA | C46: Cali Av. Las Américas | D46: Av de la s Ameriaca No 22n-47 | E46: 490.3
B47: VALLE DEL CAUCA | C47: Cali Av. Guadalupe | D47: Cr. 56 No. 5-80 Av. Guadalupe | E47: 704.78
B48: VALLE DEL CAUCA | C48: Viva Buenaventura | D48: Cl. 2 No. 66 - 86 Local 202 | E48: 48.43
A49: TERRITORIOS NACIONALES | B49: AMAZONAS | C49: Leticia | D49: Calle 10 No 6-62 local 2 diagonal abatuta | E49: 10
B50: ARAUCA | C50: Arauca | D50: Edificio Colpensiones de Arauca Calle 21 No 20 24 | E50: 10
B51: CAQUETA | C51: Florencia | D51: Cra 13 No 11-72 Barrio San Francisco | E51: 106
B52: CASANARE | C52: Yopal | D52: Calle 8 # 18 - 49 | E52: 95
B53: CHOCO | C53: Quibdó | D53: Cra 3 No. 26-111 Piso 1 Barrio Roma | E53: 108.7
B54: GUAINIA | C54: Puerto Inírida | D54: Carrera 7 # 18-21 | E54: 84
B55: GUAVIARE | C55: San José del Guaviare | D55: cra 23 n 10-132 barrio la esperanza | E55: 103
B56: META | C56: Acacias | D56: Calle 14 # 21 - 71 / 73 | E56: 50.22
B57: META | C57: Villavicencio | D57: Carrera 38 # 20 - 58 | E57: 140.7
B58: PUTUMAYO | C58: Mocoa | D58: Calle 7 # 5-59 Barrio Centro. | E58: 10
B59: VAUPES | C59: Mitú | D59: Cra 14 No.12-43 Barrio Centro | E59: 109.48
B60: VICHADA | C60: Puerto carreño | D60: Cra 9° No 18-87 Alcaldia Municipal | E60: 10

Sheet Hoja1
D5: SERVICIO COTIZACIÓN | E5: SERVICIO DE FUMIGACIÓN | F5: SERVICIO DE DESINFACCION DE AMBIENTE | G5: LAVADO Y DESINFECCIÓN DE TANQUES DE ALMACENAMIENTO DE AGUA POTABLE | H5: TOTAL
D6: INDEXACIÓN | E6: =FUMIGACION!F62 -> 16664268 | F6: ='DESINFECCION DE AMBIENTE'!F62 -> 16972023 | G6: ='LAVADO DE TANQUES'!L27 -> 5376668.3 | H6: =E6+F6+G6 -> 39012959
D7: COTIZACION No. 1 | E7: =FUMIGACION!I62 -> 26619000 | F7: ='DESINFECCION DE AMBIENTE'!I62 -> 25967000 | G7: ='LAVADO DE TANQUES'!O27 -> 7276000 | H7: =SUM(E7:G7) -> 59862000
D8: COTIZACION No. 2 | E8: =FUMIGACION!L62 -> 39367200 | F8: ='DESINFECCION DE AMBIENTE'!L62 -> 39367200 | G8: ='LAVADO DE TANQUES'!R27 -> 7491800 | H8: =SUM(E8:G8) -> 86226200
E11: SERVICIO DE FUMIGACIÓN | F11: SERVICIO DE DESINFACCION DE AMBIENTE | G11: LAVADO Y DESINFECCIÓN DE TANQUES DE ALMACENAMIENTO DE AGUA POTABLE
D12: MEDIDAS DE TENDENCIA | E12: Promedio | F12: Promedio | G12: Promedio
E13: =FUMIGACION!U62 -> 29803727 | F13: ='DESINFECCION DE AMBIENTE'!U62 -> 29079437 | G13: ='LAVADO DE TANQUES'!AA27 -> 8021482
