Workbook
Name listado: #REF!
Name PERSONAL: #REF!

Sheet FUMIGACION
A2: ANEXO NO. 2 - SERVICIOS REQUERIDOS
A3: SERVICIO DE FUMIGACIÓN
A5: REGIONALES | B5: DEPARTAMENTOS | C5: PUNTOS DE ATENCIÓN | D5: INDEXACIÓN FNA-VGHA-CD-050-2022 | I5: COTIZACIÓN 1 | L5: COTIZACIÓN 2 | O5: MEDIDA DE TENDENCIA: DESVIACIONES | S5: MEDIDA DE TENDENCIA: PROMEDIO | V5: MEDIDA DE TENDENCIA: MEDIANA | Y5: MEDIDA DE TENDENCIA: MEDIA GEOMETRICA | AB5: MEDIDA DE TENDENCIA: MEDIA ARMONICA
D6: VALOR UNITARIO | E6: IPC | F6: VALOR UNITARIO | G6: IVA (19%) | H6: TOTAL | I6: VALOR UNITARIO | J6: IVA (19%) | K6: TOTAL | L6: VALOR UNITARIO | M6: IVA (19%) | N6: TOTAL | O6: PROMEDIO | P6: DESVEST | Q6: MAX | R6: MIN | S6: VALOR UNITARIO | T6: VALOR DEL IVA 19% | U6: VALOR TOTAL | V6: VALOR UNITARIO | W6: VALOR DEL IVA 19% | X6: VALOR TOTAL | Y6: VALOR UNITARIO | Z6: VALOR DEL IVA 19% | AA6: VALOR TOTAL | AB6: VALOR UNITARIO | AC6: VALOR DEL IVA 19% | AD6: VALOR TOTAL
A7: BOGOTA CENTRO ZONA 1 | B7: BOGOTÁ D.C. | C7: CNA | D7: 800986 | E7: =D7*13.12% -> 105089.36 | F7: =D7+E7 -> 906075.36 | G7: =F7*0.19 -> 172154.32 | H7: =ROUND(F7+G7,0) -> 1078230 | I7: 1120000 | J7: =I7*0.19 -> 212800 | K7: =I7+J7 -> 1332800 | L7: 470000 | M7: =L7*0.19 -> 89300 | N7: =L7+M7 -> 559300 | O7: =ROUND(AVERAGE(F7,I7,L7),0) -> 832025 | P7: =ROUND(STDEV(F7,I7,L7),0) -> 331267 | Q7: =O7+P7 -> 1163292 | R7: =O7-P7 -> 500758 | S7: =ROUND(AVERAGE(F7,I7),0) -> 1013038 | T7: =ROUND(S7*19%,0) -> 192477 | U7: =S7+T7 -> 1205515 | V7: =ROUND(MEDIAN(F7,I7),0) -> 1013038 | W7: =ROUND(V7*19%,0) -> 192477 | X7: =V7+W7 -> 1205515 | Y7: =ROUND(GEOMEAN(F7,I7),0) -> 1007375 | Z7: =ROUND(Y7*19%,0) -> 191401 | AA7: =Y7+Z7 -> 1198776 | AB7: =ROUND(HARMEAN(F7,I7),0) -> 1001744 | AC7: =ROUND(AB7*19%,0) -> 190331 | AD7: =AB7+AC7 -> 1192075
B8: BOGOTÁ D.C. | C8: CAFAM | D8: 203145 | E8: =D8*13.12% -> 26652.624 | F8: =D8+E8 -> 229797.62 | G8: =F8*0.19 -> 43661.549 | H8: =ROUND(F8+G8,0) -> 273459 | I8: 304000 | J8: =I8*0.19 -> 57760 | K8: =I8+J8 -> 361760 | L8: 282000 | M8: =L8*0.19 -> 53580 | N8: =L8+M8 -> 335580 | O8: =AVERAGE(F8,I8,L8) -> 271932.54 | P8: =ROUND(STDEV(F8,I8,L8),0) -> 38112 | Q8: =O8+P8 -> 310044.54 | R8: =O8-P8 -> 233820.54 | S8: =AVERAGE(I8,L8) -> 293000 | T8: =ROUND(S8*19%,0) -> 55670 | U8: =S8+T8 -> 348670 | V8: =ROUND(MEDIAN(I8,L8),0) -> 293000 | W8: =ROUND(V8*19%,0) -> 55670 | X8: =V8+W8 -> 348670 | Y8: =ROUND(GEOMEAN(I8,L8),0) -> 292793 | Z8: =ROUND(Y8*19%,0) -> 55631 | AA8: =Y8+Z8 -> 348424 | AB8: =ROUND(HARMEAN(I8,L8),0) -> 292587 | AC8: =ROUND(AB8*19%,0) -> 55592 | AD8: =AB8+AC8 -> 348179
B9: BOGOTÁ D.C. | C9: Suba | D9: 343875 | E9: =D9*13.12% -> 45116.4 | F9: =D9+E9 -> 388991.4 | G9: =F9*0.19 -> 73908.366 | H9: =ROUND(F9+G9,0) -> 462900 | I9: 528000 | J9: =I9*0.19 -> 100320 | K9: =I9+J9 -> 628320 | L9: 357200 | M9: =L9*0.19 -> 67868 | N9: =L9+M9 -> 425068 | O9: =AVERAGE(F9,I9,L9) -> 424730.47 | P9: =ROUND(STDEV(F9,I9,L9),0) -> 90836 | Q9: =O9+P9 -> 515566.47 | R9: =O9-P9 -> 333894.47 | S9: =AVERAGE(F9,L9) -> 373095.7 | T9: =ROUND(S9*19%,0) -> 70888 | U9: =S9+T9 -> 443983.7 | V9: =ROUND(MEDIAN(F9,L9),0) -> 373096 | W9: =ROUND(V9*19%,0) -> 70888 | X9: =V9+W9 -> 443984 | Y9: =ROUND(GEOMEAN(F9,L9),0) -> 372757 | Z9: =ROUND(Y9*19%,0) -> 70824 | AA9: =Y9+Z9 -> 443581 | AB9: =ROUND(HARMEAN(F9,L9),0) -> 372418 | AC9: =ROUND(AB9*19%,0) -> 70759 | AD9: =AB9+AC9 -> 443177
B10: BOYACA | C10: Tunja | D10: 278972 | E10: =D10*13.12% -> 36601.126 | F10: =D10+E10 -> 315573.13 | G10: =F10*0.19 -> 59958.894 | H10: =ROUND(F10+G10,0) -> 375532 | I10: 432000 | J10: =I10*0.19 -> 82080 | K10: =I10+J10 -> 514080 | L10: 799000 | M10: =L10*0.19 -> 151810 | N10: =L10+M10 -> 950810 | O10: =AVERAGE(F10,I10,L10) -> 515524.38 | P10: =ROUND(STDEV(F10,I10,L10),0) -> 252305 | Q10: =O10+P10 -> 767829.38 | R10: =O10-P10 -> 263219.38 | S10: =AVERAGE(F10,I10) -> 373786.56 | T10: =ROUND(S10*19%,0) -> 71019 | U10: =S10+T10 -> 444805.56 | V10: =ROUND(MEDIAN(F10,I10),0) -> 373787 | W10: =ROUND(V10*19%,0) -> 71020 | X10: =V10+W10 -> 444807 | Y10: =ROUND(GEOMEAN(F10,I10),0) -> 369226 | Z10: =ROUND(Y10*19%,0) -> 70153 | AA10: =Y10+Z10 -> 439379 | AB10: =ROUND(HARMEAN(F10,I10),0) -> 364720 | AC10: =ROUND(AB10*19%,0) -> 69297 | AD10: =AB10+AC10 -> 434017
B11: CUNDINAMARCA | C11: Chía | D11: 154008 | E11: =D11*13.12% -> 20205.85 | F11: =D11+E11 -> 174213.85 | G11: =F11*0.19 -> 33100.631 | H11: =ROUND(F11+G11,0) -> 207314 | I11: 224000 | J11: =I11*0.19 -> 42560 | K11: =I11+J11 -> 266560 | L11: 376000 | M11: =L11*0.19 -> 71440 | N11: =L11+M11 -> 447440 | O11: =AVERAGE(F11,I11,L11) -> 258071.28 | P11: =ROUND(STDEV(F11,I11,L11),0) -> 105119 | Q11: =O11+P11 -> 363190.28 | R11: =O11-P11 -> 152952.28 | S11: =AVERAGE(F11,I11) -> 199106.92 | T11: =ROUND(S11*19%,0) -> 37830 | U11: =S11+T11 -> 236936.92 | V11: =ROUND(MEDIAN(F11,I11),0) -> 199107 | W11: =ROUND(V11*19%,0) -> 37830 | X11: =V11+W11 -> 236937 | Y11: =ROUND(GEOMEAN(F11,I11),0) -> 197545 | Z11: =ROUND(Y11*19%,0) -> 37534 | AA11: =Y11+Z11 -> 235079 | AB11: =ROUND(HARMEAN(F11,I11),0) -> 195995 | AC11: =ROUND(AB11*19%,0) -> 37239 | AD11: =AB11+AC11 -> 233234
B12: CUNDINAMARCA | C12: Girardot | D12: 265109 | E12: =D12*13.12% -> 34782.301 | F12: =D12+E12 -> 299891.3 | G12: =F12*0.19 -> 56979.347 | H12: =ROUND(F12+G12,0) -> 356871 | I12: 400000 | J12: =I12*0.19 -> 76000 | K12: =I12+J12 -> 476000 | L12: 376000 | M12: =L12*0.19 -> 71440 | N12: =L12+M12 -> 447440 | O12: =AVERAGE(F12,I12,L12) -> 358630.43 | P12: =ROUND(STDEV(F12,I12,L12),0) -> 52266 | Q12: =O12+P12 -> 410896.43 | R12: =O12-P12 -> 306364.43 | S12: =AVERAGE(I12,L12) -> 388000 | T12: =ROUND(S12*19%,0) -> 73720 | U12: =S12+T12 -> 461720 | V12: =ROUND(MEDIAN(I12,L12),0) -> 388000 | W12: =ROUND(V12*19%,0) -> 73720 | X12: =V12+W12 -> 461720 | Y12: =ROUND(GEOMEAN(I12,L12),0) -> 387814 | Z12: =ROUND(Y12*19%,0) -> 73685 | AA12: =Y12+Z12 -> 461499 | AB12: =ROUND(HARMEAN(I12,L12),0) -> 387629 | AC12: =ROUND(AB12*19%,0) -> 73650 | AD12: =AB12+AC12 -> 461279
B13: CUNDINAMARCA | C13: Zipaquirá | D13: 187770 | E13: =D13*13.12% -> 24635.424 | F13: =D13+E13 -> 212405.42 | G13: =F13*0.19 -> 40357.031 | H13: =ROUND(F13+G13,0) -> 252762 | I13: 272000 | J13: =I13*0.19 -> 51680 | K13: =I13+J13 -> 323680 | L13: 376000 | M13: =L13*0.19 -> 71440 | N13: =L13+M13 -> 447440 | O13: =AVERAGE(F13,I13,L13) -> 286801.81 | P13: =ROUND(STDEV(F13,I13,L13),0) -> 82796 | Q13: =O13+P13 -> 369597.81 | R13: =O13-P13 -> 204005.81 | S13: =AVERAGE(F13,I13) -> 242202.71 | T13: =ROUND(S13*19%,0) -> 46019 | U13: =S13+T13 -> 288221.71 | V13: =ROUND(MEDIAN(F13,I13),0) -> 242203 | W13: =ROUND(V13*19%,0) -> 46019 | X13: =V13+W13 -> 288222 | Y13: =ROUND(GEOMEAN(F13,I13),0) -> 240363 | Z13: =ROUND(Y13*19%,0) -> 45669 | AA13: =Y13+Z13 -> 286032 | AB13: =ROUND(HARMEAN(F13,I13),0) -> 238537 | AC13: =ROUND(AB13*19%,0) -> 45322 | AD13: =AB13+AC13 -> 283859
A14: BOGOTA CENTRO ZONA 2 | B14: BOGOTÁ D.C. | C14: Ángel | D14: 484076 | E14: =D14*13.12% -> 63510.771 | F14: =D14+E14 -> 547586.77 | G14: =F14*0.19 -> 104041.49 | H14: =ROUND(F14+G14,0) -> 651628 | I14: 624000 | J14: =I14*0.19 -> 118560 | K14: =I14+J14 -> 742560 | L14: 282000 | M14: =L14*0.19 -> 53580 | N14: =L14+M14 -> 335580 | O14: =AVERAGE(F14,I14,L14) -> 484528.92 | P14: =ROUND(STDEV(F14,I14,L14),0) -> 179508 | Q14: =O14+P14 -> 664036.92 | R14: =O14-P14 -> 305020.92 | S14: =AVERAGE(F14,I14) -> 585793.39 | T14: =ROUND(S14*19%,0) -> 111301 | U14: =S14+T14 -> 697094.39 | V14: =ROUND(MEDIAN(F14,I14),0) -> 585793 | W14: =ROUND(V14*19%,0) -> 111301 | X14: =V14+W14 -> 697094 | Y14: =ROUND(GEOMEAN(F14,I14),0) -> 584546 | Z14: =ROUND(Y14*19%,0) -> 111064 | AA14: =Y14+Z14 -> 695610 | AB14: =ROUND(HARMEAN(F14,I14),0) -> 583301 | AC14: =ROUND(AB14*19%,0) -> 110827 | AD14: =AB14+AC14 -> 694128
B15: BOGOTA D.C | C15: CAN | D15: 284493 | E15: =D15*13.12% -> 37325.482 | F15: =D15+E15 -> 321818.48 | G15: =F15*0.19 -> 61145.512 | H15: =ROUND(F15+G15,0) -> 382964 | I15: 432000 | J15: =I15*0.19 -> 82080 | K15: =I15+J15 -> 514080 | L15: 282000 | M15: =L15*0.19 -> 53580 | N15: =L15+M15 -> 335580 | O15: =AVERAGE(F15,I15,L15) -> 345272.83 | P15: =ROUND(STDEV(F15,I15,L15),0) -> 77702 | Q15: =O15+P15 -> 422974.83 | R15: =O15-P15 -> 267570.83 | S15: =AVERAGE(F15,L15) -> 301909.24 | T15: =ROUND(S15*19%,0) -> 57363 | U15: =S15+T15 -> 359272.24 | V15: =ROUND(MEDIAN(F15,L15),0) -> 301909 | W15: =ROUND(V15*19%,0) -> 57363 | X15: =V15+W15 -> 359272 | Y15: =ROUND(GEOMEAN(F15,L15),0) -> 301252 | Z15: =ROUND(Y15*19%,0) -> 57238 | AA15: =Y15+Z15 -> 358490 | AB15: =ROUND(HARMEAN(F15,L15),0) -> 300596 | AC15: =ROUND(AB15*19%,0) -> 57113 | AD15: =AB15+AC15 -> 357709
B16: BOGOTA D.C | C16: Paseo Villa del Rio | D16: 184578 | E16: =D16*13.12% -> 24216.634 | F16: =D16+E16 -> 208794.63 | G16: =F16*0.19 -> 39670.98 | H16: =ROUND(F16+G16,0) -> 248466 | I16: 272000 | J16: =I16*0.19 -> 51680 | K16: =I16+J16 -> 323680 | L16: 282000 | M16: =L16*0.19 -> 53580 | N16: =L16+M16 -> 335580 | O16: =AVERAGE(F16,I16,L16) -> 254264.88 | P16: =ROUND(STDEV(F16,I16,L16),0) -> 39695 | Q16: =O16+P16 -> 293959.88 | R16: =O16-P16 -> 214569.88 | S16: =AVERAGE(I16,L16) -> 277000 | T16: =ROUND(S16*19%,0) -> 52630 | U16: =S16+T16 -> 329630 | V16: =ROUND(MEDIAN(I16,L16),0) -> 277000 | W16: =ROUND(V16*19%,0) -> 52630 | X16: =V16+W16 -> 329630 | Y16: =ROUND(GEOMEAN(I16,L16),0) -> 276955 | Z16: =ROUND(Y16*19%,0) -> 52621 | AA16: =Y16+Z16 -> 329576 | AB16: =ROUND(HARMEAN(I16,L16),0) -> 276910 | AC16: =ROUND(AB16*19%,0) -> 52613 | AD16: =AB16+AC16 -> 329523
B17: CUNDINAMARCA | C17: Soacha | D17: 275639 | E17: =D17*13.12% -> 36163.837 | F17: =D17+E17 -> 311802.84 | G17: =F17*0.19 -> 59242.539 | H17: =ROUND(F17+G17,0) -> 371045 | I17: 416000 | J17: =I17*0.19 -> 79040 | K17: =I17+J17 -> 495040 | L17: 329000 | M17: =L17*0.19 -> 62510 | N17: =L17+M17 -> 391510 | O17: =AVERAGE(F17,I17,L17) -> 352267.61 | P17: =ROUND(STDEV(F17,I17,L17),0) -> 55860 | Q17: =O17+P17 -> 408127.61 | R17: =O17-P17 -> 296407.61 | S17: =AVERAGE(F17,L17) -> 320401.42 | T17: =ROUND(S17*19%,0) -> 60876 | U17: =S17+T17 -> 381277.42 | V17: =ROUND(MEDIAN(F17,L17),0) -> 320401 | W17: =ROUND(V17*19%,0) -> 60876 | X17: =V17+W17 -> 381277 | Y17: =ROUND(GEOMEAN(F17,L17),0) -> 320286 | Z17: =ROUND(Y17*19%,0) -> 60854 | AA17: =Y17+Z17 -> 381140 | AB17: =ROUND(HARMEAN(F17,L17),0) -> 320171 | AC17: =ROUND(AB17*19%,0) -> 60832 | AD17: =AB17+AC17 -> 381003
B18: HUILA | C18: Neiva | D18: 311194 | E18: =D18*13.12% -> 40828.653 | F18: =D18+E18 -> 352022.65 | G18: =F18*0.19 -> 66884.304 | H18: =ROUND(F18+G18,0) -> 418907 | I18: 464000 | J18: =I18*0.19 -> 88160 | K18: =I18+J18 -> 552160 | L18: 799000 | M18: =L18*0.19 -> 151810 | N18: =L18+M18 -> 950810 | O18: =AVERAGE(F18,I18,L18) -> 538340.88 | P18: =ROUND(STDEV(F18,I18,L18),0) -> 232577 | Q18: =O18+P18 -> 770917.88 | R18: =O18-P18 -> 305763.88 | S18: =AVERAGE(F18,I18) -> 408011.33 | T18: =ROUND(S18*19%,0) -> 77522 | U18: =S18+T18 -> 485533.33 | V18: =ROUND(MEDIAN(F18,I18),0) -> 408011 | W18: =ROUND(V18*19%,0) -> 77522 | X18: =V18+W18 -> 485533 | Y18: =ROUND(GEOMEAN(F18,I18),0) -> 404152 | Z18: =ROUND(Y18*19%,0) -> 76789 | AA18: =Y18+Z18 -> 480941 | AB18: =ROUND(HARMEAN(F18,I18),0) -> 400328 | AC18: =ROUND(AB18*19%,0) -> 76062 | AD18: =AB18+AC18 -> 476390
B19: TOLIMA | C19: Espinal | E19: =D19*13.12% -> 0 | G19: =F19*0.19 -> 0 | H19: =ROUND(F19+G19,0) -> 0 | I19: 323000 | J19: =I19*0.19 -> 61370 | K19: =I19+J19 -> 384370 | L19: 799000 | M19: =L19*0.19 -> 151810 | N19: =L19+M19 -> 950810 | O19: =AVERAGE(I19,L19) -> 561000 | P19: =ROUND(STDEV(I19,L19),0) -> 336583 | Q19: =O19+P19 -> 897583 | R19: =O19-P19 -> 224417 | S19: =AVERAGE(I19,L19) -> 561000 | T19: =ROUND(S19*19%,0) -> 106590 | U19: =S19+T19 -> 667590 | V19: =ROUND(MEDIAN(I19,L19),0) -> 561000 | W19: =ROUND(V19*19%,0) -> 106590 | X19: =V19+W19 -> 667590 | Y19: =ROUND(GEOMEAN(I19,L19),0) -> 508013 | Z19: =ROUND(Y19*19%,0) -> 96522 | AA19: =Y19+Z19 -> 604535 | AB19: =ROUND(HARMEAN(I19,L19),0) -> 460030 | AC19: =ROUND(AB19*19%,0) -> 87406 | AD19: =AB19+AC19 -> 547436
B20: TOLIMA | C20: Ibagué | D20: 311111 | E20: =D20*13.12% -> 40817.763 | F20: =D20+E20 -> 351928.76 | G20: =F20*0.19 -> 66866.465 | H20: =ROUND(F20+G20,0) -> 418795 | I20: 464000 | J20: =I20*0.19 -> 88160 | K20: =I20+J20 -> 552160 | L20: 799000 | M20: =L20*0.19 -> 151810 | N20: =L20+M20 -> 950810 | O20: =AVERAGE(F20,I20,L20) -> 538309.59 | P20: =ROUND(STDEV(F20,I20,L20),0) -> 232615 | Q20: =O20+P20 -> 770924.59 | R20: =O20-P20 -> 305694.59 | S20: =AVERAGE(F20,I20) -> 407964.38 | T20: =ROUND(S20*19%,0) -> 77513 | U20: =S20+T20 -> 485477.38 | V20: =ROUND(MEDIAN(F20,I20),0) -> 407964 | W20: =ROUND(V20*19%,0) -> 77513 | X20: =V20+W20 -> 485477 | Y20: =ROUND(GEOMEAN(F20,I20),0) -> 404098 | Z20: =ROUND(Y20*19%,0) -> 76779 | AA20: =Y20+Z20 -> 480877 | AB20: =ROUND(HARMEAN(F20,I20),0) -> 400268 | AC20: =ROUND(AB20*19%,0) -> 76051 | AD20: =AB20+AC20 -> 476319
A21: ANTIOQUIA - EJE CAFETERO | B21: ANTIOQUIA | C21: Apartado | D21: 241643 | E21: =D21*13.12% -> 31703.562 | F21: =D21+E21 -> 273346.56 | G21: =F21*0.19 -> 51935.847 | H21: =ROUND(F21+G21,0) -> 325282 | I21: 480000 | J21: =I21*0.19 -> 91200 | K21: =I21+J21 -> 571200 | L21: 799000 | M21: =L21*0.19 -> 151810 | N21: =L21+M21 -> 950810 | O21: =AVERAGE(F21,I21,L21) -> 517448.85 | P21: =ROUND(STDEV(F21,I21,L21),0) -> 264820 | Q21: =O21+P21 -> 782268.85 | R21: =O21-P21 -> 252628.85 | S21: =AVERAGE(F21,I21) -> 376673.28 | T21: =ROUND(S21*19%,0) -> 71568 | U21: =S21+T21 -> 448241.28 | V21: =ROUND(MEDIAN(F21,I21),0) -> 376673 | W21: =ROUND(V21*19%,0) -> 71568 | X21: =V21+W21 -> 448241 | Y21: =ROUND(GEOMEAN(F21,I21),0) -> 362224 | Z21: =ROUND(Y21*19%,0) -> 68823 | AA21: =Y21+Z21 -> 431047 | AB21: =ROUND(HARMEAN(F21,I21),0) -> 348329 | AC21: =ROUND(AB21*19%,0) -> 66183 | AD21: =AB21+AC21 -> 414512
B22: ANTIOQUIA | C22: Mayorca | D22: 198775 | E22: =D22*13.12% -> 26079.28 | G22: =F22*0.19 -> 0 | H22: =ROUND(F22+G22,0) -> 0 | I22: 272000 | J22: =I22*0.19 -> 51680 | K22: =I22+J22 -> 323680 | L22: 799000 | M22: =L22*0.19 -> 151810 | N22: =L22+M22 -> 950810 | O22: =AVERAGE(I22,L22) -> 535500 | P22: =ROUND(STDEV(I22,L22),0) -> 372645 | Q22: =O22+P22 -> 908145 | R22: =O22-P22 -> 162855 | S22: =AVERAGE(I22,L22) -> 535500 | T22: =ROUND(S22*19%,0) -> 101745 | U22: =S22+T22 -> 637245 | V22: =ROUND(MEDIAN(I22,L22),0) -> 535500 | W22: =ROUND(V22*19%,0) -> 101745 | X22: =V22+W22 -> 637245 | Y22: =ROUND(GEOMEAN(I22,L22),0) -> 466185 | Z22: =ROUND(Y22*19%,0) -> 88575 | AA22: =Y22+Z22 -> 554760 | AB22: =ROUND(HARMEAN(I22,L22),0) -> 405841 | AC22: =ROUND(AB22*19%,0) -> 77110 | AD22: =AB22+AC22 -> 482951
B23: ANTIOQUIA | C23: Medellín | D23: 378011 | E23: =D23*13.12% -> 49595.043 | F23: =D23+E23 -> 427606.04 | G23: =F23*0.19 -> 81245.148 | H23: =ROUND(F23+G23,0) -> 508851 | I23: 560000 | J23: =I23*0.19 -> 106400 | K23: =I23+J23 -> 666400 | L23: 799000 | M23: =L23*0.19 -> 151810 | N23: =L23+M23 -> 950810 | O23: =AVERAGE(F23,I23,L23) -> 595535.35 | P23: =ROUND(STDEV(F23,I23,L23),0) -> 188230 | Q23: =O23+P23 -> 783765.35 | R23: =O23-P23 -> 407305.35 | S23: =AVERAGE(F23,I23) -> 493803.02 | T23: =ROUND(S23*19%,0) -> 93823 | U23: =S23+T23 -> 587626.02 | V23: =ROUND(MEDIAN(F23,I23),0) -> 493803 | W23: =ROUND(V23*19%,0) -> 93823 | X23: =V23+W23 -> 587626 | Y23: =ROUND(GEOMEAN(F23,I23),0) -> 489346 | Z23: =ROUND(Y23*19%,0) -> 92976 | AA23: =Y23+Z23 -> 582322 | AB23: =ROUND(HARMEAN(F23,I23),0) -> 484929 | AC23: =ROUND(AB23*19%,0) -> 92137 | AD23: =AB23+AC23 -> 577066
B24: ANTIOQUIA | C24: Rio Negro | D24: 172124 | E24: =D24*13.12% -> 22582.669 | F24: =D24+E24 -> 194706.67 | G24: =F24*0.19 -> 36994.267 | H24: =ROUND(F24+G24,0) -> 231701 | I24: 400000 | J24: =I24*0.19 -> 76000 | K24: =I24+J24 -> 476000 | L24: 799000 | M24: =L24*0.19 -> 151810 | N24: =L24+M24 -> 950810 | O24: =AVERAGE(F24,I24,L24) -> 464568.89 | P24: =ROUND(STDEV(F24,I24,L24),0) -> 307278 | Q24: =O24+P24 -> 771846.89 | R24: =O24-P24 -> 157290.89 | S24: =AVERAGE(F24,I24) -> 297353.33 | T24: =ROUND(S24*19%,0) -> 56497 | U24: =S24+T24 -> 353850.33 | V24: =ROUND(MEDIAN(F24,I24),0) -> 297353 | W24: =ROUND(V24*19%,0) -> 56497 | X24: =V24+W24 -> 353850 | Y24: =ROUND(GEOMEAN(F24,I24),0) -> 279075 | Z24: =ROUND(Y24*19%,0) -> 53024 | AA24: =Y24+Z24 -> 332099 | AB24: =ROUND(HARMEAN(F24,I24),0) -> 261920 | AC24: =ROUND(AB24*19%,0) -> 49765 | AD24: =AB24+AC24 -> 311685
B25: CALDAS | C25: La Dorada | D25: 217457 | E25: =D25*13.12% -> 28530.358 | F25: =D25+E25 -> 245987.36 | G25: =F25*0.19 -> 46737.598 | H25: =ROUND(F25+G25,0) -> 292725 | I25: 320000 | J25: =I25*0.19 -> 60800 | K25: =I25+J25 -> 380800 | L25: 799000 | M25: =L25*0.19 -> 151810 | N25: =L25+M25 -> 950810 | O25: =AVERAGE(F25,I25,L25) -> 454995.79 | P25: =ROUND(STDEV(F25,I25,L25),0) -> 300206 | Q25: =O25+P25 -> 755201.79 | R25: =O25-P25 -> 154789.79 | S25: =AVERAGE(F25,I25) -> 282993.68 | T25: =ROUND(S25*19%,0) -> 53769 | U25: =S25+T25 -> 336762.68 | V25: =ROUND(MEDIAN(F25,I25),0) -> 282994 | W25: =ROUND(V25*19%,0) -> 53769 | X25: =V25+W25 -> 336763 | Y25: =ROUND(GEOMEAN(F25,I25),0) -> 280564 | Z25: =ROUND(Y25*19%,0) -> 53307 | AA25: =Y25+Z25 -> 333871 | AB25: =ROUND(HARMEAN(F25,I25),0) -> 278154 | AC25: =ROUND(AB25*19%,0) -> 52849 | AD25: =AB25+AC25 -> 331003
B26: CALDAS | C26: Manizales | D26: 306758 | E26: =D26*13.12% -> 40246.65 | F26: =D26+E26 -> 347004.65 | G26: =F26*0.19 -> 65930.883 | H26: =ROUND(F26+G26,0) -> 412936 | I26: 464000 | J26: =I26*0.19 -> 88160 | K26: =I26+J26 -> 552160 | L26: 799000 | M26: =L26*0.19 -> 151810 | N26: =L26+M26 -> 950810 | O26: =AVERAGE(F26,I26,L26) -> 536668.22 | P26: =ROUND(STDEV(F26,I26,L26),0) -> 234596 | Q26: =O26+P26 -> 771264.22 | R26: =O26-P26 -> 302072.22 | S26: =AVERAGE(F26,I26) -> 405502.32 | T26: =ROUND(S26*19%,0) -> 77045 | U26: =S26+T26 -> 482547.32 | V26: =ROUND(MEDIAN(F26,I26),0) -> 405502 | W26: =ROUND(V26*19%,0) -> 77045 | X26: =V26+W26 -> 482547 | Y26: =ROUND(GEOMEAN(F26,I26),0) -> 401261 | Z26: =ROUND(Y26*19%,0) -> 76240 | AA26: =Y26+Z26 -> 477501 | AB26: =ROUND(HARMEAN(F26,I26),0) -> 397063 | AC26: =ROUND(AB26*19%,0) -> 75442 | AD26: =AB26+AC26 -> 472505
B27: QUINDIO | C27: Armenia | D27: 299064 | E27: =D27*13.12% -> 39237.197 | F27: =D27+E27 -> 338301.2 | G27: =F27*0.19 -> 64277.227 | H27: =ROUND(F27+G27,0) -> 402578 | I27: 432000 | J27: =I27*0.19 -> 82080 | K27: =I27+J27 -> 514080 | L27: 799000 | M27: =L27*0.19 -> 151810 | N27: =L27+M27 -> 950810 | O27: =AVERAGE(F27,I27,L27) -> 523100.4 | P27: =ROUND(STDEV(F27,I27,L27),0) -> 243486 | Q27: =O27+P27 -> 766586.4 | R27: =O27-P27 -> 279614.4 | S27: =AVERAGE(F27,I27) -> 385150.6 | T27: =ROUND(S27*19%,0) -> 73179 | U27: =S27+T27 -> 458329.6 | V27: =ROUND(MEDIAN(F27,I27),0) -> 385151 | W27: =ROUND(V27*19%,0) -> 73179 | X27: =V27+W27 -> 458330 | Y27: =ROUND(GEOMEAN(F27,I27),0) -> 382291 | Z27: =ROUND(Y27*19%,0) -> 72635 | AA27: =Y27+Z27 -> 454926 | AB27: =ROUND(HARMEAN(F27,I27),0) -> 379452 | AC27: =ROUND(AB27*19%,0) -> 72096 | AD27: =AB27+AC27 -> 451548
B28: RISARALDA | C28: Pereira | D28: 360554 | E28: =D28*13.12% -> 47304.685 | F28: =D28+E28 -> 407858.68 | G28: =F28*0.19 -> 77493.15 | H28: =ROUND(F28+G28,0) -> 485352 | I28: 544000 | J28: =I28*0.19 -> 103360 | K28: =I28+J28 -> 647360 | L28: 799000 | M28: =L28*0.19 -> 151810 | N28: =L28+M28 -> 950810 | O28: =AVERAGE(F28,I28,L28) -> 583619.56 | P28: =ROUND(STDEV(F28,I28,L28),0) -> 198558 | Q28: =O28+P28 -> 782177.56 | R28: =O28-P28 -> 385061.56 | S28: =AVERAGE(F28,I28) -> 475929.34 | T28: =ROUND(S28*19%,0) -> 90427 | U28: =S28+T28 -> 566356.34 | V28: =ROUND(MEDIAN(F28,I28),0) -> 475929 | W28: =ROUND(V28*19%,0) -> 90427 | X28: =V28+W28 -> 566356 | Y28: =ROUND(GEOMEAN(F28,I28),0) -> 471036 | Z28: =ROUND(Y28*19%,0) -> 89497 | AA28: =Y28+Z28 -> 560533 | AB28: =ROUND(HARMEAN(F28,I28),0) -> 466193 | AC28: =ROUND(AB28*19%,0) -> 88577 | AD28: =AB28+AC28 -> 554770
A29: NORTE | B29: ATLÁNTICO | C29: Soledad | D29: 246539 | E29: =D29*13.12% -> 32345.917 | F29: =D29+E29 -> 278884.92 | G29: =F29*0.19 -> 52988.134 | H29: =ROUND(F29+G29,0) -> 331873 | I29: 352000 | J29: =I29*0.19 -> 66880 | K29: =I29+J29 -> 418880 | L29: 799000 | M29: =L29*0.19 -> 151810 | N29: =L29+M29 -> 950810 | O29: =AVERAGE(F29,I29,L29) -> 476628.31 | P29: =ROUND(STDEV(F29,I29,L29),0) -> 281565 | Q29: =O29+P29 -> 758193.31 | R29: =O29-P29 -> 195063.31 | S29: =AVERAGE(F29,I29) -> 315442.46 | T29: =ROUND(S29*19%,0) -> 59934 | U29: =S29+T29 -> 375376.46 | V29: =ROUND(MEDIAN(F29,I29),0) -> 315442 | W29: =ROUND(V29*19%,0) -> 59934 | X29: =V29+W29 -> 375376 | Y29: =ROUND(GEOMEAN(F29,I29),0) -> 313317 | Z29: =ROUND(Y29*19%,0) -> 59530 | AA29: =Y29+Z29 -> 372847 | AB29: =ROUND(HARMEAN(F29,I29),0) -> 311206 | AC29: =ROUND(AB29*19%,0) -> 59129 | AD29: =AB29+AC29 -> 370335
B30: ATLÁNTICO | C30: Viva Barranquilla | D30: 393493 | E30: =D30*13.12% -> 51626.282 | F30: =D30+E30 -> 445119.28 | G30: =F30*0.19 -> 84572.664 | H30: =ROUND(F30+G30,0) -> 529692 | I30: 592000 | J30: =I30*0.19 -> 112480 | K30: =I30+J30 -> 704480 | L30: 799000 | M30: =L30*0.19 -> 151810 | N30: =L30+M30 -> 950810 | O30: =AVERAGE(F30,I30,L30) -> 612039.76 | P30: =ROUND(STDEV(F30,I30,L30),0) -> 177789 | Q30: =O30+P30 -> 789828.76 | R30: =O30-P30 -> 434250.76 | S30: =AVERAGE(F30,I30) -> 518559.64 | T30: =ROUND(S30*19%,0) -> 98526 | U30: =S30+T30 -> 617085.64 | V30: =ROUND(MEDIAN(F30,I30),0) -> 518560 | W30: =ROUND(V30*19%,0) -> 98526 | X30: =V30+W30 -> 617086 | Y30: =ROUND(GEOMEAN(F30,I30),0) -> 513333 | Z30: =ROUND(Y30*19%,0) -> 97533 | AA30: =Y30+Z30 -> 610866 | AB30: =ROUND(HARMEAN(F30,I30),0) -> 508159 | AC30: =ROUND(AB30*19%,0) -> 96550 | AD30: =AB30+AC30 -> 604709
B31: BOLIVAR | C31: Cartagena | D31: 297124 | E31: =D31*13.12% -> 38982.669 | F31: =D31+E31 -> 336106.67 | G31: =F31*0.19 -> 63860.267 | H31: =ROUND(F31+G31,0) -> 399967 | I31: 432000 | J31: =I31*0.19 -> 82080 | K31: =I31+J31 -> 514080 | L31: 799000 | M31: =L31*0.19 -> 151810 | N31: =L31+M31 -> 950810 | O31: =AVERAGE(F31,I31,L31) -> 522368.89 | P31: =ROUND(STDEV(F31,I31,L31),0) -> 244320 | Q31: =O31+P31 -> 766688.89 | R31: =O31-P31 -> 278048.89 | S31: =AVERAGE(F31,I31) -> 384053.33 | T31: =ROUND(S31*19%,0) -> 72970 | U31: =S31+T31 -> 457023.33 | V31: =ROUND(MEDIAN(F31,I31),0) -> 384053 | W31: =ROUND(V31*19%,0) -> 72970 | X31: =V31+W31 -> 457023 | Y31: =ROUND(GEOMEAN(F31,I31),0) -> 381049 | Z31: =ROUND(Y31*19%,0) -> 72399 | AA31: =Y31+Z31 -> 453448 | AB31: =ROUND(HARMEAN(F31,I31),0) -> 378067 | AC31: =ROUND(AB31*19%,0) -> 71833 | AD31: =AB31+AC31 -> 449900
B32: BOLIVAR | C32: Éxito Cartagena | D32: 197573 | E32: =D32*13.12% -> 25921.578 | F32: =D32+E32 -> 223494.58 | G32: =F32*0.19 -> 42463.97 | H32: =ROUND(F32+G32,0) -> 265959 | I32: 400000 | J32: =I32*0.19 -> 76000 | K32: =I32+J32 -> 476000 | L32: 799000 | M32: =L32*0.19 -> 151810 | N32: =L32+M32 -> 950810 | O32: =AVERAGE(F32,I32,L32) -> 474164.86 | P32: =ROUND(STDEV(F32,I32,L32),0) -> 294834 | Q32: =O32+P32 -> 768998.86 | R32: =O32-P32 -> 179330.86 | S32: =AVERAGE(F32,I32) -> 311747.29 | T32: =ROUND(S32*19%,0) -> 59232 | U32: =S32+T32 -> 370979.29 | V32: =ROUND(MEDIAN(F32,I32),0) -> 311747 | W32: =ROUND(V32*19%,0) -> 59232 | X32: =V32+W32 -> 370979 | Y32: =ROUND(GEOMEAN(F32,I32),0) -> 298995 | Z32: =ROUND(Y32*19%,0) -> 56809 | AA32: =Y32+Z32 -> 355804 | AB32: =ROUND(HARMEAN(F32,I32),0) -> 286764 | AC32: =ROUND(AB32*19%,0) -> 54485 | AD32: =AB32+AC32 -> 341249
B33: CESAR | C33: Valledupar | D33: 343446 | E33: =D33*13.12% -> 45060.115 | F33: =D33+E33 -> 388506.12 | G33: =F33*0.19 -> 73816.162 | H33: =ROUND(F33+G33,0) -> 462322 | I33: 512000 | J33: =I33*0.19 -> 97280 | K33: =I33+J33 -> 609280 | L33: 799000 | M33: =L33*0.19 -> 151810 | N33: =L33+M33 -> 950810 | O33: =AVERAGE(F33,I33,L33) -> 566502.04 | P33: =ROUND(STDEV(F33,I33,L33),0) -> 210604 | Q33: =O33+P33 -> 777106.04 | R33: =O33-P33 -> 355898.04 | S33: =AVERAGE(F33,I33) -> 450253.06 | T33: =ROUND(S33*19%,0) -> 85548 | U33: =S33+T33 -> 535801.06 | V33: =ROUND(MEDIAN(F33,I33),0) -> 450253 | W33: =ROUND(V33*19%,0) -> 85548 | X33: =V33+W33 -> 535801 | Y33: =ROUND(GEOMEAN(F33,I33),0) -> 445999 | Z33: =ROUND(Y33*19%,0) -> 84740 | AA33: =Y33+Z33 -> 530739 | AB33: =ROUND(HARMEAN(F33,I33),0) -> 441785 | AC33: =ROUND(AB33*19%,0) -> 83939 | AD33: =AB33+AC33 -> 525724
B34: CÓRDOBA | C34: Montería | D34: 272469 | E34: =D34*13.12% -> 35747.933 | F34: =D34+E34 -> 308216.93 | G34: =F34*0.19 -> 58561.217 | H34: =ROUND(F34+G34,0) -> 366778 | I34: 400000 | J34: =I34*0.19 -> 76000 | K34: =I34+J34 -> 476000 | L34: 799000 | M34: =L34*0.19 -> 151810 | N34: =L34+M34 -> 950810 | O34: =AVERAGE(F34,I34,L34) -> 502405.64 | P34: =ROUND(STDEV(F34,I34,L34),0) -> 260926 | Q34: =O34+P34 -> 763331.64 | R34: =O34-P34 -> 241479.64 | S34: =AVERAGE(F34,I34) -> 354108.47 | T34: =ROUND(S34*19%,0) -> 67281 | U34: =S34+T34 -> 421389.47 | V34: =ROUND(MEDIAN(F34,I34),0) -> 354108 | W34: =ROUND(V34*19%,0) -> 67281 | X34: =V34+W34 -> 421389 | Y34: =ROUND(GEOMEAN(F34,I34),0) -> 351122 | Z34: =ROUND(Y34*19%,0) -> 66713 | AA34: =Y34+Z34 -> 417835 | AB34: =ROUND(HARMEAN(F34,I34),0) -> 348161 | AC34: =ROUND(AB34*19%,0) -> 66151 | AD34: =AB34+AC34 -> 414312
B35: GUAJIRA | C35: Riohacha | D35: 298821 | E35: =D35*13.12% -> 39205.315 | F35: =D35+E35 -> 338026.32 | G35: =F35*0.19 -> 64225 | H35: =ROUND(F35+G35,0) -> 402251 | I35: 432000 | J35: =I35*0.19 -> 82080 | K35: =I35+J35 -> 514080 | L35: 799000 | M35: =L35*0.19 -> 151810 | N35: =L35+M35 -> 950810 | O35: =AVERAGE(F35,I35,L35) -> 523008.77 | P35: =ROUND(STDEV(F35,I35,L35),0) -> 243590 | Q35: =O35+P35 -> 766598.77 | R35: =O35-P35 -> 279418.77 | S35: =AVERAGE(F35,I35) -> 385013.16 | T35: =ROUND(S35*19%,0) -> 73152 | U35: =S35+T35 -> 458165.16 | V35: =ROUND(MEDIAN(F35,I35),0) -> 385013 | W35: =ROUND(V35*19%,0) -> 73152 | X35: =V35+W35 -> 458165 | Y35: =ROUND(GEOMEAN(F35,I35),0) -> 382135 | Z35: =ROUND(Y35*19%,0) -> 72606 | AA35: =Y35+Z35 -> 454741 | AB35: =ROUND(HARMEAN(F35,I35),0) -> 379279 | AC35: =ROUND(AB35*19%,0) -> 72063 | AD35: =AB35+AC35 -> 451342
B36: MAGDALENA | C36: Santa Marta | D36: 379580 | E36: =D36*13.12% -> 49800.896 | F36: =D36+E36 -> 429380.9 | G36: =F36*0.19 -> 81582.37 | H36: =ROUND(F36+G36,0) -> 510963 | I36: 560000 | J36: =I36*0.19 -> 106400 | K36: =I36+J36 -> 666400 | L36: 799000 | M36: =L36*0.19 -> 151810 | N36: =L36+M36 -> 950810 | O36: =AVERAGE(F36,I36,L36) -> 596126.97 | P36: =ROUND(STDEV(F36,I36,L36),0) -> 187439 | Q36: =O36+P36 -> 783565.97 | R36: =O36-P36 -> 408687.97 | S36: =AVERAGE(F36,I36) -> 494690.45 | T36: =ROUND(S36*19%,0) -> 93991 | U36: =S36+T36 -> 588681.45 | V36: =ROUND(MEDIAN(F36,I36),0) -> 494690 | W36: =ROUND(V36*19%,0) -> 93991 | X36: =V36+W36 -> 588681 | Y36: =ROUND(GEOMEAN(F36,I36),0) -> 490360 | Z36: =ROUND(Y36*19%,0) -> 93168 | AA36: =Y36+Z36 -> 583528 | AB36: =ROUND(HARMEAN(F36,I36),0) -> 486068 | AC36: =ROUND(AB36*19%,0) -> 92353 | AD36: =AB36+AC36 -> 578421
B37: SAN ANDRÉS | C37: San Andrés | D37: 224960 | E37: =D37*13.12% -> 29514.752 | F37: =D37+E37 -> 254474.75 | G37: =F37*0.19 -> 48350.203 | H37: =ROUND(F37+G37,0) -> 302825 | I37: 450000 | J37: =I37*0.19 -> 85500 | K37: =I37+J37 -> 535500 | L37: 799000 | M37: =L37*0.19 -> 151810 | N37: =L37+M37 -> 950810 | O37: =AVERAGE(F37,I37,L37) -> 501158.25 | P37: =ROUND(STDEV(F37,I37,L37),0) -> 275844 | Q37: =O37+P37 -> 777002.25 | R37: =O37-P37 -> 225314.25 | S37: =AVERAGE(F37,I37) -> 352237.38 | T37: =ROUND(S37*19%,0) -> 66925 | U37: =S37+T37 -> 419162.38 | V37: =ROUND(MEDIAN(F37,I37),0) -> 352237 | W37: =ROUND(V37*19%,0) -> 66925 | X37: =V37+W37 -> 419162 | Y37: =ROUND(GEOMEAN(F37,I37),0) -> 338399 | Z37: =ROUND(Y37*19%,0) -> 64296 | AA37: =Y37+Z37 -> 402695 | AB37: =ROUND(HARMEAN(F37,I37),0) -> 325104 | AC37: =ROUND(AB37*19%,0) -> 61770 | AD37: =AB37+AC37 -> 386874
B38: SUCRE | C38: Sincelejo | D38: 272397 | E38: =D38*13.12% -> 35738.486 | F38: =D38+E38 -> 308135.49 | G38: =F38*0.19 -> 58545.742 | H38: =ROUND(F38+G38,0) -> 366681 | I38: 400000 | J38: =I38*0.19 -> 76000 | K38: =I38+J38 -> 476000 | L38: 799000 | M38: =L38*0.19 -> 151810 | N38: =L38+M38 -> 950810 | O38: =AVERAGE(F38,I38,L38) -> 502378.5 | P38: =ROUND(STDEV(F38,I38,L38),0) -> 260956 | Q38: =O38+P38 -> 763334.5 | R38: =O38-P38 -> 241422.5 | S38: =AVERAGE(F38,I38) -> 354067.74 | T38: =ROUND(S38*19%,0) -> 67273 | U38: =S38+T38 -> 421340.74 | V38: =ROUND(MEDIAN(F38,I38),0) -> 354068 | W38: =ROUND(V38*19%,0) -> 67273 | X38: =V38+W38 -> 421341 | Y38: =ROUND(GEOMEAN(F38,I38),0) -> 351076 | Z38: =ROUND(Y38*19%,0) -> 66704 | AA38: =Y38+Z38 -> 417780 | AB38: =ROUND(HARMEAN(F38,I38),0) -> 348109 | AC38: =ROUND(AB38*19%,0) -> 66141 | AD38: =AB38+AC38 -> 414250
A39: SANTANDERES | B39: NORTE DE SANTADER | C39: Cúcuta | D39: 344160 | E39: =D39*13.12% -> 45153.792 | F39: =D39+E39 -> 389313.79 | G39: =F39*0.19 -> 73969.62 | H39: =ROUND(F39+G39,0) -> 463283 | I39: 544000 | J39: =I39*0.19 -> 103360 | K39: =I39+J39 -> 647360 | L39: 799000 | M39: =L39*0.19 -> 151810 | N39: =L39+M39 -> 950810 | O39: =AVERAGE(F39,I39,L39) -> 577437.93 | P39: =ROUND(STDEV(F39,I39,L39),0) -> 206880 | Q39: =O39+P39 -> 784317.93 | R39: =O39-P39 -> 370557.93 | S39: =AVERAGE(F39,I39) -> 466656.9 | T39: =ROUND(S39*19%,0) -> 88665 | U39: =S39+T39 -> 555321.9 | V39: =ROUND(MEDIAN(F39,I39),0) -> 466657 | W39: =ROUND(V39*19%,0) -> 88665 | X39: =V39+W39 -> 555322 | Y39: =ROUND(GEOMEAN(F39,I39),0) -> 460203 | Z39: =ROUND(Y39*19%,0) -> 87439 | AA39: =Y39+Z39 -> 547642 | AB39: =ROUND(HARMEAN(F39,I39),0) -> 453838 | AC39: =ROUND(AB39*19%,0) -> 86229 | AD39: =AB39+AC39 -> 540067
B40: SANTANDER | C40: Bucaramanga | D40: 397074 | E40: =D40*13.12% -> 52096.109 | F40: =D40+E40 -> 449170.11 | G40: =F40*0.19 -> 85342.321 | H40: =ROUND(F40+G40,0) -> 534512 | I40: 592000 | J40: =I40*0.19 -> 112480 | K40: =I40+J40 -> 704480 | L40: 799000 | M40: =L40*0.19 -> 151810 | N40: =L40+M40 -> 950810 | O40: =AVERAGE(F40,I40,L40) -> 613390.04 | P40: =ROUND(STDEV(F40,I40,L40),0) -> 175893 | Q40: =O40+P40 -> 789283.04 | R40: =O40-P40 -> 437497.04 | S40: =AVERAGE(F40,I40) -> 520585.05 | T40: =ROUND(S40*19%,0) -> 98911 | U40: =S40+T40 -> 619496.05 | V40: =ROUND(MEDIAN(F40,I40),0) -> 520585 | W40: =ROUND(V40*19%,0) -> 98911 | X40: =V40+W40 -> 619496 | Y40: =ROUND(GEOMEAN(F40,I40),0) -> 515663 | Z40: =ROUND(Y40*19%,0) -> 97976 | AA40: =Y40+Z40 -> 613639 | AB40: =ROUND(HARMEAN(F40,I40),0) -> 510788 | AC40: =ROUND(AB40*19%,0) -> 97050 | AD40: =AB40+AC40 -> 607838
B41: SANTANDER | C41: Piedecuesta | D41: 227609 | E41: =D41*13.12% -> 29862.301 | F41: =D41+E41 -> 257471.3 | G41: =F41*0.19 -> 48919.547 | H41: =ROUND(F41+G41,0) -> 306391 | I41: 480000 | J41: =I41*0.19 -> 91200 | K41: =I41+J41 -> 571200 | L41: 799000 | M41: =L41*0.19 -> 151810 | N41: =L41+M41 -> 950810 | O41: =AVERAGE(F41,I41,L41) -> 512157.1 | P41: =ROUND(STDEV(F41,I41,L41),0) -> 272193 | Q41: =O41+P41 -> 784350.1 | R41: =O41-P41 -> 239964.1 | S41: =AVERAGE(F41,I41) -> 368735.65 | T41: =ROUND(S41*19%,0) -> 70060 | U41: =S41+T41 -> 438795.65 | V41: =ROUND(MEDIAN(F41,I41),0) -> 368736 | W41: =ROUND(V41*19%,0) -> 70060 | X41: =V41+W41 -> 438796 | Y41: =ROUND(GEOMEAN(F41,I41),0) -> 351548 | Z41: =ROUND(Y41*19%,0) -> 66794 | AA41: =Y41+Z41 -> 418342 | AB41: =ROUND(HARMEAN(F41,I41),0) -> 335162 | AC41: =ROUND(AB41*19%,0) -> 63681 | AD41: =AB41+AC41 -> 398843
B42: SANTANDER | C42: Viva Barrancabermeja | D42: 195193 | E42: =D42*13.12% -> 25609.322 | F42: =D42+E42 -> 220802.32 | G42: =F42*0.19 -> 41952.441 | H42: =ROUND(F42+G42,0) -> 262755 | I42: 480000 | J42: =I42*0.19 -> 91200 | K42: =I42+J42 -> 571200 | L42: 799000 | M42: =L42*0.19 -> 151810 | N42: =L42+M42 -> 950810 | O42: =AVERAGE(F42,I42,L42) -> 499934.11 | P42: =ROUND(STDEV(F42,I42,L42),0) -> 289614 | Q42: =O42+P42 -> 789548.11 | R42: =O42-P42 -> 210320.11 | S42: =AVERAGE(F42,I42) -> 350401.16 | T42: =ROUND(S42*19%,0) -> 66576 | U42: =S42+T42 -> 416977.16 | V42: =ROUND(MEDIAN(F42,I42),0) -> 350401 | W42: =ROUND(V42*19%,0) -> 66576 | X42: =V42+W42 -> 416977 | Y42: =ROUND(GEOMEAN(F42,I42),0) -> 325554 | Z42: =ROUND(Y42*19%,0) -> 61855 | AA42: =Y42+Z42 -> 387409 | AB42: =ROUND(HARMEAN(F42,I42),0) -> 302468 | AC42: =ROUND(AB42*19%,0) -> 57469 | AD42: =AB42+AC42 -> 359937
...

Sheet DESINFECCION DE AMBIENTE
A2: ANEXO NO. 2 - SERVICIOS REQUERIDOS
A3: SERVICIO DE DESINFECCION DE AMBIENTE
A5: REGIONALES | B5: DEPARTAMENTOS | C5: PUNTOS DE ATENCIÓN | D5: INDEXACIÓN FNA-VGHA-CD-050-2022 | I5: COTIZACIÓN 1 | L5: COTIZACIÓN 2 | O5: MEDIDA TENDENCIA: DESVIACIONES | S5: MEDIDA DE TENDENCIA: PROMEDIO | V5: MEDIDA DE TENDENCIA: MEDIANA | Y5: MEDIDA DE TENDENCIA: MEDIA GEOMETRICA | AB5: MEDIDA DE TENDENCIA: MEDIA ARMONICA
D6: VALOR UNITARIO | E6: IPC | F6: VALOR UNITARIO | G6: IVA (19%) | H6: TOTAL | I6: VALOR UNITARIO | J6: IVA (19%) | K6: TOTAL | L6: VALOR UNITARIO | M6: IVA (19%) | N6: TOTAL | O6: PROMEDIO | P6: DESVEST | Q6: MAX | R6: MIN | S6: VALOR UNITARIO | T6: VALOR DEL IVA 19% | U6: VALOR TOTAL | V6: VALOR UNITARIO | W6: VALOR DEL IVA 19% | X6: VALOR TOTAL | Y6: VALOR UNITARIO | Z6: VALOR DEL IVA 19% | AA6: VALOR TOTAL | AB6: VALOR UNITARIO | AC6: VALOR DEL IVA 19% | AD6: VALOR TOTAL
A7: BOGOTA CENTRO ZONA 1 | B7: BOGOTÁ D.C. | C7: CNA | D7: 951940 | E7: =D7*13.12% -> 124894.53 | F7: =D7+E7 -> 1076834.5 | G7: =F7*0.19 -> 204598.56 | H7: =G7+F7 -> 1281433.1 | I7: 1110000 | J7: =I7*0.19 -> 210900 | K7: =I7+J7 -> 1320900 | L7: 470000 | M7: =L7*0.19 -> 89300 | N7: =L7+M7 -> 559300 | O7: =ROUND(AVERAGE(F7,I7,L7),0) -> 885612 | P7: =ROUND(STDEV(F7,I7,L7),0) -> 360312 | Q7: =O7+P7 -> 1245924 | R7: =O7-P7 -> 525300 | S7: =ROUND(AVERAGE(F7,I7),0) -> 1093417 | T7: =ROUND(S7*19%,0) -> 207749 | U7: =S7+T7 -> 1301166 | V7: =ROUND(MEDIAN(F7,I7),0) -> 1093417 | W7: =ROUND(V7*19%,0) -> 207749 | X7: =V7+W7 -> 1301166 | Y7: =ROUND(GEOMEAN(F7,I7),0) -> 1093292 | Z7: =ROUND(Y7*19%,0) -> 207725 | AA7: =Y7+Z7 -> 1301017 | AB7: =ROUND(HARMEAN(F7,I7),0) -> 1093166 | AC7: =ROUND(AB7*19%,0) -> 207702 | AD7: =AB7+AC7 -> 1300868
B8: BOGOTÁ D.C. | C8: CAFAM | D8: 213740 | E8: =D8*13.12% -> 28042.688 | F8: =D8+E8 -> 241782.69 | G8: =F8*0.19 -> 45938.711 | H8: =G8+F8 -> 287721.4 | I8: 294000 | J8: =I8*0.19 -> 55860 | K8: =I8+J8 -> 349860 | L8: 282000 | M8: =L8*0.19 -> 53580 | N8: =L8+M8 -> 335580 | O8: =ROUND(AVERAGE(F8,I8,L8),0) -> 272594 | P8: =ROUND(STDEV(F8,I8,L8),0) -> 27350 | Q8: =O8+P8 -> 299944 | R8: =O8-P8 -> 245244 | S8: =ROUND(AVERAGE(I8,L8),0) -> 288000 | T8: =ROUND(S8*19%,0) -> 54720 | U8: =S8+T8 -> 342720 | V8: =ROUND(MEDIAN(I8,L8),0) -> 288000 | W8: =ROUND(V8*19%,0) -> 54720 | X8: =V8+W8 -> 342720 | Y8: =ROUND(GEOMEAN(I8,L8),0) -> 287937 | Z8: =ROUND(Y8*19%,0) -> 54708 | AA8: =Y8+Z8 -> 342645 | AB8: =ROUND(HARMEAN(I8,L8),0) -> 287875 | AC8: =ROUND(AB8*19%,0) -> 54696 | AD8: =AB8+AC8 -> 342571
B9: BOGOTÁ D.C. | C9: Suba | D9: 356316 | E9: =D9*13.12% -> 46748.659 | F9: =D9+E9 -> 403064.66 | G9: =F9*0.19 -> 76582.285 | H9: =G9+F9 -> 479646.94 | I9: 518000 | J9: =I9*0.19 -> 98420 | K9: =I9+J9 -> 616420 | L9: 357200 | M9: =L9*0.19 -> 67868 | N9: =L9+M9 -> 425068 | O9: =ROUND(AVERAGE(F9,I9,L9),0) -> 426088 | P9: =ROUND(STDEV(F9,I9,L9),0) -> 82836 | Q9: =O9+P9 -> 508924 | R9: =O9-P9 -> 343252 | S9: =ROUND(AVERAGE(F9,L9),0) -> 380132 | T9: =ROUND(S9*19%,0) -> 72225 | U9: =S9+T9 -> 452357 | V9: =ROUND(MEDIAN(F9,L9),0) -> 380132 | W9: =ROUND(V9*19%,0) -> 72225 | X9: =V9+W9 -> 452357 | Y9: =ROUND(GEOMEAN(F9,L9),0) -> 379440 | Z9: =ROUND(Y9*19%,0) -> 72094 | AA9: =Y9+Z9 -> 451534 | AB9: =ROUND(HARMEAN(F9,L9),0) -> 378749 | AC9: =ROUND(AB9*19%,0) -> 71962 | AD9: =AB9+AC9 -> 450711
B10: BOYACA | C10: Tunja | D10: 279185 | E10: =D10*13.12% -> 36629.072 | F10: =D10+E10 -> 315814.07 | G10: =F10*0.19 -> 60004.674 | H10: =G10+F10 -> 375818.75 | I10: 422000 | J10: =I10*0.19 -> 80180 | K10: =I10+J10 -> 502180 | L10: 799000 | M10: =L10*0.19 -> 151810 | N10: =L10+M10 -> 950810 | O10: =ROUND(AVERAGE(F10,I10,L10),0) -> 512271 | P10: =ROUND(STDEV(F10,I10,L10),0) -> 253927 | Q10: =O10+P10 -> 766198 | R10: =O10-P10 -> 258344 | S10: =ROUND(AVERAGE(F10,I10),0) -> 368907 | T10: =ROUND(S10*19%,0) -> 70092 | U10: =S10+T10 -> 438999 | V10: =ROUND(MEDIAN(F10,I10),0) -> 368907 | W10: =ROUND(V10*19%,0) -> 70092 | X10: =V10+W10 -> 438999 | Y10: =ROUND(GEOMEAN(F10,I10),0) -> 365066 | Z10: =ROUND(Y10*19%,0) -> 69363 | AA10: =Y10+Z10 -> 434429 | AB10: =ROUND(HARMEAN(F10,I10),0) -> 361266 | AC10: =ROUND(AB10*19%,0) -> 68641 | AD10: =AB10+AC10 -> 429907
B11: CUNDINAMARCA | C11: Chía | D11: 142725 | E11: =D11*13.12% -> 18725.52 | F11: =D11+E11 -> 161450.52 | G11: =F11*0.19 -> 30675.599 | H11: =G11+F11 -> 192126.12 | I11: 214000 | J11: =I11*0.19 -> 40660 | K11: =I11+J11 -> 254660 | L11: 376000 | M11: =L11*0.19 -> 71440 | N11: =L11+M11 -> 447440 | O11: =ROUND(AVERAGE(F11,I11,L11),0) -> 250484 | P11: =ROUND(STDEV(F11,I11,L11),0) -> 111831 | Q11: =O11+P11 -> 362315 | R11: =O11-P11 -> 138653 | S11: =ROUND(AVERAGE(F11,I11),0) -> 187725 | T11: =ROUND(S11*19%,0) -> 35668 | U11: =S11+T11 -> 223393 | V11: =ROUND(MEDIAN(F11,I11),0) -> 187725 | W11: =ROUND(V11*19%,0) -> 35668 | X11: =V11+W11 -> 223393 | Y11: =ROUND(GEOMEAN(F11,I11),0) -> 185877 | Z11: =ROUND(Y11*19%,0) -> 35317 | AA11: =Y11+Z11 -> 221194 | AB11: =ROUND(HARMEAN(F11,I11),0) -> 184048 | AC11: =ROUND(AB11*19%,0) -> 34969 | AD11: =AB11+AC11 -> 219017
B12: CUNDINAMARCA | C12: Girardot | D12: 265005 | E12: =D12*13.12% -> 34768.656 | F12: =D12+E12 -> 299773.66 | G12: =F12*0.19 -> 56956.995 | H12: =G12+F12 -> 356730.65 | I12: 390000 | J12: =I12*0.19 -> 74100 | K12: =I12+J12 -> 464100 | L12: 376000 | M12: =L12*0.19 -> 71440 | N12: =L12+M12 -> 447440 | O12: =ROUND(AVERAGE(F12,I12,L12),0) -> 355258 | P12: =ROUND(STDEV(F12,I12,L12),0) -> 48558 | Q12: =O12+P12 -> 403816 | R12: =O12-P12 -> 306700 | S12: =ROUND(AVERAGE(I12,L12),0) -> 383000 | T12: =ROUND(S12*19%,0) -> 72770 | U12: =S12+T12 -> 455770 | V12: =ROUND(MEDIAN(I12,L12),0) -> 383000 | W12: =ROUND(V12*19%,0) -> 72770 | X12: =V12+W12 -> 455770 | Y12: =ROUND(GEOMEAN(I12,L12),0) -> 382936 | Z12: =ROUND(Y12*19%,0) -> 72758 | AA12: =Y12+Z12 -> 455694 | AB12: =ROUND(HARMEAN(I12,L12),0) -> 382872 | AC12: =ROUND(AB12*19%,0) -> 72746 | AD12: =AB12+AC12 -> 455618
B13: CUNDINAMARCA | C13: Zipaquirá | D13: 159550 | E13: =D13*13.12% -> 20932.96 | F13: =D13+E13 -> 180482.96 | G13: =F13*0.19 -> 34291.762 | H13: =G13+F13 -> 214774.72 | I13: 262000 | J13: =I13*0.19 -> 49780 | K13: =I13+J13 -> 311780 | L13: 376000 | M13: =L13*0.19 -> 71440 | N13: =L13+M13 -> 447440 | O13: =ROUND(AVERAGE(F13,I13,L13),0) -> 272828 | P13: =ROUND(STDEV(F13,I13,L13),0) -> 98207 | Q13: =O13+P13 -> 371035 | R13: =O13-P13 -> 174621 | S13: =ROUND(AVERAGE(F13,I13),0) -> 221241 | T13: =ROUND(S13*19%,0) -> 42036 | U13: =S13+T13 -> 263277 | V13: =ROUND(MEDIAN(F13,I13),0) -> 221241 | W13: =ROUND(V13*19%,0) -> 42036 | X13: =V13+W13 -> 263277 | Y13: =ROUND(GEOMEAN(F13,I13),0) -> 217455 | Z13: =ROUND(Y13*19%,0) -> 41316 | AA13: =Y13+Z13 -> 258771 | AB13: =ROUND(HARMEAN(F13,I13),0) -> 213733 | AC13: =ROUND(AB13*19%,0) -> 40609 | AD13: =AB13+AC13 -> 254342
A14: BOGOTA CENTRO ZONA 2 | B14: BOGOTÁ D.C. | C14: Ángel | D14: 519348 | E14: =D14*13.12% -> 68138.458 | F14: =D14+E14 -> 587486.46 | G14: =F14*0.19 -> 111622.43 | H14: =G14+F14 -> 699108.88 | I14: 614000 | J14: =I14*0.19 -> 116660 | K14: =I14+J14 -> 730660 | L14: 282000 | M14: =L14*0.19 -> 53580 | N14: =L14+M14 -> 335580 | O14: =ROUND(AVERAGE(F14,I14,L14),0) -> 494495 | P14: =ROUND(STDEV(F14,I14,L14),0) -> 184503 | Q14: =O14+P14 -> 678998 | R14: =O14-P14 -> 309992 | S14: =ROUND(AVERAGE(F14,I14),0) -> 600743 | T14: =ROUND(S14*19%,0) -> 114141 | U14: =S14+T14 -> 714884 | V14: =ROUND(MEDIAN(F14,I14),0) -> 600743 | W14: =ROUND(V14*19%,0) -> 114141 | X14: =V14+W14 -> 714884 | Y14: =ROUND(GEOMEAN(F14,I14),0) -> 600597 | Z14: =ROUND(Y14*19%,0) -> 114113 | AA14: =Y14+Z14 -> 714710 | AB14: =ROUND(HARMEAN(F14,I14),0) -> 600451 | AC14: =ROUND(AB14*19%,0) -> 114086 | AD14: =AB14+AC14 -> 714537
B15: BOGOTA D.C | C15: CAN | D15: 283135 | E15: =D15*13.12% -> 37147.312 | F15: =D15+E15 -> 320282.31 | G15: =F15*0.19 -> 60853.639 | H15: =G15+F15 -> 381135.95 | I15: 422000 | J15: =I15*0.19 -> 80180 | K15: =I15+J15 -> 502180 | L15: 282000 | M15: =L15*0.19 -> 53580 | N15: =L15+M15 -> 335580 | O15: =ROUND(AVERAGE(F15,I15,L15),0) -> 341427 | P15: =ROUND(STDEV(F15,I15,L15),0) -> 72356 | Q15: =O15+P15 -> 413783 | R15: =O15-P15 -> 269071 | S15: =ROUND(AVERAGE(F15,L15),0) -> 301141 | T15: =ROUND(S15*19%,0) -> 57217 | U15: =S15+T15 -> 358358 | V15: =ROUND(MEDIAN(F15,L15),0) -> 301141 | W15: =ROUND(V15*19%,0) -> 57217 | X15: =V15+W15 -> 358358 | Y15: =ROUND(GEOMEAN(F15,L15),0) -> 300532 | Z15: =ROUND(Y15*19%,0) -> 57101 | AA15: =Y15+Z15 -> 357633 | AB15: =ROUND(HARMEAN(F15,L15),0) -> 299925 | AC15: =ROUND(AB15*19%,0) -> 56986 | AD15: =AB15+AC15 -> 356911
B16: BOGOTA D.C | C16: Paseo Villa del Rio | D16: 181020 | E16: =D16*13.12% -> 23749.824 | F16: =D16+E16 -> 204769.82 | G16: =F16*0.19 -> 38906.267 | H16: =G16+F16 -> 243676.09 | I16: 262000 | J16: =I16*0.19 -> 49780 | K16: =I16+J16 -> 311780 | L16: 282000 | M16: =L16*0.19 -> 53580 | N16: =L16+M16 -> 335580 | O16: =ROUND(AVERAGE(F16,I16,L16),0) -> 249590 | P16: =ROUND(STDEV(F16,I16,L16),0) -> 40083 | Q16: =O16+P16 -> 289673 | R16: =O16-P16 -> 209507 | S16: =ROUND(AVERAGE(I16,L16),0) -> 272000 | T16: =ROUND(S16*19%,0) -> 51680 | U16: =S16+T16 -> 323680 | V16: =ROUND(MEDIAN(I16,L16),0) -> 272000 | W16: =ROUND(V16*19%,0) -> 51680 | X16: =V16+W16 -> 323680 | Y16: =ROUND(GEOMEAN(I16,L16),0) -> 271816 | Z16: =ROUND(Y16*19%,0) -> 51645 | AA16: =Y16+Z16 -> 323461 | AB16: =ROUND(HARMEAN(I16,L16),0) -> 271632 | AC16: =ROUND(AB16*19%,0) -> 51610 | AD16: =AB16+AC16 -> 323242
B17: CUNDINAMARCA | C17: Soacha | D17: 287224 | E17: =D17*13.12% -> 37683.789 | F17: =D17+E17 -> 324907.79 | G17: =F17*0.19 -> 61732.48 | H17: =G17+F17 -> 386640.27 | I17: 406000 | J17: =I17*0.19 -> 77140 | K17: =I17+J17 -> 483140 | L17: 329000 | M17: =L17*0.19 -> 62510 | N17: =L17+M17 -> 391510 | O17: =ROUND(AVERAGE(F17,I17,L17),0) -> 353303 | P17: =ROUND(STDEV(F17,I17,L17),0) -> 45683 | Q17: =O17+P17 -> 398986 | R17: =O17-P17 -> 307620 | S17: =ROUND(AVERAGE(I17,L17),0) -> 367500 | T17: =ROUND(S17*19%,0) -> 69825 | U17: =S17+T17 -> 437325 | V17: =ROUND(MEDIAN(F17,L17),0) -> 326954 | W17: =ROUND(V17*19%,0) -> 62121 | X17: =V17+W17 -> 389075 | Y17: =ROUND(GEOMEAN(F17,L17),0) -> 326947 | Z17: =ROUND(Y17*19%,0) -> 62120 | AA17: =Y17+Z17 -> 389067 | AB17: =ROUND(HARMEAN(F17,L17),0) -> 326941 | AC17: =ROUND(AB17*19%,0) -> 62119 | AD17: =AB17+AC17 -> 389060
B18: HUILA | C18: Neiva | D18: 317908 | E18: =D18*13.12% -> 41709.53 | F18: =D18+E18 -> 359617.53 | G18: =F18*0.19 -> 68327.331 | H18: =G18+F18 -> 427944.86 | I18: 454000 | J18: =I18*0.19 -> 86260 | K18: =I18+J18 -> 540260 | L18: 799000 | M18: =L18*0.19 -> 151810 | N18: =L18+M18 -> 950810 | O18: =ROUND(AVERAGE(F18,I18,L18),0) -> 537539 | P18: =ROUND(STDEV(F18,I18,L18),0) -> 231297 | Q18: =O18+P18 -> 768836 | R18: =O18-P18 -> 306242 | S18: =ROUND(AVERAGE(F18,I18),0) -> 406809 | T18: =ROUND(S18*19%,0) -> 77294 | U18: =S18+T18 -> 484103 | V18: =ROUND(MEDIAN(F18,I18),0) -> 406809 | W18: =ROUND(V18*19%,0) -> 77294 | X18: =V18+W18 -> 484103 | Y18: =ROUND(GEOMEAN(F18,I18),0) -> 404062 | Z18: =ROUND(Y18*19%,0) -> 76772 | AA18: =Y18+Z18 -> 480834 | AB18: =ROUND(HARMEAN(F18,I18),0) -> 401334 | AC18: =ROUND(AB18*19%,0) -> 76253 | AD18: =AB18+AC18 -> 477587
B19: TOLIMA | C19: Espinal | E19: =D19*13.12% -> 0 | F19: 0 | G19: =F19*0.19 -> 0 | H19: =G19+F19 -> 0 | I19: 313000 | J19: =I19*0.19 -> 59470 | K19: =I19+J19 -> 372470 | L19: 799000 | M19: =L19*0.19 -> 151810 | N19: =L19+M19 -> 950810 | O19: =ROUND(AVERAGE(I19,L19),0) -> 556000 | P19: =ROUND(STDEV(F19,I19,L19),0) -> 402609 | Q19: =O19+P19 -> 958609 | R19: =O19-P19 -> 153391 | S19: =ROUND(AVERAGE(I19,L19),0) -> 556000 | T19: =ROUND(S19*19%,0) -> 105640 | U19: =S19+T19 -> 661640 | V19: =ROUND(MEDIAN(I19,L19),0) -> 556000 | W19: =ROUND(V19*19%,0) -> 105640 | X19: =V19+W19 -> 661640 | Y19: =ROUND(GEOMEAN(I19,L19),0) -> 500087 | Z19: =ROUND(Y19*19%,0) -> 95017 | AA19: =Y19+Z19 -> 595104 | AB19: =ROUND(HARMEAN(I19,L19),0) -> 449797 | AC19: =ROUND(AB19*19%,0) -> 85461 | AD19: =AB19+AC19 -> 535258
B20: TOLIMA | C20: Ibagué | D20: 320887 | E20: =D20*13.12% -> 42100.374 | F20: =D20+E20 -> 362987.37 | G20: =F20*0.19 -> 68967.601 | H20: =G20+F20 -> 431954.98 | I20: 454000 | J20: =I20*0.19 -> 86260 | K20: =I20+J20 -> 540260 | L20: 799000 | M20: =L20*0.19 -> 151810 | N20: =L20+M20 -> 950810 | O20: =ROUND(AVERAGE(F20,I20,L20),0) -> 538662 | P20: =ROUND(STDEV(F20,I20,L20),0) -> 230006 | Q20: =O20+P20 -> 768668 | R20: =O20-P20 -> 308656 | S20: =ROUND(AVERAGE(F20,I20),0) -> 408494 | T20: =ROUND(S20*19%,0) -> 77614 | U20: =S20+T20 -> 486108 | V20: =ROUND(MEDIAN(F20,I20),0) -> 408494 | W20: =ROUND(V20*19%,0) -> 77614 | X20: =V20+W20 -> 486108 | Y20: =ROUND(GEOMEAN(F20,I20),0) -> 405951 | Z20: =ROUND(Y20*19%,0) -> 77131 | AA20: =Y20+Z20 -> 483082 | AB20: =ROUND(HARMEAN(F20,I20),0) -> 403424 | AC20: =ROUND(AB20*19%,0) -> 76651 | AD20: =AB20+AC20 -> 480075
A21: ANTIOQUIA - EJE CAFETERO | B21: ANTIOQUIA | C21: Apartado | D21: 239390 | E21: =D21*13.12% -> 31407.968 | F21: =D21+E21 -> 270797.97 | G21: =F21*0.19 -> 51451.614 | H21: =G21+F21 -> 322249.58 | I21: 470000 | J21: =I21*0.19 -> 89300 | K21: =I21+J21 -> 559300 | L21: 799000 | M21: =L21*0.19 -> 151810 | N21: =L21+M21 -> 950810 | O21: =ROUND(AVERAGE(F21,I21,L21),0) -> 513266 | P21: =ROUND(STDEV(F21,I21,L21),0) -> 266746 | Q21: =O21+P21 -> 780012 | R21: =O21-P21 -> 246520 | S21: =ROUND(AVERAGE(F21,I21),0) -> 370399 | T21: =ROUND(S21*19%,0) -> 70376 | U21: =S21+T21 -> 440775 | V21: =ROUND(MEDIAN(F21,I21),0) -> 370399 | W21: =ROUND(V21*19%,0) -> 70376 | X21: =V21+W21 -> 440775 | Y21: =ROUND(GEOMEAN(F21,I21),0) -> 356756 | Z21: =ROUND(Y21*19%,0) -> 67784 | AA21: =Y21+Z21 -> 424540 | AB21: =ROUND(HARMEAN(F21,I21),0) -> 343616 | AC21: =ROUND(AB21*19%,0) -> 65287 | AD21: =AB21+AC21 -> 408903
B22: ANTIOQUIA | C22: Mayorca | D22: 189450 | E22: =D22*13.12% -> 24855.84 | F22: =D22+E22 -> 214305.84 | G22: =F22*0.19 -> 40718.11 | H22: =G22+F22 -> 255023.95 | I22: 262000 | J22: =I22*0.19 -> 49780 | K22: =I22+J22 -> 311780 | L22: 799000 | M22: =L22*0.19 -> 151810 | N22: =L22+M22 -> 950810 | O22: =ROUND(AVERAGE(F22,I22,L22),0) -> 425102 | P22: =ROUND(STDEV(F22,I22,L22),0) -> 324682 | Q22: =O22+P22 -> 749784 | R22: =O22-P22 -> 100420 | S22: =ROUND(AVERAGE(F22,I22),0) -> 238153 | T22: =ROUND(S22*19%,0) -> 45249 | U22: =S22+T22 -> 283402 | V22: =ROUND(MEDIAN(F22,I22),0) -> 238153 | W22: =ROUND(V22*19%,0) -> 45249 | X22: =V22+W22 -> 283402 | Y22: =ROUND(GEOMEAN(F22,I22),0) -> 236956 | Z22: =ROUND(Y22*19%,0) -> 45022 | AA22: =Y22+Z22 -> 281978 | AB22: =ROUND(HARMEAN(F22,I22),0) -> 235765 | AC22: =ROUND(AB22*19%,0) -> 44795 | AD22: =AB22+AC22 -> 280560
B23: ANTIOQUIA | C23: Medellín | D23: 394127 | E23: =D23*13.12% -> 51709.462 | F23: =D23+E23 -> 445836.46 | G23: =F23*0.19 -> 84708.928 | H23: =G23+F23 -> 530545.39 | I23: 550000 | J23: =I23*0.19 -> 104500 | K23: =I23+J23 -> 654500 | L23: 799000 | M23: =L23*0.19 -> 151810 | N23: =L23+M23 -> 950810 | O23: =ROUND(AVERAGE(F23,I23,L23),0) -> 598279 | P23: =ROUND(STDEV(F23,I23,L23),0) -> 181464 | Q23: =O23+P23 -> 779743 | R23: =O23-P23 -> 416815 | S23: =ROUND(AVERAGE(F23,I23),0) -> 497918 | T23: =ROUND(S23*19%,0) -> 94604 | U23: =S23+T23 -> 592522 | V23: =ROUND(MEDIAN(F23,I23),0) -> 497918 | W23: =ROUND(V23*19%,0) -> 94604 | X23: =V23+W23 -> 592522 | Y23: =ROUND(GEOMEAN(F23,I23),0) -> 495187 | Z23: =ROUND(Y23*19%,0) -> 94086 | AA23: =Y23+Z23 -> 589273 | AB23: =ROUND(HARMEAN(F23,I23),0) -> 492471 | AC23: =ROUND(AB23*19%,0) -> 93569 | AD23: =AB23+AC23 -> 586040
B24: ANTIOQUIA | C24: Rio Negro | D24: 168308 | E24: =D24*13.12% -> 22082.01 | F24: =D24+E24 -> 190390.01 | G24: =F24*0.19 -> 36174.102 | H24: =G24+F24 -> 226564.11 | I24: 390000 | J24: =I24*0.19 -> 74100 | K24: =I24+J24 -> 464100 | L24: 799000 | M24: =L24*0.19 -> 151810 | N24: =L24+M24 -> 950810 | O24: =ROUND(AVERAGE(F24,I24,L24),0) -> 459797 | P24: =ROUND(STDEV(F24,I24,L24),0) -> 310250 | Q24: =O24+P24 -> 770047 | R24: =O24-P24 -> 149547 | S24: =ROUND(AVERAGE(F24,I24),0) -> 290195 | T24: =ROUND(S24*19%,0) -> 55137 | U24: =S24+T24 -> 345332 | V24: =ROUND(MEDIAN(F24,I24),0) -> 290195 | W24: =ROUND(V24*19%,0) -> 55137 | X24: =V24+W24 -> 345332 | Y24: =ROUND(GEOMEAN(F24,I24),0) -> 272492 | Z24: =ROUND(Y24*19%,0) -> 51773 | AA24: =Y24+Z24 -> 324265 | AB24: =ROUND(HARMEAN(F24,I24),0) -> 255870 | AC24: =ROUND(AB24*19%,0) -> 48615 | AD24: =AB24+AC24 -> 304485
B25: CALDAS | C25: La Dorada | D25: 211083 | E25: =D25*13.12% -> 27694.09 | F25: =D25+E25 -> 238777.09 | G25: =F25*0.19 -> 45367.647 | H25: =G25+F25 -> 284144.74 | I25: 310000 | J25: =I25*0.19 -> 58900 | K25: =I25+J25 -> 368900 | L25: 799000 | M25: =L25*0.19 -> 151810 | N25: =L25+M25 -> 950810 | O25: =ROUND(AVERAGE(F25,I25,L25),0) -> 449259 | P25: =ROUND(STDEV(F25,I25,L25),0) -> 304971 | Q25: =O25+P25 -> 754230 | R25: =O25-P25 -> 144288 | S25: =ROUND(AVERAGE(F25,I25),0) -> 274389 | T25: =ROUND(S25*19%,0) -> 52134 | U25: =S25+T25 -> 326523 | V25: =ROUND(MEDIAN(F25,I25),0) -> 274389 | W25: =ROUND(V25*19%,0) -> 52134 | X25: =V25+W25 -> 326523 | Y25: =ROUND(GEOMEAN(F25,I25),0) -> 272068 | Z25: =ROUND(Y25*19%,0) -> 51693 | AA25: =Y25+Z25 -> 323761 | AB25: =ROUND(HARMEAN(F25,I25),0) -> 269767 | AC25: =ROUND(AB25*19%,0) -> 51256 | AD25: =AB25+AC25 -> 321023
B26: CALDAS | C26: Manizales | D26: 315119 | E26: =D26*13.12% -> 41343.613 | F26: =D26+E26 -> 356462.61 | G26: =F26*0.19 -> 67727.896 | H26: =G26+F26 -> 424190.51 | I26: 454000 | J26: =I26*0.19 -> 86260 | K26: =I26+J26 -> 540260 | L26: 799000 | M26: =L26*0.19 -> 151810 | N26: =L26+M26 -> 950810 | O26: =ROUND(AVERAGE(F26,I26,L26),0) -> 536488 | P26: =ROUND(STDEV(F26,I26,L26),0) -> 232514 | Q26: =O26+P26 -> 769002 | R26: =O26-P26 -> 303974 | S26: =ROUND(AVERAGE(F26,I26),0) -> 405231 | T26: =ROUND(S26*19%,0) -> 76994 | U26: =S26+T26 -> 482225 | V26: =ROUND(MEDIAN(F26,I26),0) -> 405231 | W26: =ROUND(V26*19%,0) -> 76994 | X26: =V26+W26 -> 482225 | Y26: =ROUND(GEOMEAN(F26,I26),0) -> 402286 | Z26: =ROUND(Y26*19%,0) -> 76434 | AA26: =Y26+Z26 -> 478720 | AB26: =ROUND(HARMEAN(F26,I26),0) -> 399362 | AC26: =ROUND(AB26*19%,0) -> 75879 | AD26: =AB26+AC26 -> 475241
B27: QUINDIO | C27: Armenia | D27: 299475 | E27: =D27*13.12% -> 39291.12 | F27: =D27+E27 -> 338766.12 | G27: =F27*0.19 -> 64365.563 | H27: =G27+F27 -> 403131.68 | I27: 422000 | J27: =I27*0.19 -> 80180 | K27: =I27+J27 -> 502180 | L27: 799000 | M27: =L27*0.19 -> 151810 | N27: =L27+M27 -> 950810 | O27: =ROUND(AVERAGE(F27,I27,L27),0) -> 519922 | P27: =ROUND(STDEV(F27,I27,L27),0) -> 245245 | Q27: =O27+P27 -> 765167 | R27: =O27-P27 -> 274677 | S27: =ROUND(AVERAGE(F27,I27),0) -> 380383 | T27: =ROUND(S27*19%,0) -> 72273 | U27: =S27+T27 -> 452656 | V27: =ROUND(MEDIAN(F27,I27),0) -> 380383 | W27: =ROUND(V27*19%,0) -> 72273 | X27: =V27+W27 -> 452656 | Y27: =ROUND(GEOMEAN(F27,I27),0) -> 378100 | Z27: =ROUND(Y27*19%,0) -> 71839 | AA27: =Y27+Z27 -> 449939 | AB27: =ROUND(HARMEAN(F27,I27),0) -> 375830 | AC27: =ROUND(AB27*19%,0) -> 71408 | AD27: =AB27+AC27 -> 447238
B28: RISARALDA | C28: Pereira | D28: 354130 | E28: =D28*13.12% -> 46461.856 | F28: =D28+E28 -> 400591.86 | G28: =F28*0.19 -> 76112.453 | H28: =G28+F28 -> 476704.31 | I28: 534000 | J28: =I28*0.19 -> 101460 | K28: =I28+J28 -> 635460 | L28: 799000 | M28: =L28*0.19 -> 151810 | N28: =L28+M28 -> 950810 | O28: =ROUND(AVERAGE(F28,I28,L28),0) -> 577864 | P28: =ROUND(STDEV(F28,I28,L28),0) -> 202794 | Q28: =O28+P28 -> 780658 | R28: =O28-P28 -> 375070 | S28: =ROUND(AVERAGE(F28,I28),0) -> 467296 | T28: =ROUND(S28*19%,0) -> 88786 | U28: =S28+T28 -> 556082 | V28: =ROUND(MEDIAN(F28,I28),0) -> 467296 | W28: =ROUND(V28*19%,0) -> 88786 | X28: =V28+W28 -> 556082 | Y28: =ROUND(GEOMEAN(F28,I28),0) -> 462511 | Z28: =ROUND(Y28*19%,0) -> 87877 | AA28: =Y28+Z28 -> 550388 | AB28: =ROUND(HARMEAN(F28,I28),0) -> 457774 | AC28: =ROUND(AB28*19%,0) -> 86977 | AD28: =AB28+AC28 -> 544751
A29: NORTE | B29: ATLÁNTICO | C29: Soledad | D29: 238100 | E29: =D29*13.12% -> 31238.72 | F29: =D29+E29 -> 269338.72 | G29: =F29*0.19 -> 51174.357 | H29: =G29+F29 -> 320513.08 | I29: 342000 | J29: =I29*0.19 -> 64980 | K29: =I29+J29 -> 406980 | L29: 799000 | M29: =L29*0.19 -> 151810 | N29: =L29+M29 -> 950810 | O29: =ROUND(AVERAGE(F29,I29,L29),0) -> 470113 | P29: =ROUND(STDEV(F29,I29,L29),0) -> 287132 | Q29: =O29+P29 -> 757245 | R29: =O29-P29 -> 182981 | S29: =ROUND(AVERAGE(F29,I29),0) -> 305669 | T29: =ROUND(S29*19%,0) -> 58077 | U29: =S29+T29 -> 363746 | V29: =ROUND(MEDIAN(F29,I29),0) -> 305669 | W29: =ROUND(V29*19%,0) -> 58077 | X29: =V29+W29 -> 363746 | Y29: =ROUND(GEOMEAN(F29,I29),0) -> 303503 | Z29: =ROUND(Y29*19%,0) -> 57666 | AA29: =Y29+Z29 -> 361169 | AB29: =ROUND(HARMEAN(F29,I29),0) -> 301351 | AC29: =ROUND(AB29*19%,0) -> 57257 | AD29: =AB29+AC29 -> 358608
B30: ATLÁNTICO | C30: Viva Barranquilla | D30: 415126 | E30: =D30*13.12% -> 54464.531 | F30: =D30+E30 -> 469590.53 | G30: =F30*0.19 -> 89222.201 | H30: =G30+F30 -> 558812.73 | I30: 582000 | J30: =I30*0.19 -> 110580 | K30: =I30+J30 -> 692580 | L30: 799000 | M30: =L30*0.19 -> 151810 | N30: =L30+M30 -> 950810 | O30: =ROUND(AVERAGE(F30,I30,L30),0) -> 616864 | P30: =ROUND(STDEV(F30,I30,L30),0) -> 167449 | Q30: =O30+P30 -> 784313 | R30: =O30-P30 -> 449415 | S30: =ROUND(AVERAGE(F30,I30),0) -> 525795 | T30: =ROUND(S30*19%,0) -> 99901 | U30: =S30+T30 -> 625696 | V30: =ROUND(MEDIAN(F30,I30),0) -> 525795 | W30: =ROUND(V30*19%,0) -> 99901 | X30: =V30+W30 -> 625696 | Y30: =ROUND(GEOMEAN(F30,I30),0) -> 522783 | Z30: =ROUND(Y30*19%,0) -> 99329 | AA30: =Y30+Z30 -> 622112 | AB30: =ROUND(HARMEAN(F30,I30),0) -> 519787 | AC30: =ROUND(AB30*19%,0) -> 98760 | AD30: =AB30+AC30 -> 618547
B31: BOLIVAR | C31: Cartagena | D31: 298827 | E31: =D31*13.12% -> 39206.102 | F31: =D31+E31 -> 338033.1 | G31: =F31*0.19 -> 64226.289 | H31: =G31+F31 -> 402259.39 | I31: 422000 | J31: =I31*0.19 -> 80180 | K31: =I31+J31 -> 502180 | L31: 799000 | M31: =L31*0.19 -> 151810 | N31: =L31+M31 -> 950810 | O31: =ROUND(AVERAGE(F31,I31,L31),0) -> 519678 | P31: =ROUND(STDEV(F31,I31,L31),0) -> 245516 | Q31: =O31+P31 -> 765194 | R31: =O31-P31 -> 274162 | S31: =ROUND(AVERAGE(F31,I31),0) -> 380017 | T31: =ROUND(S31*19%,0) -> 72203 | U31: =S31+T31 -> 452220 | V31: =ROUND(MEDIAN(F31,I31),0) -> 380017 | W31: =ROUND(V31*19%,0) -> 72203 | X31: =V31+W31 -> 452220 | Y31: =ROUND(GEOMEAN(F31,I31),0) -> 377690 | Z31: =ROUND(Y31*19%,0) -> 71761 | AA31: =Y31+Z31 -> 449451 | AB31: =ROUND(HARMEAN(F31,I31),0) -> 375378 | AC31: =ROUND(AB31*19%,0) -> 71322 | AD31: =AB31+AC31 -> 446700
B32: BOLIVAR | C32: Éxito Cartagena | D32: 170199 | E32: =D32*13.12% -> 22330.109 | F32: =D32+E32 -> 192529.11 | G32: =F32*0.19 -> 36580.531 | H32: =G32+F32 -> 229109.64 | I32: 390000 | J32: =I32*0.19 -> 74100 | K32: =I32+J32 -> 464100 | L32: 799000 | M32: =L32*0.19 -> 151810 | N32: =L32+M32 -> 950810 | O32: =ROUND(AVERAGE(F32,I32,L32),0) -> 460510 | P32: =ROUND(STDEV(F32,I32,L32),0) -> 309323 | Q32: =O32+P32 -> 769833 | R32: =O32-P32 -> 151187 | S32: =ROUND(AVERAGE(F32,I32),0) -> 291265 | T32: =ROUND(S32*19%,0) -> 55340 | U32: =S32+T32 -> 346605 | V32: =ROUND(MEDIAN(F32,I32),0) -> 291265 | W32: =ROUND(V32*19%,0) -> 55340 | X32: =V32+W32 -> 346605 | Y32: =ROUND(GEOMEAN(F32,I32),0) -> 274019 | Z32: =ROUND(Y32*19%,0) -> 52064 | AA32: =Y32+Z32 -> 326083 | AB32: =ROUND(HARMEAN(F32,I32),0) -> 257794 | AC32: =ROUND(AB32*19%,0) -> 48981 | AD32: =AB32+AC32 -> 306775
B33: CESAR | C33: Valledupar | D33: 352290 | E33: =D33*13.12% -> 46220.448 | F33: =D33+E33 -> 398510.45 | G33: =F33*0.19 -> 75716.985 | H33: =G33+F33 -> 474227.43 | I33: 400000 | J33: =I33*0.19 -> 76000 | K33: =I33+J33 -> 476000 | L33: 799000 | M33: =L33*0.19 -> 151810 | N33: =L33+M33 -> 950810 | O33: =ROUND(AVERAGE(F33,I33,L33),0) -> 532503 | P33: =ROUND(STDEV(F33,I33,L33),0) -> 230794 | Q33: =O33+P33 -> 763297 | R33: =O33-P33 -> 301709 | S33: =ROUND(AVERAGE(F33,I33),0) -> 399255 | T33: =ROUND(S33*19%,0) -> 75858 | U33: =S33+T33 -> 475113 | V33: =ROUND(MEDIAN(F33,I33),0) -> 399255 | W33: =ROUND(V33*19%,0) -> 75858 | X33: =V33+W33 -> 475113 | Y33: =ROUND(GEOMEAN(F33,I33),0) -> 399255 | Z33: =ROUND(Y33*19%,0) -> 75858 | AA33: =Y33+Z33 -> 475113 | AB33: =ROUND(HARMEAN(F33,I33),0) -> 399254 | AC33: =ROUND(AB33*19%,0) -> 75858 | AD33: =AB33+AC33 -> 475112
B34: CÓRDOBA | C34: Montería | D34: 271525 | E34: =D34*13.12% -> 35624.08 | F34: =D34+E34 -> 307149.08 | G34: =F34*0.19 -> 58358.325 | H34: =G34+F34 -> 365507.41 | I34: 390000 | J34: =I34*0.19 -> 74100 | K34: =I34+J34 -> 464100 | L34: 799000 | M34: =L34*0.19 -> 151810 | N34: =L34+M34 -> 950810 | O34: =ROUND(AVERAGE(F34,I34,L34),0) -> 498716 | P34: =ROUND(STDEV(F34,I34,L34),0) -> 263332 | Q34: =O34+P34 -> 762048 | R34: =O34-P34 -> 235384 | S34: =ROUND(AVERAGE(F34,I34),0) -> 348575 | T34: =ROUND(S34*19%,0) -> 66229 | U34: =S34+T34 -> 414804 | V34: =ROUND(MEDIAN(F34,I34),0) -> 348575 | W34: =ROUND(V34*19%,0) -> 66229 | X34: =V34+W34 -> 414804 | Y34: =ROUND(GEOMEAN(F34,I34),0) -> 346104 | Z34: =ROUND(Y34*19%,0) -> 65760 | AA34: =Y34+Z34 -> 411864 | AB34: =ROUND(HARMEAN(F34,I34),0) -> 343651 | AC34: =ROUND(AB34*19%,0) -> 65294 | AD34: =AB34+AC34 -> 408945
B35: GUAJIRA | C35: Riohacha | D35: 300918 | E35: =D35*13.12% -> 39480.442 | F35: =D35+E35 -> 340398.44 | G35: =F35*0.19 -> 64675.704 | H35: =G35+F35 -> 405074.15 | I35: 422000 | J35: =I35*0.19 -> 80180 | K35: =I35+J35 -> 502180 | L35: 799000 | M35: =L35*0.19 -> 151810 | N35: =L35+M35 -> 950810 | O35: =ROUND(AVERAGE(F35,I35,L35),0) -> 520466 | P35: =ROUND(STDEV(F35,I35,L35),0) -> 244644 | Q35: =O35+P35 -> 765110 | R35: =O35-P35 -> 275822 | S35: =ROUND(AVERAGE(F35,I35),0) -> 381199 | T35: =ROUND(S35*19%,0) -> 72428 | U35: =S35+T35 -> 453627 | V35: =ROUND(MEDIAN(F35,I35),0) -> 381199 | W35: =ROUND(V35*19%,0) -> 72428 | X35: =V35+W35 -> 453627 | Y35: =ROUND(GEOMEAN(F35,I35),0) -> 379009 | Z35: =ROUND(Y35*19%,0) -> 72012 | AA35: =Y35+Z35 -> 451021 | AB35: =ROUND(HARMEAN(F35,I35),0) -> 376832 | AC35: =ROUND(AB35*19%,0) -> 71598 | AD35: =AB35+AC35 -> 448430
B36: MAGDALENA | C36: Santa Marta | D36: 397980 | E36: =D36*13.12% -> 52214.976 | F36: =D36+E36 -> 450194.98 | G36: =F36*0.19 -> 85537.045 | H36: =G36+F36 -> 535732.02 | I36: 550000 | J36: =I36*0.19 -> 104500 | K36: =I36+J36 -> 654500 | L36: 799000 | M36: =L36*0.19 -> 151810 | N36: =L36+M36 -> 950810 | O36: =ROUND(AVERAGE(F36,I36,L36),0) -> 599732 | P36: =ROUND(STDEV(F36,I36,L36),0) -> 179642 | Q36: =O36+P36 -> 779374 | R36: =O36-P36 -> 420090 | S36: =ROUND(AVERAGE(F36,I36),0) -> 500097 | T36: =ROUND(S36*19%,0) -> 95018 | U36: =S36+T36 -> 595115 | V36: =ROUND(MEDIAN(F36,I36),0) -> 500097 | W36: =ROUND(V36*19%,0) -> 95018 | X36: =V36+W36 -> 595115 | Y36: =ROUND(GEOMEAN(F36,I36),0) -> 497601 | Z36: =ROUND(Y36*19%,0) -> 94544 | AA36: =Y36+Z36 -> 592145 | AB36: =ROUND(HARMEAN(F36,I36),0) -> 495118 | AC36: =ROUND(AB36*19%,0) -> 94072 | AD36: =AB36+AC36 -> 589190
B37: SAN ANDRÉS | C37: San Andrés | D37: 213587 | E37: =D37*13.12% -> 28022.614 | F37: =D37+E37 -> 241609.61 | G37: =F37*0.19 -> 45905.827 | H37: =G37+F37 -> 287515.44 | I37: 440000 | J37: =I37*0.19 -> 83600 | K37: =I37+J37 -> 523600 | L37: 799000 | M37: =L37*0.19 -> 151810 | N37: =L37+M37 -> 950810 | O37: =ROUND(AVERAGE(F37,I37,L37),0) -> 493537 | P37: =ROUND(STDEV(F37,I37,L37),0) -> 282525 | Q37: =O37+P37 -> 776062 | R37: =O37-P37 -> 211012 | S37: =ROUND(AVERAGE(F37,I37),0) -> 340805 | T37: =ROUND(S37*19%,0) -> 64753 | U37: =S37+T37 -> 405558 | V37: =ROUND(MEDIAN(F37,I37),0) -> 340805 | W37: =ROUND(V37*19%,0) -> 64753 | X37: =V37+W37 -> 405558 | Y37: =ROUND(GEOMEAN(F37,I37),0) -> 326049 | Z37: =ROUND(Y37*19%,0) -> 61949 | AA37: =Y37+Z37 -> 387998 | AB37: =ROUND(HARMEAN(F37,I37),0) -> 311933 | AC37: =ROUND(AB37*19%,0) -> 59267 | AD37: =AB37+AC37 -> 371200
