Workbook

Sheet Hoja9
A3: Etiquetas de fila | B3: Promedio de DESEMPEÑO TOTAL POA % | C3: Promedio de % DE EJECUCIÓN INCENTIVO MODULAR
A4: Reg. Amozanía (Caq, Put, Guani, Amazo, Guav, Vaupe). | B4: 0.259665 | C4: 0.083245
A5: AMAZONAS | B5: 0.02555 | C5: 0 | D5: 0
A6: CAQUETA | B6: 0.5015 | C6: 0.33333333 | D6: 0.33333333
A7: GUAINIA | B7: 0 | C7: 0 | D7: 0
A8: GUAVIARE | B8: 0.1549 | C8: 0.06478 | D8: 0.06478
A9: PUTUMAYO | B9: 0.3527 | C9: 0.042625 | D9: 0.042625
A10: VAUPES | B10: 0.0416 | C10: 0 | D10: 0
A11: Reg. Caribe 2 (Magdal,Gua,SanAndr y Cesa ). | B11: 0.20155089 | C11: 0.037173505
A12: CORDOBA | B12: 0.19081619 | C12: 0.026686518 | D12: 0.026686518
A13: LA GUAJIRA | B13: 0.28055296 | C13: 0.051757143 | D13: 0.051757143
A14: MAGDALENA | B14: 0.20587639 | C14: 0.028957143 | D14: 0.028957143
A15: SUCRE | B15: 0.1407158 | C15: 0.0434 | D15: 0.0434
A16: Reg. Centro (Toli,Boy,Cun,Huil). | B16: 0.20705909 | C16: 0.064504545
A17: BOYACÁ | B17: 0.17171429 | C17: 0.071428571 | D17: 0.071428571
A18: CUNDINAMARCA | B18: 0.3081 | C18: 0.09395 | D18: 0.09395
A19: HUILA | B19: 0.0901 | C19: 0.019966667 | D19: 0.019966667
A20: TOLIMA | B20: 0.31378571 | C20: 0.087342857 | D20: 0.087342857
A21: Reg. Eje Cafetero y Antio (Cal,Qui,Ris y Antio). | B21: 0.46161852 | C21: 0.046977778
A22: ANTIOQUIA | B22: 1.1088143 | C22: 0.068042857 | D22: 0.068042857
A23: CALDAS | B23: 0.23005714 | C23: 0.062257143 | D23: 0.062257143
A24: QUINDIO | B24: 0.22776667 | C24: 0 | D24: 0
A25: RISARALDA | B25: 0.24642857 | C25: 0.0509 | D25: 0.0509
A26: Reg. Llanos y Orinoquia. (Arau,Casan,Met y Vicha). | B26: 0.39262407 | C26: 0.042485302
A27: ARAUCA | B27: 0.34647946 | C27: 0.040271429 | D27: 0.040271429
A28: CASANARE | B28: 0.42641976 | C28: 0.043691414 | D28: 0.043691414
A29: META | B29: 0.44436187 | C29: 0.04282 | D29: 0.04282
A30: VICHADA | B30: 0.34646243 | C30: 0.0535 | D30: 0.0535
A31: Reg. Pacífico (Cau,Nar,Val y Choc). | B31: 0.14564231 | C31: 4909.9008
A32: CAUCA | B32: 0.096014286 | C32: 0.12714286 | D32: 0.12714286
A33: CHOCÓ | B33: 0.055114286 | C33: 0.014285714 | D33: 0.014285714
A34: NARIÑO | B34: 0.23725714 | C34: 405.88857 | D34: 405.88857
A35: VALLE DEL CAUCA | B35: 0.2136 | C35: 24963.042 | D35: 24963.042
A36: Reg. Santanderes (Sant y Nort de Sant). | B36: 0.20315385 | C36: 4.8966
A37: NORTE DE SANTANDER | B37: 0.20042857 | C37: 0.20041429 | D37: 0.20041429
A38: SANTANDER | B38: 0.20633333 | C38: 10.375483 | D38: 10.375483
A39: Region. Caribe 1. (Atl, Bol, Cord y Suc). | B39: 0.20798889 | C39: 0.062744444
A40: ATLANTICO | B40: 0.165 | C40: 0.080671429 | D40: 0.080671429
A41: BOLIVAR | B41: 0.28736667 | C41: 0 | D41: 0
A42: CESAR | B42: 0.24006 | C42: 0 | D42: 0
A43: SAN ANDRES Y PROVIDENCIA | B43: 0.17546667 | C43: 0.18823333 | D43: 0.18823333
A44: Total general | B44: 0.26335384 | C44: 717.57642

Sheet acciones
A1: alianza | B1: cantidad
A2: 01-001-20 | B2: 3
A3: 01-005-20 | B3: 1
A4: 01-009-20 | B4: 7
A5: 02-002-20 | B5: 5
A6: 02-003-20 | B6: 5
A7: 02-006-20 | B7: 3
A8: 02-008-20 | B8: 3
A9: 02-010-20 | B9: 1
A10: 02-011-20 | B10: 1
A11: 02-012-20 | B11: 2
A12: 02-014-20 | B12: 2
A13: 02-015-20 | B13: 1
... A94: 08-015-20 | B94: 4

Sheet ALIANZAS
A1: Etiquetas de fila | B1: Cuenta de Fecha programada de visita(Fecha inicial) | C1: Cuenta de FechaRealVisita
A2: 01-001-20 | B2: 6 | C2: 3
A3: 01-002-20 | B3: 6 | C3: 4
A4: 01-003-20 | B4: 5 | C4: 2
A5: 01-004-20 | B5: 9 | C5: 6
A6: 01-005-20 | B6: 7 | C6: 3
A7: 01-007-20 | B7: 5 | C7: 4
A8: 01-008-20 | B8: 5 | C8: 5
A9: 01-009-20 | B9: 13 | C9: 6
A10: 01-010-20 | B10: 5 | C10: 5
A11: 01-011-20 | B11: 5 | C11: 5
A12: 01-012-20 | B12: 3 | C12: 3
A13: 01-013-20 | B13: 7 | C13: 7
... A176: 08-020-20 | B176: 3 | C176: 2

Sheet DOC
A1: Etiquetas de fila | B1: Actas de CDA (firmadas y en pdf) | C1: Informe de Monitoreo OGR
A2: 01-001-20 | B2: 5 | C2: 4
A3: 01-002-20 | B3: 5 | C3: 4
A4: 01-003-20 | B4: 4 | C4: 4
A5: 01-004-20 | B5: 3 | C5: 3
A6: 01-005-20 | B6: 9 | C6: 3
A7: 01-006-20 | B7: 2
A8: 01-007-20 | B8: 8 | C8: 5
A9: 01-008-20 | B9: 6 | C9: 5
A10: 01-009-20 | B10: 11 | C10: 7
A11: 01-010-20 | B11: 6 | C11: 5
A12: 01-011-20 | B12: 1 | C12: 5
A13: 01-012-20 | B13: 3 | C13: 2
A14: 01-013-20 | B14: 1 | C14: 7
A15: 01-014-20 | B15: 8 | C15: 3
A16: 01-015-20 | B16: 6 | C16: 3
A17: 01-016-20 | B17: 1 | C17: 3
A18: 01-017-20 | B18: 3 | C18: 7
A19: 01-018-20 | B19: 1 | C19: 5
... A116: 05-015-20 | B116: 6 | C116: 1
A117: 05-016-20 | B117: 7
A118: 05-017-20 | B118: 7 | C118: 4
A119: 05-018-20 | B119: 7 | C119: 2
A120: 05-019-20 | B120: 10 | C120: 2
A121: 05-020-20 | B121: 10 | C121: 3
A122: 05-021-20 | B122: 9 | C122: 4
A123: 05-022-20 | B123: 8 | C123: 2
A124: 06-001-20 | B124: 13 | C124: 3
A125: 06-002-20 | B125: 11 | C125: 3
A126: 06-003-20 | B126: 13 | C126: 3
A127: 06-004-20 | B127: 6 | C127: 2
A128: 06-005-20 | B128: 11 | C128: 3
A129: 06-008-20 | B129: 10 | C129: 2
... A177: 08-020-20 | B177: 6 | C177: 2

Sheet % POA RESUMEN X REG Y DEPTOS
B2: DEPARTAMENTOS | C2: NÚMERO ALIANZAS | D2: % AVANCE TÉCNICO DEL POA (Ejecutado)
B3: Reg. Amozanía (Caq, Put, Guani, Amazo, Guav, Vaupe). | C3: 20 | D3: 89.354
B4: AMAZONAS | C4: 2 | D4: 75.575
B5: CAQUETA | C5: 3 | D5: 78.073333
B6: GUAINIA | C6: 1 | D6: 99.9
B7: GUAVIARE | C7: 5 | D7: 86.762
B8: PUTUMAYO | C8: 8 | D8: 99
B9: VAUPES | C9: 1 | D9: 76
B10: Reg. Caribe 2 (Magdal,Córdoba, Sucre y La Guajira). | C10: 27 | D10: 58.528889
B11: CORDOBA | C11: 8 | D11: 60.76375
B12: LA GUAJIRA | C12: 6 | D12: 67.555
B13: MAGDALENA | C13: 7 | D13: 55.09
B14: SUCRE | C14: 6 | D14: 50.535
... B41: Total general | C41: 165 | D41: 74.908364

Sheet % POA POR ALIANZA
A2: No. | B2: CONVENIO | C2: DEPARTAMENTO | D2: REGIÓN | E2: NOMBRE CORTO DE LA ALIANZA | F2: ALIANZA | G2: % AVANCE TÉCNICO DEL POA (Ejecutado) CALCULADO 0,95 CORTE 10-09-2022 | H2: VISITAS REALIZADAS | I2: NÚMERO DE VISITAS PROYECTADAS EN EL PLAN DE MONITOREO | J2: INFORMES DE MONITOREO OGR | K2: AVANCE DE VISITAS REALIZADAS VS VISITAS PROYECTADAS % | L2: INFORMES DE MONITOREO REPORTADOS VS VISITAS REALIZADAS % | M2: ACTAS CDA (Firmadas y en PDF) | N2: ESTADO DE LA ALIANZA
A3: 1 | B3: 01-001-20 | C3: CAUCA | D3: Reg. Pacífico (Cau,Nar,Val y Choc). | E3: GRANADILLA - INZA - ASMUPGRAMI | F3: ASMUPGRAMI | G3: 82.65 | H3: 3 | I3: 5 | J3: 3 | K3: =(H3/I3) -> 0.6 | L3: =(J3/H3) -> 1 | M3: 13
A4: 2 | B4: 01-002-20 | C4: CAUCA | D4: Reg. Pacífico (Cau,Nar,Val y Choc). | E4: MORA - SOTARA - ASOMOREROS | F4: ASOMOREROS | G4: 80.75 | H4: 3 | I4: 5 | J4: 3 | K4: =(H4/I4) -> 0.6 | L4: =(J4/H4) -> 1 | M4: 9
A5: 3 | B5: 01-003-20 | C5: CAUCA | D5: Reg. Pacífico (Cau,Nar,Val y Choc). | E5: CAFÉ - BALBOA - ASPROBALBOA | F5: ASPROBALBOA | G5: 81.18 | H5: 3 | I5: 5 | J5: 3 | K5: =(H5/I5) -> 0.6 | L5: =(J5/H5) -> 1 | M5: 15
A6: 4 | B6: 01-004-20 | C6: CAUCA | D6: Reg. Pacífico (Cau,Nar,Val y Choc). | E6: PAPA - TOTORO - ASPROPAPA TOTORO | F6: ASPROPAPA TOTORO | G6: 93.1 | H6: 6 | I6: 6 | J6: 6 | K6: =(H6/I6) -> 1 | L6: =(J6/H6) -> 1 | M6: 13
A7: 5 | B7: 01-005-20 | C7: CAUCA | D7: Reg. Pacífico (Cau,Nar,Val y Choc). | E7: TRUCHA - SILVIA - APROPESCA | F7: APROPESCA | G7: 91.2 | H7: 4 | I7: 5 | J7: 4 | K7: =(H7/I7) -> 0.8 | L7: =(J7/H7) -> 1 | M7: 21
A8: 6 | B8: 01-006-20 | C8: CAUCA | D8: Reg. Pacífico (Cau,Nar,Val y Choc). | E8: LECHE - PAEZ - APEGANCABI | F8: APEGANCABI | G8: 76.95 | H8: 4 | I8: 5 | J8: 0 | K8: =(H8/I8) -> 0.8 | L8: =(J8/H8) -> 0 | M8: 12
A9: 7 | B9: 01-007-20 | C9: VALLE DEL CAUCA | D9: Reg. Pacífico (Cau,Nar,Val y Choc). | E9: HUEVOS - CANDELARIA - FUNMUFROT | F9: FUNMUFROT | G9: 86.35 | H9: 9 | I9: 10 | J9: 9 | K9: =(H9/I9) -> 0.9 | L9: =(J9/H9) -> 1 | M9: 16
A10: 8 | B10: 01-008-20 | C10: VALLE DEL CAUCA | D10: Reg. Pacífico (Cau,Nar,Val y Choc). | E10: PANELA - ANSERMANUEVO - ASOAPAZ | F10: ASOAPAZ | G10: 72.87 | H10: 9 | I10: 10 | J10: 9 | K10: =(H10/I10) -> 0.9 | L10: =(J10/H10) -> 1 | M10: 14
A11: 9 | B11: 01-009-20 | C11: CAUCA | D11: Reg. Pacífico (Cau,Nar,Val y Choc). | E11: LECHE - PIENDAMO - ASAGRAMPI | F11: ASAGRAMPI | G11: 88.35 | H11: 8 | I11: 8 | J11: 8 | K11: =(H11/I11) -> 1 | L11: =(J11/H11) -> 1 | M11: 24
A12: 10 | B12: 01-010-20 | C12: VALLE DEL CAUCA | D12: Reg. Pacífico (Cau,Nar,Val y Choc). | E12: LECHE - BUGA - COONOGALES | F12: COONOGALES | G12: 83.6 | H12: 10 | I12: 10 | J12: 10 | K12: =(H12/I12) -> 1 | L12: =(J12/H12) -> 1 | M12: 12
A13: 11 | B13: 01-011-20 | C13: VALLE DEL CAUCA | D13: Reg. Pacífico (Cau,Nar,Val y Choc). | E13: MORA - FLORIDA - NASAFRUT | F13: NASAFRUT | G13: 74.1 | H13: 10 | I13: 10 | J13: 10 | K13: =(H13/I13) -> 1 | L13: =(J13/H13) -> 1 | M13: 8
A14: 12 | B14: 01-012-20 | C14: CHOCÓ | D14: Reg. Pacífico (Cau,Nar,Val y Choc). | E14: TILAPIA - TADO - ASOCIACION DE JOVENES Y MUJERES AGROPECUARIA | F14: ASOAGROTCH | G14: 66.5 | H14: 5 | I14: 5 | J14: 5 | K14: =(H14/I14) -> 1 | L14: =(J14/H14) -> 1 | M14: 12
... A16: 14 | B16: 01-014-20 | C16: CHOCÓ | D16: Reg. Pacífico (Cau,Nar,Val y Choc). | E16: YUCA - CANTON DE SAN PABLO - ASOMEAG | F16: ASOMEAG | G16: 57 | H16: 6 | I16: 7 | J16: 7 | K16: =(H16/I16) -> 0.85714286 | L16: =(J16/H16) -> 1.1666667 | M16: 13
A17: 15 | B17: 01-015-20 | C17: CHOCÓ | D17: Reg. Pacífico (Cau,Nar,Val y Choc). | E17: TILAPIA - SAN JOSE DEL PALMAR - ASOVICOPAL | F17: ASOVICOPAL | G17: 13.02 | H17: 3 | I17: 6 | J17: 3 | K17: =(H17/I17) -> 0.5 | L17: =(J17/H17) -> 1 | M17: 10 | N17: EN LIQUIDACIÓN
A18: 16 | B18: 01-016-20 | C18: CHOCÓ | D18: Reg. Pacífico (Cau,Nar,Val y Choc). | E18: TILAPIA - CONDOTO - ASPROAGROPESQH | F18: ASPROAGROPESQH | G18: 43.6 | H18: 6 | I18: 6 | J18: 6 | K18: =(H18/I18) -> 1 | L18: =(J18/H18) -> 1 | M18: 13
A19: 17 | B19: 01-017-20 | C19: NARIÑO | D19: Reg. Pacífico (Cau,Nar,Val y Choc). | E19: PIÑA - LA UNION - ASOPROPIÑALAU | F19: ASOPROPIÑALAU | G19: 88.27 | H19: 11 | I19: 11 | J19: 10 | K19: =(H19/I19) -> 1 | L19: =(J19/H19) -> 0.90909091 | M19: 17
A20: 18 | B20: 01-018-20 | C20: NARIÑO | D20: Reg. Pacífico (Cau,Nar,Val y Choc). | E20: HUEVO - SAN BERNARDO - ASOCIACION AVICOLA FORJANDO FUTURO | F20: FORJANDO FUTURO | G20: 68.4 | H20: 6 | I20: 7 | J20: 6 | K20: =(H20/I20) -> 0.85714286 | L20: =(J20/H20) -> 1 | M20: 10
A21: 19 | B21: 01-019-20 | C21: NARIÑO | D21: Reg. Pacífico (Cau,Nar,Val y Choc). | E21: LECHE - CUASPUD - ASOCIACION INDIGENA DE LACTEOS SAN NICOLAS | F21: SAN NICOLAS | G21: 93.1 | H21: 13 | I21: 13 | J21: 13 | K21: =(H21/I21) -> 1 | L21: =(J21/H21) -> 1 | M21: 12
A22: 20 | B22: 01-020-20 | C22: NARIÑO | D22: Reg. Pacífico (Cau,Nar,Val y Choc). | E22: LECHE - CUMBAL - ASOINDCAM | F22: EL CAMPAMENTO | G22: 93.51 | H22: 12 | I22: 12 | J22: 12 | K22: =(H22/I22) -> 1 | L22: =(J22/H22) -> 1 | M22: 8
A23: 21 | B23: 01-021-20 | C23: NARIÑO | D23: Reg. Pacífico (Cau,Nar,Val y Choc). | E23: FIQUE - ARBOLEDA - AMFIPAR | F23: AMFIPAR | G23: 94.2 | H23: 11 | I23: 11 | J23: 11 | K23: =(H23/I23) -> 1 | L23: =(J23/H23) -> 1 | M23: 13
A24: 22 | B24: 01-022-20 | C24: CHOCÓ | D24: Reg. Pacífico (Cau,Nar,Val y Choc). | E24: TILAPIA - CANTON DE SAN PABLO - ASOCIACION DE PRODUCTORES PISCICOLA DEL MUNICIPIO DE CANTON DE SAN PABLO | F24: CANTON DE SAN PABLO | G24: 44.65 | H24: 5 | I24: 6 | J24: 6 | K24: =(H24/I24) -> 0.83333333 | L24: =(J24/H24) -> 1.2 | M24: 11
A25: 23 | B25: 01-023-20 | C25: NARIÑO | D25: Reg. Pacífico (Cau,Nar,Val y Choc). | E25: MANI - TAMINANGO - ASOCIACION AGROPECUARIA EL MANZANO | F25: EL MANZANO | G25: 94.72 | H25: 11 | I25: 11 | J25: 11 | K25: =(H25/I25) -> 1 | L25: =(J25/H25) -> 1 | M25: 13
A26: 24 | B26: 01-024-20 | C26: CHOCÓ | D26: Reg. Pacífico (Cau,Nar,Val y Choc). | E26: PLATANO - NUQUI - ASOPPLAMUS | F26: ASOPPLAMUS | G26: 65.55 | H26: 7 | I26: 7 | J26: 7 | K26: =(H26/I26) -> 1 | L26: =(J26/H26) -> 1 | M26: 3
A27: 25 | B27: 01-025-20 | C27: VALLE DEL CAUCA | D27: Reg. Pacífico (Cau,Nar,Val y Choc). | E27: PLATANO - FLORIDA - ASOCIACION AFROCOLOMBIANA COMUNIDAD NEGRA DE CHOCOCITO EL JORDAN | F27: ASOFACASJO - CHOCOCITO | G27: 65.55 | H27: 10 | I27: 10 | J27: 10 | K27: =(H27/I27) -> 1 | L27: =(J27/H27) -> 1 | M27: 10
A28: 26 | B28: 01-026-20 | C28: CHOCÓ | D28: Reg. Pacífico (Cau,Nar,Val y Choc). | E28: PISCICOLA - BAHIA SOLANO - ASOCIACION DE PESCADORES ARTESANALES Y COMERCIALIZADORES DE NABUGA LOS ESPINELEROS | F28: LOS ESPINELEROS | G28: 61.75 | H28: 8 | I28: 8 | J28: 8 | K28: =(H28/I28) -> 1 | L28: =(J28/H28) -> 1 | M28: 2
A29: 27 | B29: 02-001-20 | C29: QUINDIO | D29: Reg. Eje Cafetero y Antio (Cal,Qui,Ris y Antio). | E29: MORA - SALENTO - ASOPYCA | F29: ASOPYCA | G29: 75.52 | H29: 6 | I29: 6 | J29: 6 | K29: =(H29/I29) -> 1 | L29: =(J29/H29) -> 1 | M29: 14
... A43: 41 | B43: 02-015-20 | C43: CALDAS | D43: Reg. Eje Cafetero y Antio (Cal,Qui,Ris y Antio). | E43: CHONTADURO - RIOSUCIO - ASOPROCHOER | F43: ASOPROCHOER | G43: 93.1 | H43: 6 | I43: 6 | J43: 5 | K43: =(H43/I43) -> 1 | L43: =(J43/H43) -> 0.83333333 | M43: 13
A44: 42 | B44: 02-016-20 | C44: CALDAS | D44: Reg. Eje Cafetero y Antio (Cal,Qui,Ris y Antio). | E44: PLATANO - LA DORADA - ASPROPHACAL | F44: ASPROPHACAL | G44: 2.85 | H44: 2 | I44: 6 | J44: 1 | K44: =(H44/I44) -> 0.33333333 | L44: =(J44/H44) -> 0.5 | M44: 5 | N44: EN LIQUIDACIÓN
A45: 43 | B45: 02-017-20 | C45: CALDAS | D45: Reg. Eje Cafetero y Antio (Cal,Qui,Ris y Antio). | E45: UCHUVA MARULANDA ASOPROMAC | F45: ASOPROMAC | G45: 67 | H45: 6 | I45: 6 | J45: 6 | K45: =(H45/I45) -> 1 | L45: =(J45/H45) -> 1 | M45: 4
A46: 44 | B46: 02-018-20 | C46: ANTIOQUIA | D46: Reg. Eje Cafetero y Antio (Cal,Qui,Ris y Antio). | E46: MIEL - SAN CARLOS - AFRICOLMENAS | F46: AFRICOLMENAS | G46: 86 | H46: 6 | I46: 6 | J46: 6 | K46: =(H46/I46) -> 1 | L46: =(J46/H46) -> 1 | M46: 18
A47: 45 | B47: 02-019-20 | C47: ANTIOQUIA | D47: Reg. Eje Cafetero y Antio (Cal,Qui,Ris y Antio). | E47: AGUACATE HASS - ABRIAQUI - ASOGRAB | F47: ASOGRAB | G47: 84.11 | H47: 5 | I47: 6 | J47: 6 | K47: =(H47/I47) -> 0.83333333 | L47: =(J47/H47) -> 1.2 | M47: 18
A48: 46 | B48: 02-020-20 | C48: ANTIOQUIA | D48: Reg. Eje Cafetero y Antio (Cal,Qui,Ris y Antio). | E48: HUEVOS - CAMPAMENTO - ASOMUCHACHA | F48: ASOMUCHACHA | G48: 94.05 | H48: 5 | I48: 7 | J48: 6 | K48: =(H48/I48) -> 0.71428571 | L48: =(J48/H48) -> 1.2 | M48: 17
A49: 47 | B49: 02-021-20 | C49: ANTIOQUIA | D49: Reg. Eje Cafetero y Antio (Cal,Qui,Ris y Antio). | E49: PLATANO Y BANANO - JARDIN - OCCF | F49: OCCF | G49: 88.35 | H49: 5 | I49: 7 | J49: 5 | K49: =(H49/I49) -> 0.71428571 | L49: =(J49/H49) -> 1 | M49: 17
A50: 48 | B50: 02-022-20 | C50: QUINDIO | D50: Reg. Eje Cafetero y Antio (Cal,Qui,Ris y Antio). | E50: PLATANO - BUENAVISTA - PARAISO DE MUJER | F50: PARAISO DE MUJER | G50: 79.8 | H50: 6 | I50: 6 | J50: 6 | K50: =(H50/I50) -> 1 | L50: =(J50/H50) -> 1 | M50: 12
A51: 49 | B51: 02-023-20 | C51: ANTIOQUIA | D51: Reg. Eje Cafetero y Antio (Cal,Qui,Ris y Antio). | E51: PANELA - COCORNA - ASOPACO | F51: ASOPACO | G51: 92.15 | H51: 6 | I51: 6 | J51: 6 | K51: =(H51/I51) -> 1 | L51: =(J51/H51) -> 1 | M51: 18
A52: 50 | B52: 02-024-20 | C52: QUINDIO | D52: Reg. Eje Cafetero y Antio (Cal,Qui,Ris y Antio). | E52: MIEL - GENOVA - ASOAGROCORDILLERA | F52: ASOAGROCORDILLERA | G52: 84.55 | H52: 5 | I52: 6 | J52: 5 | K52: =(H52/I52) -> 0.83333333 | L52: =(J52/H52) -> 1 | M52: 16
A53: 51 | B53: 02-025-20 | C53: QUINDIO | D53: Reg. Eje Cafetero y Antio (Cal,Qui,Ris y Antio). | E53: HORTALIZAS - CIRCASIA - ASOHORTICAS | F53: ASOHORTICAS | G53: 38.95 | H53: 4 | I53: 6 | J53: 4 | K53: =(H53/I53) -> 0.66666667 | L53: =(J53/H53) -> 1 | M53: 11 | N53: EN LIQUIDACIÓN
A54: 52 | B54: 02-026-20 | C54: ANTIOQUIA | D54: Reg. Eje Cafetero y Antio (Cal,Qui,Ris y Antio). | E54: COCO ARBOLETES ASOPROAGROPAR | F54: ASOPROAGROPAR | G54: 84.55 | H54: 6 | I54: 6 | J54: 7 | K54: =(H54/I54) -> 1 | L54: =(J54/H54) -> 1.1666667 | M54: 15
A55: 53 | B55: 02-027-20 | C55: ANTIOQUIA | D55: Reg. Eje Cafetero y Antio (Cal,Qui,Ris y Antio). | E55: CACAO -TURBO - ASOPRODESPLA | F55: ASOPRODESPLA | G55: 85.5 | H55: 6 | I55: 6 | J55: 6 | K55: =(H55/I55) -> 1 | L55: =(J55/H55) -> 1 | M55: 19
A56: 54 | B56: 03-002-20 | C56: BOLIVAR | D56: Region. Caribe 1. (Atl, Bol,San Andrés y Cesár). | E56: Ñame Diamante, El Carmen de Bolívar, AMUSI | F56: AMUSI | G56: 90.46 | H56: 7 | I56: 8 | J56: 7 | K56: =(H56/I56) -> 0.875 | L56: =(J56/H56) -> 1 | M56: 18
A57: 55 | B57: 03-008-20 | C57: CORDOBA | D57: Reg. Caribe 2 (Magdal,Córdoba, Sucre y La Guajira). | E57: PRODUCTORES ASOCIADOS A LA ORGANIZACIÓN ASPAPUY, PARA EL CULTIVO DE CACHAMAS Y BOCACHICOS | F57: ASPAPUY | G57: 50.35 | H57: 5 | I57: 6 | J57: 5 | K57: =(H57/I57) -> 0.83333333 | L57: =(J57/H57) -> 1 | M57: 16
A58: 56 | B58: 03-009-20 | C58: CORDOBA | D58: Reg. Caribe 2 (Magdal,Córdoba, Sucre y La Guajira). | E58: FORTALECIMIENTO DE APIARIOS A PRODUCTORES DEL MUNICIPIO DE VALENCIA, | F58: ASOJOPAZ | G58: 48.45 | H58: 6 | I58: 6 | J58: 6 | K58: =(H58/I58) -> 1 | L58: =(J58/H58) -> 1 | M58: 16
A59: 57 | B59: 03-010-20 | C59: CORDOBA | D59: Reg. Caribe 2 (Magdal,Córdoba, Sucre y La Guajira). | E59: PRODUCCIÓN ACUÍCOLA EN LOS CORREGIMIENTOS DE VILLA NUEVA Y RUSIA, EN EL MUNICIPIO DE VALENCIA | F59: ASOCAMDEL | G59: 48.45 | H59: 6 | I59: 6 | J59: 6 | K59: =(H59/I59) -> 1 | L59: =(J59/H59) -> 1 | M59: 17
A60: 58 | B60: 03-006-20 | C60: BOLIVAR | D60: Region. Caribe 1. (Atl, Bol,San Andrés y Cesár). | E60: ÑAME DIAMANTE - SAN JACINTO - ASOMUVICA | F60: ASOMUVICA | G60: 81.47 | H60: 7 | I60: 8 | J60: 7 | K60: =(H60/I60) -> 0.875 | L60: =(J60/H60) -> 1 | M60: 19
A61: 59 | B61: 03-011-20 | C61: CORDOBA | D61: Reg. Caribe 2 (Magdal,Córdoba, Sucre y La Guajira). | E61: TILAPIA ROJA PRODUCTORES DE LA ASOCIACIÓN ASOPESAGRO EN AYAPEL | F61: ASOPESAGRO | G61: 79.23 | H61: 6 | I61: 6 | J61: 6 | K61: =(H61/I61) -> 1 | L61: =(J61/H61) -> 1 | M61: 15
A62: 60 | B62: 03-013-20 | C62: CORDOBA | D62: Reg. Caribe 2 (Magdal,Córdoba, Sucre y La Guajira). | E62: PRODUCCIÓN Y COMERCIALIZACIÓN DE CARNE DE TILAPIA en PLANETA RICA | F62: EL GUAMAL | G62: 74.76 | H62: 6 | I62: 6 | J62: 6 | K62: =(H62/I62) -> 1 | L62: =(J62/H62) -> 1 | M62: 16
A63: 61 | B63: 03-014-20 | C63: CORDOBA | D63: Reg. Caribe 2 (Magdal,Córdoba, Sucre y La Guajira). | E63: PLÁTANO HARTÓN POR 40 PRODUCTORES DE ASOPLADEIN DEL MUNICIPIO DE PUERTO ESCONDIDO | F63: ASOPLADEIN | G63: 21.19 | H63: 3 | I63: 3 | J63: 3 | K63: =(H63/I63) -> 1 | L63: =(J63/H63) -> 1 | M63: 11 | N63: EN LIQUIDACIÓN
A64: 62 | B64: 03-015-20 | C64: CORDOBA | D64: Reg. Caribe 2 (Magdal,Córdoba, Sucre y La Guajira). | E64: PRODUCION Y COMERCIALIZACION DE MIEL DE ABEJA EN TIERRALTA | F64: SKAMBRA | G64: 69.35 | H64: 7 | I64: 7 | J64: 7 | K64: =(H64/I64) -> 1 | L64: =(J64/H64) -> 1 | M64: 17
A65: 63 | B65: 03-019-20 | C65: CORDOBA | D65: Reg. Caribe 2 (Magdal,Córdoba, Sucre y La Guajira). | E65: SISTEMA SILVOPASTORILES EN SAN ANTERO | F65: ANUAGRA | G65: 31.35 | H65: 5 | I65: 6 | J65: 5 | K65: =(H65/I65) -> 0.83333333 | L65: =(J65/H65) -> 1 | M65: 15
A66: 64 | B66: 03-023-20 | C66: CORDOBA | D66: Reg. Caribe 2 (Magdal,Córdoba, Sucre y La Guajira). | E66: PRODUCCION CACHAMA EN SAN JOSE DE URE | F66: ASEDECO | G66: 84.17 | H66: 5 | I66: 6 | J66: 5 | K66: =(H66/I66) -> 0.83333333 | L66: =(J66/H66) -> 1 | M66: 13
A67: 65 | B67: 04-008-20 | C67: LA GUAJIRA | D67: Reg. Caribe 2 (Magdal,Córdoba, Sucre y La Guajira). | E67: TILAPIA - RIOHACHA - ASODESU | F67: ASODESU | G67: 57.95 | H67: 5 | I67: 6 | J67: 5 | K67: =(H67/I67) -> 0.83333333 | L67: =(J67/H67) -> 1 | M67: 15
A68: 66 | B68: 04-010-20 | C68: LA GUAJIRA | D68: Reg. Caribe 2 (Magdal,Córdoba, Sucre y La Guajira). | E68: PISCICOLA - DIBULLA - ASPESCAR | F68: ASPESCAR | G68: 85.18 | H68: 5 | I68: 6 | J68: 5 | K68: =(H68/I68) -> 0.83333333 | L68: =(J68/H68) -> 1 | M68: 13
A69: 67 | B69: 04-012-20 | C69: LA GUAJIRA | D69: Reg. Caribe 2 (Magdal,Córdoba, Sucre y La Guajira). | E69: PISCICOLA - MANAURE - EL PEZ DORADO | F69: EL PEZ DORADO | G69: 51.3 | H69: 5 | I69: 6 | J69: 5 | K69: =(H69/I69) -> 0.83333333 | L69: =(J69/H69) -> 1 | M69: 15
A70: 68 | B70: 03-016-20 | C70: ATLANTICO | D70: Region. Caribe 1. (Atl, Bol,San Andrés y Cesár). | E70: Leche Bovino, Sabanalarga, FUNGACAM II | F70: FUNGACAM II | G70: 74.1 | H70: 7 | I70: 8 | J70: 7 | K70: =(H70/I70) -> 0.875 | L70: =(J70/H70) -> 1 | M70: 14
A71: 69 | B71: 03-017-20 | C71: ATLANTICO | D71: Region. Caribe 1. (Atl, Bol,San Andrés y Cesár). | E71: LECHE BOVINO - POLONUEVO - AMERPOL | F71: AMERPOL | G71: 39 | H71: 7 | I71: 7 | J71: 7 | K71: =(H71/I71) -> 1 | L71: =(J71/H71) -> 1 | M71: 17
A72: 70 | B72: 03-018-20 | C72: ATLANTICO | D72: Region. Caribe 1. (Atl, Bol,San Andrés y Cesár). | E72: TILAPIA - SANTA LUCIA - ASOMUPEAUNISAL | F72: ASOMUPEAUNISAL | G72: 29.5 | H72: 7 | I72: 7 | J72: 7 | K72: =(H72/I72) -> 1 | L72: =(J72/H72) -> 1 | M72: 20
A73: 71 | B73: 04-013-20 | C73: LA GUAJIRA | D73: Reg. Caribe 2 (Magdal,Córdoba, Sucre y La Guajira). | E73: TILAPIA - MAICAO - ASOPISCAGUAJ | F73: ASOPISCAGUAJ | G73: 68.4 | H73: 6 | I73: 6 | J73: 6 | K73: =(H73/I73) -> 1 | L73: =(J73/H73) -> 1 | M73: 13
A74: 72 | B74: 04-014-20 | C74: LA GUAJIRA | D74: Reg. Caribe 2 (Magdal,Córdoba, Sucre y La Guajira). | E74: TILAPIA - SAN JUAN DEL CESAR - ANUC | F74: ANUC | G74: 69.35 | H74: 6 | I74: 7 | J74: 6 | K74: =(H74/I74) -> 0.85714286 | L74: =(J74/H74) -> 1 | M74: 16
A75: 73 | B75: 03-021-20 | C75: ATLANTICO | D75: Region. Caribe 1. (Atl, Bol,San Andrés y Cesár). | E75: LECHE - CANDELARIA .- ASOPACAPEC | F75: ASOPACAPEC | G75: 97.13 | H75: 8 | I75: 8 | J75: 7 | K75: =(H75/I75) -> 1 | L75: =(J75/H75) -> 0.875 | M75: 17
A76: 74 | B76: 03-022-20 | C76: ATLANTICO | D76: Region. Caribe 1. (Atl, Bol,San Andrés y Cesár). | E76: TILAPIA - SABANALARGA - ASOMURACO | F76: ASOMURACO | G76: 67.23 | H76: 7 | I76: 8 | J76: 7 | K76: =(H76/I76) -> 0.875 | L76: =(J76/H76) -> 1 | M76: 21
A77: 75 | B77: 04-015-20 | C77: LA GUAJIRA | D77: Reg. Caribe 2 (Magdal,Córdoba, Sucre y La Guajira). | E77: HUEVO - RIOHACHA - ASOCAVELI | F77: ASOCAVELI | G77: 24.23 | H77: 5 | I77: 5 | J77: 5 | K77: =(H77/I77) -> 1 | L77: =(J77/H77) -> 1 | M77: 14 | N77: EN LIQUIDACIÓN
A78: 76 | B78: 03-024-20 | C78: ATLANTICO | D78: Region. Caribe 1. (Atl, Bol,San Andrés y Cesár). | E78: TILAPIA - SUAN - PECES DE SION | F78: PECES DE SION | G78: 88.03 | H78: 8 | I78: 8 | J78: 7 | K78: =(H78/I78) -> 1 | L78: =(J78/H78) -> 0.875 | M78: 17
A79: 77 | B79: 04-017-20 | C79: LA GUAJIRA | D79: Reg. Caribe 2 (Magdal,Córdoba, Sucre y La Guajira). | E79: PISCICOLA - RIOHACHA - SOMOS DEL MAR | F79: SOMOS DEL MAR | G79: 73.15 | H79: 5 | I79: 6 | J79: 5 | K79: =(H79/I79) -> 0.83333333 | L79: =(J79/H79) -> 1 | M79: 15
A80: 78 | B80: 03-026-20 | C80: ATLANTICO | D80: Region. Caribe 1. (Atl, Bol,San Andrés y Cesár). | E80: Porcicola Baranoa Porkbaranoa | F80: PORKBARANOA | G80: 33.3 | H80: 7 | I80: 7 | J80: 7 | K80: =(H80/I80) -> 1 | L80: =(J80/H80) -> 1 | M80: 14
A81: 79 | B81: 04-001-20 | C81: MAGDALENA | D81: Reg. Caribe 2 (Magdal,Córdoba, Sucre y La Guajira). | E81: AVICOLA - NUEVA GRANADA - ASOPROAVICE | F81: ASOPROAVICE | G81: 44.65 | H81: 5 | I81: 6 | J81: 5 | K81: =(H81/I81) -> 0.83333333 | L81: =(J81/H81) -> 1 | M81: 16
A82: 80 | B82: 04-002-20 | C82: MAGDALENA | D82: Reg. Caribe 2 (Magdal,Córdoba, Sucre y La Guajira). | E82: MAIZ - EL RETEN - ASOMUEM2020 | F82: ASOMUEM2020 | G82: 53.2 | H82: 6 | I82: 6 | J82: 5 | K82: =(H82/I82) -> 1 | L82: =(J82/H82) -> 0.83333333 | M82: 19
A83: 81 | B83: 04-005-20 | C83: MAGDALENA | D83: Reg. Caribe 2 (Magdal,Córdoba, Sucre y La Guajira). | E83: TILAPIA - EL BANCO - APDPM | F83: APDPM | G83: 43.7 | H83: 5 | I83: 5 | J83: 5 | K83: =(H83/I83) -> 1 | L83: =(J83/H83) -> 1 | M83: 15
A84: 82 | B84: 04-003-20 | C84: CESAR | D84: Region. Caribe 1. (Atl, Bol,San Andrés y Cesár). | E84: TOMATE - LA JAGUA DE IBIRICO - LA UNION DEL CAMPO | F84: LA UNION DEL CAMPO | G84: 54.4 | H84: 7 | I84: 8 | J84: 7 | K84: =(H84/I84) -> 0.875 | L84: =(J84/H84) -> 1 | M84: 25
A85: 83 | B85: 04-004-20 | C85: CESAR | D85: Region. Caribe 1. (Atl, Bol,San Andrés y Cesár). | E85: NARANJA - CHIMICHAGUA - ASOCITRICOS | F85: ASOCITRICOS | G85: 74.81 | H85: 7 | I85: 7 | J85: 7 | K85: =(H85/I85) -> 1 | L85: =(J85/H85) -> 1 | M85: 12
A86: 84 | B86: 04-007-20 | C86: MAGDALENA | D86: Reg. Caribe 2 (Magdal,Córdoba, Sucre y La Guajira). | E86: AVICOLA - EL GUAMAL - ASOMUPROAGRORI | F86: ASOMUPROAGRORI | G86: 48.45 | H86: 5 | I86: 5 | J86: 5 | K86: =(H86/I86) -> 1 | L86: =(J86/H86) -> 1 | M86: 21
A87: 85 | B87: 04-006-20 | C87: CESAR | D87: Region. Caribe 1. (Atl, Bol,San Andrés y Cesár). | E87: YUCA - SAN DIEGO - ASODELTOCO | F87: ASODELTOCO | G87: 31.95 | H87: 5 | I87: 7 | J87: 5 | K87: =(H87/I87) -> 0.71428571 | L87: =(J87/H87) -> 1 | M87: 11
A88: 86 | B88: 04-018-20 | C88: MAGDALENA | D88: Reg. Caribe 2 (Magdal,Córdoba, Sucre y La Guajira). | E88: LECHE - SANTA BARBARA DE PINTO - ASOGANSAB | F88: ASOGANSAB | G88: 77.13 | H88: 5 | I88: 5 | J88: 5 | K88: =(H88/I88) -> 1 | L88: =(J88/H88) -> 1 | M88: 15
A89: 87 | B89: 04-019-20 | C89: MAGDALENA | D89: Reg. Caribe 2 (Magdal,Córdoba, Sucre y La Guajira). | E89: TILAPIA - PIJIÑO DEL CARMEN - ASOPROBRILLANTE | F89: ASOPROBRILLANTE | G89: 64.6 | H89: 5 | I89: 5 | J89: 5 | K89: =(H89/I89) -> 1 | L89: =(J89/H89) -> 1 | M89: 14
... A94: 92 | B94: 03-007-20 | C94: SUCRE | D94: Reg. Caribe 2 (Magdal,Córdoba, Sucre y La Guajira). | E94: COMECIALIZACION DE 140 HECTAREAS DE YUCA INDUSTRIA EN BUENAVISTA | F94: NUEVA SANTA INES | G94: 87.4 | H94: 5 | I94: 5 | J94: 5 | K94: =(H94/I94) -> 1 | L94: =(J94/H94) -> 1 | M94: 15
A95: 93 | B95: 03-012-20 | C95: SUCRE | D95: Reg. Caribe 2 (Magdal,Córdoba, Sucre y La Guajira). | E95: PRODUCCIÓN DE LECHE Y SU AGROINDUSTRIA EN LA PRODUCCION DE QUESO COSTEÑO EN SINCELEJO | F95: ASOCIACION DEL CABILDO MENOR SAN ANTONIO | G95: 29.27 | H95: 4 | I95: 4 | J95: 4 | K95: =(H95/I95) -> 1 | L95: =(J95/H95) -> 1 | M95: 13 | N95: EN LIQUIDACIÓN
A96: 94 | B96: 03-020-20 | C96: SUCRE | D96: Reg. Caribe 2 (Magdal,Córdoba, Sucre y La Guajira). | E96: PRODUCCION Y COMERCIALIZACIÓN DE LECHE DE CABRA EN SINCELEJO | F96: APUCAM | G96: 34.2 | H96: 6 | I96: 6 | J96: 5 | K96: =(H96/I96) -> 1 | L96: =(J96/H96) -> 0.83333333 | M96: 15
A97: 95 | B97: 03-025-20 | C97: SUCRE | D97: Reg. Caribe 2 (Magdal,Córdoba, Sucre y La Guajira). | E97: ASOCIATIVAS DE PEQUEÑOS PRODUCTORES DE HORTALIZAS EN EL MUNICIPIO DE SINCELEJO | F97: ASPPE | G97: 27.55 | H97: 6 | I97: 6 | J97: 6 | K97: =(H97/I97) -> 1 | L97: =(J97/H97) -> 1 | M97: 17
A98: 96 | B98: 03-027-20 | C98: SUCRE | D98: Reg. Caribe 2 (Magdal,Córdoba, Sucre y La Guajira). | E98: REACTIVACIÓN PRODUCTIVA RURAL POR UN SUCRE DIFERENTE | F98: INNOVACAMP | G98: 5.84 | H98: 4 | I98: 4 | J98: 4 | K98: =(H98/I98) -> 1 | L98: =(J98/H98) -> 1 | M98: 14 | N98: EN LIQUIDACIÓN
A99: 97 | B99: 04-021-20 | C99: SAN ANDRES Y PROVIDENCIA | D99: Region. Caribe 1. (Atl, Bol,San Andrés y Cesár). | E99: PIMENTON - PEPINO - SAN ANDRES - RAIZAL YOUTH | F99: RAIZAL YOUTH | G99: 25 | H99: 3 | I99: 8 | J99: 3 | K99: =(H99/I99) -> 0.375 | L99: =(J99/H99) -> 1 | M99: 9 | N99: EN LIQUIDACIÓN
A100: 98 | B100: 04-022-20 | C100: SAN ANDRES Y PROVIDENCIA | D100: Region. Caribe 1. (Atl, Bol,San Andrés y Cesár). | E100: TOMATE - PIMENTON - SAN ANDRES - NEW DAWN | F100: NEW DAWN | G100: 21.79 | H100: 3 | I100: 6 | J100: 3 | K100: =(H100/I100) -> 0.5 | L100: =(J100/H100) -> 1 | M100: 7 | N100: EN LIQUIDACIÓN
A101: 99 | B101: 04-023-20 | C101: SAN ANDRES Y PROVIDENCIA | D101: Region. Caribe 1. (Atl, Bol,San Andrés y Cesár). | E101: TOMATE - PROVIDENCIA - ECOFARMERS | F101: ECOFARMERS | G101: 19.15 | H101: 3 | I101: 6 | J101: 3 | K101: =(H101/I101) -> 0.5 | L101: =(J101/H101) -> 1 | M101: 2 | N101: EN LIQUIDACIÓN
A102: 100 | B102: 04-024-20 | C102: CESAR | D102: Region. Caribe 1. (Atl, Bol,San Andrés y Cesár). | E102: PLATANO - LA PAZ - ASOPROAGRO | F102: ASOPROAGRO | G102: 65.6 | H102: 7 | I102: 8 | J102: 7 | K102: =(H102/I102) -> 0.875 | L102: =(J102/H102) -> 1 | M102: 13
A103: 101 | B103: 04-025-20 | C103: CESAR | D103: Region. Caribe 1. (Atl, Bol,San Andrés y Cesár). | E103: GANADERIA CARNE - AGUACHICA - GREA | F103: GREA | G103: 67.5 | H103: 7 | I103: 8 | J103: 7 | K103: =(H103/I103) -> 0.875 | L103: =(J103/H103) -> 1 | M103: 17
A104: 102 | B104: 05-001-20 | C104: BOYACÁ | D104: Reg. Centro (Toli,Boy,Cun,Huil). | E104: LECHE - MOTAVITA - ASOAGROMOT | F104: ASOAGROMOT | G104: 88 | H104: 6 | I104: 7 | J104: 6 | K104: =(H104/I104) -> 0.85714286 | L104: =(J104/H104) -> 1 | M104: 16
A105: 103 | B105: 05-002-20 | C105: BOYACÁ | D105: Reg. Centro (Toli,Boy,Cun,Huil). | E105: HORTALIZAS - DUITAMA - USOCHICAMOCHA | F105: USOCHICAMOCHA | G105: 0 | H105: 3 | I105: 3 | J105: 2 | K105: =(H105/I105) -> 1 | L105: =(J105/H105) -> 0.66666667 | M105: 8 | N105: EN LIQUIDACIÓN
A106: 104 | B106: 05-003-20 | C106: BOYACÁ | D106: Reg. Centro (Toli,Boy,Cun,Huil). | E106: LECHE - CHIQUINQUIRA - COOCAMPO | F106: COOCAMPO | G106: 92 | H106: 3 | I106: 3 | J106: 3 | K106: =(H106/I106) -> 1 | L106: =(J106/H106) -> 1 | M106: 17
A107: 105 | B107: 05-004-20 | C107: HUILA | D107: Reg. Centro (Toli,Boy,Cun,Huil). | E107: MORA - HOBO - ASFRUHOBO | F107: ASFRUHOBO | G107: 52 | H107: 4 | I107: 5 | J107: 5 | K107: =(H107/I107) -> 0.8 | L107: =(J107/H107) -> 1.25 | M107: 11
A108: 106 | B108: 05-005-20 | C108: CUNDINAMARCA | D108: Reg. Centro (Toli,Boy,Cun,Huil). | E108: HORTALIZAS - CHOACHI - ASOHORTICULTORAS | F108: ASOHORTICULTORAS | G108: 79.11 | H108: 6 | I108: 7 | J108: 6 | K108: =(H108/I108) -> 0.85714286 | L108: =(J108/H108) -> 1 | M108: 21
A109: 107 | B109: 05-006-20 | C109: HUILA | D109: Reg. Centro (Toli,Boy,Cun,Huil). | E109: ACHIRA - SAN AGUSTÍN - ASOPRIACHIGUS | F109: ASOPRIACHIGUS | G109: 71 | H109: 4 | I109: 5 | J109: 4 | K109: =(H109/I109) -> 0.8 | L109: =(J109/H109) -> 1 | M109: 14
A110: 108 | B110: 05-007-20 | C110: CUNDINAMARCA | D110: Reg. Centro (Toli,Boy,Cun,Huil). | E110: CEBADA - LENGUAZAQUE - ASOAGROPEL | F110: ASOAGROPEL | G110: 68 | H110: 6 | I110: 7 | J110: 6 | K110: =(H110/I110) -> 0.85714286 | L110: =(J110/H110) -> 1 | M110: 19
A111: 109 | B111: 05-008-20 | C111: HUILA | D111: Reg. Centro (Toli,Boy,Cun,Huil). | E111: PANELA - ISNOS - ASOPROPADI | F111: ASOPROPADI | G111: 87.15 | H111: 6 | I111: 6 | J111: 5 | K111: =(H111/I111) -> 1 | L111: =(J111/H111) -> 0.83333333 | M111: 16
A112: 110 | B112: 05-009-20 | C112: HUILA | D112: Reg. Centro (Toli,Boy,Cun,Huil). | E112: MIEL - NEIVA - CERRO CHIFLON | F112: CERRO CHIFLON | G112: 64 | H112: 4 | I112: 5 | J112: 4 | K112: =(H112/I112) -> 0.8 | L112: =(J112/H112) -> 1 | M112: 12
A113: 111 | B113: 05-010-20 | C113: HUILA | D113: Reg. Centro (Toli,Boy,Cun,Huil). | E113: PLATANO - PALERMO - ASPROPLABAP | F113: ASPROPLABAP | G113: 44 | H113: 4 | I113: 5 | J113: 4 | K113: =(H113/I113) -> 0.8 | L113: =(J113/H113) -> 1 | M113: 12
A114: 112 | B114: 05-011-20 | C114: BOYACÁ | D114: Reg. Centro (Toli,Boy,Cun,Huil). | E114: PAPA - CHIQUIZA - AGRO-SANTUARIO | F114: AGRO-SANTUARIO | G114: 45.46 | H114: 5 | I114: 5 | J114: 5 | K114: =(H114/I114) -> 1 | L114: =(J114/H114) -> 1 | M114: 15
A115: 113 | B115: 05-012-20 | C115: TOLIMA | D115: Reg. Centro (Toli,Boy,Cun,Huil). | E115: GUANABANA - FRESNO - ASOMUFRES | F115: ASOMUFRES | G115: 81.49 | H115: 5 | I115: 6 | J115: 3 | K115: =(H115/I115) -> 0.83333333 | L115: =(J115/H115) -> 0.6 | M115: 10
A116: 114 | B116: 05-013-20 | C116: BOYACÁ | D116: Reg. Centro (Toli,Boy,Cun,Huil). | E116: PAPA - UMBITA - COOUMBIPAPA | F116: COOUMBIPAPA | G116: 78.85 | H116: 4 | I116: 4 | J116: 4 | K116: =(H116/I116) -> 1 | L116: =(J116/H116) -> 1 | M116: 13
A117: 115 | B117: 05-014-20 | C117: TOLIMA | D117: Reg. Centro (Toli,Boy,Cun,Huil). | E117: AGUACATE HASS - HERVEO - ASFRUHER | F117: ASFRUHER | G117: 36.37 | H117: 4 | I117: 4 | J117: 4 | K117: =(H117/I117) -> 1 | L117: =(J117/H117) -> 1 | M117: 9
... A139: 137 | B139: 07-001-20 | C139: META | D139: Reg. Llanos y Orinoquia. (Arau,Casan,Met y Vicha). | E139: LECHE - MACARENA - ASMUCACD | F139: ASMUCACD | G139: 99.9 | H139: 5 | I139: 5 | J139: 5 | K139: =(H139/I139) -> 1 | L139: =(J139/H139) -> 1 | M139: 19
A140: 138 | B140: 07-002-20 | C140: CASANARE | D140: Reg. Llanos y Orinoquia. (Arau,Casan,Met y Vicha). | E140: PIÑA - AGUAZUL - ASOEMPRENCA | F140: ASOEMPRENCA | G140: =91*0.95 -> 86.45 | H140: 5 | I140: 5 | J140: 5 | K140: =(H140/I140) -> 1 | L140: =(J140/H140) -> 1 | M140: 14
...

Sheet poas
A1: CONVENIO | B1: DESEMPEÑO TOTAL POA % | C1: % DE EJECUCIÓN INCENTIVO MODULAR
A2: 02-001-20 | B2: 0.0825 | C2: 0
A3: 02-002-20 | B3: 0.0976 | C3: 0
A4: 02-003-20 | B4: 0.9999 | C4: 0
A5: 02-004-20 | B5: 0.1645 | C5: 0.0594
A6: 02-005-20 | B6: 0.1628 | C6: 0
A7: 02-006-20 | B7: 0.31 | C7: 0.057
A8: 02-007-20 | B8: 0.2517 | C8: 0.054
A9: 02-008-20 | B9: 0.2752 | C9: 0.0611
A10: 02-009-20 | B10: 0.2054 | C10: 0.0713
A11: 02-010-20 | B11: 0.2226 | C11: 0
A12: 02-011-20 | B12: 0.21 | C12: 0
A13: 02-012-20 | B13: 0.3554 | C13: 0.0535
... A179: 07-021-20 | B179: 0.31517552 | C179: 0.064848485

Sheet Hoja6
B1: CONVENIO | C1: DEPARTAMENTO | D1: REGIÓN | E1: ALIANZA | F1: DESEMPEÑO TOTAL POA % | G1: Visitas Realizadas | H1: Plan de Monitoreo | I1: Informe de Monitoreo OGR | J1: % DE EJECUCIÓN INCENTIVO MODULAR | K1: No. VISITAS REALIZADAS VS VISITAS PROYECTADAS - 13/11/2021 % | L1: INFORME DE MONITOREO REPORTADOS VS VISITAS REALIZADAS | M1: Actas de CDA (firmadas y en pdf) | N1: Documentos Cargados
B2: 01-001-20 | C2: CAUCA | D2: Reg. Pacífico (Cau,Nar,Val y Choc). | E2: ASMUPGRAMI | F2: =VLOOKUP(B2,'%'!$A$1:$J$179,5,0) -> 0 | G2: 0 | H2: 1 | I2: =VLOOKUP(B2,DOCUMENTOS!$A$1:$D$178,3,0) -> 1 | J2: =VLOOKUP(B2,'%'!$A$1:$J$179,10,0) -> 0 | K2: 0 | L2: 0 | M2: =VLOOKUP(B2,DOCUMENTOS!$A$1:$D$178,2,0) -> 1 | N2: =VLOOKUP(B2,DOCUMENTOS!$A$1:$D$178,4,0) -> 9
B3: 01-002-20 | C3: CAUCA | D3: Reg. Pacífico (Cau,Nar,Val y Choc). | E3: ASOMOREROS | F3: =VLOOKUP(B3,'%'!$A$1:$J$179,5,0) -> 0.4 | G3: 0 | H3: 1 | I3: =VLOOKUP(B3,DOCUMENTOS!$A$1:$D$178,3,0) -> 1 | J3: =VLOOKUP(B3,'%'!$A$1:$J$179,10,0) -> 0 | K3: 0 | L3: 0 | M3: =VLOOKUP(B3,DOCUMENTOS!$A$1:$D$178,2,0) -> 1 | N3: =VLOOKUP(B3,DOCUMENTOS!$A$1:$D$178,4,0) -> 7
B4: 01-003-20 | C4: CAUCA | D4: Reg. Pacífico (Cau,Nar,Val y Choc). | E4: ASPROBALBOA | F4: =VLOOKUP(B4,'%'!$A$1:$J$179,5,0) -> 0 | G4: 0 | H4: 1 | I4: =VLOOKUP(B4,DOCUMENTOS!$A$1:$D$178,3,0) -> 2 | J4: =VLOOKUP(B4,'%'!$A$1:$J$179,10,0) -> 0 | K4: 0 | L4: 0 | M4: =VLOOKUP(B4,DOCUMENTOS!$A$1:$D$178,2,0) -> 1 | N4: =VLOOKUP(B4,DOCUMENTOS!$A$1:$D$178,4,0) -> 7
B5: 01-004-20 | C5: CAUCA | D5: Reg. Pacífico (Cau,Nar,Val y Choc). | E5: ASPROPAPA TOTORO | F5: =VLOOKUP(B5,'%'!$A$1:$J$179,5,0) -> 0 | G5: 0 | H5: 1 | I5: =VLOOKUP(B5,DOCUMENTOS!$A$1:$D$178,3,0) -> 2 | J5: =VLOOKUP(B5,'%'!$A$1:$J$179,10,0) -> 0 | K5: 0 | L5: 0 | M5: =VLOOKUP(B5,DOCUMENTOS!$A$1:$D$178,2,0) -> 1 | N5: =VLOOKUP(B5,DOCUMENTOS!$A$1:$D$178,4,0) -> 6
B6: 01-005-20 | C6: CAUCA | D6: Reg. Pacífico (Cau,Nar,Val y Choc). | E6: APROPESCA | F6: =VLOOKUP(B6,'%'!$A$1:$J$179,5,0) -> 0.21 | G6: 1 | H6: 1 | I6: =VLOOKUP(B6,DOCUMENTOS!$A$1:$D$178,3,0) -> 0 | J6: =VLOOKUP(B6,'%'!$A$1:$J$179,10,0) -> 0 | K6: 1 | L6: 0 | M6: =VLOOKUP(B6,DOCUMENTOS!$A$1:$D$178,2,0) -> 2 | N6: =VLOOKUP(B6,DOCUMENTOS!$A$1:$D$178,4,0) -> 8
B7: 01-006-20 | C7: CAUCA | D7: Reg. Pacífico (Cau,Nar,Val y Choc). | E7: APEGANCABI | F7: =VLOOKUP(B7,'%'!$A$1:$J$179,5,0) -> 0 | G7: 0 | H7: 0 | I7: =VLOOKUP(B7,DOCUMENTOS!$A$1:$D$178,3,0) -> 0 | J7: =VLOOKUP(B7,'%'!$A$1:$J$179,10,0) -> 0 | K7: 0 | L7: 0 | M7: =VLOOKUP(B7,DOCUMENTOS!$A$1:$D$178,2,0) -> 1 | N7: =VLOOKUP(B7,DOCUMENTOS!$A$1:$D$178,4,0) -> 8
B8: 01-007-20 | C8: VALLE DEL CAUCA | D8: Reg. Pacífico (Cau,Nar,Val y Choc). | E8: FUNMUFROT | F8: =VLOOKUP(B8,'%'!$A$1:$J$179,5,0) -> 0.11 | G8: 1 | H8: 1 | I8: =VLOOKUP(B8,DOCUMENTOS!$A$1:$D$178,3,0) -> 4 | J8: =VLOOKUP(B8,'%'!$A$1:$J$179,10,0) -> 0 | K8: 1 | L8: 0 | M8: =VLOOKUP(B8,DOCUMENTOS!$A$1:$D$178,2,0) -> 1 | N8: =VLOOKUP(B8,DOCUMENTOS!$A$1:$D$178,4,0) -> 11
B9: 01-008-20 | C9: VALLE DEL CAUCA | D9: Reg. Pacífico (Cau,Nar,Val y Choc). | E9: ASOAPAZ | F9: =VLOOKUP(B9,'%'!$A$1:$J$179,5,0) -> 0.16 | G9: 1 | H9: 1 | I9: =VLOOKUP(B9,DOCUMENTOS!$A$1:$D$178,3,0) -> 4 | J9: =VLOOKUP(B9,'%'!$A$1:$J$179,10,0) -> 0 | K9: 1 | L9: 0 | M9: =VLOOKUP(B9,DOCUMENTOS!$A$1:$D$178,2,0) -> 1 | N9: =VLOOKUP(B9,DOCUMENTOS!$A$1:$D$178,4,0) -> 11
B10: 01-009-20 | C10: CAUCA | D10: Reg. Pacífico (Cau,Nar,Val y Choc). | E10: ASAGRAMPI | F10: =VLOOKUP(B10,'%'!$A$1:$J$179,5,0) -> 0 | G10: 1 | H10: 1 | I10: =VLOOKUP(B10,DOCUMENTOS!$A$1:$D$178,3,0) -> 0 | J10: =VLOOKUP(B10,'%'!$A$1:$J$179,10,0) -> 0 | K10: 1 | L10: 0 | M10: =VLOOKUP(B10,DOCUMENTOS!$A$1:$D$178,2,0) -> 2 | N10: =VLOOKUP(B10,DOCUMENTOS!$A$1:$D$178,4,0) -> 8
B11: 01-010-20 | C11: VALLE DEL CAUCA | D11: Reg. Pacífico (Cau,Nar,Val y Choc). | E11: COONOGALES | F11: =VLOOKUP(B11,'%'!$A$1:$J$179,5,0) -> 0.12 | G11: 1 | H11: 1 | I11: =VLOOKUP(B11,DOCUMENTOS!$A$1:$D$178,3,0) -> 4 | J11: =VLOOKUP(B11,'%'!$A$1:$J$179,10,0) -> 0 | K11: 1 | L11: 0 | M11: =VLOOKUP(B11,DOCUMENTOS!$A$1:$D$178,2,0) -> 1 | N11: =VLOOKUP(B11,DOCUMENTOS!$A$1:$D$178,4,0) -> 11
B12: 01-011-20 | C12: VALLE DEL CAUCA | D12: Reg. Pacífico (Cau,Nar,Val y Choc). | E12: NASAFRUT | F12: =VLOOKUP(B12,'%'!$A$1:$J$179,5,0) -> 0.14 | G12: 1 | H12: 1 | I12: =VLOOKUP(B12,DOCUMENTOS!$A$1:$D$178,3,0) -> 4 | J12: =VLOOKUP(B12,'%'!$A$1:$J$179,10,0) -> 0 | K12: 1 | L12: 0 | M12: =VLOOKUP(B12,DOCUMENTOS!$A$1:$D$178,2,0) -> 1 | N12: =VLOOKUP(B12,DOCUMENTOS!$A$1:$D$178,4,0) -> 10
B13: 01-012-20 | C13: CHOCÓ | D13: Reg. Pacífico (Cau,Nar,Val y Choc). | E13: ASOAGROTCH | F13: =VLOOKUP(B13,'%'!$A$1:$J$179,5,0) -> 0 | G13: 1 | H13: 1 | I13: =VLOOKUP(B13,DOCUMENTOS!$A$1:$D$178,3,0) -> 1 | J13: =VLOOKUP(B13,'%'!$A$1:$J$179,10,0) -> 0 | K13: 1 | L13: 0 | M13: =VLOOKUP(B13,DOCUMENTOS!$A$1:$D$178,2,0) -> 0 | N13: =VLOOKUP(B13,DOCUMENTOS!$A$1:$D$178,4,0) -> 2
... B178: 08-017-20 | C178: VAUPES | D178: Reg. Amozanía (Caq, Put, Guani, Amazo, Guav, Vaupe). | E178: ASMIPALMAR | F178: =VLOOKUP(B178,'%'!$A$1:$J$179,5,0) -> 0.0416 | G178: 1 | H178: 2 | I178: =VLOOKUP(B178,DOCUMENTOS!$A$1:$D$178,3,0) -> 1 | J178: =VLOOKUP(B178,'%'!$A$1:$J$179,10,0) -> 0 | K178: 0.5 | L178: 0 | M178: =VLOOKUP(B178,DOCUMENTOS!$A$1:$D$178,2,0) -> 4 | N178: =VLOOKUP(B178,DOCUMENTOS!$A$1:$D$178,4,0) -> 13
B179: 03-001-20 | C179: BOLIVAR | D179: Region. Caribe 1. (Atl, Bol, Cord y Suc). | E179: ASOMUDEPAS | F179: =VLOOKUP(B179,'%'!$A$1:$J$179,5,0) -> 0 | G179: 0 | H179: 0 | I179: 0 | J179: =VLOOKUP(B179,'%'!$A$1:$J$179,10,0) -> 0 | K179: 0 | L179: 0 | M179: 0 | N179: 0
O180: 325 | P180: 1348

Sheet Hoja7
B2: DEPARTAMENTOS | C2: ALIANZAS | D2: AVANCE TÉCNICO DE EJECUCIÓN % (PROMEDIO % DE LOS 5 COMPONENTES DEL POA) | E2: No. VISITAS REALIZADAS VS VISITAS PROYECTADAS - 13/11/2021 % | F2: VISITAS REALIZADAS REPORTADAS - 13/11/2021 | G2: % de ejecución incentivo modular | H2: Actas CDA Cargadas | I2: Documentos Cargados
B3: Reg. Amozanía (Caq, Put, Guani, Amazo, Guav, Vaupe). | C3: 20 | D3: 0.15178542 | E3: 0.59444444 | F3: 27 | G3: 0.073456389 | H3: 94 | I3: 275
B4: AMAZONAS | C4: 2 | D4: 0.02555 | E4: 1 | F4: 2 | G4: 0 | H4: 4 | I4: 17
B5: CAQUETA | C5: 3 | D5: 0.5015 | E5: 0.66666667 | F5: 5 | G5: 0.33333333 | H5: 15 | I5: 43
B6: GUAINIA | C6: 1 | D6: 0 | E6: 0.33333333 | F6: 1 | G6: 0 | H6: 3 | I6: 9
B7: GUAVIARE | C7: 5 | D7: 0.1549 | E7: 0.56666667 | F7: 6 | G7: 0.06478 | H7: 22 | I7: 65
B8: PUTUMAYO | C8: 8 | D8: 0.1871625 | E8: 0.5 | F8: 12 | G8: 0.042625 | H8: 46 | I8: 128
B9: VAUPES | C9: 1 | D9: 0.0416 | E9: 0.5 | F9: 1 | G9: 0 | H9: 4 | I9: 13
B10: Reg. Caribe 2 (Magdal,Gua,SanAndr y Cesa ). | C10: 31 | D10: 0.17142333 | E10: 1 | F10: 62 | G10: 0.062788704 | H10: 171 | I10: 483
B11: CORDOBA | C11: 9 | D11: 0.14642347 | E11: 1 | F11: 18 | G11: 0.15060125 | H11: 48 | I11: 142
B12: LA GUAJIRA | C12: 7 | D12: 0.23438367 | E12: 1 | F12: 14 | G12: 0.051757143 | H12: 36 | I12: 110
B13: MAGDALENA | C13: 7 | D13: 0.1719642 | E13: 1 | F13: 14 | G13: 0.014171429 | H13: 35 | I13: 101
B14: SUCRE | C14: 8 | D14: 0.132922 | E14: 1 | F14: 16 | G14: 0.034625 | H14: 52 | I14: 130
B15: Reg. Centro (Toli,Boy,Cun,Huil). | C15: 22 | D15: 0.17092202 | E15: 0.77083333 | F15: 67 | G15: =SUM(G16:G19)/4 -> 0.005 | H15: 101 | I15: 474
B16: BOYACÁ | C16: 7 | D16: 0.10055714 | E16: 0.88333333 | F16: 25 | G16: 0 | H16: 32 | I16: 126
B17: CUNDINAMARCA | C17: 2 | D17: 0.2449 | E17: 1 | F17: 9 | G17: 0 | H17: 14 | I17: 51
B18: HUILA | C18: 6 | D18: 0.075416667 | E18: 0.5 | F18: 12 | G18: 0.02 | H18: 25 | I18: 124
B19: TOLIMA | C19: 7 | D19: 0.26281429 | E19: 0.7 | F19: 21 | G19: 0 | H19: 30 | I19: 173
B20: Reg. Eje Cafetero y Antio (Cal,Qui,Ris y Antio). | C20: 27 | D20: 0.16292083 | E20: 0.82440476 | F20: 45 | G20: =SUM(G21:G24)/4 -> 0.030025 | H20: 130 | I20: 419
B21: ANTIOQUIA | C21: 7 | D21: 0.1385 | E21: 0.9047619 | F21: 14 | G21: 0 | H21: 34 | I21: 122
B22: CALDAS | C22: 7 | D22: 0.21751429 | E22: 1 | F22: 14 | G22: 0.0927 | H22: 20 | I22: 94
B23: QUINDIO | C23: 6 | D23: 0.069983333 | E23: 0.91666667 | F23: 10 | G23: 0 | H23: 33 | I23: 90
B24: RISARALDA | C24: 7 | D24: 0.22568571 | E24: 0.47619048 | F24: 7 | G24: 0.0274 | H24: 43 | I24: 113
B25: Reg. Llanos y Orinoquia. (Arau,Casan,Met y Vicha). | C25: 21 | D25: 0.3922645 | E25: 1 | F25: 62 | G25: 0.17267992 | H25: 93 | I25: 376
B26: ARAUCA | C26: 9 | D26: 0.33238591 | E26: 1 | F26: 27 | G26: 0.020222222 | H26: 45 | I26: 171
B27: CASANARE | C27: 6 | D27: 0.44368705 | E27: 1 | F27: 17 | G27: 0.092677475 | H27: 26 | I27: 105
B28: META | C28: 5 | D28: 0.44741261 | E28: 1 | F28: 15 | G28: 0.04282 | H28: 18 | I28: 83
B29: VICHADA | C29: 1 | D29: 0.34557243 | E29: 1 | F29: 3 | G29: 0.535 | H29: 4 | I29: 17
B30: Reg. Pacífico (Cau,Nar,Val y Choc). | C30: 26 | D30: 0.11185714 | E30: 0.82142857 | F30: 21 | G30: 0.037625 | H30: 27 | I30: 152
B31: CAUCA | C31: 7 | D31: 0.087142857 | E31: 0.28571429 | F31: 2 | G31: 0 | H31: 9 | I31: 46
B32: CHOCÓ | C32: 7 | D32: 0.057142857 | E32: 1 | F32: 7 | G32: 0 | H32: 6 | I32: 32
... B42: SAN ANDRES Y PROVIDENCIA | C42: 3 | D42: 0.17546667 | E42: 0.8 | F42: 6 | G42: 0.18823333 | H42: 6 | I42: 35
B43: Total general | C43: 178

Sheet Hoja2
A3: Etiquetas de fila | B3: Suma de Actas de CDA (firmadas y en pdf) | C3: Suma de Documentos Cargados
A4: Reg. Amozanía (Caq, Put, Guani, Amazo, Guav, Vaupe). | B4: 94 | C4: 275
A5: AMAZONAS | B5: 4 | C5: 17
A6: CAQUETA | B6: 15 | C6: 43
A7: GUAINIA | B7: 3 | C7: 9
A8: GUAVIARE | B8: 22 | C8: 65
A9: PUTUMAYO | B9: 46 | C9: 128
A10: VAUPES | B10: 4 | C10: 13
A11: Reg. Caribe 2 (Magdal,Gua,SanAndr y Cesa ). | B11: 171 | C11: 483
A12: CORDOBA | B12: 48 | C12: 142
A13: LA GUAJIRA | B13: 36 | C13: 110
A14: MAGDALENA | B14: 35 | C14: 101
A15: SUCRE | B15: 52 | C15: 130
... A44: Total general | B44: 776 | C44: 2693

Sheet DOCUMENTOS
A1: Etiquetas de fila | B1: Actas de CDA (firmadas y en pdf) | C1: Informe de Monitoreo OGR | D1: Total general
A2: 01-001-20 | B2: 1 | C2: 1 | D2: 9
A3: 01-002-20 | B3: 1 | C3: 1 | D3: 7
A4: 01-003-20 | B4: 1 | C4: 2 | D4: 7
A5: 01-004-20 | B5: 1 | C5: 2 | D5: 6
A6: 01-005-20 | B6: 2 | D6: 8
A7: 01-006-20 | B7: 1 | D7: 8
A8: 01-007-20 | B8: 1 | C8: 4 | D8: 11
A9: 01-008-20 | B9: 1 | C9: 4 | D9: 11
A10: 01-009-20 | B10: 2 | D10: 8
A11: 01-010-20 | B11: 1 | C11: 4 | D11: 11
A12: 01-011-20 | B12: 1 | C12: 4 | D12: 10
A13: 01-012-20 | C13: 1 | D13: 2
A14: 01-013-20 | B14: 1 | C14: 5 | D14: 10
A15: 01-014-20 | B15: 1 | C15: 1 | D15: 6
A16: 01-015-20 | B16: 1 | C16: 1 | D16: 4
A17: 01-016-20 | B17: 1 | C17: 1 | D17: 8
A18: 01-017-20 | B18: 1 | C18: 5 | D18: 13
A19: 01-018-20 | B19: 1 | C19: 4 | D19: 12
A20: 01-019-20 | B20: 1 | C20: 5 | D20: 12
A21: 01-020-20 | B21: 1 | C21: 4 | D21: 8
A22: 01-021-20 | B22: 1 | C22: 5 | D22: 12
A23: 01-022-20 | B23: 1 | C23: 1 | D23: 3
A24: 01-023-20 | B24: 1 | C24: 5 | D24: 15
A25: 01-024-20 | B25: 1 | C25: 4 | D25: 9
... A108: 05-006-20 | B108: 5 | C108: 3 | D108: 27
A109: 05-007-20 | B109: 8 | D109: 29
A110: 05-008-20 | B110: 6 | C110: 3 | D110: 27
A111: 05-009-20 | B111: 4 | C111: 3 | D111: 26
A112: 05-010-20 | B112: 4 | C112: 3 | D112: 22
A113: 05-011-20 | B113: 6 | C113: 3 | D113: 24
A114: 05-012-20 | B114: 5 | C114: 1 | D114: 29
A115: 05-013-20 | B115: 7 | C115: 3 | D115: 25
A116: 05-014-20 | B116: 4 | C116: 1 | D116: 26
A117: 05-015-20 | B117: 5 | C117: 1 | D117: 30
A118: 05-016-20 | B118: 5 | D118: 24
A119: 05-017-20 | B119: 5 | C119: 3 | D119: 27
A120: 05-018-20 | B120: 6 | C120: 2 | D120: 31
A121: 05-019-20 | B121: 7 | C121: 2 | D121: 34
A122: 05-020-20 | B122: 8 | C122: 2 | D122: 25
A123: 05-021-20 | B123: 7 | C123: 3 | D123: 21
A124: 05-022-20 | B124: 6 | C124: 2 | D124: 36
A125: 06-001-20 | B125: 8 | C125: 2 | D125: 20
A126: 06-002-20 | B126: 6 | C126: 3 | D126: 20
A127: 06-003-20 | B127: 8 | C127: 2 | D127: 20
A128: 06-004-20 | B128: 6 | C128: 2 | D128: 16
A129: 06-005-20 | B129: 7 | C129: 2 | D129: 19
A130: 06-008-20 | B130: 5 | C130: 2 | D130: 16
... A178: 08-020-20 | B178: 2 | C178: 1 | D178: 8

Sheet %
A1: CONVENIO | B1: DEPARTAMENTO | C1: REGIÓN | D1: ALIANZA | E1: AVANCE % DE LA ALIANZA | F1: DESEMPEÑO TOTAL POA % | G1: VISITAS REALIZADAS | H1: PLAN DE MONITORE0 | I1: INFORME DE MONITOREO | J1: % DE EJECUCIÓN INCENTIVO MODULAR
A2: 08-019-20 | B2: AMAZONAS | C2: Reg. Amozanía (Caq, Put, Guani, Amazo, Guav, Vaupe). | D2: ASOMEPED | E2: 0 | F2: 0 | G2: 1 | H2: 0 | I2: 0 | J2: 0
A3: 08-020-20 | B3: AMAZONAS | C3: Reg. Amozanía (Caq, Put, Guani, Amazo, Guav, Vaupe). | D3: AJI,LETICIA,APPAIAM | E3: 0.0511 | J3: 0
A4: 03-016-20 | B4: ATLANTICO | C4: Region. Caribe 1. (Atl, Bol, Cord y Suc). | D4: FUNGACAM II | E4: 0.4695 | F4: 1 | G4: 2 | H4: 7 | I4: 2 | J4: 0.5
A5: 03-017-20 | B5: ATLANTICO | C5: Region. Caribe 1. (Atl, Bol, Cord y Suc). | D5: AMERPOL | E5: 0.1828 | F5: 1 | G5: 2 | H5: 7 | I5: 3 | J5: 0
A6: 03-018-20 | B6: ATLANTICO | C6: Region. Caribe 1. (Atl, Bol, Cord y Suc). | D6: ASOMUPEAUNISAL | E6: 0 | F6: 0 | G6: 2 | H6: 7 | I6: 2 | J6: 0
A7: 03-021-20 | B7: ATLANTICO | C7: Region. Caribe 1. (Atl, Bol, Cord y Suc). | D7: ASOPACAPEC | E7: 0.3029 | F7: 0.98 | G7: 4 | H7: 8 | I7: 2 | J7: 0.0647
A8: 03-022-20 | B8: ATLANTICO | C8: Region. Caribe 1. (Atl, Bol, Cord y Suc). | D8: ASOMURACO | E8: 0 | F8: 0 | G8: 2 | H8: 7 | I8: 2 | J8: 0
A9: 03-024-20 | B9: ATLANTICO | C9: Region. Caribe 1. (Atl, Bol, Cord y Suc). | D9: PECES DE SION | E9: 0.0233 | F9: 0.04 | G9: 2 | H9: 7 | I9: 2 | J9: 0
A10: 03-026-20 | B10: ATLANTICO | C10: Region. Caribe 1. (Atl, Bol, Cord y Suc). | D10: PORKBARANOA | E10: 0.1765 | F10: 0.52 | G10: 2 | H10: 7 | I10: 2 | J10: 0
A11: 03-002-20 | B11: BOLIVAR | C11: Region. Caribe 1. (Atl, Bol, Cord y Suc). | D11: AMUSI | E11: 0.3194 | F11: 0.73 | G11: 3 | H11: 7 | I11: 2 | J11: 0
A12: 03-006-20 | B12: BOLIVAR | C12: Region. Caribe 1. (Atl, Bol, Cord y Suc). | D12: ASOMUVICA | E12: 0.5427 | F12: 0.86 | G12: 3 | H12: 7 | I12: 2 | J12: 0
A13: 03-001-20 | B13: BOLIVAR | C13: Region. Caribe 1. (Atl, Bol, Cord y Suc). | D13: ASOMUDEPAS | F13: 0 | G13: 1 | H13: 0 | I13: 0 | J13: 0
A14: 08-010-20 | B14: CAQUETA | C14: Reg. Amozanía (Caq, Put, Guani, Amazo, Guav, Vaupe). | D14: AGROPEZ ALBANIA | E14: 0.7145 | F14: 0 | G14: 1 | H14: 5 | I14: 0 | J14: 0
A15: 08-012-20 | B15: CAQUETA | C15: Reg. Amozanía (Caq, Put, Guani, Amazo, Guav, Vaupe). | D15: ASOPISCIRICO | E15: 0.3192 | F15: 0 | G15: 1 | H15: 5 | I15: 0 | J15: 1
A16: 08-015-20 | B16: CAQUETA | C16: Reg. Amozanía (Caq, Put, Guani, Amazo, Guav, Vaupe). | D16: AGROPAUJIL | E16: 0.4708 | F16: 0 | G16: 1 | H16: 5 | I16: 0 | J16: 0
A17: 04-004-20 | B17: CESAR | C17: Region. Caribe 1. (Atl, Bol, Cord y Suc). | D17: ASOCITRICOS | E17: 0.3185 | F17: 0.59 | G17: 2 | H17: 7 | I17: 2 | J17: 0
A18: 04-006-20 | B18: CESAR | C18: Region. Caribe 1. (Atl, Bol, Cord y Suc). | D18: ASODELTOCO | E18: 0.2035 | F18: 0.62 | G18: 1 | H18: 7 | I18: 2 | J18: 0
A19: 04-024-20 | B19: CESAR | C19: Region. Caribe 1. (Atl, Bol, Cord y Suc). | D19: ASOPROAGRO | E19: 0.2853 | F19: 0.8 | G19: 2 | H19: 7 | I19: 2 | J19: 0
A20: 04-025-20 | B20: CESAR | C20: Region. Caribe 1. (Atl, Bol, Cord y Suc). | D20: GREA | E20: 0.1732 | F20: 0.9 | G20: 2 | H20: 7 | I20: 2 | J20: 0
A21: 04-003-20 | B21: CESAR | C21: Region. Caribe 1. (Atl, Bol, Cord y Suc). | D21: LA UNION DEL CAMPO | E21: 0.2198 | F21: 0.83 | G21: 1 | H21: 7 | I21: 3 | J21: 0
A22: 08-007-20 | B22: GUAINIA | C22: Reg. Amozanía (Caq, Put, Guani, Amazo, Guav, Vaupe). | D22: ASOPIG | E22: 0 | F22: 0 | G22: 1 | H22: 6 | I22: 1 | J22: 0
A23: 08-011-20 | B23: GUAVIARE | C23: Reg. Amozanía (Caq, Put, Guani, Amazo, Guav, Vaupe). | D23: ASOMUSEPAZ | E23: 0.3811 | F23: 1 | G23: 1 | H23: 5 | I23: 1 | J23: 0.0739
A24: 08-013-20 | B24: GUAVIARE | C24: Reg. Amozanía (Caq, Put, Guani, Amazo, Guav, Vaupe). | D24: ASOCOMIGAN | E24: 0 | F24: 0 | G24: 1 | H24: 5 | I24: 1 | J24: 0
A25: 08-014-20 | B25: GUAVIARE | C25: Reg. Amozanía (Caq, Put, Guani, Amazo, Guav, Vaupe). | D25: FENACHO | E25: 0.1765 | F25: 0.38 | G25: 1 | H25: 5 | I25: 1 | J25: 0.25
... A149: 02-015-20 | B149: CALDAS | C149: Reg. Eje Cafetero y Antio (Cal,Qui,Ris y Antio). | D149: ASOPROCHOER | E149: 0.2714 | F149: 0.065 | G149: 1 | H149: 5 | I149: 1 | J149: 0
A150: 02-016-20 | B150: CALDAS | C150: Reg. Eje Cafetero y Antio (Cal,Qui,Ris y Antio). | D150: ASPROPHACAL | E150: 0.0301 | F150: 0 | G150: 1 | H150: 5 | I150: 0 | J150: =64.91/100 -> 0.6491
A151: 02-017-20 | B151: CALDAS | C151: Reg. Eje Cafetero y Antio (Cal,Qui,Ris y Antio). | D151: ASOPROMAC | E151: 0.1805 | F151: 0 | G151: 1 | H151: 5 | I151: 1 | J151: 0
A152: 05-005-20 | B152: CUNDINAMARCA | C152: Reg. Centro (Toli,Boy,Cun,Huil). | D152: ASOHORTICULTORAS | E152: 0.088 | F152: 0.31 | G152: 1 | H152: 4 | I152: 0 | J152: 0
A153: 05-007-20 | B153: CUNDINAMARCA | C153: Reg. Centro (Toli,Boy,Cun,Huil). | D153: ASOAGROPEL | E153: 0.4018 | F153: 0 | G153: 1 | H153: 4 | I153: 0 | J153: 0
A154: 05-004-20 | B154: HUILA | C154: Reg. Centro (Toli,Boy,Cun,Huil). | D154: ASFRUHOBO | E154: 0.0701 | F154: 0.47 | G154: 1 | H154: 4 | I154: 0 | J154: 0
A155: 05-017-20 | B155: HUILA | C155: Reg. Centro (Toli,Boy,Cun,Huil). | D155: COOPROCAFES | E155: 0.2311 | F155: 0.56 | G155: 2 | H155: 4 | I155: 0 | J155: 0.02
A156: 05-006-20 | B156: HUILA | C156: Reg. Centro (Toli,Boy,Cun,Huil). | D156: ASOPRIACHIGUS | E156: 0 | F156: 0 | G156: 1 | H156: 4 | I156: 1 | J156: 0
A157: 05-008-20 | B157: HUILA | C157: Reg. Centro (Toli,Boy,Cun,Huil). | D157: ASOPROPADI | E157: 0.1513 | F157: 0.61 | G157: 1 | H157: 4 | I157: 0 | J157: 0
A158: 05-009-20 | B158: HUILA | C158: Reg. Centro (Toli,Boy,Cun,Huil). | D158: CERRO CHIFLON | E158: 0 | F158: 0 | G158: 0 | H158: 4 | I158: 0 | J158: 0
A159: 05-010-20 | B159: HUILA | C159: Reg. Centro (Toli,Boy,Cun,Huil). | D159: ASPROPLABAP | E159: 0 | F159: 0 | G159: 0 | H159: 4 | I159: 0 | J159: 0
A160: 02-001-20 | B160: QUINDIO | C160: Reg. Eje Cafetero y Antio (Cal,Qui,Ris y Antio). | D160: ASOPYCA | E160: 0.0692 | F160: 0.16 | G160: 1 | H160: 5 | I160: 1 | J160: 0
A161: 02-002-20 | B161: QUINDIO | C161: Reg. Eje Cafetero y Antio (Cal,Qui,Ris y Antio). | D161: PROCORD | E161: 0.0697 | F161: 0.84 | G161: 1 | H161: 5 | I161: 1 | J161: 0
A162: 02-003-20 | B162: QUINDIO | C162: Reg. Eje Cafetero y Antio (Cal,Qui,Ris y Antio). | D162: ASPROFIL | E162: 0.1758 | F162: 0.25 | G162: 1 | H162: 0 | I162: 1 | J162: 0
... A165: 02-025-20 | B165: QUINDIO | C165: Reg. Eje Cafetero y Antio (Cal,Qui,Ris y Antio). | D165: ASOHORTICAS | E165: 0.0152 | F165: 0 | G165: 1 | H165: 5 | I165: 1 | J165: 0
A166: 02-004-20 | B166: RISARALDA | C166: Reg. Eje Cafetero y Antio (Cal,Qui,Ris y Antio). | D166: ASLUBEL | E166: 0.1231 | F166: 0.2 | G166: 1 | H166: 5 | I166: 1 | J166: =5.94/100 -> 0.0594
A167: 02-005-20 | B167: RISARALDA | C167: Reg. Eje Cafetero y Antio (Cal,Qui,Ris y Antio). | D167: AGROMUJER | E167: 0.1446 | F167: 0.5 | G167: 1 | H167: 5 | I167: 1 | J167: 0
A168: 02-006-20 | B168: RISARALDA | C168: Reg. Eje Cafetero y Antio (Cal,Qui,Ris y Antio). | D168: ASOPLAD | E168: 0.3056 | F168: 1 | G168: 1 | H168: 5 | I168: 1 | J168: 0
A169: 02-007-20 | B169: RISARALDA | C169: Reg. Eje Cafetero y Antio (Cal,Qui,Ris y Antio). | D169: AMMUCAMP | E169: 0.2517 | F169: 0.99 | G169: 1 | H169: 5 | I169: 1 | J169: 0
A170: 02-008-20 | B170: RISARALDA | C170: Reg. Eje Cafetero y Antio (Cal,Qui,Ris y Antio). | D170: AMMUCID | E170: 0.2666 | F170: 0.85 | G170: 1 | H170: 5 | I170: 1 | J170: =6.11/100 -> 0.0611
A171: 02-009-20 | B171: RISARALDA | C171: Reg. Eje Cafetero y Antio (Cal,Qui,Ris y Antio). | D171: ASPLABEL | E171: 0.1658 | F171: 0.87 | G171: 1 | H171: 0 | I171: 1 | J171: =7.13/100 -> 0.0713
A172: 02-012-20 | B172: RISARALDA | C172: Reg. Eje Cafetero y Antio (Cal,Qui,Ris y Antio). | D172: APITASA | E172: 0.3224 | F172: 1 | G172: 1 | H172: 5 | I172: 1 | J172: 0
A173: 05-012-20 | B173: TOLIMA | C173: Reg. Centro (Toli,Boy,Cun,Huil). | D173: ASOMUFRES | E173: 0.2338 | F173: 0.29 | G173: 1 | H173: 4 | I173: 1 | J173: 0
A174: 05-014-20 | B174: TOLIMA | C174: Reg. Centro (Toli,Boy,Cun,Huil). | D174: ASFRUHER | E174: 0.1883 | F174: 0.52 | G174: 1 | H174: 4 | I174: 1 | J174: 0
A175: 05-015-20 | B175: TOLIMA | C175: Reg. Centro (Toli,Boy,Cun,Huil). | D175: AGROUNION VEGONEZ | E175: 0.2031 | F175: 0.3 | G175: 3 | H175: 4 | I175: 1 | J175: 0
A176: 05-016-20 | B176: TOLIMA | C176: Reg. Centro (Toli,Boy,Cun,Huil). | D176: ASOPROMECOL | E176: 0.1627 | F176: 0.37 | G176: 2 | H176: 4 | I176: 0 | J176: 0
A177: 05-019-20 | B177: TOLIMA | C177: Reg. Centro (Toli,Boy,Cun,Huil). | D177: ADIMCOL | E177: 0.36 | F177: 0.52 | G177: 2 | H177: 5 | I177: 2 | J177: 0
A178: 05-022-20 | B178: TOLIMA | C178: Reg. Centro (Toli,Boy,Cun,Huil). | D178: APAACEGUTOL | E178: 0.3863 | F178: 0.37 | G178: 1 | H178: 4 | I178: 2 | J178: 0
A179: 05-018-20 | B179: TOLIMA | C179: Reg. Centro (Toli,Boy,Cun,Huil). | D179: ASOGANALP | E179: 0.3055 | F179: 0.31 | G179: 0 | H179: 4 | I179: 0 | J179: 0

Sheet MONITOREO
A1: Etiquetas de fila | B1: Cuenta de Fecha programada de visita(Fecha inicial) | C1: Cuenta de FechaRealVisita
A2: 01-001-20 | B2: 5 | C2: 2
A3: 01-002-20 | B3: 6 | C3: 3
A4: 01-003-20 | B4: 5 | C4: 2
A5: 01-004-20 | B5: 7 | C5: 3
A6: 01-005-20 | B6: 6 | C6: 2
A7: 01-007-20 | B7: 5 | C7: 4
A8: 01-008-20 | B8: 5 | C8: 4
A9: 01-009-20 | B9: 10 | C9: 2
A10: 01-010-20 | B10: 5 | C10: 4
A11: 01-011-20 | B11: 5 | C11: 4
A12: 01-012-20 | B12: 2 | C12: 2
A13: 01-013-20 | B13: 6 | C13: 5
... A105: 05-004-20 | B105: 5 | C105: 3
A106: 05-005-20 | B106: 4
A107: 05-006-20 | B107: 5 | C107: 3
A108: 05-007-20 | B108: 4
A109: 05-008-20 | B109: 5 | C109: 3
A110: 05-009-20 | B110: 5 | C110: 3
A111: 05-010-20 | B111: 5 | C111: 3
A112: 05-011-20 | B112: 6 | C112: 5
A113: 05-012-20 | B113: 5 | C113: 4
A114: 05-013-20 | B114: 4 | C114: 4
A115: 05-014-20 | B115: 5 | C115: 2
A116: 05-015-20 | B116: 5 | C116: 4
A117: 05-016-20 | B117: 5 | C117: 3
A118: 05-017-20 | B118: 5 | C118: 3
A119: 05-018-20 | B119: 6 | C119: 4
A120: 05-019-20 | B120: 5 | C120: 3
... A177: 08-020-20 | B177: 1 | C177: 1
