Workbook

Sheet CONSOLIDADO
A1: REGIONAL | B1: ALIANZA | C1: FASE | D1: No. CONVENIO MARD | E1: COD. FIDUCIARIO | F1: DEPARTAMENTO | G1: FECHA DE GIRO | H1: INCENTIVO MODULAR | I1: 44378 | J1: 44409 | K1: 44440 | L1: 44470 | M1: 44501 | N1: 44531 | O1: 44562 | P1: 44593 | Q1: 44621 | R1: 44652 | S1: 44682 | T1: 44713 | U1: 44743 | V1: 44774 | W1: 44805 | X1: 44835 | Y1: 44866 | Z1: 44896 | AA1: REINTEGRO DTN | AB1: RECURSOS EJECUTADOS EN PAGOS | AC1: EJECUCIÓN % | AD1: MONITOREOS PAGOS | AE1: VISITA SEGUNDO DESEMBOLSO | AF1: SALDO SIN EJECUTAR | AG1: OBSERVACIONES | AH1: N° Meses Ejecución IM
A2: AMAZONIA | B2: ASOMUSEPAZ | C2: I | D2: 08-011-20 | E2: 396435 | F2: GUAVIARE | G2: 44251 | H2: 144834000 | J2: 10700000 | K2: 5133499 | L2: 16877833 | M2: 18477833 | N2: 23055666 | P2: 21777833 | Q2: 6177833 | R2: 6177833 | S2: 25755670 | T2: 10700000 | AB2: =SUM(I2:AA2) -> 144834000 | AC2: =AB2/H2 -> 1 | AD2: =Amazonía!V13 -> 13 | AE2: 44524 | AF2: =H2-AB2 -> 0 | AG2: EN EJECUCIÓN | AH2: =COUNT(I2:Z2) -> 10
A3: CARIBE 1 | B3: ASOMUDEPAS | C3: I | D3: 03-001-20 | E3: 396492 | F3: BOLIVAR | G3: 44251 | H3: 160000000 | AA3: 160000000 | AB3: =SUM(I3:AA3) -> 160000000 | AC3: =AB3/H3 -> 1 | AD3: ='Caribe I'!S3 -> 0 | AE3: - | AF3: =H3-AB3 -> 0 | AG3: LIQUIDADA | AH3: =COUNT(I3:Z3) -> 0
A4: CENTRAL | B4: ADIMCOL | C4: I | D4: 05-019-20 | E4: 396985 | F4: TOLIMA | G4: 44256 | H4: 199336000 | J4: 10700000 | K4: 15079100 | M4: 30201796 | N4: 21000000 | O4: 5280000 | Q4: 23511336 | R4: 10700000 | S4: 33077847 | T4: 23470261 | W4: 11755660 | X4: 14560000 | AB4: =SUM(I4:AA4) -> 199336000 | AC4: =AB4/H4 -> 1 | AD4: =Central!R21 -> 8 | AE4: 44599 | AF4: =H4-AB4 -> 0 | AG4: EN EJECUCIÓN | AH4: =COUNT(I4:Z4) -> 11
A5: AMAZONIA | B5: FENACHO | C5: I | D5: 08-014-20 | E5: 396499 | F5: GUAVIARE | G5: 44251 | H5: 200000000 | K5: 10700000 | M5: 7135666 | N5: 7135666 | O5: 14077833 | P5: 38813000 | Q5: 7135666 | R5: 3377833 | S5: 8260000 | T5: 53768666 | U5: 22017833 | V5: 16877833 | W5: 10700000 | AB5: =SUM(I5:AA5) -> 199999996 | AC5: =AB5/H5 -> 0.99999998 | AD5: =Amazonía!V16 -> 14 | AE5: 44655 | AF5: =H5-AB5 -> 4 | AG5: EN EJECUCIÓN | AH5: =COUNT(I5:Z5) -> 12
A6: EJE CAFETERO Y ANTIOQUIA | B6: ASPROPHACAL | C6: I | D6: 02-016-20 | E6: 397365 | F6: CALDAS | G6: 44267 | H6: 164840000 | M6: 10700000 | AA6: =153000000+1139900 -> 154139900 | AB6: =SUM(I6:AA6) -> 164839900 | AC6: =AB6/H6 -> 0.99999939 | AD6: ='Eje Cafetero'!U18 -> 4 | AE6: - | AF6: =H6-AB6 -> 100 | AG6: LIQUIDACIÓN ANT. | AH6: =COUNT(I6:Z6) -> 1
A7: AMAZONIA | B7: PECES LA DORADA | C7: I | D7: 08-001-20 | E7: 396429 | F7: PUTUMAYO | G7: 44251 | H7: 174990000 | J7: 10500000 | N7: 64060944 | O7: 4879833 | Q7: 15379833 | R7: 32438666 | S7: 8006000 | T7: 15461499 | U7: 13762670 | W7: 10500000 | AB7: =SUM(I7:AA7) -> 174989445 | AC7: =AB7/H7 -> 0.99999683 | AD7: =Amazonía!V3 -> 14 | AE7: 44602 | AF7: =H7-AB7 -> 555 | AG7: EN EJECUCIÓN | AH7: =COUNT(I7:Z7) -> 9
A8: AMAZONIA | B8: AGROALPUTUMAYO | C8: I | D8: 08-002-20 | E8: 396493 | F8: PUTUMAYO | G8: 44251 | H8: 200000000 | J8: 10700000 | K8: 1754666 | L8: 2877333 | M8: 25077333 | N8: 5377333 | O8: 45210333 | P8: 2500000 | Q8: 12755666 | R8: 62410833 | S8: 5377833 | T8: 7627833 | U8: 7627837 | W8: 10700000 | AB8: =SUM(I8:AA8) -> 199997000 | AC8: =AB8/H8 -> 0.999985 | AD8: =Amazonía!V4 -> 14 | AE8: 44610 | AF8: =H8-AB8 -> 3000 | AG8: EN EJECUCIÓN | AH8: =COUNT(I8:Z8) -> 13
A9: AMAZONIA | B9: ASOPEZ | C9: I | D9: 08-004-20 | E9: 396426 | F9: PUTUMAYO | G9: 44251 | H9: 200000000 | J9: 10500000 | N9: 66679159 | O9: 4879833 | Q9: 18259666 | R9: 46609573 | T9: 28803499 | V9: 13760670 | W9: 10500000 | AB9: =SUM(I9:AA9) -> 199992400 | AC9: =AB9/H9 -> 0.999962 | AD9: =Amazonía!V6 -> 14 | AE9: 44601 | AF9: =H9-AB9 -> 7600 | AG9: EN EJECUCIÓN | AH9: =COUNT(I9:Z9) -> 8
A10: AMAZONIA | B10: SANAGROS | C10: I | D10: 08-005-20 | E10: 396431 | F10: PUTUMAYO | G10: 44251 | H10: 199894000 | J10: 10700000 | K10: 1755666 | L10: 5877833 | M10: 13577833 | N10: 12877833 | O10: 41797833 | Q10: 11755666 | R10: 60209433 | S10: 8877833 | T10: 10877833 | U10: 10877837 | W10: 10700000 | AB10: =SUM(I10:AA10) -> 199885600 | AC10: =AB10/H10 -> 0.99995798 | AD10: =Amazonía!V7 -> 14 | AE10: 44611 | AF10: =H10-AB10 -> 8400 | AG10: EN EJECUCIÓN | AH10: =COUNT(I10:Z10) -> 12
A11: EJE CAFETERO Y ANTIOQUIA | B11: ASOMUCHACHA | C11: I | D11: 02-020-20 | E11: 396523 | F11: ANTIOQUIA | G11: 44252 | H11: 122349000 | J11: 10700000 | L11: 16785830 | M11: 11042430 | N11: 6085830 | O11: 6104000 | P11: 10416000 | Q11: 15455660 | R11: 6085830 | T11: 15929660 | V11: 13031354 | X11: 10700000 | AB11: =SUM(I11:AA11) -> 122336594 | AC11: =AB11/H11 -> 0.9998986 | AD11: ='Eje Cafetero'!U22 -> 13 | AE11: 44602 | AF11: =H11-AB11 -> 12406 | AG11: EN EJECUCIÓN | AH11: =COUNT(I11:Z11) -> 11
A12: AMAZONIA | B12: COMUCCOM | C12: I | D12: 08-009-20 | E12: 396491 | F12: PUTUMAYO | G12: 44251 | H12: 198865000 | K12: 10500000 | M12: 26755666 | N12: 43673470 | Q12: 23133250 | R12: 56043833 | S12: 4000000 | T12: 12481499 | U12: 11754670 | W12: 10500000 | AB12: =SUM(I12:AA12) -> 198842388 | AC12: =AB12/H12 -> 0.99988629 | AD12: =Amazonía!V11 -> 14 | AE12: 44603 | AF12: =H12-AB12 -> 22612 | AG12: EN EJECUCIÓN | AH12: =COUNT(I12:Z12) -> 9
A13: EJE CAFETERO Y ANTIOQUIA | B13: ASOPROCHOER | C13: I | D13: 02-015-20 | E13: 396500 | F13: CALDAS | G13: 44252 | H13: 164650000 | J13: 10700000 | N13: 10700000 | O13: 12277100 | P13: 4556900 | Q13: 18690025 | S13: 48232500 | T13: 2106800 | U13: 18233800 | V13: 28433803 | W13: 10700000 | AB13: =SUM(I13:AA13) -> 1.6463093e+08 | AC13: =AB13/H13 -> 0.99988417 | AD13: ='Eje Cafetero'!U17 -> 13 | AE13: 44671 | AF13: =H13-AB13 -> 19071.86 | AG13: EN EJECUCIÓN | AH13: =COUNT(I13:Z13) -> 10
A14: AMAZONIA | B14: ASOGASIB | C14: I | D14: 08-006-20 | E14: 396893 | F14: PUTUMAYO | G14: 44252 | H14: 200000000 | J14: 10700000 | K14: 1755666 | M14: 23455500 | N14: 8877750 | O14: 46588850 | Q14: 23455500 | R14: 46708850 | S14: 6377750 | T14: 10627667 | U14: 9750000 | V14: 877667 | W14: 10700000 | AB14: =SUM(I14:AA14) -> 199875200 | AC14: =AB14/H14 -> 0.999376 | AD14: =Amazonía!V8 -> 14 | AE14: 44609 | AF14: =H14-AB14 -> 124800 | AG14: EN EJECUCIÓN | AH14: =COUNT(I14:Z14) -> 12
A15: AMAZONIA | B15: ASAV | C15: I | D15: 08-003-20 | E15: 396430 | F15: PUTUMAYO | G15: 44251 | H15: 199734000 | J15: 10700000 | K15: =2000000+2333000+1755666 -> 6088666 | L15: 5210833 | M15: 20710833 | N15: 49798833 | O15: 5210833 | Q15: 18788666 | R15: 47465833 | S15: 2877833 | T15: 3877833 | U15: 17000000 | V15: 877833 | W15: 10700000 | AB15: =SUM(I15:AA15) -> 199307996 | AC15: =AB15/H15 -> 0.99786714 | AD15: =Amazonía!V5 -> 14 | AE15: 44608 | AF15: =H15-AB15 -> 426004 | AG15: EN EJECUCIÓN | AH15: =COUNT(I15:Z15) -> 13
A16: AMAZONIA | B16: AJERV | C16: I | D16: 08-008-20 | E16: 396428 | F16: PUTUMAYO | G16: 44251 | H16: 159897000 | J16: 10500000 | M16: 2633250 | N16: 54455500 | P16: 1320000 | Q16: 24255500 | S16: 4877750 | T16: 30261250 | V16: 19755500 | W16: 10500000 | AB16: =SUM(I16:AA16) -> 158558750 | AC16: =AB16/H16 -> 0.99163055 | AD16: =Amazonía!V10 -> 14 | AE16: 44604 | AF16: =H16-AB16 -> 1338250 | AG16: EN EJECUCIÓN | AH16: =COUNT(I16:Z16) -> 9
A17: EJE CAFETERO Y ANTIOQUIA | B17: ASPROFIL | C17: I | D17: 02-003-20 | E17: 396812 | F17: QUINDIO | G17: 44252 | H17: 179623000 | M17: 8000000 | N17: 3877000 | O17: 3877000 | P17: 3877000 | Q17: 25040000 | R17: 13477750 | S17: 37565594 | T17: 14000000 | V17: 7754000 | X17: 58666290 | AB17: =SUM(I17:AA17) -> 176134634 | AC17: =AB17/H17 -> 0.98057951 | AD17: ='Eje Cafetero'!U5 -> 13 | AE17: 44713 | AF17: =H17-AB17 -> 3488366 | AG17: EN EJECUCIÓN | AH17: =COUNT(I17:Z17) -> 10
A18: AMAZONIA | B18: AGROPAUJIL | C18: I | D18: 08-015-20 | E18: 396881 | F18: CAQUETA | G18: 44252 | H18: 200000000 | J18: 10700000 | L18: 10700000 | M18: 8000000 | N18: 19520000 | O18: 26450000 | P18: 25900000 | Q18: 5500000 | R18: 40570000 | S18: 5500000 | T18: 16266500 | U18: 5500000 | V18: 10255500 | W18: 10700000 | AB18: =SUM(I18:AA18) -> 195562000 | AC18: =AB18/H18 -> 0.97781 | AD18: =Amazonía!V17 -> 13 | AE18: 44637 | AF18: =H18-AB18 -> 4438000 | AG18: EN EJECUCIÓN | AH18: =COUNT(I18:Z18) -> 13
A19: PACIFICO | B19: COONOGALES | C19: I | D19: 01-010-20 | E19: 396855 | F19: VALLE DEL CAUCA | G19: 44252 | H19: 200000000 | L19: 20700000 | N19: 26200000 | O19: 500000 | Q19: 1000000 | T19: 42670051 | V19: 39200000 | W19: 31701000 | X19: 33502058 | AB19: =SUM(I19:AA19) -> 195473109 | AC19: =AB19/H19 -> 0.97736554 | AD19: =Pacífico!U12 -> 11 | AE19: 44742 | AF19: =H19-AB19 -> 4526891 | AG19: EN EJECUCIÓN | AH19: =COUNT(I19:Z19) -> 8
A20: PACIFICO | B20: APROPESCA | C20: I | D20: 01-005-20 | E20: 396505 | F20: CAUCA | G20: 44252 | H20: 199800000 | N20: 15700000 | O20: 21180000 | Q20: 52173500 | R20: 40590623 | S20: 28761469 | T20: 600000 | V20: 24238184 | W20: 11300000 | AB20: =SUM(I20:AA20) -> 194543776 | AC20: =AB20/H20 -> 0.97369257 | AD20: =Pacífico!U7 -> 11 | AE20: 44639 | AF20: =H20-AB20 -> 5256224 | AG20: EN EJECUCIÓN | AH20: =COUNT(I20:Z20) -> 8
A21: LLANOS Y ORINOQUIA | B21: ASEGAVA | C21: I | D21: 07-018-20 | E21: 396578 | F21: ARAUCA | G21: 44251 | H21: 132533000 | J21: 10700000 | M21: 11577833 | N21: 9000000 | O21: 8633499 | P21: 3877833 | Q21: 14400000 | S21: 877833 | T21: 26217833 | U21: 17783499 | V21: 877833 | W21: 18933837 | X21: 6000000 | AB21: =SUM(I21:AA21) -> 128880000 | AC21: =AB21/H21 -> 0.97243705 | AD21: =Llanos!U20 -> 12 | AE21: 44642 | AF21: =H21-AB21 -> 3653000 | AG21: EN EJECUCIÓN | AH21: =COUNT(I21:Z21) -> 12
A22: EJE CAFETERO Y ANTIOQUIA | B22: AMMUCAMP | C22: I | D22: 02-007-20 | E22: 396520 | F22: RISARALDA | G22: 44252 | H22: 200000000 | J22: 10700000 | M22: 10700000 | N22: 9255668 | P22: 9255668 | Q22: 61731834 | R22: 19077834 | T22: 60181177 | V22: 3377834 | W22: 9255668 | X22: 877826 | AB22: =SUM(I22:AA22) -> 1.9441351e+08 | AC22: =AB22/H22 -> 0.97206754 | AD22: ='Eje Cafetero'!U9 -> 13 | AE22: 44658 | AF22: =H22-AB22 -> 5586491.7 | AG22: EN EJECUCIÓN | AH22: =COUNT(I22:Z22) -> 10
A23: LLANOS Y ORINOQUIA | B23: ASOPROAGRO SARARE | C23: I | D23: 07-010-20 | E23: 397208 | F23: ARAUCA | G23: 44267 | H23: 169987000 | K23: 10700000 | M23: 3377833 | N23: 24835233 | O23: 18669873 | P23: 5000000 | Q23: 4107833 | R23: 8950000 | T23: 45783000 | U23: 3230000 | W23: 39886202 | AB23: =SUM(I23:AA23) -> 164539974 | AC23: =AB23/H23 -> 0.96795622 | AD23: =Llanos!U12 -> 13 | AE23: 44672 | AF23: =H23-AB23 -> 5447026 | AG23: EN EJECUCIÓN | AH23: =COUNT(I23:Z23) -> 10
A24: LLANOS Y ORINOQUIA | B24: ASOLESACA | C24: I | D24: 07-007-20 | E24: 396609 | F24: CASANARE | G24: 44251 | H24: 200000000 | J24: 10700000 | L24: 3000000 | M24: 8155666 | N24: 6800000 | O24: 6000000 | P24: 21733499 | R24: 40788047 | T24: 57251960 | V24: 30783666 | X24: 6400000 | AB24: =SUM(I24:AA24) -> 191612838 | AC24: =AB24/H24 -> 0.95806419 | AD24: =Llanos!U9 -> 13 | AE24: 44678 | AF24: =H24-AB24 -> 8387162 | AG24: EN EJECUCIÓN | AH24: =COUNT(I24:Z24) -> 10
A25: PACIFICO | B25: SAN NICOLAS | C25: I | D25: 01-019-20 | E25: 397343 | F25: NARIÑO | G25: 44267 | H25: 184180000 | K25: 10700000 | M25: 11700000 | N25: 29000000 | R25: 6900000 | S25: 3300000 | T25: 22200080 | U25: 22116000 | V25: 8500000 | W25: 45900000 | X25: 16000000 | AB25: =SUM(I25:AA25) -> 176316080 | AC25: =AB25/H25 -> 0.95730307 | AD25: =Pacífico!U21 -> 11 | AE25: 44737 | AF25: =H25-AB25 -> 7863920 | AG25: EN EJECUCIÓN | AH25: =COUNT(I25:Z25) -> 10
A26: PACIFICO | B26: ASOINAP | C26: I | D26: 01-013-20 | E26: 397235 | F26: NARIÑO | G26: 44267 | H26: 199296000 | S26: 22200000 | T26: 23000000 | U26: 31000000 | V26: 18450000 | W26: 65864400 | X26: 29296000 | AB26: =SUM(I26:AA26) -> 189810400 | AC26: =AB26/H26 -> 0.95240446 | AD26: =Pacífico!U15 -> 10 | AE26: 44763 | AF26: =H26-AB26 -> 9485600 | AG26: EN EJECUCIÓN | AH26: =COUNT(I26:Z26) -> 6
A27: LLANOS Y ORINOQUIA | B27: ASOPANEL | C27: I | D27: 07-003-20 | E27: 397011 | F27: META | G27: 44256 | H27: 200000000 | J27: 10700000 | L27: 3500000 | M27: 19833499 | N27: 10377833 | Q27: 10500000 | S27: 20500000 | T27: 55751998 | V27: 58136666 | AB27: =SUM(I27:AA27) -> 189299996 | AC27: =AB27/H27 -> 0.94649998 | AD27: =Llanos!U5 -> 13 | AE27: 44673 | AF27: =H27-AB27 -> 10700004 | AG27: EN EJECUCIÓN | AH27: =COUNT(I27:Z27) -> 8
A28: SANTANDERES | B28: ASOFRUTAS | C28: I | D28: 06-011-20 | E28: 396879 | F28: NORTE DE SANTANDER | G28: 44252 | H28: 199942636 | K28: 10700000 | L28: 6000000 | M28: 6000000 | N28: 16700000 | O28: 6000000 | Q28: 12000000 | T28: 42530650 | V28: 27000000 | W28: 56310650 | X28: 6000000 | AB28: =SUM(I28:AA28) -> 1.892413e+08 | AC28: =AB28/H28 -> 0.94647797 | AD28: =Santanderes!U11 -> 13 | AE28: 44757 | AF28: =H28-AB28 -> 10701336 | AG28: EN EJECUCIÓN | AH28: =COUNT(I28:Z28) -> 10
A29: SANTANDERES | B29: ASOCAMC | C29: I | D29: 06-001-20 | E29: 397316 | F29: SANTANDER | G29: 44260 | H29: 200000000 | J29: 10700000 | L29: 6020000 | M29: 20736000 | N29: 6020000 | O29: 3700000 | P29: 34800000 | Q29: 6020000 | R29: 10700000 | S29: 6020000 | T29: 12040000 | U29: 60340000 | V29: 12040000 | AB29: =SUM(I29:AA29) -> 189136000 | AC29: =AB29/H29 -> 0.94568 | AD29: =Santanderes!U3 -> 13 | AE29: 44616 | AF29: =H29-AB29 -> 10864000 | AG29: EN EJECUCIÓN | AH29: =COUNT(I29:Z29) -> 12
A30: CARIBE 1 | B30: FUNGACAM | C30: I | D30: 03-016-20 | E30: 396997 | F30: ATLANTICO | G30: 44253 | H30: 199565000 | K30: 10000000 | L30: 14769750 | M30: 12315250 | N30: 25577750 | O30: 10977750 | P30: 10100000 | Q30: 11855500 | R30: 25469750 | S30: 10000000 | T30: 11855500 | U30: 6177750 | V30: 15400000 | W30: 9900000 | X30: 14300000 | AB30: =SUM(I30:AA30) -> 188699000 | AC30: =AB30/H30 -> 0.94555157 | AD30: ='Caribe I'!S6 -> 12 | AE30: 44622 | AF30: =H30-AB30 -> 10866000 | AG30: EN EJECUCIÓN | AH30: =COUNT(I30:Z30) -> 14
A31: LLANOS Y ORINOQUIA | B31: ASOPCARI | C31: I | D31: 07-006-20 | E31: 397072 | F31: META | G31: 44256 | H31: 199940000 | I31: 10700000 | L31: 6500000 | M31: 16833499 | N31: 10377833 | P31: 8755666 | S31: 29209000 | T31: 54011332 | V31: 3500000 | W31: 1755666 | X31: 47200000 | AB31: =SUM(I31:AA31) -> 188842996 | AC31: =AB31/H31 -> 0.94449833 | AD31: =Llanos!U8 -> 13 | AE31: 44704 | AF31: =H31-AB31 -> 11097004 | AG31: EN EJECUCIÓN | AH31: =COUNT(I31:Z31) -> 10
A32: PACIFICO | B32: FUNMUFROT | C32: I | D32: 01-007-20 | E32: 396811 | F32: VALLE DEL CAUCA | G32: 44252 | H32: 200000000 | K32: =13500000+2800000 -> 16300000 | L32: 5600000 | M32: 500000 | N32: 26100000 | P32: 46500000 | R32: 12200000 | T32: 72200000 | U32: 1000000 | V32: 5600000 | X32: 2800000 | AB32: =SUM(I32:AA32) -> 188800000 | AC32: =AB32/H32 -> 0.944 | AD32: =Pacífico!U9 -> 11 | AE32: 44608 | AF32: =H32-AB32 -> 11200000 | AG32: EN EJECUCIÓN | AH32: =COUNT(I32:Z32) -> 10
A33: EJE CAFETERO Y ANTIOQUIA | B33: ASOPACO | C33: I | D33: 02-023-20 | E33: 396859 | F33: ANTIOQUIA | G33: 44252 | H33: 184960000 | K33: 10700000 | N33: 13900000 | O33: 6900000 | P33: 7716000 | Q33: 10100000 | R33: 28810000 | S33: 17600000 | T33: 6900000 | V33: 17500000 | W33: 38237438 | X33: 15895483 | AB33: =SUM(I33:AA33) -> 1.7425892e+08 | AC33: =AB33/H33 -> 0.94214382 | AD33: ='Eje Cafetero'!U25 -> 13 | AE33: 44655 | AF33: =H33-AB33 -> 10701079 | AG33: EN EJECUCIÓN | AH33: =COUNT(I33:Z33) -> 11
A34: CARIBE 1 | B34: ASOMUPEAUNISAL | C34: I | D34: 03-018-20 | E34: 396996 | F34: ATLANTICO | G34: 44253 | H34: 199999999 | I34: 10000000 | N34: 13555500 | O34: 18877750 | P34: 3877750 | Q34: 3877750 | R34: 23202217 | S34: 21498588 | T34: 44644000 | U34: 13810412 | V34: 10755500 | W34: 18813935 | X34: 5500000 | AB34: =SUM(I34:AA34) -> 1.884134e+08 | AC34: =AB34/H34 -> 0.94206701 | AD34: ='Caribe I'!S8 -> 12 | AE34: 44706 | AF34: =H34-AB34 -> 11586597 | AG34: EN EJECUCIÓN | AH34: =COUNT(I34:Z34) -> 12
A35: CARIBE 1 | B35: ASOMUVICA | C35: I | D35: 03-006-20 | E35: 396506 | F35: BOLIVAR | G35: 44252 | H35: 200000000 | K35: 84429000 | L35: 7660000 | N35: 4138000 | O35: 45036000 | P35: 13960000 | Q35: 878000 | R35: 5031000 | S35: 9000000 | U35: 12459000 | V35: 4756000 | W35: 876000 | AB35: =SUM(I35:AA35) -> 188223000 | AC35: =AB35/H35 -> 0.941115 | AD35: ='Caribe I'!S5 -> 13 | AE35: 44524 | AF35: =H35-AB35 -> 11777000 | AG35: EN EJECUCIÓN | AH35: =COUNT(I35:Z35) -> 11
A36: AMAZONIA | B36: ASOMUJERES | C36: I | D36: 08-016-20 | E36: 396498 | F36: GUAVIARE | G36: 44251 | H36: 180000000 | J36: 10700000 | N36: 9269332 | O36: 19457333 | P36: 37310333 | Q36: 6257333 | S36: 10014666 | T36: 20714666 | U36: 46812996 | V36: 3757333 | W36: 2500000 | X36: 2500000 | AB36: =SUM(I36:AA36) -> 169293992 | AC36: =AB36/H36 -> 0.94052218 | AD36: =Amazonía!V18 -> 14 | AE36: 44655 | AF36: =H36-AB36 -> 10706008 | AG36: EN EJECUCIÓN | AH36: =COUNT(I36:Z36) -> 11
A37: SANTANDERES | B37: AROMA DE PAZ | C37: I | D37: 06-003-20 | E37: 396877 | F37: SANTANDER | G37: 44252 | H37: 175000000 | J37: 10700000 | M37: 9330000 | N37: 5700000 | P37: 48350000 | Q37: 7061000 | R37: 2700000 | S37: 28382700 | T37: 22100000 | U37: 3000000 | V37: 5700000 | W37: 15764038 | X37: 5700000 | AB37: =SUM(I37:AA37) -> 164487738 | AC37: =AB37/H37 -> 0.93992993 | AD37: =Santanderes!U5 -> 13 | AE37: 44637 | AF37: =H37-AB37 -> 10512262 | AG37: EN EJECUCIÓN | AH37: =COUNT(I37:Z37) -> 12
A38: EJE CAFETERO Y ANTIOQUIA | B38: ASGROCALMO | C38: I | D38: 02-011-20 | E38: 396508 | F38: CALDAS | G38: 44253 | H38: 189990000 | M38: 10700000 | N38: 3806000 | O38: 7606000 | P38: 10700000 | Q38: 7606000 | R38: 8781833 | S38: 2633499 | T38: 59206000 | U38: 5328400 | V38: 22226233 | W38: 34235000 | X38: 5328400 | AB38: =SUM(I38:AA38) -> 178157365 | AC38: =AB38/H38 -> 0.9377197 | AD38: ='Eje Cafetero'!U13 -> 12 | AE38: 44740 | AF38: =H38-AB38 -> 11832635 | AG38: EN EJECUCIÓN | AH38: =COUNT(I38:Z38) -> 12
A39: AMAZONIA | B39: ASOPIG | C39: I | D39: 08-007-20 | E39: 396433 | F39: GUAINIA | G39: 44251 | H39: 200000000 | J39: 10700000 | P39: 10700000 | R39: 53611000 | U39: 10700000 | X39: 101826500 | AB39: =SUM(I39:AA39) -> 187537500 | AC39: =AB39/H39 -> 0.9376875 | AD39: =Amazonía!V9 -> 12 | AE39: 44727 | AF39: =H39-AB39 -> 12462500 | AG39: EN EJECUCIÓN | AH39: =COUNT(I39:Z39) -> 5
A40: SANTANDERES | B40: ASOVIPLAYA | C40: I | D40: 06-005-20 | E40: 396504 | F40: NORTE DE SANTANDER | G40: 44252 | H40: 170000000 | J40: 10700000 | K40: 500000 | L40: 10162300 | M40: 35964000 | N40: 6100000 | O40: 6100000 | P40: 6100000 | Q40: 16800000 | R40: 22552000 | S40: 11485001 | T40: 15003766 | U40: 3100000 | V40: 14700000 | AB40: =SUM(I40:AA40) -> 1.5926707e+08 | AC40: =AB40/H40 -> 0.9368651 | AD40: =Santanderes!U7 -> 13 | AE40: 44610 | AF40: =H40-AB40 -> 10732933 | AG40: EN EJECUCIÓN | AH40: =COUNT(I40:Z40) -> 13
A41: CARIBE 2 | B41: ANUC SINCE | C41: I | D41: 03-005-20 | E41: 396518 | F41: SUCRE | G41: 44251 | H41: 200000000 | J41: 10700000 | K41: 2640000 | L41: 13700000 | M41: 54034000 | N41: 6878000 | Q41: 3878000 | R41: 25700000 | S41: 3000000 | T41: 54000000 | V41: 3000000 | W41: 8634000 | X41: 878000 | AB41: =SUM(I41:AA41) -> 187042000 | AC41: =AB41/H41 -> 0.93521 | AD41: ='Caribe II'!Q5 -> 10 | AE41: 44636 | AF41: =H41-AB41 -> 12958000 | AG41: EN EJECUCIÓN | AH41: =COUNT(I41:Z41) -> 12
A42: EJE CAFETERO Y ANTIOQUIA | B42: APITASA | C42: I | D42: 02-012-20 | E42: 396507 | F42: RISARALDA | G42: 44253 | H42: 199994000 | J42: 10700000 | M42: 10700000 | N42: 11755668 | O42: 8012604 | P42: 40713668 | Q42: 8377834 | R42: 16577834 | T42: 51578279 | U42: 3920000 | V42: 16777834 | W42: 7633494 | AB42: =SUM(I42:AA42) -> 186747215 | AC42: =AB42/H42 -> 0.93376409 | AD42: ='Eje Cafetero'!U14 -> 13 | AE42: 44642 | AF42: =H42-AB42 -> 13246785 | AG42: EN EJECUCIÓN | AH42: =COUNT(I42:Z42) -> 11
A43: CENTRAL | B43: ASOHORTICULTORAS | C43: I | D43: 05-005-20 | E43: 396580 | F43: CUNDINAMARCA | G43: 44252 | H43: 200000000 | L43: 11577750 | M43: 7000000 | N43: 25855500 | O43: 6320000 | P43: 10877750 | Q43: 24926250 | S43: 29877750 | T43: 5633250 | U43: 13700000 | V43: 38971250 | W43: 7277750 | X43: 4077750 | AB43: =SUM(I43:AA43) -> 186095000 | AC43: =AB43/H43 -> 0.930475 | AD43: =Central!R7 -> 10 | AE43: 44642 | AF43: =H43-AB43 -> 13905000 | AG43: EN EJECUCIÓN | AH43: =COUNT(I43:Z43) -> 12
A44: EJE CAFETERO Y ANTIOQUIA | B44: AFRICOLMENAS | C44: I | D44: 02-018-20 | E44: 396747 | F44: ANTIOQUIA | G44: 44252 | H44: 149974000 | K44: 10700000 | N44: 15783333 | O44: 5961166 | P44: 6838999 | R44: 877500 | S44: 17568000 | T44: 42092999 | U44: 6000000 | V44: 12443166 | W44: 21008499 | AB44: =SUM(I44:AA44) -> 1.3927366e+08 | AC44: =AB44/H44 -> 0.92865205 | AD44: ='Eje Cafetero'!U20 -> 13 | AE44: 44677 | AF44: =H44-AB44 -> 10700338 | AG44: EN EJECUCIÓN | AH44: =COUNT(I44:Z44) -> 10
A45: CARIBE 2 | B45: ASOCAMDEL | C45: I | D45: 03-010-20 | E45: 396517 | F45: CORDOBA | G45: 44251 | H45: 169998000 | K45: 10700000 | R45: 2500000 | S45: 12933499 | T45: 2650000 | U45: 54645000 | V45: 2500000 | W45: 51689165 | X45: 19705666 | AB45: =SUM(I45:AA45) -> 1.5732333e+08 | AC45: =AB45/H45 -> 0.92544224 | AD45: ='Caribe II'!Q9 -> 8 | AE45: 44784 | AF45: =H45-AB45 -> 12674670 | AG45: EN EJECUCIÓN | AH45: =COUNT(I45:Z45) -> 8
A46: CENTRAL | B46: ASOAGROPEL | C46: I | D46: 05-007-20 | E46: 396990 | F46: CUNDINAMARCA | G46: 44256 | H46: 193827000 | K46: 10700000 | L46: 10700000 | M46: 53383061 | O46: 69081821 | P46: 11653333 | S46: 2700000 | T46: 20886666 | AB46: =SUM(I46:AA46) -> 179104881 | AC46: =AB46/H46 -> 0.92404506 | AD46: =Central!R9 -> 9 | AE46: 44543 | AF46: =H46-AB46 -> 14722119 | AG46: EN EJECUCIÓN | AH46: =COUNT(I46:Z46) -> 7
A47: PACIFICO | B47: ASPROPAPA TOTORO | C47: I | D47: 01-004-20 | E47: 397312 | F47: CAUCA | G47: 44264 | H47: 148787000 | M47: 10700000 | P47: 7000000 | Q47: 37785700 | R47: 3500000 | S47: 16200000 | T47: 50381160 | V47: 1000000 | X47: 9500000 | AB47: =SUM(I47:AA47) -> 136066860 | AC47: =AB47/H47 -> 0.91450772 | AD47: =Pacífico!U6 -> 11 | AE47: 44638 | AF47: =H47-AB47 -> 12720140 | AG47: EN EJECUCIÓN | AH47: =COUNT(I47:Z47) -> 8
A48: PACIFICO | B48: FORJANDO FUTURO | C48: I | D48: 01-018-20 | E48: 397076 | F48: NARIÑO | G48: 44264 | H48: 173408000 | K48: 10700000 | N48: 5300000 | R48: 6800000 | S48: 16300000 | T48: 32044500 | V48: 78985000 | X48: 8000000 | AB48: =SUM(I48:AA48) -> 158129500 | AC48: =AB48/H48 -> 0.91189276 | AD48: =Pacífico!U20 -> 11 | AE48: 44713 | AF48: =H48-AB48 -> 15278500 | AG48: EN EJECUCIÓN | AH48: =COUNT(I48:Z48) -> 7
A49: EJE CAFETERO Y ANTIOQUIA | B49: AGROMUJER | C49: I | D49: 02-005-20 | E49: 396526 | F49: RISARALDA | G49: 44258 | H49: 200000000 | L49: 7000000 | P49: 11200000 | Q49: 59090000 | R49: 6100000 | S49: 6100000 | T49: 45550000 | V49: 8900000 | W49: 12200000 | X49: 25608000 | AB49: =SUM(I49:AA49) -> 1.81748e+08 | AC49: =AB49/H49 -> 0.90874 | AD49: ='Eje Cafetero'!U7 -> 12 | AE49: 44671 | AF49: =H49-AB49 -> 18252000 | AG49: EN EJECUCIÓN | AH49: =COUNT(I49:Z49) -> 9
A50: CENTRAL | B50: ASOAGROMOT | C50: I | D50: 05-001-20 | E50: 397340 | F50: BOYACA | G50: 44267 | H50: 199949000 | M50: 3927833 | N50: 39391666 | O50: 9000000 | P50: 18405666 | Q50: 2900000 | R50: 26331000 | S50: 2900000 | T50: 25369499 | U50: 6827833 | V50: 13197833 | W50: 5950000 | X50: 27276466 | AB50: =SUM(I50:AA50) -> 1.814778e+08 | AC50: =AB50/H50 -> 0.90762043 | AD50: =Central!R3 -> 8 | AE50: 44618 | AF50: =H50-AB50 -> 18471204 | AG50: EN EJECUCIÓN | AH50: =COUNT(I50:Z50) -> 12
A51: EJE CAFETERO Y ANTIOQUIA | B51: AMMUCID | C51: I | D51: 02-008-20 | E51: 396424 | F51: RISARALDA | G51: 44258 | H51: 175000000 | J51: 10700000 | N51: 22455668 | P51: 9255668 | Q51: 44177834 | R51: 38007745 | S51: 10700000 | T51: 8653284 | V51: 6837534 | W51: 7633494 | AB51: =SUM(I51:AA51) -> 1.5842123e+08 | AC51: =AB51/H51 -> 0.90526416 | AD51: ='Eje Cafetero'!U10 -> 13 | AE51: 44655 | AF51: =H51-AB51 -> 16578773 | AG51: EN EJECUCIÓN | AH51: =COUNT(I51:Z51) -> 9
A52: EJE CAFETERO Y ANTIOQUIA | B52: ASOPLAD | C52: I | D52: 02-006-20 | E52: 396510 | F52: RISARALDA | G52: 44252 | H52: 187732000 | J52: 10700000 | N52: 19900000 | O52: 5700000 | P52: 37716000 | Q52: 6100000 | R52: 44600000 | T52: 11600000 | V52: 8600000 | W52: 18800000 | X52: 6002800 | AB52: =SUM(I52:AA52) -> 169718800 | AC52: =AB52/H52 -> 0.90404832 | AD52: ='Eje Cafetero'!U8 -> 13 | AE52: 44657 | AF52: =H52-AB52 -> 18013200 | AG52: EN EJECUCIÓN | AH52: =COUNT(I52:Z52) -> 10
A53: LLANOS Y ORINOQUIA | B53: CRGT - COMITÉ GANADEROS TAME | C53: I | D53: 07-004-20 | E53: 396494 | F53: ARAUCA | G53: 44251 | H53: 200000000 | I53: 10700000 | M53: 42055666 | N53: 16196003 | O53: 8155666 | P53: 10800000 | Q53: 9977833 | T53: 33533499 | V53: 29833499 | W53: 19477837 | AB53: =SUM(I53:AA53) -> 180730003 | AC53: =AB53/H53 -> 0.90365001 | AD53: =Llanos!U6 -> 13 | AE53: 44643 | AF53: =H53-AB53 -> 19269997 | AG53: EN EJECUCIÓN | AH53: =COUNT(I53:Z53) -> 9
A54: EJE CAFETERO Y ANTIOQUIA | B54: ASOPROAGROPAR | C54: I | D54: 02-026-20 | E54: 397309 | F54: ANTIOQUIA | G54: 44260 | H54: 160000000 | J54: 10700000 | N54: 10700000 | O54: 3166000 | P54: 8935500 | Q54: 4166000 | R54: 24932000 | T54: 8998000 | U54: 16032000 | V54: 22732000 | W54: 8498000 | X54: 25538000 | AB54: =SUM(I54:AA54) -> 1.443975e+08 | AC54: =AB54/H54 -> 0.90248438 | AD54: ='Eje Cafetero'!U28 -> 13 | AE54: 44679 | AF54: =H54-AB54 -> 15602500 | AG54: EN EJECUCIÓN | AH54: =COUNT(I54:Z54) -> 11
A55: CENTRAL | B55: ASOMUFRES | C55: I | D55: 05-012-20 | E55: 396612 | F55: TOLIMA | G55: 44252 | H55: 197934000 | I55: 10700000 | M55: 32998000 | N55: 20850666 | O55: 7849666 | P55: 5216666 | Q55: 10700000 | R55: 5478000 | S55: 45365332 | T55: 17457000 | U55: 8133332 | V55: 6355000 | W55: 5833332 | X55: 1547000 | AB55: =SUM(I55:AA55) -> 178483994 | AC55: =AB55/H55 -> 0.90173489 | AD55: =Central!R14 -> 8 | AE55: 44600 | AF55: =H55-AB55 -> 19450006 | AG55: EN EJECUCIÓN | AH55: =COUNT(I55:Z55) -> 13
A56: CENTRAL | B56: APAACEGUTOL | C56: I | D56: 05-022-20 | E56: 396875 | F56: TOLIMA | G56: 44252 | H56: 199994000 | I56: 10700000 | M56: 62065409 | N56: 15953409 | O56: 26985000 | S56: 15075606 | T56: 15953409 | U56: 33513000 | AB56: =SUM(I56:AA56) -> 1.8024583e+08 | AC56: =AB56/H56 -> 0.9012562 | AD56: =Central!R24 -> 8 | AE56: 44541 | AF56: =H56-AB56 -> 19748167 | AG56: EN EJECUCIÓN | AH56: =COUNT(I56:Z56) -> 7
A57: LLANOS Y ORINOQUIA | B57: ASOLECT | C57: I | D57: 07-017-20 | E57: 397010 | F57: CASANARE | G57: 44256 | H57: 195000000 | J57: 10700000 | K57: 31356000 | L57: 3500000 | M57: 12133499 | N57: 10877833 | O57: 13667000 | P57: 3000000 | Q57: 4377833 | R57: 15851000 | T57: 41032232 | V57: 11755666 | W57: 17200000 | AB57: =SUM(I57:AA57) -> 175451063 | AC57: =AB57/H57 -> 0.89974904 | AD57: =Llanos!U19 -> 12 | AE57: 44622 | AF57: =H57-AB57 -> 19548937 | AG57: EN EJECUCIÓN | AH57: =COUNT(I57:Z57) -> 12
A58: CENTRAL | B58: ASOHOFRUP | C58: I | D58: 05-020-20 | E58: 396894 | F58: BOYACA | G58: 44252 | H58: 180843000 | M58: 19500000 | N58: 11863500 | O58: 42827633 | P58: 5900000 | Q58: 17467833 | R58: 3000000 | S58: 6777833.3 | T58: 6777833.3 | U58: 17477833 | V58: 10555667 | W58: 13555667 | X58: 6993000 | AB58: =SUM(I58:AA58) -> 1.626968e+08 | AC58: =AB58/H58 -> 0.89965771 | AD58: =Central!R22 -> 10 | AE58: 44622 | AF58: =H58-AB58 -> 18146200 | AG58: EN EJECUCIÓN | AH58: =COUNT(I58:Z58) -> 12
A59: CARIBE 2 | B59: EL GUAMAL | C59: I | D59: 03-013-20 | E59: 396998 | F59: CORDOBA | G59: 44253 | H59: 200000000 | N59: 15977750 | O59: 2500000 | P59: 78340000 | S59: 20268000 | T59: 17509250 | U59: 20103000 | V59: 15266500 | W59: 5877750 | X59: 3545600 | AB59: =SUM(I59:AA59) -> 179387850 | AC59: =AB59/H59 -> 0.89693925 | AD59: ='Caribe II'!Q12 -> 10 | AE59: 44634 | AF59: =H59-AB59 -> 20612150 | AG59: EN EJECUCIÓN | AH59: =COUNT(I59:Z59) -> 9
A60: PACIFICO | B60: EL MANZANO | C60: I | D60: 01-023-20 | E60: 396856 | F60: NARIÑO | G60: 44252 | H60: 200000000 | J60: 10700000 | K60: 4000000 | L60: 9000000 | M60: 26745000 | N60: 17200000 | P60: 18624000 | Q60: 27200000 | S60: 16000000 | T60: 33481000 | U60: 9500000 | V60: 6500000 | AB60: =SUM(I60:AA60) -> 178950000 | AC60: =AB60/H60 -> 0.89475 | AD60: =Pacífico!U25 -> 11 | AE60: 44600 | AF60: =H60-AB60 -> 21050000 | AG60: EN EJECUCIÓN | AH60: =COUNT(I60:Z60) -> 11
A61: CARIBE 2 | B61: SKAMBRA | C61: I | D61: 03-015-20 | E61: 396495 | F61: CORDOBA | G61: 44253 | H61: 199954000 | K61: 10700000 | M61: 877833 | N61: 17577833 | O61: 12877833 | P61: 7920000 | Q61: 38985666 | R61: 3877833 | T61: 3877833 | V61: 61387833 | W61: 13755666 | X61: 6877833 | AB61: =SUM(I61:AA61) -> 178716163 | AC61: =AB61/H61 -> 0.89378639 | AD61: ='Caribe II'!Q14 -> 10 | AE61: 44676 | AF61: =H61-AB61 -> 21237837 | AG61: EN EJECUCIÓN | AH61: =COUNT(I61:Z61) -> 11
A62: EJE CAFETERO Y ANTIOQUIA | B62: ASOMUMA | C62: I | D62: 02-010-20 | E62: 396501 | F62: CALDAS | G62: 44252 | H62: 167461000 | M62: 10700000 | N62: 15212000 | P62: 18306000 | Q62: 23325500 | R62: 14567332 | S62: 15218000 | T62: 25912000 | U62: 7606000 | V62: 9361666 | W62: 8416333 | AB62: =SUM(I62:AA62) -> 148624831 | AC62: =AB62/H62 -> 0.88751907 | AD62: ='Eje Cafetero'!U12 -> 13 | AE62: 44676 | AF62: =H62-AB62 -> 18836169 | AG62: EN EJECUCIÓN | AH62: =COUNT(I62:Z62) -> 10
A63: AMAZONIA | B63: ASOPISCIRICO | C63: I | D63: 08-012-20 | E63: 396889 | F63: CAQUETA | G63: 44252 | H63: 200000000 | L63: 10700000 | O63: 13200000 | P63: 39380000 | Q63: 4255500 | R63: 6377750 | S63: 3377750 | T63: 20077750 | U63: 6377750 | V63: 57042400 | W63: 6377750 | X63: 9755500 | AB63: =SUM(I63:AA63) -> 176922150 | AC63: =AB63/H63 -> 0.88461075 | AD63: =Amazonía!V14 -> 12 | AE63: 44679 | AF63: =H63-AB63 -> 23077850 | AG63: EN EJECUCIÓN | AH63: =COUNT(I63:Z63) -> 11
A64: PACIFICO | B64: EL CAMPAMENTO | C64: I | D64: 01-020-20 | E64: 397013 | F64: NARIÑO | G64: 44264 | H64: 185981000 | S64: 21700000 | T64: 19500000 | U64: 26064000 | V64: 10700000 | W64: 41500000 | X64: 44992000 | AB64: =SUM(I64:AA64) -> 164456000 | AC64: =AB64/H64 -> 0.88426237 | AD64: =Pacífico!U22 -> 11 | AE64: 44763 | AF64: =H64-AB64 -> 21525000 | AG64: EN EJECUCIÓN | AH64: =COUNT(I64:Z64) -> 6
A65: AMAZONIA | B65: AGROPEZ ALBANIA | C65: I | D65: 08-010-20 | E65: 396579 | F65: CAQUETA | G65: 44251 | H65: 200000000 | L65: 10700000 | O65: 16200000 | P65: 37257750 | Q65: 3877750 | R65: 8877750 | S65: 3377750 | T65: 26455500 | U65: 6377750 | V65: 44286960 | W65: 11633250 | X65: 7500000 | AB65: =SUM(I65:AA65) -> 176544460 | AC65: =AB65/H65 -> 0.8827223 | AD65: =Amazonía!V12 -> 13 | AE65: 44680 | AF65: =H65-AB65 -> 23455540 | AG65: EN EJECUCIÓN | AH65: =COUNT(I65:Z65) -> 11
A66: LLANOS Y ORINOQUIA | B66: ASOPROLET | C66: I | D66: 07-014-20 | E66: 396576 | F66: CASANARE | G66: 44251 | H66: 175000000 | J66: 10700000 | N66: 42950000 | P66: 4505666 | Q66: 11051500 | R66: 25350000 | S66: 877833 | T66: 12600000 | V66: 11800000 | X66: 34450505 | AB66: =SUM(I66:AA66) -> 154285504 | AC66: =AB66/H66 -> 0.88163145 | AD66: =Llanos!U16 -> 12 | AE66: 44624 | AF66: =H66-AB66 -> 20714496 | AG66: EN EJECUCIÓN | AH66: =COUNT(I66:Z66) -> 9
A67: EJE CAFETERO Y ANTIOQUIA | B67: ASPANOR | C67: I | D67: 02-014-20 | E67: 396752 | F67: CALDAS | G67: 44252 | H67: 174810000 | J67: 10200000 | L67: 5345000 | M67: 5345000 | N67: 13325000 | O67: 9170000 | P67: 3125000 | Q67: 27869100 | R67: 3470000 | S67: 15825000 | T67: 3125000 | U67: 5751428 | V67: 6376428 | W67: 5751428 | X67: 39344428 | AB67: =SUM(I67:AA67) -> 154022812 | AC67: =AB67/H67 -> 0.88108696 | AD67: ='Eje Cafetero'!U16 -> 12 | AE67: 44658 | AF67: =H67-AB67 -> 20787188 | AG67: EN EJECUCIÓN | AH67: =COUNT(I67:Z67) -> 14
A68: CENTRAL | B68: AGROUNION VEGONEZ | C68: I | D68: 05-015-20 | E68: 396763 | F68: TOLIMA | G68: 44260 | H68: 199134000 | K68: 10700000 | L68: 26833600 | N68: 29294000 | O68: 5633000 | Q68: 14578000 | S68: 46121950 | T68: 27566000 | X68: 14719400 | AB68: =SUM(I68:AA68) -> 175445950 | AC68: =AB68/H68 -> 0.88104467 | AD68: =Central!R17 -> 8 | AE68: 44601 | AF68: =H68-AB68 -> 23688050 | AG68: EN EJECUCIÓN | AH68: =COUNT(I68:Z68) -> 8
A69: LLANOS Y ORINOQUIA | B69: ASOCATARA | C69: I | D69: 07-012-20 | E69: 397070 | F69: ARAUCA | G69: 44256 | H69: 175000000 | I69: 10700000 | N69: 21400000 | O69: 7050000 | Q69: 1755666 | R69: 22215379 | S69: 6875540 | T69: 1755666 | W69: 35054460 | X69: 47070621 | AB69: =SUM(I69:AA69) -> 1.5387733e+08 | AC69: =AB69/H69 -> 0.87929904 | AD69: =Llanos!U14 -> 11 | AE69: 44714 | AF69: =H69-AB69 -> 21122668 | AG69: EN EJECUCIÓN | AH69: =COUNT(I69:Z69) -> 9
A70: CARIBE 2 | B70: ANUC | C70: I | D70: 04-014-20 | E70: 397238 | F70: LA GUAJIRA | G70: 44267 | H70: 200000000 | J70: 10700000 | O70: 5377833 | P70: 49999992 | Q70: 22650000 | V70: 66828900 | W70: 18766998 | X70: 877833 | AB70: =SUM(I70:AA70) -> 175201556 | AC70: =AB70/H70 -> 0.87600778 | AD70: ='Caribe II'!Q28 -> 10 | AE70: 44648 | AF70: =H70-AB70 -> 24798444 | AG70: EN EJECUCIÓN | AH70: =COUNT(I70:Z70) -> 7
A71: SANTANDERES | B71: AGROSILOS | C71: I | D71: 06-014-20 | E71: 397370 | F71: NORTE DE SANTANDER | G71: 44267 | H71: 199980000 | L71: 10700000 | N71: 2500000 | O71: 35538900 | P71: 15267500 | Q71: 20780000 | R71: 2500000 | S71: 5500000 | T71: 45679600 | U71: 16700000 | V71: 3000000 | W71: 12000000 | X71: 4268000 | AB71: =SUM(I71:AA71) -> 174434000 | AC71: =AB71/H71 -> 0.87225723 | AD71: =Santanderes!U14 -> 13 | AE71: 44672 | AF71: =H71-AB71 -> 25546000 | AG71: EN EJECUCIÓN | AH71: =COUNT(I71:Z71) -> 12
A72: PACIFICO | B72: AMFIPAR | C72: I | D72: 01-021-20 | E72: 397499 | F72: NARIÑO | G72: 44299 | H72: 137960000 | L72: 10700000 | N72: 22033337 | O72: 9333332.3 | P72: 1000000 | Q72: 2333333.3 | R72: 4666666 | T72: 16333332 | U72: 12200000 | V72: 2833333.3 | W72: 11666666 | X72: 26960000 | AB72: =SUM(I72:AA72) -> 1.2006e+08 | AC72: =AB72/H72 -> 0.87025225 | AD72: =Pacífico!U23 -> 11 | AE72: 44750 | AF72: =H72-AB72 -> 17900000 | AG72: EN EJECUCIÓN | AH72: =COUNT(I72:Z72) -> 11
A73: EJE CAFETERO Y ANTIOQUIA | B73: OCCF | C73: I | D73: 02-021-20 | E73: 396611 | F73: ANTIOQUIA | G73: 44252 | H73: 184981000 | J73: 10700000 | N73: 10700000 | O73: 10178000 | P73: 14340000 | Q73: 25171275 | S73: 4500000 | T73: 20656000 | U73: 10700000 | V73: 46494800 | W73: 7178000 | AB73: =SUM(I73:AA73) -> 160618075 | AC73: =AB73/H73 -> 0.86829499 | AD73: ='Eje Cafetero'!U23 -> 13 | AE73: 44698 | AF73: =H73-AB73 -> 24362925 | AG73: EN EJECUCIÓN | AH73: =COUNT(I73:Z73) -> 10
A74: CENTRAL | B74: CERRO CHIFLON | C74: I | D74: 05-009-20 | E74: 397368 | F74: HUILA | G74: 44267 | H74: 200000000 | M74: 10700000 | T74: 3511200 | W74: 73233000 | X74: 85888600 | AB74: =SUM(I74:AA74) -> 173332800 | AC74: =AB74/H74 -> 0.866664 | AD74: =Central!R11 -> 8 | AE74: 44840 | AF74: =H74-AB74 -> 26667200 | AG74: EN EJECUCIÓN | AH74: =COUNT(I74:Z74) -> 4
A75: CARIBE 2 | B75: ASOPESAGRO | C75: I | D75: 03-011-20 | E75: 396525 | F75: CORDOBA | G75: 44251 | H75: 169986000 | I75: 10700000 | N75: 20833250 | P75: 39728350 | S75: 45257900 | T75: 877750 | U75: 10877750 | V75: 8377750 | W75: 9255500 | AB75: =SUM(I75:AA75) -> 145908250 | AC75: =AB75/H75 -> 0.85835451 | AD75: ='Caribe II'!Q10 -> 10 | AE75: 44636 | AF75: =H75-AB75 -> 24077750 | AG75: EN EJECUCIÓN | AH75: =COUNT(I75:Z75) -> 8
A76: CARIBE 1 | B76: AMUSI | C76: I | D76: 03-002-20 | E76: 396497 | F76: BOLIVAR | G76: 44251 | H76: 199194000 | L76: 10700000 | N76: 1170444 | P76: 4500000 | Q76: 1989556 | S76: 72000000 | U76: 37270444 | V76: 16300000 | W76: 5619985 | X76: 19425483 | AB76: =SUM(I76:AA76) -> 168975912 | AC76: =AB76/H76 -> 0.8482982 | AD76: ='Caribe I'!S4 -> 12 | AE76: 44714 | AF76: =H76-AB76 -> 30218088 | AG76: EN EJECUCIÓN | AH76: =COUNT(I76:Z76) -> 9
A77: EJE CAFETERO Y ANTIOQUIA | B77: FUNCOLAGRO | C77: I | D77: 02-013-20 | E77: 396503 | F77: CALDAS | G77: 44252 | H77: 169263000 | J77: 10700000 | L77: 6400000 | M77: 14777833 | N77: 4077833 | O77: 4077833 | P77: 4077833 | Q77: 16206430 | R77: 4077833 | S77: 14777833 | T77: 7277833 | U77: 7277833 | V77: 7277833 | W77: 7277833 | X77: 34273967 | AB77: =SUM(I77:AA77) -> 142558727 | AC77: =AB77/H77 -> 0.84223207 | AD77: ='Eje Cafetero'!U15 -> 13 | AE77: 44656 | AF77: =H77-AB77 -> 26704273 | AG77: EN EJECUCIÓN | AH77: =COUNT(I77:Z77) -> 14
A78: CARIBE 1 | B78: ASOPACAPEC | C78: I | D78: 03-021-20 | E78: 397134 | F78: ATLANTICO | G78: 44258 | H78: 154495000 | J78: 10000000 | K78: 1755500 | L78: 12581751 | M78: 3877750 | N78: 21277750 | O78: 8577750 | P78: 5000000 | Q78: 10400000 | R78: 12853999 | V78: 25366500 | W78: 8700000 | X78: 8700000 | AB78: =SUM(I78:AA78) -> 129091000 | AC78: =AB78/H78 -> 0.83556749 | AD78: ='Caribe I'!S9 -> 12 | AE78: 44624 | AF78: =H78-AB78 -> 25404000 | AG78: EN EJECUCIÓN | AH78: =COUNT(I78:Z78) -> 12
A79: CARIBE 1 | B79: PECES DE SION | C79: I | D79: 03-024-20 | E79: 397234 | F79: ATLANTICO | G79: 44267 | H79: 149996000 | L79: 7500000 | N79: 21051133 | P79: 3877750 | Q79: 8166666 | R79: 14666664 | S79: 8666666 | T79: 16133252 | U79: 18878966 | V79: 6461083 | W79: 8583000 | X79: 11216250 | AB79: =SUM(I79:AA79) -> 1.2520143e+08 | AC79: =AB79/H79 -> 0.83469846 | AD79: ='Caribe I'!S11 -> 12 | AE79: 44672 | AF79: =H79-AB79 -> 24794569 | AG79: EN EJECUCIÓN | AH79: =COUNT(I79:Z79) -> 11
A80: LLANOS Y ORINOQUIA | B80: ASMUCACD | C80: I | D80: 07-001-20 | E80: 396610 | F80: META | G80: 44251 | H80: 200000000 | I80: 10700000 | L80: 25889833 | N80: 18075667 | O80: 10000000 | P80: 8012833.3 | Q80: 7277833.3 | R80: 24342833 | T80: 19033500 | U80: 11033501 | V80: 7200000 | W80: 21362400 | X80: 3600000 | AB80: =SUM(I80:AA80) -> 1.665284e+08 | AC80: =AB80/H80 -> 0.832642 | AD80: =Llanos!U3 -> 13 | AE80: 44639 | AF80: =H80-AB80 -> 33471599 | AG80: EN EJECUCIÓN | AH80: =COUNT(I80:Z80) -> 12
A81: LLANOS Y ORINOQUIA | B81: ASOEMPRENCA | C81: I | D81: 07-002-20 | E81: 396880 | F81: CASANARE | G81: 44251 | H81: 149974000 | J81: 10700000 | N81: 16233499 | O81: 25587666 | P81: 7677833 | R81: 15001833 | T81: 34209666 | U81: 877833 | V81: 6800000 | X81: 6800000 | AB81: =SUM(I81:AA81) -> 123888330 | AC81: =AB81/H81 -> 0.82606538 | AD81: =Llanos!U4 -> 12 | AE81: 44625 | AF81: =H81-AB81 -> 26085670 | AG81: EN EJECUCIÓN | AH81: =COUNT(I81:Z81) -> 9
A82: AMAZONIA | B82: ASOCOMIGAN | C82: I | D82: 08-013-20 | E82: 397012 | F82: GUAVIARE | G82: 44256 | H82: 165014000 | N82: 14200000 | O82: 7500000 | P82: 23200000 | Q82: 7200000 | T82: 3500000 | U82: 877000 | V82: 24101000 | W82: 54590015 | AB82: =SUM(I82:AA82) -> 135168015 | AC82: =AB82/H82 -> 0.81913059 | AD82: =Amazonía!V15 -> 13 | AE82: 44722 | AF82: =H82-AB82 -> 29845985 | AG82: EN EJECUCIÓN | AH82: =COUNT(I82:Z82) -> 8
A83: PACIFICO | B83: ASOFACASJO - CHOCOCITO | C83: I | D83: 01-025-20 | E83: 397739 | F83: VALLE DEL CAUCA | G83: 44313 | H83: 167550000 | N83: 10700000 | P83: 12600000 | Q83: 5800000 | S83: 3000000 | T83: 32475000 | V83: 10700000 | W83: 15100000 | X83: 46609500 | AB83: =SUM(I83:AA83) -> 136984500 | AC83: =AB83/H83 -> 0.81757386 | AD83: =Pacífico!U27 -> 11 | AE83: 44784 | AF83: =H83-AB83 -> 30565500 | AG83: EN EJECUCIÓN | AH83: =COUNT(I83:Z83) -> 8
A84: PACIFICO | B84: ASPROBALBOA | C84: I | D84: 01-003-20 | E84: 396759 | F84: CAUCA | G84: 44252 | H84: 169900000 | M84: 10700000 | R84: 1000000 | S84: 12200000 | T84: 46020000 | V84: 17300000 | W84: 3300000 | X84: 48163220 | AB84: =SUM(I84:AA84) -> 138683220 | AC84: =AB84/H84 -> 0.8162638 | AD84: =Pacífico!U5 -> 11 | AE84: 44743 | AF84: =H84-AB84 -> 31216780 | AG84: EN EJECUCIÓN | AH84: =COUNT(I84:Z84) -> 7
A85: CARIBE 2 | B85: NUEVA SANTA INES | C85: I | D85: 03-007-20 | E85: 396816 | F85: SUCRE | G85: 44251 | H85: 200000000 | N85: 10700000 | O85: 35160000 | Q85: 4556000 | R85: 13500000 | T85: 8700000 | V85: 14334000 | W85: 17178000 | X85: 58640300 | AB85: =SUM(I85:AA85) -> 162768300 | AC85: =AB85/H85 -> 0.8138415 | AD85: ='Caribe II'!Q6 -> 10 | AE85: 44734 | AF85: =H85-AB85 -> 37231700 | AG85: EN EJECUCIÓN | AH85: =COUNT(I85:Z85) -> 8
A86: CENTRAL | B86: COOUMBIPAPA | C86: I | D86: 05-013-20 | E86: 396577 | F86: BOYACA | G86: 44252 | H86: 200000000 | K86: 10700000 | O86: 12304424 | P86: 36050400 | Q86: 3791087 | S86: 30557174 | T86: 5713317 | V86: 59755006 | X86: 2800000 | AB86: =SUM(I86:AA86) -> 161671408 | AC86: =AB86/H86 -> 0.80835704 | AD86: =Central!R15 -> 8 | AE86: 44721 | AF86: =H86-AB86 -> 38328592 | AG86: EN EJECUCIÓN | AH86: =COUNT(I86:Z86) -> 8
A87: CENTRAL | B87: COOCAMPO | C87: I | D87: 05-003-20 | E87: 396755 | F87: BOYACA | G87: 44252 | H87: 199992000 | M87: 17590000 | O87: 9000000 | P87: 3200000 | Q87: 877833 | S87: 31958752 | T87: 9877833 | V87: 55571970 | W87: 19755666 | X87: 12455666 | AB87: =SUM(I87:AA87) -> 1.6028772e+08 | AC87: =AB87/H87 -> 0.80147066 | AD87: =Central!R5 -> 10 | AE87: 44740 | AF87: =H87-AB87 -> 39704280 | AG87: EN EJECUCIÓN | AH87: =COUNT(I87:Z87) -> 9
A88: EJE CAFETERO Y ANTIOQUIA | B88: ASLUBEL | C88: I | D88: 02-004-20 | E88: 396425 | F88: RISARALDA | G88: 44252 | H88: 180000000 | M88: 10700000 | P88: 11876000 | Q88: 14138000 | R88: 30478500 | S88: 2938000 | T88: 8938000 | V88: 5938000 | W88: 8876000 | X88: 49830500 | AB88: =SUM(I88:AA88) -> 143713000 | AC88: =AB88/H88 -> 0.79840556 | AD88: ='Eje Cafetero'!U6 -> 12 | AE88: 44691 | AF88: =H88-AB88 -> 36287000 | AG88: EN EJECUCIÓN | AH88: =COUNT(I88:Z88) -> 9
A89: CENTRAL | B89: ECOHORTALIZAS | C89: I | D89: 05-021-20 | E89: 397153 | F89: BOYACA | G89: 44260 | H89: 199904436 | N89: 21400000 | O89: 879470 | P89: 6779470 | Q89: 49666000 | R89: 33323476 | U89: 10758940 | V89: 2800000 | W89: 13500000 | X89: 18049470 | AB89: =SUM(I89:AA89) -> 157156826 | AC89: =AB89/H89 -> 0.78615977 | AD89: =Central!R23 -> 9 | AE89: 44650 | AF89: =H89-AB89 -> 42747610 | AG89: EN EJECUCIÓN | AH89: =COUNT(I89:Z89) -> 9
A90: SANTANDERES | B90: ASPROCOMUNT | C90: I | D90: 06-010-20 | E90: 397313 | F90: NORTE DE SANTANDER | G90: 44260 | H90: 200000000 | K90: 10700000 | M90: 16800000 | N90: 6100000 | O90: 6100000 | Q90: 12200000 | R90: 10260000 | T90: 22210000 | V90: 29000000 | W90: 31710000 | X90: 11200000 | AB90: =SUM(I90:AA90) -> 156280000 | AC90: =AB90/H90 -> 0.7814 | AD90: =Santanderes!U10 -> 13 | AE90: 44755 | AF90: =H90-AB90 -> 43720000 | AG90: EN EJECUCIÓN | AH90: =COUNT(I90:Z90) -> 10
A91: EJE CAFETERO Y ANTIOQUIA | B91: ASOPYCA | C91: I | D91: 02-001-20 | E91: 396814 | F91: QUINDIO | G91: 44252 | H91: 200000000 | M91: 9808250 | N91: 5986987.5 | O91: 20408250 | P91: 6000000 | Q91: 6000000 | R91: 2854000 | S91: 24800819 | T91: 12808250 | V91: 53754000 | W91: 3877000 | X91: 3877000 | AB91: =SUM(I91:AA91) -> 1.5017456e+08 | AC91: =AB91/H91 -> 0.75087278 | AD91: ='Eje Cafetero'!U3 -> 12 | AE91: 44713 | AF91: =H91-AB91 -> 49825444 | AG91: EN EJECUCIÓN | AH91: =COUNT(I91:Z91) -> 11
A92: CARIBE 2 | B92: ASEDECO | C92: I | D92: 03-023-20 | E92: 396861 | F92: CORDOBA | G92: 44252 | H92: 199990000 | K92: 10000000 | N92: 23755500 | P92: 3877750 | Q92: 3877750 | R92: 6000000 | S92: 26903400 | T92: 4755500 | U92: 10000000 | V92: 21511000 | W92: 3877750 | X92: 32756850 | AB92: =SUM(I92:AA92) -> 147315500 | AC92: =AB92/H92 -> 0.73661433 | AD92: ='Caribe II'!Q17 -> 10 | AE92: 44712 | AF92: =H92-AB92 -> 52674500 | AG92: EN EJECUCIÓN | AH92: =COUNT(I92:Z92) -> 11
A93: SANTANDERES | B93: ASOMURET | C93: I | D93: 06-002-20 | E93: 397315 | F93: NORTE DE SANTANDER | G93: 44260 | H93: 200000000 | K93: 10700000 | L93: 500000 | N93: 12200000 | O93: 6100000 | P93: 14420000 | Q93: 6100000 | R93: 6100000 | S93: 5600000 | U93: 22000000 | W93: 23400000 | X93: 40000000 | AB93: =SUM(I93:AA93) -> 147120000 | AC93: =AB93/H93 -> 0.7356 | AD93: =Santanderes!U4 -> 13 | AE93: 44753 | AF93: =H93-AB93 -> 52880000 | AG93: EN EJECUCIÓN | AH93: =COUNT(I93:Z93) -> 11
A94: EJE CAFETERO Y ANTIOQUIA | B94: ASPLABEL | C94: I | D94: 02-009-20 | E94: 397311 | F94: RISARALDA | G94: 44258 | H94: 150000000 | L94: 10700000 | P94: 10000000 | Q94: 20444250 | R94: 15340750 | T94: 11757500 | V94: 5878750 | W94: 30085000 | X94: 5878750 | AB94: =SUM(I94:AA94) -> 110085000 | AC94: =AB94/H94 -> 0.7339 | AD94: ='Eje Cafetero'!U11 -> 13 | AE94: 44693 | AF94: =H94-AB94 -> 39915000 | AG94: EN EJECUCIÓN | AH94: =COUNT(I94:Z94) -> 8
A95: PACIFICO | B95: ASOPROPIÑALAU | C95: I | D95: 01-017-20 | E95: 397060 | F95: NARIÑO | G95: 44264 | H95: 158554000 | L95: 10700000 | O95: 10700000 | S95: 12000000 | T95: 6597000 | U95: 34280000 | W95: 38009250 | X95: 3000000 | AB95: =SUM(I95:AA95) -> 115286250 | AC95: =AB95/H95 -> 0.72711032 | AD95: =Pacífico!U19 -> 11 | AE95: 44775 | AF95: =H95-AB95 -> 43267750 | AG95: EN EJECUCIÓN | AH95: =COUNT(I95:Z95) -> 7
A96: CARIBE 1 | B96: ASOMURACO | C96: I | D96: 03-022-20 | E96: 396496 | F96: ATLANTICO | G96: 44253 | H96: 199999000 | I96: 10000000 | N96: 12877750 | O96: 26755500 | P96: 6000000 | R96: 1755500 | S96: 28377750 | T96: 5100000 | U96: 3000000 | V96: 19755500 | W96: 14100000 | X96: 16500000 | AB96: =SUM(I96:AA96) -> 144222000 | AC96: =AB96/H96 -> 0.72111361 | AD96: ='Caribe I'!S10 -> 11 | AE96: 44775 | AF96: =H96-AB96 -> 55777000 | AG96: EN EJECUCIÓN | AH96: =COUNT(I96:Z96) -> 11
A97: CENTRAL | B97: AGRO-SANTUARIO | C97: I | D97: 05-011-20 | E97: 396817 | F97: BOYACA | G97: 44252 | H97: 200000000 | O97: 70300000 | P97: 6000000 | Q97: 15944750 | R97: 877750 | T97: 6000000 | U97: 16700000 | V97: 1755500 | W97: 6000000 | X97: 19700000 | AB97: =SUM(I97:AA97) -> 143278000 | AC97: =AB97/H97 -> 0.71639 | AD97: =Central!R13 -> 9 | AE97: 44617 | AF97: =H97-AB97 -> 56722000 | AG97: EN EJECUCIÓN | AH97: =COUNT(I97:Z97) -> 9
A98: PACIFICO | B98: ASOMOREROS | C98: I | D98: 01-002-20 | E98: 397014 | F98: CAUCA | G98: 44264 | H98: 193522000 | M98: 35900000 | O98: 5000000 | P98: 24000000 | R98: 40586130 | T98: 17700000 | V98: 7000000 | X98: 7500000 | AB98: =SUM(I98:AA98) -> 137686130 | AC98: =AB98/H98 -> 0.71147534 | AD98: =Pacífico!U4 -> 11 | AE98: 44639 | AF98: =H98-AB98 -> 55835870 | AG98: EN EJECUCIÓN | AH98: =COUNT(I98:Z98) -> 7
A99: SANTANDERES | B99: ASOPACON | C99: I | D99: 06-015-20 | E99: 397317 | F99: SANTANDER | G99: 44260 | H99: 199744000 | O99: 10700000 | P99: 19710400 | S99: 6000000 | T99: 48800000 | V99: 5000000 | W99: 50300000 | AB99: =SUM(I99:AA99) -> 140510400 | AC99: =AB99/H99 -> 0.70345242 | AD99: =Santanderes!U15 -> 13 | AE99: 44764 | AF99: =H99-AB99 -> 59233600 | AG99: EN EJECUCIÓN | AH99: =COUNT(I99:Z99) -> 6
A100: EJE CAFETERO Y ANTIOQUIA | B100: ASOGRAB | C100: I | D100: 02-019-20 | E100: 397362 | F100: ANTIOQUIA | G100: 44267 | H100: 149712000 | L100: 10700000 | N100: 3300000 | O100: 13825000 | P100: 3300000 | Q100: 11975000 | R100: 10725000 | S100: 10389000 | T100: 21125000 | X100: 17900000 | AB100: =SUM(I100:AA100) -> 1.03239e+08 | AC100: =AB100/H100 -> 0.689584 | AD100: ='Eje Cafetero'!U21 -> 13 | AE100: 44671 | AF100: =H100-AB100 -> 46473000 | AG100: EN EJECUCIÓN | AH100: =COUNT(I100:Z100) -> 9
...

Sheet Pacífico
A1: MONITOREOS FASE I
A2: No. CONVENIO MARD | B2: REGIONAL | C2: ALIANZA | D2: 44317 | E2: 44348 | F2: 44378 | G2: 44409 | H2: 44440 | I2: 44470 | J2: 44501 | K2: 44531 | L2: 44562 | M2: 44593 | N2: 44621 | O2: 44652 | P2: 44682 | Q2: 44713 | R2: 44743 | S2: TOTAL 2021 | T2: TOTAL 2022 | U2: ACUMULADO ALIANZA
A3: 01-001-20 | B3: PACÍFICO | C3: ASMUPGRAMI | D3: 0 | E3: 0 | F3: 1 | G3: 1 | H3: 1 | I3: 1 | J3: 1 | K3: 0 | L3: 0 | M3: 1 | N3: 1 | O3: 1 | P3: 1 | Q3: 1 | R3: 1 | S3: =SUM(D3:Q3) -> 10 | T3: =SUM(R3) -> 1 | U3: =S3+T3 -> 11
A4: 01-002-20 | B4: PACÍFICO | C4: ASOMOREROS | D4: 0 | E4: 0 | F4: 1 | G4: 1 | H4: 1 | I4: 1 | J4: 1 | K4: 0 | L4: 0 | M4: 1 | N4: 1 | O4: 1 | P4: 1 | Q4: 1 | R4: 1 | S4: =SUM(D4:Q4) -> 10 | T4: =SUM(R4) -> 1 | U4: =S4+T4 -> 11
A5: 01-003-20 | B5: PACÍFICO | C5: ASPROBALBOA | D5: 0 | E5: 0 | F5: 1 | G5: 1 | H5: 1 | I5: 1 | J5: 1 | K5: 0 | L5: 0 | M5: 1 | N5: 1 | O5: 1 | P5: 1 | Q5: 1 | R5: 1 | S5: =SUM(D5:Q5) -> 10 | T5: =SUM(R5) -> 1 | U5: =S5+T5 -> 11
A6: 01-004-20 | B6: PACÍFICO | C6: ASPROPAPA TOTORO | D6: 0 | E6: 0 | F6: 1 | G6: 1 | H6: 1 | I6: 1 | J6: 1 | K6: 0 | L6: 0 | M6: 1 | N6: 1 | O6: 1 | P6: 1 | Q6: 1 | R6: 1 | S6: =SUM(D6:Q6) -> 10 | T6: =SUM(R6) -> 1 | U6: =S6+T6 -> 11
A7: 01-005-20 | B7: PACÍFICO | C7: APROPESCA | D7: 0 | E7: 0 | F7: 1 | G7: 1 | H7: 1 | I7: 1 | J7: 1 | K7: 0 | L7: 0 | M7: 1 | N7: 1 | O7: 1 | P7: 1 | Q7: 1 | R7: 1 | S7: =SUM(D7:Q7) -> 10 | T7: =SUM(R7) -> 1 | U7: =S7+T7 -> 11
A8: 01-006-20 | B8: PACÍFICO | C8: APEGANCABI | D8: 0 | E8: 0 | F8: 1 | G8: 1 | H8: 1 | I8: 1 | J8: 1 | K8: 0 | L8: 0 | M8: 1 | N8: 1 | O8: 1 | P8: 1 | Q8: 1 | R8: 1 | S8: =SUM(D8:Q8) -> 10 | T8: =SUM(R8) -> 1 | U8: =S8+T8 -> 11
A9: 01-007-20 | B9: PACÍFICO | C9: FUNMUFROT | D9: 0 | E9: 0 | F9: 1 | G9: 1 | H9: 1 | I9: 1 | J9: 1 | K9: 0 | L9: 0 | M9: 1 | N9: 1 | O9: 1 | P9: 1 | Q9: 1 | R9: 1 | S9: =SUM(D9:Q9) -> 10 | T9: =SUM(R9) -> 1 | U9: =S9+T9 -> 11
A10: 01-008-20 | B10: PACÍFICO | C10: ASOAPAZ | D10: 0 | E10: 0 | F10: 1 | G10: 1 | H10: 1 | I10: 1 | J10: 1 | K10: 0 | L10: 0 | M10: 1 | N10: 1 | O10: 1 | P10: 1 | Q10: 1 | R10: 1 | S10: =SUM(D10:Q10) -> 10 | T10: =SUM(R10) -> 1 | U10: =S10+T10 -> 11
A11: 01-009-20 | B11: PACÍFICO | C11: ASAGRAMPI | D11: 0 | E11: 0 | F11: 1 | G11: 1 | H11: 1 | I11: 1 | J11: 1 | K11: 0 | L11: 0 | M11: 1 | N11: 1 | O11: 1 | P11: 1 | Q11: 1 | R11: 1 | S11: =SUM(D11:Q11) -> 10 | T11: =SUM(R11) -> 1 | U11: =S11+T11 -> 11
A12: 01-010-20 | B12: PACÍFICO | C12: COONOGALES | D12: 0 | E12: 0 | F12: 1 | G12: 1 | H12: 1 | I12: 1 | J12: 1 | K12: 0 | L12: 0 | M12: 1 | N12: 1 | O12: 1 | P12: 1 | Q12: 1 | R12: 1 | S12: =SUM(D12:Q12) -> 10 | T12: =SUM(R12) -> 1 | U12: =S12+T12 -> 11
A13: 01-011-20 | B13: PACÍFICO | C13: NASAFRUT | D13: 0 | E13: 0 | F13: 1 | G13: 1 | H13: 1 | I13: 1 | J13: 1 | K13: 0 | L13: 0 | M13: 1 | N13: 1 | O13: 1 | P13: 0 | Q13: 1 | R13: 1 | S13: =SUM(D13:R13) -> 10 | T13: 0 | U13: =S13+T13 -> 10
A14: 01-012-20 | B14: PACÍFICO | C14: ASOAGROTCH | D14: 0 | E14: 0 | F14: 1 | G14: 1 | H14: 1 | I14: 1 | J14: 1 | K14: 0 | L14: 0 | M14: 1 | N14: 1 | O14: 1 | P14: 1 | Q14: 1 | R14: 1 | S14: =SUM(D14:Q14) -> 10 | T14: =SUM(R14) -> 1 | U14: =S14+T14 -> 11
A15: 01-013-20 | B15: PACÍFICO | C15: ASOINAP | D15: 0 | E15: 0 | F15: 1 | G15: 1 | H15: 1 | I15: 1 | J15: 1 | K15: 0 | L15: 0 | M15: 1 | N15: 1 | O15: 1 | P15: 0 | Q15: 1 | R15: 1 | S15: =SUM(D15:R15) -> 10 | T15: 0 | U15: =S15+T15 -> 10
A16: 01-014-20 | B16: PACÍFICO | C16: ASOMEAG | D16: 0 | E16: 0 | F16: 1 | G16: 1 | H16: 1 | I16: 1 | J16: 1 | K16: 0 | L16: 0 | M16: 1 | N16: 1 | O16: 1 | P16: 1 | Q16: 1 | R16: 0 | S16: =SUM(D16:Q16) -> 10 | T16: =SUM(R16) -> 0 | U16: =S16+T16 -> 10
A17: 01-015-20 | B17: PACÍFICO | C17: ASOVICOPAL | D17: 0 | E17: 0 | F17: 1 | G17: 1 | H17: 1 | I17: 1 | J17: 1 | K17: 0 | L17: 0 | M17: 0 | N17: 0 | O17: 0 | P17: 0 | Q17: 0 | R17: 0 | S17: =SUM(D17:Q17) -> 5 | T17: =SUM(R17) -> 0 | U17: =S17+T17 -> 5
A18: 01-016-20 | B18: PACÍFICO | C18: ASPROAGROPESQH | D18: 0 | E18: 0 | F18: 1 | G18: 1 | H18: 1 | I18: 1 | J18: 1 | K18: 0 | L18: 0 | M18: 1 | N18: 1 | O18: 1 | P18: 1 | Q18: 1 | R18: 0 | S18: =SUM(D18:Q18) -> 10 | T18: =SUM(R18) -> 0 | U18: =S18+T18 -> 10
A19: 01-017-20 | B19: PACÍFICO | C19: ASOPROPIÑALAU | D19: 0 | E19: 0 | F19: 1 | G19: 1 | H19: 1 | I19: 1 | J19: 1 | K19: 0 | L19: 0 | M19: 1 | N19: 1 | O19: 1 | P19: 1 | Q19: 1 | R19: 1 | S19: =SUM(D19:Q19) -> 10 | T19: =SUM(R19) -> 1 | U19: =S19+T19 -> 11
A20: 01-018-20 | B20: PACÍFICO | C20: FORJANDO FUTURO | D20: 0 | E20: 0 | F20: 1 | G20: 1 | H20: 1 | I20: 1 | J20: 1 | K20: 0 | L20: 0 | M20: 1 | N20: 1 | O20: 1 | P20: 1 | Q20: 1 | R20: 1 | S20: =SUM(D20:Q20) -> 10 | T20: =SUM(R20) -> 1 | U20: =S20+T20 -> 11
A21: 01-019-20 | B21: PACÍFICO | C21: SAN NICOLAS | D21: 0 | E21: 0 | F21: 1 | G21: 1 | H21: 1 | I21: 1 | J21: 1 | K21: 0 | L21: 0 | M21: 1 | N21: 1 | O21: 1 | P21: 1 | Q21: 1 | R21: 1 | S21: =SUM(D21:Q21) -> 10 | T21: =SUM(R21) -> 1 | U21: =S21+T21 -> 11
A22: 01-020-20 | B22: PACÍFICO | C22: EL CAMPAMENTO | D22: 0 | E22: 0 | F22: 1 | G22: 1 | H22: 1 | I22: 1 | J22: 1 | K22: 0 | L22: 0 | M22: 1 | N22: 1 | O22: 1 | P22: 1 | Q22: 1 | R22: 1 | S22: =SUM(D22:Q22) -> 10 | T22: =SUM(R22) -> 1 | U22: =S22+T22 -> 11
A23: 01-021-20 | B23: PACÍFICO | C23: AMFIPAR | D23: 0 | E23: 0 | F23: 1 | G23: 1 | H23: 1 | I23: 1 | J23: 1 | K23: 0 | L23: 0 | M23: 1 | N23: 1 | O23: 1 | P23: 1 | Q23: 1 | R23: 1 | S23: =SUM(D23:Q23) -> 10 | T23: =SUM(R23) -> 1 | U23: =S23+T23 -> 11
A24: 01-022-20 | B24: PACÍFICO | C24: CANTON DE SAN PABLO | D24: 0 | E24: 0 | F24: 1 | G24: 1 | H24: 1 | I24: 1 | J24: 1 | K24: 0 | L24: 0 | M24: 1 | N24: 0 | O24: 0 | P24: 0 | Q24: 0 | R24: 0 | S24: =SUM(D24:Q24) -> 6 | T24: =SUM(R24) -> 0 | U24: =S24+T24 -> 6
A25: 01-023-20 | B25: PACÍFICO | C25: EL MANZANO | D25: 0 | E25: 0 | F25: 1 | G25: 1 | H25: 1 | I25: 1 | J25: 1 | K25: 0 | L25: 0 | M25: 1 | N25: 1 | O25: 1 | P25: 1 | Q25: 1 | R25: 1 | S25: =SUM(D25:Q25) -> 10 | T25: =SUM(R25) -> 1 | U25: =S25+T25 -> 11
A26: 01-024-20 | B26: PACÍFICO | C26: ASOPPLAMUS | D26: 0 | E26: 0 | F26: 1 | G26: 1 | H26: 1 | I26: 1 | J26: 1 | K26: 0 | L26: 0 | M26: 1 | N26: 1 | O26: 1 | P26: 1 | Q26: 1 | R26: 1 | S26: =SUM(D26:Q26) -> 10 | T26: =SUM(R26) -> 1 | U26: =S26+T26 -> 11
A27: 01-025-20 | B27: PACÍFICO | C27: ASOFACASJO - CHOCOCITO | D27: 0 | E27: 0 | F27: 1 | G27: 1 | H27: 1 | I27: 1 | J27: 1 | K27: 0 | L27: 0 | M27: 1 | N27: 1 | O27: 1 | P27: 1 | Q27: 1 | R27: 1 | S27: =SUM(D27:Q27) -> 10 | T27: =SUM(R27) -> 1 | U27: =S27+T27 -> 11
A28: 01-026-20 | B28: PACÍFICO | C28: LOS ESPINELEROS | D28: 0 | E28: 0 | F28: 1 | G28: 1 | H28: 1 | I28: 1 | J28: 1 | K28: 0 | L28: 0 | M28: 1 | N28: 1 | O28: 1 | P28: 1 | Q28: 1 | R28: 0 | S28: =SUM(D28:Q28) -> 10 | T28: =SUM(R28) -> 0 | U28: =S28+T28 -> 10
C29: Total x Mes | D29: =SUM(D3:D28) -> 0 | E29: =SUM(E3:E28) -> 0 | F29: =SUM(F3:F28) -> 26 | G29: =SUM(G3:G28) -> 26 | H29: =SUM(H3:H28) -> 26 | I29: =SUM(I3:I28) -> 26 | J29: =SUM(J3:J28) -> 26 | K29: =SUM(K3:K28) -> 0 | ... T29: =SUM(T3:T28) -> 19 | U29: =S29+T29 -> 270
U30: =SUM(D29:R29) -> 270
A31: MONITOREOS FASE II
A32: No. CONVENIO MARD | B32: REGIONAL | C32: ALIANZA | D32: 44531 | E32: 44562 | F32: 44593 | G32: 44621 | H32: 44652 | I32: 44682 | J32: 44713 | K32: 44743 | L32: 44774 | M32: 44805 | N32: 44835 | O32: 44866 | P32: 44896 | Q32: 44927 | R32: 44958 | S32: TOTAL
A33: 01-013-21 | B33: PACÍFICO | C33: ASPROLG | D33: 1 | J33: 1 | K33: 1 | S33: =SUM(D33:N33) -> 3
A34: 01-007-21 | B34: PACÍFICO | C34: ASOAGROAM | D34: 1 | J34: 1 | K34: 1 | S34: =SUM(D34:N34) -> 3
A35: 01-005-21 | B35: PACÍFICO | C35: ACP | D35: 1 | J35: 1 | K35: 1 | S35: =SUM(D35:N35) -> 3
A36: 01-037-21 | B36: PACÍFICO | C36: ASOCOCAR | D36: 1 | J36: 1 | K36: 1 | S36: =SUM(D36:N36) -> 3
A37: 01-003-21 | B37: PACÍFICO | C37: ASPROMIEL | D37: 1 | J37: 1 | K37: 0 | S37: =SUM(D37:N37) -> 2
A38: 01-058-21 | B38: PACÍFICO | C38: ASONUESPA | D38: 1 | J38: 1 | K38: 1 | S38: =SUM(D38:N38) -> 3
A39: 01-073-21 | B39: PACÍFICO | C39: ASOMAMOCUER | D39: 1 | J39: 1 | K39: 1 | S39: =SUM(D39:N39) -> 3
A40: 01-004-21 | B40: PACÍFICO | C40: ASOMUBO | D40: 1 | J40: 1 | K40: 1 | S40: =SUM(D40:N40) -> 3
A41: 01-070-21 | B41: PACÍFICO | C41: MERCOPAZ | D41: 1 | J41: 1 | K41: 0 | S41: =SUM(D41:N41) -> 2
A42: 01-008-21 | B42: PACÍFICO | C42: FRESAS LOMA | D42: 1 | J42: 1 | K42: 0 | S42: =SUM(D42:N42) -> 2
A43: 01-006-21 | B43: PACÍFICO | C43: APRODESME | D43: 1 | J43: 1 | K43: 1 | S43: =SUM(D43:N43) -> 3
A44: 01-024-21 | B44: PACÍFICO | C44: ASPCAM | D44: 1 | J44: 1 | K44: 1 | S44: =SUM(D44:N44) -> 3
... A61: 01-050-21 | B61: PACÍFICO | C61: PANILECEM | D61: 1 | J61: 1 | K61: 1 | S61: =SUM(D61:N61) -> 3
A62: 01-053-21 | B62: PACÍFICO | C62: ASOMUEMPRA | D62: 1 | J62: 1 | K62: 1 | S62: =SUM(D62:N62) -> 3 | AF62: =Pacífico!S3:S28 -> #VALUE!
A63: 01-029-21 | B63: PACÍFICO | C63: ASOMERDCOD | D63: 1 | J63: 1 | K63: 1 | S63: =SUM(D63:N63) -> 3
A64: 01-030-21 | B64: PACÍFICO | C64: ASOCIACIÓN RURAL DE PRODUCTORES DEL MUNICIPIO DE JURADÒ | D64: 1 | J64: 1 | K64: 1 | S64: =SUM(D64:N64) -> 3
A65: 01-039-21 | B65: PACÍFICO | C65: ASOCIACIÓN CERTEGUI | D65: 1 | J65: 1 | K65: 1 | S65: =SUM(D65:N65) -> 3
A66: 01-040-21 | B66: PACÍFICO | C66: ASOCIACIÓN DE PRODUCTORES CAMPESINOS CERTEGUEÑOS | D66: 1 | J66: 1 | K66: 1 | S66: =SUM(D66:N66) -> 3
A67: 01-010-21 | B67: PACÍFICO | C67: LACTEOS SANTA ROSA DE ILES | D67: 1 | J67: 1 | K67: 1 | S67: =SUM(D67:N67) -> 3
A68: 01-012-21 | B68: PACÍFICO | C68: ASOCIACION LA PRADERA | D68: 1 | J68: 1 | K68: 0 | S68: =SUM(D68:N68) -> 2
A69: 01-033-21 | B69: PACÍFICO | C69: ASOCIACIÓN AGROPECUARIA LA FLORIDA | D69: 1 | J69: 1 | K69: 1 | S69: =SUM(D69:N69) -> 3
A70: 01-025-21 | B70: PACÍFICO | C70: ASOINAPRO LOS ARRAYANES | D70: 1 | J70: 1 | K70: 1 | S70: =SUM(D70:N70) -> 3
A71: 01-011-21 | B71: PACÍFICO | C71: ANDINA DE CAMPESINOS DE POTOSI - AGROANDINA | D71: 1 | J71: 1 | K71: 1 | S71: =SUM(D71:N71) -> 3
A72: 01-034-21 | B72: PACÍFICO | C72: AGROPECUARIA PORVENIR CAMPESINO | D72: 1 | J72: 1 | K72: 0 | S72: =SUM(D72:N72) -> 2
A73: 01-021-21 | B73: PACÍFICO | C73: AGROPROGRESO | D73: 1 | J73: 1 | K73: 1 | S73: =SUM(D73:N73) -> 3
A74: 01-031-21 | B74: PACÍFICO | C74: ASOCAMPECHAGUI | D74: 1 | J74: 1 | K74: 1 | S74: =SUM(D74:N74) -> 3
... A105: 01-059-21 | B105: PACÍFICO | C105: ASOPLAYBA | D105: 1 | J105: 1 | K105: 0 | S105: =SUM(D105:N105) -> 2
C106: Total x Mes | D106: =SUM(D33:D105) -> 73 | E106: =SUM(E80:E105) -> 0 | F106: =SUM(F80:F105) -> 0 | G106: =SUM(G80:G105) -> 0 | H106: =SUM(H80:H105) -> 0 | I106: =SUM(I80:I105) -> 0 | J106: =SUM(J33:J105) -> 73 | K106: =SUM(K33:K105) -> 47 | L106: =SUM(L80:L105) -> 0 | M106: =SUM(M80:M105) -> 0 | N106: =SUM(N80:N105) -> 0 | S106: =SUM(S33:S105) -> 193
A109: Equipo BASE
A110: 44287 | B110: OK | C110: 189000000
A111: 44317 | B111: OK
A112: 44348 | B112: OK
A113: 44378 | B113: OK
A114: 44409 | B114: OK
A115: 44440 | B115: OK
A116: 44470 | B116: OK | C116: 31500000
A117: 44501 | B117: OK | C117: 31500000
A118: 44531 | B118: OK | C118: 31500000
A119: 44562 | B119: OK | C119: 31500000
A120: 44593 | B120: OK | C120: 31500000
A121: 44621 | B121: OK | C121: 31500000
A122: 44652 | B122: OK | C122: 31500000
A123: 44682 | B123: OK | C123: 31500000
A124: 44713 | B124: OK | C124: 45500000
A125: 44743

Sheet Eje Cafetero
A1: MONITOREOS FASE I
A2: No. CONVENIO MARD | B2: REGIONAL | C2: ALIANZA | D2: 44317 | E2: 44348 | F2: 44378 | G2: 44409 | H2: 44440 | I2: 44470 | J2: 44501 | K2: 44531 | L2: 44562 | M2: 44593 | N2: 44621 | O2: 44652 | P2: 44682 | Q2: 44713 | R2: 44743 | S2: TOTAL 2021 | T2: TOTAL 2022 | U2: ACUMULADO ALIANZA
A3: 02-001-20 | B3: Eje Cafetero y Antioquia | C3: ASOPYCA | D3: 0 | E3: 0 | F3: 1 | G3: 1 | H3: 1 | I3: 1 | J3: 1 | K3: 1 | L3: 1 | M3: 1 | N3: 1 | O3: 1 | P3: 1 | Q3: 1 | S3: =SUM(D3:O3) -> 10 | T3: =SUM(P3:Q3) -> 2 | U3: =S3+T3 -> 12
A4: 02-002-20 | B4: Eje Cafetero y Antioquia | C4: PROCORD | D4: 0 | E4: 0 | F4: 1 | G4: 1 | H4: 1 | I4: 1 | J4: 1 | K4: 1 | L4: 1 | M4: 1 | N4: 1 | O4: 1 | P4: 1 | Q4: 1 | S4: =SUM(D4:O4) -> 10 | T4: =SUM(P4:Q4) -> 2 | U4: =S4+T4 -> 12
A5: 02-003-20 | B5: Eje Cafetero y Antioquia | C5: ASPROFIL | D5: 0 | E5: 0 | F5: 1 | G5: 1 | H5: 1 | I5: 1 | J5: 1 | K5: 1 | L5: 1 | M5: 1 | N5: 1 | O5: 1 | P5: 1 | Q5: 1 | R5: 1 | S5: =SUM(D5:O5) -> 10 | T5: =SUM(P5:R5) -> 3 | U5: =S5+T5 -> 13
A6: 02-004-20 | B6: Eje Cafetero y Antioquia | C6: ASLUBEL | D6: 0 | E6: 0 | F6: 1 | G6: 1 | H6: 1 | I6: 1 | J6: 1 | K6: 1 | L6: 1 | M6: 1 | N6: 1 | O6: 1 | P6: 1 | Q6: 1 | S6: =SUM(D6:O6) -> 10 | T6: =SUM(P6:Q6) -> 2 | U6: =S6+T6 -> 12
A7: 02-005-20 | B7: Eje Cafetero y Antioquia | C7: AGROMUJER | D7: 0 | E7: 0 | F7: 1 | G7: 1 | H7: 1 | I7: 1 | J7: 1 | K7: 1 | L7: 1 | M7: 1 | N7: 1 | O7: 1 | P7: 1 | Q7: 1 | S7: =SUM(D7:O7) -> 10 | T7: =SUM(P7:R7) -> 2 | U7: =S7+T7 -> 12
A8: 02-006-20 | B8: Eje Cafetero y Antioquia | C8: ASOPLAD | D8: 0 | E8: 0 | F8: 1 | G8: 1 | H8: 1 | I8: 1 | J8: 1 | K8: 1 | L8: 1 | M8: 1 | N8: 1 | O8: 1 | P8: 1 | Q8: 1 | R8: 1 | S8: =SUM(D8:O8) -> 10 | T8: =SUM(P8:R8) -> 3 | U8: =S8+T8 -> 13
A9: 02-007-20 | B9: Eje Cafetero y Antioquia | C9: AMMUCAMP | D9: 0 | E9: 0 | F9: 1 | G9: 1 | H9: 1 | I9: 1 | J9: 1 | K9: 1 | L9: 1 | M9: 1 | N9: 1 | O9: 1 | P9: 1 | Q9: 1 | R9: 1 | S9: =SUM(D9:O9) -> 10 | T9: =SUM(P9:R9) -> 3 | U9: =S9+T9 -> 13
A10: 02-008-20 | B10: Eje Cafetero y Antioquia | C10: AMMUCID | D10: 0 | E10: 0 | F10: 1 | G10: 1 | H10: 1 | I10: 1 | J10: 1 | K10: 1 | L10: 1 | M10: 1 | N10: 1 | O10: 1 | P10: 1 | Q10: 1 | R10: 1 | S10: =SUM(D10:O10) -> 10 | T10: =SUM(P10:R10) -> 3 | U10: =S10+T10 -> 13
A11: 02-009-20 | B11: Eje Cafetero y Antioquia | C11: ASPLABEL | D11: 0 | E11: 0 | F11: 1 | G11: 1 | H11: 1 | I11: 1 | J11: 1 | K11: 1 | L11: 1 | M11: 1 | N11: 1 | O11: 1 | P11: 1 | Q11: 1 | R11: 1 | S11: =SUM(D11:O11) -> 10 | T11: =SUM(P11:R11) -> 3 | U11: =S11+T11 -> 13
A12: 02-010-20 | B12: Eje Cafetero y Antioquia | C12: ASOMUMA | D12: 0 | E12: 0 | F12: 1 | G12: 1 | H12: 1 | I12: 1 | J12: 1 | K12: 1 | L12: 1 | M12: 1 | N12: 1 | O12: 1 | P12: 1 | Q12: 1 | R12: 1 | S12: =SUM(D12:O12) -> 10 | T12: =SUM(P12:R12) -> 3 | U12: =S12+T12 -> 13
A13: 02-011-20 | B13: Eje Cafetero y Antioquia | C13: ASGROCALMO | D13: 0 | E13: 0 | F13: 1 | G13: 1 | H13: 1 | I13: 1 | J13: 1 | K13: 1 | L13: 1 | M13: 1 | N13: 1 | O13: 1 | P13: 1 | Q13: 1 | S13: =SUM(D13:O13) -> 10 | T13: =SUM(P13:Q13) -> 2 | U13: =S13+T13 -> 12
A14: 02-012-20 | B14: Eje Cafetero y Antioquia | C14: APITASA | D14: 0 | E14: 0 | F14: 1 | G14: 1 | H14: 1 | I14: 1 | J14: 1 | K14: 1 | L14: 1 | M14: 1 | N14: 1 | O14: 1 | P14: 1 | Q14: 1 | R14: 1 | S14: =SUM(D14:O14) -> 10 | T14: =SUM(P14:R14) -> 3 | U14: =S14+T14 -> 13
A15: 02-013-20 | B15: Eje Cafetero y Antioquia | C15: FUNCOLAGRO | D15: 0 | E15: 0 | F15: 1 | G15: 1 | H15: 1 | I15: 1 | J15: 1 | K15: 1 | L15: 1 | M15: 1 | N15: 1 | O15: 1 | P15: 1 | Q15: 1 | R15: 1 | S15: =SUM(D15:O15) -> 10 | T15: =SUM(P15:R15) -> 3 | U15: =S15+T15 -> 13
A16: 02-014-20 | B16: Eje Cafetero y Antioquia | C16: ASPANOR | D16: 0 | E16: 0 | F16: 1 | G16: 1 | H16: 1 | I16: 1 | J16: 1 | K16: 1 | L16: 1 | M16: 1 | N16: 1 | O16: 1 | P16: 1 | Q16: 1 | S16: =SUM(D16:O16) -> 10 | T16: =SUM(P16:Q16) -> 2 | U16: =S16+T16 -> 12
A17: 02-015-20 | B17: Eje Cafetero y Antioquia | C17: ASOPROCHOER | D17: 0 | E17: 0 | F17: 1 | G17: 1 | H17: 1 | I17: 1 | J17: 1 | K17: 1 | L17: 1 | M17: 1 | N17: 1 | O17: 1 | P17: 1 | Q17: 1 | R17: 1 | S17: =SUM(D17:O17) -> 10 | T17: =SUM(P17:R17) -> 3 | U17: =S17+T17 -> 13
A18: 02-016-20 | B18: Eje Cafetero y Antioquia | C18: ASPROPHACAL | D18: 0 | E18: 0 | F18: 1 | G18: 1 | H18: 1 | I18: 1 | J18: 0 | K18: 0 | L18: 0 | M18: 0 | N18: 0 | O18: 0 | S18: =SUM(D18:P18) -> 4 | T18: =SUM(P18:Q18) -> 0 | U18: =S18+T18 -> 4
A19: 02-017-20 | B19: Eje Cafetero y Antioquia | C19: ASOPROMAC - ASOPROMARULAC | D19: 0 | E19: 0 | F19: 1 | G19: 1 | H19: 1 | I19: 1 | J19: 1 | K19: 1 | L19: 1 | M19: 1 | N19: 1 | O19: 1 | P19: 1 | Q19: 1 | S19: =SUM(D19:O19) -> 10 | T19: =SUM(P19:R19) -> 2 | U19: =S19+T19 -> 12
A20: 02-018-20 | B20: Eje Cafetero y Antioquia | C20: AFRICOLMENAS | D20: 0 | E20: 0 | F20: 1 | G20: 1 | H20: 1 | I20: 1 | J20: 1 | K20: 1 | L20: 1 | M20: 1 | N20: 1 | O20: 1 | P20: 1 | Q20: 1 | R20: 1 | S20: =SUM(D20:O20) -> 10 | T20: =SUM(P20:R20) -> 3 | U20: =S20+T20 -> 13
A21: 02-019-20 | B21: Eje Cafetero y Antioquia | C21: ASOGRAB | D21: 0 | E21: 0 | F21: 1 | G21: 1 | H21: 1 | I21: 1 | J21: 1 | K21: 1 | L21: 1 | M21: 1 | N21: 1 | O21: 1 | P21: 1 | Q21: 1 | R21: 1 | S21: =SUM(D21:O21) -> 10 | T21: =SUM(P21:R21) -> 3 | U21: =S21+T21 -> 13
A22: 02-020-20 | B22: Eje Cafetero y Antioquia | C22: ASOMUCHACHA | D22: 0 | E22: 0 | F22: 1 | G22: 1 | H22: 1 | I22: 1 | J22: 1 | K22: 1 | L22: 1 | M22: 1 | N22: 1 | O22: 1 | P22: 1 | Q22: 1 | R22: 1 | S22: =SUM(D22:O22) -> 10 | T22: =SUM(P22:R22) -> 3 | U22: =S22+T22 -> 13
A23: 02-021-20 | B23: Eje Cafetero y Antioquia | C23: OCCF | D23: 0 | E23: 0 | F23: 1 | G23: 1 | H23: 1 | I23: 1 | J23: 1 | K23: 1 | L23: 1 | M23: 1 | N23: 1 | O23: 1 | P23: 1 | Q23: 1 | R23: 1 | S23: =SUM(D23:O23) -> 10 | T23: =SUM(P23:R23) -> 3 | U23: =S23+T23 -> 13
A24: 02-022-20 | B24: Eje Cafetero y Antioquia | C24: PARAISO DE MUJER | D24: 0 | E24: 0 | F24: 1 | G24: 1 | H24: 1 | I24: 1 | J24: 1 | K24: 1 | L24: 1 | M24: 1 | N24: 1 | O24: 1 | P24: 1 | Q24: 1 | S24: =SUM(D24:O24) -> 10 | T24: =SUM(P24:Q24) -> 2 | U24: =S24+T24 -> 12
A25: 02-023-20 | B25: Eje Cafetero y Antioquia | C25: ASOPACO | D25: 0 | E25: 0 | F25: 1 | G25: 1 | H25: 1 | I25: 1 | J25: 1 | K25: 1 | L25: 1 | M25: 1 | N25: 1 | O25: 1 | P25: 1 | Q25: 1 | R25: 1 | S25: =SUM(D25:O25) -> 10 | T25: =SUM(P25:R25) -> 3 | U25: =S25+T25 -> 13
A26: 02-024-20 | B26: Eje Cafetero y Antioquia | C26: ASOAGROCORDILLERA | D26: 0 | E26: 0 | F26: 1 | G26: 1 | H26: 1 | I26: 1 | J26: 1 | K26: 1 | L26: 1 | M26: 1 | N26: 1 | O26: 1 | P26: 1 | Q26: 1 | R26: 1 | S26: =SUM(D26:O26) -> 10 | T26: =SUM(P26:R26) -> 3 | U26: =S26+T26 -> 13
A27: 02-025-20 | B27: Eje Cafetero y Antioquia | C27: ASOHORTICAS | D27: 0 | E27: 0 | F27: 1 | G27: 1 | H27: 1 | I27: 1 | J27: 1 | K27: 1 | L27: 1 | M27: 1 | N27: 0 | O27: 0 | S27: =SUM(D27:P27) -> 8 | T27: =SUM(P27:Q27) -> 0 | U27: =S27+T27 -> 8
A28: 02-026-20 | B28: Eje Cafetero y Antioquia | C28: ASOPROAGROPAR | D28: 0 | E28: 0 | F28: 1 | G28: 1 | H28: 1 | I28: 1 | J28: 1 | K28: 1 | L28: 1 | M28: 1 | N28: 1 | O28: 1 | P28: 1 | Q28: 1 | R28: 1 | S28: =SUM(D28:O28) -> 10 | T28: =SUM(P28:R28) -> 3 | U28: =S28+T28 -> 13
A29: 02-027-20 | B29: Eje Cafetero y Antioquia | C29: ASOPRODESPLA | D29: 0 | E29: 0 | F29: 1 | G29: 1 | H29: 1 | I29: 1 | J29: 1 | K29: 1 | L29: 1 | M29: 1 | N29: 1 | O29: 1 | P29: 1 | S29: =SUM(D29:O29) -> 10 | T29: =SUM(P29:Q29) -> 1 | U29: =S29+T29 -> 11
C30: Total x Mes | D30: =SUM(D3:D29) -> 0 | E30: =SUM(E3:E29) -> 0 | F30: =SUM(F3:F29) -> 27 | G30: =SUM(G3:G29) -> 27 | H30: =SUM(H3:H29) -> 27 | I30: =SUM(I3:I29) -> 27 | J30: =SUM(J3:J29) -> 26 | K30: =SUM(K3:K29) -> 26 | ... R30: =SUM(R3:R29) -> 16 | S30: =SUM(F30:O30) -> 262 | T30: =SUM(T3:T29) -> 65 | U30: =SUM(U3:U29) -> 327
U31: =S30+T30 -> 327
A33: MONITOREOS FASE II
A34: No. CONVENIO MARD | B34: REGIONAL | C34: ALIANZA | D34: 44531 | E34: 44562 | F34: 44593 | G34: 44621 | H34: 44652 | I34: 44682 | J34: 44713 | K34: 44743 | L34: 44774 | M34: 44805 | N34: 44835 | O34: 44866 | P34: 44896 | Q34: 44927 | R34: 44958 | S34: TOTAL 2021
A35: 02-041-21 | B35: EJE CAFETERO Y ANTIOQUIA | C35: PLANTAMOS FUTURO | D35: 1 | I35: 1 | J35: 1 | S35: =SUM(D35:R35) -> 3
A36: 02-047-21 | B36: EJE CAFETERO Y ANTIOQUIA | C36: ASOCIACIÓN AGROPECUARIA TIERRA GRANDE | D36: 1 | K36: 1 | S36: =SUM(D36:R36) -> 2
A37: 02-060-21 | B37: EJE CAFETERO Y ANTIOQUIA | C37: ASOCACAOTEROS TÁMESIS | D37: 1 | K37: 1 | S37: =SUM(D37:R37) -> 2
A38: 02-045-21 | B38: EJE CAFETERO Y ANTIOQUIA | C38: ASOHASS NORTE | D38: 1 | I38: 1 | J38: 1 | S38: =SUM(D38:R38) -> 3
A39: 02-044-21 | B39: EJE CAFETERO Y ANTIOQUIA | C39: ASAPROL | D39: 1 | I39: 1 | J39: 1 | S39: =SUM(D39:R39) -> 3
A40: 02-059-21 | B40: EJE CAFETERO Y ANTIOQUIA | C40: ASOFAGUA | D40: 1 | H40: 1 | I40: 1 | J40: 1 | S40: =SUM(D40:R40) -> 4
A41: 02-036-21 | B41: EJE CAFETERO Y ANTIOQUIA | C41: AMESAA | D41: 1 | H41: 1 | I41: 1 | J41: 1 | S41: =SUM(D41:R41) -> 4
A42: 02-043-21 | B42: EJE CAFETERO Y ANTIOQUIA | C42: ASPABRIC | D42: 1 | H42: 1 | I42: 1 | J42: 1 | S42: =SUM(D42:R42) -> 4
A43: 02-035-21 | B43: EJE CAFETERO Y ANTIOQUIA | C43: ASDEPAN | D43: 1 | I43: 1 | J43: 1 | S43: =SUM(D43:R43) -> 3
A44: 02-046-21 | B44: EJE CAFETERO Y ANTIOQUIA | C44: ASOPROGFU | D44: 1 | K44: 1 | S44: =SUM(D44:R44) -> 2
A45: 02-037-21 | B45: EJE CAFETERO Y ANTIOQUIA | C45: ASOPROA | D45: 1 | I45: 1 | J45: 1 | S45: =SUM(D45:R45) -> 3
A46: 02-038-21 | B46: EJE CAFETERO Y ANTIOQUIA | C46: ASOBOSQUES | D46: 1 | I46: 1 | J46: 1 | S46: =SUM(D46:R46) -> 3
A47: 02-042-21 | B47: EJE CAFETERO Y ANTIOQUIA | C47: ASOPAMA | D47: 1 | H47: 1 | I47: 1 | J47: 1 | K47: 1 | S47: =SUM(D47:R47) -> 5
A48: 02-049-21 | B48: EJE CAFETERO Y ANTIOQUIA | C48: ASOMORRITOS | D48: 1 | I48: 1 | J48: 1 | S48: =SUM(D48:R48) -> 3
A49: 02-048-21 | B49: EJE CAFETERO Y ANTIOQUIA | C49: ASOGREPACA | D49: 1 | I49: 1 | J49: 1 | K49: 1 | S49: =SUM(D49:R49) -> 4
A50: 02-061-21 | B50: EJE CAFETERO Y ANTIOQUIA | C50: ASITAPUR | D50: 1 | I50: 1 | J50: 1 | L50: 1 | S50: =SUM(D50:R50) -> 4
A51: 02-039-21 | B51: EJE CAFETERO Y ANTIOQUIA | C51: ASOPROLECA | D51: 1 | H51: 1 | I51: 1 | J51: 1 | K51: 1 | S51: =SUM(D51:R51) -> 5
A52: 02-050-21 | B52: EJE CAFETERO Y ANTIOQUIA | C52: AMII | D52: 1 | J52: 1 | S52: =SUM(D52:R52) -> 2
A53: 02-053-21 | B53: EJE CAFETERO Y ANTIOQUIA | C53: ASPHORTA-L | D53: 1 | I53: 1 | J53: 1 | S53: =SUM(D53:R53) -> 3
A54: 02-051-21 | B54: EJE CAFETERO Y ANTIOQUIA | C54: ASOPAGROY | D54: 1 | I54: 1 | J54: 1 | K54: 1 | S54: =SUM(D54:R54) -> 4
A55: 02-065-21 | B55: EJE CAFETERO Y ANTIOQUIA | C55: ASMUGAN | D55: 1 | H55: 1 | I55: 1 | J55: 1 | S55: =SUM(D55:R55) -> 4
A56: 02-040-21 | B56: EJE CAFETERO Y ANTIOQUIA | C56: COOP ALAGRO | D56: 1 | K56: 1 | S56: =SUM(D56:R56) -> 2
A57: 02-052-21 | B57: EJE CAFETERO Y ANTIOQUIA | C57: ASOCASAN C.A. | D57: 1 | H57: 1 | I57: 1 | J57: 1 | S57: =SUM(D57:R57) -> 4
A58: 02-064-21 | B58: EJE CAFETERO Y ANTIOQUIA | C58: FORJANDO FUTURO | D58: 1 | J58: 1 | S58: =SUM(D58:R58) -> 2
A59: 02-007-21 | B59: EJE CAFETERO Y ANTIOQUIA | C59: PROCAMSA | D59: 1 | I59: 1 | J59: 1 | S59: =SUM(D59:R59) -> 3
A60: 02-063-21 | B60: EJE CAFETERO Y ANTIOQUIA | C60: ASOCANORA | D60: 1 | I60: 1 | J60: 1 | S60: =SUM(D60:R60) -> 3
A61: 02-010-21 | B61: EJE CAFETERO Y ANTIOQUIA | C61: ASOHASSPEN | D61: 1 | H61: 1 | I61: 1 | J61: 1 | K61: 1 | L61: 1 | S61: =SUM(D61:R61) -> 6
A62: 02-062-21 | B62: EJE CAFETERO Y ANTIOQUIA | C62: ASOPROASA | D62: 1 | H62: 1 | I62: 1 | J62: 1 | L62: 1 | S62: =SUM(D62:R62) -> 5
A63: 02-067-21 | B63: EJE CAFETERO Y ANTIOQUIA | C63: PROAGUADAS | D63: 1 | J63: 1 | S63: =SUM(D63:R63) -> 2
A64: 02-031-21 | B64: EJE CAFETERO Y ANTIOQUIA | C64: ASOAPIVIC | D64: 1 | J64: 1 | S64: =SUM(D64:R64) -> 2
A65: 02-018-21 | B65: EJE CAFETERO Y ANTIOQUIA | C65: AGROCOEN | D65: 1 | J65: 1 | S65: =SUM(D65:R65) -> 2
A66: 02-012-21 | B66: EJE CAFETERO Y ANTIOQUIA | C66: ASOAGROVIC | D66: 1 | J66: 1 | S66: =SUM(D66:R66) -> 2
A67: 02-066-21 | B67: EJE CAFETERO Y ANTIOQUIA | C67: COOPROGUASAN | D67: 1 | I67: 1 | J67: 1 | S67: =SUM(D67:R67) -> 3
A68: 02-028-21 | B68: EJE CAFETERO Y ANTIOQUIA | C68: APROLEHAN | D68: 1 | J68: 1 | S68: =SUM(D68:R68) -> 2
A69: 02-020-21 | B69: EJE CAFETERO Y ANTIOQUIA | C69: ASOPACAS | D69: 1 | I69: 1 | J69: 1 | S69: =SUM(D69:R69) -> 3
A70: 02-058-21 | B70: EJE CAFETERO Y ANTIOQUIA | C70: ASOAGRO - ARANZAZU | D70: 1 | I70: 1 | J70: 1 | S70: =SUM(D70:R70) -> 3
A71: 02-003-21 | B71: EJE CAFETERO Y ANTIOQUIA | C71: FRUVIT | D71: 1 | I71: 1 | J71: 1 | S71: =SUM(D71:R71) -> 3
A72: 02-021-21 | B72: EJE CAFETERO Y ANTIOQUIA | C72: ASOCAMAR | D72: 1 | J72: 1 | S72: =SUM(D72:R72) -> 2
A73: 02-008-21 | B73: EJE CAFETERO Y ANTIOQUIA | C73: ASOPROGUASCAL | D73: 1 | J73: 1 | S73: =SUM(D73:R73) -> 2
A74: 02-011-21 | B74: EJE CAFETERO Y ANTIOQUIA | C74: ASPROPASA | D74: 1 | J74: 1 | K74: 1 | S74: =SUM(D74:R74) -> 3
A75: 02-022-21 | B75: EJE CAFETERO Y ANTIOQUIA | C75: COOMERAGRO | D75: 1 | I75: 1 | J75: 1 | K75: 1 | L75: 1 | S75: =SUM(D75:R75) -> 5
A76: 02-005-21 | B76: EJE CAFETERO Y ANTIOQUIA | C76: TERRITORIO NUESTRO | D76: 1 | I76: 1 | J76: 1 | S76: =SUM(D76:R76) -> 3
A77: 02-054-21 | B77: EJE CAFETERO Y ANTIOQUIA | C77: LA MARIELA PIJAO | D77: 1 | I77: 1 | J77: 1 | S77: =SUM(D77:R77) -> 3
A78: 02-056-21 | B78: EJE CAFETERO Y ANTIOQUIA | C78: ASORGEC | D78: 1 | L78: 1 | S78: =SUM(D78:R78) -> 2
A79: 02-055-21 | B79: EJE CAFETERO Y ANTIOQUIA | C79: ASOPROCCACIQUE | D79: 1 | I79: 1 | S79: =SUM(D79:R79) -> 2
A80: 02-033-21 | B80: EJE CAFETERO Y ANTIOQUIA | C80: ASOVICPI | D80: 1 | I80: 1 | J80: 1 | S80: =SUM(D80:R80) -> 3
A81: 02-002-21 | B81: EJE CAFETERO Y ANTIOQUIA | C81: AGROQUIM | D81: 1 | K81: 1 | S81: =SUM(D81:R81) -> 2
A82: 02-032-21 | B82: EJE CAFETERO Y ANTIOQUIA | C82: APIQUINDIO | D82: 1 | I82: 1 | J82: 1 | S82: =SUM(D82:R82) -> 3
A83: 02-024-21 | B83: EJE CAFETERO Y ANTIOQUIA | C83: CACAOQUÍN | D83: 1 | K83: 1 | S83: =SUM(D83:R83) -> 2
A84: 02-030-21 | B84: EJE CAFETERO Y ANTIOQUIA | C84: ASDEGEQUIN | D84: 1 | H84: 1 | I84: 1 | J84: 1 | K84: 1 | S84: =SUM(D84:R84) -> 5
A85: 02-029-21 | B85: EJE CAFETERO Y ANTIOQUIA | C85: ASOJOCA | D85: 1 | I85: 1 | J85: 1 | K85: 1 | S85: =SUM(D85:R85) -> 4
A86: 02-001-21 | B86: EJE CAFETERO Y ANTIOQUIA | C86: ASOMERGEN | D86: 1 | H86: 1 | I86: 1 | J86: 1 | K86: 1 | S86: =SUM(D86:R86) -> 5
A87: 02-034-21 | B87: EJE CAFETERO Y ANTIOQUIA | C87: APROAGUAN | D87: 1 | H87: 1 | I87: 1 | J87: 1 | K87: 1 | S87: =SUM(D87:R87) -> 5
A88: 02-057-21 | B88: EJE CAFETERO Y ANTIOQUIA | C88: HASSFILANDIA | D88: 1 | J88: 1 | S88: =SUM(D88:R88) -> 2
A89: 02-017-21 | B89: EJE CAFETERO Y ANTIOQUIA | C89: AGROPECOL | D89: 1 | I89: 1 | J89: 1 | S89: =SUM(D89:R89) -> 3
A90: 02-068-21 | B90: EJE CAFETERO Y ANTIOQUIA | C90: CORPASSQUIN | D90: 1 | I90: 1 | J90: 1 | S90: =SUM(D90:R90) -> 3
A91: 02-004-21 | B91: EJE CAFETERO Y ANTIOQUIA | C91: ASOCAMPO | D91: 1 | J91: 1 | S91: =SUM(D91:R91) -> 2
A92: 02-027-21 | B92: EJE CAFETERO Y ANTIOQUIA | C92: AROMAQUIN | D92: 1 | L92: 1 | S92: =SUM(D92:R92) -> 2
A93: 02-013-21 | B93: EJE CAFETERO Y ANTIOQUIA | C93: AMMUCID | D93: 1 | L93: 1 | S93: =SUM(D93:R93) -> 2
A94: 02-016-21 | B94: EJE CAFETERO Y ANTIOQUIA | C94: ANMUCIM | D94: 1 | L94: 1 | S94: =SUM(D94:R94) -> 2
A95: 02-006-21 | B95: EJE CAFETERO Y ANTIOQUIA | C95: ASODEBEL | D95: 1 | J95: 1 | S95: =SUM(D95:R95) -> 2
A96: 02-009-21 | B96: EJE CAFETERO Y ANTIOQUIA | C96: ASOEXPLAR | D96: 1 | K96: 1 | S96: =SUM(D96:R96) -> 2
A97: 02-014-21 | B97: EJE CAFETERO Y ANTIOQUIA | C97: ASOCAFE MANANTIAL | D97: 1 | L97: 1 | S97: =SUM(D97:R97) -> 2
A98: 02-023-21 | B98: EJE CAFETERO Y ANTIOQUIA | C98: ASOMOREROS | D98: 1 | L98: 1 | S98: =SUM(D98:R98) -> 2
A99: 02-026-21 | B99: EJE CAFETERO Y ANTIOQUIA | C99: ASOMURVI | D99: 1 | L99: 1 | S99: =SUM(D99:R99) -> 2
A100: 02-025-21 | B100: EJE CAFETERO Y ANTIOQUIA | C100: ASOPRI | D100: 1 | I100: 1 | J100: 1 | S100: =SUM(D100:R100) -> 3
A101: 02-015-21 | B101: EJE CAFETERO Y ANTIOQUIA | C101: ASOVILACEL | D101: 1 | I101: 1 | J101: 1 | S101: =SUM(D101:R101) -> 3
...

Sheet Caribe I
A1: MONITOREOS FASE I
A2: No. CONVENIO MARD | B2: REGIONAL | C2: ALIANZA | D2: 44317 | E2: 44348 | F2: 44378 | G2: 44409 | H2: 44440 | I2: 44470 | J2: 44501 | K2: 44531 | L2: 44562 | M2: 44593 | N2: 44621 | O2: 44652 | P2: 44682 | Q2: TOTAL 2020 | R2: TOTAL 2022 | S2: ACUMULADO ALIANZA
A3: 03-001-20 | B3: CARIBE 1 | C3: ASOMUDEPAS | D3: 0 | E3: 0 | F3: 0 | G3: 0 | H3: 0 | I3: 0 | J3: 0 | K3: 0 | L3: 0 | M3: 0 | N3: 0 | Q3: =SUM(D3:N3) -> 0 | R3: 0 | S3: =Q3+R3 -> 0
A4: 03-002-20 | B4: CARIBE 1 | C4: AMUSI | D4: 0 | E4: 1 | F4: 1 | G4: 1 | H4: 1 | I4: 1 | J4: 1 | K4: 1 | L4: 1 | M4: 1 | N4: 1 | O4: 1 | P4: 1 | Q4: =SUM(D4:N4) -> 10 | R4: =SUM(O4:P4) -> 2 | S4: =Q4+R4 -> 12
A5: 03-006-20 | B5: CARIBE 1 | C5: ASOMUVICA | D5: 1 | E5: 1 | F5: 1 | G5: 1 | H5: 1 | I5: 1 | J5: 1 | K5: 1 | L5: 1 | M5: 1 | N5: 1 | O5: 1 | P5: 1 | Q5: =SUM(D5:M5) -> 10 | R5: =SUM(N5:P5) -> 3 | S5: =Q5+R5 -> 13
A6: 03-016-20 | B6: CARIBE 1 | C6: FUNGACAM | D6: 0 | E6: 1 | F6: 1 | G6: 1 | H6: 1 | I6: 1 | J6: 1 | K6: 1 | L6: 1 | M6: 1 | N6: 1 | O6: 1 | P6: 1 | Q6: =SUM(D6:N6) -> 10 | R6: =SUM(O6:P6) -> 2 | S6: =Q6+R6 -> 12
A7: 03-017-20 | B7: CARIBE 1 | C7: AMERPOL | D7: 0 | E7: 1 | F7: 1 | G7: 1 | H7: 1 | I7: 1 | J7: 1 | K7: 1 | L7: 1 | M7: 1 | N7: 1 | O7: 1 | Q7: =SUM(D7:N7) -> 10 | R7: =SUM(O7:P7) -> 1 | S7: =Q7+R7 -> 11
A8: 03-018-20 | B8: CARIBE 1 | C8: ASOMUPEAUNISAL | D8: 0 | E8: 1 | F8: 1 | G8: 1 | H8: 1 | I8: 1 | J8: 1 | K8: 1 | L8: 1 | M8: 1 | N8: 1 | O8: 1 | P8: 1 | Q8: =SUM(D8:N8) -> 10 | R8: =SUM(O8:P8) -> 2 | S8: =Q8+R8 -> 12
A9: 03-021-20 | B9: CARIBE 1 | C9: ASOPACAPEC | D9: 0 | E9: 1 | F9: 1 | G9: 1 | H9: 1 | I9: 1 | J9: 1 | K9: 1 | L9: 1 | M9: 1 | N9: 1 | O9: 1 | P9: 1 | Q9: =SUM(D9:N9) -> 10 | R9: =SUM(O9:P9) -> 2 | S9: =Q9+R9 -> 12
A10: 03-022-20 | B10: CARIBE 1 | C10: ASOMURACO | D10: 0 | E10: 1 | F10: 1 | G10: 1 | H10: 1 | I10: 1 | J10: 1 | K10: 1 | L10: 1 | M10: 1 | N10: 1 | O10: 1 | Q10: =SUM(D10:N10) -> 10 | R10: =SUM(O10:P10) -> 1 | S10: =Q10+R10 -> 11
A11: 03-024-20 | B11: CARIBE 1 | C11: PECES DE SION | D11: 0 | E11: 1 | F11: 1 | G11: 1 | H11: 1 | I11: 1 | J11: 1 | K11: 1 | L11: 1 | M11: 1 | N11: 1 | O11: 1 | P11: 1 | Q11: =SUM(D11:N11) -> 10 | R11: =SUM(O11:P11) -> 2 | S11: =Q11+R11 -> 12
A12: 03-026-20 | B12: CARIBE 1 | C12: PORKBARANOA | D12: 0 | E12: 1 | F12: 1 | G12: 1 | H12: 1 | I12: 1 | J12: 1 | K12: 1 | Q12: =SUM(D12:O12) -> 7 | S12: =Q12+R12 -> 7
A13: 04-003-20 | B13: CARIBE 1 | C13: LA UNION DEL CAMPO | D13: 0 | E13: 1 | F13: 1 | G13: 1 | H13: 1 | I13: 1 | J13: 1 | K13: 1 | Q13: =SUM(D13:O13) -> 7 | S13: =Q13+R13 -> 7
A14: 04-004-20 | B14: CARIBE 1 | C14: ASOCITRICOS | D14: 0 | E14: 0 | F14: 0 | G14: 1 | H14: 1 | I14: 1 | J14: 1 | K14: 1 | L14: 1 | M14: 1 | N14: 1 | O14: 1 | P14: 1 | Q14: =SUM(D14:P14) -> 10 | S14: =Q14+R14 -> 10
A15: 04-006-20 | B15: CARIBE 1 | C15: ASODELTOCO | D15: 0 | E15: 1 | F15: 1 | G15: 1 | H15: 1 | I15: 1 | J15: 0 | K15: 0 | Q15: =SUM(D15:N15) -> 5 | R15: 0 | S15: =Q15+R15 -> 5
A16: 04-021-20 | B16: CARIBE 1 | C16: RAIZAL YOUTH | D16: 0 | E16: 0 | F16: 0 | G16: 1 | H16: 1 | I16: 1 | J16: 1 | K16: 1 | Q16: =SUM(D16:N16) -> 5 | R16: 0 | S16: =Q16+R16 -> 5
A17: 04-022-20 | B17: CARIBE 1 | C17: NEW DAWN | D17: 0 | E17: 0 | F17: 0 | G17: 1 | H17: 1 | I17: 1 | J17: 1 | K17: 1 | Q17: =SUM(D17:N17) -> 5 | R17: 0 | S17: =Q17+R17 -> 5
A18: 04-023-20 | B18: CARIBE 1 | C18: ECOFARMERS | D18: 0 | E18: 0 | F18: 1 | G18: 1 | H18: 1 | I18: 1 | J18: 1 | K18: 0 | Q18: =SUM(D18:N18) -> 5 | R18: 0 | S18: =Q18+R18 -> 5
A19: 04-024-20 | B19: CARIBE 1 | C19: ASOPROAGRO | D19: 0 | E19: 0 | F19: 0 | G19: 1 | H19: 1 | I19: 1 | J19: 1 | K19: 1 | L19: 1 | M19: 1 | N19: 1 | O19: 1 | Q19: =SUM(D19:O19) -> 9 | S19: =Q19+R19 -> 9
A20: 04-025-20 | B20: CARIBE 1 | C20: GREA | D20: 0 | E20: 1 | F20: 1 | G20: 1 | H20: 1 | I20: 1 | J20: 1 | K20: 1 | Q20: =SUM(D20:N20) -> 7 | S20: =Q20+R20 -> 7
C21: Total x Mes | D21: =SUM(D3:D20) -> 1 | E21: =SUM(E3:E20) -> 12 | F21: =SUM(F3:F20) -> 13 | G21: =SUM(G3:G20) -> 17 | H21: =SUM(H3:H20) -> 17 | I21: =SUM(I3:I20) -> 17 | J21: =SUM(J3:J20) -> 16 | K21: =SUM(K3:K20) -> 15 | ... S21: =SUM(S3:S20) -> 155
S22: =SUM(D21:P21) -> 155
A24: MONITOREOS FASE II
A25: No. CONVENIO MARD | B25: REGIONAL | C25: ALIANZA | D25: 44531 | E25: 44562 | F25: 44593 | G25: 44621 | H25: 44652 | I25: 44682 | J25: 44713 | K25: 44743 | L25: 44774 | M25: 44805 | N25: 44835 | O25: 44866 | P25: 44896 | Q25: TOTAL
A26: 03-052-21 | B26: CARIBE 1 | C26: PROFUTAL EAT | D26: 1 | E26: 0 | F26: 0 | G26: 0 | H26: 1 | I26: 1 | Q26: =SUM(D26:N26) -> 3
A27: 03-042-21 | B27: CARIBE 1 | C27: ASMUCOSORURAL | D27: 1 | E27: 0 | F27: 0 | G27: 0 | H27: 1 | I27: 1 | Q27: =SUM(D27:N27) -> 3
A28: 03-053-21 | B28: CARIBE 1 | C28: ASOCOSTERA | D28: 1 | E28: 0 | F28: 0 | G28: 0 | I28: 1 | Q28: =SUM(D28:N28) -> 2
A29: 03-054-21 | B29: CARIBE 1 | C29: ASOGAPOL | D29: 1 | E29: 0 | F29: 0 | G29: 0 | I29: 1 | Q29: =SUM(D29:N29) -> 2
A30: 03-055-21 | B30: CARIBE 1 | C30: ASOMURACO | D30: 1 | E30: 0 | F30: 0 | G30: 0 | L30: 1 | Q30: =SUM(D30:N30) -> 2
A31: 03-051-21 | B31: CARIBE 1 | C31: ASOMUPIASAG | D31: 1 | E31: 0 | F31: 0 | G31: 0 | I31: 1 | Q31: =SUM(D31:N31) -> 2
A32: 03-049-21 | B32: CARIBE 1 | C32: ASOMUPIASAG | D32: 1 | E32: 0 | F32: 0 | G32: 0 | I32: 1 | Q32: =SUM(D32:N32) -> 2
A33: 03-021-21 | B33: CARIBE 1 | C33: AFROPALMAR | D33: 1 | E33: 0 | F33: 0 | G33: 0 | H33: 1 | I33: 1 | Q33: =SUM(D33:N33) -> 3
A34: 03-016-21 | B34: CARIBE 1 | C34: ASOCAMPSUR | D34: 1 | E34: 0 | F34: 0 | G34: 0 | L34: 1 | Q34: =SUM(D34:N34) -> 2
A35: 03-015-21 | B35: CARIBE 1 | C35: ASOAVIMA | D35: 1 | E35: 0 | F35: 0 | G35: 0 | I35: 1 | Q35: =SUM(D35:N35) -> 2
A36: 03-019-21 | B36: CARIBE 1 | C36: ASOGANBAR | D36: 1 | E36: 0 | F36: 0 | G36: 0 | L36: 1 | Q36: =SUM(D36:N36) -> 2
A37: 03-022-21 | B37: CARIBE 1 | C37: ASOGUANBOSI | D37: 1 | E37: 0 | F37: 0 | G37: 0 | H37: 1 | L37: 1 | Q37: =SUM(D37:N37) -> 3
A38: 03-050-21 | B38: CARIBE 1 | C38: ASOMUPIASAG | D38: 1 | E38: 0 | F38: 0 | G38: 0 | K38: 1 | Q38: =SUM(D38:N38) -> 2
A39: 03-056-21 | B39: CARIBE 1 | C39: ASOMUPIASAG | D39: 1 | E39: 0 | F39: 0 | G39: 0 | K39: 1 | Q39: =SUM(D39:N39) -> 2
A40: 03-017-21 | B40: CARIBE 1 | C40: ASOCAMPRA | D40: 1 | E40: 0 | F40: 0 | G40: 0 | L40: 1 | Q40: =SUM(D40:N40) -> 2
A41: 03-024-21 | B41: CARIBE 1 | C41: ASOACUILAS | D41: 1 | E41: 0 | F41: 0 | G41: 0 | I41: 1 | K41: 1 | Q41: =SUM(D41:N41) -> 3
A42: 03-008-21 | B42: CARIBE 1 | C42: ASOAGROMULTISANJC | D42: 1 | E42: 0 | F42: 0 | G42: 0 | H42: 1 | I42: 1 | Q42: =SUM(D42:N42) -> 3
A43: 03-009-21 | B43: CARIBE 1 | C43: ASOPROAGROTRESCRUCES | D43: 1 | E43: 0 | F43: 0 | G43: 0 | H43: 1 | I43: 1 | Q43: =SUM(D43:N43) -> 3
A44: 03-006-21 | B44: CARIBE 1 | C44: APÍCOLA LA SERRANIA | D44: 1 | E44: 0 | F44: 0 | G44: 0 | H44: 1 | I44: 1 | Q44: =SUM(D44:N44) -> 3
A45: 03-057-21 | B45: CARIBE 1 | C45: AMOR A MI TIERRA | D45: 1 | E45: 0 | F45: 0 | G45: 0 | I45: 1 | Q45: =SUM(D45:N45) -> 2
A46: 03-020-21 | B46: CARIBE 1 | C46: ASOJEMMA | D46: 1 | E46: 0 | F46: 0 | G46: 0 | J46: 1 | K46: 1 | Q46: =SUM(D46:N46) -> 3
A47: 03-026-21 | B47: CARIBE 1 | C47: ASMUDEVICSAR | D47: 1 | E47: 0 | F47: 0 | G47: 0 | H47: 1 | I47: 1 | Q47: =SUM(D47:N47) -> 3
A48: 03-004-21 | B48: CARIBE 1 | C48: AMEC | D48: 1 | E48: 0 | F48: 0 | G48: 0 | H48: 1 | I48: 1 | J48: 1 | Q48: =SUM(D48:N48) -> 4
A49: 03-007-21 | B49: CARIBE 1 | C49: ASOMUPPI | D49: 1 | E49: 0 | F49: 0 | G49: 0 | H49: 1 | I49: 1 | Q49: =SUM(D49:N49) -> 3
A50: 03-002-21 | B50: CARIBE 1 | C50: AMUVIDAS | D50: 1 | E50: 0 | F50: 0 | G50: 0 | H50: 1 | I50: 1 | Q50: =SUM(D50:N50) -> 3
A51: 03-013-21 | B51: CARIBE 1 | C51: ÑAMEROS DE SAN JUAN | D51: 1 | E51: 0 | F51: 0 | G51: 0 | H51: 1 | J51: 1 | K51: 1 | Q51: =SUM(D51:N51) -> 4
A52: 03-005-21 | B52: CARIBE 1 | C52: ASOGABALLE | D52: 1 | E52: 0 | F52: 0 | G52: 0 | H52: 1 | I52: 1 | Q52: =SUM(D52:N52) -> 3
A53: 03-025-21 | B53: CARIBE 1 | C53: ASOCALIMA | D53: 1 | E53: 0 | F53: 0 | G53: 0 | L53: 1 | Q53: =SUM(D53:N53) -> 2
A54: 03-011-21 | B54: CARIBE 1 | C54: ASOAGROPLASAN | D54: 1 | E54: 0 | F54: 0 | G54: 0 | H54: 1 | I54: 1 | Q54: =SUM(D54:N54) -> 3
A55: 03-058-21 | B55: CARIBE 1 | C55: ASOPRONIS | D55: 1 | E55: 0 | F55: 0 | G55: 0 | K55: 1 | Q55: =SUM(D55:N55) -> 2
A56: 03-003-21 | B56: CARIBE 1 | C56: ASOPROMIXGUA | D56: 1 | E56: 0 | F56: 0 | G56: 0 | H56: 1 | I56: 1 | Q56: =SUM(D56:N56) -> 3
A57: 03-012-21 | B57: CARIBE 1 | C57: ASPOAGRO | D57: 1 | E57: 0 | F57: 0 | G57: 0 | K57: 1 | Q57: =SUM(D57:N57) -> 2
A58: 03-010-21 | B58: CARIBE 1 | C58: ASOHONDA | D58: 1 | E58: 0 | F58: 0 | G58: 0 | H58: 1 | I58: 1 | Q58: =SUM(D58:N58) -> 3
A59: 03-018-21 | B59: CARIBE 1 | C59: COOPIMARES | D59: 1 | E59: 0 | F59: 0 | G59: 0 | H59: 1 | I59: 1 | Q59: =SUM(D59:N59) -> 3
A60: 03-023-21 | B60: CARIBE 1 | C60: COOMUCAR | D60: 1 | E60: 0 | F60: 0 | G60: 0 | I60: 1 | Q60: =SUM(D60:N60) -> 2
A61: 03-032-21 | B61: CARIBE 1 | C61: CORINTEGRAL | D61: 1 | E61: 0 | F61: 0 | G61: 0 | Q61: =SUM(D61:N61) -> 1
A62: 03-014-21 | B62: CARIBE 1 | C62: APROFPHOR | D62: 1 | E62: 0 | F62: 0 | G62: 0 | H62: 1 | I62: 1 | Q62: =SUM(D62:N62) -> 3
A63: 03-001-21 | B63: CARIBE 1 | C63: PROMOTORES AMBIENTALES | D63: 1 | E63: 0 | F63: 0 | G63: 0 | Q63: =SUM(D63:N63) -> 1
A64: 03-044-21 | B64: CARIBE 1 | C64: CANE ROOTS ASOCIATION | D64: 1 | E64: 0 | F64: 0 | G64: 0 | L64: 1 | Q64: =SUM(D64:N64) -> 2
A65: 03-043-21 | B65: CARIBE 1 | C65: RAIZAL FAMERS | D65: 1 | E65: 0 | F65: 0 | G65: 0 | L65: 1 | Q65: =SUM(D65:N65) -> 2
A66: 03-048-21 | B66: CARIBE 1 | C66: FAMERS ASSOCIATION - SAIFA | D66: 1 | E66: 0 | F66: 0 | G66: 0 | L66: 1 | Q66: =SUM(D66:N66) -> 2
A67: 03-047-21 | B67: CARIBE 1 | C67: ASVERESAI | D67: 1 | E67: 0 | F67: 0 | G67: 0 | L67: 1 | Q67: =SUM(D67:N67) -> 2
A68: 03-033-21 | B68: CARIBE 1 | C68: AGROPEMO | D68: 1 | E68: 0 | F68: 0 | G68: 0 | I68: 1 | Q68: =SUM(D68:N68) -> 2
A69: 03-038-21 | B69: CARIBE 1 | C69: ASPRACES | D69: 1 | E69: 0 | F69: 0 | G69: 0 | K69: 1 | Q69: =SUM(D69:N69) -> 2
A70: 03-039-21 | B70: CARIBE 1 | C70: ASPRACES | D70: 1 | E70: 0 | F70: 0 | G70: 0 | K70: 1 | Q70: =SUM(D70:N70) -> 2
A71: 03-037-21 | B71: CARIBE 1 | C71: ASOANEI | D71: 1 | E71: 0 | F71: 0 | G71: 0 | I71: 1 | K71: 1 | Q71: =SUM(D71:N71) -> 3
A72: 03-041-21 | B72: CARIBE 1 | C72: ASOPROPERIJA | D72: 1 | E72: 0 | F72: 0 | G72: 0 | I72: 1 | K72: 1 | Q72: =SUM(D72:N72) -> 3
A73: 03-040-21 | B73: CARIBE 1 | C73: ASOPROAGROGAR | D73: 1 | E73: 0 | F73: 0 | G73: 0 | I73: 1 | K73: 1 | Q73: =SUM(D73:N73) -> 3
A74: 03-027-21 | B74: CARIBE 1 | C74: ASOPORCAN | D74: 1 | E74: 0 | F74: 0 | G74: 0 | I74: 1 | Q74: =SUM(D74:N74) -> 2
A75: 03-036-21 | B75: CARIBE 1 | C75: ASOCOR | D75: 1 | E75: 0 | F75: 0 | G75: 0 | L75: 1 | Q75: =SUM(D75:N75) -> 2
A76: 03-028-21 | B76: CARIBE 1 | C76: ASOMUCA | D76: 1 | E76: 0 | F76: 0 | G76: 0 | I76: 1 | K76: 1 | Q76: =SUM(D76:N76) -> 3
A77: 03-030-21 | B77: CARIBE 1 | C77: ASOCIACIÓN DE APICULTORES ALIANZA MANAURE | D77: 1 | E77: 0 | F77: 0 | G77: 0 | I77: 1 | K77: 1 | Q77: =SUM(D77:N77) -> 3
A78: 03-029-21 | B78: CARIBE 1 | C78: ASOIMCULT | D78: 1 | E78: 0 | F78: 0 | G78: 0 | I78: 1 | J78: 1 | Q78: =SUM(D78:N78) -> 3
A79: 03-035-21 | B79: CARIBE 1 | C79: ASOFUACA | D79: 1 | E79: 0 | F79: 0 | G79: 0 | K79: 1 | Q79: =SUM(D79:N79) -> 2
A80: 03-031-21 | B80: CARIBE 1 | C80: ASOPEGABOS | D80: 1 | E80: 0 | F80: 0 | G80: 0 | Q80: =SUM(D80:N80) -> 1
A81: 03-046-21 | B81: CARIBE 1 | C81: ASOPEMELEC | D81: 1 | E81: 0 | F81: 0 | G81: 0 | Q81: =SUM(D81:N81) -> 1
A82: 03-045-21 | B82: CARIBE 1 | C82: ASOMUSACEAS | D82: 1 | E82: 0 | F82: 0 | G82: 0 | K82: 1 | Q82: =SUM(D82:N82) -> 2
A83: 03-034-21 | B83: CARIBE 1 | C83: ASOCULMAIZPEL | D83: 1 | E83: 0 | F83: 0 | G83: 0 | Q83: =SUM(D83:N83) -> 1
C84: Total x Mes | D84: =SUM(D26:D83) -> 58 | E84: =SUM(E26:E82) -> 0 | F84: =SUM(F26:F82) -> 0 | G84: =SUM(G26:G82) -> 0 | H84: =SUM(H26:H82) -> 18 | I84: =SUM(I26:I82) -> 32 | J84: =SUM(J26:J82) -> 4 | K84: =SUM(K26:K82) -> 16 | L84: =SUM(L26:L82) -> 11 | ... P84: =SUM(P26:P82) -> 0 | Q84: =SUM(D84:N84) -> 139
A87: Equipo BASE
A88: 44287 | B88: OK | C88: 189000000
A89: 44317 | B89: OK
A90: 44348 | B90: OK
A91: 44378 | B91: OK
A92: 44409 | B92: OK
A93: 44440 | B93: OK
A94: 44470 | B94: OK | C94: 31500000
A95: 44501 | B95: OK | C95: 31500000
A96: 44531 | B96: OK | C96: 31500000
A97: 44562 | B97: OK | C97: 31500000
A98: 44593 | B98: OK | C98: 31500000
A99: 44621 | B99: OK | C99: 31500000
A100: 44652 | B100: OK | C100: 31500000
A101: 44682 | B101: OK | C101: =C100+14000000 -> 45500000
A102: 44713 | B102: OK | C102: 45500000
A103: 44743 | B103: OK | C103: 45500000
...

Sheet Caribe II
A1: MONITOREOS FASE I
A2: No. CONVENIO MARD | B2: REGIONAL | C2: ALIANZA | D2: 44317 | E2: 44348 | F2: 44378 | G2: 44409 | H2: 44440 | I2: 44470 | J2: 44501 | K2: 44531 | L2: 44562 | M2: 44593 | N2: 44621 | O2: 44652 | P2: 44682 | Q2: TOTAL
A3: 03-003-20 | B3: CARIBE 2 | C3: ASOPROLANA | D3: 0 | E3: 0 | F3: 0 | G3: 1 | H3: 1 | I3: 1 | J3: 1 | K3: 1 | L3: 1 | M3: 0 | N3: 0 | O3: 0 | P3: 0 | Q3: =SUM(D3:P3) -> 6
A4: 03-004-20 | B4: CARIBE 2 | C4: ASOCUIVA | D4: 0 | E4: 0 | F4: 0 | G4: 1 | H4: 1 | I4: 1 | J4: 1 | K4: 1 | L4: 1 | M4: 1 | N4: 1 | O4: 0 | P4: 0 | Q4: =SUM(D4:P4) -> 8
A5: 03-005-20 | B5: CARIBE 2 | C5: ANUC SINCE | D5: 0 | E5: 0 | F5: 0 | G5: 1 | H5: 1 | I5: 1 | J5: 1 | K5: 1 | L5: 1 | M5: 1 | N5: 1 | O5: 1 | P5: 1 | Q5: =SUM(D5:P5) -> 10
A6: 03-007-20 | B6: CARIBE 2 | C6: NUEVA SANTA INES | D6: 0 | E6: 0 | F6: 0 | G6: 1 | H6: 1 | I6: 1 | J6: 1 | K6: 1 | L6: 1 | M6: 1 | N6: 1 | O6: 1 | P6: 1 | Q6: =SUM(D6:P6) -> 10
A7: 03-008-20 | B7: CARIBE 2 | C7: ASPAPUY | D7: 0 | E7: 0 | F7: 0 | G7: 1 | H7: 1 | I7: 1 | J7: 1 | K7: 1 | L7: 1 | M7: 0 | N7: 0 | O7: 0 | P7: 0 | Q7: =SUM(D7:P7) -> 6
A8: 03-009-20 | B8: CARIBE 2 | C8: ASOJOPAZ | D8: 0 | E8: 0 | F8: 0 | G8: 1 | H8: 1 | I8: 1 | J8: 1 | K8: 1 | L8: 1 | M8: 1 | N8: 1 | O8: 1 | P8: 1 | Q8: =SUM(D8:P8) -> 10
A9: 03-010-20 | B9: CARIBE 2 | C9: ASOCAMDEL | D9: 0 | E9: 0 | F9: 0 | G9: 1 | H9: 1 | I9: 1 | J9: 1 | K9: 1 | L9: 1 | M9: 0 | N9: 0 | O9: 1 | P9: 1 | Q9: =SUM(D9:P9) -> 8
A10: 03-011-20 | B10: CARIBE 2 | C10: ASOPESAGRO | D10: 0 | E10: 0 | F10: 0 | G10: 1 | H10: 1 | I10: 1 | J10: 1 | K10: 1 | L10: 1 | M10: 1 | N10: 1 | O10: 1 | P10: 1 | Q10: =SUM(D10:P10) -> 10
A11: 03-012-20 | B11: CARIBE 2 | C11: ASOCIACION DEL CABILDO MENOR SAN ANTONIO | D11: 0 | E11: 0 | F11: 0 | G11: 1 | H11: 1 | I11: 1 | J11: 1 | K11: 1 | L11: 1 | M11: 1 | N11: 0 | O11: 0 | P11: 0 | Q11: =SUM(D11:P11) -> 7
A12: 03-013-20 | B12: CARIBE 2 | C12: EL GUAMAL | D12: 0 | E12: 0 | F12: 0 | G12: 1 | H12: 1 | I12: 1 | J12: 1 | K12: 1 | L12: 1 | M12: 1 | N12: 1 | O12: 1 | P12: 1 | Q12: =SUM(D12:P12) -> 10
A13: 03-014-20 | B13: CARIBE 2 | C13: ASOPLADEIN | D13: 0 | E13: 0 | F13: 0 | G13: 1 | H13: 1 | I13: 1 | J13: 1 | K13: 1 | L13: 1 | M13: 0 | N13: 0 | O13: 0 | P13: 0 | Q13: =SUM(D13:P13) -> 6
A14: 03-015-20 | B14: CARIBE 2 | C14: SKAMBRA | D14: 0 | E14: 0 | F14: 0 | G14: 1 | H14: 1 | I14: 1 | J14: 1 | K14: 1 | L14: 1 | M14: 1 | N14: 1 | O14: 1 | P14: 1 | Q14: =SUM(D14:P14) -> 10
... A33: 04-020-20 | B33: CARIBE 2 | C33: ECOMASPASO | D33: 0 | E33: 0 | F33: 0 | G33: 1 | H33: 1 | I33: 1 | J33: 1 | K33: 1 | L33: 1 | M33: 1 | N33: 1 | O33: 1 | P33: 0 | Q33: =SUM(D33:P33) -> 9
C34: Total x Mes | D34: =SUM(D3:D33) -> 0 | E34: =SUM(E3:E33) -> 0 | F34: =SUM(F3:F33) -> 0 | G34: =SUM(G3:G33) -> 31 | H34: =SUM(H3:H33) -> 31 | I34: =SUM(I3:I33) -> 31 | J34: =SUM(J3:J33) -> 31 | K34: =SUM(K3:K33) -> 28 | ... P34: =SUM(P3:P33) -> 13 | Q34: =SUM(F34:N34) -> 224
A37: MONITOREOS FASE II
A38: No. CONVENIO MARD | B38: REGIONAL | C38: ALIANZA | D38: 44531 | E38: 44562 | F38: 44593 | G38: 44621 | H38: 44652 | I38: 44682 | J38: 44713 | K38: 44743 | L38: 44774 | M38: 44805 | N38: 44835 | O38: 44866 | P38: 44896 | Q38: TOTAL
A39: 04-028-21 | B39: CARIBE 2 | C39: ASAPC | H39: 1 | I39: 1 | Q39: =SUM(D39:N39) -> 2
A40: 04-025-21 | B40: CARIBE 2 | C40: AAGROSAN | H40: 1 | I40: 1 | Q40: =SUM(D40:N40) -> 2
A41: 04-026-21 | B41: CARIBE 2 | C41: ASOAGROMIEL | H41: 1 | I41: 1 | Q41: =SUM(D41:N41) -> 2
A42: 04-024-21 | B42: CARIBE 2 | C42: ASALMAR | H42: 1 | I42: 1 | Q42: =SUM(D42:N42) -> 2
A43: 04-039-21 | B43: CARIBE 2 | C43: ASCADEL | H43: 1 | I43: 1 | Q43: =SUM(D43:N43) -> 2
A44: 04-065-21 | B44: CARIBE 2 | C44: ASOGACER | H44: 1 | I44: 0 | Q44: =SUM(D44:N44) -> 1
A45: 04-038-21 | B45: CARIBE 2 | C45: GANASAN | H45: 1 | I45: 1 | Q45: =SUM(D45:N45) -> 2
A46: 04-018-21 | B46: CARIBE 2 | C46: ASPROAPIBI | H46: 1 | I46: 1 | Q46: =SUM(D46:N46) -> 2
A47: 04-042-21 | B47: CARIBE 2 | C47: ASPHAS | H47: 1 | I47: 1 | Q47: =SUM(D47:N47) -> 2
A48: 04-044-21 | B48: CARIBE 2 | C48: APROPESCAM | H48: 1 | I48: 1 | Q48: =SUM(D48:N48) -> 2
A49: 04-058-21 | B49: CARIBE 2 | C49: ASOMAGAM | H49: 1 | I49: 1 | Q49: =SUM(D49:N49) -> 2
A50: 04-017-21 | B50: CARIBE 2 | C50: ASOVICAMPRO | H50: 1 | I50: 1 | Q50: =SUM(D50:N50) -> 2
... A107: 04-033-21 | B107: CARIBE 2 | C107: MUPROMAG | H107: 1 | I107: 1 | Q107: =SUM(D107:N107) -> 2
C108: Total x Mes | D108: =SUM(D77:D107) -> 0 | E108: =SUM(E39:E107) -> 0 | F108: =SUM(F39:F107) -> 0 | G108: =SUM(G39:G107) -> 0 | H108: =SUM(H39:H107) -> 69 | I108: =SUM(I39:I107) -> 61 | J108: =SUM(J39:J107) -> 0 | K108: =SUM(K39:K107) -> 0 | L108: =SUM(L39:L107) -> 0 | ... N108: =SUM(N39:N107) -> 0 | Q108: =SUM(F108:N108) -> 130
A111: Equipo BASE
A112: 44287 | B112: OK | C112: 189000000
A113: 44317 | B113: OK
A114: 44348 | B114: OK
A115: 44378 | B115: OK
A116: 44409 | B116: OK
A117: 44440 | B117: OK
A118: 44470 | B118: OK | C118: 31500000
A119: 44501 | B119: OK | C119: 31500000
A120: 44531 | B120: OK | C120: 31500000
A121: 44562 | B121: OK | C121: 31500000
A122: 44593 | B122: OK | C122: 31500000
A123: 44621 | B123: OK | C123: 31500000
A124: 44652 | B124: OK | C124: 31500000
A125: 44682 | B125: OK | C125: =C124+14000000 -> 45500000
A126: 44713 | B126: OK | C126: 45500000
A127: 44743 | B127: OK | C127: 45500000
A128: 44774 | B128: OK | C128: 45500000

Sheet Central
A1: MONITOREOS FASE I
A2: No. CONVENIO MARD | B2: REGIONAL | C2: ALIANZA | D2: 44317 | E2: 44348 | F2: 44378 | G2: 44409 | H2: 44440 | I2: 44470 | J2: 44501 | K2: 44531 | L2: 44562 | M2: 44593 | N2: 44621 | O2: 44652 | P2: 44682 | Q2: 44713 | R2: TOTAL
A3: 05-001-20 | B3: CENTRAL | C3: ASOAGROMOT | D3: 0 | E3: 0 | F3: 1 | G3: 1 | H3: 1 | I3: 1 | J3: 1 | M3: 1 | N3: 1 | O3: 1 | R3: =SUM(D3:Q3) -> 8
A4: 05-002-20 | B4: CENTRAL | C4: USOCHICAMOCHA | D4: 0 | E4: 0 | F4: 1 | G4: 1 | H4: 1 | I4: 1 | J4: 1 | M4: 1 | N4: 1 | R4: =SUM(D4:Q4) -> 7
A5: 05-003-20 | B5: CENTRAL | C5: COOCAMPO | D5: 0 | E5: 0 | F5: 1 | G5: 1 | H5: 1 | I5: 1 | J5: 1 | M5: 1 | N5: 1 | O5: 1 | P5: 1 | Q5: 1 | R5: =SUM(D5:Q5) -> 10
A6: 05-004-20 | B6: CENTRAL | C6: ASFRUHOBO | D6: 0 | E6: 0 | F6: 1 | G6: 1 | H6: 1 | I6: 1 | J6: 1 | M6: 1 | N6: 1 | O6: 1 | R6: =SUM(D6:Q6) -> 8
A7: 05-005-20 | B7: CENTRAL | C7: ASOHORTICULTORAS | D7: 0 | E7: 0 | F7: 1 | G7: 1 | H7: 1 | I7: 1 | J7: 1 | M7: 1 | N7: 1 | O7: 1 | P7: 1 | Q7: 1 | R7: =SUM(D7:Q7) -> 10
A8: 05-006-20 | B8: CENTRAL | C8: ASOPRIACHIGUS | D8: 0 | E8: 0 | F8: 1 | G8: 1 | H8: 1 | I8: 1 | J8: 1 | M8: 1 | N8: 1 | O8: 1 | R8: =SUM(D8:Q8) -> 8
A9: 05-007-20 | B9: CENTRAL | C9: ASOAGROPEL | D9: 0 | E9: 0 | F9: 1 | G9: 1 | H9: 1 | I9: 1 | J9: 1 | M9: 1 | N9: 1 | O9: 1 | P9: 1 | R9: =SUM(D9:Q9) -> 9
A10: 05-008-20 | B10: CENTRAL | C10: ASOPROPADI | D10: 0 | E10: 0 | F10: 1 | G10: 1 | H10: 1 | I10: 1 | J10: 1 | M10: 1 | N10: 1 | O10: 1 | P10: 1 | R10: =SUM(D10:Q10) -> 9
A11: 05-009-20 | B11: CENTRAL | C11: CERRO CHIFLON | D11: 0 | E11: 0 | F11: 1 | G11: 1 | H11: 1 | I11: 1 | J11: 1 | M11: 1 | N11: 1 | O11: 1 | R11: =SUM(D11:Q11) -> 8
A12: 05-010-20 | B12: CENTRAL | C12: ASPROPLABAP | D12: 0 | E12: 0 | F12: 1 | G12: 1 | H12: 1 | I12: 1 | J12: 1 | M12: 1 | N12: 1 | O12: 1 | R12: =SUM(D12:Q12) -> 8
A13: 05-011-20 | B13: CENTRAL | C13: AGRO-SANTUARIO | D13: 0 | E13: 0 | F13: 1 | G13: 1 | H13: 1 | I13: 1 | J13: 1 | M13: 1 | N13: 1 | O13: 1 | P13: 1 | R13: =SUM(D13:Q13) -> 9
A14: 05-012-20 | B14: CENTRAL | C14: ASOMUFRES | D14: 0 | E14: 0 | F14: 1 | G14: 1 | H14: 1 | I14: 1 | J14: 1 | M14: 1 | N14: 1 | O14: 1 | R14: =SUM(D14:Q14) -> 8
A15: 05-013-20 | B15: CENTRAL | C15: COOUMBIPAPA | D15: 0 | E15: 0 | F15: 1 | G15: 1 | H15: 1 | I15: 1 | J15: 1 | M15: 1 | N15: 1 | O15: 1 | R15: =SUM(D15:Q15) -> 8
A16: 05-014-20 | B16: CENTRAL | C16: ASFRUHER | D16: 0 | E16: 0 | F16: 1 | G16: 1 | H16: 1 | I16: 1 | J16: 1 | M16: 1 | N16: 1 | R16: =SUM(D16:Q16) -> 7
A17: 05-015-20 | B17: CENTRAL | C17: AGROUNION VEGONEZ | D17: 0 | E17: 0 | F17: 1 | G17: 1 | H17: 1 | I17: 1 | J17: 1 | M17: 1 | N17: 1 | O17: 1 | R17: =SUM(D17:Q17) -> 8
A18: 05-016-20 | B18: CENTRAL | C18: ASOPROMECOL | D18: 0 | E18: 0 | F18: 1 | G18: 1 | H18: 1 | I18: 1 | J18: 1 | M18: 1 | N18: 1 | O18: 1 | R18: =SUM(D18:Q18) -> 8
A19: 05-017-20 | B19: CENTRAL | C19: COOPROCAFES | D19: 0 | E19: 0 | F19: 1 | G19: 1 | H19: 1 | I19: 1 | J19: 1 | M19: 1 | N19: 1 | O19: 1 | P19: 1 | R19: =SUM(D19:Q19) -> 9
A20: 05-018-20 | B20: CENTRAL | C20: ASOGANALP | D20: 0 | E20: 0 | F20: 1 | G20: 1 | H20: 1 | I20: 1 | J20: 1 | M20: 1 | N20: 1 | O20: 1 | R20: =SUM(D20:Q20) -> 8
A21: 05-019-20 | B21: CENTRAL | C21: ADIMCOL | D21: 0 | E21: 0 | F21: 1 | G21: 1 | H21: 1 | I21: 1 | J21: 1 | M21: 1 | N21: 1 | O21: 1 | R21: =SUM(D21:Q21) -> 8
A22: 05-020-20 | B22: CENTRAL | C22: ASOHOFRUP | D22: 0 | E22: 0 | F22: 1 | G22: 1 | H22: 1 | I22: 1 | J22: 1 | M22: 1 | N22: 1 | O22: 1 | P22: 1 | Q22: 1 | R22: =SUM(D22:Q22) -> 10
A23: 05-021-20 | B23: CENTRAL | C23: ECOHORTALIZAS | D23: 0 | E23: 0 | F23: 1 | G23: 1 | H23: 1 | I23: 1 | J23: 1 | M23: 1 | N23: 1 | O23: 1 | P23: 1 | R23: =SUM(D23:Q23) -> 9
A24: 05-022-20 | B24: CENTRAL | C24: APAACEGUTOL | D24: 0 | E24: 0 | F24: 1 | G24: 1 | H24: 1 | I24: 1 | J24: 1 | M24: 1 | N24: 1 | O24: 1 | R24: =SUM(D24:Q24) -> 8
C25: Total x Mes | D25: =SUM(D3:D24) -> 0 | E25: =SUM(E3:E24) -> 0 | F25: =SUM(F3:F24) -> 22 | G25: =SUM(G3:G24) -> 22 | H25: =SUM(H3:H24) -> 22 | I25: =SUM(I3:I24) -> 22 | J25: =SUM(J3:J24) -> 22 | K25: =SUM(K3:K24) -> 0 | ... Q25: =SUM(Q3:Q24) -> 3 | R25: =SUM(E25:Q25) -> 185
A28: MONITOREOS FASE II
A29: No. CONVENIO MARD | B29: REGIONAL | C29: ALIANZA | D29: 44531 | E29: 44562 | F29: 44593 | G29: 44621 | H29: 44652 | I29: 44682 | J29: 44713 | K29: 44743 | L29: 44774 | M29: 44805 | N29: 44835 | O29: 44866 | P29: 44896 | Q29: 44927 | R29: TOTAL
A30: 05-066-21 | B30: CENTRAL | C30: ASOADECER | D30: 1 | J30: 1 | R30: =SUM(D30:Q30) -> 2
A31: 05-063-21 | B31: CENTRAL | C31: ASOGANACHI | D31: 1 | J31: 1 | R31: =SUM(D31:Q31) -> 2
A32: 05-002-21 | B32: CENTRAL | C32: APIA-NUBA | D32: 1 | R32: =SUM(D32:Q32) -> 1
A33: 05-034-21 | B33: CENTRAL | C33: COOPREVERDECER | D33: 1 | J33: 1 | R33: =SUM(D33:Q33) -> 2
A34: 05-077-21 | B34: CENTRAL | C34: ASOLECHEROS | D34: 1 | R34: =SUM(D34:Q34) -> 1
A35: 05-001-21 | B35: CENTRAL | C35: ASOFRIMAC | D35: 1 | J35: 1 | R35: =SUM(D35:Q35) -> 2
A36: 05-067-21 | B36: CENTRAL | C36: ASOSABALECHE | D36: 1 | R36: =SUM(D36:Q36) -> 1
A37: 05-003-21 | B37: CENTRAL | C37: ASOFRUMORAS | D37: 1 | R37: =SUM(D37:Q37) -> 1
A38: 05-025-21 | B38: CENTRAL | C38: ASOOVICAP | D38: 1 | J38: 1 | R38: =SUM(D38:Q38) -> 2
A39: 05-069-21 | B39: CENTRAL | C39: ANUC BERBEO | D39: 1 | R39: =SUM(D39:Q39) -> 1
A40: 05-058-21 | B40: CENTRAL | C40: APASAN | D40: 1 | R40: =SUM(D40:Q40) -> 1
A41: 05-026-21 | B41: CENTRAL | C41: APROCMU | D41: 1 | J41: 1 | R41: =SUM(D41:Q41) -> 2
A42: 05-036-21 | B42: CENTRAL | C42: ASOPMAGAR | D42: 1 | J42: 1 | R42: =SUM(D42:Q42) -> 2
A43: 05-039-21 | B43: CENTRAL | C43: ASOLPONTEZUELAS | D43: 1 | R43: =SUM(D43:Q43) -> 1
A44: 05-064-21 | B44: CENTRAL | C44: COOPSERAGRO | D44: 1 | R44: =SUM(D44:Q44) -> 1
A45: 05-037-21 | B45: CENTRAL | C45: COOFRUTUN | D45: 1 | R45: =SUM(D45:Q45) -> 1
A46: 05-016-21 | B46: CENTRAL | C46: COOPAGROBET | D46: 1 | R46: =SUM(D46:Q46) -> 1
A47: 05-035-21 | B47: CENTRAL | C47: COOPMULPROQUIRA | D47: 1 | R47: =SUM(D47:Q47) -> 1
A48: 05-011-21 | B48: CENTRAL | C48: AUMUR | D48: 1 | J48: 1 | R48: =SUM(D48:Q48) -> 2
A49: 05-013-21 | B49: CENTRAL | C49: ASOCIACIÓN MUJER RURAL TOCAIMA | D49: 1 | R49: =SUM(D49:Q49) -> 1
A50: 05-009-21 | B50: CENTRAL | C50: ASOAMUR | D50: 1 | R50: =SUM(D50:Q50) -> 1
A51: 05-068-21 | B51: CENTRAL | C51: ASOGACHIA | D51: 1 | R51: =SUM(D51:Q51) -> 1
A52: 05-018-21 | B52: CENTRAL | C52: APROSPAB | D52: 1 | I52: 1 | J52: 1 | R52: =SUM(D52:Q52) -> 3
A53: 05-012-21 | B53: CENTRAL | C53: ASOTRASIL | D53: 1 | I53: 1 | J53: 1 | R53: =SUM(D53:Q53) -> 3
A54: 05-007-21 | B54: CENTRAL | C54: ASAEGRAD | D54: 1 | I54: 1 | J54: 1 | R54: =SUM(D54:Q54) -> 3
A55: 05-076-21 | B55: CENTRAL | C55: COAGROGUAVIO | D55: 1 | I55: 1 | J55: 1 | R55: =SUM(D55:Q55) -> 3
A56: 05-071-21 | B56: CENTRAL | C56: PROLEAG | D56: 1 | I56: 1 | J56: 1 | R56: =SUM(D56:Q56) -> 3
A57: 05-072-21 | B57: CENTRAL | C57: ASOGAMU | D57: 1 | R57: =SUM(D57:Q57) -> 1
A58: 05-020-21 | B58: CENTRAL | C58: FORJADORES DE PAZ | D58: 1 | J58: 1 | R58: =SUM(D58:Q58) -> 2
A59: 05-024-21 | B59: CENTRAL | C59: APAMAP | D59: 1 | R59: =SUM(D59:Q59) -> 1
A60: 05-015-21 | B60: CENTRAL | C60: AMEG | D60: 1 | I60: 1 | J60: 1 | R60: =SUM(D60:Q60) -> 3
A61: 05-070-21 | B61: CENTRAL | C61: VILLANORTE SAT | D61: 1 | I61: 1 | J61: 1 | R61: =SUM(D61:Q61) -> 3
A62: 05-043-21 | B62: CENTRAL | C62: ASOATE | D62: 1 | R62: =SUM(D62:Q62) -> 1
A63: 05-054-21 | B63: CENTRAL | C63: RESGUARDO INDÍGENA ÍQUIRA RIONEGRO | D63: 1 | R63: =SUM(D63:Q63) -> 1
A64: 05-050-21 | B64: CENTRAL | C64: COOMULTIPROSEAGRO | D64: 1 | J64: 1 | R64: =SUM(D64:Q64) -> 2
A65: 05-055-21 | B65: CENTRAL | C65: COORAICES | D65: 1 | R65: =SUM(D65:Q65) -> 1
A66: 05-048-21 | B66: CENTRAL | C66: ASOCIACIÓN AGROPECUARIA LA GRANJA MISAK | D66: 1 | J66: 1 | R66: =SUM(D66:Q66) -> 2
A67: 05-056-21 | B67: CENTRAL | C67: APISURCO | D67: 1 | R67: =SUM(D67:Q67) -> 1
A68: 05-061-21 | B68: CENTRAL | C68: ASDEPLATANO | D68: 1 | J68: 1 | R68: =SUM(D68:Q68) -> 2
A69: 05-053-21 | B69: CENTRAL | C69: ASOGASUAZA | D69: 1 | R69: =SUM(D69:Q69) -> 1
A70: 05-052-21 | B70: CENTRAL | C70: ASOAGUACAPLAT | D70: 1 | R70: =SUM(D70:Q70) -> 1
A71: 05-046-21 | B71: CENTRAL | C71: GRUPO ASOCIATIVO DE TRABAJO LA PAZ DEL PESCADOR | D71: 1 | R71: =SUM(D71:Q71) -> 1
A72: 05-044-21 | B72: CENTRAL | C72: ASOMUJERES.PRO | D72: 1 | R72: =SUM(D72:Q72) -> 1
A73: 05-062-21 | B73: CENTRAL | C73: ASOPROPAZ | D73: 1 | R73: =SUM(D73:Q73) -> 1
A74: 05-073-21 | B74: CENTRAL | C74: ASOPROPLATANO | D74: 1 | J74: 1 | R74: =SUM(D74:Q74) -> 2
A75: 05-074-21 | B75: CENTRAL | C75: ASOALTAUVA | D75: 1 | J75: 1 | R75: =SUM(D75:Q75) -> 2
A76: 05-042-21 | B76: CENTRAL | C76: ASPROBIT | D76: 1 | R76: =SUM(D76:Q76) -> 1
A77: 05-045-21 | B77: CENTRAL | C77: ASAGUACA | D77: 1 | J77: 1 | R77: =SUM(D77:Q77) -> 2
A78: 05-047-21 | B78: CENTRAL | C78: ASALGRPO | D78: 1 | J78: 1 | R78: =SUM(D78:Q78) -> 2
A79: 05-051-21 | B79: CENTRAL | C79: ASOEMSAI | D79: 1 | J79: 1 | R79: =SUM(D79:Q79) -> 2
A80: 05-057-21 | B80: CENTRAL | C80: AGROSANIB | D80: 1 | J80: 1 | R80: =SUM(D80:Q80) -> 2
A81: 05-075-21 | B81: CENTRAL | C81: ASOPROUVAR | D81: 1 | J81: 1 | R81: =SUM(D81:Q81) -> 2
A82: 05-049-21 | B82: CENTRAL | C82: COOCENTRAL | D82: 1 | R82: =SUM(D82:Q82) -> 1
A83: 05-078-21 | B83: CENTRAL | C83: ASOAPICAFÉ | D83: 1 | J83: 1 | R83: =SUM(D83:Q83) -> 2
A84: 05-060-21 | B84: CENTRAL | C84: ASOMUJERCAFÉ | D84: 1 | J84: 1 | R84: =SUM(D84:Q84) -> 2
A85: 05-023-21 | B85: CENTRAL | C85: RESGUARDO VUELTA DEL RIO | D85: 1 | R85: =SUM(D85:Q85) -> 1
A86: 05-021-21 | B86: CENTRAL | C86: ASOLANDES | D86: 1 | R86: =SUM(D86:Q86) -> 1
A87: 05-004-21 | B87: CENTRAL | C87: COPROHICACAO | D87: 1 | I87: 1 | J87: 1 | R87: =SUM(D87:Q87) -> 3
A88: 05-005-21 | B88: CENTRAL | C88: ASOPAL | D88: 1 | R88: =SUM(D88:Q88) -> 1
A89: 05-032-21 | B89: CENTRAL | C89: AGROCHAC | D89: 1 | J89: 1 | R89: =SUM(D89:Q89) -> 2
A90: 05-038-21 | B90: CENTRAL | C90: ASOFRIG | D90: 1 | J90: 1 | R90: =SUM(D90:Q90) -> 2
A91: 05-040-21 | B91: CENTRAL | C91: RESGUARDO INDÍGENA EL VERGEL | D91: 1 | I91: 1 | J91: 1 | R91: =SUM(D91:Q91) -> 3
A92: 05-022-21 | B92: CENTRAL | C92: ASOMUCASA | D92: 1 | I92: 1 | R92: =SUM(D92:Q92) -> 2
A93: 05-008-21 | B93: CENTRAL | C93: COAGROANDES | D93: 1 | I93: 1 | J93: 1 | R93: =SUM(D93:Q93) -> 3
A94: 05-027-21 | B94: CENTRAL | C94: COOMPLAC | D94: 1 | I94: 1 | J94: 1 | R94: =SUM(D94:Q94) -> 3
A95: 05-014-21 | B95: CENTRAL | C95: RESGUARDO INDÍGENA OLIRCO | D95: 1 | I95: 1 | J95: 1 | R95: =SUM(D95:Q95) -> 3
A96: 05-028-21 | B96: CENTRAL | C96: CACAOFRESTOL | D96: 1 | R96: =SUM(D96:Q96) -> 1
A97: 05-006-21 | B97: CENTRAL | C97: APISUR | D97: 1 | R97: =SUM(D97:Q97) -> 1
A98: 05-059-21 | B98: CENTRAL | C98: ASPRASAR | D98: 1 | I98: 1 | R98: =SUM(D98:Q98) -> 2
A99: 05-065-21 | B99: CENTRAL | C99: FUNDACIÓN POLICARPA SALAVARRIETA POR LA PAZ Y NO REPETICIÓN | D99: 1 | J99: 1 | R99: =SUM(D99:Q99) -> 2
A100: 05-033-21 | B100: CENTRAL | C100: AMOYA | D100: 1 | R100: =SUM(D100:Q100) -> 1
A101: 05-030-21 | B101: CENTRAL | C101: ASOAMERICAS | D101: 1 | I101: 1 | R101: =SUM(D101:Q101) -> 2
A102: 05-017-21 | B102: CENTRAL | C102: ASOGAPRADO | D102: 1 | I102: 1 | R102: =SUM(D102:Q102) -> 2
...

Sheet Santanderes
A1: MONITOREOS FASE I
A2: No. CONVENIO MARD | B2: REGIONAL | C2: ALIANZA | D2: 44317 | E2: 44348 | F2: 44378 | G2: 44409 | H2: 44440 | I2: 44470 | J2: 44501 | K2: 44531 | L2: 44562 | M2: 44593 | N2: 44621 | O2: 44652 | P2: 44682 | Q2: 44713 | R2: 44743 | S2: TOTAL 2021 | T2: TOTAL 2022 | U2: ACUMULADO ALIANZA
A3: 06-001-20 | B3: SANTANDERES | C3: ASOCAMC | D3: 0 | E3: 1 | F3: 1 | G3: 1 | H3: 1 | I3: 1 | J3: 1 | K3: 1 | L3: 1 | M3: 1 | N3: 1 | P3: 1 | Q3: 1 | R3: 1 | S3: =SUM(D3:N3) -> 10 | T3: =SUM(P3:R3) -> 3 | U3: =S3+T3 -> 13
A4: 06-002-20 | B4: SANTANDERES | C4: ASOMURET | D4: 0 | E4: 1 | F4: 1 | G4: 1 | H4: 1 | I4: 1 | J4: 1 | K4: 1 | L4: 1 | M4: 1 | N4: 1 | P4: 1 | Q4: 1 | R4: 1 | S4: =SUM(D4:N4) -> 10 | T4: =SUM(P4:R4) -> 3 | U4: =S4+T4 -> 13
A5: 06-003-20 | B5: SANTANDERES | C5: AROMA DE PAZ | D5: 0 | E5: 1 | F5: 1 | G5: 1 | H5: 1 | I5: 1 | J5: 1 | K5: 1 | L5: 1 | M5: 1 | N5: 1 | P5: 1 | Q5: 1 | R5: 1 | S5: =SUM(D5:N5) -> 10 | T5: =SUM(P5:R5) -> 3 | U5: =S5+T5 -> 13
A6: 06-004-20 | B6: SANTANDERES | C6: ASOMUTRADER | D6: 0 | E6: 1 | F6: 1 | G6: 1 | H6: 1 | I6: 1 | J6: 0 | K6: 0 | L6: 0 | M6: 0 | N6: 0 | P6: 0 | Q6: 0 | R6: 0 | S6: =SUM(D6:N6) -> 5 | T6: =SUM(P6:Q6) -> 0 | U6: =S6+T6 -> 5
A7: 06-005-20 | B7: SANTANDERES | C7: ASOVIPLAYA | D7: 0 | E7: 1 | F7: 1 | G7: 1 | H7: 1 | I7: 1 | J7: 1 | K7: 1 | L7: 1 | M7: 1 | N7: 1 | P7: 1 | Q7: 1 | R7: 1 | S7: =SUM(D7:N7) -> 10 | T7: =SUM(P7:R7) -> 3 | U7: =S7+T7 -> 13
A8: 06-008-20 | B8: SANTANDERES | C8: AMERO | D8: 0 | E8: 1 | F8: 1 | G8: 1 | H8: 1 | I8: 1 | J8: 1 | K8: 1 | L8: 1 | M8: 1 | N8: 1 | O8: 0 | P8: 0 | Q8: 0 | R8: 0 | S8: =SUM(D8:R8) -> 10 | T8: =SUM(P8:Q8) -> 0 | U8: =S8+T8 -> 10
A9: 06-009-20 | B9: SANTANDERES | C9: COOPROCOSAR LTDA | D9: 0 | E9: 1 | F9: 1 | G9: 1 | H9: 1 | I9: 1 | J9: 1 | K9: 1 | L9: 1 | M9: 1 | N9: 1 | O9: 1 | P9: 1 | Q9: 1 | R9: 1 | S9: =SUM(D9:N9) -> 10 | T9: =SUM(P9:R9) -> 3 | U9: =S9+T9 -> 13
A10: 06-010-20 | B10: SANTANDERES | C10: ASPROCOMUNT | D10: 0 | E10: 1 | F10: 1 | G10: 1 | H10: 1 | I10: 1 | J10: 1 | K10: 1 | L10: 1 | M10: 1 | N10: 1 | P10: 1 | Q10: 1 | R10: 1 | S10: =SUM(D10:N10) -> 10 | T10: =SUM(P10:R10) -> 3 | U10: =S10+T10 -> 13
A11: 06-011-20 | B11: SANTANDERES | C11: ASOFRUTAS | D11: 0 | E11: 1 | F11: 1 | G11: 1 | H11: 1 | I11: 1 | J11: 1 | K11: 1 | L11: 1 | M11: 1 | N11: 1 | P11: 1 | Q11: 1 | R11: 1 | S11: =SUM(D11:N11) -> 10 | T11: =SUM(P11:R11) -> 3 | U11: =S11+T11 -> 13
A12: 06-012-20 | B12: SANTANDERES | C12: ASVAGROG | D12: 0 | E12: 1 | F12: 1 | G12: 1 | H12: 1 | I12: 1 | J12: 1 | K12: 1 | L12: 1 | M12: 1 | N12: 1 | P12: 1 | Q12: 1 | R12: 0 | S12: =SUM(D12:N12) -> 10 | T12: =SUM(P12:R12) -> 2 | U12: =S12+T12 -> 12
A13: 06-013-20 | B13: SANTANDERES | C13: APIMONGUATE | D13: 0 | E13: 1 | F13: 1 | G13: 1 | H13: 1 | I13: 1 | J13: 1 | K13: 1 | L13: 1 | M13: 1 | N13: 1 | O13: 1 | P13: 1 | Q13: 1 | R13: 0 | S13: =SUM(D13:N13) -> 10 | T13: =SUM(P13:R13) -> 2 | U13: =S13+T13 -> 12
A14: 06-014-20 | B14: SANTANDERES | C14: AGROSILOS | D14: 0 | E14: 1 | F14: 1 | G14: 1 | H14: 1 | I14: 1 | J14: 1 | K14: 1 | L14: 1 | M14: 1 | N14: 1 | P14: 1 | Q14: 1 | R14: 1 | S14: =SUM(D14:N14) -> 10 | T14: =SUM(P14:R14) -> 3 | U14: =S14+T14 -> 13
A15: 06-015-20 | B15: SANTANDERES | C15: ASOPACON | D15: 0 | E15: 1 | F15: 1 | G15: 1 | H15: 1 | I15: 1 | J15: 1 | K15: 1 | L15: 1 | M15: 1 | N15: 1 | P15: 1 | Q15: 1 | R15: 1 | S15: =SUM(D15:N15) -> 10 | T15: =SUM(P15:R15) -> 3 | U15: =S15+T15 -> 13
C16: Total x Mes | D16: =SUM(D3:D15) -> 0 | E16: =SUM(E3:E15) -> 13 | F16: =SUM(F3:F15) -> 13 | G16: =SUM(G3:G15) -> 13 | H16: =SUM(H3:H15) -> 13 | I16: =SUM(I3:I15) -> 13 | J16: =SUM(J3:J15) -> 12 | K16: =SUM(K3:K15) -> 12 | ... U16: =SUM(U3:U15) -> 156
R17: =R16*1100000 -> 9900000 | U17: =S16+T16 -> 156
A20: MONITOREOS FASE II
A21: No. CONVENIO MARD | B21: REGIONAL | C21: ALIANZA | D21: 44531 | E21: 44562 | F21: 44593 | G21: 44621 | H21: 44652 | I21: 44682 | J21: 44713 | K21: 44743 | L21: 44774 | M21: 44805 | N21: 44835 | O21: 44866 | P21: 44896 | Q21: 44927 | R21: 44958 | S21: TOTAL
A22: 06-020-21 | B22: SANTANDERES | C22: AFRUCAR | D22: 1 | I22: 1 | J22: 1 | S22: =SUM(D22:N22) -> 3
A23: 06-033-21 | B23: SANTANDERES | C23: ACST | D23: 1 | I23: 1 | J23: 1 | S23: =SUM(D23:N23) -> 3
A24: 06-014-21 | B24: SANTANDERES | C24: ASOMEA | D24: 1 | I24: 1 | J24: 1 | S24: =SUM(D24:N24) -> 3
A25: 06-004-21 | B25: SANTANDERES | C25: AMPROCOM | D25: 1 | I25: 1 | J25: 1 | K25: 1 | S25: =SUM(D25:N25) -> 4
A26: 06-022-21 | B26: SANTANDERES | C26: ASMURP | D26: 1 | I26: 1 | J26: 1 | K26: 1 | S26: =SUM(D26:N26) -> 4
A27: 06-018-21 | B27: SANTANDERES | C27: ASOPPROFRUCA | D27: 1 | I27: 1 | J27: 1 | S27: =SUM(D27:N27) -> 3
A28: 06-016-21 | B28: SANTANDERES | C28: PERMAPISAN | D28: 1 | I28: 1 | J28: 1 | S28: =SUM(D28:N28) -> 3
A29: 06-031-21 | B29: SANTANDERES | C29: ASOPRACON | D29: 1 | I29: 1 | J29: 1 | S29: =SUM(D29:N29) -> 3
A30: 06-032-21 | B30: SANTANDERES | C30: ASOAGROPALCAT | D30: 1 | I30: 1 | J30: 1 | S30: =SUM(D30:N30) -> 3
A31: 06-008-21 | B31: SANTANDERES | C31: ASOAPROCUR | D31: 1 | I31: 1 | J31: 1 | K31: 1 | S31: =SUM(D31:N31) -> 4
A32: 06-006-21 | B32: SANTANDERES | C32: ASOPROCOCOA | D32: 1 | I32: 1 | J32: 1 | K32: 1 | S32: =SUM(D32:N32) -> 4
A33: 06-007-21 | B33: SANTANDERES | C33: ASOPROMAFRUC | D33: 1 | I33: 1 | J33: 1 | K33: 1 | S33: =SUM(D33:N33) -> 4
A34: 06-002-21 | B34: SANTANDERES | C34: COAGRONVALIA | D34: 1 | I34: 1 | J34: 1 | S34: =SUM(D34:N34) -> 3
A35: 06-023-21 | B35: SANTANDERES | C35: ASOAGUACANOR | D35: 1 | I35: 1 | J35: 1 | K35: 1 | S35: =SUM(D35:N35) -> 4
A36: 06-021-21 | B36: SANTANDERES | C36: AGRAPA | D36: 1 | I36: 1 | J36: 1 | S36: =SUM(D36:N36) -> 3
A37: 06-011-21 | B37: SANTANDERES | C37: ASOPROLAN | D37: 1 | I37: 1 | J37: 1 | K37: 1 | S37: =SUM(D37:N37) -> 4
A38: 06-009-21 | B38: SANTANDERES | C38: ASOMUCAP | D38: 1 | I38: 1 | J38: 1 | S38: =SUM(D38:N38) -> 3
A39: 06-010-21 | B39: SANTANDERES | C39: APROASAN | D39: 1 | I39: 1 | J39: 1 | S39: =SUM(D39:N39) -> 3
A40: 06-003-21 | B40: SANTANDERES | C40: ASPROGUAVATA | D40: 1 | I40: 1 | J40: 1 | S40: =SUM(D40:N40) -> 3
A41: 06-005-21 | B41: SANTANDERES | C41: ASOPRAGAL | D41: 1 | I41: 1 | J41: 1 | S41: =SUM(D41:N41) -> 3
A42: 06-025-21 | B42: SANTANDERES | C42: APRIMUJER | D42: 1 | I42: 1 | J42: 1 | S42: =SUM(D42:N42) -> 3
A43: 06-027-21 | B43: SANTANDERES | C43: ASOCAP | D43: 1 | I43: 1 | J43: 1 | K43: 1 | S43: =SUM(D43:N43) -> 4
A44: 06-001-21 | B44: SANTANDERES | C44: ASOGANACÓN | D44: 1 | I44: 1 | J44: 1 | S44: =SUM(D44:N44) -> 3
A45: 06-015-21 | B45: SANTANDERES | C45: ASOMUCEFUC | D45: 1 | I45: 1 | J45: 1 | K45: 1 | S45: =SUM(D45:N45) -> 4
A46: 06-017-21 | B46: SANTANDERES | C46: AGROVIVE | D46: 1 | I46: 1 | J46: 1 | S46: =SUM(D46:N46) -> 3
A47: 06-013-21 | B47: SANTANDERES | C47: UNION EXPO AGRO | D47: 1 | I47: 1 | J47: 1 | S47: =SUM(D47:N47) -> 3
A48: 06-026-21 | B48: SANTANDERES | C48: FUINMUCAR | D48: 1 | I48: 1 | J48: 1 | K48: 1 | S48: =SUM(D48:N48) -> 4
A49: 06-024-21 | B49: SANTANDERES | C49: ASOMOCRI | D49: 1 | I49: 1 | J49: 1 | S49: =SUM(D49:N49) -> 3
A50: 06-030-21 | B50: SANTANDERES | C50: ASOMUR | D50: 1 | I50: 1 | J50: 1 | S50: =SUM(D50:N50) -> 3
A51: 06-012-21 | B51: SANTANDERES | C51: ASOESANLUIS | D51: 1 | I51: 1 | J51: 1 | S51: =SUM(D51:N51) -> 3
A52: 06-028-21 | B52: SANTANDERES | C52: ASMUCACON | D52: 1 | I52: 1 | J52: 1 | K52: 1 | S52: =SUM(D52:N52) -> 4
A53: 06-029-21 | B53: SANTANDERES | C53: ASOMUCAO | D53: 1 | I53: 1 | J53: 1 | S53: =SUM(D53:N53) -> 3
A54: 06-019-21 | B54: SANTANDERES | C54: ASOGASU | D54: 1 | I54: 0 | J54: 0 | S54: =SUM(D54:N54) -> 1
C55: Total x Mes | D55: =SUM(D22:D54) -> 33 | E55: =SUM(E22:E53) -> 0 | F55: =SUM(F22:F53) -> 0 | G55: =SUM(G22:G53) -> 0 | H55: =SUM(H22:H53) -> 0 | I55: =SUM(I22:I53) -> 32 | J55: =SUM(J22:J53) -> 32 | K55: =SUM(K22:K53) -> 11 | L55: =SUM(L22:L53) -> 0 | ... N55: =SUM(N22:N53) -> 0 | S55: =SUM(D55:N55) -> 108
K56: =K55*1100000 -> 12100000
A58: Equipo BASE
A59: 44287
A60: 44317 | B60: OK | C60: 189000000
A61: 44348 | B61: OK
A62: 44378 | B62: OK
A63: 44409 | B63: OK
A64: 44440 | B64: OK
A65: 44470 | B65: OK
A66: 44501 | B66: OK | C66: 31500000
A67: 44531 | B67: OK | C67: 31500000
A68: 44562 | B68: OK | C68: 31500000
A69: 44593 | B69: OK | C69: 31500000
A70: 44621 | B70: OK | C70: 31500000
A71: 44652 | B71: OK | C71: 31500000
A72: 44682 | B72: OK | C72: =31500000+14000000 -> 45500000
A73: 44713 | B73: OK | C73: 45500000
A74: 44743 | B74: OK | C74: 45500000

Sheet Llanos
A1: MONITOREOS FASE I
A2: No. CONVENIO MARD | B2: REGIONAL | C2: ALIANZA | D2: 44317 | E2: 44348 | F2: 44378 | G2: 44409 | H2: 44440 | I2: 44470 | J2: 44501 | K2: 44531 | L2: 44562 | M2: 44593 | N2: 44621 | O2: 44652 | P2: 44682 | Q2: 44713 | R2: 44743 | S2: TOTAL 2021 | T2: TOTAL 2022 | U2: ACUMULADO ALIANZA
A3: 07-001-20 | B3: LLANOS Y ORINOQUIA | C3: ASMUCACD | D3: 1 | E3: 1 | F3: 1 | G3: 1 | H3: 1 | I3: 1 | J3: 1 | K3: 1 | L3: 1 | M3: 1 | N3: 1 | O3: 1 | P3: 1 | S3: =SUM(D3:N3) -> 11 | T3: =SUM(O3:R3) -> 2 | U3: =S3+T3 -> 13
A4: 07-002-20 | B4: LLANOS Y ORINOQUIA | C4: ASOEMPRENCA | D4: 1 | E4: 1 | F4: 1 | G4: 1 | H4: 1 | I4: 1 | J4: 1 | K4: 1 | L4: 1 | M4: 1 | N4: 1 | O4: 1 | S4: =SUM(D4:M4) -> 10 | T4: =SUM(N4:R4) -> 2 | U4: =S4+T4 -> 12
A5: 07-003-20 | B5: LLANOS Y ORINOQUIA | C5: ASOPANEL | D5: 0 | E5: 1 | F5: 1 | G5: 1 | H5: 1 | I5: 1 | J5: 1 | K5: 1 | L5: 1 | M5: 1 | N5: 1 | O5: 1 | P5: 1 | R5: 1 | S5: =SUM(D5:N5) -> 10 | T5: =SUM(O5:R5) -> 3 | U5: =S5+T5 -> 13
A6: 07-004-20 | B6: LLANOS Y ORINOQUIA | C6: CRGT | D6: 1 | E6: 1 | F6: 1 | G6: 1 | H6: 1 | I6: 1 | J6: 1 | K6: 1 | L6: 1 | M6: 1 | N6: 1 | O6: 1 | P6: 1 | S6: =SUM(D6:M6) -> 10 | T6: =SUM(N6:R6) -> 3 | U6: =S6+T6 -> 13
A7: 07-005-20 | B7: LLANOS Y ORINOQUIA | C7: ASAPAVBJ | D7: 1 | E7: 1 | F7: 1 | G7: 1 | H7: 1 | I7: 1 | J7: 1 | K7: 1 | L7: 1 | M7: 1 | N7: 1 | O7: 0 | S7: =SUM(D7:M7) -> 10 | T7: =SUM(N7:R7) -> 1 | U7: =S7+T7 -> 11
A8: 07-006-20 | B8: LLANOS Y ORINOQUIA | C8: ASOPCARI | D8: 0 | E8: 1 | F8: 1 | G8: 1 | H8: 1 | I8: 1 | J8: 1 | K8: 1 | L8: 1 | M8: 1 | N8: 1 | O8: 1 | P8: 1 | Q8: 1 | S8: =SUM(D8:N8) -> 10 | T8: =SUM(O8:R8) -> 3 | U8: =S8+T8 -> 13
A9: 07-007-20 | B9: LLANOS Y ORINOQUIA | C9: ASOLESACA | D9: 1 | E9: 1 | F9: 1 | G9: 1 | H9: 1 | I9: 1 | J9: 1 | K9: 1 | L9: 1 | M9: 1 | N9: 1 | O9: 0 | P9: 1 | R9: 1 | S9: =SUM(D9:O9) -> 11 | T9: =SUM(P9:R9) -> 2 | U9: =S9+T9 -> 13
A10: 07-008-20 | B10: LLANOS Y ORINOQUIA | C10: ASOCAMET | D10: 0 | E10: 1 | F10: 1 | G10: 1 | H10: 1 | I10: 1 | J10: 1 | K10: 1 | L10: 1 | M10: 1 | N10: 1 | O10: 1 | P10: 1 | S10: =SUM(D10:N10) -> 10 | T10: =SUM(O10:R10) -> 2 | U10: =S10+T10 -> 12
A11: 07-009-20 | B11: LLANOS Y ORINOQUIA | C11: ASMUCULPAZCA | D11: 1 | E11: 1 | F11: 1 | G11: 1 | H11: 1 | I11: 1 | J11: 1 | K11: 1 | L11: 0 | M11: 0 | N11: 1 | O11: 0 | P11: 1 | R11: 1 | S11: =SUM(D11:Q11) -> 10 | T11: =SUM(R11) -> 1 | U11: =S11+T11 -> 11
A12: 07-010-20 | B12: LLANOS Y ORINOQUIA | C12: ASOPROAGRO | D12: 0 | E12: 1 | F12: 1 | G12: 1 | H12: 1 | I12: 1 | J12: 1 | K12: 1 | L12: 1 | M12: 1 | N12: 1 | O12: 1 | P12: 1 | Q12: 1 | S12: =SUM(D12:N12) -> 10 | T12: =SUM(O12:R12) -> 3 | U12: =S12+T12 -> 13
A13: 07-011-20 | B13: LLANOS Y ORINOQUIA | C13: ASOCAÑA | D13: 0 | E13: 1 | F13: 1 | G13: 1 | H13: 1 | I13: 1 | J13: 1 | K13: 1 | L13: 1 | M13: 0 | N13: 0 | O13: 0 | R13: 1 | S13: =SUM(D13:R13) -> 9 | U13: =S13+T13 -> 9
A14: 07-012-20 | B14: LLANOS Y ORINOQUIA | C14: ASOCATARA | D14: 0 | E14: 1 | F14: 1 | G14: 1 | H14: 1 | I14: 1 | J14: 1 | K14: 1 | L14: 1 | M14: 1 | N14: 1 | O14: 1 | S14: =SUM(D14:N14) -> 10 | T14: =SUM(O14:R14) -> 1 | U14: =S14+T14 -> 11
A15: 07-013-20 | B15: LLANOS Y ORINOQUIA | C15: ASMUCALE | D15: 0 | E15: 1 | F15: 1 | G15: 1 | H15: 1 | I15: 1 | J15: 1 | K15: 1 | L15: 1 | M15: 1 | N15: 1 | O15: 1 | P15: 1 | S15: =SUM(D15:N15) -> 10 | T15: =SUM(O15:R15) -> 2 | U15: =S15+T15 -> 12
A16: 07-014-20 | B16: LLANOS Y ORINOQUIA | C16: ASOPROLET | D16: 0 | E16: 1 | F16: 1 | G16: 1 | H16: 1 | I16: 1 | J16: 1 | K16: 1 | L16: 1 | M16: 1 | N16: 1 | O16: 1 | P16: 1 | S16: =SUM(D16:N16) -> 10 | T16: =SUM(O16:P16) -> 2 | U16: =S16+T16 -> 12
A17: 07-015-20 | B17: LLANOS Y ORINOQUIA | C17: APEGROBA | D17: 0 | E17: 1 | F17: 1 | G17: 1 | H17: 1 | I17: 1 | J17: 1 | K17: 1 | L17: 1 | M17: 1 | N17: 1 | O17: 1 | S17: =SUM(D17:N17) -> 10 | T17: =SUM(O17:R17) -> 1 | U17: =S17+T17 -> 11
A18: 07-016-20 | B18: LLANOS Y ORINOQUIA | C18: APROFRUSA | D18: 1 | E18: 1 | F18: 1 | G18: 1 | H18: 1 | I18: 1 | J18: 1 | K18: 1 | L18: 1 | M18: 1 | N18: 1 | O18: 1 | S18: =SUM(D18:M18) -> 10 | T18: =SUM(N18:R18) -> 2 | U18: =S18+T18 -> 12
A19: 07-017-20 | B19: LLANOS Y ORINOQUIA | C19: ASOLECT | D19: 1 | E19: 1 | F19: 1 | G19: 1 | H19: 1 | I19: 1 | J19: 1 | K19: 1 | L19: 1 | M19: 1 | N19: 1 | O19: 1 | P19: 0 | S19: =SUM(D19:N19) -> 11 | T19: =SUM(O19:P19) -> 1 | U19: =S19+T19 -> 12
A20: 07-018-20 | B20: LLANOS Y ORINOQUIA | C20: ASEGAVA | D20: 1 | E20: 1 | F20: 1 | G20: 1 | H20: 1 | I20: 1 | J20: 1 | K20: 1 | L20: 1 | M20: 1 | N20: 1 | O20: 0 | R20: 1 | S20: =SUM(D20:M20) -> 10 | T20: =SUM(N20:R20) -> 2 | U20: =S20+T20 -> 12
A21: 07-019-20 | B21: LLANOS Y ORINOQUIA | C21: ASOPROREC | D21: 0 | E21: 1 | F21: 1 | G21: 1 | H21: 1 | I21: 1 | J21: 1 | K21: 1 | L21: 1 | M21: 1 | N21: 1 | O21: 1 | S21: =SUM(D21:N21) -> 10 | T21: =SUM(O21:P21) -> 1 | U21: =S21+T21 -> 11
A22: 07-020-20 | B22: LLANOS Y ORINOQUIA | C22: ASOPAC | D22: 0 | E22: 1 | F22: 1 | G22: 1 | H22: 1 | I22: 1 | J22: 1 | K22: 1 | L22: 1 | M22: 0 | N22: 0 | O22: 0 | S22: =SUM(D22:O22) -> 8 | U22: =S22+T22 -> 8
A23: 07-021-20 | B23: LLANOS Y ORINOQUIA | C23: ASOMUJEREC | D23: 0 | E23: 1 | F23: 1 | G23: 1 | H23: 1 | I23: 1 | J23: 1 | K23: 1 | L23: 1 | M23: 1 | N23: 1 | O23: 1 | P23: 1 | S23: =SUM(D23:N23) -> 10 | T23: =SUM(O23:P23) -> 2 | U23: =S23+T23 -> 12
C24: Total x Mes | D24: =SUM(D3:D23) -> 9 | E24: =SUM(E3:E23) -> 21 | F24: =SUM(F3:F23) -> 21 | G24: =SUM(G3:G23) -> 21 | H24: =SUM(H3:H23) -> 21 | I24: =SUM(I3:I23) -> 21 | J24: =SUM(J3:J23) -> 21 | K24: =SUM(K3:K23) -> 21 | ... U24: =SUM(U3:U23) -> 246
U25: =SUM(D24:R24) -> 246
A27: MONITOREOS FASE II
A28: No. CONVENIO MARD | B28: REGIONAL | C28: ALIANZA | D28: 44531 | E28: 44562 | F28: 44593 | G28: 44621 | H28: 44652 | I28: 44682 | J28: 44713 | K28: 44743 | L28: 44774 | M28: 44805 | N28: 44835 | O28: 44866 | P28: 44896 | Q28: 44927 | R28: 44958 | S28: TOTAL
A29: 07-001-21 | B29: LLANOS Y ORINOQUIA | C29: ASOGANCRAVO | D29: 1 | E29: 0 | F29: 0 | G29: 0 | H29: 1 | I29: 1 | S29: =SUM(D29:P29) -> 3
A30: 07-010-21 | B30: LLANOS Y ORINOQUIA | C30: ASOPAS | D30: 1 | E30: 0 | F30: 0 | G30: 0 | H30: 1 | I30: 1 | S30: =SUM(D30:P30) -> 3
A31: 07-051-21 | B31: LLANOS Y ORINOQUIA | C31: APROCOLEDA | D31: 1 | E31: 0 | F31: 0 | G31: 0 | H31: 1 | I31: 1 | S31: =SUM(D31:P31) -> 3
A32: 07-033-21 | B32: LLANOS Y ORINOQUIA | C32: ASOAGROAMA | D32: 1 | E32: 0 | F32: 0 | G32: 0 | H32: 1 | I32: 1 | S32: =SUM(D32:P32) -> 3
A33: 07-002-21 | B33: LLANOS Y ORINOQUIA | C33: ASOVICPAT | D33: 1 | E33: 0 | F33: 0 | G33: 0 | H33: 1 | I33: 1 | J33: 1 | S33: =SUM(D33:P33) -> 4
A34: 07-032-21 | B34: LLANOS Y ORINOQUIA | C34: APROLPAZ | D34: 1 | E34: 0 | F34: 0 | G34: 0 | H34: 1 | I34: 1 | S34: =SUM(D34:P34) -> 3
A35: 07-004-21 | B35: LLANOS Y ORINOQUIA | C35: ASOAPORTAR | D35: 1 | E35: 0 | F35: 0 | G35: 0 | H35: 1 | I35: 1 | S35: =SUM(D35:P35) -> 3
A36: 07-005-21 | B36: LLANOS Y ORINOQUIA | C36: ASOPROAGRAR | D36: 1 | E36: 0 | F36: 0 | G36: 0 | H36: 1 | I36: 1 | S36: =SUM(D36:P36) -> 3
A37: 07-049-21 | B37: LLANOS Y ORINOQUIA | C37: AMECSAR | D37: 1 | E37: 0 | F37: 0 | G37: 0 | H37: 1 | I37: 1 | S37: =SUM(D37:P37) -> 3
A38: 07-006-21 | B38: LLANOS Y ORINOQUIA | C38: APROMARA | D38: 1 | E38: 0 | F38: 0 | G38: 0 | H38: 1 | I38: 1 | J38: 1 | S38: =SUM(D38:P38) -> 4
A39: 07-008-21 | B39: LLANOS Y ORINOQUIA | C39: FUNDACION LUZ Y ESPERANZA - FLE | D39: 1 | E39: 0 | F39: 0 | G39: 0 | H39: 1 | I39: 1 | S39: =SUM(D39:P39) -> 3
A40: 07-012-21 | B40: LLANOS Y ORINOQUIA | C40: ASOMUAR | D40: 1 | E40: 0 | F40: 0 | G40: 0 | H40: 1 | I40: 1 | S40: =SUM(D40:P40) -> 3
A41: 07-031-21 | B41: LLANOS Y ORINOQUIA | C41: APROSANCARLOS | D41: 1 | E41: 0 | F41: 0 | G41: 0 | H41: 1 | I41: 1 | S41: =SUM(D41:P41) -> 3
A42: 07-029-21 | B42: LLANOS Y ORINOQUIA | C42: ASOFCASAR | D42: 1 | E42: 0 | F42: 0 | G42: 0 | H42: 1 | I42: 1 | S42: =SUM(D42:P42) -> 3
A43: 07-007-21 | B43: LLANOS Y ORINOQUIA | C43: ASOGAFOR | D43: 1 | E43: 0 | F43: 0 | G43: 0 | H43: 1 | I43: 1 | S43: =SUM(D43:P43) -> 3
A44: 07-009-21 | B44: LLANOS Y ORINOQUIA | C44: ASOPESCARIA | D44: 1 | E44: 0 | F44: 0 | G44: 0 | H44: 1 | I44: 1 | S44: =SUM(D44:P44) -> 3
A45: 07-018-21 | B45: LLANOS Y ORINOQUIA | C45: ASOMUJORPZA | D45: 1 | E45: 0 | F45: 0 | G45: 0 | H45: 0 | I45: 0 | J45: 1 | S45: =SUM(D45:P45) -> 2
A46: 07-019-21 | B46: LLANOS Y ORINOQUIA | C46: ASOPROLAC | D46: 1 | E46: 0 | F46: 0 | G46: 0 | H46: 1 | I46: 1 | J46: 1 | S46: =SUM(D46:P46) -> 4
A47: 07-021-21 | B47: LLANOS Y ORINOQUIA | C47: AGRICOLA BUENAHORA | D47: 1 | E47: 0 | F47: 0 | G47: 0 | H47: 1 | I47: 1 | J47: 1 | S47: =SUM(D47:P47) -> 4
A48: 07-017-21 | B48: LLANOS Y ORINOQUIA | C48: CPT | D48: 1 | E48: 0 | F48: 0 | G48: 0 | H48: 1 | I48: 1 | J48: 1 | S48: =SUM(D48:P48) -> 4
A49: 07-027-21 | B49: LLANOS Y ORINOQUIA | C49: APIYOPAL | D49: 1 | E49: 0 | F49: 0 | G49: 0 | H49: 1 | I49: 1 | S49: =SUM(D49:P49) -> 3
A50: 07-014-21 | B50: LLANOS Y ORINOQUIA | C50: ASOCACUMANI | D50: 1 | E50: 0 | F50: 0 | G50: 0 | H50: 1 | I50: 1 | S50: =SUM(D50:P50) -> 3
A51: 07-024-21 | B51: LLANOS Y ORINOQUIA | C51: ACAPIMOR | D51: 1 | E51: 0 | F51: 0 | G51: 0 | H51: 0 | I51: 1 | J51: 1 | S51: =SUM(D51:P51) -> 3
A52: 07-035-21 | B52: LLANOS Y ORINOQUIA | C52: ASOCAMPESINOS | D52: 1 | E52: 0 | F52: 0 | G52: 0 | H52: 0 | I52: 1 | J52: 1 | S52: =SUM(D52:P52) -> 3
A53: 07-015-21 | B53: LLANOS Y ORINOQUIA | C53: ASOPROMORSA | D53: 1 | E53: 0 | F53: 0 | G53: 0 | H53: 1 | I53: 1 | S53: =SUM(D53:P53) -> 3
A54: 07-028-21 | B54: LLANOS Y ORINOQUIA | C54: ASOVIOR | D54: 1 | E54: 0 | F54: 0 | G54: 0 | H54: 1 | I54: 1 | J54: 1 | S54: =SUM(D54:P54) -> 4
A55: 07-025-21 | B55: LLANOS Y ORINOQUIA | C55: APICPAZ | D55: 1 | E55: 0 | F55: 0 | G55: 0 | H55: 0 | I55: 1 | J55: 1 | S55: =SUM(D55:P55) -> 3
A56: 07-026-21 | B56: LLANOS Y ORINOQUIA | C56: ASOMUCASS | D56: 1 | E56: 0 | F56: 0 | G56: 0 | H56: 1 | I56: 1 | S56: =SUM(D56:P56) -> 3
A57: 07-016-21 | B57: LLANOS Y ORINOQUIA | C57: AGROMESACA | D57: 1 | E57: 0 | F57: 0 | G57: 0 | H57: 1 | I57: 1 | S57: =SUM(D57:P57) -> 3
A58: 07-013-21 | B58: LLANOS Y ORINOQUIA | C58: COGAMANI | D58: 1 | E58: 0 | F58: 0 | G58: 0 | H58: 1 | I58: 1 | S58: =SUM(D58:P58) -> 3
A59: 07-022-21 | B59: LLANOS Y ORINOQUIA | C59: COGANTA | D59: 1 | E59: 0 | F59: 0 | G59: 0 | H59: 0 | I59: 0 | J59: 1 | S59: =SUM(D59:P59) -> 2
A60: 07-020-21 | B60: LLANOS Y ORINOQUIA | C60: ANUGAN | D60: 1 | E60: 0 | F60: 0 | G60: 0 | H60: 1 | I60: 1 | S60: =SUM(D60:P60) -> 3
A61: 07-023-21 | B61: LLANOS Y ORINOQUIA | C61: SALVACAMPO | D61: 1 | E61: 0 | F61: 0 | G61: 0 | H61: 1 | I61: 1 | S61: =SUM(D61:P61) -> 3
A62: 07-047-21 | B62: LLANOS Y ORINOQUIA | C62: AGROSABANA | D62: 1 | E62: 0 | F62: 0 | G62: 0 | H62: 1 | I62: 1 | S62: =SUM(D62:P62) -> 3
A63: 07-041-21 | B63: LLANOS Y ORINOQUIA | C63: AGROGAN | D63: 1 | E63: 0 | F63: 0 | G63: 0 | H63: 1 | I63: 1 | J63: 1 | K63: 1 | S63: =SUM(D63:P63) -> 5
A64: 07-037-21 | B64: LLANOS Y ORINOQUIA | C64: AGROEMPO | D64: 1 | E64: 0 | F64: 0 | G64: 0 | H64: 0 | I64: 1 | S64: =SUM(D64:P64) -> 2
A65: 07-046-21 | B65: LLANOS Y ORINOQUIA | C65: ASOPISAM | D65: 1 | E65: 0 | F65: 0 | G65: 0 | H65: 1 | I65: 1 | S65: =SUM(D65:P65) -> 3
A66: 07-045-21 | B66: LLANOS Y ORINOQUIA | C66: ACAPRADIV | D66: 1 | E66: 0 | F66: 0 | G66: 0 | H66: 1 | I66: 1 | S66: =SUM(D66:P66) -> 3
A67: 07-038-21 | B67: LLANOS Y ORINOQUIA | C67: ASMUC | D67: 1 | E67: 0 | F67: 0 | G67: 0 | H67: 1 | I67: 1 | J67: 1 | S67: =SUM(D67:P67) -> 4
A68: 07-053-21 | B68: LLANOS Y ORINOQUIA | C68: ASOPCARI | D68: 1 | E68: 0 | F68: 0 | G68: 0 | H68: 1 | I68: 1 | J68: 1 | S68: =SUM(D68:P68) -> 4
A69: 07-039-21 | B69: LLANOS Y ORINOQUIA | C69: ASPROINCO | D69: 1 | E69: 0 | F69: 0 | G69: 0 | H69: 1 | I69: 1 | J69: 1 | S69: =SUM(D69:P69) -> 4
A70: 07-040-21 | B70: LLANOS Y ORINOQUIA | C70: AGROSARDI | D70: 1 | E70: 0 | F70: 0 | G70: 0 | H70: 0 | I70: 1 | J70: 1 | S70: =SUM(D70:P70) -> 3
A71: 07-054-21 | B71: LLANOS Y ORINOQUIA | C71: ASOAGROGUAPAYA | D71: 1 | E71: 0 | F71: 0 | G71: 0 | H71: 1 | I71: 1 | S71: =SUM(D71:P71) -> 3
A72: 07-050-21 | B72: LLANOS Y ORINOQUIA | C72: ASPROALE | D72: 1 | E72: 0 | F72: 0 | G72: 0 | H72: 1 | I72: 1 | S72: =SUM(D72:P72) -> 3
A73: 07-048-21 | B73: LLANOS Y ORINOQUIA | C73: ASPROMERCAR | D73: 1 | E73: 0 | F73: 0 | G73: 0 | H73: 0 | I73: 0 | J73: 1 | S73: =SUM(D73:P73) -> 2
A74: 07-044-21 | B74: LLANOS Y ORINOQUIA | C74: ASOVISAN | D74: 1 | E74: 0 | F74: 0 | G74: 0 | H74: 1 | I74: 1 | S74: =SUM(D74:P74) -> 3
A75: 07-043-21 | B75: LLANOS Y ORINOQUIA | C75: ASOMUCAPI | D75: 1 | E75: 0 | F75: 0 | G75: 0 | H75: 0 | I75: 1 | J75: 1 | S75: =SUM(D75:P75) -> 3
A76: 07-052-21 | B76: LLANOS Y ORINOQUIA | C76: APROCACAO | D76: 1 | E76: 0 | F76: 0 | G76: 0 | H76: 0 | I76: 0 | J76: 1 | S76: =SUM(D76:P76) -> 2
A77: 07-042-21 | B77: LLANOS Y ORINOQUIA | C77: COOMULDG | D77: 1 | E77: 0 | F77: 0 | G77: 0 | H77: 0 | I77: 0 | J77: 1 | S77: =SUM(D77:P77) -> 2
A78: 07-034-21 | B78: LLANOS Y ORINOQUIA | C78: COAGRANCC | D78: 1 | E78: 0 | F78: 0 | G78: 0 | H78: 1 | I78: 1 | S78: =SUM(D78:P78) -> 3
A79: 07-036-21 | B79: LLANOS Y ORINOQUIA | C79: AFRO NUEVO VIVIR | D79: 1 | E79: 0 | F79: 0 | G79: 0 | H79: 1 | I79: 1 | S79: =SUM(D79:P79) -> 3
A80: 07-003-21 | B80: LLANOS Y ORINOQUIA | C80: KUAWA WORAJU | D80: 1 | E80: 0 | F80: 0 | G80: 0 | H80: 1 | I80: 1 | S80: =SUM(D80:P80) -> 3
A81: 07-030-21 | B81: LLANOS Y ORINOQUIA | C81: PROAGRO PSCW KUYUVI | D81: 1 | E81: 0 | F81: 0 | G81: 0 | H81: 1 | I81: 1 | S81: =SUM(D81:P81) -> 3
B82: LLANOS Y ORINOQUIA | D82: 1 | E82: 0 | F82: 0 | G82: 0 | H82: 0 | I82: 0 | J82: 0 | K82: 0 | L82: 0 | M82: 0 | N82: 0 | O82: 0 | P82: 0 | Q82: 0 | R82: 0 | S82: =SUM(D82:P82) -> 1
C83: Total x Mes | D83: =SUM(D29:D82) -> 54 | E83: =SUM(E29:E81) -> 0 | F83: =SUM(F29:F81) -> 0 | G83: =SUM(G29:G81) -> 0 | H83: =SUM(H29:H81) -> 42 | I83: =SUM(I29:I81) -> 48 | J83: =SUM(J29:J81) -> 20 | K83: =SUM(K29:K81) -> 1 | L83: =SUM(L29:L81) -> 0 | ... R83: =SUM(R29:R81) -> 0 | S83: =SUM(D83:P83) -> 165
A86: Equipo BASE | M86: =17*1100000 -> 18700000
A87: 44287
A88: 44317 | B88: OK | C88: 189000000
A89: 44348 | B89: OK
A90: 44378 | B90: OK
A91: 44409 | B91: OK
A92: 44440 | B92: OK
A93: 44470 | B93: OK
A94: 44501 | B94: OK | C94: 31500000
A95: 44531 | B95: OK | C95: 31500000
A96: 44562 | B96: OK | C96: 31500000
A97: 44593 | B97: OK | C97: 31500000 | D97: Revisar
A98: 44621 | B98: OK | C98: 31500000
A99: 44652 | B99: OK | C99: 31500000
A100: 44682 | B100: OK | C100: =31500000+14000000 -> 45500000
A101: 44713 | B101: OK | C101: 45500000
A102: 44743 | B102: OK | C102: 45500000
A103: 44774 | B103: OK | C103: 45500000

Sheet Amazonía
A1: MONITOREOS FASE I
A2: No. CONVENIO MARD | B2: REGIONAL | C2: ALIANZA | D2: 44317 | E2: 44348 | F2: 44378 | G2: 44409 | H2: 44440 | I2: 44470 | J2: 44501 | K2: 44531 | L2: 44562 | M2: 44593 | N2: 44621 | O2: 44652 | P2: 44682 | Q2: 44713 | R2: 44743 | S2: 44774 | T2: TOTAL 2021 | U2: TOTAL 2022 | V2: ACUMULADO ALIANZA
A3: 08-001-20 | B3: AMAZONIA | C3: PECES LA DORADA | D3: 0 | E3: 0 | F3: 1 | G3: 1 | H3: 1 | I3: 1 | J3: 1 | K3: 1 | L3: 1 | M3: 1 | N3: 1 | O3: 1 | P3: 1 | Q3: 1 | R3: 1 | S3: 1 | T3: =SUM(D3:O3) -> 10 | U3: =SUM(P3:S3) -> 4 | V3: =T3+U3 -> 14
A4: 08-002-20 | B4: AMAZONIA | C4: AGROALPUTUMAYO | D4: 0 | E4: 0 | F4: 1 | G4: 1 | H4: 1 | I4: 1 | J4: 1 | K4: 1 | L4: 1 | M4: 1 | N4: 1 | O4: 1 | P4: 1 | Q4: 1 | R4: 1 | S4: 1 | T4: =SUM(D4:O4) -> 10 | U4: =SUM(P4:S4) -> 4 | V4: =T4+U4 -> 14
A5: 08-003-20 | B5: AMAZONIA | C5: ASAV | D5: 0 | E5: 0 | F5: 1 | G5: 1 | H5: 1 | I5: 1 | J5: 1 | K5: 1 | L5: 1 | M5: 1 | N5: 1 | O5: 1 | P5: 1 | Q5: 1 | R5: 1 | S5: 1 | T5: =SUM(D5:O5) -> 10 | U5: =SUM(P5:S5) -> 4 | V5: =T5+U5 -> 14
A6: 08-004-20 | B6: AMAZONIA | C6: ASOPEZ | D6: 0 | E6: 0 | F6: 1 | G6: 1 | H6: 1 | I6: 1 | J6: 1 | K6: 1 | L6: 1 | M6: 1 | N6: 1 | O6: 1 | P6: 1 | Q6: 1 | R6: 1 | S6: 1 | T6: =SUM(D6:O6) -> 10 | U6: =SUM(P6:S6) -> 4 | V6: =T6+U6 -> 14
A7: 08-005-20 | B7: AMAZONIA | C7: SANAGROS | D7: 0 | E7: 0 | F7: 1 | G7: 1 | H7: 1 | I7: 1 | J7: 1 | K7: 1 | L7: 1 | M7: 1 | N7: 1 | O7: 1 | P7: 1 | Q7: 1 | R7: 1 | S7: 1 | T7: =SUM(D7:O7) -> 10 | U7: =SUM(P7:S7) -> 4 | V7: =T7+U7 -> 14
A8: 08-006-20 | B8: AMAZONIA | C8: ASOGASIB | D8: 0 | E8: 0 | F8: 1 | G8: 1 | H8: 1 | I8: 1 | J8: 1 | K8: 1 | L8: 1 | M8: 1 | N8: 1 | O8: 1 | P8: 1 | Q8: 1 | R8: 1 | S8: 1 | T8: =SUM(D8:O8) -> 10 | U8: =SUM(P8:S8) -> 4 | V8: =T8+U8 -> 14
A9: 08-007-20 | B9: AMAZONIA | C9: ASOPIG | D9: 0 | E9: 0 | F9: 1 | G9: 1 | H9: 1 | I9: 1 | J9: 1 | K9: 1 | L9: 1 | M9: 1 | N9: 1 | O9: 1 | P9: 1 | Q9: 1 | R9: 0 | S9: 0 | T9: =SUM(D9:O9) -> 10 | U9: =SUM(P9:S9) -> 2 | V9: =T9+U9 -> 12
A10: 08-008-20 | B10: AMAZONIA | C10: AJERV | D10: 0 | E10: 0 | F10: 1 | G10: 1 | H10: 1 | I10: 1 | J10: 1 | K10: 1 | L10: 1 | M10: 1 | N10: 1 | O10: 1 | P10: 1 | Q10: 1 | R10: 1 | S10: 1 | T10: =SUM(D10:O10) -> 10 | U10: =SUM(P10:S10) -> 4 | V10: =T10+U10 -> 14
A11: 08-009-20 | B11: AMAZONIA | C11: COMUCCOM | D11: 0 | E11: 0 | F11: 1 | G11: 1 | H11: 1 | I11: 1 | J11: 1 | K11: 1 | L11: 1 | M11: 1 | N11: 1 | O11: 1 | P11: 1 | Q11: 1 | R11: 1 | S11: 1 | T11: =SUM(D11:O11) -> 10 | U11: =SUM(P11:S11) -> 4 | V11: =T11+U11 -> 14
A12: 08-010-20 | B12: AMAZONIA | C12: AGROPEZ ALBANIA | D12: 0 | E12: 0 | F12: 0 | G12: 1 | H12: 1 | I12: 1 | J12: 1 | K12: 1 | L12: 1 | M12: 1 | N12: 1 | O12: 1 | P12: 1 | Q12: 1 | R12: 1 | S12: 1 | T12: =SUM(D12:P12) -> 10 | U12: =SUM(Q12:S12) -> 3 | V12: =T12+U12 -> 13
A13: 08-011-20 | B13: AMAZONIA | C13: ASOMUSEPAZ | D13: 0 | E13: 0 | F13: 1 | G13: 1 | H13: 1 | I13: 1 | J13: 1 | K13: 1 | L13: 1 | M13: 1 | N13: 1 | O13: 1 | P13: 1 | Q13: 1 | R13: 1 | S13: 0 | T13: =SUM(D13:O13) -> 10 | U13: =SUM(P13:S13) -> 3 | V13: =T13+U13 -> 13
A14: 08-012-20 | B14: AMAZONIA | C14: ASOPISCIRICO | D14: 0 | E14: 0 | F14: 0 | G14: 1 | H14: 1 | I14: 1 | J14: 1 | K14: 1 | L14: 1 | M14: 1 | N14: 0 | O14: 1 | P14: 1 | Q14: 1 | R14: 1 | S14: 1 | T14: =SUM(D14:Q14) -> 10 | U14: =SUM(R14:S14) -> 2 | V14: =T14+U14 -> 12
A15: 08-013-20 | B15: AMAZONIA | C15: ASOCOMIGAN | D15: 0 | E15: 0 | F15: 1 | G15: 1 | H15: 1 | I15: 1 | J15: 1 | K15: 1 | L15: 1 | M15: 1 | N15: 1 | O15: 1 | P15: 1 | Q15: 1 | R15: 1 | S15: 0 | T15: =SUM(D15:O15) -> 10 | U15: =SUM(P15:S15) -> 3 | V15: =T15+U15 -> 13
A16: 08-014-20 | B16: AMAZONIA | C16: FENACHO | D16: 0 | E16: 0 | F16: 1 | G16: 1 | H16: 1 | I16: 1 | J16: 1 | K16: 1 | L16: 1 | M16: 1 | N16: 1 | O16: 1 | P16: 1 | Q16: 1 | R16: 1 | S16: 1 | T16: =SUM(D16:O16) -> 10 | U16: =SUM(P16:S16) -> 4 | V16: =T16+U16 -> 14
A17: 08-015-20 | B17: AMAZONIA | C17: AGROPAUJIL | D17: 0 | E17: 0 | F17: 0 | G17: 1 | H17: 1 | I17: 1 | J17: 1 | K17: 1 | L17: 1 | M17: 1 | N17: 1 | O17: 1 | P17: 1 | Q17: 1 | R17: 1 | S17: 1 | T17: =SUM(D17:P17) -> 10 | U17: =SUM(Q17:S17) -> 3 | V17: =T17+U17 -> 13
A18: 08-016-20 | B18: AMAZONIA | C18: ASOMUJERES | D18: 0 | E18: 0 | F18: 1 | G18: 1 | H18: 1 | I18: 1 | J18: 1 | K18: 1 | L18: 1 | M18: 1 | N18: 1 | O18: 1 | P18: 1 | Q18: 1 | R18: 1 | S18: 1 | T18: =SUM(D18:O18) -> 10 | U18: =SUM(P18:S18) -> 4 | V18: =T18+U18 -> 14
A19: 08-017-20 | B19: AMAZONIA | C19: ASMIPALMAR | D19: 0 | E19: 0 | F19: 0 | G19: 1 | H19: 1 | I19: 1 | J19: 1 | K19: 0 | L19: 1 | M19: 1 | N19: 0 | O19: 1 | P19: 0 | Q19: 1 | R19: 1 | S19: 1 | T19: =SUM(D19:S19) -> 10 | U19: 0 | V19: =T19+U19 -> 10
A20: 08-018-20 | B20: AMAZONIA | C20: ASOPROCACAO | D20: 0 | E20: 0 | F20: 1 | G20: 1 | H20: 1 | I20: 1 | J20: 1 | K20: 1 | L20: 1 | M20: 1 | N20: 1 | O20: 1 | P20: 1 | Q20: 1 | R20: 1 | S20: 0 | T20: =SUM(D20:O20) -> 10 | U20: =SUM(P20:S20) -> 3 | V20: =T20+U20 -> 13
A21: 08-019-20 | B21: AMAZONIA | C21: ASOMEPED | D21: 0 | E21: 0 | F21: 0 | G21: 0 | H21: 0 | I21: 1 | J21: 1 | K21: 0 | L21: 0 | M21: 0 | N21: 0 | O21: 0 | P21: 1 | Q21: 1 | R21: 1 | S21: 1 | T21: =SUM(D21:S21) -> 6 | U21: 0 | V21: =T21+U21 -> 6
A22: 08-020-20 | B22: AMAZONIA | C22: APPAIAM | D22: 0 | E22: 0 | F22: 0 | G22: 0 | H22: 1 | I22: 1 | J22: 1 | K22: 0 | L22: 0 | M22: 0 | N22: 1 | O22: 1 | P22: 1 | Q22: 1 | R22: 1 | S22: 1 | T22: =SUM(D22:S22) -> 9 | U22: 0 | V22: =T22+U22 -> 9
C23: Total x Mes | D23: =SUM(D3:D22) -> 0 | E23: =SUM(E3:E22) -> 0 | F23: =SUM(F3:F22) -> 14 | G23: =SUM(G3:G22) -> 18 | H23: =SUM(H3:H22) -> 19 | I23: =SUM(I3:I22) -> 20 | J23: =SUM(J3:J22) -> 20 | K23: =SUM(K3:K22) -> 17 | ... V23: =SUM(V3:V22) -> 254
V24: =SUM(D23:S23) -> 254
A26: MONITOREOS FASE II
A27: No. CONVENIO MARD | B27: REGIONAL | C27: ALIANZA | D27: 44531 | E27: 44562 | F27: 44593 | G27: 44621 | H27: 44652 | I27: 44682 | J27: 44713 | K27: 44743 | L27: 44774 | M27: 44805 | N27: 44835 | O27: 44866 | P27: 44896 | Q27: 44927 | R27: 44958 | S27: 44986 | T27: TOTAL
A28: 08-001-21 | B28: AMAZONIA | C28: ASOYUPGUZ | D28: 1 | E28: 0 | F28: 0 | G28: 0 | H28: 0 | I28: 1 | L28: 1 | T28: =SUM(D28:N28) -> 3
A29: 08-002-21 | B29: AMAZONIA | C29: APROCOAGRO | D29: 1 | E29: 0 | F29: 0 | G29: 0 | H29: 0 | I29: 1 | K29: 1 | T29: =SUM(D29:N29) -> 3
A30: 08-003-21 | B30: AMAZONIA | C30: ASOFRUMAYO | D30: 1 | E30: 0 | F30: 0 | G30: 0 | H30: 0 | I30: 1 | L30: 1 | T30: =SUM(D30:N30) -> 3
A31: 08-004-21 | B31: AMAZONIA | C31: COOPERAGRO | D31: 1 | E31: 0 | F31: 0 | G31: 0 | H31: 0 | I31: 0 | J31: 1 | L31: 1 | T31: =SUM(D31:N31) -> 3
A32: 08-005-21 | B32: AMAZONIA | C32: CORPISCICOLA | D32: 1 | E32: 0 | F32: 0 | G32: 0 | H32: 0 | I32: 1 | J32: 1 | L32: 1 | T32: =SUM(D32:N32) -> 4
A33: 08-006-21 | B33: AMAZONIA | C33: ASOPLAMPG | D33: 1 | E33: 0 | F33: 0 | G33: 0 | H33: 0 | I33: 1 | L33: 1 | T33: =SUM(D33:N33) -> 3
A34: 08-007-21 | B34: AMAZONIA | C34: ASOPIEP | D34: 1 | E34: 0 | F34: 0 | G34: 0 | H34: 0 | I34: 1 | J34: 1 | T34: =SUM(D34:N34) -> 3
A35: 08-008-21 | B35: AMAZONIA | C35: ASOMAYO | D35: 1 | E35: 0 | F35: 0 | G35: 0 | H35: 0 | I35: 1 | T35: =SUM(D35:N35) -> 2
A36: 08-009-21 | B36: AMAZONIA | C36: ASOAGROP | D36: 1 | E36: 0 | F36: 0 | G36: 0 | H36: 0 | I36: 1 | J36: 1 | T36: =SUM(D36:N36) -> 3
A37: 08-010-21 | B37: AMAZONIA | C37: ASPRAG | D37: 1 | E37: 0 | F37: 0 | G37: 0 | H37: 0 | I37: 1 | J37: 1 | L37: 1 | T37: =SUM(D37:N37) -> 4
A38: 08-011-21 | B38: AMAZONIA | C38: ASOCAMUCAMU | D38: 1 | E38: 0 | F38: 0 | G38: 0 | H38: 0 | I38: 1 | L38: 1 | T38: =SUM(D38:N38) -> 3
A39: 08-012-21 | B39: AMAZONIA | C39: ASOMURG | D39: 1 | E39: 0 | F39: 0 | G39: 0 | H39: 0 | I39: 1 | J39: 1 | K39: 1 | L39: 1 | T39: =SUM(D39:N39) -> 5
A40: 08-013-21 | B40: AMAZONIA | C40: ASOPROTRIUNFO | D40: 1 | E40: 0 | F40: 0 | G40: 0 | H40: 0 | I40: 1 | K40: 1 | L40: 1 | T40: =SUM(D40:N40) -> 4
A41: 08-014-21 | B41: AMAZONIA | C41: ASOAGROTRES-TEJAS | D41: 1 | E41: 0 | F41: 0 | G41: 0 | H41: 0 | I41: 1 | K41: 1 | L41: 1 | T41: =SUM(D41:N41) -> 4
A42: 08-015-21 | B42: AMAZONIA | C42: ASOPRODEM | D42: 1 | E42: 0 | F42: 0 | G42: 0 | H42: 0 | I42: 1 | T42: =SUM(D42:N42) -> 2
A43: 08-016-21 | B43: AMAZONIA | C43: ASOAPICAQ | D43: 1 | E43: 0 | F43: 0 | G43: 0 | H43: 0 | I43: 1 | T43: =SUM(D43:N43) -> 2
A44: 08-017-21 | B44: AMAZONIA | C44: AGROSEG | D44: 1 | E44: 0 | F44: 0 | G44: 0 | H44: 0 | I44: 1 | T44: =SUM(D44:N44) -> 2
A45: 08-018-21 | B45: AMAZONIA | C45: ASPRODECA | D45: 1 | E45: 0 | F45: 0 | G45: 0 | H45: 0 | I45: 1 | J45: 1 | L45: 1 | T45: =SUM(D45:N45) -> 4
A46: 08-019-21 | B46: AMAZONIA | C46: ASMUJIMA | D46: 1 | E46: 0 | F46: 0 | G46: 0 | H46: 0 | I46: 1 | K46: 1 | L46: 1 | T46: =SUM(D46:N46) -> 4
A47: 08-020-21 | B47: AMAZONIA | C47: ASVIDEVER | D47: 1 | E47: 0 | F47: 0 | G47: 0 | H47: 0 | I47: 1 | T47: =SUM(D47:N47) -> 2
A48: 08-021-21 | B48: AMAZONIA | C48: ASOCUDIT | D48: 1 | E48: 0 | F48: 0 | G48: 0 | H48: 0 | I48: 1 | K48: 1 | L48: 1 | T48: =SUM(D48:N48) -> 4
A49: 08-022-21 | B49: AMAZONIA | C49: ACUIMOC | D49: 1 | E49: 0 | F49: 0 | G49: 0 | H49: 0 | I49: 1 | K49: 1 | L49: 1 | T49: =SUM(D49:N49) -> 4
A50: 08-023-21 | B50: AMAZONIA | C50: AGROCARTAGENA | D50: 1 | E50: 0 | F50: 0 | G50: 0 | H50: 0 | I50: 1 | J50: 1 | L50: 1 | T50: =SUM(D50:N50) -> 4
A51: 08-024-21 | B51: AMAZONIA | C51: COMITÉ DE CAUCHEROS DE SAN VICENTE DEL CAGUAN | D51: 1 | E51: 0 | F51: 0 | G51: 0 | H51: 0 | I51: 1 | J51: 1 | T51: =SUM(D51:N51) -> 3
A52: 08-025-21 | B52: AMAZONIA | C52: ASOPOBECA | D52: 1 | E52: 0 | F52: 0 | G52: 0 | H52: 0 | I52: 1 | T52: =SUM(D52:N52) -> 2
A53: 08-026-21 | B53: AMAZONIA | C53: ASPROABELEN | D53: 1 | E53: 0 | F53: 0 | G53: 0 | H53: 0 | I53: 1 | K53: 1 | L53: 1 | T53: =SUM(D53:N53) -> 4
A54: 08-027-21 | B54: AMAZONIA | C54: ASOPROAPICS | D54: 1 | E54: 0 | F54: 0 | G54: 0 | H54: 0 | I54: 1 | K54: 1 | L54: 1 | T54: =SUM(D54:N54) -> 4
A55: 08-028-21 | B55: AMAZONIA | C55: ASOCIACION GRANJA ANDAQUI | D55: 1 | E55: 0 | F55: 0 | G55: 0 | H55: 0 | I55: 1 | K55: 1 | L55: 1 | T55: =SUM(D55:N55) -> 4
A56: 08-029-21 | B56: AMAZONIA | C56: ASOES | D56: 1 | E56: 0 | F56: 0 | G56: 0 | H56: 0 | I56: 1 | K56: 1 | L56: 1 | T56: =SUM(D56:N56) -> 4
A57: 08-030-21 | B57: AMAZONIA | C57: ASOPISFRAGUA | D57: 1 | E57: 0 | F57: 0 | G57: 0 | H57: 0 | I57: 1 | K57: 1 | L57: 1 | T57: =SUM(D57:N57) -> 4
A58: 08-031-21 | B58: AMAZONIA | C58: AGROGALICIA | D58: 1 | E58: 0 | F58: 0 | G58: 0 | H58: 0 | I58: 1 | T58: =SUM(D58:N58) -> 2
A59: 08-032-21 | B59: AMAZONIA | C59: COOFRIMAYO | D59: 1 | E59: 0 | F59: 0 | G59: 0 | H59: 0 | I59: 1 | J59: 1 | T59: =SUM(D59:N59) -> 3
A60: 08-033-21 | B60: AMAZONIA | C60: HALAMO | D60: 0 | E60: 0 | F60: 0 | G60: 0 | H60: 0 | I60: 1 | K60: 1 | L60: 1 | T60: =SUM(D60:N60) -> 3
A61: 08-034-21 | B61: AMAZONIA | C61: ASOJICCA | D61: 0 | E61: 0 | F61: 0 | G61: 0 | H61: 0 | I61: 1 | J61: 1 | K61: 1 | L61: 1 | T61: =SUM(D61:N61) -> 4
A62: 08-035-21 | B62: AMAZONIA | C62: ÑAMSIMAY | D62: 1 | E62: 0 | F62: 0 | G62: 0 | H62: 0 | I62: 1 | L62: 1 | T62: =SUM(D62:N62) -> 3
A63: 08-036-21 | B63: AMAZONIA | C63: ASOMEGUA | D63: 0 | E63: 0 | F63: 0 | G63: 0 | H63: 0 | I63: 1 | J63: 1 | K63: 1 | L63: 1 | T63: =SUM(D63:N63) -> 4
A64: 08-037-21 | B64: AMAZONIA | C64: ASOCHON | D64: 1 | E64: 0 | F64: 0 | G64: 0 | H64: 0 | I64: 1 | K64: 1 | T64: =SUM(D64:N64) -> 3
A65: 08-038-21 | B65: AMAZONIA | C65: ASOVALLE | D65: 1 | E65: 0 | F65: 0 | G65: 0 | H65: 0 | I65: 1 | J65: 1 | L65: 1 | T65: =SUM(D65:N65) -> 4
A66: 08-039-21 | B66: AMAZONIA | C66: ASOPAMURIMAJSA | D66: 1 | E66: 0 | F66: 0 | G66: 0 | H66: 0 | I66: 1 | J66: 1 | K66: 1 | L66: 1 | T66: =SUM(D66:N66) -> 5
A67: 08-040-21 | B67: AMAZONIA | C67: AMITLI | D67: 1 | E67: 0 | F67: 0 | G67: 0 | H67: 0 | I67: 1 | L67: 1 | T67: =SUM(D67:N67) -> 3
A68: 08-041-21 | B68: AMAZONIA | C68: CAMPOGUAVIARE | D68: 1 | E68: 0 | F68: 0 | G68: 0 | H68: 0 | I68: 1 | J68: 1 | K68: 1 | L68: 1 | T68: =SUM(D68:N68) -> 5
A69: 08-042-21 | B69: AMAZONIA | C69: ASOJIOBA | D69: 0 | E69: 0 | F69: 0 | G69: 0 | H69: 0 | I69: 1 | T69: =SUM(D69:N69) -> 1
A70: 08-043-21 | B70: AMAZONIA | C70: ASOPROLVAL | D70: 1 | E70: 0 | F70: 0 | G70: 0 | H70: 0 | I70: 1 | J70: 1 | L70: 1 | T70: =SUM(D70:N70) -> 4
A71: 08-044-21 | B71: AMAZONIA | C71: ASOALICUSAN | D71: 1 | E71: 0 | F71: 0 | G71: 0 | H71: 0 | I71: 1 | K71: 1 | L71: 1 | T71: =SUM(D71:N71) -> 4
A72: 08-045-21 | B72: AMAZONIA | C72: ASOALICERDOS | D72: 1 | E72: 0 | F72: 0 | G72: 0 | H72: 0 | I72: 1 | J72: 1 | L72: 1 | T72: =SUM(D72:N72) -> 4
A73: 08-046-21 | B73: AMAZONIA | C73: AMCAB | D73: 0 | E73: 0 | F73: 0 | G73: 0 | H73: 0 | I73: 0 | J73: 1 | T73: =SUM(D73:N73) -> 1
A74: 08-047-21 | B74: AMAZONIA | C74: ASOARTEPANELA | D74: 1 | E74: 0 | F74: 0 | G74: 0 | H74: 0 | I74: 0 | J74: 1 | L74: 1 | T74: =SUM(D74:N74) -> 3
A75: 08-048-21 | B75: AMAZONIA | C75: AATCAMU | D75: 1 | E75: 0 | F75: 0 | G75: 0 | H75: 0 | I75: 0 | J75: 1 | T75: =SUM(D75:N75) -> 2
C76: Total x Mes | D76: =SUM(D28:D75) -> 43 | E76: =SUM(E28:E75) -> 0 | F76: =SUM(F28:F75) -> 0 | G76: =SUM(G28:G75) -> 0 | H76: =SUM(H28:H75) -> 0 | I76: =SUM(I28:I75) -> 44 | J76: =SUM(J28:J75) -> 20 | K76: =SUM(K28:K75) -> 19 | ... N76: =SUM(N28:N75) -> 0 | T76: =SUM(D76:N76) -> 158
D77: Revisar
A79: Equipo BASE
A80: 44287 | B80: OK | C80: 189000000
A81: 44317 | B81: OK
A82: 44348 | B82: OK
A83: 44378 | B83: OK
A84: 44409 | B84: OK
A85: 44440 | B85: OK
A86: 44470 | B86: OK | C86: 31500000
A87: 44501 | B87: OK | C87: 31500000
A88: 44531 | B88: OK | C88: 31500000
A89: 44562 | B89: OK | C89: 31500000
A90: 44593 | B90: OK | C90: 31500000
A91: 44621 | B91: OK | C91: 31500000
A92: 44652 | B92: OK | C92: 31500000
A93: 44682 | B93: OK | C93: =C92+14000000 -> 45500000
A94: 44713 | B94: OK | C94: 45500000
A95: 44743 | B95: OK | C95: 45500000
A96: 44774 | B96: OK | C96: 45500000

Sheet Resumen
A1: FASE II
A2: Etiquetas de fila | B2: Promedio de EJECUCIÓN % | C2: Suma de RECURSOS EJECUTADOS EN PAGOS | D2: Cuenta de ALIANZA | E2: Suma de SALDO SIN EJECUTAR
A3: AMAZONIA | B3: 0.29937574 | C3: 2.5616233e+09 | D3: 48 | E3: 5.9858157e+09
A4: II | B4: 0.29937574 | C4: 2.5616233e+09 | D4: 48 | E4: 5.9858157e+09
A5: CARIBE 1 | B5: 0.11689105 | C5: 1.275457e+09 | D5: 57 | E5: 9.492967e+09
A6: II | B6: 0.11689105 | C6: 1.275457e+09 | D6: 57 | E6: 9.492967e+09
A7: CARIBE 2 | B7: 0.06813848 | C7: 9.0956137e+08 | D7: 69 | E7: 1.2358711e+10
A8: II | B8: 0.06813848 | C8: 9.0956137e+08 | D8: 69 | E8: 1.2358711e+10
A9: CENTRAL | B9: 0.082724243 | C9: 1.1500257e+09 | D9: 78 | E9: 1.3212338e+10
A10: II | B10: 0.082724243 | C10: 1.1500257e+09 | D10: 78 | E10: 1.3212338e+10
A11: EJE CAFETERO Y ANTIOQUIA | B11: 0.15135797 | C11: 1.925927e+09 | D11: 68 | E11: 1.0542495e+10
A12: II | B12: 0.15135797 | C12: 1.925927e+09 | D12: 68 | E12: 1.0542495e+10
A13: LLANOS Y ORINOQUIA | B13: 0.12897309 | C13: 1298385221 | D13: 53 | E13: 8756613779
A14: II | B14: 0.12897309 | C14: 1298385221 | D14: 53 | E14: 8756613779
... A19: Total general | B19: 0.12537138 | C19: 1.1000095e+10 | D19: 478 | E19: 7.7379094e+10
A21: FASE I
A22: Etiquetas de fila | B22: Promedio de EJECUCIÓN % | C22: Suma de RECURSOS EJECUTADOS EN PAGOS | D22: Cuenta de ALIANZA | E22: Suma de SALDO SIN EJECUTAR | F22: Liquidadas
A23: AMAZONIA | B23: 0.85092229 | C23: 3174228623 | D23: 20 | E23: 471687377 | F23: 0
A24: I | B24: 0.85092229 | C24: 3174228623 | D24: 20 | E24: 471687377
A25: CARIBE 1 | B25: 0.52753234 | C25: 1.758934e+09 | D25: 18 | E25: 1.479278e+09 | F25: 1
A26: I | B26: 0.52753234 | C26: 1.758934e+09 | D26: 18 | E26: 1.479278e+09
A27: CARIBE 2 | B27: 0.452151 | C27: 2.6813592e+09 | D27: 31 | E27: 3.2568068e+09 | F27: 0
A28: I | B28: 0.452151 | C28: 2.6813592e+09 | D28: 31 | E28: 3.2568068e+09
A29: CENTRAL | B29: 0.69606247 | C29: 2.9398334e+09 | D29: 22 | E29: 1.2649643e+09 | F29: 0
A30: I | B30: 0.69606247 | C30: 2.9398334e+09 | D30: 22 | E30: 1.2649643e+09
A31: EJE CAFETERO Y ANTIOQUIA | B31: 0.8086976 | C31: 3.8763096e+09 | D31: 27 | E31: 9.682294e+08 | F31: 0
A32: I | B32: 0.8086976 | C32: 3.8763096e+09 | D32: 27 | E32: 9.682294e+08
A33: LLANOS Y ORINOQUIA | B33: 0.70675024 | C33: 2.7219379e+09 | D33: 21 | E33: 1.1489071e+09 | F33: 0
A34: I | B34: 0.70675024 | C34: 2.7219379e+09 | D34: 21 | E34: 1.1489071e+09
A35: PACIFICO | B35: 0.66653469 | C35: 3.1457615e+09 | D35: 26 | E35: 1.5970265e+09 | F35: 0
A36: I | B36: 0.66653469 | C36: 3.1457615e+09 | D36: 26 | E36: 1.5970265e+09
A37: SANTANDERES | B37: 0.68152355 | C37: 1.6951261e+09 | D37: 13 | E37: 7.8552377e+08 | F37: 0
A38: I | B38: 0.68152355 | C38: 1.6951261e+09 | D38: 13 | E38: 7.8552377e+08
A39: Total general | B39: 0.66691226 | C39: 2.199349e+10 | D39: 178 | E39: 1.0972423e+10 | F39: =SUM(F23:F38) -> 1
A42: Monitoreos FASE I POA 2021 | B42: =Pacífico!S29+'Eje Cafetero'!S30+'Caribe I'!Q21+'Caribe II'!Q34+Central!R25+Santanderes!S16+Llanos!S24+Amazonía!T23 -> 1592
A43: Monitoreos FASE II POA 2021 | B43: =Pacífico!S106+'Eje Cafetero'!S103+'Caribe I'!Q84+'Caribe II'!Q108+Central!R108+Santanderes!S55+Llanos!S83+Amazonía!T76 -> 1232
A44: Monitoreos FASE I POA 2022 | B44: =Pacífico!T29+'Eje Cafetero'!T30+'Caribe I'!R21+Santanderes!T16+Llanos!T24+Amazonía!U23 -> 225
A46: Regional | B46: Alianzas FASE I | D46: Alianzas FASE II
B47: POA 2021 | C47: POA 2022 | D47: POA 2021 | E47: POA 2022 | F47: TOTAL REGIONAL
A48: AMAZONIA | B48: =Amazonía!T23 -> 195 | C48: =Amazonía!U23 -> 59 | D48: =Amazonía!T76 -> 158 | E48: 0 | F48: =SUM(B48:E48) -> 412
A49: CARIBE 1 | B49: ='Caribe I'!Q21 -> 140 | C49: ='Caribe I'!R21 -> 15 | D49: ='Caribe I'!Q84 -> 139 | E49: 0 | F49: =SUM(B49:E49) -> 294
A50: CARIBE 2 | B50: ='Caribe II'!Q34 -> 224 | C50: 0 | D50: ='Caribe II'!Q108 -> 130 | E50: 0 | F50: =SUM(B50:E50) -> 354
A51: CENTRAL | B51: =Central!R25 -> 185 | C51: 0 | D51: =Central!R108 -> 137 | E51: 0 | F51: =SUM(B51:E51) -> 322
A52: EJE CAFETERO Y ANTIOQUIA | B52: ='Eje Cafetero'!S30 -> 262 | C52: ='Eje Cafetero'!T30 -> 65 | D52: ='Eje Cafetero'!S103 -> 202 | E52: 0 | F52: =SUM(B52:E52) -> 529
A53: LLANOS Y ORINOQUIA | B53: =Llanos!S24 -> 210 | C53: =Llanos!T24 -> 36 | D53: =Llanos!S83 -> 165 | E53: 0 | F53: =SUM(B53:E53) -> 411
A54: PACIFICO | B54: =Pacífico!S29 -> 251 | C54: =Pacífico!T29 -> 19 | D54: =Pacífico!S106 -> 193 | E54: 0 | F54: =SUM(B54:E54) -> 463
A55: SANTANDERES | B55: =Santanderes!S16 -> 125 | C55: =Santanderes!T16 -> 31 | D55: =Santanderes!S55 -> 108 | E55: 0 | F55: =SUM(B55:E55) -> 264
B56: =SUM(B48:B55) -> 1592 | C56: =SUM(C48:C55) -> 225 | D56: =SUM(D48:D55) -> 1232 | E56: =SUM(E48:E55) -> 0

Sheet INFORME CRIS
B1: REGIONAL AMAZONIA | C1: ALIANZAS | D1: (IM) | E1: EJECUTADO | F1: SIN EJECUTAR | G1: % EJECUTADO
B2: TOTALES | C2: =SUM(C3:C4) -> 68 | D2: =SUM(D3:D4) -> 12193355000 | E2: =SUM(E3:E4) -> 5.7358519e+09 | F2: =SUM(F3:F4) -> 6.4575031e+09
B3: EN EJECUCIÓN FASE I | C3: 20 | D3: 3645916000 | E3: =GETPIVOTDATA("Suma de RECURSOS EJECUTADOS EN PAGOS",Resumen!$A$22,"REGIONAL","AMAZONIA") -> 3174228623 | F3: =GETPIVOTDATA("Suma de SALDO SIN EJECUTAR",Resumen!$A$22,"REGIONAL","AMAZONIA") -> 471687377 | G3: =E3/D3 -> 0.87062582
B4: EN EJECUCIÓN FASE II | C4: =GETPIVOTDATA("Cuenta de ALIANZA",Resumen!$A$2,"REGIONAL","AMAZONIA") -> 48 | D4: =E4+F4 -> 8547439000 | E4: =GETPIVOTDATA("Suma de RECURSOS EJECUTADOS EN PAGOS",Resumen!$A$2,"REGIONAL","AMAZONIA") -> 2.5616233e+09 | F4: =GETPIVOTDATA("Suma de SALDO SIN EJECUTAR",Resumen!$A$2,"REGIONAL","AMAZONIA") -> 5.9858157e+09 | G4: =E4/D4 -> 0.29969483
B6: REGIONAL CARIBE 1 | C6: ALIANZAS | D6: (IM) | E6: EJECUTADO | F6: SIN EJECUTAR | G6: % EJECUTADO
B7: TOTALES | C7: =SUM(C8:C10) -> 75 | D7: =SUM(D8:D10) -> 14006635998 | E7: =SUM(E8:E10) -> 3.034391e+09 | F7: =D7-E7 -> 1.0972245e+10
B8: EN EJECUCIÓN FASE I | C8: 17 | D8: 3078211998 | E8: =GETPIVOTDATA("Suma de RECURSOS EJECUTADOS EN PAGOS",Resumen!$A$22,"REGIONAL","CARIBE 1") -> 1.758934e+09 | F8: =D8-E8 -> 1.319278e+09 | G8: =E8/D8 -> 0.57141418
B9: LIQUIDACIÓN ANT. FASE I | C9: 1 | D9: 160000000 | E9: 0 | F9: 160000000
B10: EN EJECUCIÓN FASE II | C10: =GETPIVOTDATA("Cuenta de ALIANZA",Resumen!$A$2,"REGIONAL","CARIBE 1") -> 57 | D10: =E10+F10 -> 10768424000 | E10: =GETPIVOTDATA("Suma de RECURSOS EJECUTADOS EN PAGOS",Resumen!$A$2,"REGIONAL","CARIBE 1") -> 1.275457e+09 | F10: =GETPIVOTDATA("Suma de SALDO SIN EJECUTAR",Resumen!$A$2,"REGIONAL","CARIBE 1") -> 9.492967e+09 | G10: =E10/D10 -> 0.11844417
B12: REGIONAL CARIBE 2 | C12: ALIANZAS | D12: (IM) | E12: EJECUTADO | F12: SIN EJECUTAR | G12: % EJECUTADO
B13: TOTALES | C13: =SUM(C14:C15) -> 100 | D13: =SUM(D14:D15) -> 19206438000 | E13: =SUM(E14:E15) -> 3.5909206e+09 | F13: =SUM(F14:F15) -> 1.5615517e+10
B14: EN EJECUCIÓN FASE I | C14: 31 | D14: 5938166000 | E14: =GETPIVOTDATA("Suma de RECURSOS EJECUTADOS EN PAGOS",Resumen!$A$22,"REGIONAL","CARIBE 2") -> 2.6813592e+09 | F14: =D14-E14 -> 3.2568068e+09 | G14: =E14/D14 -> 0.4515467
B15: EN EJECUCIÓN FASE II | C15: =GETPIVOTDATA("Cuenta de ALIANZA",Resumen!$A$2,"REGIONAL","CARIBE 2") -> 69 | D15: =E15+F15 -> 13268272000 | E15: =GETPIVOTDATA("Suma de RECURSOS EJECUTADOS EN PAGOS",Resumen!$A$2,"REGIONAL","CARIBE 2") -> 9.0956137e+08 | F15: =GETPIVOTDATA("Suma de SALDO SIN EJECUTAR",Resumen!$A$2,"REGIONAL","CARIBE 2") -> 1.2358711e+10 | G15: =E15/D15 -> 0.068551607
B17: REGIONAL CENTRAL | C17: ALIANZAS | D17: (IM) | E17: EJECUTADO | F17: SIN EJECUTAR | G17: % EJECUTADO
B18: TOTALES | C18: =SUM(C19:C20) -> 100 | D18: 4204797748 | E18: =GETPIVOTDATA("Suma de RECURSOS EJECUTADOS EN PAGOS",Resumen!$A$22,"REGIONAL","CENTRAL") -> 2.9398334e+09 | F18: =SUM(F19:F20) -> 1.4477302e+10
B19: EN EJECUCIÓN FASE I | C19: 22 | D19: 4204797748 | E19: =GETPIVOTDATA("Suma de RECURSOS EJECUTADOS EN PAGOS",Resumen!$A$22,"REGIONAL","CENTRAL") -> 2.9398334e+09 | F19: =D19-E19 -> 1.2649643e+09 | G19: =E19/D19 -> 0.69916168
B20: EN EJECUCIÓN FASE II | C20: =GETPIVOTDATA("Cuenta de ALIANZA",Resumen!$A$2,"REGIONAL","CENTRAL") -> 78 | D20: =E20+F20 -> 1.4362364e+10 | E20: =GETPIVOTDATA("Suma de RECURSOS EJECUTADOS EN PAGOS",Resumen!$A$2,"REGIONAL","CENTRAL") -> 1.1500257e+09 | F20: =GETPIVOTDATA("Suma de SALDO SIN EJECUTAR",Resumen!$A$2,"REGIONAL","CENTRAL") -> 1.3212338e+10 | G20: =E20/D20 -> 0.080072176
B22: REGIONAL EJE CAFETERO | C22: ALIANZAS | D22: (IM) | E22: EJECUTADO | F22: SIN EJECUTAR | G22: % EJECUTADO
B23: TOTALES | C23: =SUM(C24:C25) -> 95 | D23: =SUM(D24:D25) -> 17312961000 | E23: =SUM(E24:E25) -> 5.8022366e+09 | F23: =SUM(F24:F25) -> 1.1510724e+10
B24: EN EJECUCIÓN FASE I | C24: 27 | D24: 4844539000 | E24: =GETPIVOTDATA("Suma de RECURSOS EJECUTADOS EN PAGOS",Resumen!$A$22,"REGIONAL","EJE CAFETERO Y ANTIOQUIA") -> 3.8763096e+09 | F24: =D24-E24 -> 9.682294e+08 | G24: =E24/D24 -> 0.80014003
B25: EN EJECUCIÓN FASE II | C25: =GETPIVOTDATA("Cuenta de ALIANZA",Resumen!$A$2,"REGIONAL","EJE CAFETERO Y ANTIOQUIA") -> 68 | D25: =E25+F25 -> 12468422000 | E25: =GETPIVOTDATA("Suma de RECURSOS EJECUTADOS EN PAGOS",Resumen!$A$2,"REGIONAL","EJE CAFETERO Y ANTIOQUIA") -> 1.925927e+09 | F25: =GETPIVOTDATA("Suma de SALDO SIN EJECUTAR",Resumen!$A$2,"REGIONAL","EJE CAFETERO Y ANTIOQUIA") -> 1.0542495e+10 | G25: =E25/D25 -> 0.15446437
B27: REGIONAL LLANOS | C27: ALIANZAS | D27: (IM) | E27: EJECUTADO | F27: SIN EJECUTAR | G27: % EJECUTADO
B28: TOTALES | C28: =SUM(C29:C30) -> 74 | D28: =SUM(D29:D30) -> 13925844000 | E28: =SUM(E29:E30) -> 4.0203231e+09 | F28: =D28-E28 -> 9.9055209e+09
B29: EN EJECUCIÓN FASE I | C29: 21 | D29: 3870845000 | E29: =GETPIVOTDATA("Suma de RECURSOS EJECUTADOS EN PAGOS",Resumen!$A$22,"REGIONAL","LLANOS Y ORINOQUIA") -> 2.7219379e+09 | F29: =D29-E29 -> 1.1489071e+09 | G29: =E29/D29 -> 0.70318959
B30: EN EJECUCIÓN FASE II | C30: =GETPIVOTDATA("Cuenta de ALIANZA",Resumen!$A$2,"REGIONAL","LLANOS Y ORINOQUIA") -> 53 | D30: =E30+F30 -> 10054999000 | E30: =GETPIVOTDATA("Suma de RECURSOS EJECUTADOS EN PAGOS",Resumen!$A$2,"REGIONAL","LLANOS Y ORINOQUIA") -> 1298385221 | F30: =GETPIVOTDATA("Suma de SALDO SIN EJECUTAR",Resumen!$A$2,"REGIONAL","LLANOS Y ORINOQUIA") -> 8756613779 | G30: =E30/D30 -> 0.12912833
B32: REGIONAL PACIFICO | C32: ALIANZAS | D32: (IM) | E32: EJECUTADO | F32: SIN EJECUTAR | G32: % EJECUTADO
B33: TOTALES | C33: =SUM(C34:C35) -> 99 | D33: =SUM(D34:D35) -> 17583058000 | E33: =SUM(E34:E35) -> 4.4463292e+09 | F33: =SUM(F34:F35) -> 1.3136729e+10
B34: EN EJECUCIÓN FASE I | C34: 26 | D34: =E34+F34 -> 4742788000 | E34: =GETPIVOTDATA("Suma de RECURSOS EJECUTADOS EN PAGOS",Resumen!$A$22,"REGIONAL","PACIFICO") -> 3.1457615e+09 | F34: =GETPIVOTDATA("Suma de SALDO SIN EJECUTAR",Resumen!$A$22,"REGIONAL","PACIFICO") -> 1.5970265e+09 | G34: =E34/D34 -> 0.66327263
B35: EN EJECUCIÓN FASE II | C35: =GETPIVOTDATA("Cuenta de ALIANZA",Resumen!$A$2,"REGIONAL","PACIFICO") -> 73 | D35: =E35+F35 -> 12840270000 | E35: =GETPIVOTDATA("Suma de RECURSOS EJECUTADOS EN PAGOS",Resumen!$A$2,"REGIONAL","PACIFICO") -> 1.3005677e+09 | F35: =GETPIVOTDATA("Suma de SALDO SIN EJECUTAR",Resumen!$A$2,"REGIONAL","PACIFICO") -> 1.1539702e+10 | G35: =E35/D35 -> 0.10128819
B37: REGIONAL SANTANDERES | C37: ALIANZAS | D37: (IM) | E37: EJECUTADO | F37: SIN EJECUTAR | G37: % EJECUTADO
B38: TOTALES | C38: =SUM(C39:C40) -> 45 | D38: =SUM(D39:D40) -> 8549649872 | E38: =SUM(E39:E40) -> 2.2736741e+09 | F38: =SUM(F39:F40) -> 6.2759758e+09
B39: EN EJECUCIÓN FASE I | C39: 13 | D39: =E39+F39 -> 2480649872 | E39: =GETPIVOTDATA("Suma de RECURSOS EJECUTADOS EN PAGOS",Resumen!$A$22,"REGIONAL","SANTANDERES") -> 1.6951261e+09 | F39: =GETPIVOTDATA("Suma de SALDO SIN EJECUTAR",Resumen!$A$22,"REGIONAL","SANTANDERES") -> 7.8552377e+08 | G39: =E39/D39 -> 0.68333952
B40: EN EJECUCIÓN FASE II | C40: =GETPIVOTDATA("Cuenta de ALIANZA",Resumen!$A$2,"REGIONAL","SANTANDERES") -> 32 | D40: =E40+F40 -> 6069000000 | E40: =GETPIVOTDATA("Suma de RECURSOS EJECUTADOS EN PAGOS",Resumen!$A$2,"REGIONAL","SANTANDERES") -> 5.7854797e+08 | F40: =GETPIVOTDATA("Suma de SALDO SIN EJECUTAR",Resumen!$A$2,"REGIONAL","SANTANDERES") -> 5.490452e+09 | G40: =E40/D40 -> 0.095328386

Sheet Proyección Monitoreos
A1: REGIONAL | B1: ALIANZA | C1: EJECUCIÓN % | D1: MONITOREOS PAGOS | E1: MONITOREOS PENDIENTES POR COBRAR | F1: MES TERMINACIÓN | G1: 10
A2: CARIBE 1 | B2: ASOMUVICA | C2: 0.71147 | D2: 6 | E2: =$G$1-D2 -> 4 | F2: 44593
A3: LLANOS Y ORINOQUIA | B3: ASOLECT | C3: 0.42171452 | D3: 7 | E3: =$G$1-D3 -> 3 | F3: 44593
A4: LLANOS Y ORINOQUIA | B4: CRGT - COMITÉ GANADEROS TAME | C4: 0.4014281 | D4: 7 | E4: =$G$1-D4 -> 3 | F4: 44593
A5: LLANOS Y ORINOQUIA | B5: ASOEMPRENCA | C5: 0.3502018 | D5: 7 | E5: =$G$1-D5 -> 3 | F5: 44593
A6: LLANOS Y ORINOQUIA | B6: ASMUCACD | C6: 0.3233275 | D6: 7 | E6: =$G$1-D6 -> 3 | F6: 44593
A7: LLANOS Y ORINOQUIA | B7: ASEGAVA | C7: 0.3011426 | D7: 7 | E7: =$G$1-D7 -> 3 | F7: 44593
A8: LLANOS Y ORINOQUIA | B8: ASOLESACA | C8: 0.19527833 | D8: 7 | E8: =$G$1-D8 -> 3 | F8: 44593
A9: LLANOS Y ORINOQUIA | B9: APROFRUSA | C9: 0.18648641 | D9: 7 | E9: =$G$1-D9 -> 3 | F9: 44593
A10: LLANOS Y ORINOQUIA | B10: ASAPAVBJ | C10: 0.18501984 | D10: 7 | E10: =$G$1-D10 -> 3 | F10: 44593
A11: LLANOS Y ORINOQUIA | B11: ASMUCULPAZCA | C11: 0.14099248 | D11: 7 | E11: =$G$1-D11 -> 3 | F11: 44593
A12: SANTANDERES | B12: ASOVIPLAYA | C12: 0.52662529 | D12: 7 | E12: =$G$1-D12 -> 3 | F12: 44621
A13: CARIBE 1 | B13: FUNGACAM | C13: 0.38053016 | D13: 5 | E13: =$G$1-D13 -> 5 | F13: 44621
... A177: AMAZONIA | B177: ASOMEPED | C177: 0 | D177: 2 | E177: =$G$1-D177 -> 8 | F177: 44743
A178: SANTANDERES | B178: ASOMUTRADER | C178: 0.0535 | D178: 5 | E178: N/A | F178: N/A
A179: CARIBE 1 | B179: ASOMUDEPAS | C179: 0 | D179: 0 | E179: N/A | F179: N/A
