Workbook

Sheet CONSOLIDADO
A1: REGIONAL | B1: ALIANZA | C1: FASE | D1: No. CONVENIO MARD | E1: COD. FIDUCIARIO | F1: DEPARTAMENTO | G1: FECHA DE GIRO | H1: INCENTIVO MODULAR | I1: 44378 | J1: 44409 | K1: 44440 | L1: 44470 | M1: 44501 | N1: 44531 | O1: 44562 | P1: 44593 | Q1: 44621 | R1: 44652 | S1: 44682 | T1: 44713 | U1: 44743 | V1: 44774 | W1: 44805 | X1: 44835 | Y1: 44866 | Z1: 44896 | AA1: REINTEGRO DTN | AB1: RECURSOS EJECUTADOS EN PAGOS | AC1: EJECUCIÓN % | AD1: MONITOREOS PAGOS | AE1: VISITA SEGUNDO DESEMBOLSO | AF1: SALDO SIN EJECUTAR | AG1: OBSERVACIONES | AH1: N° Meses Ejecución IM
A2: AMAZONIA | B2: ASOMUSEPAZ | C2: I | D2: 08-011-20 | E2: 396435 | F2: GUAVIARE | G2: 44251 | H2: 144834000 | J2: 10700000 | K2: 5133499 | L2: 16877833 | M2: 18477833 | N2: 23055666 | P2: 21777833 | Q2: 6177833 | R2: 6177833 | S2: 25755670 | T2: 10700000 | AB2: =SUM(I2:AA2) -> 144834000 | AC2: =AB2/H2 -> 1 | AD2: =Amazonía!V13 -> 13 | AE2: 44524 | AF2: =H2-AB2 -> 0 | AG2: EN EJECUCIÓN | AH2: =COUNT(I2:Z2) -> 10
A3: CARIBE 1 | B3: ASOMUDEPAS | C3: I | D3: 03-001-20 | E3: 396492 | F3: BOLIVAR | G3: 44251 | H3: 160000000 | AA3: 160000000 | AB3: =SUM(I3:AA3) -> 160000000 | AC3: =AB3/H3 -> 1 | AD3: ='Caribe I'!S3 -> 0 | AE3: - | AF3: =H3-AB3 -> 0 | AG3: LIQUIDADA | AH3: =COUNT(I3:Z3) -> 0
A4: CENTRAL | B4: ADIMCOL | C4: I | D4: 05-019-20 | E4: 396985 | F4: TOLIMA | G4: 44256 | H4: 199336000 | J4: 10700000 | K4: 15079100 | M4: 30201796 | N4: 21000000 | O4: 5280000 | Q4: 23511336 | R4: 10700000 | S4: 33077847 | T4: 23470261 | W4: 11755660 | X4: 14560000 | AB4: =SUM(I4:AA4) -> 199336000 | AC4: =AB4/H4 -> 1 | AD4: =Central!R21 -> 8 | AE4: 44599 | AF4: =H4-AB4 -> 0 | AG4: EN EJECUCIÓN | AH4: =COUNT(I4:Z4) -> 11
A5: AMAZONIA | B5: FENACHO | C5: I | D5: 08-014-20 | E5: 396499 | F5: GUAVIARE | G5: 44251 | H5: 200000000 | K5: 10700000 | M5: 7135666 | N5: 7135666 | O5: 14077833 | P5: 38813000 | Q5: 7135666 | R5: 3377833 | S5: 8260000 | T5: 53768666 | U5: 22017833 | V5: 16877833 | W5: 10700000 | AB5: =SUM(I5:AA5) -> 199999996 | AC5: =AB5/H5 -> 0.99999998 | AD5: =Amazonía!V16 -> 14 | AE5: 44655 | AF5: =H5-AB5 -> 4 | AG5: EN EJECUCIÓN | AH5: =COUNT(I5:Z5) -> 12
A6: EJE CAFETERO Y ANTIOQUIA | B6: ASPROPHACAL | C6: I | D6: 02-016-20 | E6: 397365 | F6: CALDAS | G6: 44267 | H6: 164840000 | M6: 10700000 | AA6: =153000000+1139900 -> 154139900 | AB6: =SUM(I6:AA6) -> 164839900 | AC6: =AB6/H6 -> 0.99999939 | AD6: ='Eje Cafetero'!U18 -> 4 | AE6: - | AF6: =H6-AB6 -> 100 | AG6: LIQUIDACIÓN ANT. | AH6: =COUNT(I6:Z6) -> 1
A7: AMAZONIA | B7: PECES LA DORADA | C7: I | D7: 08-001-20 | E7: 396429 | F7: PUTUMAYO | G7: 44251 | H7: 174990000 | J7: 10500000 | N7: 64060944 | O7: 4879833 | Q7: 15379833 | R7: 32438666 | S7: 8006000 | T7: 15461499 | U7: 13762670 | W7: 10500000 | AB7: =SUM(I7:AA7) -> 174989445 | AC7: =AB7/H7 -> 0.99999683 | AD7: =Amazonía!V3 -> 14 | AE7: 44602 | AF7: =H7-AB7 -> 555 | AG7: EN EJECUCIÓN | AH7: =COUNT(I7:Z7) -> 9
A8: AMAZONIA | B8: AGROALPUTUMAYO | C8: I | D8: 08-002-20 | E8: 396493 | F8: PUTUMAYO | G8: 44251 | H8: 200000000 | J8: 10700000 | K8: 1754666 | L8: 2877333 | M8: 25077333 | N8: 5377333 | O8: 45210333 | P8: 2500000 | Q8: 12755666 | R8: 62410833 | S8: 5377833 | T8: 7627833 | U8: 7627837 | W8: 10700000 | AB8: =SUM(I8:AA8) -> 199997000 | AC8: =AB8/H8 -> 0.999985 | AD8: =Amazonía!V4 -> 14 | AE8: 44610 | AF8: =H8-AB8 -> 3000 | AG8: EN EJECUCIÓN | AH8: =COUNT(I8:Z8) -> 13
A9: AMAZONIA | B9: ASOPEZ | C9: I | D9: 08-004-20 | E9: 396426 | F9: PUTUMAYO | G9: 44251 | H9: 200000000 | J9: 10500000 | N9: 66679159 | O9: 4879833 | Q9: 18259666 | R9: 46609573 | T9: 28803499 | V9: 13760670 | W9: 10500000 | AB9: =SUM(I9:AA9) -> 199992400 | AC9: =AB9/H9 -> 0.999962 | AD9: =Amazonía!V6 -> 14 | AE9: 44601 | AF9: =H9-AB9 -> 7600 | AG9: EN EJECUCIÓN | AH9: =COUNT(I9:Z9) -> 8
A10: AMAZONIA | B10: SANAGROS | C10: I | D10: 08-005-20 | E10: 396431 | F10: PUTUMAYO | G10: 44251 | H10: 199894000 | J10: 10700000 | K10: 1755666 | L10: 5877833 | M10: 13577833 | N10: 12877833 | O10: 41797833 | Q10: 11755666 | R10: 60209433 | S10: 8877833 | T10: 10877833 | U10: 10877837 | W10: 10700000 | AB10: =SUM(I10:AA10) -> 199885600 | AC10: =AB10/H10 -> 0.99995798 | AD10: =Amazonía!V7 -> 14 | AE10: 44611 | AF10: =H10-AB10 -> 8400 | AG10: EN EJECUCIÓN | AH10: =COUNT(I10:Z10) -> 12
A11: EJE CAFETERO Y ANTIOQUIA | B11: ASOMUCHACHA | C11: I | D11: 02-020-20 | E11: 396523 | F11: ANTIOQUIA | G11: 44252 | H11: 122349000 | J11: 10700000 | L11: 16785830 | M11: 11042430 | N11: 6085830 | O11: 6104000 | P11: 10416000 | Q11: 15455660 | R11: 6085830 | T11: 15929660 | V11: 13031354 | X11: 10700000 | AB11: =SUM(I11:AA11) -> 122336594 | AC11: =AB11/H11 -> 0.9998986 | AD11: ='Eje Cafetero'!U22 -> 13 | AE11: 44602 | AF11: =H11-AB11 -> 12406 | AG11: EN EJECUCIÓN | AH11: =COUNT(I11:Z11) -> 11
A12: AMAZONIA | B12: COMUCCOM | C12: I | D12: 08-009-20 | E12: 396491 | F12: PUTUMAYO | G12: 44251 | H12: 198865000 | K12: 10500000 | M12: 26755666 | N12: 43673470 | Q12: 23133250 | R12: 56043833 | S12: 4000000 | T12: 12481499 | U12: 11754670 | W12: 10500000 | AB12: =SUM(I12:AA12) -> 198842388 | AC12: =AB12/H12 -> 0.99988629 | AD12: =Amazonía!V11 -> 14 | AE12: 44603 | AF12: =H12-AB12 -> 22612 | AG12: EN EJECUCIÓN | AH12: =COUNT(I12:Z12) -> 9
A13: EJE CAFETERO Y ANTIOQUIA | B13: ASOPROCHOER | C13: I | D13: 02-015-20 | E13: 396500 | F13: CALDAS | G13: 44252 | H13: 164650000 | J13: 10700000 | N13: 10700000 | O13: 12277100 | P13: 4556900 | Q13: 18690025 | S13: 48232500 | T13: 2106800 | U13: 18233800 | V13: 28433803 | W13: 10700000 | AB13: =SUM(I13:AA13) -> 1.6463093e+08 | AC13: =AB13/H13 -> 0.99988417 | AD13: ='Eje Cafetero'!U17 -> 13 | AE13: 44671 | AF13: =H13-AB13 -> 19071.86 | AG13: EN EJECUCIÓN | AH13: =COUNT(I13:Z13) -> 10
A14: AMAZONIA | B14: ASOGASIB | C14: I | D14: 08-006-20 | E14: 396893 | F14: PUTUMAYO | G14: 44252 | H14: 200000000 | J14: 10700000 | K14: 1755666 | M14: 23455500 | N14: 8877750 | O14: 46588850 | Q14: 23455500 | R14: 46708850 | S14: 6377750 | T14: 10627667 | U14: 9750000 | V14: 877667 | W14: 10700000 | AB14: =SUM(I14:AA14) -> 199875200 | AC14: =AB14/H14 -> 0.999376 | AD14: =Amazonía!V8 -> 14 | AE14: 44609 | AF14: =H14-AB14 -> 124800 | AG14: EN EJECUCIÓN | AH14: =COUNT(I14:Z14) -> 12
A15: AMAZONIA | B15: ASAV | C15: I | D15: 08-003-20 | E15: 396430 | F15: PUTUMAYO | G15: 44251 | H15: 199734000 | J15: 10700000 | K15: =2000000+2333000+1755666 -> 6088666 | L15: 5210833 | M15: 20710833 | N15: 49798833 | O15: 5210833 | Q15: 18788666 | R15: 47465833 | S15: 2877833 | T15: 3877833 | U15: 17000000 | V15: 877833 | W15: 10700000 | AB15: =SUM(I15:AA15) -> 199307996 | AC15: =AB15/H15 -> 0.99786714 | AD15: =Amazonía!V5 -> 14 | AE15: 44608 | AF15: =H15-AB15 -> 426004 | AG15: EN EJECUCIÓN | AH15: =COUNT(I15:Z15) -> 13
A16: AMAZONIA | B16: AJERV | C16: I | D16: 08-008-20 | E16: 396428 | F16: PUTUMAYO | G16: 44251 | H16: 159897000 | J16: 10500000 | M16: 2633250 | N16: 54455500 | P16: 1320000 | Q16: 24255500 | S16: 4877750 | T16: 30261250 | V16: 19755500 | W16: 10500000 | AB16: =SUM(I16:AA16) -> 158558750 | AC16: =AB16/H16 -> 0.99163055 | AD16: =Amazonía!V10 -> 14 | AE16: 44604 | AF16: =H16-AB16 -> 1338250 | AG16: EN EJECUCIÓN | AH16: =COUNT(I16:Z16) -> 9
A17: EJE CAFETERO Y ANTIOQUIA | B17: ASPROFIL | C17: I | D17: 02-003-20 | E17: 396812 | F17: QUINDIO | G17: 44252 | H17: 179623000 | M17: 8000000 | N17: 3877000 | O17: 3877000 | P17: 3877000 | Q17: 25040000 | R17: 13477750 | S17: 37565594 | T17: 14000000 | V17: 7754000 | X17: 58666290 | AB17: =SUM(I17:AA17) -> 176134634 | AC17: =AB17/H17 -> 0.98057951 | AD17: ='Eje Cafetero'!U5 -> 13 | AE17: 44713 | AF17: =H17-AB17 -> 3488366 | AG17: EN EJECUCIÓN | AH17: =COUNT(I17:Z17) -> 10
A18: AMAZONIA | B18: AGROPAUJIL | C18: I | D18: 08-015-20 | E18: 396881 | F18: CAQUETA | G18: 44252 | H18: 200000000 | J18: 10700000 | L18: 10700000 | M18: 8000000 | N18: 19520000 | O18: 26450000 | P18: 25900000 | Q18: 5500000 | R18: 40570000 | S18: 5500000 | T18: 16266500 | U18: 5500000 | V18: 10255500 | W18: 10700000 | AB18: =SUM(I18:AA18) -> 195562000 | AC18: =AB18/H18 -> 0.97781 | AD18: =Amazonía!V17 -> 13 | AE18: 44637 | AF18: =H18-AB18 -> 4438000 | AG18: EN EJECUCIÓN | AH18: =COUNT(I18:Z18) -> 13
A19: PACIFICO | B19: COONOGALES | C19: I | D19: 01-010-20 | E19: 396855 | F19: VALLE DEL CAUCA | G19: 44252 | H19: 200000000 | L19: 20700000 | N19: 26200000 | O19: 500000 | Q19: 1000000 | T19: 42670051 | V19: 39200000 | W19: 31701000 | X19: 33502058 | AB19: =SUM(I19:AA19) -> 195473109 | AC19: =AB19/H19 -> 0.97736554 | AD19: =Pacífico!U12 -> 11 | AE19: 44742 | AF19: =H19-AB19 -> 4526891 | AG19: EN EJECUCIÓN | AH19: =COUNT(I19:Z19) -> 8
A20: PACIFICO | B20: APROPESCA | C20: I | D20: 01-005-20 | E20: 396505 | F20: CAUCA | G20: 44252 | H20: 199800000 | N20: 15700000 | O20: 21180000 | Q20: 52173500 | R20: 40590623 | S20: 28761469 | T20: 600000 | V20: 24238184 | W20: 11300000 | AB20: =SUM(I20:AA20) -> 194543776 | AC20: =AB20/H20 -> 0.97369257 | AD20: =Pacífico!U7 -> 11 | AE20: 44639 | AF20: =H20-AB20 -> 5256224 | AG20: EN EJECUCIÓN | AH20: =COUNT(I20:Z20) -> 8
A21: LLANOS Y ORINOQUIA | B21: ASEGAVA | C21: I | D21: 07-018-20 | E21: 396578 | F21: ARAUCA | G21: 44251 | H21: 132533000 | J21: 10700000 | M21: 11577833 | N21: 9000000 | O21: 8633499 | P21: 3877833 | Q21: 14400000 | S21: 877833 | T21: 26217833 | U21: 17783499 | V21: 877833 | W21: 18933837 | X21: 6000000 | AB21: =SUM(I21:AA21) -> 128880000 | AC21: =AB21/H21 -> 0.97243705 | AD21: =Llanos!U20 -> 12 | AE21: 44642 | AF21: =H21-AB21 -> 3653000 | AG21: EN EJECUCIÓN | AH21: =COUNT(I21:Z21) -> 12
A22: EJE CAFETERO Y ANTIOQUIA | B22: AMMUCAMP | C22: I | D22: 02-007-20 | E22: 396520 | F22: RISARALDA | G22: 44252 | H22: 200000000 | J22: 10700000 | M22: 10700000 | N22: 9255668 | P22: 9255668 | Q22: 61731834 | R22: 19077834 | T22: 60181177 | V22: 3377834 | W22: 9255668 | X22: 877826 | AB22: =SUM(I22:AA22) -> 1.9441351e+08 | AC22: =AB22/H22 -> 0.97206754 | AD22: ='Eje Cafetero'!U9 -> 13 | AE22: 44658 | AF22: =H22-AB22 -> 5586491.7 | AG22: EN EJECUCIÓN | AH22: =COUNT(I22:Z22) -> 10
A23: LLANOS Y ORINOQUIA | B23: ASOPROAGRO SARARE | C23: I | D23: 07-010-20 | E23: 397208 | F23: ARAUCA | G23: 44267 | H23: 169987000 | K23: 10700000 | M23: 3377833 | N23: 24835233 | O23: 18669873 | P23: 5000000 | Q23: 4107833 | R23: 8950000 | T23: 45783000 | U23: 3230000 | W23: 39886202 | AB23: =SUM(I23:AA23) -> 164539974 | AC23: =AB23/H23 -> 0.96795622 | AD23: =Llanos!U12 -> 13 | AE23: 44672 | AF23: =H23-AB23 -> 5447026 | AG23: EN EJECUCIÓN | AH23: =COUNT(I23:Z23) -> 10
A24: LLANOS Y ORINOQUIA | B24: ASOLESACA | C24: I | D24: 07-007-20 | E24: 396609 | F24: CASANARE | G24: 44251 | H24: 200000000 | J24: 10700000 | L24: 3000000 | M24: 8155666 | N24: 6800000 | O24: 6000000 | P24: 21733499 | R24: 40788047 | T24: 57251960 | V24: 30783666 | X24: 6400000 | AB24: =SUM(I24:AA24) -> 191612838 | AC24: =AB24/H24 -> 0.95806419 | AD24: =Llanos!U9 -> 13 | AE24: 44678 | AF24: =H24-AB24 -> 8387162 | AG24: EN EJECUCIÓN | AH24: =COUNT(I24:Z24) -> 10
A25: PACIFICO | B25: SAN NICOLAS | C25: I | D25: 01-019-20 | E25: 397343 | F25: NARIÑO | G25: 44267 | H25: 184180000 | K25: 10700000 | M25: 11700000 | N25: 29000000 | R25: 6900000 | S25: 3300000 | T25: 22200080 | U25: 22116000 | V25: 8500000 | W25: 45900000 | X25: 16000000 | AB25: =SUM(I25:AA25) -> 176316080 | AC25: =AB25/H25 -> 0.95730307 | AD25: =Pacífico!U21 -> 11 | AE25: 44737 | AF25: =H25-AB25 -> 7863920 | AG25: EN EJECUCIÓN | AH25: =COUNT(I25:Z25) -> 10
A26: PACIFICO | B26: ASOINAP | C26: I | D26: 01-013-20 | E26: 397235 | F26: NARIÑO | G26: 44267 | H26: 199296000 | S26: 22200000 | T26: 23000000 | U26: 31000000 | V26: 18450000 | W26: 65864400 | X26: 29296000 | AB26: =SUM(I26:AA26) -> 189810400 | AC26: =AB26/H26 -> 0.95240446 | AD26: =Pacífico!U15 -> 10 | AE26: 44763 | AF26: =H26-AB26 -> 9485600 | AG26: EN EJECUCIÓN | AH26: =COUNT(I26:Z26) -> 6
A27: LLANOS Y ORINOQUIA | B27: ASOPANEL | C27: I | D27: 07-003-20 | E27: 397011 | F27: META | G27: 44256 | H27: 200000000 | J27: 10700000 | L27: 3500000 | M27: 19833499 | N27: 10377833 | Q27: 10500000 | S27: 20500000 | T27: 55751998 | V27: 58136666 | AB27: =SUM(I27:AA27) -> 189299996 | AC27: =AB27/H27 -> 0.94649998 | AD27: =Llanos!U5 -> 13 | AE27: 44673 | AF27: =H27-AB27 -> 10700004 | AG27: EN EJECUCIÓN | AH27: =COUNT(I27:Z27) -> 8
A28: SANTANDERES | B28: ASOFRUTAS | C28: I | D28: 06-011-20 | E28: 396879 | F28: NORTE DE SANTANDER | G28: 44252 | H28: 199942636 | K28: 10700000 | L28: 6000000 | M28: 6000000 | N28: 16700000 | O28: 6000000 | Q28: 12000000 | T28: 42530650 | V28: 27000000 | W28: 56310650 | X28: 6000000 | AB28: =SUM(I28:AA28) -> 1.892413e+08 | AC28: =AB28/H28 -> 0.94647797 | AD28: =Santanderes!U11 -> 13 | AE28: 44757 | AF28: =H28-AB28 -> 10701336 | AG28: EN EJECUCIÓN | AH28: =COUNT(I28:Z28) -> 10
A29: SANTANDERES | B29: ASOCAMC | C29: I | D29: 06-001-20 | E29: 397316 | F29: SANTANDER | G29: 44260 | H29: 200000000 | J29: 10700000 | L29: 6020000 | M29: 20736000 | N29: 6020000 | O29: 3700000 | P29: 34800000 | Q29: 6020000 | R29: 10700000 | S29: 6020000 | T29: 12040000 | U29: 60340000 | V29: 12040000 | AB29: =SUM(I29:AA29) -> 189136000 | AC29: =AB29/H29 -> 0.94568 | AD29: =Santanderes!U3 -> 13 | AE29: 44616 | AF29: =H29-AB29 -> 10864000 | AG29: EN EJECUCIÓN | AH29: =COUNT(I29:Z29) -> 12
A30: CARIBE 1 | B30: FUNGACAM | C30: I | D30: 03-016-20 | E30: 396997 | F30: ATLANTICO | G30: 44253 | H30: 199565000 | K30: 10000000 | L30: 14769750 | M30: 12315250 | N30: 25577750 | O30: 10977750 | P30: 10100000 | Q30: 11855500 | R30: 25469750 | S30: 10000000 | T30: 11855500 | U30: 6177750 | V30: 15400000 | W30: 9900000 | X30: 14300000 | AB30: =SUM(I30:AA30) -> 188699000 | AC30: =AB30/H30 -> 0.94555157 | AD30: ='Caribe I'!S6 -> 12 | AE30: 44622 | AF30: =H30-AB30 -> 10866000 | AG30: EN EJECUCIÓN | AH30: =COUNT(I30:Z30) -> 14
A31: LLANOS Y ORINOQUIA | B31: ASOPCARI | C31: I | D31: 07-006-20 | E31: 397072 | F31: META | G31: 44256 | H31: 199940000 | I31: 10700000 | L31: 6500000 | M31: 16833499 | N31: 10377833 | P31: 8755666 | S31: 29209000 | T31: 54011332 | V31: 3500000 | W31: 1755666 | X31: 47200000 | AB31: =SUM(I31:AA31) -> 188842996 | AC31: =AB31/H31 -> 0.94449833 | AD31: =Llanos!U8 -> 13 | AE31: 44704 | AF31: =H31-AB31 -> 11097004 | AG31: EN EJECUCIÓN | AH31: =COUNT(I31:Z31) -> 10
A32: PACIFICO | B32: FUNMUFROT | C32: I | D32: 01-007-20 | E32: 396811 | F32: VALLE DEL CAUCA | G32: 44252 | H32: 200000000 | K32: =13500000+2800000 -> 16300000 | L32: 5600000 | M32: 500000 | N32: 26100000 | P32: 46500000 | R32: 12200000 | T32: 72200000 | U32: 1000000 | V32: 5600000 | X32: 2800000 | AB32: =SUM(I32:AA32) -> 188800000 | AC32: =AB32/H32 -> 0.944 | AD32: =Pacífico!U9 -> 11 | AE32: 44608 | AF32: =H32-AB32 -> 11200000 | AG32: EN EJECUCIÓN | AH32: =COUNT(I32:Z32) -> 10
A33: EJE CAFETERO Y ANTIOQUIA | B33: ASOPACO | C33: I | D33: 02-023-20 | E33: 396859 | F33: ANTIOQUIA | G33: 44252 | H33: 184960000 | K33: 10700000 | N33: 13900000 | O33: 6900000 | P33: 7716000 | Q33: 10100000 | R33: 28810000 | S33: 17600000 | T33: 6900000 | V33: 17500000 | W33: 38237438 | X33: 15895483 | AB33: =SUM(I33:AA33) -> 1.7425892e+08 | AC33: =AB33/H33 -> 0.94214382 | AD33: ='Eje Cafetero'!U25 -> 13 | AE33: 44655 | AF33: =H33-AB33 -> 10701079 | AG33: EN EJECUCIÓN | AH33: =COUNT(I33:Z33) -> 11
A34: CARIBE 1 | B34: ASOMUPEAUNISAL | C34: I | D34: 03-018-20 | E34: 396996 | F34: ATLANTICO | G34: 44253 | H34: 199999999 | I34: 10000000 | N34: 13555500 | O34: 18877750 | P34: 3877750 | Q34: 3877750 | R34: 23202217 | S34: 21498588 | T34: 44644000 | U34: 13810412 | V34: 10755500 | W34: 18813935 | X34: 5500000 | AB34: =SUM(I34:AA34) -> 1.884134e+08 | AC34: =AB34/H34 -> 0.94206701 | AD34: ='Caribe I'!S8 -> 12 | AE34: 44706 | AF34: =H34-AB34 -> 11586597 | AG34: EN EJECUCIÓN | AH34: =COUNT(I34:Z34) -> 12
A35: CARIBE 1 | B35: ASOMUVICA | C35: I | D35: 03-006-20 | E35: 396506 | F35: BOLIVAR | G35: 44252 | H35: 200000000 | K35: 84429000 | L35: 7660000 | N35: 4138000 | O35: 45036000 | P35: 13960000 | Q35: 878000 | R35: 5031000 | S35: 9000000 | U35: 12459000 | V35: 4756000 | W35: 876000 | AB35: =SUM(I35:AA35) -> 188223000 | AC35: =AB35/H35 -> 0.941115 | AD35: ='Caribe I'!S5 -> 13 | AE35: 44524 | AF35: =H35-AB35 -> 11777000 | AG35: EN EJECUCIÓN | AH35: =COUNT(I35:Z35) -> 11
A36: AMAZONIA | B36: ASOMUJERES | C36: I | D36: 08-016-20 | E36: 396498 | F36: GUAVIARE | G36: 44251 | H36: 180000000 | J36: 10700000 | N36: 9269332 | O36: 19457333 | P36: 37310333 | Q36: 6257333 | S36: 10014666 | T36: 20714666 | U36: 46812996 | V36: 3757333 | W36: 2500000 | X36: 2500000 | AB36: =SUM(I36:AA36) -> 169293992 | AC36: =AB36/H36 -> 0.94052218 | AD36: =Amazonía!V18 -> 14 | AE36: 44655 | AF36: =H36-AB36 -> 10706008 | AG36: EN EJECUCIÓN | AH36: =COUNT(I36:Z36) -> 11
A37: SANTANDERES | B37: AROMA DE PAZ | C37: I | D37: 06-003-20 | E37: 396877 | F37: SANTANDER | G37: 44252 | H37: 175000000 | J37: 10700000 | M37: 9330000 | N37: 5700000 | P37: 48350000 | Q37: 7061000 | R37: 2700000 | S37: 28382700 | T37: 22100000 | U37: 3000000 | V37: 5700000 | W37: 15764038 | X37: 5700000 | AB37: =SUM(I37:AA37) -> 164487738 | AC37: =AB37/H37 -> 0.93992993 | AD37: =Santanderes!U5 -> 13 | AE37: 44637 | AF37: =H37-AB37 -> 10512262 | AG37: EN EJECUCIÓN | AH37: =COUNT(I37:Z37) -> 12
A38: EJE CAFETERO Y ANTIOQUIA | B38: ASGROCALMO | C38: I | D38: 02-011-20 | E38: 396508 | F38: CALDAS | G38: 44253 | H38: 189990000 | M38: 10700000 | N38: 3806000 | O38: 7606000 | P38: 10700000 | Q38: 7606000 | R38: 8781833 | S38: 2633499 | T38: 59206000 | U38: 5328400 | V38: 22226233 | W38: 34235000 | X38: 5328400 | AB38: =SUM(I38:AA38) -> 178157365 | AC38: =AB38/H38 -> 0.9377197 | AD38: ='Eje Cafetero'!U13 -> 12 | AE38: 44740 | AF38: =H38-AB38 -> 11832635 | AG38: EN EJECUCIÓN | AH38: =COUNT(I38:Z38) -> 12
A39: AMAZONIA | B39: ASOPIG | C39: I | D39: 08-007-20 | E39: 396433 | F39: GUAINIA | G39: 44251 | H39: 200000000 | J39: 10700000 | P39: 10700000 | R39: 53611000 | U39: 10700000 | X39: 101826500 | AB39: =SUM(I39:AA39) -> 187537500 | AC39: =AB39/H39 -> 0.9376875 | AD39: =Amazonía!V9 -> 12 | AE39: 44727 | AF39: =H39-AB39 -> 12462500 | AG39: EN EJECUCIÓN | AH39: =COUNT(I39:Z39) -> 5
A40: SANTANDERES | B40: ASOVIPLAYA | C40: I | D40: 06-005-20 | E40: 396504 | F40: NORTE DE SANTANDER | G40: 44252 | H40: 170000000 | J40: 10700000 | K40: 500000 | L40: 10162300 | M40: 35964000 | N40: 6100000 | O40: 6100000 | P40: 6100000 | Q40: 16800000 | R40: 22552000 | S40: 11485001 | T40: 15003766 | U40: 3100000 | V40: 14700000 | AB40: =SUM(I40:AA40) -> 1.5926707e+08 | AC40: =AB40/H40 -> 0.9368651 | AD40: =Santanderes!U7 -> 13 | AE40: 44610 | AF40: =H40-AB40 -> 10732933 | AG40: EN EJECUCIÓN | AH40: =COUNT(I40:Z40) -> 13
...

Sheet Pacífico
A1: MONITOREOS FASE I
A2: No. CONVENIO MARD | B2: REGIONAL | C2: ALIANZA | D2: 44317 | E2: 44348 | F2: 44378 | G2: 44409 | H2: 44440 | I2: 44470 | J2: 44501 | K2: 44531 | L2: 44562 | M2: 44593 | N2: 44621 | O2: 44652 | P2: 44682 | Q2: 44713 | R2: 44743 | S2: TOTAL 2021 | T2: TOTAL 2022 | U2: ACUMULADO ALIANZA
A3: 01-001-20 | B3: PACÍFICO | C3: ASMUPGRAMI | D3: 0 | E3: 0 | F3: 1 | G3: 1 | H3: 1 | I3: 1 | J3: 1 | K3: 0 | L3: 0 | M3: 1 | N3: 1 | O3: 1 | P3: 1 | Q3: 1 | R3: 1 | S3: =SUM(D3:Q3) -> 10 | T3: =SUM(R3) -> 1 | U3: =S3+T3 -> 11
A4: 01-002-20 | B4: PACÍFICO | C4: ASOMOREROS | D4: 0 | E4: 0 | F4: 1 | G4: 1 | H4: 1 | I4: 1 | J4: 1 | K4: 0 | L4: 0 | M4: 1 | N4: 1 | O4: 1 | P4: 1 | Q4: 1 | R4: 1 | S4: =SUM(D4:Q4) -> 10 | T4: =SUM(R4) -> 1 | U4: =S4+T4 -> 11
A5: 01-003-20 | B5: PACÍFICO | C5: ASPROBALBOA | D5: 0 | E5: 0 | F5: 1 | G5: 1 | H5: 1 | I5: 1 | J5: 1 | K5: 0 | L5: 0 | M5: 1 | N5: 1 | O5: 1 | P5: 1 | Q5: 1 | R5: 1 | S5: =SUM(D5:Q5) -> 10 | T5: =SUM(R5) -> 1 | U5: =S5+T5 -> 11
A6: 01-004-20 | B6: PACÍFICO | C6: ASPROPAPA TOTORO | D6: 0 | E6: 0 | F6: 1 | G6: 1 | H6: 1 | I6: 1 | J6: 1 | K6: 0 | L6: 0 | M6: 1 | N6: 1 | O6: 1 | P6: 1 | Q6: 1 | R6: 1 | S6: =SUM(D6:Q6) -> 10 | T6: =SUM(R6) -> 1 | U6: =S6+T6 -> 11
A7: 01-005-20 | B7: PACÍFICO | C7: APROPESCA | D7: 0 | E7: 0 | F7: 1 | G7: 1 | H7: 1 | I7: 1 | J7: 1 | K7: 0 | L7: 0 | M7: 1 | N7: 1 | O7: 1 | P7: 1 | Q7: 1 | R7: 1 | S7: =SUM(D7:Q7) -> 10 | T7: =SUM(R7) -> 1 | U7: =S7+T7 -> 11
A8: 01-006-20 | B8: PACÍFICO | C8: APEGANCABI | D8: 0 | E8: 0 | F8: 1 | G8: 1 | H8: 1 | I8: 1 | J8: 1 | K8: 0 | L8: 0 | M8: 1 | N8: 1 | O8: 1 | P8: 1 | Q8: 1 | R8: 1 | S8: =SUM(D8:Q8) -> 10 | T8: =SUM(R8) -> 1 | U8: =S8+T8 -> 11
A9: 01-007-20 | B9: PACÍFICO | C9: FUNMUFROT | D9: 0 | E9: 0 | F9: 1 | G9: 1 | H9: 1 | I9: 1 | J9: 1 | K9: 0 | L9: 0 | M9: 1 | N9: 1 | O9: 1 | P9: 1 | Q9: 1 | R9: 1 | S9: =SUM(D9:Q9) -> 10 | T9: =SUM(R9) -> 1 | U9: =S9+T9 -> 11
A10: 01-008-20 | B10: PACÍFICO | C10: ASOAPAZ | D10: 0 | E10: 0 | F10: 1 | G10: 1 | H10: 1 | I10: 1 | J10: 1 | K10: 0 | L10: 0 | M10: 1 | N10: 1 | O10: 1 | P10: 1 | Q10: 1 | R10: 1 | S10: =SUM(D10:Q10) -> 10 | T10: =SUM(R10) -> 1 | U10: =S10+T10 -> 11
A11: 01-009-20 | B11: PACÍFICO | C11: ASAGRAMPI | D11: 0 | E11: 0 | F11: 1 | G11: 1 | H11: 1 | I11: 1 | J11: 1 | K11: 0 | L11: 0 | M11: 1 | N11: 1 | O11: 1 | P11: 1 | Q11: 1 | R11: 1 | S11: =SUM(D11:Q11) -> 10 | T11: =SUM(R11) -> 1 | U11: =S11+T11 -> 11
A12: 01-010-20 | B12: PACÍFICO | C12: COONOGALES | D12: 0 | E12: 0 | F12: 1 | G12: 1 | H12: 1 | I12: 1 | J12: 1 | K12: 0 | L12: 0 | M12: 1 | N12: 1 | O12: 1 | P12: 1 | Q12: 1 | R12: 1 | S12: =SUM(D12:Q12) -> 10 | T12: =SUM(R12) -> 1 | U12: =S12+T12 -> 11
A13: 01-011-20 | B13: PACÍFICO | C13: NASAFRUT | D13: 0 | E13: 0 | F13: 1 | G13: 1 | H13: 1 | I13: 1 | J13: 1 | K13: 0 | L13: 0 | M13: 1 | N13: 1 | O13: 1 | P13: 0 | Q13: 1 | R13: 1 | S13: =SUM(D13:R13) -> 10 | T13: 0 | U13: =S13+T13 -> 10
A14: 01-012-20 | B14: PACÍFICO | C14: ASOAGROTCH | D14: 0 | E14: 0 | F14: 1 | G14: 1 | H14: 1 | I14: 1 | J14: 1 | K14: 0 | L14: 0 | M14: 1 | N14: 1 | O14: 1 | P14: 1 | Q14: 1 | R14: 1 | S14: =SUM(D14:Q14) -> 10 | T14: =SUM(R14) -> 1 | U14: =S14+T14 -> 11
A15: 01-013-20 | B15: PACÍFICO | C15: ASOINAP | D15: 0 | E15: 0 | F15: 1 | G15: 1 | H15: 1 | I15: 1 | J15: 1 | K15: 0 | L15: 0 | M15: 1 | N15: 1 | O15: 1 | P15: 0 | Q15: 1 | R15: 1 | S15: =SUM(D15:R15) -> 10 | T15: 0 | U15: =S15+T15 -> 10
A16: 01-014-20 | B16: PACÍFICO | C16: ASOMEAG | D16: 0 | E16: 0 | F16: 1 | G16: 1 | H16: 1 | I16: 1 | J16: 1 | K16: 0 | L16: 0 | M16: 1 | N16: 1 | O16: 1 | P16: 1 | Q16: 1 | R16: 0 | S16: =SUM(D16:Q16) -> 10 | T16: =SUM(R16) -> 0 | U16: =S16+T16 -> 10
A17: 01-015-20 | B17: PACÍFICO | C17: ASOVICOPAL | D17: 0 | E17: 0 | F17: 1 | G17: 1 | H17: 1 | I17: 1 | J17: 1 | K17: 0 | L17: 0 | M17: 0 | N17: 0 | O17: 0 | P17: 0 | Q17: 0 | R17: 0 | S17: =SUM(D17:Q17) -> 5 | T17: =SUM(R17) -> 0 | U17: =S17+T17 -> 5
A18: 01-016-20 | B18: PACÍFICO | C18: ASPROAGROPESQH | D18: 0 | E18: 0 | F18: 1 | G18: 1 | H18: 1 | I18: 1 | J18: 1 | K18: 0 | L18: 0 | M18: 1 | N18: 1 | O18: 1 | P18: 1 | Q18: 1 | R18: 0 | S18: =SUM(D18:Q18) -> 10 | T18: =SUM(R18) -> 0 | U18: =S18+T18 -> 10
A19: 01-017-20 | B19: PACÍFICO | C19: ASOPROPIÑALAU | D19: 0 | E19: 0 | F19: 1 | G19: 1 | H19: 1 | I19: 1 | J19: 1 | K19: 0 | L19: 0 | M19: 1 | N19: 1 | O19: 1 | P19: 1 | Q19: 1 | R19: 1 | S19: =SUM(D19:Q19) -> 10 | T19: =SUM(R19) -> 1 | U19: =S19+T19 -> 11
A20: 01-018-20 | B20: PACÍFICO | C20: FORJANDO FUTURO | D20: 0 | E20: 0 | F20: 1 | G20: 1 | H20: 1 | I20: 1 | J20: 1 | K20: 0 | L20: 0 | M20: 1 | N20: 1 | O20: 1 | P20: 1 | Q20: 1 | R20: 1 | S20: =SUM(D20:Q20) -> 10 | T20: =SUM(R20) -> 1 | U20: =S20+T20 -> 11
A21: 01-019-20 | B21: PACÍFICO | C21: SAN NICOLAS | D21: 0 | E21: 0 | F21: 1 | G21: 1 | H21: 1 | I21: 1 | J21: 1 | K21: 0 | L21: 0 | M21: 1 | N21: 1 | O21: 1 | P21: 1 | Q21: 1 | R21: 1 | S21: =SUM(D21:Q21) -> 10 | T21: =SUM(R21) -> 1 | U21: =S21+T21 -> 11
A22: 01-020-20 | B22: PACÍFICO | C22: EL CAMPAMENTO | D22: 0 | E22: 0 | F22: 1 | G22: 1 | H22: 1 | I22: 1 | J22: 1 | K22: 0 | L22: 0 | M22: 1 | N22: 1 | O22: 1 | P22: 1 | Q22: 1 | R22: 1 | S22: =SUM(D22:Q22) -> 10 | T22: =SUM(R22) -> 1 | U22: =S22+T22 -> 11
A23: 01-021-20 | B23: PACÍFICO | C23: AMFIPAR | D23: 0 | E23: 0 | F23: 1 | G23: 1 | H23: 1 | I23: 1 | J23: 1 | K23: 0 | L23: 0 | M23: 1 | N23: 1 | O23: 1 | P23: 1 | Q23: 1 | R23: 1 | S23: =SUM(D23:Q23) -> 10 | T23: =SUM(R23) -> 1 | U23: =S23+T23 -> 11
A24: 01-022-20 | B24: PACÍFICO | C24: CANTON DE SAN PABLO | D24: 0 | E24: 0 | F24: 1 | G24: 1 | H24: 1 | I24: 1 | J24: 1 | K24: 0 | L24: 0 | M24: 1 | N24: 0 | O24: 0 | P24: 0 | Q24: 0 | R24: 0 | S24: =SUM(D24:Q24) -> 6 | T24: =SUM(R24) -> 0 | U24: =S24+T24 -> 6
A25: 01-023-20 | B25: PACÍFICO | C25: EL MANZANO | D25: 0 | E25: 0 | F25: 1 | G25: 1 | H25: 1 | I25: 1 | J25: 1 | K25: 0 | L25: 0 | M25: 1 | N25: 1 | O25: 1 | P25: 1 | Q25: 1 | R25: 1 | S25: =SUM(D25:Q25) -> 10 | T25: =SUM(R25) -> 1 | U25: =S25+T25 -> 11
A26: 01-024-20 | B26: PACÍFICO | C26: ASOPPLAMUS | D26: 0 | E26: 0 | F26: 1 | G26: 1 | H26: 1 | I26: 1 | J26: 1 | K26: 0 | L26: 0 | M26: 1 | N26: 1 | O26: 1 | P26: 1 | Q26: 1 | R26: 1 | S26: =SUM(D26:Q26) -> 10 | T26: =SUM(R26) -> 1 | U26: =S26+T26 -> 11
A27: 01-025-20 | B27: PACÍFICO | C27: ASOFACASJO - CHOCOCITO | D27: 0 | E27: 0 | F27: 1 | G27: 1 | H27: 1 | I27: 1 | J27: 1 | K27: 0 | L27: 0 | M27: 1 | N27: 1 | O27: 1 | P27: 1 | Q27: 1 | R27: 1 | S27: =SUM(D27:Q27) -> 10 | T27: =SUM(R27) -> 1 | U27: =S27+T27 -> 11
A28: 01-026-20 | B28: PACÍFICO | C28: LOS ESPINELEROS | D28: 0 | E28: 0 | F28: 1 | G28: 1 | H28: 1 | I28: 1 | J28: 1 | K28: 0 | L28: 0 | M28: 1 | N28: 1 | O28: 1 | P28: 1 | Q28: 1 | R28: 0 | S28: =SUM(D28:Q28) -> 10 | T28: =SUM(R28) -> 0 | U28: =S28+T28 -> 10
C29: Total x Mes | D29: =SUM(D3:D28) -> 0 | E29: =SUM(E3:E28) -> 0 | F29: =SUM(F3:F28) -> 26 | G29: =SUM(G3:G28) -> 26 | H29: =SUM(H3:H28) -> 26 | I29: =SUM(I3:I28) -> 26 | J29: =SUM(J3:J28) -> 26 | K29: =SUM(K3:K28) -> 0 | ... T29: =SUM(T3:T28) -> 19 | U29: =S29+T29 -> 270
U30: =SUM(D29:R29) -> 270
A31: MONITOREOS FASE II
A32: No. CONVENIO MARD | B32: REGIONAL | C32: ALIANZA | D32: 44531 | E32: 44562 | F32: 44593 | G32: 44621 | H32: 44652 | I32: 44682 | J32: 44713 | K32: 44743 | L32: 44774 | M32: 44805 | N32: 44835 | O32: 44866 | P32: 44896 | Q32: 44927 | R32: 44958 | S32: TOTAL
A33: 01-013-21 | B33: PACÍFICO | C33: ASPROLG | D33: 1 | J33: 1 | K33: 1 | S33: =SUM(D33:N33) -> 3
A34: 01-007-21 | B34: PACÍFICO | C34: ASOAGROAM | D34: 1 | J34: 1 | K34: 1 | S34: =SUM(D34:N34) -> 3
A35: 01-005-21 | B35: PACÍFICO | C35: ACP | D35: 1 | J35: 1 | K35: 1 | S35: =SUM(D35:N35) -> 3
A36: 01-037-21 | B36: PACÍFICO | C36: ASOCOCAR | D36: 1 | J36: 1 | K36: 1 | S36: =SUM(D36:N36) -> 3
A37: 01-003-21 | B37: PACÍFICO | C37: ASPROMIEL | D37: 1 | J37: 1 | K37: 0 | S37: =SUM(D37:N37) -> 2
A38: 01-058-21 | B38: PACÍFICO | C38: ASONUESPA | D38: 1 | J38: 1 | K38: 1 | S38: =SUM(D38:N38) -> 3
A39: 01-073-21 | B39: PACÍFICO | C39: ASOMAMOCUER | D39: 1 | J39: 1 | K39: 1 | S39: =SUM(D39:N39) -> 3
A40: 01-004-21 | B40: PACÍFICO | C40: ASOMUBO | D40: 1 | J40: 1 | K40: 1 | S40: =SUM(D40:N40) -> 3
...

Sheet Eje Cafetero
A1: MONITOREOS FASE I
A2: No. CONVENIO MARD | B2: REGIONAL | C2: ALIANZA | D2: 44317 | E2: 44348 | F2: 44378 | G2: 44409 | H2: 44440 | I2: 44470 | J2: 44501 | K2: 44531 | L2: 44562 | M2: 44593 | N2: 44621 | O2: 44652 | P2: 44682 | Q2: 44713 | R2: 44743 | S2: TOTAL 2021 | T2: TOTAL 2022 | U2: ACUMULADO ALIANZA
A3: 02-001-20 | B3: Eje Cafetero y Antioquia | C3: ASOPYCA | D3: 0 | E3: 0 | F3: 1 | G3: 1 | H3: 1 | I3: 1 | J3: 1 | K3: 1 | L3: 1 | M3: 1 | N3: 1 | O3: 1 | P3: 1 | Q3: 1 | S3: =SUM(D3:O3) -> 10 | T3: =SUM(P3:Q3) -> 2 | U3: =S3+T3 -> 12
A4: 02-002-20 | B4: Eje Cafetero y Antioquia | C4: PROCORD | D4: 0 | E4: 0 | F4: 1 | G4: 1 | H4: 1 | I4: 1 | J4: 1 | K4: 1 | L4: 1 | M4: 1 | N4: 1 | O4: 1 | P4: 1 | Q4: 1 | S4: =SUM(D4:O4) -> 10 | T4: =SUM(P4:Q4) -> 2 | U4: =S4+T4 -> 12
A5: 02-003-20 | B5: Eje Cafetero y Antioquia | C5: ASPROFIL | D5: 0 | E5: 0 | F5: 1 | G5: 1 | H5: 1 | I5: 1 | J5: 1 | K5: 1 | L5: 1 | M5: 1 | N5: 1 | O5: 1 | P5: 1 | Q5: 1 | R5: 1 | S5: =SUM(D5:O5) -> 10 | T5: =SUM(P5:R5) -> 3 | U5: =S5+T5 -> 13
A6: 02-004-20 | B6: Eje Cafetero y Antioquia | C6: ASLUBEL | D6: 0 | E6: 0 | F6: 1 | G6: 1 | H6: 1 | I6: 1 | J6: 1 | K6: 1 | L6: 1 | M6: 1 | N6: 1 | O6: 1 | P6: 1 | Q6: 1 | S6: =SUM(D6:O6) -> 10 | T6: =SUM(P6:Q6) -> 2 | U6: =S6+T6 -> 12
A7: 02-005-20 | B7: Eje Cafetero y Antioquia | C7: AGROMUJER | D7: 0 | E7: 0 | F7: 1 | G7: 1 | H7: 1 | I7: 1 | J7: 1 | K7: 1 | L7: 1 | M7: 1 | N7: 1 | O7: 1 | P7: 1 | Q7: 1 | S7: =SUM(D7:O7) -> 10 | T7: =SUM(P7:R7) -> 2 | U7: =S7+T7 -> 12
A8: 02-006-20 | B8: Eje Cafetero y Antioquia | C8: ASOPLAD | D8: 0 | E8: 0 | F8: 1 | G8: 1 | H8: 1 | I8: 1 | J8: 1 | K8: 1 | L8: 1 | M8: 1 | N8: 1 | O8: 1 | P8: 1 | Q8: 1 | R8: 1 | S8: =SUM(D8:O8) -> 10 | T8: =SUM(P8:R8) -> 3 | U8: =S8+T8 -> 13
A9: 02-007-20 | B9: Eje Cafetero y Antioquia | C9: AMMUCAMP | D9: 0 | E9: 0 | F9: 1 | G9: 1 | H9: 1 | I9: 1 | J9: 1 | K9: 1 | L9: 1 | M9: 1 | N9: 1 | O9: 1 | P9: 1 | Q9: 1 | R9: 1 | S9: =SUM(D9:O9) -> 10 | T9: =SUM(P9:R9) -> 3 | U9: =S9+T9 -> 13
A10: 02-008-20 | B10: Eje Cafetero y Antioquia | C10: AMMUCID | D10: 0 | E10: 0 | F10: 1 | G10: 1 | H10: 1 | I10: 1 | J10: 1 | K10: 1 | L10: 1 | M10: 1 | N10: 1 | O10: 1 | P10: 1 | Q10: 1 | R10: 1 | S10: =SUM(D10:O10) -> 10 | T10: =SUM(P10:R10) -> 3 | U10: =S10+T10 -> 13
A11: 02-009-20 | B11: Eje Cafetero y Antioquia | C11: ASPLABEL | D11: 0 | E11: 0 | F11: 1 | G11: 1 | H11: 1 | I11: 1 | J11: 1 | K11: 1 | L11: 1 | M11: 1 | N11: 1 | O11: 1 | P11: 1 | Q11: 1 | R11: 1 | S11: =SUM(D11:O11) -> 10 | T11: =SUM(P11:R11) -> 3 | U11: =S11+T11 -> 13
A12: 02-010-20 | B12: Eje Cafetero y Antioquia | C12: ASOMUMA | D12: 0 | E12: 0 | F12: 1 | G12: 1 | H12: 1 | I12: 1 | J12: 1 | K12: 1 | L12: 1 | M12: 1 | N12: 1 | O12: 1 | P12: 1 | Q12: 1 | R12: 1 | S12: =SUM(D12:O12) -> 10 | T12: =SUM(P12:R12) -> 3 | U12: =S12+T12 -> 13
A13: 02-011-20 | B13: Eje Cafetero y Antioquia | C13: ASGROCALMO | D13: 0 | E13: 0 | F13: 1 | G13: 1 | H13: 1 | I13: 1 | J13: 1 | K13: 1 | L13: 1 | M13: 1 | N13: 1 | O13: 1 | P13: 1 | Q13: 1 | S13: =SUM(D13:O13) -> 10 | T13: =SUM(P13:Q13) -> 2 | U13: =S13+T13 -> 12
A14: 02-012-20 | B14: Eje Cafetero y Antioquia | C14: APITASA | D14: 0 | E14: 0 | F14: 1 | G14: 1 | H14: 1 | I14: 1 | J14: 1 | K14: 1 | L14: 1 | M14: 1 | N14: 1 | O14: 1 | P14: 1 | Q14: 1 | R14: 1 | S14: =SUM(D14:O14) -> 10 | T14: =SUM(P14:R14) -> 3 | U14: =S14+T14 -> 13
A15: 02-013-20 | B15: Eje Cafetero y Antioquia | C15: FUNCOLAGRO | D15: 0 | E15: 0 | F15: 1 | G15: 1 | H15: 1 | I15: 1 | J15: 1 | K15: 1 | L15: 1 | M15: 1 | N15: 1 | O15: 1 | P15: 1 | Q15: 1 | R15: 1 | S15: =SUM(D15:O15) -> 10 | T15: =SUM(P15:R15) -> 3 | U15: =S15+T15 -> 13
A16: 02-014-20 | B16: Eje Cafetero y Antioquia | C16: ASPANOR | D16: 0 | E16: 0 | F16: 1 | G16: 1 | H16: 1 | I16: 1 | J16: 1 | K16: 1 | L16: 1 | M16: 1 | N16: 1 | O16: 1 | P16: 1 | Q16: 1 | S16: =SUM(D16:O16) -> 10 | T16: =SUM(P16:Q16) -> 2 | U16: =S16+T16 -> 12
A17: 02-015-20 | B17: Eje Cafetero y Antioquia | C17: ASOPROCHOER | D17: 0 | E17: 0 | F17: 1 | G17: 1 | H17: 1 | I17: 1 | J17: 1 | K17: 1 | L17: 1 | M17: 1 | N17: 1 | O17: 1 | P17: 1 | Q17: 1 | R17: 1 | S17: =SUM(D17:O17) -> 10 | T17: =SUM(P17:R17) -> 3 | U17: =S17+T17 -> 13
A18: 02-016-20 | B18: Eje Cafetero y Antioquia | C18: ASPROPHACAL | D18: 0 | E18: 0 | F18: 1 | G18: 1 | H18: 1 | I18: 1 | J18: 0 | K18: 0 | L18: 0 | M18: 0 | N18: 0 | O18: 0 | S18: =SUM(D18:P18) -> 4 | T18: =SUM(P18:Q18) -> 0 | U18: =S18+T18 -> 4
A19: 02-017-20 | B19: Eje Cafetero y Antioquia | C19: ASOPROMAC - ASOPROMARULAC | D19: 0 | E19: 0 | F19: 1 | G19: 1 | H19: 1 | I19: 1 | J19: 1 | K19: 1 | L19: 1 | M19: 1 | N19: 1 | O19: 1 | P19: 1 | Q19: 1 | S19: =SUM(D19:O19) -> 10 | T19: =SUM(P19:R19) -> 2 | U19: =S19+T19 -> 12
A20: 02-018-20 | B20: Eje Cafetero y Antioquia | C20: AFRICOLMENAS | D20: 0 | E20: 0 | F20: 1 | G20: 1 | H20: 1 | I20: 1 | J20: 1 | K20: 1 | L20: 1 | M20: 1 | N20: 1 | O20: 1 | P20: 1 | Q20: 1 | R20: 1 | S20: =SUM(D20:O20) -> 10 | T20: =SUM(P20:R20) -> 3 | U20: =S20+T20 -> 13
A21: 02-019-20 | B21: Eje Cafetero y Antioquia | C21: ASOGRAB | D21: 0 | E21: 0 | F21: 1 | G21: 1 | H21: 1 | I21: 1 | J21: 1 | K21: 1 | L21: 1 | M21: 1 | N21: 1 | O21: 1 | P21: 1 | Q21: 1 | R21: 1 | S21: =SUM(D21:O21) -> 10 | T21: =SUM(P21:R21) -> 3 | U21: =S21+T21 -> 13
A22: 02-020-20 | B22: Eje Cafetero y Antioquia | C22: ASOMUCHACHA | D22: 0 | E22: 0 | F22: 1 | G22: 1 | H22: 1 | I22: 1 | J22: 1 | K22: 1 | L22: 1 | M22: 1 | N22: 1 | O22: 1 | P22: 1 | Q22: 1 | R22: 1 | S22: =SUM(D22:O22) -> 10 | T22: =SUM(P22:R22) -> 3 | U22: =S22+T22 -> 13
A23: 02-021-20 | B23: Eje Cafetero y Antioquia | C23: OCCF | D23: 0 | E23: 0 | F23: 1 | G23: 1 | H23: 1 | I23: 1 | J23: 1 | K23: 1 | L23: 1 | M23: 1 | N23: 1 | O23: 1 | P23: 1 | Q23: 1 | R23: 1 | S23: =SUM(D23:O23) -> 10 | T23: =SUM(P23:R23) -> 3 | U23: =S23+T23 -> 13
A24: 02-022-20 | B24: Eje Cafetero y Antioquia | C24: PARAISO DE MUJER | D24: 0 | E24: 0 | F24: 1 | G24: 1 | H24: 1 | I24: 1 | J24: 1 | K24: 1 | L24: 1 | M24: 1 | N24: 1 | O24: 1 | P24: 1 | Q24: 1 | S24: =SUM(D24:O24) -> 10 | T24: =SUM(P24:Q24) -> 2 | U24: =S24+T24 -> 12
A25: 02-023-20 | B25: Eje Cafetero y Antioquia | C25: ASOPACO | D25: 0 | E25: 0 | F25: 1 | G25: 1 | H25: 1 | I25: 1 | J25: 1 | K25: 1 | L25: 1 | M25: 1 | N25: 1 | O25: 1 | P25: 1 | Q25: 1 | R25: 1 | S25: =SUM(D25:O25) -> 10 | T25: =SUM(P25:R25) -> 3 | U25: =S25+T25 -> 13
A26: 02-024-20 | B26: Eje Cafetero y Antioquia | C26: ASOAGROCORDILLERA | D26: 0 | E26: 0 | F26: 1 | G26: 1 | H26: 1 | I26: 1 | J26: 1 | K26: 1 | L26: 1 | M26: 1 | N26: 1 | O26: 1 | P26: 1 | Q26: 1 | R26: 1 | S26: =SUM(D26:O26) -> 10 | T26: =SUM(P26:R26) -> 3 | U26: =S26+T26 -> 13
A27: 02-025-20 | B27: Eje Cafetero y Antioquia | C27: ASOHORTICAS | D27: 0 | E27: 0 | F27: 1 | G27: 1 | H27: 1 | I27: 1 | J27: 1 | K27: 1 | L27: 1 | M27: 1 | N27: 0 | O27: 0 | S27: =SUM(D27:P27) -> 8 | T27: =SUM(P27:Q27) -> 0 | U27: =S27+T27 -> 8
A28: 02-026-20 | B28: Eje Cafetero y Antioquia | C28: ASOPROAGROPAR | D28: 0 | E28: 0 | F28: 1 | G28: 1 | H28: 1 | I28: 1 | J28: 1 | K28: 1 | L28: 1 | M28: 1 | N28: 1 | O28: 1 | P28: 1 | Q28: 1 | R28: 1 | S28: =SUM(D28:O28) -> 10 | T28: =SUM(P28:R28) -> 3 | U28: =S28+T28 -> 13
A29: 02-027-20 | B29: Eje Cafetero y Antioquia | C29: ASOPRODESPLA | D29: 0 | E29: 0 | F29: 1 | G29: 1 | H29: 1 | I29: 1 | J29: 1 | K29: 1 | L29: 1 | M29: 1 | N29: 1 | O29: 1 | P29: 1 | S29: =SUM(D29:O29) -> 10 | T29: =SUM(P29:Q29) -> 1 | U29: =S29+T29 -> 11
C30: Total x Mes | D30: =SUM(D3:D29) -> 0 | E30: =SUM(E3:E29) -> 0 | F30: =SUM(F3:F29) -> 27 | G30: =SUM(G3:G29) -> 27 | H30: =SUM(H3:H29) -> 27 | I30: =SUM(I3:I29) -> 27 | J30: =SUM(J3:J29) -> 26 | K30: =SUM(K3:K29) -> 26 | ... R30: =SUM(R3:R29) -> 16 | S30: =SUM(F30:O30) -> 262 | T30: =SUM(T3:T29) -> 65 | U30: =SUM(U3:U29) -> 327
U31: =S30+T30 -> 327
A33: MONITOREOS FASE II
A34: No. CONVENIO MARD | B34: REGIONAL | C34: ALIANZA | D34: 44531 | E34: 44562 | F34: 44593 | G34: 44621 | H34: 44652 | I34: 44682 | J34: 44713 | K34: 44743 | L34: 44774 | M34: 44805 | N34: 44835 | O34: 44866 | P34: 44896 | Q34: 44927 | R34: 44958 | S34: TOTAL 2021
A35: 02-041-21 | B35: EJE CAFETERO Y ANTIOQUIA | C35: PLANTAMOS FUTURO | D35: 1 | I35: 1 | J35: 1 | S35: =SUM(D35:R35) -> 3
A36: 02-047-21 | B36: EJE CAFETERO Y ANTIOQUIA | C36: ASOCIACIÓN AGROPECUARIA TIERRA GRANDE | D36: 1 | K36: 1 | S36: =SUM(D36:R36) -> 2
A37: 02-060-21 | B37: EJE CAFETERO Y ANTIOQUIA | C37: ASOCACAOTEROS TÁMESIS | D37: 1 | K37: 1 | S37: =SUM(D37:R37) -> 2
A38: 02-045-21 | B38: EJE CAFETERO Y ANTIOQUIA | C38: ASOHASS NORTE | D38: 1 | I38: 1 | J38: 1 | S38: =SUM(D38:R38) -> 3
A39: 02-044-21 | B39: EJE CAFETERO Y ANTIOQUIA | C39: ASAPROL | D39: 1 | I39: 1 | J39: 1 | S39: =SUM(D39:R39) -> 3
A40: 02-059-21 | B40: EJE CAFETERO Y ANTIOQUIA | C40: ASOFAGUA | D40: 1 | H40: 1 | I40: 1 | J40: 1 | S40: =SUM(D40:R40) -> 4
A41: 02-036-21 | B41: EJE CAFETERO Y ANTIOQUIA | C41: AMESAA | D41: 1 | H41: 1 | I41: 1 | J41: 1 | S41: =SUM(D41:R41) -> 4
...

Sheet Caribe I
A1: MONITOREOS FASE I
A2: No. CONVENIO MARD | B2: REGIONAL | C2: ALIANZA | D2: 44317 | E2: 44348 | F2: 44378 | G2: 44409 | H2: 44440 | I2: 44470 | J2: 44501 | K2: 44531 | L2: 44562 | M2: 44593 | N2: 44621 | O2: 44652 | P2: 44682 | Q2: TOTAL 2020 | R2: TOTAL 2022 | S2: ACUMULADO ALIANZA
A3: 03-001-20 | B3: CARIBE 1 | C3: ASOMUDEPAS | D3: 0 | E3: 0 | F3: 0 | G3: 0 | H3: 0 | I3: 0 | J3: 0 | K3: 0 | L3: 0 | M3: 0 | N3: 0 | Q3: =SUM(D3:N3) -> 0 | R3: 0 | S3: =Q3+R3 -> 0
A4: 03-002-20 | B4: CARIBE 1 | C4: AMUSI | D4: 0 | E4: 1 | F4: 1 | G4: 1 | H4: 1 | I4: 1 | J4: 1 | K4: 1 | L4: 1 | M4: 1 | N4: 1 | O4: 1 | P4: 1 | Q4: =SUM(D4:N4) -> 10 | R4: =SUM(O4:P4) -> 2 | S4: =Q4+R4 -> 12
A5: 03-006-20 | B5: CARIBE 1 | C5: ASOMUVICA | D5: 1 | E5: 1 | F5: 1 | G5: 1 | H5: 1 | I5: 1 | J5: 1 | K5: 1 | L5: 1 | M5: 1 | N5: 1 | O5: 1 | P5: 1 | Q5: =SUM(D5:M5) -> 10 | R5: =SUM(N5:P5) -> 3 | S5: =Q5+R5 -> 13
A6: 03-016-20 | B6: CARIBE 1 | C6: FUNGACAM | D6: 0 | E6: 1 | F6: 1 | G6: 1 | H6: 1 | I6: 1 | J6: 1 | K6: 1 | L6: 1 | M6: 1 | N6: 1 | O6: 1 | P6: 1 | Q6: =SUM(D6:N6) -> 10 | R6: =SUM(O6:P6) -> 2 | S6: =Q6+R6 -> 12
A7: 03-017-20 | B7: CARIBE 1 | C7: AMERPOL | D7: 0 | E7: 1 | F7: 1 | G7: 1 | H7: 1 | I7: 1 | J7: 1 | K7: 1 | L7: 1 | M7: 1 | N7: 1 | O7: 1 | Q7: =SUM(D7:N7) -> 10 | R7: =SUM(O7:P7) -> 1 | S7: =Q7+R7 -> 11
A8: 03-018-20 | B8: CARIBE 1 | C8: ASOMUPEAUNISAL | D8: 0 | E8: 1 | F8: 1 | G8: 1 | H8: 1 | I8: 1 | J8: 1 | K8: 1 | L8: 1 | M8: 1 | N8: 1 | O8: 1 | P8: 1 | Q8: =SUM(D8:N8) -> 10 | R8: =SUM(O8:P8) -> 2 | S8: =Q8+R8 -> 12
A9: 03-021-20 | B9: CARIBE 1 | C9: ASOPACAPEC | D9: 0 | E9: 1 | F9: 1 | G9: 1 | H9: 1 | I9: 1 | J9: 1 | K9: 1 | L9: 1 | M9: 1 | N9: 1 | O9: 1 | P9: 1 | Q9: =SUM(D9:N9) -> 10 | R9: =SUM(O9:P9) -> 2 | S9: =Q9+R9 -> 12
A10: 03-022-20 | B10: CARIBE 1 | C10: ASOMURACO | D10: 0 | E10: 1 | F10: 1 | G10: 1 | H10: 1 | I10: 1 | J10: 1 | K10: 1 | L10: 1 | M10: 1 | N10: 1 | O10: 1 | Q10: =SUM(D10:N10) -> 10 | R10: =SUM(O10:P10) -> 1 | S10: =Q10+R10 -> 11
A11: 03-024-20 | B11: CARIBE 1 | C11: PECES DE SION | D11: 0 | E11: 1 | F11: 1 | G11: 1 | H11: 1 | I11: 1 | J11: 1 | K11: 1 | L11: 1 | M11: 1 | N11: 1 | O11: 1 | P11: 1 | Q11: =SUM(D11:N11) -> 10 | R11: =SUM(O11:P11) -> 2 | S11: =Q11+R11 -> 12
A12: 03-026-20 | B12: CARIBE 1 | C12: PORKBARANOA | D12: 0 | E12: 1 | F12: 1 | G12: 1 | H12: 1 | I12: 1 | J12: 1 | K12: 1 | Q12: =SUM(D12:O12) -> 7 | S12: =Q12+R12 -> 7
A13: 04-003-20 | B13: CARIBE 1 | C13: LA UNION DEL CAMPO | D13: 0 | E13: 1 | F13: 1 | G13: 1 | H13: 1 | I13: 1 | J13: 1 | K13: 1 | Q13: =SUM(D13:O13) -> 7 | S13: =Q13+R13 -> 7
A14: 04-004-20 | B14: CARIBE 1 | C14: ASOCITRICOS | D14: 0 | E14: 0 | F14: 0 | G14: 1 | H14: 1 | I14: 1 | J14: 1 | K14: 1 | L14: 1 | M14: 1 | N14: 1 | O14: 1 | P14: 1 | Q14: =SUM(D14:P14) -> 10 | S14: =Q14+R14 -> 10
A15: 04-006-20 | B15: CARIBE 1 | C15: ASODELTOCO | D15: 0 | E15: 1 | F15: 1 | G15: 1 | H15: 1 | I15: 1 | J15: 0 | K15: 0 | Q15: =SUM(D15:N15) -> 5 | R15: 0 | S15: =Q15+R15 -> 5
A16: 04-021-20 | B16: CARIBE 1 | C16: RAIZAL YOUTH | D16: 0 | E16: 0 | F16: 0 | G16: 1 | H16: 1 | I16: 1 | J16: 1 | K16: 1 | Q16: =SUM(D16:N16) -> 5 | R16: 0 | S16: =Q16+R16 -> 5
A17: 04-022-20 | B17: CARIBE 1 | C17: NEW DAWN | D17: 0 | E17: 0 | F17: 0 | G17: 1 | H17: 1 | I17: 1 | J17: 1 | K17: 1 | Q17: =SUM(D17:N17) -> 5 | R17: 0 | S17: =Q17+R17 -> 5
A18: 04-023-20 | B18: CARIBE 1 | C18: ECOFARMERS | D18: 0 | E18: 0 | F18: 1 | G18: 1 | H18: 1 | I18: 1 | J18: 1 | K18: 0 | Q18: =SUM(D18:N18) -> 5 | R18: 0 | S18: =Q18+R18 -> 5
A19: 04-024-20 | B19: CARIBE 1 | C19: ASOPROAGRO | D19: 0 | E19: 0 | F19: 0 | G19: 1 | H19: 1 | I19: 1 | J19: 1 | K19: 1 | L19: 1 | M19: 1 | N19: 1 | O19: 1 | Q19: =SUM(D19:O19) -> 9 | S19: =Q19+R19 -> 9
A20: 04-025-20 | B20: CARIBE 1 | C20: GREA | D20: 0 | E20: 1 | F20: 1 | G20: 1 | H20: 1 | I20: 1 | J20: 1 | K20: 1 | Q20: =SUM(D20:N20) -> 7 | S20: =Q20+R20 -> 7
C21: Total x Mes | D21: =SUM(D3:D20) -> 1 | E21: =SUM(E3:E20) -> 12 | F21: =SUM(F3:F20) -> 13 | G21: =SUM(G3:G20) -> 17 | H21: =SUM(H3:H20) -> 17 | I21: =SUM(I3:I20) -> 17 | J21: =SUM(J3:J20) -> 16 | K21: =SUM(K3:K20) -> 15 | ... S21: =SUM(S3:S20) -> 155
S22: =SUM(D21:P21) -> 155
A24: MONITOREOS FASE II
A25: No. CONVENIO MARD | B25: REGIONAL | C25: ALIANZA | D25: 44531 | E25: 44562 | F25: 44593 | G25: 44621 | H25: 44652 | I25: 44682 | J25: 44713 | K25: 44743 | L25: 44774 | M25: 44805 | N25: 44835 | O25: 44866 | P25: 44896 | Q25: TOTAL
A26: 03-052-21 | B26: CARIBE 1 | C26: PROFUTAL EAT | D26: 1 | E26: 0 | F26: 0 | G26: 0 | H26: 1 | I26: 1 | Q26: =SUM(D26:N26) -> 3
A27: 03-042-21 | B27: CARIBE 1 | C27: ASMUCOSORURAL | D27: 1 | E27: 0 | F27: 0 | G27: 0 | H27: 1 | I27: 1 | Q27: =SUM(D27:N27) -> 3
A28: 03-053-21 | B28: CARIBE 1 | C28: ASOCOSTERA | D28: 1 | E28: 0 | F28: 0 | G28: 0 | I28: 1 | Q28: =SUM(D28:N28) -> 2
A29: 03-054-21 | B29: CARIBE 1 | C29: ASOGAPOL | D29: 1 | E29: 0 | F29: 0 | G29: 0 | I29: 1 | Q29: =SUM(D29:N29) -> 2
A30: 03-055-21 | B30: CARIBE 1 | C30: ASOMURACO | D30: 1 | E30: 0 | F30: 0 | G30: 0 | L30: 1 | Q30: =SUM(D30:N30) -> 2
A31: 03-051-21 | B31: CARIBE 1 | C31: ASOMUPIASAG | D31: 1 | E31: 0 | F31: 0 | G31: 0 | I31: 1 | Q31: =SUM(D31:N31) -> 2
A32: 03-049-21 | B32: CARIBE 1 | C32: ASOMUPIASAG | D32: 1 | E32: 0 | F32: 0 | G32: 0 | I32: 1 | Q32: =SUM(D32:N32) -> 2
A33: 03-021-21 | B33: CARIBE 1 | C33: AFROPALMAR | D33: 1 | E33: 0 | F33: 0 | G33: 0 | H33: 1 | I33: 1 | Q33: =SUM(D33:N33) -> 3
A34: 03-016-21 | B34: CARIBE 1 | C34: ASOCAMPSUR | D34: 1 | E34: 0 | F34: 0 | G34: 0 | L34: 1 | Q34: =SUM(D34:N34) -> 2
A35: 03-015-21 | B35: CARIBE 1 | C35: ASOAVIMA | D35: 1 | E35: 0 | F35: 0 | G35: 0 | I35: 1 | Q35: =SUM(D35:N35) -> 2
A36: 03-019-21 | B36: CARIBE 1 | C36: ASOGANBAR | D36: 1 | E36: 0 | F36: 0 | G36: 0 | L36: 1 | Q36: =SUM(D36:N36) -> 2
A37: 03-022-21 | B37: CARIBE 1 | C37: ASOGUANBOSI | D37: 1 | E37: 0 | F37: 0 | G37: 0 | H37: 1 | L37: 1 | Q37: =SUM(D37:N37) -> 3
A38: 03-050-21 | B38: CARIBE 1 | C38: ASOMUPIASAG | D38: 1 | E38: 0 | F38: 0 | G38: 0 | K38: 1 | Q38: =SUM(D38:N38) -> 2
A39: 03-056-21 | B39: CARIBE 1 | C39: ASOMUPIASAG | D39: 1 | E39: 0 | F39: 0 | G39: 0 | K39: 1 | Q39: =SUM(D39:N39) -> 2
A40: 03-017-21 | B40: CARIBE 1 | C40: ASOCAMPRA | D40: 1 | E40: 0 | F40: 0 | G40: 0 | L40: 1 | Q40: =SUM(D40:N40) -> 2
A41: 03-024-21 | B41: CARIBE 1 | C41: ASOACUILAS | D41: 1 | E41: 0 | F41: 0 | G41: 0 | I41: 1 | K41: 1 | Q41: =SUM(D41:N41) -> 3
...

Sheet Caribe II
A1: MONITOREOS FASE I
A2: No. CONVENIO MARD | B2: REGIONAL | C2: ALIANZA | D2: 44317 | E2: 44348 | F2: 44378 | G2: 44409 | H2: 44440 | I2: 44470 | J2: 44501 | K2: 44531 | L2: 44562 | M2: 44593 | N2: 44621 | O2: 44652 | P2: 44682 | Q2: TOTAL
A3: 03-003-20 | B3: CARIBE 2 | C3: ASOPROLANA | D3: 0 | E3: 0 | F3: 0 | G3: 1 | H3: 1 | I3: 1 | J3: 1 | K3: 1 | L3: 1 | M3: 0 | N3: 0 | O3: 0 | P3: 0 | Q3: =SUM(D3:P3) -> 6
A4: 03-004-20 | B4: CARIBE 2 | C4: ASOCUIVA | D4: 0 | E4: 0 | F4: 0 | G4: 1 | H4: 1 | I4: 1 | J4: 1 | K4: 1 | L4: 1 | M4: 1 | N4: 1 | O4: 0 | P4: 0 | Q4: =SUM(D4:P4) -> 8
A5: 03-005-20 | B5: CARIBE 2 | C5: ANUC SINCE | D5: 0 | E5: 0 | F5: 0 | G5: 1 | H5: 1 | I5: 1 | J5: 1 | K5: 1 | L5: 1 | M5: 1 | N5: 1 | O5: 1 | P5: 1 | Q5: =SUM(D5:P5) -> 10
A6: 03-007-20 | B6: CARIBE 2 | C6: NUEVA SANTA INES | D6: 0 | E6: 0 | F6: 0 | G6: 1 | H6: 1 | I6: 1 | J6: 1 | K6: 1 | L6: 1 | M6: 1 | N6: 1 | O6: 1 | P6: 1 | Q6: =SUM(D6:P6) -> 10
A7: 03-008-20 | B7: CARIBE 2 | C7: ASPAPUY | D7: 0 | E7: 0 | F7: 0 | G7: 1 | H7: 1 | I7: 1 | J7: 1 | K7: 1 | L7: 1 | M7: 0 | N7: 0 | O7: 0 | P7: 0 | Q7: =SUM(D7:P7) -> 6
A8: 03-009-20 | B8: CARIBE 2 | C8: ASOJOPAZ | D8: 0 | E8: 0 | F8: 0 | G8: 1 | H8: 1 | I8: 1 | J8: 1 | K8: 1 | L8: 1 | M8: 1 | N8: 1 | O8: 1 | P8: 1 | Q8: =SUM(D8:P8) -> 10
A9: 03-010-20 | B9: CARIBE 2 | C9: ASOCAMDEL | D9: 0 | E9: 0 | F9: 0 | G9: 1 | H9: 1 | I9: 1 | J9: 1 | K9: 1 | L9: 1 | M9: 0 | N9: 0 | O9: 1 | P9: 1 | Q9: =SUM(D9:P9) -> 8
A10: 03-011-20 | B10: CARIBE 2 | C10: ASOPESAGRO | D10: 0 | E10: 0 | F10: 0 | G10: 1 | H10: 1 | I10: 1 | J10: 1 | K10: 1 | L10: 1 | M10: 1 | N10: 1 | O10: 1 | P10: 1 | Q10: =SUM(D10:P10) -> 10
A11: 03-012-20 | B11: CARIBE 2 | C11: ASOCIACION DEL CABILDO MENOR SAN ANTONIO | D11: 0 | E11: 0 | F11: 0 | G11: 1 | H11: 1 | I11: 1 | J11: 1 | K11: 1 | L11: 1 | M11: 1 | N11: 0 | O11: 0 | P11: 0 | Q11: =SUM(D11:P11) -> 7
A12: 03-013-20 | B12: CARIBE 2 | C12: EL GUAMAL | D12: 0 | E12: 0 | F12: 0 | G12: 1 | H12: 1 | I12: 1 | J12: 1 | K12: 1 | L12: 1 | M12: 1 | N12: 1 | O12: 1 | P12: 1 | Q12: =SUM(D12:P12) -> 10
A13: 03-014-20 | B13: CARIBE 2 | C13: ASOPLADEIN | D13: 0 | E13: 0 | F13: 0 | G13: 1 | H13: 1 | I13: 1 | J13: 1 | K13: 1 | L13: 1 | M13: 0 | N13: 0 | O13: 0 | P13: 0 | Q13: =SUM(D13:P13) -> 6
A14: 03-015-20 | B14: CARIBE 2 | C14: SKAMBRA | D14: 0 | E14: 0 | F14: 0 | G14: 1 | H14: 1 | I14: 1 | J14: 1 | K14: 1 | L14: 1 | M14: 1 | N14: 1 | O14: 1 | P14: 1 | Q14: =SUM(D14:P14) -> 10
... A33: 04-020-20 | B33: CARIBE 2 | C33: ECOMASPASO | D33: 0 | E33: 0 | F33: 0 | G33: 1 | H33: 1 | I33: 1 | J33: 1 | K33: 1 | L33: 1 | M33: 1 | N33: 1 | O33: 1 | P33: 0 | Q33: =SUM(D33:P33) -> 9
C34: Total x Mes | D34: =SUM(D3:D33) -> 0 | E34: =SUM(E3:E33) -> 0 | F34: =SUM(F3:F33) -> 0 | G34: =SUM(G3:G33) -> 31 | H34: =SUM(H3:H33) -> 31 | I34: =SUM(I3:I33) -> 31 | J34: =SUM(J3:J33) -> 31 | K34: =SUM(K3:K33) -> 28 | ... P34: =SUM(P3:P33) -> 13 | Q34: =SUM(F34:N34) -> 224
A37: MONITOREOS FASE II
A38: No. CONVENIO MARD | B38: REGIONAL | C38: ALIANZA | D38: 44531 | E38: 44562 | F38: 44593 | G38: 44621 | H38: 44652 | I38: 44682 | J38: 44713 | K38: 44743 | L38: 44774 | M38: 44805 | N38: 44835 | O38: 44866 | P38: 44896 | Q38: TOTAL
A39: 04-028-21 | B39: CARIBE 2 | C39: ASAPC | H39: 1 | I39: 1 | Q39: =SUM(D39:N39) -> 2
A40: 04-025-21 | B40: CARIBE 2 | C40: AAGROSAN | H40: 1 | I40: 1 | Q40: =SUM(D40:N40) -> 2
A41: 04-026-21 | B41: CARIBE 2 | C41: ASOAGROMIEL | H41: 1 | I41: 1 | Q41: =SUM(D41:N41) -> 2
A42: 04-024-21 | B42: CARIBE 2 | C42: ASALMAR | H42: 1 | I42: 1 | Q42: =SUM(D42:N42) -> 2
A43: 04-039-21 | B43: CARIBE 2 | C43: ASCADEL | H43: 1 | I43: 1 | Q43: =SUM(D43:N43) -> 2
A44: 04-065-21 | B44: CARIBE 2 | C44: ASOGACER | H44: 1 | I44: 0 | Q44: =SUM(D44:N44) -> 1
A45: 04-038-21 | B45: CARIBE 2 | C45: GANASAN | H45: 1 | I45: 1 | Q45: =SUM(D45:N45) -> 2
A46: 04-018-21 | B46: CARIBE 2 | C46: ASPROAPIBI | H46: 1 | I46: 1 | Q46: =SUM(D46:N46) -> 2
A47: 04-042-21 | B47: CARIBE 2 | C47: ASPHAS | H47: 1 | I47: 1 | Q47: =SUM(D47:N47) -> 2
A48: 04-044-21 | B48: CARIBE 2 | C48: APROPESCAM | H48: 1 | I48: 1 | Q48: =SUM(D48:N48) -> 2
A49: 04-058-21 | B49: CARIBE 2 | C49: ASOMAGAM | H49: 1 | I49: 1 | Q49: =SUM(D49:N49) -> 2
A50: 04-017-21 | B50: CARIBE 2 | C50: ASOVICAMPRO | H50: 1 | I50: 1 | Q50: =SUM(D50:N50) -> 2
... A107: 04-033-21 | B107: CARIBE 2 | C107: MUPROMAG | H107: 1 | I107: 1 | Q107: =SUM(D107:N107) -> 2
C108: Total x Mes | D108: =SUM(D77:D107) -> 0 | E108: =SUM(E39:E107) -> 0 | F108: =SUM(F39:F107) -> 0 | G108: =SUM(G39:G107) -> 0 | H108: =SUM(H39:H107) -> 69 | I108: =SUM(I39:I107) -> 61 | J108: =SUM(J39:J107) -> 0 | K108: =SUM(K39:K107) -> 0 | L108: =SUM(L39:L107) -> 0 | ... N108: =SUM(N39:N107) -> 0 | Q108: =SUM(F108:N108) -> 130
A111: Equipo BASE
A112: 44287 | B112: OK | C112: 189000000
A113: 44317 | B113: OK
A114: 44348 | B114: OK
A115: 44378 | B115: OK
A116: 44409 | B116: OK
A117: 44440 | B117: OK
A118: 44470 | B118: OK | C118: 31500000
...

Sheet Central
A1: MONITOREOS FASE I
A2: No. CONVENIO MARD | B2: REGIONAL | C2: ALIANZA | D2: 44317 | E2: 44348 | F2: 44378 | G2: 44409 | H2: 44440 | I2: 44470 | J2: 44501 | K2: 44531 | L2: 44562 | M2: 44593 | N2: 44621 | O2: 44652 | P2: 44682 | Q2: 44713 | R2: TOTAL
A3: 05-001-20 | B3: CENTRAL | C3: ASOAGROMOT | D3: 0 | E3: 0 | F3: 1 | G3: 1 | H3: 1 | I3: 1 | J3: 1 | M3: 1 | N3: 1 | O3: 1 | R3: =SUM(D3:Q3) -> 8
A4: 05-002-20 | B4: CENTRAL | C4: USOCHICAMOCHA | D4: 0 | E4: 0 | F4: 1 | G4: 1 | H4: 1 | I4: 1 | J4: 1 | M4: 1 | N4: 1 | R4: =SUM(D4:Q4) -> 7
A5: 05-003-20 | B5: CENTRAL | C5: COOCAMPO | D5: 0 | E5: 0 | F5: 1 | G5: 1 | H5: 1 | I5: 1 | J5: 1 | M5: 1 | N5: 1 | O5: 1 | P5: 1 | Q5: 1 | R5: =SUM(D5:Q5) -> 10
A6: 05-004-20 | B6: CENTRAL | C6: ASFRUHOBO | D6: 0 | E6: 0 | F6: 1 | G6: 1 | H6: 1 | I6: 1 | J6: 1 | M6: 1 | N6: 1 | O6: 1 | R6: =SUM(D6:Q6) -> 8
A7: 05-005-20 | B7: CENTRAL | C7: ASOHORTICULTORAS | D7: 0 | E7: 0 | F7: 1 | G7: 1 | H7: 1 | I7: 1 | J7: 1 | M7: 1 | N7: 1 | O7: 1 | P7: 1 | Q7: 1 | R7: =SUM(D7:Q7) -> 10
A8: 05-006-20 | B8: CENTRAL | C8: ASOPRIACHIGUS | D8: 0 | E8: 0 | F8: 1 | G8: 1 | H8: 1 | I8: 1 | J8: 1 | M8: 1 | N8: 1 | O8: 1 | R8: =SUM(D8:Q8) -> 8
A9: 05-007-20 | B9: CENTRAL | C9: ASOAGROPEL | D9: 0 | E9: 0 | F9: 1 | G9: 1 | H9: 1 | I9: 1 | J9: 1 | M9: 1 | N9: 1 | O9: 1 | P9: 1 | R9: =SUM(D9:Q9) -> 9
A10: 05-008-20 | B10: CENTRAL | C10: ASOPROPADI | D10: 0 | E10: 0 | F10: 1 | G10: 1 | H10: 1 | I10: 1 | J10: 1 | M10: 1 | N10: 1 | O10: 1 | P10: 1 | R10: =SUM(D10:Q10) -> 9
A11: 05-009-20 | B11: CENTRAL | C11: CERRO CHIFLON | D11: 0 | E11: 0 | F11: 1 | G11: 1 | H11: 1 | I11: 1 | J11: 1 | M11: 1 | N11: 1 | O11: 1 | R11: =SUM(D11:Q11) -> 8
A12: 05-010-20 | B12: CENTRAL | C12: ASPROPLABAP | D12: 0 | E12: 0 | F12: 1 | G12: 1 | H12: 1 | I12: 1 | J12: 1 | M12: 1 | N12: 1 | O12: 1 | R12: =SUM(D12:Q12) -> 8
A13: 05-011-20 | B13: CENTRAL | C13: AGRO-SANTUARIO | D13: 0 | E13: 0 | F13: 1 | G13: 1 | H13: 1 | I13: 1 | J13: 1 | M13: 1 | N13: 1 | O13: 1 | P13: 1 | R13: =SUM(D13:Q13) -> 9
A14: 05-012-20 | B14: CENTRAL | C14: ASOMUFRES | D14: 0 | E14: 0 | F14: 1 | G14: 1 | H14: 1 | I14: 1 | J14: 1 | M14: 1 | N14: 1 | O14: 1 | R14: =SUM(D14:Q14) -> 8
A15: 05-013-20 | B15: CENTRAL | C15: COOUMBIPAPA | D15: 0 | E15: 0 | F15: 1 | G15: 1 | H15: 1 | I15: 1 | J15: 1 | M15: 1 | N15: 1 | O15: 1 | R15: =SUM(D15:Q15) -> 8
A16: 05-014-20 | B16: CENTRAL | C16: ASFRUHER | D16: 0 | E16: 0 | F16: 1 | G16: 1 | H16: 1 | I16: 1 | J16: 1 | M16: 1 | N16: 1 | R16: =SUM(D16:Q16) -> 7
A17: 05-015-20 | B17: CENTRAL | C17: AGROUNION VEGONEZ | D17: 0 | E17: 0 | F17: 1 | G17: 1 | H17: 1 | I17: 1 | J17: 1 | M17: 1 | N17: 1 | O17: 1 | R17: =SUM(D17:Q17) -> 8
A18: 05-016-20 | B18: CENTRAL | C18: ASOPROMECOL | D18: 0 | E18: 0 | F18: 1 | G18: 1 | H18: 1 | I18: 1 | J18: 1 | M18: 1 | N18: 1 | O18: 1 | R18: =SUM(D18:Q18) -> 8
A19: 05-017-20 | B19: CENTRAL | C19: COOPROCAFES | D19: 0 | E19: 0 | F19: 1 | G19: 1 | H19: 1 | I19: 1 | J19: 1 | M19: 1 | N19: 1 | O19: 1 | P19: 1 | R19: =SUM(D19:Q19) -> 9
A20: 05-018-20 | B20: CENTRAL | C20: ASOGANALP | D20: 0 | E20: 0 | F20: 1 | G20: 1 | H20: 1 | I20: 1 | J20: 1 | M20: 1 | N20: 1 | O20: 1 | R20: =SUM(D20:Q20) -> 8
A21: 05-019-20 | B21: CENTRAL | C21: ADIMCOL | D21: 0 | E21: 0 | F21: 1 | G21: 1 | H21: 1 | I21: 1 | J21: 1 | M21: 1 | N21: 1 | O21: 1 | R21: =SUM(D21:Q21) -> 8
A22: 05-020-20 | B22: CENTRAL | C22: ASOHOFRUP | D22: 0 | E22: 0 | F22: 1 | G22: 1 | H22: 1 | I22: 1 | J22: 1 | M22: 1 | N22: 1 | O22: 1 | P22: 1 | Q22: 1 | R22: =SUM(D22:Q22) -> 10
A23: 05-021-20 | B23: CENTRAL | C23: ECOHORTALIZAS | D23: 0 | E23: 0 | F23: 1 | G23: 1 | H23: 1 | I23: 1 | J23: 1 | M23: 1 | N23: 1 | O23: 1 | P23: 1 | R23: =SUM(D23:Q23) -> 9
A24: 05-022-20 | B24: CENTRAL | C24: APAACEGUTOL | D24: 0 | E24: 0 | F24: 1 | G24: 1 | H24: 1 | I24: 1 | J24: 1 | M24: 1 | N24: 1 | O24: 1 | R24: =SUM(D24:Q24) -> 8
C25: Total x Mes | D25: =SUM(D3:D24) -> 0 | E25: =SUM(E3:E24) -> 0 | F25: =SUM(F3:F24) -> 22 | G25: =SUM(G3:G24) -> 22 | H25: =SUM(H3:H24) -> 22 | I25: =SUM(I3:I24) -> 22 | J25: =SUM(J3:J24) -> 22 | K25: =SUM(K3:K24) -> 0 | ... Q25: =SUM(Q3:Q24) -> 3 | R25: =SUM(E25:Q25) -> 185
A28: MONITOREOS FASE II
A29: No. CONVENIO MARD | B29: REGIONAL | C29: ALIANZA | D29: 44531 | E29: 44562 | F29: 44593 | G29: 44621 | H29: 44652 | I29: 44682 | J29: 44713 | K29: 44743 | L29: 44774 | M29: 44805 | N29: 44835 | O29: 44866 | P29: 44896 | Q29: 44927 | R29: TOTAL
A30: 05-066-21 | B30: CENTRAL | C30: ASOADECER | D30: 1 | J30: 1 | R30: =SUM(D30:Q30) -> 2
A31: 05-063-21 | B31: CENTRAL | C31: ASOGANACHI | D31: 1 | J31: 1 | R31: =SUM(D31:Q31) -> 2
A32: 05-002-21 | B32: CENTRAL | C32: APIA-NUBA | D32: 1 | R32: =SUM(D32:Q32) -> 1
A33: 05-034-21 | B33: CENTRAL | C33: COOPREVERDECER | D33: 1 | J33: 1 | R33: =SUM(D33:Q33) -> 2
A34: 05-077-21 | B34: CENTRAL | C34: ASOLECHEROS | D34: 1 | R34: =SUM(D34:Q34) -> 1
A35: 05-001-21 | B35: CENTRAL | C35: ASOFRIMAC | D35: 1 | J35: 1 | R35: =SUM(D35:Q35) -> 2
A36: 05-067-21 | B36: CENTRAL | C36: ASOSABALECHE | D36: 1 | R36: =SUM(D36:Q36) -> 1
A37: 05-003-21 | B37: CENTRAL | C37: ASOFRUMORAS | D37: 1 | R37: =SUM(D37:Q37) -> 1
A38: 05-025-21 | B38: CENTRAL | C38: ASOOVICAP | D38: 1 | J38: 1 | R38: =SUM(D38:Q38) -> 2
A39: 05-069-21 | B39: CENTRAL | C39: ANUC BERBEO | D39: 1 | R39: =SUM(D39:Q39) -> 1
A40: 05-058-21 | B40: CENTRAL | C40: APASAN | D40: 1 | R40: =SUM(D40:Q40) -> 1
A41: 05-026-21 | B41: CENTRAL | C41: APROCMU | D41: 1 | J41: 1 | R41: =SUM(D41:Q41) -> 2
A42: 05-036-21 | B42: CENTRAL | C42: ASOPMAGAR | D42: 1 | J42: 1 | R42: =SUM(D42:Q42) -> 2
...

Sheet Santanderes
A1: MONITOREOS FASE I
A2: No. CONVENIO MARD | B2: REGIONAL | C2: ALIANZA | D2: 44317 | E2: 44348 | F2: 44378 | G2: 44409 | H2: 44440 | I2: 44470 | J2: 44501 | K2: 44531 | L2: 44562 | M2: 44593 | N2: 44621 | O2: 44652 | P2: 44682 | Q2: 44713 | R2: 44743 | S2: TOTAL 2021 | T2: TOTAL 2022 | U2: ACUMULADO ALIANZA
A3: 06-001-20 | B3: SANTANDERES | C3: ASOCAMC | D3: 0 | E3: 1 | F3: 1 | G3: 1 | H3: 1 | I3: 1 | J3: 1 | K3: 1 | L3: 1 | M3: 1 | N3: 1 | P3: 1 | Q3: 1 | R3: 1 | S3: =SUM(D3:N3) -> 10 | T3: =SUM(P3:R3) -> 3 | U3: =S3+T3 -> 13
A4: 06-002-20 | B4: SANTANDERES | C4: ASOMURET | D4: 0 | E4: 1 | F4: 1 | G4: 1 | H4: 1 | I4: 1 | J4: 1 | K4: 1 | L4: 1 | M4: 1 | N4: 1 | P4: 1 | Q4: 1 | R4: 1 | S4: =SUM(D4:N4) -> 10 | T4: =SUM(P4:R4) -> 3 | U4: =S4+T4 -> 13
A5: 06-003-20 | B5: SANTANDERES | C5: AROMA DE PAZ | D5: 0 | E5: 1 | F5: 1 | G5: 1 | H5: 1 | I5: 1 | J5: 1 | K5: 1 | L5: 1 | M5: 1 | N5: 1 | P5: 1 | Q5: 1 | R5: 1 | S5: =SUM(D5:N5) -> 10 | T5: =SUM(P5:R5) -> 3 | U5: =S5+T5 -> 13
A6: 06-004-20 | B6: SANTANDERES | C6: ASOMUTRADER | D6: 0 | E6: 1 | F6: 1 | G6: 1 | H6: 1 | I6: 1 | J6: 0 | K6: 0 | L6: 0 | M6: 0 | N6: 0 | P6: 0 | Q6: 0 | R6: 0 | S6: =SUM(D6:N6) -> 5 | T6: =SUM(P6:Q6) -> 0 | U6: =S6+T6 -> 5
A7: 06-005-20 | B7: SANTANDERES | C7: ASOVIPLAYA | D7: 0 | E7: 1 | F7: 1 | G7: 1 | H7: 1 | I7: 1 | J7: 1 | K7: 1 | L7: 1 | M7: 1 | N7: 1 | P7: 1 | Q7: 1 | R7: 1 | S7: =SUM(D7:N7) -> 10 | T7: =SUM(P7:R7) -> 3 | U7: =S7+T7 -> 13
A8: 06-008-20 | B8: SANTANDERES | C8: AMERO | D8: 0 | E8: 1 | F8: 1 | G8: 1 | H8: 1 | I8: 1 | J8: 1 | K8: 1 | L8: 1 | M8: 1 | N8: 1 | O8: 0 | P8: 0 | Q8: 0 | R8: 0 | S8: =SUM(D8:R8) -> 10 | T8: =SUM(P8:Q8) -> 0 | U8: =S8+T8 -> 10
A9: 06-009-20 | B9: SANTANDERES | C9: COOPROCOSAR LTDA | D9: 0 | E9: 1 | F9: 1 | G9: 1 | H9: 1 | I9: 1 | J9: 1 | K9: 1 | L9: 1 | M9: 1 | N9: 1 | O9: 1 | P9: 1 | Q9: 1 | R9: 1 | S9: =SUM(D9:N9) -> 10 | T9: =SUM(P9:R9) -> 3 | U9: =S9+T9 -> 13
A10: 06-010-20 | B10: SANTANDERES | C10: ASPROCOMUNT | D10: 0 | E10: 1 | F10: 1 | G10: 1 | H10: 1 | I10: 1 | J10: 1 | K10: 1 | L10: 1 | M10: 1 | N10: 1 | P10: 1 | Q10: 1 | R10: 1 | S10: =SUM(D10:N10) -> 10 | T10: =SUM(P10:R10) -> 3 | U10: =S10+T10 -> 13
A11: 06-011-20 | B11: SANTANDERES | C11: ASOFRUTAS | D11: 0 | E11: 1 | F11: 1 | G11: 1 | H11: 1 | I11: 1 | J11: 1 | K11: 1 | L11: 1 | M11: 1 | N11: 1 | P11: 1 | Q11: 1 | R11: 1 | S11: =SUM(D11:N11) -> 10 | T11: =SUM(P11:R11) -> 3 | U11: =S11+T11 -> 13
A12: 06-012-20 | B12: SANTANDERES | C12: ASVAGROG | D12: 0 | E12: 1 | F12: 1 | G12: 1 | H12: 1 | I12: 1 | J12: 1 | K12: 1 | L12: 1 | M12: 1 | N12: 1 | P12: 1 | Q12: 1 | R12: 0 | S12: =SUM(D12:N12) -> 10 | T12: =SUM(P12:R12) -> 2 | U12: =S12+T12 -> 12
A13: 06-013-20 | B13: SANTANDERES | C13: APIMONGUATE | D13: 0 | E13: 1 | F13: 1 | G13: 1 | H13: 1 | I13: 1 | J13: 1 | K13: 1 | L13: 1 | M13: 1 | N13: 1 | O13: 1 | P13: 1 | Q13: 1 | R13: 0 | S13: =SUM(D13:N13) -> 10 | T13: =SUM(P13:R13) -> 2 | U13: =S13+T13 -> 12
A14: 06-014-20 | B14: SANTANDERES | C14: AGROSILOS | D14: 0 | E14: 1 | F14: 1 | G14: 1 | H14: 1 | I14: 1 | J14: 1 | K14: 1 | L14: 1 | M14: 1 | N14: 1 | P14: 1 | Q14: 1 | R14: 1 | S14: =SUM(D14:N14) -> 10 | T14: =SUM(P14:R14) -> 3 | U14: =S14+T14 -> 13
A15: 06-015-20 | B15: SANTANDERES | C15: ASOPACON | D15: 0 | E15: 1 | F15: 1 | G15: 1 | H15: 1 | I15: 1 | J15: 1 | K15: 1 | L15: 1 | M15: 1 | N15: 1 | P15: 1 | Q15: 1 | R15: 1 | S15: =SUM(D15:N15) -> 10 | T15: =SUM(P15:R15) -> 3 | U15: =S15+T15 -> 13
C16: Total x Mes | D16: =SUM(D3:D15) -> 0 | E16: =SUM(E3:E15) -> 13 | F16: =SUM(F3:F15) -> 13 | G16: =SUM(G3:G15) -> 13 | H16: =SUM(H3:H15) -> 13 | I16: =SUM(I3:I15) -> 13 | J16: =SUM(J3:J15) -> 12 | K16: =SUM(K3:K15) -> 12 | ... U16: =SUM(U3:U15) -> 156
R17: =R16*1100000 -> 9900000 | U17: =S16+T16 -> 156
A20: MONITOREOS FASE II
A21: No. CONVENIO MARD | B21: REGIONAL | C21: ALIANZA | D21: 44531 | E21: 44562 | F21: 44593 | G21: 44621 | H21: 44652 | I21: 44682 | J21: 44713 | K21: 44743 | L21: 44774 | M21: 44805 | N21: 44835 | O21: 44866 | P21: 44896 | Q21: 44927 | R21: 44958 | S21: TOTAL
A22: 06-020-21 | B22: SANTANDERES | C22: AFRUCAR | D22: 1 | I22: 1 | J22: 1 | S22: =SUM(D22:N22) -> 3
A23: 06-033-21 | B23: SANTANDERES | C23: ACST | D23: 1 | I23: 1 | J23: 1 | S23: =SUM(D23:N23) -> 3
A24: 06-014-21 | B24: SANTANDERES | C24: ASOMEA | D24: 1 | I24: 1 | J24: 1 | S24: =SUM(D24:N24) -> 3
A25: 06-004-21 | B25: SANTANDERES | C25: AMPROCOM | D25: 1 | I25: 1 | J25: 1 | K25: 1 | S25: =SUM(D25:N25) -> 4
A26: 06-022-21 | B26: SANTANDERES | C26: ASMURP | D26: 1 | I26: 1 | J26: 1 | K26: 1 | S26: =SUM(D26:N26) -> 4
A27: 06-018-21 | B27: SANTANDERES | C27: ASOPPROFRUCA | D27: 1 | I27: 1 | J27: 1 | S27: =SUM(D27:N27) -> 3
A28: 06-016-21 | B28: SANTANDERES | C28: PERMAPISAN | D28: 1 | I28: 1 | J28: 1 | S28: =SUM(D28:N28) -> 3
A29: 06-031-21 | B29: SANTANDERES | C29: ASOPRACON | D29: 1 | I29: 1 | J29: 1 | S29: =SUM(D29:N29) -> 3
A30: 06-032-21 | B30: SANTANDERES | C30: ASOAGROPALCAT | D30: 1 | I30: 1 | J30: 1 | S30: =SUM(D30:N30) -> 3
A31: 06-008-21 | B31: SANTANDERES | C31: ASOAPROCUR | D31: 1 | I31: 1 | J31: 1 | K31: 1 | S31: =SUM(D31:N31) -> 4
A32: 06-006-21 | B32: SANTANDERES | C32: ASOPROCOCOA | D32: 1 | I32: 1 | J32: 1 | K32: 1 | S32: =SUM(D32:N32) -> 4
A33: 06-007-21 | B33: SANTANDERES | C33: ASOPROMAFRUC | D33: 1 | I33: 1 | J33: 1 | K33: 1 | S33: =SUM(D33:N33) -> 4
A34: 06-002-21 | B34: SANTANDERES | C34: COAGRONVALIA | D34: 1 | I34: 1 | J34: 1 | S34: =SUM(D34:N34) -> 3
A35: 06-023-21 | B35: SANTANDERES | C35: ASOAGUACANOR | D35: 1 | I35: 1 | J35: 1 | K35: 1 | S35: =SUM(D35:N35) -> 4
A36: 06-021-21 | B36: SANTANDERES | C36: AGRAPA | D36: 1 | I36: 1 | J36: 1 | S36: =SUM(D36:N36) -> 3
A37: 06-011-21 | B37: SANTANDERES | C37: ASOPROLAN | D37: 1 | I37: 1 | J37: 1 | K37: 1 | S37: =SUM(D37:N37) -> 4
A38: 06-009-21 | B38: SANTANDERES | C38: ASOMUCAP | D38: 1 | I38: 1 | J38: 1 | S38: =SUM(D38:N38) -> 3
A39: 06-010-21 | B39: SANTANDERES | C39: APROASAN | D39: 1 | I39: 1 | J39: 1 | S39: =SUM(D39:N39) -> 3
A40: 06-003-21 | B40: SANTANDERES | C40: ASPROGUAVATA | D40: 1 | I40: 1 | J40: 1 | S40: =SUM(D40:N40) -> 3
A41: 06-005-21 | B41: SANTANDERES | C41: ASOPRAGAL | D41: 1 | I41: 1 | J41: 1 | S41: =SUM(D41:N41) -> 3
A42: 06-025-21 | B42: SANTANDERES | C42: APRIMUJER | D42: 1 | I42: 1 | J42: 1 | S42: =SUM(D42:N42) -> 3
...

Sheet Llanos
A1: MONITOREOS FASE I
A2: No. CONVENIO MARD | B2: REGIONAL | C2: ALIANZA | D2: 44317 | E2: 44348 | F2: 44378 | G2: 44409 | H2: 44440 | I2: 44470 | J2: 44501 | K2: 44531 | L2: 44562 | M2: 44593 | N2: 44621 | O2: 44652 | P2: 44682 | Q2: 44713 | R2: 44743 | S2: TOTAL 2021 | T2: TOTAL 2022 | U2: ACUMULADO ALIANZA
A3: 07-001-20 | B3: LLANOS Y ORINOQUIA | C3: ASMUCACD | D3: 1 | E3: 1 | F3: 1 | G3: 1 | H3: 1 | I3: 1 | J3: 1 | K3: 1 | L3: 1 | M3: 1 | N3: 1 | O3: 1 | P3: 1 | S3: =SUM(D3:N3) -> 11 | T3: =SUM(O3:R3) -> 2 | U3: =S3+T3 -> 13
A4: 07-002-20 | B4: LLANOS Y ORINOQUIA | C4: ASOEMPRENCA | D4: 1 | E4: 1 | F4: 1 | G4: 1 | H4: 1 | I4: 1 | J4: 1 | K4: 1 | L4: 1 | M4: 1 | N4: 1 | O4: 1 | S4: =SUM(D4:M4) -> 10 | T4: =SUM(N4:R4) -> 2 | U4: =S4+T4 -> 12
A5: 07-003-20 | B5: LLANOS Y ORINOQUIA | C5: ASOPANEL | D5: 0 | E5: 1 | F5: 1 | G5: 1 | H5: 1 | I5: 1 | J5: 1 | K5: 1 | L5: 1 | M5: 1 | N5: 1 | O5: 1 | P5: 1 | R5: 1 | S5: =SUM(D5:N5) -> 10 | T5: =SUM(O5:R5) -> 3 | U5: =S5+T5 -> 13
