Workbook

Sheet PRESUPUESTO SIN DECIMALES
B2: NOMBRE DEL PROYECTO | D2: ADECUACIÓN Y MEJORAMIENTO DEL PARQUE DE LA URBANIZACIÓN RINCÓN CAMPESTRE | K2: CÓDIGO BPIN DEL PROYECTO
B3: DEPENDENCIA RESPONSABLE | D3: SECRETARIA DE PLANEACIÓN Y OBRAS PÚBLICAS | K3: FECHA DE ELABORACIÓN | L3: OCTUBRE DE 2023
B4: ELABORÓ | D4: DANY LEONARDO RODRÍGUEZ MORALES | K4: TARJETA PROFESIONAL | L4: A15772007-9540262
B5: APROBÓ | D5: DANY LEONARDO RODRÍGUEZ MORALES | K5: SECRETARIO DE PLANEACIÓN Y OBRAS PÚBLICAS
B7: PRODUCTO 1 | C7: UNIDAD DE MEDIDA | D7: CÓDIGO EDT | E7: CÓDIGO REFERENCIA (*) | F7: CÓDIGO UNSPSC | G7: ACTIVIDAD | H7: UNIDAD DE MEDIDA | I7: CANTIDAD | J7: COSTO UNITARIO | K7: COSTO UNITARIO INCLUIDO AIU A=22%, I=3%, U=5% | L7: COSTO TOTAL (**)
B8: OBRAS PRELIMINARES | C8: XXXX | D8: ENTREGABLE 1.1 | G8: OBRAS PRELIMINARES | L8: =SUM(L9:L17) -> 4674026.1
D9: 1.1 | E9: 1.01.08 | F9: 70111700 | G9: CORTE DE ARBUSTO | H9: UND | I9: 18 | J9: 6897.08 | K9: =J9*1.3 -> 8966.204 | L9: =K9*I9 -> 161391.67
D10: 1.2 | E10: 1.01.09 | F10: 70111700 | G10: CORTE RAIZ D = 30 cm - 80 cm | H10: UND | I10: 18 | J10: 22572.27 | K10: =J10*1.3 -> 29343.951 | L10: =K10*I10 -> 528191.12
D11: 1.3 | E11: 1.01.11 | F11: 72151900 | G11: DEMOLICIÓN SARDINEL (INCLUYE RETIRO) | H11: ML | I11: 28.54 | J11: 6180.5 | K11: =J11*1.3 -> 8034.65 | L11: =K11*I11 -> 229308.91
D12: 1.4 | E12: 1.01.38 | F12: 72151900 | G12: DEMOLICIÓN PLACA DE PISO E= 10 cm. | H12: M2 | I12: 2.07 | J12: 55765.73 | K12: =J12*1.3 -> 72495.449 | L12: =K12*I12 -> 150065.58
D13: 1.5 | E13: 1.01.22 | F13: 72151900 | G13: DEMOLICIÓN DE SUMIDEROS | H13: UND | I13: 1 | J13: 27532.61 | K13: =J13*1.3 -> 35792.393 | L13: =K13*I13 -> 35792.393
D14: 1.6 | E14: 1.01.33 | F14: 72151900 | G14: DEMOLICIÓN MUROS LADRILLO E = 0.15 mts. | H14: M2 | I14: =+(25.45+26.3)*0.45 -> 23.2875 | J14: 13629 | K14: =J14*1.3 -> 17717.7 | L14: =K14*I14 -> 412600.94
D15: 1.7 | E15: 1.01.46 | F15: 72151900 | G15: DESCAPOTE MANUAL (HASTA 20 CM ) DISTANCIA DE 1 A 5 KM | H15: M2 | I15: =186.5-(1.8*6) -> 175.7 | J15: 7184.5 | K15: =J15*1.3 -> 9339.85 | L15: =K15*I15 -> 1641011.6
D16: 1.8 | E16: 1.01.47 | F16: 72151900 | G16: DESMONTE ADOQUIN PREFABRICADO | H16: M2 | I16: 9.8 | J16: 4742.57 | K16: =J16*1.3 -> 6165.341 | L16: =K16*I16 -> 60420.342
D17: 1.9 | E17: 1.01.68 | F17: 72151900 | G17: LOCALIZACIÓN Y REPLANTEO OBRA ARQUITECTÓNICA | H17: M2 | I17: =+I15 -> 175.7 | J17: 6371.19 | K17: =J17*1.3 -> 8282.547 | L17: =K17*I17 -> 1455243.5
K18: VALOR TOTAL DEL PRODUCTO | L18: =L8 -> 4674026.1
B20: PRODUCTO 2 | C20: UNIDAD DE MEDIDA | D20: CÓDIGO EDT | E20: CÓDIGO REFERENCIA (*) | F20: CÓDIGO UNSPSC | G20: ACTIVIDAD | H20: UNIDAD DE MEDIDA | I20: CANTIDAD | J20: COSTO UNITARIO | K20: COSTO UNITARIO INCLUIDO AIU A=22%, I=3%, U=5% | L20: COSTO TOTAL (**)
B21: CONSTRUCCIÓN DE PLAZOLETA | C21: XXXX | D21: ENTREGABLE 2.1 | G21: CONSTRUCCIÓN DE PLAZOLETA | L21: =+SUM(L22:L29) -> 27805918
D22: 2.1 | E22: 1.02.17 | F22: 72101500 | G22: EXCAVACION MANUAL EN MATERIAL COMUN (INCLUYE RETIRO) | H22: M3 | I22: =172.2*0.15 -> 25.83 | J22: 51943.58 | K22: =J22*1.3 -> 67526.654 | L22: =K22*I22 -> 1744213.5
D23: 2.2 | E23: 3.03.15 | F23: 72101500 | G23: RELLENO CON MATERIAL DE AFIRMADO COMPACTADO RANA Y/O VIBROCOMPACTADOR | H23: M3 | I23: =154.7*0.15 -> 23.205 | J23: 90646.13 | K23: =J23*1.3 -> 117839.97 | L23: =K23*I23 -> 2734476.5
D24: 2.3 | E24: 1.11.25 | F24: 72101500 | G24: PLACA BASE EN CONCRETO E= 8 CM 2500 PSI | H24: M2 | I24: 34.5 | J24: 76977.97 | K24: =J24*1.3 -> 100071.36 | L24: =K24*I24 -> 3452462
D25: 2.4 | E25: 3.13.25 | F25: 72101500 | G25: MALLA ELECTROSOLDADA 0.15 X 0.15 M D= 5MM (INCLUYE SUMINISTRO FIJACION E INSTALACION) | H25: KG | I25: 82.72 | J25: 7349.45 | K25: =J25*1.3 -> 9554.285 | L25: =K25*I25 -> 790330.46
D26: 2.5 | E26: CREADO | F26: 72101500 | G26: PINTURA EPOXICA PARA PISOS EN CONCRETO | H26: M2 | I26: =+I24+(2.2*6) -> 47.7 | J26: 28505 | K26: =J26*1.3 -> 37056.5 | L26: =K26*I26 -> 1767595.1
D27: 2.6 | E27: CREADO | F27: 72101500 | G27: SUMINISTRO E INSTALACIÓN DE ADOQUÍN PEATONAL CONCRETO 6 CM COLOR SEGÚN ESPECIFICACIONES DE DISEÑO | H27: M2 | I27: =183-I26 -> 135.3 | J27: 85470.003 | K27: =J27*1.3 -> 111111 | L27: =K27*I27 -> 15033319
D28: 2.7 | E28: 3.08.08 | F28: 72101500 | G28: BORDILLO DE 8 X 15 CM FUNDIDO EN CONCRETO PARA CONTENEDOR DE RAICES | H28: ML | I28: =10.1 -> 10.1 | J28: 24674.73 | K28: =J28*1.3 -> 32077.149 | L28: =K28*I28 -> 323979.2
D29: 2.8 | E29: 3.08.19 | F29: 72101500 | G29: SUMINISTRO E INSTALACION DE SARDINEL PREFABRICADO A-10, INCLUYE MORTERO DE PEGA SEGUN NORMA NTC-4109 | H29: ML | I29: 28.55 | J29: 52796.51 | K29: =J29*1.3 -> 68635.463 | L29: =K29*I29 -> 1959542.5
K30: VALOR TOTAL DEL PRODUCTO | L30: =+L21 -> 27805918
K32: COSTO TOTAL DEL PROYECTO | L32: =+L18+L30 -> 32479944 | M32: =+L32*1.5 -> 48719916
B35: NOTA 1: Los códigos de referencia corresponden con los establecidos en la RESOLUCIÓN 039 DEL 28 DE MARZO DE 2023 por medio de la cual se actualiza y se fija la lista de precios unitarios de obra pública y de consultoría en el departamento de Boyacá” (*)
B36: NOTA 2: El porcentaje de AIU para el proyecto corresponde a: A=22%, I=3%, U=5%
B37: NOTA 3: Para la columna del costo total cuando la fracción decimal del peso sea igual o superior a 5 se aproximará por exceso al número entero siguiente del peso y cuando la fracción decimal del peso sea inferior a 5 se aproximará por defecto al número entero del peso. (**)
B39: Elaboró | J39: Aprobó | K39: precio por ml
B40: DANY LEONARDO RODRÍGUEZ MORALES | J40: DANY LEONARDO RODRÍGUEZ MORALES
B41: SECRETARIO DE PLANEACIÓN Y OBRAS PÚBLICAS | J41: SECRETARIO DE PLANEACIÓN Y OBRAS PÚBLICAS
B42: MUNICIPIO DE SAMACÁ, BOYACÁ | J42: MUNICIPIO DE SAMACÁ, BOYACÁ

Sheet FORMATO PRESUPUESTO
B2: NOMBRE DEL PROYECTO | D2: ADECUACIÓN Y MEJORAMIENTO DEL PARQUE DE LA URBANIZACIÓN RINCÓN CAMPESTRE | K2: CÓDIGO BPIN DEL PROYECTO
B3: DEPENDENCIA RESPONSABLE | D3: SECRETARIA DE PLANEACIÓN Y OBRAS PÚBLICAS | K3: FECHA DE ELABORACIÓN | L3: OCTUBRE DE 2023
B4: ELABORÓ | D4: DANY LEONARDO RODRÍGUEZ MORALES | K4: TARJETA PROFESIONAL | L4: A15772007-9540262
B5: APROBÓ | D5: DANY LEONARDO RODRÍGUEZ MORALES | K5: SECRETARIO DE PLANEACIÓN Y OBRAS PÚBLICAS
B7: PRODUCTO 1 | C7: UNIDAD DE MEDIDA | D7: CÓDIGO EDT | E7: CÓDIGO REFERENCIA (*) | F7: CÓDIGO UNSPSC | G7: ACTIVIDAD | H7: UNIDAD DE MEDIDA | I7: CANTIDAD | J7: COSTO UNITARIO | K7: COSTO UNITARIO INCLUIDO AIU A=22%, I=3%, U=5% | L7: COSTO TOTAL (**)
B8: OBRAS PRELIMINARES | C8: XXXX | D8: ENTREGABLE 1.1 | G8: OBRAS PRELIMINARES | L8: =SUM(L9:L17) -> 4674027
D9: 1.1 | E9: 1.01.08 | F9: 70111700 | G9: CORTE DE ARBUSTO | H9: UND | I9: 18 | J9: 6897.08 | K9: =ROUND(J9*1.3,2) -> 8966.2 | L9: =ROUND(K9*I9,0) -> 161392
D10: 1.2 | E10: 1.01.09 | F10: 70111700 | G10: CORTE RAIZ D = 30 cm - 80 cm | H10: UND | I10: 18 | J10: 22572.27 | K10: =ROUND(J10*1.3,2) -> 29343.95 | L10: =ROUND(K10*I10,0) -> 528191
D11: 1.3 | E11: 1.01.11 | F11: 72151900 | G11: DEMOLICIÓN SARDINEL (INCLUYE RETIRO) | H11: ML | I11: 28.54 | J11: 6180.5 | K11: =ROUND(J11*1.3,2) -> 8034.65 | L11: =ROUND(K11*I11,0) -> 229309
D12: 1.4 | E12: 1.01.38 | F12: 72151900 | G12: DEMOLICIÓN PLACA DE PISO E= 10 cm. | H12: M2 | I12: 2.07 | J12: 55765.73 | K12: =ROUND(J12*1.3,2) -> 72495.45 | L12: =ROUND(K12*I12,0) -> 150066
D13: 1.5 | E13: 1.01.22 | F13: 72151900 | G13: DEMOLICIÓN DE SUMIDEROS | H13: UND | I13: 1 | J13: 27532.61 | K13: =ROUND(J13*1.3,2) -> 35792.39 | L13: =ROUND(K13*I13,0) -> 35792
D14: 1.6 | E14: 1.01.33 | F14: 72151900 | G14: DEMOLICIÓN MUROS LADRILLO E = 0.15 mts. | H14: M2 | I14: =+(25.45+26.3)*0.45 -> 23.2875 | J14: 13629 | K14: =ROUND(J14*1.3,2) -> 17717.7 | L14: =ROUND(K14*I14,0) -> 412601
D15: 1.7 | E15: 1.01.46 | F15: 72151900 | G15: DESCAPOTE MANUAL (HASTA 20 CM ) DISTANCIA DE 1 A 5 KM | H15: M2 | I15: =186.5-(1.8*6) -> 175.7 | J15: 7184.5 | K15: =ROUND(J15*1.3,2) -> 9339.85 | L15: =ROUND(K15*I15,0) -> 1641012
D16: 1.8 | E16: 1.01.47 | F16: 72151900 | G16: DESMONTE ADOQUIN PREFABRICADO | H16: M2 | I16: 9.8 | J16: 4742.57 | K16: =ROUND(J16*1.3,2) -> 6165.34 | L16: =ROUND(K16*I16,0) -> 60420
D17: 1.9 | E17: 1.01.68 | F17: 72151900 | G17: LOCALIZACIÓN Y REPLANTEO OBRA ARQUITECTÓNICA | H17: M2 | I17: =+I15 -> 175.7 | J17: 6371.19 | K17: =ROUND(J17*1.3,2) -> 8282.55 | L17: =ROUND(K17*I17,0) -> 1455244
K18: VALOR TOTAL DEL PRODUCTO | L18: =L8 -> 4674027
B20: PRODUCTO 2 | C20: UNIDAD DE MEDIDA | D20: CÓDIGO EDT | E20: CÓDIGO REFERENCIA (*) | F20: CÓDIGO UNSPSC | G20: ACTIVIDAD | H20: UNIDAD DE MEDIDA | I20: CANTIDAD | J20: COSTO UNITARIO | K20: COSTO UNITARIO INCLUIDO AIU A=22%, I=3%, U=5% | L20: COSTO TOTAL (**)
B21: CONSTRUCCIÓN DE PLAZOLETA | C21: XXXX | D21: ENTREGABLE 2.1 | G21: CONSTRUCCIÓN DE PLAZOLETA | L21: =+SUM(L22:L29) -> 27805917
D22: 2.1 | E22: 1.02.17 | F22: 72101500 | G22: EXCAVACION MANUAL EN MATERIAL COMUN (INCLUYE RETIRO) | H22: M3 | I22: =172.2*0.15 -> 25.83 | J22: 51943.58 | K22: =ROUND(J22*1.3,2) -> 67526.65 | L22: =ROUND(K22*I22,0) -> 1744213
D23: 2.2 | E23: 3.03.15 | F23: 72101500 | G23: RELLENO CON MATERIAL DE AFIRMADO COMPACTADO RANA Y/O VIBROCOMPACTADOR | H23: M3 | I23: =154.7*0.15 -> 23.205 | J23: 90646.13 | K23: =ROUND(J23*1.3,2) -> 117839.97 | L23: =ROUND(K23*I23,0) -> 2734477
D24: 2.3 | E24: 1.11.25 | F24: 72101500 | G24: PLACA BASE EN CONCRETO E= 8 CM 2500 PSI | H24: M2 | I24: 34.5 | J24: 76977.97 | K24: =ROUND(J24*1.3,2) -> 100071.36 | L24: =ROUND(K24*I24,0) -> 3452462
D25: 2.4 | E25: 3.13.25 | F25: 72101500 | G25: MALLA ELECTROSOLDADA 0.15 X 0.15 M D= 5MM (INCLUYE SUMINISTRO FIJACION E INSTALACION) | H25: KG | I25: 82.72 | J25: 7349.45 | K25: =ROUND(J25*1.3,2) -> 9554.29 | L25: =ROUND(K25*I25,0) -> 790331
D26: 2.5 | E26: CREADO | F26: 72101500 | G26: PINTURA EPOXICA PARA PISOS EN CONCRETO | H26: M2 | I26: =+I24+(2.2*6) -> 47.7 | J26: 28505 | K26: =ROUND(J26*1.3,2) -> 37056.5 | L26: =ROUND(K26*I26,0) -> 1767595
D27: 2.6 | E27: CREADO | F27: 72101500 | G27: SUMINISTRO E INSTALACIÓN DE ADOQUÍN PEATONAL CONCRETO 6 CM COLOR SEGÚN ESPECIFICACIONES DE DISEÑO | H27: M2 | I27: =183-I26 -> 135.3 | J27: =77700*1.1 -> 85470 | K27: =ROUND(J27*1.3,2) -> 111111 | L27: =ROUND(K27*I27,0) -> 15033318
D28: 2.7 | E28: 3.08.08 | F28: 72101500 | G28: BORDILLO DE 8 X 15 CM FUNDIDO EN CONCRETO PARA CONTENEDOR DE RAICES | H28: ML | I28: =10.1 -> 10.1 | J28: 24674.73 | K28: =ROUND(J28*1.3,2) -> 32077.15 | L28: =ROUND(K28*I28,0) -> 323979
D29: 2.8 | E29: 3.08.19 | F29: 72101500 | G29: SUMINISTRO E INSTALACION DE SARDINEL PREFABRICADO A-10, INCLUYE MORTERO DE PEGA SEGUN NORMA NTC-4109 | H29: ML | I29: 28.55 | J29: 52796.51 | K29: =ROUND(J29*1.3,2) -> 68635.46 | L29: =ROUND(K29*I29,0) -> 1959542
K30: VALOR TOTAL DEL PRODUCTO | L30: =+L21 -> 27805917
K32: COSTO TOTAL DEL PROYECTO | L32: =+L18+L30 -> 32479944 | M32: =+L32/1160000 -> 27.999952 | N32: =+L32*1.5 -> 48719916
B35: NOTA 1: Los códigos de referencia corresponden con los establecidos en la RESOLUCIÓN 039 DEL 28 DE MARZO DE 2023 por medio de la cual se actualiza y se fija la lista de precios unitarios de obra pública y de consultoría en el departamento de Boyacá” (*)
B36: NOTA 2: El porcentaje de AIU para el proyecto corresponde a: A=22%, I=3%, U=5%
B37: NOTA 3: Para la columna del costo total cuando la fracción decimal del peso sea igual o superior a 5 se aproximará por exceso al número entero siguiente del peso y cuando la fracción decimal del peso sea inferior a 5 se aproximará por defecto al número entero del peso. (**)
B39: Elaboró | J39: Aprobó | K39: precio por ml
B40: DANY LEONARDO RODRÍGUEZ MORALES | J40: DANY LEONARDO RODRÍGUEZ MORALES
B41: SECRETARIO DE PLANEACIÓN Y OBRAS PÚBLICAS | J41: SECRETARIO DE PLANEACIÓN Y OBRAS PÚBLICAS
B42: MUNICIPIO DE SAMACÁ, BOYACÁ | J42: MUNICIPIO DE SAMACÁ, BOYACÁ

Sheet APU
A1: ANALISIS DE PRECIOS UNITARIOS
B2: ITEM | C2: DESCRIPCION | G2: UNIDAD DE MEDIDA
B3: APU - 01 | C3: ='FORMATO PRESUPUESTO'!G9 -> CORTE DE ARBUSTO | G3: km
B4: Equipos
B5: Nombre | D5: Unidad | F5: Cantidad | G5: Valor Unitario | H5: Vr.Parcial
B6: HERRAMIENTA MENOR (%M.O) | D6: % | F6: 5 | G6: =2508327.66/100 -> 25083.277 | H6: =+F6*G6 -> 125416.38
B7: EQUIPO DE TOPOGRAFÍA (ESTACION,NIVEL Y ELEMENTOS) | D7: glb | F7: 24 | G7: 6250 | H7: =+F7*G7 -> 150000
B8: TOTAL EQUIPOS | H8: =SUM(H6:H7) -> 275416.38
B9: Materiales
B10: Nombre | D10: Unidad | F10: Cantidad | G10: Valor Unitario | H10: Vr.Parcial
B11: PINTURA Y ESTACAS | D11: glb | F11: 1 | G11: 29333 | H11: =+F11*G11 -> 29333
B15: TOTAL MATERIALES | H15: =SUM(H11:H14) -> 29333
B16: Mano de Obra
B17: Nombre | D17: Unidad | F17: Cantidad | G17: Valor Unitario | H17: Vr.Parcial
B18: CADENERO 1 | D18: Jr | F18: 4 | G18: 121418.06 | H18: =+F18*G18 -> 485672.24
B19: OFICIAL DE OBRA 1 | D19: Jr | F19: 4 | G19: 105563.04 | H19: =+F19*G19 -> 422252.16
B20: OFICIAL DE OBRA 2 | D20: Jr | F20: 4 | G20: 105563.04 | H20: =+F20*G20 -> 422252.16
B21: OFICIAL DE OBRA 3 | D21: Jr | F21: 5 | G21: 195479.38 | H21: =+F21*G21 -> 977396.9
B22: OFICIAL DE OBRA 4 | D22: Jr | F22: 4 | G22: 50188.55 | H22: =+F22*G22 -> 200754.2
B23: TOTAL MANO DE OBRA | H23: =SUM(H18:H22) -> 2508327.7
B24: Transporte
B25: Nombre | D25: Unidad | F25: Cantidad | G25: Valor Unitario | H25: Vr.Parcial
H26: 0
B27: Valor Unitario Total | H27: =+H8+H15+H23+H26 -> 2813077
B29: ITEM | C29: DESCRIPCION | G29: UNIDAD DE MEDIDA
B30: APU - 01 | C30: SUMINISTRO E INSTALACIÓN DE ADOQUÍN PEATONAL CONCRETO 6 CM | G30: =+'FORMATO PRESUPUESTO'!H44 -> 0
B31: Equipos
B32: Nombre | D32: Unidad | F32: Cantidad | G32: Valor Unitario | H32: Vr.Parcial
B33: HERRAMIENTA MENOR (%M.O) | D33: % | F33: 5 | G33: =H46/100 -> 122.7761 | H33: =+F33*G33 -> 613.8805
B35: TOTAL EQUIPOS | H35: =SUM(H33:H34) -> 613.8805
B36: Materiales
B37: Nombre | D37: Unidad | F37: Cantidad | G37: Valor Unitario | H37: Vr.Parcial
B38: ARENA LAVADA DE PEÑA | D38: M3 | F38: 0.03 | G38: 82125 | H38: =+F38*G38 -> 2463.75
B39: ADOQUIN DE CONCRETO DE 10X6X20 | D39: UND | F39: 50 | G39: 666.67 | H39: =+F39*G39 -> 33333.5
B40: AGUA | D40: LT | F40: 2.85 | G40: 21 | H40: =+F40*G40 -> 59.85
B42: TOTAL MATERIALES | H42: =SUM(H38:H41) -> 35857.1
B43: Mano de Obra
B44: Nombre | D44: Unidad | F44: Cantidad | G44: Valor Unitario | H44: Vr.Parcial
B45: MANO DE OBRA AA | D45: hc | F45: 0.5 | G45: 24555.22 | H45: =+F45*G45 -> 12277.61
B46: TOTAL MANO DE OBRA | H46: =SUM(H45:H45) -> 12277.61
...

Sheet 1.1
C1: ALCALDÍA DE SAMACÁ | E1: MACROPROCESO | I1: MISIONAL
E2: PROCESO | I2: GESTIÓN TERRITORIAL E INFRAESTRUCTURA
C3: SISTEMA INTEGRADO DE GESTIÓN (MECI 1000:2014 – NTCGP 1000:2009) | E3: FORMATO
E4: F-GTI-015 | I4: Página 1 de 1
E5: Versión 1
A6: MEMORIAS DE CANTIDADES
A7: CÓDIGO | B7: 2.1 | C7: (b) DESCRIPCIÓN ÍTEM | D7: ='FORMATO PRESUPUESTO'!G9 -> CORTE DE ARBUSTO | J7: (c) UND: | K7: km
A9: (d) DESCRIPCIÓN Y/O REGISTRO FOTOGRÁFICO DE LA MEMORIA | E9: (e) LOCALIZACIÓN | F9: DIMENSIONES | I9: (i) MEDIDA PARCIAL (M2) | J9: (j) N° DE ELEMENTOS | K9: (k) MEDIDA TOTAL (km)
F10: N° | G10: (g) Longitud | H10: (h) Altura
E11: ZONA DE PARQUEO | F11: 1 | G11: =53/1000 -> 0.053 | J11: 1 | K11: =G11*J11 -> 0.053
E12: VIA | F12: 1 | G12: =79/1000 -> 0.079 | J12: 1
E30: (l)TOTAL | K30: =+SUM(K11:K29) -> 0.053
A31: Elaboró: | C31: Elaboró: | E31: Revisó: | H31: Aprobó:

Sheet 1.2
C1: ALCALDÍA DE SAMACÁ | E1: MACROPROCESO | I1: MISIONAL
E2: PROCESO | I2: GESTIÓN TERRITORIAL E INFRAESTRUCTURA
C3: SISTEMA INTEGRADO DE GESTIÓN (MECI 1000:2014 – NTCGP 1000:2009) | E3: FORMATO
E4: F-GTI-015 | I4: Página 1 de 1
E5: Versión 1
A6: MEMORIAS DE CANTIDADES
A7: CÓDIGO | B7: 1.2 | C7: (b) DESCRIPCIÓN ÍTEM | D7: =+VLOOKUP(B7,'FORMATO PRESUPUESTO'!D10:L31,3,FALSE) -> 70111700 | J7: (c) UND: | K7: =+VLOOKUP(B7,'FORMATO PRESUPUESTO'!D10:L31,4,FALSE) -> CORTE RAIZ D = 30 cm - 80 cm
A9: (d) DESCRIPCIÓN Y/O REGISTRO FOTOGRÁFICO DE LA MEMORIA | E9: (e) LOCALIZACIÓN | F9: DIMENSIONES | I9: =+CONCATENATE("(i) MEDIDA PARCIAL"," ", "(",K7,")") -> (i) MEDIDA PARCIAL (CORTE RAIZ D = 30 cm - 80 cm) | J9: (j) N° DE ELEMENTOS | K9: =+CONCATENATE("(k) MEDIDA TOTAL "," ","(",K7,")") -> (k) MEDIDA TOTAL (CORTE RAIZ D = 30 cm - 80 cm)
F10: Area | H10: (h) Altura
E11: PARQUEADEROS | F11: 232.2 | H11: 0.3 | I11: =+F11*H11 -> 69.66 | J11: 1 | K11: =+I11*J11 -> 69.66
E30: (l)TOTAL | K30: =+SUM(K11:K29) -> 69.66
A31: Elaboró: | C31: Elaboró: | E31: Revisó: | H31: Aprobó:

Sheet 1.2 (2)
C1: ALCALDÍA DE SAMACÁ | E1: MACROPROCESO | I1: MISIONAL
E2: PROCESO | I2: GESTIÓN TERRITORIAL E INFRAESTRUCTURA
C3: SISTEMA INTEGRADO DE GESTIÓN (MECI 1000:2014 – NTCGP 1000:2009) | E3: FORMATO
E4: F-GTI-015 | I4: Página 1 de 1
E5: Versión 1
A6: MEMORIAS DE CANTIDADES
A7: CÓDIGO | B7: 1.2 | C7: (b) DESCRIPCIÓN ÍTEM | D7: =+VLOOKUP(B7,'FORMATO PRESUPUESTO'!D10:L31,3,FALSE) -> 70111700 | J7: (c) UND: | K7: =+VLOOKUP(B7,'FORMATO PRESUPUESTO'!D10:L31,4,FALSE) -> CORTE RAIZ D = 30 cm - 80 cm
A9: (d) DESCRIPCIÓN Y/O REGISTRO FOTOGRÁFICO DE LA MEMORIA | E9: (e) LOCALIZACIÓN | F9: DIMENSIONES | I9: =+CONCATENATE("(i) MEDIDA PARCIAL"," ", "(",K7,")") -> (i) MEDIDA PARCIAL (CORTE RAIZ D = 30 cm - 80 cm) | J9: (j) N° DE ELEMENTOS | K9: =+CONCATENATE("(k) MEDIDA TOTAL "," ","(",K7,")") -> (k) MEDIDA TOTAL (CORTE RAIZ D = 30 cm - 80 cm)
F10: Area | H10: (h) Altura
E11: PARQUEADEROS | F11: 253.53 | H11: 0.3 | I11: =+F11*H11 -> 76.059 | J11: 1 | K11: =+I11*J11 -> 76.059
E12: VIA | F12: 315.63 | H12: 0.5 | I12: =+F12*H12 -> 157.815 | J12: 1
E30: (l)TOTAL | K30: =+SUM(K11:K29) -> 76.059
A31: Elaboró: | C31: Elaboró: | E31: Revisó: | H31: Aprobó:

Sheet 1.3
C1: ALCALDÍA DE SAMACÁ | E1: MACROPROCESO | I1: MISIONAL
E2: PROCESO | I2: GESTIÓN TERRITORIAL E INFRAESTRUCTURA
C3: SISTEMA INTEGRADO DE GESTIÓN (MECI 1000:2014 – NTCGP 1000:2009) | E3: FORMATO
E4: F-GTI-015 | I4: Página 1 de 1
E5: Versión 1
A6: MEMORIAS DE CANTIDADES
A7: CÓDIGO | B7: 1.3 | C7: (b) DESCRIPCIÓN ÍTEM | D7: =+VLOOKUP(B7,'FORMATO PRESUPUESTO'!D10:L31,3,FALSE) -> 72151900 | J7: (c) UND: | K7: =+VLOOKUP(B7,'FORMATO PRESUPUESTO'!D10:L31,4,FALSE) -> DEMOLICIÓN SARDINEL (INCLUYE RETIRO)
A9: (d) DESCRIPCIÓN Y/O REGISTRO FOTOGRÁFICO DE LA MEMORIA | E9: (e) LOCALIZACIÓN | F9: DIMENSIONES | I9: (i) MEDIDA PARCIAL (M3) | J9: (j) N° DE ELEMENTOS | K9: (k) MEDIDA TOTAL (M3)
F10: (m2) Area | H10: (h) Espesor
E11: PARQUEADEROS | F11: =+'1.2'!F11 -> 232.2 | H11: 0.2 | I11: =+F11*G11*H11 -> 0 | J11: 1 | K11: =+F11*H11*J11 -> 46.44 | L11: =F11*H11 -> 46.44
E30: (l)TOTAL | K30: =+SUM(K11:K29)/2 -> 23.22
A31: Elaboró: | C31: Elaboró: | E31: Revisó: | H31: Aprobó:

Sheet 1.3 (2)
C1: ALCALDÍA DE SAMACÁ | E1: MACROPROCESO | I1: MISIONAL
E2: PROCESO | I2: GESTIÓN TERRITORIAL E INFRAESTRUCTURA
C3: SISTEMA INTEGRADO DE GESTIÓN (MECI 1000:2014 – NTCGP 1000:2009) | E3: FORMATO
E4: F-GTI-015 | I4: Página 1 de 1
E5: Versión 1
A6: MEMORIAS DE CANTIDADES
A7: CÓDIGO | B7: 1.3 | C7: (b) DESCRIPCIÓN ÍTEM | D7: =+VLOOKUP(B7,'FORMATO PRESUPUESTO'!D10:L31,3,FALSE) -> 72151900 | J7: (c) UND: | K7: =+VLOOKUP(B7,'FORMATO PRESUPUESTO'!D10:L31,4,FALSE) -> DEMOLICIÓN SARDINEL (INCLUYE RETIRO)
A9: (d) DESCRIPCIÓN Y/O REGISTRO FOTOGRÁFICO DE LA MEMORIA | E9: (e) LOCALIZACIÓN | F9: DIMENSIONES | I9: (i) MEDIDA PARCIAL (M3) | J9: (j) N° DE ELEMENTOS | K9: (k) MEDIDA TOTAL (M3)
F10: (m2) Area | H10: (h) Espesor
E11: PARQUEADEROS | F11: 253.53 | H11: 0.2 | I11: =+F11*H11 -> 50.706 | J11: 1 | K11: =+I11*J11 -> 50.706 | L11: =F11*H11 -> 50.706
E12: VIA | F12: 315.63 | H12: 0.42 | I12: =+F12*H12 -> 132.5646 | J12: 1
E30: (l)TOTAL | K30: =+SUM(K11:K29) -> 50.706
A31: Elaboró: | C31: Elaboró: | E31: Revisó: | H31: Aprobó:

Sheet 1.5
C1: ALCALDÍA DE SAMACÁ | E1: MACROPROCESO | I1: MISIONAL
E2: PROCESO | I2: GESTIÓN TERRITORIAL E INFRAESTRUCTURA
C3: SISTEMA INTEGRADO DE GESTIÓN (MECI 1000:2014 – NTCGP 1000:2009) | E3: FORMATO
E4: F-GTI-015 | I4: Página 1 de 1
E5: Versión 1
A6: MEMORIAS DE CANTIDADES
A7: CÓDIGO | B7: 1.5 | C7: (b) DESCRIPCIÓN ÍTEM | D7: =+VLOOKUP(B7,'FORMATO PRESUPUESTO'!D10:L31,3,FALSE) -> 72151900 | J7: (c) UND: | K7: =+VLOOKUP(B7,'FORMATO PRESUPUESTO'!D10:L31,4,FALSE) -> DEMOLICIÓN DE SUMIDEROS
A9: (d) DESCRIPCIÓN Y/O REGISTRO FOTOGRÁFICO DE LA MEMORIA | E9: (e) LOCALIZACIÓN | F9: DIMENSIONES | I9: (i) MEDIDA PARCIAL (M3) | J9: (j) N° DE ELEMENTOS | K9: (k) MEDIDA TOTAL (M2)
F10: (f) Ancho | G10: (g) Longitud | H10: (h) Altura
E11: =+D7 -> 72151900 | F11: 4.3 | G11: 25.2 | I11: =+F11*G11*H11 -> 0 | J11: 1 | K11: =+F11*G11*J11 -> 108.36
E12: =+E11 -> 72151900 | F12: 4.3 | G12: 27.5 | J12: 1 | K12: =+F12*G12*J12 -> 118.25
E30: (l)TOTAL | K30: =+SUM(K11:K29) -> 226.61
A31: Elaboró: | C31: Elaboró: | E31: Revisó: | H31: Aprobó:

Sheet 1.5 (2)
C1: ALCALDÍA DE SAMACÁ | E1: MACROPROCESO | I1: MISIONAL
E2: PROCESO | I2: GESTIÓN TERRITORIAL E INFRAESTRUCTURA
C3: SISTEMA INTEGRADO DE GESTIÓN (MECI 1000:2014 – NTCGP 1000:2009) | E3: FORMATO
E4: F-GTI-015 | I4: Página 1 de 1
E5: Versión 1
A6: MEMORIAS DE CANTIDADES
A7: CÓDIGO | B7: 1.5 | C7: (b) DESCRIPCIÓN ÍTEM | D7: =+VLOOKUP(B7,'FORMATO PRESUPUESTO'!D10:L31,3,FALSE) -> 72151900 | J7: (c) UND: | K7: =+VLOOKUP(B7,'FORMATO PRESUPUESTO'!D10:L31,4,FALSE) -> DEMOLICIÓN DE SUMIDEROS
A9: (d) DESCRIPCIÓN Y/O REGISTRO FOTOGRÁFICO DE LA MEMORIA | E9: (e) LOCALIZACIÓN | F9: DIMENSIONES | I9: (i) MEDIDA PARCIAL (M3) | J9: (j) N° DE ELEMENTOS | K9: (k) MEDIDA TOTAL (M2)
F10: (f) Ancho | G10: (g) Longitud | H10: (h) Altura
D11: ZONA DE PARQUEO 1 | E11: =+D7 -> 72151900 | F11: 4.3 | G11: 25.35 | I11: =+F11*G11*H11 -> 0 | J11: 1
D12: ZONA DE PARQUEO 2 | E12: =+E11 -> 72151900 | F12: 4.3 | G12: 27.65 | J12: 1
E14: VIA FRENTE A ZONAS DE PARQUEO | F14: 4.08 | G14: 4.63 | J14: 13 | L14: 245.5752
E15: VIA INGRESO | F15: 3.93 | G15: 4.63 | J15: 3 | L15: 54.5877
E16: VIA INGRESO | F16: 3.93 | G16: =(4.15+4.95)/2 -> 4.55 | J16: 1 | L16: 17.8815
M27: 3.88 | N27: 0.2 | O27: 14 | P27: =M27*N27*O27 -> 10.864
M28: 3.93 | N28: 0.2 | O28: 4 | P28: =M28*N28*O28 -> 3.144
P29: =SUM(P27:P28) -> 14.008
E30: (l)TOTAL | K30: =+SUM(K11:K29) -> 0 | L30: 0.8 | M30: =K30/L30 -> 0
A31: Elaboró: | C31: Elaboró: | E31: Revisó: | H31: Aprobó:

Sheet 1.6
C1: ALCALDÍA DE SAMACÁ | E1: MACROPROCESO | I1: MISIONAL
E2: PROCESO | I2: GESTIÓN TERRITORIAL E INFRAESTRUCTURA
C3: SISTEMA INTEGRADO DE GESTIÓN (MECI 1000:2014 – NTCGP 1000:2009) | E3: FORMATO
E4: F-GTI-015 | I4: Página 1 de 1
E5: Versión 1
A6: MEMORIAS DE CANTIDADES
A7: CÓDIGO | B7: 1.6 | C7: (b) DESCRIPCIÓN ÍTEM | D7: =+VLOOKUP(B7,'FORMATO PRESUPUESTO'!D10:L31,3,FALSE) -> 72151900 | J7: (c) UND: | K7: =+VLOOKUP(B7,'FORMATO PRESUPUESTO'!D10:L31,4,FALSE) -> DEMOLICIÓN MUROS LADRILLO E = 0.15 mts.
A9: (d) DESCRIPCIÓN Y/O REGISTRO FOTOGRÁFICO DE LA MEMORIA | E9: (e) LOCALIZACIÓN | F9: DIMENSIONES | I9: Longitud | J9: (j) N° DE ELEMENTOS | K9: (k) MEDIDA TOTAL (Ml)
F10: (f) Ancho | G10: (g) Longitud | H10: (h) Altura
E11: SARDINEL A 10 | F11: 0.2 | G11: 0.8 | H11: 0.5 | I11: =55+5+5+5+1+5+7 -> 83 | K11: =+I11 -> 83
E30: (l)TOTAL | K30: =+SUM(K11:K29) -> 83
A31: Elaboró: | C31: Elaboró: | E31: Revisó: | H31: Aprobó:

Sheet 1.6 (2)
C1: ALCALDÍA DE SAMACÁ | E1: MACROPROCESO | I1: MISIONAL
E2: PROCESO | I2: GESTIÓN TERRITORIAL E INFRAESTRUCTURA
C3: SISTEMA INTEGRADO DE GESTIÓN (MECI 1000:2014 – NTCGP 1000:2009) | E3: FORMATO
E4: F-GTI-015 | I4: Página 1 de 1
E5: Versión 1
A6: MEMORIAS DE CANTIDADES
A7: CÓDIGO | B7: 1.6 | C7: (b) DESCRIPCIÓN ÍTEM | D7: =+VLOOKUP(B7,'FORMATO PRESUPUESTO'!D10:L31,3,FALSE) -> 72151900 | J7: (c) UND: | K7: =+VLOOKUP(B7,'FORMATO PRESUPUESTO'!D10:L31,4,FALSE) -> DEMOLICIÓN MUROS LADRILLO E = 0.15 mts.
A9: (d) DESCRIPCIÓN Y/O REGISTRO FOTOGRÁFICO DE LA MEMORIA | E9: (e) LOCALIZACIÓN | F9: DIMENSIONES | I9: Longitud | J9: (j) N° DE ELEMENTOS | K9: (k) MEDIDA TOTAL (Ml)
F10: (f) Ancho | G10: (g) Longitud | H10: (h) Altura
E13: SARDINEL A 10 | G13: PARALELO A TORRES | I13: 55 | J13: 1
G14: ESQUINA TORRE | I14: 5 | J14: 1
G15: MATERA | I15: 5 | J15: 1
G16: MATERA | I16: 5 | J16: 1
G17: MATERA CIERRE | I17: 1 | J17: 1
G18: FIN TORRE ESCALERA | I18: 5 | J18: 1
G19: TRANSICION VIA (SENDERO) | I19: 7 | J19: 1
E30: (l)TOTAL | K30: =+SUM(K11:K29) -> 0
A31: Elaboró: | C31: Elaboró: | E31: Revisó: | H31: Aprobó:

Sheet 1.7 (0)
C1: ALCALDÍA DE SAMACÁ | E1: MACROPROCESO | I1: MISIONAL
E2: PROCESO | I2: GESTIÓN TERRITORIAL E INFRAESTRUCTURA
C3: SISTEMA INTEGRADO DE GESTIÓN (MECI 1000:2014 – NTCGP 1000:2009) | E3: FORMATO
E4: F-GTI-015 | I4: Página 1 de 1
E5: Versión 1
A6: MEMORIAS DE CANTIDADES
A7: CÓDIGO | B7: 1.7 | C7: (b) DESCRIPCIÓN ÍTEM | D7: =+VLOOKUP(B7,'FORMATO PRESUPUESTO'!D10:L31,3,FALSE) -> 72151900 | J7: (c) UND: | K7: =+VLOOKUP(B7,'FORMATO PRESUPUESTO'!D10:L31,4,FALSE) -> DESCAPOTE MANUAL (HASTA 20 CM ) DISTANCIA DE 1 A 5 KM
A9: (d) DESCRIPCIÓN Y/O REGISTRO FOTOGRÁFICO DE LA MEMORIA | E9: (e) LOCALIZACIÓN | F9: DIMENSIONES | I9: (i) MEDIDA PARCIAL (M2) | J9: (j) N° DE ELEMENTOS | K9: (k) MEDIDA TOTAL (M2)
F10: (f) Ancho | G10: (g) Longitud | H10: (h) Altura
E11: LINEA DE DEMARCACIÓN PARA PARQUEADEROS | G11: 4.5 | I11: =+F11*G11 -> 0 | J11: 21
E30: (l)TOTAL | K30: =+SUM(K11:K29) -> 0
A31: Elaboró: | C31: Elaboró: | E31: Revisó: | H31: Aprobó:

Sheet 1.8 (0)
C1: ALCALDÍA DE SAMACÁ | E1: MACROPROCESO | I1: MISIONAL
E2: PROCESO | I2: GESTIÓN TERRITORIAL E INFRAESTRUCTURA
C3: SISTEMA INTEGRADO DE GESTIÓN (MECI 1000:2014 – NTCGP 1000:2009) | E3: FORMATO
E4: F-GTI-015 | I4: Página 1 de 1
E5: Versión 1
A6: MEMORIAS DE CANTIDADES
A7: CÓDIGO | B7: 1.8 | C7: (b) DESCRIPCIÓN ÍTEM | D7: =+VLOOKUP(B7,'FORMATO PRESUPUESTO'!D10:L31,3,FALSE) -> 72151900 | J7: (c) UND: | K7: =+VLOOKUP(B7,'FORMATO PRESUPUESTO'!D10:L31,4,FALSE) -> DESMONTE ADOQUIN PREFABRICADO
A9: (d) DESCRIPCIÓN Y/O REGISTRO FOTOGRÁFICO DE LA MEMORIA | E9: (e) LOCALIZACIÓN | F9: DIMENSIONES | I9: =+CONCATENATE("(i) MEDIDA PARCIAL"," ","(",K7,")") -> (i) MEDIDA PARCIAL (DESMONTE ADOQUIN PREFABRICADO) | J9: (j) N° DE ELEMENTOS | K9: =+CONCATENATE("(k) MEDIDA TOTAL"," ","(",K7,")") -> (k) MEDIDA TOTAL (DESMONTE ADOQUIN PREFABRICADO)
F10: (f) Ancho | G10: (g) Longitud | H10: (h) Altura
E11: PARALELO A ZONA DE PARQUEO | G11: 60.4 | I11: =+G11 -> 60.4 | J11: 1
K12: =+I12*J12 -> 0
K13: =+I13*J13 -> 0
E30: (l)TOTAL | K30: =+SUM(K11:K29) -> 0
A31: Elaboró: | C31: Elaboró: | E31: Revisó: | H31: Aprobó:

Sheet 2.1
C1: ALCALDÍA DE SAMACÁ | E1: MACROPROCESO | I1: MISIONAL
E2: PROCESO | I2: GESTIÓN TERRITORIAL E INFRAESTRUCTURA
C3: SISTEMA INTEGRADO DE GESTIÓN (MECI 1000:2014 – NTCGP 1000:2009) | E3: FORMATO
E4: F-GTI-015 | I4: Página 1 de 1
E5: Versión 1
A6: MEMORIAS DE CANTIDADES
A7: CÓDIGO | B7: 2.1 | C7: (b) DESCRIPCIÓN ÍTEM | D7: ='FORMATO PRESUPUESTO'!G9 -> CORTE DE ARBUSTO | J7: (c) UND: | K7: km
A9: (d) DESCRIPCIÓN Y/O REGISTRO FOTOGRÁFICO DE LA MEMORIA | E9: (e) LOCALIZACIÓN | F9: DIMENSIONES | I9: (i) MEDIDA PARCIAL (M2) | J9: (j) N° DE ELEMENTOS | K9: (k) MEDIDA TOTAL (km)
F10: N° | G10: (g) Longitud | H10: (h) Altura
E11: =D7 -> CORTE DE ARBUSTO | F11: 1 | G11: =24.3/1000 -> 0.0243 | J11: 1 | K11: =G11*J11 -> 0.0243
F12: 2 | G12: 0.065 | J12: 1 | K12: =G12*J12 -> 0.065
F13: 3 | G13: =21.5/1000 -> 0.0215 | J13: 1 | K13: =G13*J13 -> 0.0215
F14: 4 | G14: 0.02 | J14: 1 | K14: =G14*J14 -> 0.02
F15: 5 | G15: =2.5/1000 -> 0.0025 | J15: 1 | K15: =G15*J15 -> 0.0025
F16: 6 | G16: 0.025 | J16: 1 | K16: =G16*J16 -> 0.025
E17: ANDEN PERIMETRAL | F17: 7 | G17: 0.081 | J17: 1 | K17: =G17*J17 -> 0.081
E18: AREA DE ESCALERAS | F18: 8 | G18: 0.02 | J18: 1 | K18: =G18*J18 -> 0.02
E19: SENDERO PEATONAL Y RAMPA ENTRE ESCALERAS | F19: 9 | G19: =(3.9+18.5+4.9+7.2)/1000 -> 0.0345 | J19: 1 | K19: =G19*J19 -> 0.0345
E30: (l)TOTAL | K30: =+SUM(K11:K29) -> 0.2938
A31: Elaboró: | C31: Elaboró: | E31: Revisó: | H31: Aprobó:
G43: =18.5+4.9 -> 23.4

Sheet 2.2
C1: ALCALDÍA DE SAMACÁ | E1: MACROPROCESO | I1: MISIONAL
E2: PROCESO | I2: GESTIÓN TERRITORIAL E INFRAESTRUCTURA
C3: SISTEMA INTEGRADO DE GESTIÓN (MECI 1000:2014 – NTCGP 1000:2009) | E3: FORMATO
E4: F-GTI-015 | I4: Página 1 de 1
E5: Versión 1
A6: MEMORIAS DE CANTIDADES
A7: CÓDIGO | B7: 2.2 | C7: (b) DESCRIPCIÓN ÍTEM | D7: =+VLOOKUP(B7,'FORMATO PRESUPUESTO'!D10:L31,3,FALSE) -> 72101500 | J7: (c) UND: | K7: =+VLOOKUP(B7,'FORMATO PRESUPUESTO'!D10:L31,4,FALSE) -> RELLENO CON MATERIAL DE AFIRMADO COMPACTADO RANA Y/O VIBROCOMPACTADOR
A9: (d) DESCRIPCIÓN Y/O REGISTRO FOTOGRÁFICO DE LA MEMORIA | E9: (e) LOCALIZACIÓN | F9: DIMENSIONES | I9: (i) MEDIDA PARCIAL (M3) | J9: (j) N° DE ELEMENTOS | K9: (k) MEDIDA TOTAL (M3)
F10: area m2 | H10: (h) Altura
E11: SENDERO | F11: =29.31+36.3+23.4+21.08+17.195+17.0531+36.5702+15+15+17+6.4 -> 234.3083 | H11: 0.3 | I11: =+H11*F11 -> 70.29249 | J11: 1 | K11: =+I11*J11 -> 70.29249
E12: ROMBO | F12: 36 | H12: 0.3 | I12: =+H12*F12 -> 10.8 | J12: 4 | K12: =+I12*J12 -> 43.2
E13: TRAPECIO | F13: 3.88 | H13: 0.3 | I13: =+H13*F13 -> 1.164 | J13: 6 | K13: =+I13*J13 -> 6.984
E46: (l)TOTAL | K46: =+SUM(K11:K45) -> 120.47649
A47: Elaboró: | C47: Elaboró: | E47: Revisó: | H47: Aprobó:

Sheet 2.2 (2)
C1: ALCALDÍA DE SAMACÁ | E1: MACROPROCESO | I1: MISIONAL
E2: PROCESO | I2: GESTIÓN TERRITORIAL E INFRAESTRUCTURA
C3: SISTEMA INTEGRADO DE GESTIÓN (MECI 1000:2014 – NTCGP 1000:2009) | E3: FORMATO
E4: F-GTI-015 | I4: Página 1 de 1
E5: Versión 1
A6: MEMORIAS DE CANTIDADES
A7: CÓDIGO | B7: 2.2 | C7: (b) DESCRIPCIÓN ÍTEM | D7: =+VLOOKUP(B7,'FORMATO PRESUPUESTO'!D10:L31,3,FALSE) -> 72101500 | J7: (c) UND: | K7: =+VLOOKUP(B7,'FORMATO PRESUPUESTO'!D10:L31,4,FALSE) -> RELLENO CON MATERIAL DE AFIRMADO COMPACTADO RANA Y/O VIBROCOMPACTADOR
A9: (d) DESCRIPCIÓN Y/O REGISTRO FOTOGRÁFICO DE LA MEMORIA | E9: (e) LOCALIZACIÓN | F9: DIMENSIONES | I9: (i) MEDIDA PARCIAL (M3) | J9: (j) N° DE ELEMENTOS | K9: (k) MEDIDA TOTAL (M3)
F10: area m2 | H10: (h) Altura
E11: SENDERO | F11: =29.31+36.3+23.4+21.08+17.195+17.0531+36.5702+15+15+17+6.4 -> 234.3083 | H11: 0.3 | I11: =+H11*F11 -> 70.29249 | J11: 1 | K11: =+I11*J11 -> 70.29249
E12: ROMBO | F12: 36 | H12: 0.3 | I12: =+H12*F12 -> 10.8 | J12: 4 | K12: =+I12*J12 -> 43.2
E13: TRAPECIO | F13: 3.88 | H13: 0.3 | I13: =+H13*F13 -> 1.164 | J13: 6 | K13: =+I13*J13 -> 6.984
F14: UBICACIÓN | G14: MUNICIPIO | H14: CONTRATISTA
E15: SENDERO | F15: 1 | G15: 29.31 | H15: 30.78 | I15: 0.3 | J15: 1 | K15: =H15*I15*J15 -> 9.234 | M15: LOSETA A-40 TRAMO 1 | N15: 23.35 | P15: 3 | Q15: 13.1 | R15: 1 | S15: =Q15*R15 -> 13.1
F16: 2 | G16: 36.3 | H16: 38.4 | I16: 0.3 | J16: 1 | K16: =H16*I16*J16 -> 11.52 | N16: 21.7 | P16: 4 | Q16: 8.83 | R16: 1 | S16: =Q16*R16 -> 8.83
F17: 3 | G17: 23.4 | H17: 13.1 | I17: 0.3 | J17: 1 | K17: =H17*I17*J17 -> 3.93 | M17: LOSETA A-40 TRAMO 2 | N17: 36.63 | P17: 2 | Q17: 38.4 | R17: 1 | S17: =Q17*R17 -> 38.4
F18: 4 | G18: 21.08 | H18: 8.83 | I18: 0.3 | J18: 1 | K18: =H18*I18*J18 -> 2.649 | N18: 37.48 | P18: 7 | Q18: 42.85 | R18: 1 | S18: =Q18*R18 -> 42.85
F19: 5 | G19: 17.195 | H19: 7.32 | I19: 0.3 | J19: 1 | K19: =H19*I19*J19 -> 2.196 | N19: 17.03 | P19: 10 | Q19: 22.44 | R19: 1 | S19: =Q19*R19 -> 22.44
F20: 6 | G20: 17.0531 | H20: 7.12 | I20: 0.3 | J20: 1 | K20: =H20*I20*J20 -> 2.136 | M20: LOSETA A-40 TRAMO 3 | N20: 17.19 | P20: 5 | Q20: 7.32 | R20: 1 | S20: =Q20*R20 -> 7.32
F21: 7 | G21: 36.5702 | H21: 42.85 | I21: 0.3 | J21: 1 | K21: =H21*I21*J21 -> 12.855 | N21: 17.06 | P21: 6 | Q21: 7.12 | R21: 1 | S21: =Q21*R21 -> 7.12
F22: 8 | G22: 15 | H22: 5.1 | I22: 0.3 | J22: 1 | K22: =H22*I22*J22 -> 1.53 | M22: LOSETA A-40 TRAMO 4 | N22: 15.11 | P22: 8 | Q22: 5.1 | R22: 1 | S22: =Q22*R22 -> 5.1
F23: 9 | G23: 15 | H23: 5 | I23: 0.3 | J23: 1 | K23: =H23*I23*J23 -> 1.5 | N23: 14.97 | P23: 9 | Q23: 5 | R23: 1 | S23: =Q23*R23 -> 5
F24: 10 | G24: 17 | H24: 22.44 | I24: 0.3 | J24: 1 | K24: =H24*I24*J24 -> 6.732 | M24: LOSETA A-40 TRAMO 5 | N24: 6.42 | P24: 11 | Q24: 8.55 | R24: 1 | S24: =Q24*R24 -> 8.55
F25: 11 | G25: 6.4 | H25: 8.55 | I25: 0.3 | J25: 1 | K25: =H25*I25*J25 -> 2.565 | M25: LOSETA A-40 TRAMO 6 | N25: 29.31 | P25: 1 | Q25: 30.78 | R25: 1 | S25: =Q25*R25 -> 30.78
G26: =SUM(G15:G25) -> 234.3083 | H26: =SUM(H15:H25) -> 189.49 | K26: =H26*I26*J26 -> 0 | N26: =SUM(N15:O25) -> 236.25
E27: ROMBO | F27: 1a | G27: =4.53*4.53 -> 20.5209 | H27: =4.53*4.53 -> 20.5209 | I27: 0.3 | J27: 1 | K27: =H27*I27*J27 -> 6.15627
F28: 2a | G28: =4.53*4.53 -> 20.5209 | H28: =4.53*4.53 -> 20.5209 | I28: 0.3 | J28: 1 | K28: =H28*I28*J28 -> 6.15627
F29: 3a | G29: =4.53*4.53 -> 20.5209 | H29: =4.53*4.53 -> 20.5209 | I29: 0.3 | J29: 1 | K29: =H29*I29*J29 -> 6.15627
F30: 4a | G30: =4.53*4.53 -> 20.5209 | H30: =4.53*4.53 -> 20.5209 | I30: 0.3 | J30: 1 | K30: =H30*I30*J30 -> 6.15627
G31: =SUM(G27:G30) -> 82.0836 | H31: =SUM(H27:H30) -> 82.0836 | K31: =H31*I31*J31 -> 0 | M31: 1 | N31: 75.7524
E32: TRAPECIO | F32: 1b | G32: 3.88 | H32: =4.33*1.25 -> 5.4125 | I32: 0.3 | J32: 1 | K32: =H32*I32*J32 -> 1.62375 | M32: 2 | N32: 76.2417
F33: 2b | G33: 3.88 | H33: =4.33*1.25 -> 5.4125 | I33: 0.3 | J33: 1 | K33: =H33*I33*J33 -> 1.62375 | M33: 3 | N33: 59.2167
F34: 3b | G34: 3.88 | H34: =4.33*1.25 -> 5.4125 | I34: 0.3 | J34: 1 | K34: =H34*I34*J34 -> 1.62375 | M34: 4 | N34: 59.2894
F35: 4b | G35: 3.88 | H35: =4.33*1.25 -> 5.4125 | I35: 0.3 | J35: 1 | K35: =H35*I35*J35 -> 1.62375 | M35: 5 | N35: 40.9723
F36: 5b | G36: 3.88 | H36: =4.33*1.25 -> 5.4125 | I36: 0.3 | J36: 1 | K36: =H36*I36*J36 -> 1.62375 | M36: 6 | N36: 92.5683
F37: 6b | G37: 3.88 | H37: =4.33*1.25 -> 5.4125 | I37: 0.3 | J37: 1 | K37: =H37*I37*J37 -> 1.62375 | M37: 7 | N37: 54.4134
G38: =SUM(G32:G37) -> 23.28 | H38: =SUM(H32:H37) -> 32.475 | M38: 8 | N38: 11.0549
E39: ZONAS VERDES | F39: 1c | H39: 75.7524 | I39: 0.25 | J39: 1 | K39: =H39*I39*J39 -> 18.9381 | M39: 9 | N39: 279.36
F40: 2c | H40: 76.2417 | I40: 0.25 | J40: 1 | K40: =H40*I40*J40 -> 19.060425 | M40: 10 | N40: 3.1358
F41: 3c | H41: 59.2167 | I41: 0.2 | J41: 1 | K41: =H41*I41*J41 -> 11.84334
...

Sheet 2.3
C1: ALCALDÍA DE SAMACÁ | E1: MACROPROCESO | I1: MISIONAL
E2: PROCESO | I2: GESTIÓN TERRITORIAL E INFRAESTRUCTURA
C3: SISTEMA INTEGRADO DE GESTIÓN (MECI 1000:2014 – NTCGP 1000:2009) | E3: FORMATO
E4: F-GTI-015 | I4: Página 1 de 1
E5: Versión 1
A6: MEMORIAS DE CANTIDADES
A7: CÓDIGO | B7: 2.3 | C7: (b) DESCRIPCIÓN ÍTEM | D7: =+VLOOKUP(B7,'FORMATO PRESUPUESTO'!D10:L31,3,FALSE) -> 72101500 | J7: (c) UND: | K7: =+VLOOKUP(B7,'FORMATO PRESUPUESTO'!D10:L31,4,FALSE) -> PLACA BASE EN CONCRETO E= 8 CM 2500 PSI
A9: (d) DESCRIPCIÓN Y/O REGISTRO FOTOGRÁFICO DE LA MEMORIA | E9: (e) LOCALIZACIÓN | F9: DIMENSIONES | I9: (i) MEDIDA PARCIAL (Kg) | J9: (j) N° DE ELEMENTOS | K9: (k) MEDIDA TOTAL (kg)
F10: Area (m2) | H10: espesor (m)
E11: =+D7 -> 72101500 | F11: =23.3993+144+21.0727+36.3011+23.1084+17.195+17.0531+36.5702+15.1008+15.0025+17.0785+6.4079+29.3097 -> 401.5992 | H11: 0.2 | J11: 1 | K11: =+F11*H11*J11 -> 80.31984
E33: (l)TOTAL | K33: =+SUM(K11:K32) -> 80.31984
A34: Elaboró: | C34: Elaboró: | E34: Revisó: | H34: Aprobó:

Sheet 2.3 (2)
C1: ALCALDÍA DE SAMACÁ | E1: MACROPROCESO | I1: MISIONAL
E2: PROCESO | I2: GESTIÓN TERRITORIAL E INFRAESTRUCTURA
C3: SISTEMA INTEGRADO DE GESTIÓN (MECI 1000:2014 – NTCGP 1000:2009) | E3: FORMATO
E4: F-GTI-015 | I4: Página 1 de 1
E5: Versión 1
A6: MEMORIAS DE CANTIDADES
A7: CÓDIGO | B7: 2.3 | C7: (b) DESCRIPCIÓN ÍTEM | D7: =+VLOOKUP(B7,'FORMATO PRESUPUESTO'!D10:L31,3,FALSE) -> 72101500 | J7: (c) UND: | K7: =+VLOOKUP(B7,'FORMATO PRESUPUESTO'!D10:L31,4,FALSE) -> PLACA BASE EN CONCRETO E= 8 CM 2500 PSI
A9: (d) DESCRIPCIÓN Y/O REGISTRO FOTOGRÁFICO DE LA MEMORIA | E9: (e) LOCALIZACIÓN | F9: DIMENSIONES | I9: (i) MEDIDA PARCIAL (Kg) | J9: (j) N° DE ELEMENTOS | K9: (k) MEDIDA TOTAL (kg)
F10: Area (m2) | H10: espesor (m)
E11: =+D7 -> 72101500 | F11: =23.3993+144+21.0727+36.3011+23.1084+17.195+17.0531+36.5702+15.1008+15.0025+17.0785+6.4079+29.3097 -> 401.5992 | H11: 0.2 | J11: 1 | K11: =+F11*H11*J11 -> 80.31984
F13: UBICACIÓN | G13: MUNICIPIO | H13: CONTRATISTA
E14: SENDERO | F14: 1 | G14: 29.31 | H14: 30.78 | I14: 0.2 | J14: 1 | K14: =H14*I14*J14 -> 6.156
F15: 2 | G15: 36.3 | H15: 38.4 | I15: 0.2 | J15: 1 | K15: =H15*I15*J15 -> 7.68
F16: 3 | G16: 23.4 | H16: 13.1 | I16: 0.2 | J16: 1 | K16: =H16*I16*J16 -> 2.62
F17: 4 | G17: 21.08 | H17: 8.83 | I17: 0.2 | J17: 1 | K17: =H17*I17*J17 -> 1.766
F18: 5 | G18: 17.195 | H18: 7.32 | I18: 0.2 | J18: 1 | K18: =H18*I18*J18 -> 1.464
F19: 6 | G19: 17.0531 | H19: 7.12 | I19: 0.2 | J19: 1 | K19: =H19*I19*J19 -> 1.424
F20: 7 | G20: 36.5702 | H20: 42.85 | I20: 0.2 | J20: 1 | K20: =H20*I20*J20 -> 8.57
F21: 8 | G21: 15 | H21: 5.1 | I21: 0.2 | J21: 1 | K21: =H21*I21*J21 -> 1.02
F22: 9 | G22: 15 | H22: 5 | I22: 0.2 | J22: 1 | K22: =H22*I22*J22 -> 1
F23: 10 | G23: 17 | H23: 22.44 | I23: 0.2 | J23: 1 | K23: =H23*I23*J23 -> 4.488
F24: 11 | G24: 6.4 | H24: 8.55 | I24: 0.2 | J24: 1 | K24: =H24*I24*J24 -> 1.71
G25: =SUM(G14:G24) -> 234.3083 | H25: =SUM(H14:H24) -> 189.49 | K25: =H25*I25*J25 -> 0
E26: ROMBO | F26: 1a | G26: =4.53*4.53 -> 20.5209 | H26: =4.53*4.53 -> 20.5209 | I26: 0.2 | J26: 1 | K26: =H26*I26*J26 -> 4.10418
F27: 2a | G27: =4.53*4.53 -> 20.5209 | H27: =4.53*4.53 -> 20.5209 | I27: 0.2 | J27: 1 | K27: =H27*I27*J27 -> 4.10418
F28: 3a | G28: =4.53*4.53 -> 20.5209 | H28: =4.53*4.53 -> 20.5209 | I28: 0.2 | J28: 1 | K28: =H28*I28*J28 -> 4.10418
F29: 4a | G29: =4.53*4.53 -> 20.5209 | H29: =4.53*4.53 -> 20.5209 | I29: 0.2 | J29: 1 | K29: =H29*I29*J29 -> 4.10418
G30: =SUM(G26:G29) -> 82.0836 | H30: =SUM(H26:H29) -> 82.0836 | K30: =H30*I30*J30 -> 0
E31: TRAPECIO | F31: 1b | G31: 3.88 | H31: =4.33*1.25 -> 5.4125 | I31: 0.2 | J31: 1 | K31: =H31*I31*J31 -> 1.0825
F32: 2b | G32: 3.88 | H32: =4.33*1.25 -> 5.4125 | I32: 0.2 | J32: 1 | K32: =H32*I32*J32 -> 1.0825
F33: 3b | G33: 3.88 | H33: =4.33*1.25 -> 5.4125 | I33: 0.2 | J33: 1 | K33: =H33*I33*J33 -> 1.0825
F34: 4b | G34: 3.88 | H34: =4.33*1.25 -> 5.4125 | I34: 0.2 | J34: 1 | K34: =H34*I34*J34 -> 1.0825
F35: 5b | G35: 3.88 | H35: =4.33*1.25 -> 5.4125 | I35: 0.2 | J35: 1 | K35: =H35*I35*J35 -> 1.0825
F36: 6b | G36: 3.88 | H36: =4.33*1.25 -> 5.4125 | I36: 0.2 | J36: 1 | K36: =H36*I36*J36 -> 1.0825
G37: =SUM(G31:G36) -> 23.28 | H37: =SUM(H31:H36) -> 32.475
E38: ZONAS VERDES | F38: 1c | H38: 75.7524 | I38: 0.2 | J38: 1 | K38: =H38*I38*J38 -> 15.15048 | M38: 0.25
F39: 2c | H39: 76.2417 | I39: 0.2 | J39: 1 | K39: =H39*I39*J39 -> 15.24834 | M39: 0.25
F40: 3c | H40: 59.2167 | I40: 0.15 | J40: 1 | K40: =H40*I40*J40 -> 8.882505 | M40: 0.2
F41: 4c | H41: 59.2894 | I41: 0.15 | J41: 1 | K41: =H41*I41*J41 -> 8.89341 | M41: 0.2
F42: 5c | H42: 40.9723 | I42: 0.1 | J42: 1 | K42: =H42*I42*J42 -> 4.09723 | M42: 0.15
...

Sheet 2.4
C1: ALCALDÍA DE SAMACÁ | E1: MACROPROCESO | I1: MISIONAL
E2: PROCESO | I2: GESTIÓN TERRITORIAL E INFRAESTRUCTURA
C3: SISTEMA INTEGRADO DE GESTIÓN (MECI 1000:2014 – NTCGP 1000:2009) | E3: FORMATO
E4: F-GTI-015 | I4: Página 1 de 1
E5: Versión 1
A6: MEMORIAS DE CANTIDADES
A7: CÓDIGO | B7: ='FORMATO PRESUPUESTO'!#REF! -> #REF! | C7: (b) DESCRIPCIÓN ÍTEM | D7: ='FORMATO PRESUPUESTO'!#REF! -> #REF! | J7: (c) UND: | K7: =+VLOOKUP(B7,'FORMATO PRESUPUESTO'!D10:L31,4,FALSE) -> #REF!
A9: (d) DESCRIPCIÓN Y/O REGISTRO FOTOGRÁFICO DE LA MEMORIA | E9: (e) LOCALIZACIÓN | F9: DIMENSIONES | I9: (i) MEDIDA PARCIAL (M3) | J9: (j) N° DE ELEMENTOS | K9: (k) MEDIDA TOTAL (M2)
F10: (f) Ancho | G10: (g) Longitud | H10: (h) Altura
E11: LOSETA PARA SECCIÓN DE ROMBOS | F11: 4.2 | G11: 4.2 | H11: 0 | I11: =G11*F11 -> 17.64 | J11: 4 | K11: =+J11*I11 -> 70.56
E30: (l)TOTAL | K30: =+SUM(K11:K29) -> 70.56
A31: Elaboró: | C31: Elaboró: | E31: Revisó: | H31: Aprobó:

Sheet 2.4 VF
C1: ALCALDÍA DE SAMACÁ | E1: MACROPROCESO | I1: MISIONAL
E2: PROCESO | I2: GESTIÓN TERRITORIAL E INFRAESTRUCTURA
C3: SISTEMA INTEGRADO DE GESTIÓN (MECI 1000:2014 – NTCGP 1000:2009) | E3: FORMATO
E4: F-GTI-015 | I4: Página 1 de 1
E5: Versión 1
A6: MEMORIAS DE CANTIDADES
A7: CÓDIGO | B7: ='FORMATO PRESUPUESTO'!#REF! -> #REF! | C7: (b) DESCRIPCIÓN ÍTEM | D7: ='FORMATO PRESUPUESTO'!#REF! -> #REF! | J7: (c) UND: | K7: =+VLOOKUP(B7,'FORMATO PRESUPUESTO'!D10:L31,4,FALSE) -> #REF!
A9: (d) DESCRIPCIÓN Y/O REGISTRO FOTOGRÁFICO DE LA MEMORIA | E9: (e) LOCALIZACIÓN | F9: DIMENSIONES | I9: (i) MEDIDA PARCIAL (M3) | J9: (j) N° DE ELEMENTOS | K9: (k) MEDIDA TOTAL (M2)
F10: (f) Ancho | G10: (g) Longitud | H10: (h) Altura
E11: LOSETA PARA SECCIÓN DE ROMBOS | F11: 3.2 | G11: 3.2 | H11: 0 | I11: =G11*F11 -> 10.24 | J11: 4 | K11: =+J11*I11 -> 40.96
E30: (l)TOTAL | K30: =+SUM(K11:K29) -> 40.96
A31: Elaboró: | C31: Elaboró: | E31: Revisó: | H31: Aprobó:

Sheet 2.5
C1: ALCALDÍA DE SAMACÁ | E1: MACROPROCESO | I1: MISIONAL
E2: PROCESO | I2: GESTIÓN TERRITORIAL E INFRAESTRUCTURA
C3: SISTEMA INTEGRADO DE GESTIÓN (MECI 1000:2014 – NTCGP 1000:2009) | E3: FORMATO
E4: F-GTI-015 | I4: Página 1 de 1
E5: Versión 1
A6: MEMORIAS DE CANTIDADES
A7: CÓDIGO | B7: 2.5 | C7: (b) DESCRIPCIÓN ÍTEM | D7: =+VLOOKUP(B7,'FORMATO PRESUPUESTO'!D10:L31,3,FALSE) -> 72101500 | J7: (c) UND: | K7: =+VLOOKUP(B7,'FORMATO PRESUPUESTO'!D10:L31,4,FALSE) -> PINTURA EPOXICA PARA PISOS EN CONCRETO
A9: (d) DESCRIPCIÓN Y/O REGISTRO FOTOGRÁFICO DE LA MEMORIA | E9: (e) LOCALIZACIÓN | F9: DIMENSIONES | I9: =+CONCATENATE("(i) MEDIDA PARCIAL"," ","(",K7,")") -> (i) MEDIDA PARCIAL (PINTURA EPOXICA PARA PISOS EN CONCRETO) | J9: (j) N° DE ELEMENTOS | K9: =+CONCATENATE("(k) MEDIDA TOTAL"," ","(",K7,")") -> (k) MEDIDA TOTAL (PINTURA EPOXICA PARA PISOS EN CONCRETO)
F10: AREA (m2) | H10: (h) Altura
E11: LOSETA DE CUADRADOS | F11: =4.2*4.2 -> 17.64 | I11: =+G11*H11 -> 0 | J11: 4 | K11: =+F11*J11 -> 70.56
E12: LOSETA A-40 TRAMO 1 | F12: =21.0727+23.3993 -> 44.472 | J12: 1 | K12: =+F12*J12 -> 44.472
E13: LOSETA A-40 TRAMO 2 | F13: =36.3011+36.5702+17.0785 -> 89.9498 | J13: 1 | K13: =+F13*J13 -> 89.9498
E14: LOSETA A-40 TRAMO 3 | F14: =17.195+17.0531 -> 34.2481 | J14: 1 | K14: =+F14*J14 -> 34.2481
E15: LOSETA A-40 TRAMO 4 | F15: =15.1008+15.0025 -> 30.1033 | J15: 1 | K15: =+F15*J15 -> 30.1033
E16: LOSETA A-40 TRAMO 5 | F16: 6.4079 | J16: 1 | K16: =+F16*J16 -> 6.4079
E17: LOSETA A-40 TRAMO 6 | F17: 29.3097 | J17: 1 | K17: =+F17*J17 -> 29.3097
E30: (l)TOTAL | K30: =+SUM(K11:K29) -> 305.0508
A31: Elaboró: | C31: Elaboró: | E31: Revisó: | H31: Aprobó:

Sheet 2.5 (2)
C1: ALCALDÍA DE SAMACÁ | E1: MACROPROCESO | I1: MISIONAL
E2: PROCESO | I2: GESTIÓN TERRITORIAL E INFRAESTRUCTURA
C3: SISTEMA INTEGRADO DE GESTIÓN (MECI 1000:2014 – NTCGP 1000:2009) | E3: FORMATO
E4: F-GTI-015 | I4: Página 1 de 1
E5: Versión 1
A6: MEMORIAS DE CANTIDADES
A7: CÓDIGO | B7: 2.5 | C7: (b) DESCRIPCIÓN ÍTEM | D7: =+VLOOKUP(B7,'FORMATO PRESUPUESTO'!D10:L31,3,FALSE) -> 72101500 | J7: (c) UND: | K7: =+VLOOKUP(B7,'FORMATO PRESUPUESTO'!D10:L31,4,FALSE) -> PINTURA EPOXICA PARA PISOS EN CONCRETO
A9: (d) DESCRIPCIÓN Y/O REGISTRO FOTOGRÁFICO DE LA MEMORIA | E9: (e) LOCALIZACIÓN | F9: DIMENSIONES | I9: =+CONCATENATE("(i) MEDIDA PARCIAL"," ","(",K7,")") -> (i) MEDIDA PARCIAL (PINTURA EPOXICA PARA PISOS EN CONCRETO) | J9: (j) N° DE ELEMENTOS | K9: =+CONCATENATE("(k) MEDIDA TOTAL"," ","(",K7,")") -> (k) MEDIDA TOTAL (PINTURA EPOXICA PARA PISOS EN CONCRETO)
F10: AREA (m2) | H10: (h) Altura
E11: LOSETA DE CUADRADOS | F11: =4.2*4.2 -> 17.64 | I11: =+G11*H11 -> 0 | J11: 0 | K11: =+F11*J11 -> 0
E12: LOSETA A-40 TRAMO 1 | F12: =21.0727 -> 21.0727 | H12: 3 | I12: 23.35 | J12: 1 | K12: =F12*J12 -> 21.0727
F13: 23.3993 | H13: 4 | I13: 21.7 | J13: 1 | K13: =F13*J13 -> 23.3993
E14: LOSETA A-40 TRAMO 2 | F14: =36.3011 -> 36.3011 | H14: 2 | I14: 36.63 | J14: 1 | K14: =F14*J14 -> 36.3011
F15: 36.5702 | H15: 7 | I15: 37.48 | J15: 1 | K15: =F15*J15 -> 36.5702
F16: 17.0785 | H16: 10 | I16: 17.03 | J16: 1 | K16: =F16*J16 -> 17.0785
E17: LOSETA A-40 TRAMO 3 | F17: 17.195 | H17: 5 | I17: 17.19 | J17: 1 | K17: =F17*J17 -> 17.195
F18: 17.0531 | H18: 6 | I18: 17.06 | J18: 1 | K18: =F18*J18 -> 17.0531
E19: LOSETA A-40 TRAMO 4 | F19: =15.1008 -> 15.1008 | H19: 8 | I19: 15.11 | J19: 1 | K19: =F19*J19 -> 15.1008
F20: 15.0025 | H20: 9 | I20: 14.97 | J20: 1 | K20: =F20*J20 -> 15.0025
E21: LOSETA A-40 TRAMO 5 | F21: 6.4079 | H21: 11 | I21: 6.42 | J21: 1 | K21: =F21*J21 -> 6.4079
E22: LOSETA A-40 TRAMO 6 | F22: 29.3097 | H22: 2 | I22: 29.31 | J22: 1 | K22: =F22*J22 -> 29.3097
I23: =SUM(I11:I22) -> 236.25
E35: (l)TOTAL | K35: =+SUM(K11:K34) -> 234.4908
A36: Elaboró: | C36: Elaboró: | E36: Revisó: | H36: Aprobó:

Sheet 2.5 (3)
C1: ALCALDÍA DE SAMACÁ | E1: MACROPROCESO | I1: MISIONAL
E2: PROCESO | I2: GESTIÓN TERRITORIAL E INFRAESTRUCTURA
C3: SISTEMA INTEGRADO DE GESTIÓN (MECI 1000:2014 – NTCGP 1000:2009) | E3: FORMATO
E4: F-GTI-015 | I4: Página 1 de 1
E5: Versión 1
A6: MEMORIAS DE CANTIDADES
A7: CÓDIGO | B7: 2.5 | C7: (b) DESCRIPCIÓN ÍTEM | D7: =+VLOOKUP(B7,'FORMATO PRESUPUESTO'!D10:L31,3,FALSE) -> 72101500 | J7: (c) UND: | K7: =+VLOOKUP(B7,'FORMATO PRESUPUESTO'!D10:L31,4,FALSE) -> PINTURA EPOXICA PARA PISOS EN CONCRETO
A9: (d) DESCRIPCIÓN Y/O REGISTRO FOTOGRÁFICO DE LA MEMORIA | E9: (e) LOCALIZACIÓN | F9: DIMENSIONES | I9: =+CONCATENATE("(i) MEDIDA PARCIAL"," ","(",K7,")") -> (i) MEDIDA PARCIAL (PINTURA EPOXICA PARA PISOS EN CONCRETO) | J9: (j) N° DE ELEMENTOS | K9: =+CONCATENATE("(k) MEDIDA TOTAL"," ","(",K7,")") -> (k) MEDIDA TOTAL (PINTURA EPOXICA PARA PISOS EN CONCRETO)
F10: AREA (m2) | H10: (h) Altura
E11: LOSETA DE CUADRADOS | F11: =4.2*4.2 -> 17.64 | I11: =+G11*H11 -> 0 | J11: 0 | K11: =+F11*J11 -> 0
E12: LOSETA A-40 TRAMO 1 | F12: 23.35 | H12: 3 | I12: 13.1 | J12: 1 | K12: =I12*J12 -> 13.1 | M12: 23.35
F13: 21.7 | G13: 21.7 | H13: 4 | I13: 8.83 | J13: 1 | K13: =I13*J13 -> 8.83 | M13: 21.7
E14: LOSETA A-40 TRAMO 2 | F14: 36.63 | G14: 36.63 | H14: 2 | I14: 38.4 | J14: 1 | K14: =I14*J14 -> 38.4 | M14: 36.63
F15: 37.48 | G15: 37.48 | H15: 7 | I15: 42.85 | J15: 1 | K15: =I15*J15 -> 42.85 | M15: 37.48
F16: 17.03 | G16: 17.03 | H16: 10 | I16: 22.44 | J16: 1 | K16: =I16*J16 -> 22.44 | M16: 17.03
E17: LOSETA A-40 TRAMO 3 | F17: 17.19 | G17: 17.19 | H17: 5 | I17: 7.32 | J17: 1 | K17: =I17*J17 -> 7.32 | M17: 17.19
F18: 17.06 | G18: 17.06 | H18: 6 | I18: 7.12 | J18: 1 | K18: =I18*J18 -> 7.12 | M18: 17.06
E19: LOSETA A-40 TRAMO 4 | F19: 15.11 | G19: 15.11 | H19: 8 | I19: 5.1 | J19: 1 | K19: =I19*J19 -> 5.1 | M19: 15.11
F20: 14.97 | G20: 14.97 | H20: 9 | I20: 5 | J20: 1 | K20: =I20*J20 -> 5 | M20: 14.97
E21: LOSETA A-40 TRAMO 5 | F21: 6.42 | G21: 6.42 | H21: 11 | I21: 8.55 | J21: 1 | K21: =I21*J21 -> 8.55 | M21: 6.42
E22: LOSETA A-40 TRAMO 6 | F22: 29.31 | G22: 29.31 | H22: 1 | I22: 30.78 | J22: 1 | K22: =I22*J22 -> 30.78 | M22: 29.31
F23: =SUM(F12:F22) -> 236.25 | M23: =SUM(M12:M22) -> 236.25
E24: SENDERO ENTRE ESCALERAS FRENTE A TORRE "D" | I24: =28.97*1.6 -> 46.352 | J24: 1 | K24: =I24*J24 -> 46.352
E35: (l)TOTAL | K35: =+SUM(K12:K34) -> 235.842 | M35: =K35-F23 -> -0.408
A36: Elaboró: | C36: Elaboró: | E36: Revisó: | H36: Aprobó:

Sheet 2.6
C1: ALCALDÍA DE SAMACÁ | E1: MACROPROCESO | I1: MISIONAL
E2: PROCESO | I2: GESTIÓN TERRITORIAL E INFRAESTRUCTURA
C3: SISTEMA INTEGRADO DE GESTIÓN (MECI 1000:2014 – NTCGP 1000:2009) | E3: FORMATO
E4: F-GTI-015 | I4: Página 1 de 1
E5: Versión 1
A6: MEMORIAS DE CANTIDADES
A7: CÓDIGO | B7: =+'FORMATO PRESUPUESTO'!#REF! -> #REF! | C7: (b) DESCRIPCIÓN ÍTEM | D7: ='FORMATO PRESUPUESTO'!#REF! -> #REF! | J7: (c) UND: | K7: ='FORMATO PRESUPUESTO'!#REF! -> #REF!
A9: (d) DESCRIPCIÓN Y/O REGISTRO FOTOGRÁFICO DE LA MEMORIA | E9: (e) LOCALIZACIÓN | F9: DIMENSIONES | I9: (i) MEDIDA PARCIAL (M3) | J9: (j) N° DE ELEMENTOS | K9: (k) MEDIDA TOTAL (M2)
F10: (f) Ancho | G10: (g) Longitud | H10: (h) Altura
E11: SUMINISTRO E INSTALACIÓN DE ADOQUÍN PEATONAL CONCRETO 6 CM - para rombos | F11: 2.5 | G11: 2.5 | I11: =+((F11*G11)/2)*2 -> 6.25 | J11: 16 | K11: =+J11*I11 -> 100
E12: SUMINISTRO E INSTALACIÓN DE ADOQUÍN PEATONAL CONCRETO 6 CM - para bancos | F12: 4.23 | G12: 1.6 | H12: 1.85 | I12: =((F12+H12)*G12)/2 -> 4.864 | J12: 6 | K12: =+I12*J12 -> 29.184
E30: (l)TOTAL | K30: =+SUM(K11:K29) -> 129.184
A31: Elaboró: | C31: Elaboró: | E31: Revisó: | H31: Aprobó:

Sheet 2.6 (2)
C1: ALCALDÍA DE SAMACÁ | E1: MACROPROCESO | I1: MISIONAL
E2: PROCESO | I2: GESTIÓN TERRITORIAL E INFRAESTRUCTURA
C3: SISTEMA INTEGRADO DE GESTIÓN (MECI 1000:2014 – NTCGP 1000:2009) | E3: FORMATO
E4: F-GTI-015 | I4: Página 1 de 1
E5: Versión 1
A6: MEMORIAS DE CANTIDADES
A7: CÓDIGO | B7: =+'FORMATO PRESUPUESTO'!#REF! -> #REF! | C7: (b) DESCRIPCIÓN ÍTEM | D7: ='FORMATO PRESUPUESTO'!#REF! -> #REF! | J7: (c) UND: | K7: ='FORMATO PRESUPUESTO'!#REF! -> #REF!
A9: (d) DESCRIPCIÓN Y/O REGISTRO FOTOGRÁFICO DE LA MEMORIA | E9: (e) LOCALIZACIÓN | F9: DIMENSIONES | I9: (i) MEDIDA PARCIAL (M3) | J9: (j) N° DE ELEMENTOS | K9: (k) MEDIDA TOTAL (M2)
F10: (f) Ancho | G10: (g) Longitud | H10: (h) Altura
E11: SUMINISTRO E INSTALACIÓN DE ADOQUÍN PEATONAL CONCRETO 6 CM - para rombos | F11: 4.29 | G11: 2.14 | I11: =+((F11*G11)/2) -> 4.5903 | J11: 16 | K11: =+J11*I11 -> 73.4448
E12: SUMINISTRO E INSTALACIÓN DE ADOQUÍN PEATONAL CONCRETO 6 CM - para bancos | F12: 4.33 | G12: 1.83 | H12: 1.25 | I12: =((F12+G12)/2)*H12 -> 3.85 | J12: 6 | K12: =+I12*J12 -> 23.1
E30: (l)TOTAL | K30: =+SUM(K11:K29) -> 96.5448
A31: Elaboró: | C31: Elaboró: | E31: Revisó: | H31: Aprobó:

Sheet 2.6 (3)
C1: ALCALDÍA DE SAMACÁ | E1: MACROPROCESO | I1: MISIONAL
E2: PROCESO | I2: GESTIÓN TERRITORIAL E INFRAESTRUCTURA
C3: SISTEMA INTEGRADO DE GESTIÓN (MECI 1000:2014 – NTCGP 1000:2009) | E3: FORMATO
E4: F-GTI-015 | I4: Página 1 de 1
E5: Versión 1
A6: MEMORIAS DE CANTIDADES
A7: CÓDIGO | B7: =+'FORMATO PRESUPUESTO'!#REF! -> #REF! | C7: (b) DESCRIPCIÓN ÍTEM | D7: ='FORMATO PRESUPUESTO'!#REF! -> #REF! | J7: (c) UND: | K7: ='FORMATO PRESUPUESTO'!#REF! -> #REF!
A9: (d) DESCRIPCIÓN Y/O REGISTRO FOTOGRÁFICO DE LA MEMORIA | E9: (e) LOCALIZACIÓN | F9: DIMENSIONES | I9: (i) MEDIDA PARCIAL (M3) | J9: (j) N° DE ELEMENTOS | K9: (k) MEDIDA TOTAL (M2)
F10: (f) Ancho | G10: (g) Longitud | H10: (h) Altura
E11: SUMINISTRO E INSTALACIÓN DE ADOQUÍN PEATONAL CONCRETO 6 CM - para rombos | F11: 3.2 | G11: 1.6 | I11: =+((F11*G11)/2) -> 2.56 | J11: 16 | K11: =+J11*I11 -> 40.96
E12: SUMINISTRO E INSTALACIÓN DE ADOQUÍN PEATONAL CONCRETO 6 CM - para bancos | F12: 4.33 | G12: 1.83 | H12: 1.25 | I12: =((F12+G12)/2)*H12 -> 3.85 | J12: 6 | K12: =+I12*J12 -> 23.1
E13: ANDEN PERIMETRAL TORRES DE LA "A" - "B" | F13: 1 | G13: 72.96 | I13: =+((F13*G13)) -> 72.96 | J13: 1 | K13: =+J13*I13 -> 72.96 | L13: =K13*50 -> 3648
E14: TRAS DE TORRE "C" | F14: 1.5 | G14: 11 | I14: =+((F14*G14)) -> 16.5 | J14: 1 | K14: =+J14*I14 -> 16.5 | L14: =K14*50 -> 825
E15: TRAS DE TORRE "C" | F15: 2 | G15: 4.8 | I15: =+((F15*G15)) -> 9.6 | J15: 1 | K15: =+J15*I15 -> 9.6 | L15: =K15*50 -> 480
L16: =SUM(L13:L15) -> 4953
E30: (l)TOTAL | K30: =+SUM(K11:K29) -> 163.12
A31: Elaboró: | C31: Elaboró: | E31: Revisó: | H31: Aprobó:

Sheet 2.7
C1: ALCALDÍA DE SAMACÁ | E1: MACROPROCESO | I1: MISIONAL
E2: PROCESO | I2: GESTIÓN TERRITORIAL E INFRAESTRUCTURA
C3: SISTEMA INTEGRADO DE GESTIÓN (MECI 1000:2014 – NTCGP 1000:2009) | E3: FORMATO
E4: F-GTI-015 | I4: Página 1 de 1
E5: Versión 1
A6: MEMORIAS DE CANTIDADES
A7: CÓDIGO | B7: 2.6 | C7: (b) DESCRIPCIÓN ÍTEM | D7: PISO EN GRAMA INCL. TIERRA NEGRA | J7: (c) UND: | K7: =+VLOOKUP(B7,'FORMATO PRESUPUESTO'!D10:L31,4,FALSE) -> SUMINISTRO E INSTALACIÓN DE ADOQUÍN PEATONAL CONCRETO 6 CM COLOR SEGÚN ESPECIFICACIONES DE DISEÑO
A9: (d) DESCRIPCIÓN Y/O REGISTRO FOTOGRÁFICO DE LA MEMORIA | E9: (e) LOCALIZACIÓN | F9: DIMENSIONES | I9: (i) MEDIDA PARCIAL (M3) | J9: (j) N° DE ELEMENTOS | K9: (k) MEDIDA TOTAL (M2)
F10: n° | G10: Area
E11: =D7 -> PISO EN GRAMA INCL. TIERRA NEGRA | F11: 1 | G11: 75.7524 | J11: 1 | K11: =G11*J11 -> 75.7524
F12: 2 | G12: 76.2417 | J12: 1 | K12: =G12*J12 -> 76.2417
F13: 3 | G13: 59.2167 | J13: 1 | K13: =G13*J13 -> 59.2167
F14: 4 | G14: 59.2894 | J14: 1 | K14: =G14*J14 -> 59.2894
F15: 5 | G15: 40.9723 | J15: 1 | K15: =G15*J15 -> 40.9723
F16: 6 | G16: 92.5683 | J16: 1 | K16: =G16*J16 -> 92.5683
F17: 7 | G17: 54.4134 | J17: 1 | K17: =G17*J17 -> 54.4134
F18: 8 | G18: 11.0549 | J18: 1 | K18: =G18*J18 -> 11.0549
F19: 9 | G19: 279.36 | J19: 1 | K19: =G19*J19 -> 279.36
F20: 10 | G20: 3.1358 | J20: 1 | K20: =G20*J20 -> 3.1358
E30: (l)TOTAL | K30: =+SUM(K11:K29) -> 752.0049
A31: Elaboró: | C31: Elaboró: | E31: Revisó: | H31: Aprobó:

Sheet 2.7 (2)
C1: ALCALDÍA DE SAMACÁ | E1: MACROPROCESO | I1: MISIONAL
E2: PROCESO | I2: GESTIÓN TERRITORIAL E INFRAESTRUCTURA
C3: SISTEMA INTEGRADO DE GESTIÓN (MECI 1000:2014 – NTCGP 1000:2009) | E3: FORMATO
E4: F-GTI-015 | I4: Página 1 de 1
E5: Versión 1
A6: MEMORIAS DE CANTIDADES
A7: CÓDIGO | B7: 2.6 | C7: (b) DESCRIPCIÓN ÍTEM | D7: PISO EN GRAMA INCL. TIERRA NEGRA | K7: (c) UND: | L7: =+VLOOKUP(B7,'FORMATO PRESUPUESTO'!D10:L31,4,FALSE) -> SUMINISTRO E INSTALACIÓN DE ADOQUÍN PEATONAL CONCRETO 6 CM COLOR SEGÚN ESPECIFICACIONES DE DISEÑO
A9: (d) DESCRIPCIÓN Y/O REGISTRO FOTOGRÁFICO DE LA MEMORIA | E9: (e) LOCALIZACIÓN | F9: DIMENSIONES | I9: (i) MEDIDA PARCIAL (M3) | J9: DESCUENTO | K9: (j) N° DE ELEMENTOS | L9: (k) MEDIDA TOTAL (M2)
F10: n° | G10: Area
G11: MUNICIPIO | I11: CONTRATISTA
E12: =D7 -> PISO EN GRAMA INCL. TIERRA NEGRA | F12: 1 | G12: 75.7524 | I12: 75.78 | K12: 1 | L12: =I12*K12 -> 75.78
F13: 2 | G13: 76.2417 | I13: 76.24 | K13: 1 | L13: =I13*K13 -> 76.24
F14: 3 | G14: 59.2167 | I14: 59.18 | K14: 1 | L14: =I14*K14 -> 59.18
F15: 4 | G15: 59.2894 | I15: 59.3 | K15: 1 | L15: =I15*K15 -> 59.3
F16: 5 | G16: 40.9723 | I16: 40.96 | K16: 1 | L16: =I16*K16 -> 40.96
F17: 6 | G17: 92.5683 | I17: 92.19 | K17: 1 | L17: =I17*K17 -> 92.19
F18: 7 | G18: 54.4134 | I18: =74.63-20.22 -> 54.41 | K18: 1 | L18: =I18*K18 -> 54.41
F19: 8 | G19: 11.0549 | I19: 11.06 | K19: 1 | L19: =I19*K19 -> 11.06
F20: 9 | G20: 279.36 | I20: 269.34 | J20: 47.61 | K20: 1 | L20: =I20*K20-J20 -> 221.73
F21: ANDEN PERIMETRAL TORRES DE LA "A" - "C" | J21: 72.96 | K21: -1 | L21: =I21*K21-J21 -> -72.96
F22: 10 | G22: 3.1358 | I22: 2.81 | K22: 1 | L22: =I22*K22 -> 2.81
E32: (l)TOTAL | L32: =+SUM(L12:L31) -> 620.7
A33: Elaboró: | C33: Elaboró: | E33: Revisó: | H33: Aprobó:

Sheet 2.8
C1: ALCALDÍA DE SAMACÁ | E1: MACROPROCESO | I1: MISIONAL
E2: PROCESO | I2: GESTIÓN TERRITORIAL E INFRAESTRUCTURA
C3: SISTEMA INTEGRADO DE GESTIÓN (MECI 1000:2014 – NTCGP 1000:2009) | E3: FORMATO
E4: F-GTI-015 | I4: Página 1 de 1
E5: Versión 1
A6: MEMORIAS DE CANTIDADES
A7: CÓDIGO | B7: 2.8 | C7: (b) DESCRIPCIÓN ÍTEM | D7: =+VLOOKUP(B7,'FORMATO PRESUPUESTO'!D10:L31,3,FALSE) -> 72101500 | J7: (c) UND: | K7: =+VLOOKUP(B7,'FORMATO PRESUPUESTO'!D10:L31,4,FALSE) -> SUMINISTRO E INSTALACION DE SARDINEL PREFABRICADO A-10, INCLUYE MORTERO DE PEGA SEGUN NORMA NTC-4109
A9: (d) DESCRIPCIÓN Y/O REGISTRO FOTOGRÁFICO DE LA MEMORIA | E9: (e) LOCALIZACIÓN | F9: DIMENSIONES | I9: =+CONCATENATE("(i) MEDIDA PARCIAL"," ","(",K7,")") -> (i) MEDIDA PARCIAL (SUMINISTRO E INSTALACION DE SARDINEL PREFABRICADO A-10, INCLUYE MORTERO DE PEGA SEGUN NORMA NTC-4109) | J9: (j) N° DE ELEMENTOS | K9: =+CONCATENATE("(k) MEDIDA TOTAL"," ","(",K7,")") -> (k) MEDIDA TOTAL (SUMINISTRO E INSTALACION DE SARDINEL PREFABRICADO A-10, INCLUYE MORTERO DE PEGA SEGUN NORMA NTC-4109)
F10: (f) Ancho | G10: (g) Longitud | H10: (h) Altura
E11: ROMBOS | G11: =24+16.4 -> 40.4 | J11: 4 | K11: =+G11*J11 -> 161.6
E12: TRAMO 1 | G12: =9.53+7.86+10.2+9.3 -> 36.89 | J12: 1 | K12: =+G12*J12 -> 36.89
E13: TRAMO 2 | G13: =15.4+15.4+15.8+15.8+7.9+7.9 -> 78.2 | J13: 1 | K13: =+G13*J13 -> 78.2
E14: TRAMO 3 | G14: =7.8+7.73+8.1+7.5 -> 31.13 | J14: 1 | K14: =+G14*J14 -> 31.13
E15: TRAMO 4 | G15: =6.9+6.9+7.2+6.6 -> 27.6 | J15: 1 | K15: =+G15*J15 -> 27.6
E16: TRAMO 5 | G16: =3.3442+1.2 -> 4.5442 | J16: 1 | K16: =+G16*J16 -> 4.5442
E17: TRAMO 6 | G17: =21.29+21.29+1.31 -> 43.89 | J17: 1 | K17: =+G17*J17 -> 43.89
E18: BANCAS | G18: 5.4 | J18: 6 | K18: =+G18*J18 -> 32.4
E30: (l)TOTAL | K30: =+SUM(K11:K29) -> 416.2542
A31: Elaboró: | C31: Elaboró: | E31: Revisó: | H31: Aprobó:

Sheet 2.8 (0)
C1: ALCALDÍA DE SAMACÁ | E1: MACROPROCESO | I1: MISIONAL
E2: PROCESO | I2: GESTIÓN TERRITORIAL E INFRAESTRUCTURA
C3: SISTEMA INTEGRADO DE GESTIÓN (MECI 1000:2014 – NTCGP 1000:2009) | E3: FORMATO
E4: F-GTI-015 | I4: Página 1 de 1
E5: Versión 1
A6: MEMORIAS DE CANTIDADES
A7: CÓDIGO | B7: 2.8 | C7: (b) DESCRIPCIÓN ÍTEM | D7: =+VLOOKUP(B7,'FORMATO PRESUPUESTO'!D10:L31,3,FALSE) -> 72101500 | J7: (c) UND: | K7: =+VLOOKUP(B7,'FORMATO PRESUPUESTO'!D10:L31,4,FALSE) -> SUMINISTRO E INSTALACION DE SARDINEL PREFABRICADO A-10, INCLUYE MORTERO DE PEGA SEGUN NORMA NTC-4109
A9: (d) DESCRIPCIÓN Y/O REGISTRO FOTOGRÁFICO DE LA MEMORIA | E9: (e) LOCALIZACIÓN | F9: DIMENSIONES | I9: =+CONCATENATE("(i) MEDIDA PARCIAL"," ","(",K7,")") -> (i) MEDIDA PARCIAL (SUMINISTRO E INSTALACION DE SARDINEL PREFABRICADO A-10, INCLUYE MORTERO DE PEGA SEGUN NORMA NTC-4109) | J9: (j) N° DE ELEMENTOS | K9: =+CONCATENATE("(k) MEDIDA TOTAL"," ","(",K7,")") -> (k) MEDIDA TOTAL (SUMINISTRO E INSTALACION DE SARDINEL PREFABRICADO A-10, INCLUYE MORTERO DE PEGA SEGUN NORMA NTC-4109)
F10: (f) Ancho | G10: (g) Longitud | H10: (h) Altura
G11: MUNICIPIO | H11: CONTRATISTA
E12: ROMBOS | F12: EXTERNO | G12: =24 -> 24 | H12: =6*4 -> 24 | K12: =H12*J12 -> 0
G13: 16.4 | H13: =4.2*4 -> 16.8 | K13: =H13*J13 -> 0
E14: TRAMO 1 | G14: =9.53 -> 9.53
G15: 7.86
G16: 10.2
G17: 9.3
G18: =9.53+7.86+10.2+9.3 -> 36.89
E19: TRAMO 2 | G19: =15.4 -> 15.4
G20: 15.4
G21: 15.8
G22: 15.8
G23: 7.9
G24: 7.9
E25: TRAMO 3 | G25: =7.8 -> 7.8
G26: 7.73
G27: 8.1
G28: 7.5
E29: TRAMO 4 | G29: =6.9 -> 6.9
G30: =6.9 -> 6.9
G31: 7.2
G32: 6.6
E33: TRAMO 5 | G33: =3.3442 -> 3.3442
G34: 1.2
E35: TRAMO 6 | G35: =21.29 -> 21.29
G36: =21.29 -> 21.29
G37: 1.31
E38: BANCAS | G38: 5.4
E55: (l)TOTAL
A56: Elaboró: | C56: Elaboró: | E56: Revisó: | H56: Aprobó:

Sheet 2.9
C1: ALCALDÍA DE SAMACÁ | E1: MACROPROCESO | I1: MISIONAL
E2: PROCESO | I2: GESTIÓN TERRITORIAL E INFRAESTRUCTURA
C3: SISTEMA INTEGRADO DE GESTIÓN (MECI 1000:2014 – NTCGP 1000:2009) | E3: FORMATO
E4: F-GTI-015 | I4: Página 1 de 1
E5: Versión 1
A6: MEMORIAS DE CANTIDADES
A7: CÓDIGO | B7: 2.9 | C7: (b) DESCRIPCIÓN ÍTEM | D7: =+VLOOKUP(B7,'FORMATO PRESUPUESTO'!D10:L31,3,FALSE) -> #N/A | J7: (c) UND: | K7: =+VLOOKUP(B7,'FORMATO PRESUPUESTO'!D10:L31,4,FALSE) -> #N/A
A9: (d) DESCRIPCIÓN Y/O REGISTRO FOTOGRÁFICO DE LA MEMORIA | E9: (e) LOCALIZACIÓN | F9: DIMENSIONES | I9: =+CONCATENATE("(i) MEDIDA PARCIAL"," ","(",K7,")") -> #N/A | J9: (j) N° DE ELEMENTOS | K9: =+CONCATENATE("(k) MEDIDA TOTAL"," ","(",K7,")") -> #N/A
F10: (f) Ancho | G10: (g) Longitud | H10: (h) Altura
E11: =D7 -> #N/A | J11: 16 | K11: =+J11 -> 16
K12: =+I12*J12 -> 0
K13: =+I13*J13 -> 0
E30: (l)TOTAL | K30: =+SUM(K11:K29) -> 16
A31: Elaboró: | C31: Elaboró: | E31: Revisó: | H31: Aprobó:

Sheet 2.10(0)
C1: ALCALDÍA DE SAMACÁ | E1: MACROPROCESO | I1: MISIONAL
E2: PROCESO | I2: GESTIÓN TERRITORIAL E INFRAESTRUCTURA
C3: SISTEMA INTEGRADO DE GESTIÓN (MECI 1000:2014 – NTCGP 1000:2009) | E3: FORMATO
E4: F-GTI-015 | I4: Página 1 de 1
E5: Versión 1
A6: MEMORIAS DE CANTIDADES
A7: CÓDIGO | B7: 2.1 | C7: (b) DESCRIPCIÓN ÍTEM | D7: ='FORMATO PRESUPUESTO'!G29 -> SUMINISTRO E INSTALACION DE SARDINEL PREFABRICADO A-10, INCLUYE MORTERO DE PEGA SEGUN NORMA NTC-4109 | J7: (c) UND: | K7: ='FORMATO PRESUPUESTO'!H29 -> ML
A9: (d) DESCRIPCIÓN Y/O REGISTRO FOTOGRÁFICO DE LA MEMORIA | E9: (e) LOCALIZACIÓN | F9: DIMENSIONES | I9: =+CONCATENATE("(i) MEDIDA PARCIAL"," ","(",K7,")") -> (i) MEDIDA PARCIAL (ML) | J9: (j) N° DE ELEMENTOS | K9: (k) MEDIDA TOTAL (UND)
F10: (f) Ancho | G10: (g) Longitud | H10: (h) Altura
E11: BANCAS | I11: =+G11*H11 -> 0 | J11: 0 | K11: =+J11 -> 0
K12: =+I12*J12 -> 0
K13: =+I13*J13 -> 0
E30: (l)TOTAL | K30: =+SUM(K11:K29) -> 0
A31: Elaboró: | C31: Elaboró: | E31: Revisó: | H31: Aprobó:

Sheet 3.1
C1: ALCALDÍA DE SAMACÁ | E1: MACROPROCESO | I1: MISIONAL
E2: PROCESO | I2: GESTIÓN TERRITORIAL E INFRAESTRUCTURA
C3: SISTEMA INTEGRADO DE GESTIÓN (MECI 1000:2014 – NTCGP 1000:2009) | E3: FORMATO
E4: F-GTI-015 | I4: Página 1 de 1
E5: Versión 1
A6: MEMORIAS DE CANTIDADES
A7: CÓDIGO | B7: 3.1 | C7: (b) DESCRIPCIÓN ÍTEM | D7: =+VLOOKUP(B7,'FORMATO PRESUPUESTO'!D10:L31,3,FALSE) -> #N/A | J7: (c) UND: | K7: =+VLOOKUP(B7,'FORMATO PRESUPUESTO'!D10:L31,4,FALSE) -> #N/A
