Workbook

Sheet C.S.
F1: GESTIÓN CONTRACTUAL | AB1: Código: IDPAC-GC-FT-30 Versión: 01 Página 1 de 1 Fecha: 25/02/2019
F2: CERTIFICADO DE SUPERVISIÓN - SECOP II
A4: I. INFORMACIÓN DE SUPERVISIÓN O INTERVENTORÍA
C6: FECHA DE EXPEDICIÓN | J6: DATOS DEL SUPERVISOR O INTERVENTOR | AA6: TELÉFONO Y/O EXTENSIÓN
C7: DÍA | E7: MES | G7: AÑO | J7: NOMBRE | M7: JOSE ANTONIO CHAPARRO GOMEZ | AA7: 2200
C8: 15 | E8: 11 | G8: 2019 | J8: CARGO | M8: PROFESIONAL ESPECILIZADO 222 - 04
A11: II. INFORMACIÓN CONTRACTUAL
A12: NOMBRE O RAZÓN SOCIAL DEL CONTRATISTA | Y12: NIT O C.C. No.
G13: NEGSA - NEGOCIOS GENERALES DE SISTEMAS S.A. | Z13: 830010431-5
A15: TIPO DE CONTRATACIÓN: | I15: OTRO TIPO DE NATURALEZA DE CONTRATOS
J17: DD | K17: MM | L17: AAAA | R17: DD | S17: MM | T17: AAAA | V17: PLAZO DE EJECUCION INICIAL | AB17: FECHA DE TERMINACIÓN
A18: CONTRATO | D18: No. | E18: 1113 | G18: CON FECHA | J18: 15 | K18: 5 | L18: 2019 | N18: FECHA DE INICIO | R18: 31 | S18: 7 | T18: 2019 | V18: 8 | W18: MES | Y18: 0 | Z18: dias | AB18: 30 | AC18: 4 | AE18: 2019
J20: DD | K20: MM | L20: AAAA | R20: DD | S20: MM | T20: AAAA | V20: PLAZO DE EJECUCION
A21: PRORROGA | D21: No. | E21: 1 | G21: CON FECHA | N21: FECHA DE INICIO | V21: 00 MESES Y 00 DIAS
A22: PRORROGA | D22: No. | E22: 2 | G22: CON FECHA | N22: FECHA DE INICIO | V22: 00 MESES Y 00 DIAS
A23: PRORROGA | D23: No. | E23: 3 | G23: CON FECHA | N23: FECHA DE INICIO | V23: 00 MESES Y 00 DIAS
J24: DD | K24: MM | L24: AAAA
A25: ADICION | D25: No. | E25: 1 | G25: CON FECHA | N25: VALOR DE ADICION No. 1 | V25: 0
A26: ADICION | D26: No. | E26: 2 | G26: CON FECHA | N26: VALOR DE ADICION No. 2 | V26: 0
A27: ADICION | D27: No. | E27: 3 | G27: CON FECHA | N27: VALOR DE ADICION No. 3 | V27: 0
A29: PARA PRESTACION DE SERVICIOS | O29: FORMA Y CONDICIÓN DE PAGO
O30: El IDPAC, pagará el valor del contrato contra facturación de los bienes entregados, previa presentación de la factura o cuenta de cobro y certificación de recibo a satisfacción por parte del supervisor del contrato. El pago se realizará dentro de los 30 días calendario previa entrega de documentos, con lo cual deberá acreditar el pago de los aportes establecidos en el Artículo 50 de la ley 789 de 2002, lo cual se hará mediante certificación expedida por el revisor fiscal o el representante legal sino tiene revisor fiscal, y demás normas que lo modifiquen, reglamentan o complementen y estará sujeto a la programación y aprobación del Programa Anual Mensualizado de Caja – PAC. El pago se realizará a través de la cuenta de ahorros y/o corriente que disponga el contratista acorde con la certificación expedida por la entidad financiera aportada por el contratista.
B31: PERIODO CERTIFICADO O FACTURADO
E32: DD | F32: MM | G32: AA | K32: DD | L32: MM | M32: AA
B33: DESDE | I33: HASTA
E34: dd | F34: mm | G34: aa | K34: dd | L34: mm | M34: aa
A36: OBJETO CONTRACTUAL
A37: Mantenimiento preventivo y correctivo del Blade, sistema de almacenamiento, unidad de cinta y demás servidores del IDPAC.
A39: CERTIFICO BAJO MI ENTERA RESPONSABILIDAD QUE EL CONTRATISTA CUMPLIÓ A CABALIDAD CON EL OBJETO DEL CONTRATO EN LOS TÉRMINOS Y TIEMPO PACTADOS CON EL INSTITUTO DISTRITAL DE LA PARTICIPACION Y ACCION COMUNAL
A41: POR LO TANTO AUTORIZO EL PAGO POR VALOR DE: | L41: 4343000
Z43: DD | AA43: MM | AC43: AAAA
A44: MARQUE CON X SI FACTURA | J44: X | L44: NUMERO DE FACTURA | Q44: NEG 53 | V44: DE FECHA : | Z44: 9 | AA44: 10 | AC44: 2019
A46: EL CONTRATISTA PRESENTA LAS CONSTANCIAS DE PAGO DE APORTES AL SISTEMA DE SEGURIDAD SOCIAL CORRESPONDIENTES AL MONTO Y TIEMPO QUE CERTIFICO
A48: SALUD | C48: No. de planilla: | F48: 0 | J48: VALOR: | L48: 0.125 | M48: =+M51*L48 -> 217150 | Q48: EPS | X48: PERIODO COTIZADO | AA48: OCTUBRE
A49: PENSION | C49: No. de planilla: | F49: =+F48 -> 0 | J49: VALOR: | L49: 0.16 | M49: =+M51*L49 -> 277952 | Q49: FONDO | X49: PERIODO COTIZADO | AA49: =+AA48 -> OCTUBRE
A50: ARL | C50: No. de planilla: | F50: =+F49 -> 0 | J50: VALOR: | L50: 0.00522 | M50: =+M51*L50 -> 9068.184 | Q50: ARL | X50: PERIODO COTIZADO | AA50: =+AA49 -> OCTUBRE
F51: Para prestacion de servicios | I51: Base Salud | L51: 0.4 | M51: =+L41*40% -> 1737200
I52: Base Pension | L52: 0.4 | M52: =+M51 -> 1737200
I53: Base ARL | L53: 0.4 | M53: =+M51 -> 1737200
A55: III. MODIFICACIONES AL CONTRATO
...

Sheet I.E.C.
F1: GESTIÓN CONTRACTUAL | U1: Código: IDPAC-GC-FT-31 Versión:01 Pagina 1 de 1 Fecha: 25/02/2019
F2: INFORME DE EJECUCIÓN CONTRACTUAL - SECOP II
A4: DATOS GENERALES DEL CONTRATO
A5: PERIODO DEL INFORME | F5: Del | G5: DIA | H5: MES | I5: AÑO | K5: Hasta | M5: DIA | N5: MES | O5: AÑO | R5: FECHA DEL INFORME | W5: DIA | X5: MES | Y5: AÑO
G6: =+'C.S.'!$E$33 -> 0 | H6: =+'C.S.'!$F$33 -> 0 | I6: =+'C.S.'!$G$33 -> 0 | M6: =+'C.S.'!$K$33 -> 0 | N6: =+'C.S.'!$L$33 -> 0 | O6: =+'C.S.'!$M$33 -> 0 | W6: =+'C.S.'!$C$8 -> 15 | X6: =+'C.S.'!$E$8 -> 11 | Y6: =+'C.S.'!$G$8 -> 2019
A7: CONTRATO No. | E7: =+'C.S.'!$E$18 -> 1113 | G7: FECHA DE CONTRATO | K7: =+'C.S.'!$J$18 -> 15 | L7: =+'C.S.'!$K$18 -> 5 | M7: =+'C.S.'!$L$18 -> 2019 | N7: TIPO CONTRATO | R7: =+'C.S.'!I15 -> OTRO TIPO DE NATURALEZA DE CONTRATOS
A8: NOMBRE O RAZÓN SOCIAL DEL CONTRATISTA / COEJECUTOR / ASOCIADO | N8: =+'C.S.'!G13 -> NEGSA - NEGOCIOS GENERALES DE SISTEMAS S.A.
A9: TIPO DE IDENTIFICACIÓN | G9: C.C. | I9: NUMERO | L9: =+'C.S.'!Z13 -> 830010431-5 | Q9: FECHA DE INICIO | U9: FECHA DE TERMINACIÓN
Q10: =+'C.S.'!R18 -> 31 | R10: =+'C.S.'!S18 -> 7 | S10: =+'C.S.'!T18 -> 2019 | U10: =+'C.S.'!AB18 -> 30 | V10: =+'C.S.'!AC18 -> 4 | X10: =+'C.S.'!AE18 -> 2019
A11: OBJETO CONTRACTUAL
A12: =+'C.S.'!A37 -> Mantenimiento preventivo y correctivo del Blade, sistema de almacenamiento, unidad de cinta y demás servidores del IDPAC.
A13: PLAZO DE EJECUCIÓN INICIAL | H13: =+'C.S.'!V18 -> 8 | I13: Meses y | K13: =+'C.S.'!Y18 -> 0 | L13: Días | N13: FECHA DE INICIACIÓN | W13: =+'C.S.'!R18 -> 31 | X13: =+'C.S.'!S18 -> 7 | Y13: =+'C.S.'!T18 -> 2019
A14: PRORROGA | D14: No. | E14: DIA | F14: MES | G14: AÑO | I14: TIEMPO | L14: No. | M14: DIA | N14: MES | O14: AÑO | Q14: TIEMPO | S14: No. | T14: DIA | U14: MES | V14: AÑO | W14: TIEMPO
D15: 1 | E15: =+'C.S.'!J21 -> 0 | F15: =+'C.S.'!K21 -> 0 | G15: =+'C.S.'!L21 -> 0 | I15: =+'C.S.'!V21 -> 00 MESES Y 00 DIAS | L15: 2 | M15: =+'C.S.'!J22 -> 0 | N15: =+'C.S.'!K22 -> 0 | O15: =+'C.S.'!L22 -> 0 | Q15: =+'C.S.'!V22 -> 00 MESES Y 00 DIAS | S15: 3 | T15: =+'C.S.'!J23 -> 0 | U15: =+'C.S.'!K23 -> 0 | V15: =+'C.S.'!L23 -> 0 | W15: =+'C.S.'!V23 -> 00 MESES Y 00 DIAS
A16: ADICION | D16: No. | E16: DIA | F16: MES | G16: AÑO | I16: VALOR | L16: No. | M16: DIA | N16: MES | O16: AÑO | Q16: VALOR | S16: No. | T16: DIA | U16: MES | V16: AÑO | W16: VALOR
D17: 1 | E17: =+'C.S.'!J25 -> 0 | F17: =+'C.S.'!K25 -> 0 | G17: =+'C.S.'!L25 -> 0 | I17: =+'C.S.'!V25 -> 0 | L17: 2 | M17: =+'C.S.'!J26 -> 0 | N17: =+'C.S.'!K26 -> 0 | O17: =+'C.S.'!L26 -> 0 | Q17: =+'C.S.'!V26 -> 0 | S17: 3 | T17: =+'C.S.'!J27 -> 0 | U17: =+'C.S.'!K27 -> 0 | V17: =+'C.S.'!L27 -> 0 | W17: =+'C.S.'!V27 -> 0
A18: NOMBRE DEL INTERVENTOR Y/O SUPERVISOR | K18: =+'C.S.'!M7 -> JOSE ANTONIO CHAPARRO GOMEZ
A19: OFICINA O DEPENDENCIA A LA CUAL PERTENECE | K19: =+'C.S.'!M8 -> PROFESIONAL ESPECILIZADO 222 - 04
A20: DESCRIPCIÓN DE ACTIVIDADES DESARROLLADAS EN CUMPLIMIENTO DEL OBJETO CONTRATUAL
A21: No. | B21: OBLIGACIONES CONTRACTUALES | H21: ACTIVIDADES REALIZADAS Y/O PRODUCTOS ENTREGADOS | P21: SOPORTES (Describa las evidencias de las actividades realizadas y sitio de conservación de la información) | W21: PORCENTAJE (%) DE AVANCE FÍSICO DE LA OBLIGACIÓN
A22: 1
A23: 2
A24: 3
A25: 4
A26: 5
A27: 6
A28: 7
A29: * Incluir todas las filas que se requieran
A30: Nota: El supervisor del contrato entiende que con la Aceptación del presente formato resulta improcedente aplicar el incumplimiento que trata el artículo 86 de la ley 1474 de 2011 y demás que le modifiquen, en relación a las actividades aquí detalladas.
A31: CERTIFICACIÓN DE CUMPLIMIENTO
A32: El Interventor o Supervisor deja constancia de la aprobacion del presente informe mediante la plataforma del SECOP II que las actividades se cumplieron conforme a lo estipulado en el objeto, y que se adoptaron las observaciones y recomendaciones realizadas. Así mismo certifico que el contratista cumplió conforme a los requisitos de Ley con los aportes a seguridad social, a las entidades a las que esta obligado a aportar. Se anexan los Comprobantes de pago en ( __ ) Folios

Sheet .
C1: Lista Desplegable | G1: Lista Desplegable | H1: Lista Desplegable
C2: ENERO | D2: SALDO POR CANCELAR | G2: ARRENDAMIENTO | H2: ARRENDAMIENTO DE BIENES MUEBLES
C3: FEBRERO | D3: SALDO POR LIBERAR | G3: COMODATO | H3: CONTRATO DE OBRA
C4: MARZO | G4: COMPRAVENTA | H4: CONSULTORÍA (INTERVENTORÍA)
C5: ABRIL | G5: CONCESION | H5: CONVENIO INTERADMINISTRATIVO
C6: MAYO | G6: CONSULTORÍA | H6: CONTRATO DE SEGUROS
C7: JUNIO | E7: Lista Desplegable | G7: CONTRATO DE COLABORACIÓN Y APOYO CELEBRADO CON ENTIDAD PRIVADA SIN ANIMO DE LUCRO | H7: PRESTACIÓN DE SERVICIOS PERSONA JURIDICA
A8: Lista Desplegable | C8: JULIO | E8: AHORROS | G8: CONVENIO DE ASOCIACIÓN | H8: PRESTACIÓN DE SERVICIOS PERSONA NATURAL
A9: 2018 | C9: AGOSTO | E9: CORRIENTE | G9: CONVENIO INTERADMINISTRATIVO | H9: OTRO TIPO DE NATURALEZA DE CONTRATOS
A10: 2019 | C10: SEPTIEMBRE | G10: COOPERACIÓN Y ASISTENCIA
A11: 2020 | C11: OCTUBRE | G11: ESTUDIOS Y DISEÑOS
C12: NOVIEMBRE | G12: INTERINSTITUCIONAL
C13: DICIEMBRE | G13: LEASING
G14: MANDATO
G15: MANTENIMIENTO
C16: Lista Desplegable | G16: OBRA
C17: CEDENTE | G17: PRESTACIÓN DE SERVICIOS PERSONA JURIDICA
C18: CESIONARIO | G18: PRESTACIÓN DE SERVICIOS PERSONA NATURAL
G19: SUMINISTRO
