Workbook

Sheet Consolidado
A1: ESTRUCTURA CONTRATO MATERIAL MEDICO QUIRURGICO 2023
I2: DMBOG | K2: BIM 12 | M2: BUENAVENTURA | O2: TURBO | Q2: PUERTO LOPEZ | S2: BARRANCABERMEJA | U2: BAHIA MALAGA | W2: BAHIA SOLANO | Y2: PTO CARREÑO | AA2: GUAPI | AC2: YATI | AE2: LETICIA | AG2: HONAL | AI2: MALAGANA | AK2: SAN ANDRES | AM2: COVEÑAS | AO2: TUMACO | AQ2: INIRIDA | AS2: ENAP | AU2: ENSB | AW2: COROZAL | AY2: ARAUCA | BA2: CANTIDAD 2023
A3: NO ITEM GRAL | B3: NO ITEM GRUPO | C3: CODIGO UNSPSC | D3: NUMERO DE MATERIAL | E3: DESCRIPCION | F3: ESPECIFICACION TECNICA | G3: PRESENTACIÓN | H3: VALOR UNITARIO + IVA | I3: CANTIDAD 2023 | J3: VALOR | K3: CANTIDAD 2023 | L3: VALOR | M3: CANTIDAD 2023 | N3: VALOR | O3: CANTIDAD 2023 | P3: VALOR | Q3: CANTIDAD2023 | R3: VALOR | S3: CANTIDAD 2023 | T3: VALOR | U3: CANTIDAD 2023 | V3: VALOR | W3: CANTIDAD 2023 | X3: VALOR | Y3: CANTIDAD 2023 | Z3: VALOR | AA3: CANTIDAD 2023 | AB3: VALOR | AC3: CANTIDAD 2023 | AD3: VALOR | AE3: CANTIDAD 2023 | AF3: VALOR | AG3: CANTIDAD 2023 | AH3: VALOR | AI3: CANTIDAD 2023 | AJ3: VALOR | AK3: CANTIDAD 2023 | AL3: VALOR | AM3: CANTIDAD 2023 | AN3: VALOR | AO3: CANTIDAD 2023 | AP3: VALOR | AQ3: CANTIDAD 2023 | AR3: VALOR | AS3: CANTIDAD 2023 | AT3: VALOR | AU3: CANTIDAD 2023 | AV3: VALOR | AW3: CANTIDAD 2023 | AX3: VALOR | AY3: CANTIDAD 2023 | AZ3: VALOR | BB3: TOTAL 2023
A4: GRUPO No.1 ESTERILIZACION | I4: VALOR | J4: =+J15+J33+J38+J44+J54+J76+J90+J129+J144+J153+J184+J217+J225+J229+J233 -> 40125835 | K4: VALOR | L4: =+L15+L33+L38+L44+L54+L76+L90+L129+L144+L153+L184+L217+L225+L229+L233 -> 2482322.4 | M4: VALOR | N4: =+N15+N33+N38+N44+N54+N76+N90+N129+N144+N153+N184+N217+N225+N229+N233 -> 6774604.3 | O4: VALOR | P4: =+P15+P33+P38+P44+P54+P76+P90+P129+P144+P153+P184+P217+P225+P229+P233 -> 3734857.4 | Q4: VALOR | R4: =+R15+R33+R38+R44+R54+R76+R90+R129+R144+R153+R184+R217+R225+R229+R233 -> 1774776.3 | S4: VALOR | T4: =+T15+T33+T38+T44+T54+T76+T90+T129+T144+T153+T184+T217+T225+T229+T233 -> 2158642.4 | U4: VALOR | V4: =+V15+V33+V38+V44+V54+V76+V90+V129+V144+V153+V184+V217+V225+V229+V233 -> 4221977.4 | W4: VALOR | X4: =+X15+X33+X38+X44+X54+X76+X90+X129+X144+X153+X184+X217+X225+X229+X233 -> 2764180.8 | Y4: VALOR | Z4: =+Z15+Z33+Z38+Z44+Z54+Z76+Z90+Z129+Z144+Z153+Z184+Z217+Z225+Z229+Z233 -> 2749896.2 | AA4: VALOR | AB4: =+AB15+AB33+AB38+AB44+AB54+AB76+AB90+AB129+AB144+AB153+AB184+AB217+AB225+AB229+AB233 -> 2585258.6 | AC4: VALOR | AD4: =+AD15+AD33+AD38+AD44+AD54+AD76+AD90+AD129+AD144+AD153+AD184+AD217+AD225+AD229+AD233 -> 3235521.5 | AE4: VALOR | AF4: =+AF15+AF33+AF38+AF44+AF54+AF76+AF90+AF129+AF144+AF153+AF184+AF217+AF225+AF229+AF233 -> 2528654.2 | AG4: VALOR | AH4: =+AH15+AH33+AH38+AH44+AH54+AH76+AH90+AH129+AH144+AH153+AH184+AH217+AH225+AH229+AH233 -> 7598438.3 | AI4: VALOR | AJ4: =+AJ15+AJ33+AJ38+AJ44+AJ54+AJ76+AJ90+AJ129+AJ144+AJ153+AJ184+AJ217+AJ225+AJ229+AJ233 -> 3084042 | AK4: VALOR | AL4: =+AL15+AL33+AL38+AL44+AL54+AL76+AL90+AL129+AL144+AL153+AL184+AL217+AL225+AL229+AL233 -> 3260198.8 | AM4: VALOR | AN4: =+AN15+AN33+AN38+AN44+AN54+AN76+AN90+AN129+AN144+AN153+AN184+AN217+AN225+AN229+AN233 -> 4604483.2 | AO4: VALOR | AP4: =+AP15+AP33+AP38+AP44+AP54+AP76+AP90+AP129+AP144+AP153+AP184+AP217+AP225+AP229+AP233 -> 5713264.2 | AQ4: VALOR | AR4: =+AR15+AR33+AR38+AR44+AR54+AR76+AR90+AR129+AR144+AR153+AR184+AR217+AR225+AR229+AR233 -> 3039148.9 | AS4: VALOR | AT4: =+AT15+AT33+AT38+AT44+AT54+AT76+AT90+AT129+AT144+AT153+AT184+AT217+AT225+AT229+AT233 -> 3055980.2 | AU4: VALOR | AV4: =+AV15+AV33+AV38+AV44+AV54+AV76+AV90+AV129+AV144+AV153+AV184+AV217+AV225+AV229+AV233 -> 0 | AW4: VALOR | AX4: =+AX15+AX33+AX38+AX44+AX54+AX76+AX90+AX129+AX144+AX153+AX184+AX217+AX225+AX229+AX233 -> 8722577.4 | AY4: VALOR | AZ4: =+AZ15+AZ33+AZ38+AZ44+AZ54+AZ76+AZ90+AZ129+AZ144+AZ153+AZ184+AZ217+AZ225+AZ229+AZ233 -> 1785290.6 | BB4: =J4+L4+N4+P4+R4+T4+V4+X4+Z4+AB4+AD4+AF4+AH4+AJ4+AL4+AN4+AP4+AR4+AT4+AV4+AX4+AZ4 -> 1.1599995e+08
A5: 1 | B5: 1 | C5: 42281807 | D5: 000000000002584099 | E5: ROLLO DE CINTA ADHESIVA TESTIGO PARA GARANTIZAR LA ESTERILIDAD DE MATERIAL EXPUESTO EN AUTOCLAVE A VAPOR DE BAJA TEMPERATURA CON FORMALDEHIDO DE GRADO QUIRÚRGICO. | F5: CINTA ADHESIVA DE PAPEL COMPATIBLE CON SISTEMA DE ESTERILIZACION MATACHANA POR VAPOR A BAJA TEMPERATURA CON FORMALFEHIDO 130LF (VBTF). DIMENSIONES 1,80CM X 50 MTS, HASTA 2 CM X 50 MTS, DE ALTA RESISTENCIA, EN LA QUE HAY POR UN LADO ADHESIVO Y POR EL OTRO LADO EL INDICADOR QUIMICO. CON CAMBIO DE COLOR DE LA TINTA INDICADORA DE GRANATE A VERDE. | G5: ROLLO | H5: 57314.554 | I5: 10 | J5: =I5*H5 -> 573145.54 | K5: 0 | L5: =K5*H5 -> 0 | M5: 0 | N5: =M5*H5 -> 0 | O5: 0 | P5: =O5*H5 -> 0 | Q5: 0 | R5: =Q5*H5 -> 0 | S5: 0 | T5: =S5*H5 -> 0 | U5: 0 | V5: =U5*H5 -> 0 | W5: 0 | X5: =W5*H5 -> 0 | Y5: 0 | Z5: =Y5*H5 -> 0 | AA5: 0 | AB5: =AA5*H5 -> 0 | AC5: 0 | AD5: =AC5*H5 -> 0 | AE5: 0 | AF5: =AE5*H5 -> 0 | AG5: 0 | AH5: =AG5*H5 -> 0 | AI5: 0 | AJ5: =AI5*H5 -> 0 | AK5: 0 | AL5: =AK5*H5 -> 0 | AM5: 0 | AN5: =AM5*H5 -> 0 | AO5: 0 | AP5: =AO5*H5 -> 0 | AQ5: 0 | AR5: =AQ5*H5 -> 0 | AS5: 0 | AT5: =AS5*H5 -> 0 | AU5: 0 | AV5: =AU5*H5 -> 0 | AW5: 0 | AX5: =AW5*H5 -> 0 | AY5: 0 | AZ5: =AY5*H5 -> 0 | BA5: =I5+K5+M5+O5+Q5+S5+U5+W5+Y5+AA5+AC5+AE5+AG5+AI5+AK5+AM5+AO5+AQ5+AS5+AU5+AW5+AY5 -> 10 | BB5: =J5+L5+N5+P5+R5+T5+V5+X5+Z5+AB5+AD5+AF5+AH5+AJ5+AL5+AN5+AP5+AR5+AT5+AV5+AX5+AZ5 -> 573145.54 | BD5: =+H5*BA5 -> 573145.54 | BE5: =+BB5-BD5 -> 0
A6: 2 | B6: 2 | C6: 42281803 | D6: 000000000002584099 | E6: ROLLO DE CINTA ADHESIVA TESTIGO PARA GARANTIZAR LA ESTERILIDAD DE MATERIAL EXPUESTO EN AUTOCLAVE A VAPOR DE ALTA TEMPERATURA, DE GRADO QUIRÚRGICO. | F6: CINTA ADHESIVA COMPATIBLE CON SISTEMA DE ESTERILIZACION DE AUTOCLAVE A VAPOR DE ALTA TEMPERATURA. DIMENSIONES 1,80CM, X 50 MTS, HASTA 2 CM X 50 MTS, DE ALTA RESISTENCIA, LIBRE DE PLOMO, EN LA QUE HAY POR UN LADO ADHESIVO Y POR EL OTRO LADO EL INDICADOR QUIMICO. CON CAMBIO DE COLOR DE LA TINTA INDICADORA. | G6: ROLLO | H6: 33673.977 | I6: 0 | J6: =I6*H6 -> 0 | K6: 0 | L6: =K6*H6 -> 0 | M6: 0 | N6: =M6*H6 -> 0 | O6: 5 | P6: =O6*H6 -> 168369.88 | Q6: 0 | R6: =Q6*H6 -> 0 | S6: 0 | T6: =S6*H6 -> 0 | U6: 0 | V6: =U6*H6 -> 0 | W6: 0 | X6: =W6*H6 -> 0 | Y6: 0 | Z6: =Y6*H6 -> 0 | AA6: 0 | AB6: =AA6*H6 -> 0 | AC6: 2 | AD6: =AC6*H6 -> 67347.953 | AE6: 2 | AF6: =AE6*H6 -> 67347.953 | AG6: 0 | AH6: =AG6*H6 -> 0 | AI6: 0 | AJ6: =AI6*H6 -> 0 | AK6: 0 | AL6: =AK6*H6 -> 0 | AM6: 0 | AN6: =AM6*H6 -> 0 | AO6: 0 | AP6: =AO6*H6 -> 0 | AQ6: 0 | AR6: =AQ6*H6 -> 0 | AS6: 2 | AT6: =AS6*H6 -> 67347.953 | AU6: 0 | AV6: =AU6*H6 -> 0 | AW6: 5 | AX6: =AW6*H6 -> 168369.88 | AY6: 0 | AZ6: =AY6*H6 -> 0 | BA6: =I6+K6+M6+O6+Q6+S6+U6+W6+Y6+AA6+AC6+AE6+AG6+AI6+AK6+AM6+AO6+AQ6+AS6+AU6+AW6+AY6 -> 16 | BB6: =J6+L6+N6+P6+R6+T6+V6+X6+Z6+AB6+AD6+AF6+AH6+AJ6+AL6+AN6+AP6+AR6+AT6+AV6+AX6+AZ6 -> 538783.63 | BD6: =+H6*BA6 -> 538783.63 | BE6: =+BB6-BD6 -> 0
A7: 3 | B7: 3 | C7: 42281904 | D7: 000000000002500005 | E7: BOLSA PARA ESTERILIZAR A VAPOR, DE MEDIDAS 135 MM X 255 MM (5 ¼’ X 10’) | F7: BOLSA PAPEL PLASTICO PARA ESTERILIZAR A VAPOR, INDICADOR QUÍMICO PARA VAPOR Y ÓXIDO DE ETILENO, DE MEDIDAS 135 MM X 255 MM (5 ¼’ X 10’), CON UN RANGO DE MÁS O MENOS 15%”. | G7: CAJA X 200 | H7: 50154.192 | I7: 0 | J7: =I7*H7 -> 0 | K7: 0 | L7: =K7*H7 -> 0 | M7: 0 | N7: =M7*H7 -> 0 | O7: 0 | P7: =O7*H7 -> 0 | Q7: 0 | R7: =Q7*H7 -> 0 | S7: 0 | T7: =S7*H7 -> 0 | U7: 0 | V7: =U7*H7 -> 0 | W7: 0 | X7: =W7*H7 -> 0 | Y7: 0 | Z7: =Y7*H7 -> 0 | AA7: 0 | AB7: =AA7*H7 -> 0 | AC7: 1 | AD7: =AC7*H7 -> 50154.192 | AE7: 1 | AF7: =H7*AE7 -> 50154.192 | AG7: 0 | AH7: =AG7*H7 -> 0 | AI7: 0 | AJ7: =AI7*H7 -> 0 | AK7: 0 | AL7: =AK7*H7 -> 0 | AM7: 0 | AN7: =AM7*H7 -> 0 | AO7: 0 | AP7: =AO7*H7 -> 0 | AQ7: 1 | AR7: =AQ7*H7 -> 50154.192 | AS7: 0 | AT7: =AS7*H7 -> 0 | AU7: 0 | AV7: =AU7*H7 -> 0 | AW7: 0 | AX7: =AW7*H7 -> 0 | AZ7: =AY7*H7 -> 0 | BA7: =I7+K7+M7+O7+Q7+S7+U7+W7+Y7+AA7+AC7+AE7+AG7+AI7+AK7+AM7+AO7+AQ7+AS7+AU7+AW7+AY7 -> 3 | BB7: =J7+L7+N7+P7+R7+T7+V7+X7+Z7+AB7+AD7+AF7+AH7+AJ7+AL7+AN7+AP7+AR7+AT7+AV7+AX7+AZ7 -> 150462.58 | BD7: =+H7*BA7 -> 150462.58 | BE7: =+BB7-BD7 -> 0
A8: 4 | B8: 4 | C8: 42281810 | D8: 000000000002500005 | E8: BOLSA PARA ESTERILIZAR A VAPOR DE 90 MM X 230 MM A 260 MM | F8: BOLSA PARA ESTERILIZAR A VAPOR CON INDICADOR QUÍMICO PARA VAPOR Y ÓXIDO DE ETILENO, CON MEDIDAS DE 90 MM X 230 MM A 260 MM | G8: CAJA X 200 | H8: 36167.572 | I8: 0 | J8: =I8*H8 -> 0 | K8: 2 | L8: =K8*H8 -> 72335.143 | M8: 0 | N8: =M8*H8 -> 0 | O8: 4 | P8: =O8*H8 -> 144670.29 | Q8: 0 | R8: =Q8*H8 -> 0 | S8: 0 | T8: =S8*H8 -> 0 | U8: 2 | V8: =U8*H8 -> 72335.143 | W8: 0 | X8: =W8*H8 -> 0 | Y8: 0 | Z8: =Y8*H8 -> 0 | AA8: 0 | AB8: =AA8*H8 -> 0 | AC8: 7 | AD8: =AC8*H8 -> 253173 | AE8: 0 | AF8: =AE8*H8 -> 0 | AG8: 0 | AH8: =AG8*H8 -> 0 | AI8: 0 | AJ8: =AI8*H8 -> 0 | AK8: 2 | AL8: =AK8*H8 -> 72335.143 | AM8: 0 | AN8: =AM8*H8 -> 0 | AO8: 0 | AP8: =AO8*H8 -> 0 | AQ8: 0 | AR8: =AQ8*H8 -> 0 | AS8: 0 | AT8: =AS8*H8 -> 0 | AU8: 0 | AV8: =AU8*H8 -> 0 | AW8: 4 | AX8: =AW8*H8 -> 144670.29 | AY8: 0 | AZ8: =AY8*H8 -> 0 | BA8: =I8+K8+M8+O8+Q8+S8+U8+W8+Y8+AA8+AC8+AE8+AG8+AI8+AK8+AM8+AO8+AQ8+AS8+AU8+AW8+AY8 -> 21 | BB8: =J8+L8+N8+P8+R8+T8+V8+X8+Z8+AB8+AD8+AF8+AH8+AJ8+AL8+AN8+AP8+AR8+AT8+AV8+AX8+AZ8 -> 759519 | BD8: =+H8*BA8 -> 759519 | BE8: =+BB8-BD8 -> 0
A9: 5 | B9: 5 | C9: 42281706 | D9: 2584094 | E9: TEST BOWIE DICK CAJA X 50 | F9: HOJA DE PRUEBA DE ADVERTENCIA TEMPRANA PARA PROBAR LOS ESTERILIZADORES A VAPOR ASISTIDOS CON VACIO DE 132 A 134° CENTIGRADOS INDICA LA EFICIENCIA DE LA ELIMICIÓN DEL AIRE DURANTE LA FASE DE VACIO DEL ESTERILIZADOR | G9: CAJA X 50 | H9: 468544.72 | I9: 2 | J9: =I9*H9 -> 937089.44 | K9: 0 | L9: =K9*H9 -> 0 | M9: 0 | N9: =M9*H9 -> 0 | O9: 0 | P9: =O9*H9 -> 0 | Q9: 0 | R9: =Q9*H9 -> 0 | S9: 0 | T9: =S9*H9 -> 0 | U9: 0 | V9: =U9*H9 -> 0 | W9: 0 | X9: =W9*H9 -> 0 | Y9: 0 | Z9: =Y9*H9 -> 0 | AA9: 0 | AB9: =AA9*H9 -> 0 | AC9: 0 | AD9: =AC9*H9 -> 0 | AE9: 0 | AF9: =AE9*H9 -> 0 | AG9: 0 | AH9: =AG9*H9 -> 0 | AI9: 0 | AJ9: =AI9*H9 -> 0 | AK9: 0 | AL9: =AK9*H9 -> 0 | AM9: 0 | AN9: =AM9*H9 -> 0 | AO9: 0 | AP9: =AO9*H9 -> 0 | AQ9: 0 | AR9: =AQ9*H9 -> 0 | AS9: 0 | AT9: =AS9*H9 -> 0 | AU9: 0 | AV9: =AU9*H9 -> 0 | AW9: 0 | AX9: =AW9*H9 -> 0 | AY9: 0 | AZ9: =AY9*H9 -> 0 | BA9: =I9+K9+M9+O9+Q9+S9+U9+W9+Y9+AA9+AC9+AE9+AG9+AI9+AK9+AM9+AO9+AQ9+AS9+AU9+AW9+AY9 -> 2 | BB9: =J9+L9+N9+P9+R9+T9+V9+X9+Z9+AB9+AD9+AF9+AH9+AJ9+AL9+AN9+AP9+AR9+AT9+AV9+AX9+AZ9 -> 937089.44 | BD9: =+H9*BA9 -> 937089.44 | BE9: =+BB9-BD9 -> 0
A10: 6 | B10: 6 | C10: 42281915 | D10: 2501244 | E10: ROLLO EN PAPEL MIXTO PARA ESTERILIZAR A VAPOR | F10: ROLLO EN PAPEL MIXTO PARA ESTERILIZAR A VAPOR: 15X200MT, GRADO MEDICO, PARA EL ENVOLVIMIENTO Y PROTECCION DE MATERIAL ESTERIL QUIRUGICO | G10: ROLLO | H10: 206453.29 | I10: 3 | J10: =I10*H10 -> 619359.88 | K10: 0 | L10: =K10*H10 -> 0 | M10: 0 | N10: =M10*H10 -> 0 | O10: 0 | P10: =O10*H10 -> 0 | Q10: 0 | R10: =Q10*H10 -> 0 | S10: 0 | T10: =S10*H10 -> 0 | U10: 1 | V10: =U10*H10 -> 206453.29 | W10: 0 | X10: =W10*H10 -> 0 | Y10: 0 | Z10: =Y10*H10 -> 0 | AA10: 0 | AB10: =AA10*H10 -> 0 | AC10: 0 | AD10: =AC10*H10 -> 0 | AE10: 0 | AF10: =AE10*H10 -> 0 | AG10: 0 | AH10: =AG10*H10 -> 0 | AI10: 0 | AJ10: =AI10*H10 -> 0 | AK10: 0 | AL10: =AK10*H10 -> 0 | AM10: 0 | AN10: =AM10*H10 -> 0 | AO10: 0 | AP10: =AO10*H10 -> 0 | AQ10: 0 | AR10: =AQ10*H10 -> 0 | AS10: 0 | AT10: =AS10*H10 -> 0 | AU10: 0 | AV10: =AU10*H10 -> 0 | AW10: 0 | AX10: =AW10*H10 -> 0 | AY10: 0 | AZ10: =AY10*H10 -> 0 | BA10: =I10+K10+M10+O10+Q10+S10+U10+W10+Y10+AA10+AC10+AE10+AG10+AI10+AK10+AM10+AO10+AQ10+AS10+AU10+AW10+AY10 -> 4 | BB10: =J10+L10+N10+P10+R10+T10+V10+X10+Z10+AB10+AD10+AF10+AH10+AJ10+AL10+AN10+AP10+AR10+AT10+AV10+AX10+AZ10 -> 825813.17 | BD10: =+H10*BA10 -> 825813.17 | BE10: =+BB10-BD10 -> 0
A11: 7 | B11: 7 | C11: 42281915 | D11: 2501247 | E11: ROLLO EN PAPEL MIXTO PARA ESTERILIZAR A VAPOR | F11: ROLLO EN PAPEL MIXTO PARA ESTERILIZAR A VAPOR: DE MEDIDAS 40 X 200 MT (CON UN RANGO DE MÁS O MENOS 15%), GRADO MEDICO, PARA EL ENVOLVIMIENTO Y PROTECCION DE MATERIAL ESTERIL QUIRUGICO | G11: ROLLO | H11: 578061.92 | I11: 1 | J11: =I11*H11 -> 578061.92 | K11: 0 | L11: =K11*H11 -> 0 | M11: 0 | N11: =M11*H11 -> 0 | O11: 0 | P11: =O11*H11 -> 0 | Q11: 0 | R11: =Q11*H11 -> 0 | S11: 0 | T11: =S11*H11 -> 0 | U11: 0 | V11: =U11*H11 -> 0 | W11: 0 | X11: =W11*H11 -> 0 | Y11: 0 | Z11: =Y11*H11 -> 0 | AA11: 0 | AB11: =AA11*H11 -> 0 | AC11: 0 | AD11: =AC11*H11 -> 0 | AE11: 0 | AF11: =AE11*H11 -> 0 | AG11: 0 | AH11: =AG11*H11 -> 0 | AI11: 0 | AJ11: =AI11*H11 -> 0 | AK11: 0 | AL11: =AK11*H11 -> 0 | AM11: 0 | AN11: =AM11*H11 -> 0 | AO11: 0 | AP11: =AO11*H11 -> 0 | AQ11: 0 | AR11: =AQ11*H11 -> 0 | AS11: 0 | AT11: =AS11*H11 -> 0 | AU11: 0 | AV11: =AU11*H11 -> 0 | AW11: 0 | AX11: =AW11*H11 -> 0 | AY11: 0 | AZ11: =AY11*H11 -> 0 | BA11: =I11+K11+M11+O11+Q11+S11+U11+W11+Y11+AA11+AC11+AE11+AG11+AI11+AK11+AM11+AO11+AQ11+AS11+AU11+AW11+AY11 -> 1 | BB11: =J11+L11+N11+P11+R11+T11+V11+X11+Z11+AB11+AD11+AF11+AH11+AJ11+AL11+AN11+AP11+AR11+AT11+AV11+AX11+AZ11 -> 578061.92 | BD11: =+H11*BA11 -> 578061.92 | BE11: =+BB11-BD11 -> 0
A12: 8 | B12: 8 | C12: 13111201 | D12: 2501247 | E12: ROLLO EN PAPEL MIXTO PARA ESTERILIZAR A VAPOR | F12: ROLLO EN PAPEL MIXTO PARA ESTERILIZAR A VAPOR: 30X200MT, GRADO MEDICO, PARA EL ENVOLVIMIENTO Y PROTECCION DE MATERIAL ESTERIL QUIRUGICO, SIN FUELLE | G12: ROLLO | H12: 322629.37 | I12: 2 | J12: =I12*H12 -> 645258.73 | K12: 0 | L12: =K12*H12 -> 0 | M12: 0 | N12: =M12*H12 -> 0 | O12: 0 | P12: =O12*H12 -> 0 | Q12: 0 | R12: =Q12*H12 -> 0 | S12: 0 | T12: =S12*H12 -> 0 | U12: 0 | V12: =U12*H12 -> 0 | W12: 0 | X12: =W12*H12 -> 0 | Y12: 0 | Z12: =Y12*H12 -> 0 | AA12: 0 | AB12: =AA12*H12 -> 0 | AC12: 0 | AD12: =AC12*H12 -> 0 | AE12: 0 | AF12: =AE12*H12 -> 0 | AG12: 0 | AH12: =AG12*H12 -> 0 | AI12: 1 | AJ12: =AI12*H12 -> 322629.37 | AK12: 0 | AL12: =AK12*H12 -> 0 | AM12: 0 | AN12: =AM12*H12 -> 0 | AO12: 0 | AP12: =AO12*H12 -> 0 | AQ12: 0 | AR12: =AQ12*H12 -> 0 | AS12: 0 | AT12: =AS12*H12 -> 0 | AU12: 0 | AV12: =AU12*H12 -> 0 | AW12: 2 | AX12: =AW12*H12 -> 645258.73 | AY12: 0 | AZ12: =AY12*H12 -> 0 | BA12: =I12+K12+M12+O12+Q12+S12+U12+W12+Y12+AA12+AC12+AE12+AG12+AI12+AK12+AM12+AO12+AQ12+AS12+AU12+AW12+AY12 -> 5 | BB12: =J12+L12+N12+P12+R12+T12+V12+X12+Z12+AB12+AD12+AF12+AH12+AJ12+AL12+AN12+AP12+AR12+AT12+AV12+AX12+AZ12 -> 1613146.8 | BD12: =+H12*BA12 -> 1613146.8 | BE12: =+BB12-BD12 -> 0
A13: 9 | B13: 9 | C13: 51102708 | D13: 1144198 | E13: PAPEL VINIPEL | F13: MATERIAL TERMOPLÁSTICO CON PROPIEDADES DE ELONGACIÓN Y RETENCIÓN DE CARGA, ASEGURAMIENTO Y PROTECCIÓN EN MOVIMIENTO Y TRANSPORTE. LOS ROLLOS VIENEN ENVUELTOS EN STRETCH FILM PARA EVITAR CONTAMINACIÓN DEL PRODUCTO Y CUNETA CON PROTECCIÓN DEL CARTÓN EN LOS BORDES PARA EVITAR DAÑOS DURANTE EL TRANSPORTE Y MANIPULACIÓN. EMPAQUE 15-30CM X 300MT | G13: ROLLO | H13: 22204.655 | I13: 0 | J13: =I13*H13 -> 0 | K13: 0 | L13: =K13*H13 -> 0 | M13: 0 | N13: =M13*H13 -> 0 | O13: 0 | P13: =O13*H13 -> 0 | Q13: 2 | R13: =Q13*H13 -> 44409.31 | S13: 0 | T13: =S13*H13 -> 0 | U13: 4 | V13: =U13*H13 -> 88818.619 | W13: 8 | X13: =W13*H13 -> 177637.24 | Y13: 0 | Z13: =Y13*H13 -> 0 | AA13: 0 | AB13: =AA13*H13 -> 0 | AC13: 1 | AD13: =AC13*H13 -> 22204.655 | AE13: 3 | AF13: =AE13*H13 -> 66613.965 | AG13: 2 | AH13: =AG13*H13 -> 44409.31 | AI13: 4 | AJ13: =AI13*H13 -> 88818.619 | AK13: 0 | AL13: =AK13*H13 -> 0 | AM13: 0 | AN13: =AM13*H13 -> 0 | AO13: 1 | AP13: =AO13*H13 -> 22204.655 | AQ13: 2 | AR13: =AQ13*H13 -> 44409.31 | AS13: 0 | AT13: =AS13*H13 -> 0 | AU13: 0 | AV13: =AU13*H13 -> 0 | AW13: 0 | AX13: =AW13*H13 -> 0 | AY13: 0 | AZ13: =AY13*H13 -> 0 | BA13: =I13+K13+M13+O13+Q13+S13+U13+W13+Y13+AA13+AC13+AE13+AG13+AI13+AK13+AM13+AO13+AQ13+AS13+AU13+AW13+AY13 -> 27 | BB13: =J13+L13+N13+P13+R13+T13+V13+X13+Z13+AB13+AD13+AF13+AH13+AJ13+AL13+AN13+AP13+AR13+AT13+AV13+AX13+AZ13 -> 599525.68 | BD13: =+H13*BA13 -> 599525.68 | BE13: =+BB13-BD13 -> 0
A14: 10 | B14: 10 | C14: 42281915 | D14: 2501238 | E14: PAPEL PARA ESTERILIZAR | F14: ROLLO DE PAPEL DE GRADO MEDICO, PARA EL ENVOLVIMIENTO Y PROTECCIÓN DE MATERIAL ESTÉRIL QUIRÚRGICO, DE 38 A 60 CM X 100 METROS | G14: ROLLO | H14: 176127.72 | I14: 0 | J14: =I14*H14 -> 0 | K14: 1 | L14: =K14*H14 -> 176127.72 | M14: 0 | N14: =M14*H14 -> 0 | O14: 0 | P14: =O14*H14 -> 0 | Q14: 0 | R14: =Q14*H14 -> 0 | S14: 0 | T14: =S14*H14 -> 0 | U14: 0 | V14: =U14*H14 -> 0 | W14: 0 | X14: =W14*H14 -> 0 | Y14: 0 | Z14: =Y14*H14 -> 0 | AA14: 0 | AB14: =AA14*H14 -> 0 | AC14: 0 | AD14: =AC14*H14 -> 0 | AE14: 0 | AF14: =AE14*H14 -> 0 | AG14: 0 | AH14: =AG14*H14 -> 0 | AI14: 0 | AJ14: =AI14*H14 -> 0 | AK14: 0 | AL14: =AK14*H14 -> 0 | AM14: 0 | AN14: =AM14*H14 -> 0 | AO14: 0 | AP14: =AO14*H14 -> 0 | AQ14: 0 | AR14: =AQ14*H14 -> 0 | AS14: 0 | AT14: =AS14*H14 -> 0 | AU14: 0 | AV14: =AU14*H14 -> 0 | AW14: 2 | AX14: =AW14*H14 -> 352255.44 | AY14: 0 | AZ14: =AY14*H14 -> 0 | BA14: =I14+K14+M14+O14+Q14+S14+U14+W14+Y14+AA14+AC14+AE14+AG14+AI14+AK14+AM14+AO14+AQ14+AS14+AU14+AW14+AY14 -> 3 | BB14: =J14+L14+N14+P14+R14+T14+V14+X14+Z14+AB14+AD14+AF14+AH14+AJ14+AL14+AN14+AP14+AR14+AT14+AV14+AX14+AZ14 -> 528383.16 | BD14: =+H14*BA14 -> 528383.16 | BE14: =+BB14-BD14 -> 0
A15: VALOR GRUPO 1. ESTERILIZACION | I15: =SUM(I5:I14) -> 18 | J15: =SUM(J5:J14) -> 3352915.5 | K15: =SUM(K5:K14) -> 3 | L15: =SUM(L5:L14) -> 248462.86 | M15: =SUM(M5:M14) -> 0 | N15: =SUM(N5:N14) -> 0 | O15: =SUM(O5:O14) -> 9 | P15: =SUM(P5:P14) -> 313040.17 | ... BA15: =SUM(BA5:BA14) -> 92 | BB15: =J15+L15+N15+P15+R15+T15+V15+X15+Z15+AB15+AD15+AF15+AH15+AJ15+AL15+AN15+AP15+AR15+AT15+AV15+AX15+AZ15 -> 7103930.9 | BC15: =SUM(BB5:BB14) -> 7103930.9 | BD15: =SUM(BD5:BD14) -> 7103930.9 | BE15: =+BB15-BD15 -> 0
A16: GRUPO No.2 ELEMENTOS DE CIRUGIA | H16: VALOR | I16: DMBOG | K16: BIM12 | M16: BTURA | O16: TURBO | Q16: PUERTO LOPEZ | S16: BARRANCABERMEJA | U16: BAHIA MALAGA | W16: BAHIA SOLANO | Y16: PTO CARREÑO | AA16: GUAPI | AC16: YATI | AE16: LETICIA | AG16: HONAL | AI16: MALAGANA | AK16: SAN ANDRES | AM16: COVEÑAS | AO16: TUMACO | AQ16: INIRIDA | AS16: ENAP | AU16: ENSB | AW16: COROZAL | AY16: ARAUCA | BA16: CANTIDAD
A17: 11 | B17: 1 | C17: 42295143 | D17: 2505276 | E17: LAPIZ PARA ELECTROBISTURÍ | F17: LAPIZ PARA ELECTROBISTURÍ COMPATIBLE SISTEMA VALLEYLABS O SU EQUIVALENTE. ESTERIL | G17: UND | H17: 14533.156 | I17: 20 | J17: =I17*H17 -> 290663.11 | K17: 0 | L17: =K17*H17 -> 0 | M17: 0 | N17: =H17*M17 -> 0 | O17: 0 | P17: =H17*O17 -> 0 | Q17: 0 | R17: =H17*Q17 -> 0 | S17: 0 | T17: =H17*S17 -> 0 | U17: 0 | V17: =H17*U17 -> 0 | W17: 0 | X17: =H17*W17 -> 0 | Y17: 0 | Z17: =H17*Y17 -> 0 | AA17: 0 | AB17: =H17*AA17 -> 0 | AC17: 0 | AD17: =H17*AC17 -> 0 | AE17: 0 | AF17: =H17*AE17 -> 0 | AG17: 0 | AH17: =H17*AG17 -> 0 | AI17: 0 | AJ17: =H17*AI17 -> 0 | AK17: 0 | AL17: =H17*AK17 -> 0 | AM17: 0 | AN17: =H17*AM17 -> 0 | AO17: 0 | AP17: =H17*AO17 -> 0 | AQ17: 0 | AR17: =H17*AQ17 -> 0 | AS17: 0 | AT17: =H17*AS17 -> 0 | AU17: 0 | AV17: =H17*AU17 -> 0 | AW17: 0 | AX17: =H17*AW17 -> 0 | AY17: 0 | AZ17: =H17*AY17 -> 0 | BA17: =+AY17+AU17+AS17+AQ17+AO17+AM17+AK17+AI17+AG17+AE17+AC17+AA17+Y17+W17+U17+S17+O17+M17+K17+I17+Q17+AW17 -> 20 | BB17: =J17+L17+N17+P17+R17+T17+V17+X17+Z17+AB17+AD17+AF17+AH17+AJ17+AL17+AN17+AP17+AR17+AT17+AV17+AX17+AZ17 -> 290663.11 | BD17: =+H17*BA17 -> 290663.11 | BE17: =+BB17-BD17 -> 0
A18: 12 | B18: 2 | C18: 42295143 | D18: 2500291 | E18: PLACA DE ELECTROCAUTERIO | F18: PLACA DE ELECTROCAUTERIO DESECHABLE, COMPATIBLE CON EQUIPO VALLEY LAB CON CABLE Y CONECTOR. PARA ADULTO | G18: UND | H18: 19895.991 | I18: 20 | J18: =I18*H18 -> 397919.82 | K18: 0 | L18: =K18*H18 -> 0 | M18: 0 | N18: =H18*M18 -> 0 | O18: 0 | P18: =H18*O18 -> 0 | Q18: 0 | R18: =H18*Q18 -> 0 | S18: 0 | T18: =H18*S18 -> 0 | U18: 0 | V18: =H18*U18 -> 0 | W18: 0 | X18: =H18*W18 -> 0 | Y18: 0 | Z18: =H18*Y18 -> 0 | AA18: 0 | AB18: =H18*AA18 -> 0 | AC18: 0 | AD18: =H18*AC18 -> 0 | AE18: 0 | AF18: =H18*AE18 -> 0 | AG18: 0 | AH18: =H18*AG18 -> 0 | AI18: 0 | AJ18: =H18*AI18 -> 0 | AK18: 0 | AL18: =H18*AK18 -> 0 | AM18: 0 | AN18: =H18*AM18 -> 0 | AO18: 0 | AP18: =H18*AO18 -> 0 | AQ18: 0 | AR18: =H18*AQ18 -> 0 | AS18: 0 | AT18: =H18*AS18 -> 0 | AU18: 0 | AV18: =H18*AU18 -> 0 | AW18: 0 | AX18: =H18*AW18 -> 0 | AY18: 0 | AZ18: =H18*AY18 -> 0 | BA18: =+AY18+AU18+AS18+AQ18+AO18+AM18+AK18+AI18+AG18+AE18+AC18+AA18+Y18+W18+U18+S18+O18+M18+K18+I18+Q18+AW18 -> 20 | BB18: =J18+L18+N18+P18+R18+T18+V18+X18+Z18+AB18+AD18+AF18+AH18+AJ18+AL18+AN18+AP18+AR18+AT18+AV18+AX18+AZ18 -> 397919.82 | BD18: =+H18*BA18 -> 397919.82 | BE18: =+BB18-BD18 -> 0
A19: 13 | B19: 3 | C19: 42181708 | D19: 2503282 | E19: ELECTRODOS DESECHABLES PARA MONITORIZACION ADULTOS | F19: ELECTRODOS HIPOALERGENICOS SIN LATEX, NO TEJIDO, CON GEL COMPACTO (NO SE TRANSFIERE AL ADHESIVO NI AL PACIENTE), CON SOPORTE DE ESPUMA PERMITE UNA APLICACION RAPIDA, FACIL Y SEGURA DURANTE MINIMO 24 HORAS, OJAL EN PLATA: CLORURO DE PLATA. PERMITE UN APROPIADO REGISTRO, BROCHE EN ACERO INOXIDABLE O NIQUEL , RESPALDO EN PELICULA DE POLIPROPILENO O POLIETILENO, CONEXION ESTANDAR DEL BROCHE, AJUSTA EN TODOS LOS SISTEMAS.CON BROCHE DE SEGURIDAD | G19: BOLSA X 50 | H19: 28014.917 | I19: 8 | J19: =I19*H19 -> 224119.34 | K19: 1 | L19: =K19*H19 -> 28014.917 | M19: 0 | N19: =H19*M19 -> 0 | O19: 0 | P19: =H19*O19 -> 0 | Q19: 0 | R19: =H19*Q19 -> 0 | S19: 0 | T19: =H19*S19 -> 0 | U19: 0 | V19: =H19*U19 -> 0 | W19: 0 | X19: =H19*W19 -> 0 | Y19: 0 | Z19: =H19*Y19 -> 0 | AA19: 0 | AB19: =H19*AA19 -> 0 | AC19: 0 | AD19: =H19*AC19 -> 0 | AE19: 0 | AF19: =H19*AE19 -> 0 | AG19: 5 | AH19: =H19*AG19 -> 140074.58 | AI19: 0 | AJ19: =H19*AI19 -> 0 | AK19: 0 | AL19: =H19*AK19 -> 0 | AM19: 0 | AN19: =H19*AM19 -> 0 | AO19: 3 | AP19: =H19*AO19 -> 84044.751 | AQ19: 0 | AR19: =H19*AQ19 -> 0 | AS19: 0 | AT19: =H19*AS19 -> 0 | AU19: 0 | AV19: =H19*AU19 -> 0 | AW19: 2 | AX19: =H19*AW19 -> 56029.834 | AY19: 0 | AZ19: =H19*AY19 -> 0 | BA19: =+AY19+AU19+AS19+AQ19+AO19+AM19+AK19+AI19+AG19+AE19+AC19+AA19+Y19+W19+U19+S19+O19+M19+K19+I19+Q19+AW19 -> 19 | BB19: =J19+L19+N19+P19+R19+T19+V19+X19+Z19+AB19+AD19+AF19+AH19+AJ19+AL19+AN19+AP19+AR19+AT19+AV19+AX19+AZ19 -> 532283.42 | BD19: =+H19*BA19 -> 532283.42 | BE19: =+BB19-BD19 -> 0
A20: 14 | B20: 4 | C20: 42181707 | D20: 2504511 | E20: ELECTRODOS DESECHABLES EKG PEDIATRICO | F20: ELECTRODOS HIPOALERGENICOS SIN LATEX NO TEJIDO CON GEL COMPACTO (NO SE TRANSFIERE AL ADHESIVO NI AL PACIENTE), CON SOPORTE DE ESPUMA PERMITE UNA APLICACION RAPIDA, FACIL Y SEGURA DURANTE MINIMO 24 HORAS, OJAL EN PLATA: CLORURO DE PLATA. PERMITE UN APROPIADO REGISTRO, BROCHE EN ACERO INOXIDABLE O NIQUEL , RESPALDO EN PELICULA DE POLIPROPILENO O POLIETILENO, CONEXION ESTANDAR DEL BROCHE, AJUSTA EN TODOS LOS SISTEMAS.CON BROCHE DE SEGURIDAD | G20: BOLSA X 50 | H20: 30502.779 | I20: 1 | J20: =I20*H20 -> 30502.779 | K20: 0 | L20: =K20*H20 -> 0 | M20: 0 | N20: =H20*M20 -> 0 | O20: 1 | P20: =H20*O20 -> 30502.779 | Q20: 0 | R20: =H20*Q20 -> 0 | S20: 0 | T20: =H20*S20 -> 0 | U20: 0 | V20: =H20*U20 -> 0 | W20: 0 | X20: =H20*W20 -> 0 | Y20: 0 | Z20: =H20*Y20 -> 0 | AA20: 0 | AB20: =H20*AA20 -> 0 | AC20: 0 | AD20: =H20*AC20 -> 0 | AE20: 0 | AF20: =H20*AE20 -> 0 | AG20: 0 | AH20: =H20*AG20 -> 0 | AI20: 0 | AJ20: =H20*AI20 -> 0 | AK20: 0 | AL20: =H20*AK20 -> 0 | AM20: 0 | AN20: =H20*AM20 -> 0 | AO20: 3 | AP20: =H20*AO20 -> 91508.337 | AQ20: 0 | AR20: =H20*AQ20 -> 0 | AS20: 0 | AT20: =H20*AS20 -> 0 | AU20: 0 | AV20: =H20*AU20 -> 0 | AW20: 1 | AX20: =H20*AW20 -> 30502.779 | AY20: 0 | AZ20: =H20*AY20 -> 0 | BA20: =+AY20+AU20+AS20+AQ20+AO20+AM20+AK20+AI20+AG20+AE20+AC20+AA20+Y20+W20+U20+S20+O20+M20+K20+I20+Q20+AW20 -> 6 | BB20: =J20+L20+N20+P20+R20+T20+V20+X20+Z20+AB20+AD20+AF20+AH20+AJ20+AL20+AN20+AP20+AR20+AT20+AV20+AX20+AZ20 -> 183016.67 | BD20: =+H20*BA20 -> 183016.67 | BE20: =+BB20-BD20 -> 0
A21: 15 | B21: 5 | C21: 42181707 | D21: 2503282 | E21: ELECTRODO (PARCHE) DESECHABLE PARA PARA DESFIBRILADOR EXTERNO (DEA) ADULTO. | F21: ELECTRODO (PARCHE) DESECHABLE PARA ADULTO, REFERENCIA 0-21-0013 - SCHILLER PARA DESFIBRILADOR EXTERNO - FREED EASY. DE 75 CM2 DE SUPERFICIE ACTIVA POR ELECTRODO, LONGITUD DEL CABLE 2 M. | G21: UND | H21: 514649.74 | I21: 1 | J21: =I21*H21 -> 514649.74 | K21: 0 | L21: =K21*H21 -> 0 | M21: 0 | N21: =H21*M21 -> 0 | O21: 0 | P21: =H21*O21 -> 0 | Q21: 0 | R21: =H21*Q21 -> 0 | S21: 0 | T21: =H21*S21 -> 0 | U21: 0 | V21: =H21*U21 -> 0 | W21: 0 | X21: =H21*W21 -> 0 | Y21: 0 | Z21: =H21*Y21 -> 0 | AA21: 0 | AB21: =H21*AA21 -> 0 | AC21: 0 | AD21: =H21*AC21 -> 0 | AE21: 0 | AF21: =H21*AE21 -> 0 | AG21: 0 | AH21: =H21*AG21 -> 0 | AI21: 0 | AJ21: =H21*AI21 -> 0 | AK21: 0 | AL21: =H21*AK21 -> 0 | AM21: 0 | AN21: =H21*AM21 -> 0 | AO21: 0 | AP21: =H21*AO21 -> 0 | AQ21: 0 | AR21: =H21*AQ21 -> 0 | AS21: 0 | AT21: =H21*AS21 -> 0 | AU21: 0 | AV21: =H21*AU21 -> 0 | AW21: 0 | AX21: =H21*AW21 -> 0 | AY21: 0 | AZ21: =H21*AY21 -> 0 | BA21: =+AY21+AU21+AS21+AQ21+AO21+AM21+AK21+AI21+AG21+AE21+AC21+AA21+Y21+W21+U21+S21+O21+M21+K21+I21+Q21+AW21 -> 1 | BB21: =J21+L21+N21+P21+R21+T21+V21+X21+Z21+AB21+AD21+AF21+AH21+AJ21+AL21+AN21+AP21+AR21+AT21+AV21+AX21+AZ21 -> 514649.74 | BD21: =+H21*BA21 -> 514649.74 | BE21: =+BB21-BD21 -> 0
A22: 16 | B22: 6 | C22: 42181715 | D22: 000000000002503935 | E22: GEL CONDUCTOR PARA ULTRASONIDO | F22: JALEA CONDUCTIVA (GEL ULTRASONIDO), VISCOSO NEUTRO, HIDROSOLUBLE, HIPOALERGÉNICO DE ALTA CONDUCCIÓN, COLOR AZUL, PARA USO EN PROCEDIMIENTOS DE IMÁGENES DIAGNÓSTICAS, Y OTROS PROCEDIMIENTOS, EL CUAL FACILITA LA TRANSMISIÓN DE ONDAS DE ULTRASONIDO E IMPULSOS ELECTRICOS. INDICADO PARA USO EN EQUIPOS DE ELECTRO ESTIMULACIÓN, TERAPIA FÍSICA ENTRE OTROS PROCEDIMIENTOS. QUE NO MANCHE, NO DETERIORE LOS TRANSDUCTORES, NO GRASO, NO CONTENGA SALES, ALCOHOLES NI FRAGANCIAS. | G22: FCO X 250 ML | H22: 6969.0995 | I22: 0 | J22: =I22*H22 -> 0 | K22: 0 | L22: =K22*H22 -> 0 | M22: 0 | N22: =H22*M22 -> 0 | O22: 0 | P22: =H22*O22 -> 0 | Q22: 0 | R22: =H22*Q22 -> 0 | S22: 0 | T22: =H22*S22 -> 0 | U22: 0 | V22: =H22*U22 -> 0 | W22: 0 | X22: =H22*W22 -> 0 | Y22: 0 | Z22: =H22*Y22 -> 0 | AA22: 0 | AB22: =H22*AA22 -> 0 | AC22: 0 | AD22: =H22*AC22 -> 0 | AE22: 0 | AF22: =H22*AE22 -> 0 | AG22: 0 | AH22: =H22*AG22 -> 0 | AI22: 0 | AJ22: =H22*AI22 -> 0 | AK22: 0 | AL22: =H22*AK22 -> 0 | AM22: 0 | AN22: =H22*AM22 -> 0 | AO22: 2 | AP22: =H22*AO22 -> 13938.199 | AQ22: 0 | AR22: =H22*AQ22 -> 0 | AS22: 0 | AT22: =H22*AS22 -> 0 | AU22: 0 | AV22: =H22*AU22 -> 0 | AW22: 0 | AX22: =H22*AW22 -> 0 | AY22: 0 | AZ22: =H22*AY22 -> 0 | BA22: =+AY22+AU22+AS22+AQ22+AO22+AM22+AK22+AI22+AG22+AE22+AC22+AA22+Y22+W22+U22+S22+O22+M22+K22+I22+Q22+AW22 -> 2 | BB22: =J22+L22+N22+P22+R22+T22+V22+X22+Z22+AB22+AD22+AF22+AH22+AJ22+AL22+AN22+AP22+AR22+AT22+AV22+AX22+AZ22 -> 13938.199 | BD22: =+H22*BA22 -> 13938.199 | BE22: =+BB22-BD22 -> 0
A23: 17 | B23: 7 | C23: 42181715 | D23: 2504235 | E23: GEL CONDUCTIVA | F23: GEL PARA USO CON ELECTRODO DE SUPERFICIE Y LA PIEL DEL PACIENTE | G23: FRASCO ENTRE 8 A 9 ONZ | H23: 66080.723 | I23: 5 | J23: =I23*H23 -> 330403.61 | K23: 0 | L23: =K23*H23 -> 0 | M23: 0 | N23: =H23*M23 -> 0 | O23: 0 | P23: =H23*O23 -> 0 | Q23: 0 | R23: =H23*Q23 -> 0 | S23: 0 | T23: =H23*S23 -> 0 | U23: 0 | V23: =H23*U23 -> 0 | W23: 2 | X23: =H23*W23 -> 132161.45 | Y23: 0 | Z23: =H23*Y23 -> 0 | AA23: 0 | AB23: =H23*AA23 -> 0 | AC23: 0 | AD23: =H23*AC23 -> 0 | AE23: 0 | AF23: =H23*AE23 -> 0 | AG23: 0 | AH23: =H23*AG23 -> 0 | AI23: 0 | AJ23: =H23*AI23 -> 0 | AK23: 0 | AL23: =H23*AK23 -> 0 | AM23: 0 | AN23: =H23*AM23 -> 0 | AO23: 2 | AP23: =H23*AO23 -> 132161.45 | AQ23: 0 | AR23: =H23*AQ23 -> 0 | AS23: 0 | AT23: =H23*AS23 -> 0 | AU23: 0 | AV23: =H23*AU23 -> 0 | AW23: 0 | AX23: =H23*AW23 -> 0 | AY23: 0 | AZ23: =H23*AY23 -> 0 | BA23: =+AY23+AU23+AS23+AQ23+AO23+AM23+AK23+AI23+AG23+AE23+AC23+AA23+Y23+W23+U23+S23+O23+M23+K23+I23+Q23+AW23 -> 9 | BB23: =J23+L23+N23+P23+R23+T23+V23+X23+Z23+AB23+AD23+AF23+AH23+AJ23+AL23+AN23+AP23+AR23+AT23+AV23+AX23+AZ23 -> 594726.51 | BD23: =+H23*BA23 -> 594726.51 | BE23: =+BB23-BD23 -> 0
A24: 18 | B24: 8 | C24: 42181715 | D24: 000000000002502424 | E24: GEL CONDUCTOR PARA ULTRASONIDO | F24: JALEA CONDUCTIVA (GEL ULTRASONIDO), VISCOSO NEUTRO, HIDROSOLUBLE, HIPOALERGÉNICO DE ALTA CONDUCCIÓN, COLOR AZUL, PARA USO EN PROCEDIMIENTOS DE IMÁGENES DIAGNÓSTICAS, Y OTROS PROCEDIMIENTOS, EL CUAL FACILITA LA TRANSMISIÓN DE ONDAS DE ULTRASONIDO E IMPULSOS ELECTRICOS. INDICADO PARA USO EN EQUIPOS DE ELECTRO ESTIMULACIÓN, TERAPIA FÍSICA ENTRE OTROS PROCEDIMIENTOS. QUE NO MANCHE, NO DETERIORE LOS TRANSDUCTORES, NO GRASO, NO CONTENGA SALES, ALCOHOLES NI FRAGANCIAS. | G24: GALON | H24: 38043.701 | I24: 5 | J24: =I24*H24 -> 190218.51 | K24: 0 | L24: =K24*H24 -> 0 | M24: 0 | N24: =H24*M24 -> 0 | O24: 0 | P24: =H24*O24 -> 0 | Q24: 0 | R24: =H24*Q24 -> 0 | S24: 0 | T24: =H24*S24 -> 0 | U24: 0 | V24: =H24*U24 -> 0 | W24: 0 | X24: =H24*W24 -> 0 | Y24: 0 | Z24: =H24*Y24 -> 0 | AA24: 0 | AB24: =H24*AA24 -> 0 | AC24: 0 | AD24: =H24*AC24 -> 0 | AE24: 0 | AF24: =H24*AE24 -> 0 | AG24: 0 | AH24: =H24*AG24 -> 0 | AI24: 0 | AJ24: =H24*AI24 -> 0 | AK24: 0 | AL24: =H24*AK24 -> 0 | AM24: 0 | AN24: =H24*AM24 -> 0 | AO24: 0 | AP24: =H24*AO24 -> 0 | AQ24: 0 | AR24: =H24*AQ24 -> 0 | AS24: 1 | AT24: =H24*AS24 -> 38043.701 | AU24: 0 | AV24: =H24*AU24 -> 0 | AW24: 0 | AX24: =H24*AW24 -> 0 | AY24: 0 | AZ24: =H24*AY24 -> 0 | BA24: =+AY24+AU24+AS24+AQ24+AO24+AM24+AK24+AI24+AG24+AE24+AC24+AA24+Y24+W24+U24+S24+O24+M24+K24+I24+Q24+AW24 -> 6 | BB24: =J24+L24+N24+P24+R24+T24+V24+X24+Z24+AB24+AD24+AF24+AH24+AJ24+AL24+AN24+AP24+AR24+AT24+AV24+AX24+AZ24 -> 228262.21 | BD24: =+H24*BA24 -> 228262.21 | BE24: =+BB24-BD24 -> 0
A25: 19 | B25: 9 | C25: 42295406 | D25: 2503299 | E25: COMPRESA ESTERIL CON CINTA RADIO-OPACA | F25: COMPRESA ESTERIL CON CINTA RADIO-OPACA: COMPRESA QUIRURGICA ALTAMENTE ABSORBENTE CON CINTA EN MATERIAL RADIO-OPACO, PRELAVADA, 100% ALGODÓN, MEDIDAS 45 X 45CM, MINIMO 4 CAPAS CON COSTURA INTERNA. PAQUETE POR 5 UNIDADES, ESTERIL | G25: PAQ X 5 | H25: 14114.121 | I25: 20 | J25: =I25*H25 -> 282282.41 | K25: 0 | L25: =K25*H25 -> 0 | M25: 0 | N25: =H25*M25 -> 0 | O25: 20 | P25: =H25*O25 -> 282282.41 | Q25: 0 | R25: =H25*Q25 -> 0 | S25: 0 | T25: =H25*S25 -> 0 | U25: 0 | V25: =H25*U25 -> 0 | W25: 5 | X25: =H25*W25 -> 70570.603 | Y25: 0 | Z25: =H25*Y25 -> 0 | AA25: 0 | AB25: =H25*AA25 -> 0 | AC25: 0 | AD25: =H25*AC25 -> 0 | AE25: 0 | AF25: =H25*AE25 -> 0 | AG25: 0 | AH25: =H25*AG25 -> 0 | AI25: 0 | AJ25: =H25*AI25 -> 0 | AK25: 0 | AL25: =H25*AK25 -> 0 | AM25: 0 | AN25: =H25*AM25 -> 0 | AO25: 10 | AP25: =H25*AO25 -> 141141.21 | AQ25: 0 | AR25: =H25*AQ25 -> 0 | AS25: 0 | AT25: =H25*AS25 -> 0 | AU25: 0 | AV25: =H25*AU25 -> 0 | AW25: 0 | AX25: =H25*AW25 -> 0 | AY25: 5 | AZ25: =H25*AY25 -> 70570.603 | BA25: =+AY25+AU25+AS25+AQ25+AO25+AM25+AK25+AI25+AG25+AE25+AC25+AA25+Y25+W25+U25+S25+O25+M25+K25+I25+Q25+AW25 -> 60 | BB25: =J25+L25+N25+P25+R25+T25+V25+X25+Z25+AB25+AD25+AF25+AH25+AJ25+AL25+AN25+AP25+AR25+AT25+AV25+AX25+AZ25 -> 846847.24 | BD25: =+H25*BA25 -> 846847.24 | BE25: =+BB25-BD25 -> 0
A26: 20 | B26: 10 | C26: 42291613 | D26: 2500546 | E26: HOJAS DE BISTURI N° 11 | F26: HOJA DE BISTURI N° 11, EN ACERO AL CARBONO, FLEXIBLE, EXCELENTE CORTE DE ALTA RESISTENCIA, EMPAQUE INDIVIDUAL Y DE FACIL APERTURA, ESTERIL. EN PRESENTACIÓN DE CAJA X 100 UNIDADES | G26: CAJA X 100 | H26: 51007.147 | I26: 0 | J26: =I26*H26 -> 0 | K26: 0 | L26: =K26*H26 -> 0 | M26: 0 | N26: =H26*M26 -> 0 | O26: 0 | P26: =H26*O26 -> 0 | Q26: 0 | R26: =H26*Q26 -> 0 | S26: 0 | T26: =H26*S26 -> 0 | U26: 0 | V26: =H26*U26 -> 0 | W26: 0 | X26: =H26*W26 -> 0 | Y26: 0 | Z26: =H26*Y26 -> 0 | AA26: 0 | AB26: =H26*AA26 -> 0 | AC26: 0 | AD26: =H26*AC26 -> 0 | AE26: 0 | AF26: =H26*AE26 -> 0 | AG26: 1 | AH26: =H26*AG26 -> 51007.147 | AI26: 0 | AJ26: =H26*AI26 -> 0 | AK26: 0 | AL26: =H26*AK26 -> 0 | AM26: 0 | AN26: =H26*AM26 -> 0 | AO26: 0 | AP26: =H26*AO26 -> 0 | AQ26: 0 | AR26: =H26*AQ26 -> 0 | AT26: =H26*AS26 -> 0 | AU26: 0 | AV26: =H26*AU26 -> 0 | AW26: 0 | AX26: =H26*AW26 -> 0 | AY26: 0 | AZ26: =H26*AY26 -> 0 | BA26: =+AY26+AU26+AS26+AQ26+AO26+AM26+AK26+AI26+AG26+AE26+AC26+AA26+Y26+W26+U26+S26+O26+M26+K26+I26+Q26+AW26 -> 1 | BB26: =J26+L26+N26+P26+R26+T26+V26+X26+Z26+AB26+AD26+AF26+AH26+AJ26+AL26+AN26+AP26+AR26+AT26+AV26+AX26+AZ26 -> 51007.147 | BD26: =+H26*BA26 -> 51007.147 | BE26: =+BB26-BD26 -> 0
A27: 21 | B27: 11 | C27: 42291613 | D27: 2500547 | E27: HOJAS DE BISTURI N° 12 | F27: HOJA DE BISTURI N° 12, EN ACERO AL CARBONO, FLEXIBLE, EXCELENTE CORTE DE ALTA RESISTENCIA, EMPAQUE INDIVIDUAL Y DE FACIL APERTURA, ESTERIL. EN PRESENTACIÓN DE CAJA X 100 UNIDADES | G27: CAJA X 100 | H27: 51007.147 | I27: 2 | J27: =I27*H27 -> 102014.29 | K27: 0 | L27: =K27*H27 -> 0 | M27: 0 | N27: =H27*M27 -> 0 | O27: 0 | P27: =H27*O27 -> 0 | Q27: 0 | R27: =H27*Q27 -> 0 | S27: 0 | T27: =H27*S27 -> 0 | U27: 0 | V27: =H27*U27 -> 0 | W27: 0 | X27: =H27*W27 -> 0 | Y27: 0 | Z27: =H27*Y27 -> 0 | AA27: 0 | AB27: =H27*AA27 -> 0 | AC27: 0 | AD27: =H27*AC27 -> 0 | AE27: 0 | AF27: =H27*AE27 -> 0 | AG27: 1 | AH27: =H27*AG27 -> 51007.147 | AI27: 0 | AJ27: =H27*AI27 -> 0 | AK27: 0 | AL27: =H27*AK27 -> 0 | AM27: 0 | AN27: =H27*AM27 -> 0 | AO27: 0 | AP27: =H27*AO27 -> 0 | AQ27: 0 | AR27: =H27*AQ27 -> 0 | AS27: 0 | AT27: =H27*AS27 -> 0 | AU27: 0 | AV27: =H27*AU27 -> 0 | AW27: 0 | AX27: =H27*AW27 -> 0 | AY27: 0 | AZ27: =H27*AY27 -> 0 | BA27: =+AY27+AU27+AS27+AQ27+AO27+AM27+AK27+AI27+AG27+AE27+AC27+AA27+Y27+W27+U27+S27+O27+M27+K27+I27+Q27+AW27 -> 3 | BB27: =J27+L27+N27+P27+R27+T27+V27+X27+Z27+AB27+AD27+AF27+AH27+AJ27+AL27+AN27+AP27+AR27+AT27+AV27+AX27+AZ27 -> 153021.44 | BD27: =+H27*BA27 -> 153021.44 | BE27: =+BB27-BD27 -> 0
A28: 22 | B28: 12 | C28: 42291613 | D28: 2500548 | E28: HOJAS DE BISTURI N° 15 | F28: HOJA DE BISTURI N° 15, EN ACERO AL CARBONO, FLEXIBLE, EXCELENTE CORTE DE ALTA RESISTENCIA, EMPAQUE INDIVIDUAL Y DE FACIL APERTURA, ESTERIL. EN PRESENTACIÓN DE CAJA X 100 UNIDADES | G28: CAJA X 100 | H28: 51007.147 | I28: 1 | J28: =I28*H28 -> 51007.147 | K28: 0 | L28: =K28*H28 -> 0 | M28: 0 | N28: =H28*M28 -> 0 | O28: 1 | P28: =H28*O28 -> 51007.147 | Q28: 0 | R28: =H28*Q28 -> 0 | S28: 0 | T28: =H28*S28 -> 0 | U28: 0 | V28: =H28*U28 -> 0 | W28: 0 | X28: =H28*W28 -> 0 | Y28: 1 | Z28: =H28*Y28 -> 51007.147 | AA28: 0 | AB28: =H28*AA28 -> 0 | AC28: 2 | AD28: =H28*AC28 -> 102014.29 | AE28: 1 | AF28: =H28*AE28 -> 51007.147 | AG28: 1 | AH28: =H28*AG28 -> 51007.147 | AI28: 0 | AJ28: =H28*AI28 -> 0 | AK28: 0 | AL28: =H28*AK28 -> 0 | AM28: 0 | AN28: =H28*AM28 -> 0 | AO28: 2 | AP28: =H28*AO28 -> 102014.29 | AQ28: 0 | AR28: =H28*AQ28 -> 0 | AS28: 3 | AT28: =H28*AS28 -> 153021.44 | AU28: 0 | AV28: =H28*AU28 -> 0 | AW28: 3 | AX28: =H28*AW28 -> 153021.44 | AY28: 0 | AZ28: =H28*AY28 -> 0 | BA28: =+AY28+AU28+AS28+AQ28+AO28+AM28+AK28+AI28+AG28+AE28+AC28+AA28+Y28+W28+U28+S28+O28+M28+K28+I28+Q28+AW28 -> 15 | BB28: =J28+L28+N28+P28+R28+T28+V28+X28+Z28+AB28+AD28+AF28+AH28+AJ28+AL28+AN28+AP28+AR28+AT28+AV28+AX28+AZ28 -> 765107.21 | BD28: =+H28*BA28 -> 765107.21 | BE28: =+BB28-BD28 -> 0
A29: 23 | B29: 13 | C29: 42291613 | D29: 2500549 | E29: HOJAS DE BISTURI N° 20 | F29: HOJA DE BISTURI N° 20, EN ACERO AL CARBONO, FLEXIBLE, EXCELENTE CORTE DE ALTA RESISTENCIA, EMPAQUE INDIVIDUAL Y DE FACIL APERTURA, ESTERIL. EN PRESENTACIÓN DE CAJA X 100 UNIDADES | G29: CAJA X 100 | H29: 49387.891 | I29: 0 | J29: =I29*H29 -> 0 | K29: 1 | L29: =K29*H29 -> 49387.891 | M29: 0 | N29: =H29*M29 -> 0 | O29: 0 | P29: =H29*O29 -> 0 | Q29: 0 | R29: =H29*Q29 -> 0 | S29: 0 | T29: =H29*S29 -> 0 | U29: 0 | V29: =H29*U29 -> 0 | W29: 0 | X29: =H29*W29 -> 0 | Y29: 1 | Z29: =H29*Y29 -> 49387.891 | AA29: 0 | AB29: =H29*AA29 -> 0 | AC29: 0 | AD29: =H29*AC29 -> 0 | AE29: 0 | AF29: =H29*AE29 -> 0 | AG29: 0 | AH29: =H29*AG29 -> 0 | AI29: 0 | AJ29: =H29*AI29 -> 0 | AK29: 0 | AL29: =H29*AK29 -> 0 | AM29: 0 | AN29: =H29*AM29 -> 0 | AO29: 0 | AP29: =H29*AO29 -> 0 | AQ29: 0 | AR29: =H29*AQ29 -> 0 | AS29: 0 | AT29: =H29*AS29 -> 0 | AU29: 0 | AV29: =H29*AU29 -> 0 | AW29: 1 | AX29: =H29*AW29 -> 49387.891 | AY29: 0 | AZ29: =H29*AY29 -> 0 | BA29: =+AY29+AU29+AS29+AQ29+AO29+AM29+AK29+AI29+AG29+AE29+AC29+AA29+Y29+W29+U29+S29+O29+M29+K29+I29+Q29+AW29 -> 3 | BB29: =J29+L29+N29+P29+R29+T29+V29+X29+Z29+AB29+AD29+AF29+AH29+AJ29+AL29+AN29+AP29+AR29+AT29+AV29+AX29+AZ29 -> 148163.67 | BD29: =+H29*BA29 -> 148163.67 | BE29: =+BB29-BD29 -> 0
A30: 24 | B30: 14 | C30: 12352319 | D30: 2504522 | E30: GUARDIAN DE CON DISPOSITIVODE SEGURIDAD ANTI-PINCHAZO DE 1,0 A 1,5 LTS | F30: RECIPIENTE DE PLÁSTICO RÍGIDO CON TAPA SELLANTE, PARA ELEMENTOS DE COLOR ROJO Y DEBIDAMENTE IDENTIFICADO CON EL ANAGRAMA DE RIESGO BIOLÓGICO, Y ROTULO PARA COLOCACIÓN DE DATOS COMO FECHA, CONTENIDO, RESPONSABLE, CON DISPOSITIVO DE SEGURIDAD ANTI-PINCHAZO DE 1,0 A 1,5 LTS. | G30: UND | H30: 5586.7791 | I30: 0 | J30: =I30*H30 -> 0 | K30: 10 | L30: =K30*H30 -> 55867.791 | M30: 0 | N30: =H30*M30 -> 0 | O30: 5 | P30: =H30*O30 -> 27933.896 | Q30: 0 | R30: =H30*Q30 -> 0 | S30: 0 | T30: =H30*S30 -> 0 | U30: 4 | V30: =H30*U30 -> 22347.117 | W30: 0 | X30: =H30*W30 -> 0 | Y30: 0 | Z30: =H30*Y30 -> 0 | AA30: 0 | AB30: =H30*AA30 -> 0 | AC30: 0 | AD30: =H30*AC30 -> 0 | AE30: 0 | AF30: =H30*AE30 -> 0 | AG30: 0 | AH30: =H30*AG30 -> 0 | AI30: 0 | AJ30: =H30*AI30 -> 0 | AK30: 0 | AL30: =H30*AK30 -> 0 | AM30: 0 | AN30: =H30*AM30 -> 0 | AO30: 5 | AP30: =H30*AO30 -> 27933.896 | AQ30: 3 | AR30: =H30*AQ30 -> 16760.337 | AS30: 0 | AT30: =H30*AS30 -> 0 | AU30: 0 | AV30: =H30*AU30 -> 0 | AW30: 0 | AX30: =H30*AW30 -> 0 | AY30: 0 | AZ30: =H30*AY30 -> 0 | BA30: =+AY30+AU30+AS30+AQ30+AO30+AM30+AK30+AI30+AG30+AE30+AC30+AA30+Y30+W30+U30+S30+O30+M30+K30+I30+Q30+AW30 -> 27 | BB30: =J30+L30+N30+P30+R30+T30+V30+X30+Z30+AB30+AD30+AF30+AH30+AJ30+AL30+AN30+AP30+AR30+AT30+AV30+AX30+AZ30 -> 150843.04 | BD30: =+H30*BA30 -> 150843.04 | BE30: =+BB30-BD30 -> 0
A31: 25 | B31: 15 | C31: 12352319 | D31: 2504523 | E31: GUARDIAN CON DISPOSITIVO DE SEGURIDAD ANTI-PINCHAZO DE 2.9 A 3 LTS | F31: RECIPIENTE DE PLÁSTICO RÍGIDO CON TAPA SELLANTE, PARA ELEMENTOS DE COLOR ROJO Y DEBIDAMENTE IDENTIFICADO CON EL ANAGRAMA DE RIESGO BIOLÓGICO, Y ROTULO PARA COLOCACIÓN DE DATOS COMO FECHA, CONTENIDO, RESPONSABLE, CON DISPOSITIVO DE SEGURIDAD ANTI-PINCHAZO DE 2.9 A 3LTS. | G31: UND | H31: 9445.1528 | I31: 0 | J31: =I31*H31 -> 0 | K31: 0 | L31: =K31*H31 -> 0 | M31: 20 | N31: =H31*M31 -> 188903.06 | O31: 5 | P31: =H31*O31 -> 47225.764 | Q31: 0 | R31: =H31*Q31 -> 0 | S31: 0 | T31: =H31*S31 -> 0 | U31: 7 | V31: =H31*U31 -> 66116.07 | W31: 0 | X31: =H31*W31 -> 0 | Y31: 0 | Z31: =H31*Y31 -> 0 | AA31: 0 | AB31: =H31*AA31 -> 0 | AC31: 5 | AD31: =H31*AC31 -> 47225.764 | AE31: 0 | AF31: =H31*AE31 -> 0 | AG31: 0 | AH31: =H31*AG31 -> 0 | AI31: 0 | AJ31: =H31*AI31 -> 0 | AK31: 0 | AL31: =H31*AK31 -> 0 | AM31: 0 | AN31: =H31*AM31 -> 0 | AO31: 8 | AP31: =H31*AO31 -> 75561.223 | AQ31: 2 | AR31: =H31*AQ31 -> 18890.306 | AS31: 10 | AT31: =H31*AS31 -> 94451.528 | AU31: 0 | AV31: =H31*AU31 -> 0 | AW31: 0 | AX31: =H31*AW31 -> 0 | AY31: 0 | AZ31: =H31*AY31 -> 0 | BA31: =+AY31+AU31+AS31+AQ31+AO31+AM31+AK31+AI31+AG31+AE31+AC31+AA31+Y31+W31+U31+S31+O31+M31+K31+I31+Q31+AW31 -> 57 | BB31: =J31+L31+N31+P31+R31+T31+V31+X31+Z31+AB31+AD31+AF31+AH31+AJ31+AL31+AN31+AP31+AR31+AT31+AV31+AX31+AZ31 -> 538373.71 | BD31: =+H31*BA31 -> 538373.71 | BE31: =+BB31-BD31 -> 0
A32: 26 | B32: 16 | C32: 42142531 | D32: 2502240 | E32: GUARDIAN DE CON DISPOSITIVODE SEGURIDAD ANTI-PINCHAZO DE 2,5 A 3,0 LTS | F32: RECIPIENTE DE PLÁSTICO RÍGIDO CON TAPA SELLANTE, PARA ELEMENTOS DE COLOR ROJO Y DEBIDAMENTE IDENTIFICADO CON EL ANAGRAMA DE RIESGO BIOLÓGICO, Y ROTULO PARA COLOCACIÓN DE DATOS COMO FECHA, CONTENIDO, RESPONSABLE, CON DISPOSITIVO DE SEGURIDAD ANTI-PINCHAZO DE 2,5 A 3,0LTS. | G32: UND | H32: 8210.7293 | I32: 0 | J32: =I32*H32 -> 0 | K32: 0 | L32: =K32*H32 -> 0 | M32: 0 | N32: =H32*M32 -> 0 | O32: 0 | P32: =H32*O32 -> 0 | Q32: 0 | R32: =H32*Q32 -> 0 | S32: 0 | T32: =H32*S32 -> 0 | U32: 0 | V32: =H32*U32 -> 0 | W32: 0 | X32: =H32*W32 -> 0 | Y32: 0 | Z32: =H32*Y32 -> 0 | AA32: 0 | AB32: =H32*AA32 -> 0 | AC32: 0 | AD32: =H32*AC32 -> 0 | AE32: 0 | AF32: =H32*AE32 -> 0 | AG32: 20 | AH32: =H32*AG32 -> 164214.59 | AI32: 0 | AJ32: =H32*AI32 -> 0 | AK32: 0 | AL32: =H32*AK32 -> 0 | AM32: 0 | AN32: =H32*AM32 -> 0 | AO32: 0 | AP32: =H32*AO32 -> 0 | AQ32: 0 | AR32: =H32*AQ32 -> 0 | AS32: 2 | AT32: =H32*AS32 -> 16421.459 | AU32: 0 | AV32: =H32*AU32 -> 0 | AW32: 0 | AX32: =H32*AW32 -> 0 | AY32: 0 | AZ32: =H32*AY32 -> 0 | BA32: =+AY32+AU32+AS32+AQ32+AO32+AM32+AK32+AI32+AG32+AE32+AC32+AA32+Y32+W32+U32+S32+O32+M32+K32+I32+Q32+AW32 -> 22 | BB32: =J32+L32+N32+P32+R32+T32+V32+X32+Z32+AB32+AD32+AF32+AH32+AJ32+AL32+AN32+AP32+AR32+AT32+AV32+AX32+AZ32 -> 180636.04 | BD32: =+H32*BA32 -> 180636.04 | BE32: =+BB32-BD32 -> 0
A33: VALOR GRUPO 2. ELEMENTOS DE CIRUGIA | I33: =SUM(I17:I32) -> 83 | J33: =SUM(J17:J32) -> 2413780.8 | K33: =SUM(K17:K32) -> 12 | L33: =SUM(L17:L32) -> 133270.6 | M33: =SUM(M17:M32) -> 20 | N33: =SUM(N17:N32) -> 188903.06 | O33: =SUM(O17:O32) -> 32 | P33: =SUM(P17:P32) -> 438952 | ... BA33: =SUM(BA17:BA32) -> 271 | BB33: =J33+L33+N33+P33+R33+T33+V33+X33+Z33+AB33+AD33+AF33+AH33+AJ33+AL33+AN33+AP33+AR33+AT33+AV33+AX33+AZ33 -> 5589459.2 | BC33: =SUM(BB17:BB32) -> 5589459.2 | BD33: =SUM(BD17:BD32) -> 5589459.2 | BE33: =+BB33-BD33 -> 0
A34: GRUPO No.3 ELEMENTOS DIAGNOSTICOS | H34: VALOR | I34: DMBOG | K34: BIM12 | M34: BTURA | O34: TURBO | Q34: PUERTO LOPEZ | S34: BARRANCABERMEJA | U34: BAHIA MALAGA | W34: BAHIA SOLANO | Y34: PTO CARREÑO | AA34: GUAPI | AC34: YATI | AE34: LETICIA | AG34: HONAL | AI34: MALAGANA | AK34: SAN ANDRES | AM34: COVEÑAS | AO34: TUMACO | AQ34: INIRIDA | AS34: ENAP | AU34: ENSB | AW34: COROZAL | AY34: ARAUCA | BA34: CANTIDAD
A35: 27 | B35: 1 | C35: 42182206 | D35: 2501640 | E35: LAMINA PORTA OBJETO CON BORDE ESMERILADO | F35: LAMINA PORTA OBJETO CON BORDE ESMERILADO PARA BIOPISA, CAJA POR 50 UND | G35: CAJA X 50 UND | H35: 10315.178 | I35: 0 | J35: =H35*I35 -> 0 | K35: 0 | L35: =H35*K35 -> 0 | M35: 0 | N35: =H35*M35 -> 0 | O35: 0 | P35: =H35*O35 -> 0 | Q35: 0 | R35: =H35*Q35 -> 0 | S35: 0 | T35: =H35*S35 -> 0 | U35: 0 | V35: =H35*U35 -> 0 | W35: 0 | X35: =H35*W35 -> 0 | Y35: 0 | Z35: =H35*Y35 -> 0 | AA35: 0 | AB35: =H35*AA35 -> 0 | AC35: 5 | AD35: =H35*AC35 -> 51575.888 | AE35: 0 | AF35: =H35*AE35 -> 0 | AG35: 0 | AH35: =H35*AG35 -> 0 | AI35: 0 | AJ35: =H35*AI35 -> 0 | AK35: 0 | AL35: =H35*AK35 -> 0 | AM35: 0 | AN35: =H35*AM35 -> 0 | AO35: 0 | AP35: =H35*AO35 -> 0 | AQ35: 0 | AR35: =H35*AQ35 -> 0 | AS35: 0 | AT35: =H35*AS35 -> 0 | AU35: 0 | AV35: =H35*AU35 -> 0 | AW35: 0 | AX35: =H35*AW35 -> 0 | AY35: 0 | AZ35: =H35*AY35 -> 0 | BA35: =I35+K35+M35+O35+Q35+S35+U35+W35+Y35+AA35+AC35+AE35+AG35+AI35+AK35+AM35+AO35+AQ35+AS35+AU35+AW35+AY35 -> 5 | BB35: =J35+L35+N35+P35+R35+T35+V35+X35+Z35+AB35+AD35+AF35+AH35+AJ35+AL35+AN35+AP35+AR35+AT35+AV35+AX35+AZ35 -> 51575.888 | BD35: =+H35*BA35 -> 51575.888 | BE35: =+BB35-BD35 -> 0
A36: 28 | B36: 2 | C36: 42182201 | D36: 2502701 | E36: TERMOMETRO DIGITAL | F36: TERMÓMETRO DIGITA, PUNTA FLEXIBLE Y ALARMA DE FIEBRE DE APROXIMADAMENTE 10 SEGUNDOS, LECTURA POR RECTAL Y ORAL, TERMÓMETRO MÉDICO IMPERMEABLE. | G36: UND | H36: 14370.991 | I36: 0 | J36: =H36*I36 -> 0 | K36: 5 | L36: =H36*K36 -> 71854.954 | M36: 5 | N36: =H36*M36 -> 71854.954 | O36: 0 | P36: =H36*O36 -> 0 | Q36: 3 | R36: =H36*Q36 -> 43112.972 | S36: 0 | T36: =H36*S36 -> 0 | U36: 0 | V36: =H36*U36 -> 0 | W36: 4 | X36: =H36*W36 -> 57483.963 | Y36: 0 | Z36: =H36*Y36 -> 0 | AA36: 0 | AB36: =H36*AA36 -> 0 | AC36: 2 | AD36: =H36*AC36 -> 28741.982 | AE36: 5 | AF36: =H36*AE36 -> 71854.954 | AG36: 3 | AH36: =H36*AG36 -> 43112.972 | AI36: 0 | AJ36: =H36*AI36 -> 0 | AK36: 0 | AL36: =H36*AK36 -> 0 | AM36: 0 | AN36: =H36*AM36 -> 0 | AO36: 5 | AP36: =H36*AO36 -> 71854.954 | AQ36: 0 | AR36: =H36*AQ36 -> 0 | AS36: 0 | AT36: =H36*AS36 -> 0 | AU36: 0 | AV36: =H36*AU36 -> 0 | AW36: 3 | AX36: =H36*AW36 -> 43112.972 | AY36: 1 | AZ36: =H36*AY36 -> 14370.991 | BA36: =I36+K36+M36+O36+Q36+S36+U36+W36+Y36+AA36+AC36+AE36+AG36+AI36+AK36+AM36+AO36+AQ36+AS36+AU36+AW36+AY36 -> 36 | BB36: =J36+L36+N36+P36+R36+T36+V36+X36+Z36+AB36+AD36+AF36+AH36+AJ36+AL36+AN36+AP36+AR36+AT36+AV36+AX36+AZ36 -> 517355.67 | BD36: =+H36*BA36 -> 517355.67 | BE36: =+BB36-BD36 -> 0
A37: 29 | B37: 3 | C37: 41116111 | D37: 2503238 | E37: CITO-FIJADOR CELULAR SPRAY | F37: FIJADOR HIDROSOLUBLE PARA CITOLOGÍA EXFOLIATIVA EN SPRAY DE 250 GR O 150 ML, CON UN RANGO DE MÁS O MENOS 10% | G37: UND | H37: 19048.596 | I37: 0 | J37: =H37*I37 -> 0 | K37: 0 | L37: =H37*K37 -> 0 | M37: 0 | N37: =H37*M37 -> 0 | O37: 1 | P37: =H37*O37 -> 19048.596 | Q37: 0 | R37: =H37*Q37 -> 0 | S37: 0 | T37: =H37*S37 -> 0 | U37: 0 | V37: =H37*U37 -> 0 | W37: 0 | X37: =H37*W37 -> 0 | Y37: 0 | Z37: =H37*Y37 -> 0 | AA37: 0 | AB37: =H37*AA37 -> 0 | AC37: 0 | AD37: =H37*AC37 -> 0 | AE37: 0 | AF37: =H37*AE37 -> 0 | AG37: 0 | AH37: =H37*AG37 -> 0 | AI37: 0 | AJ37: =H37*AI37 -> 0 | AK37: 0 | AL37: =H37*AK37 -> 0 | AM37: 0 | AN37: =H37*AM37 -> 0 | AO37: 0 | AP37: =H37*AO37 -> 0 | AQ37: 0 | AR37: =H37*AQ37 -> 0 | AS37: 0 | AT37: =H37*AS37 -> 0 | AU37: 0 | AV37: =H37*AU37 -> 0 | AW37: 0 | AX37: =H37*AW37 -> 0 | AY37: 0 | AZ37: =H37*AY37 -> 0 | BA37: =I37+K37+M37+O37+Q37+S37+U37+W37+Y37+AA37+AC37+AE37+AG37+AI37+AK37+AM37+AO37+AQ37+AS37+AU37+AW37+AY37 -> 1 | BB37: =J37+L37+N37+P37+R37+T37+V37+X37+Z37+AB37+AD37+AF37+AH37+AJ37+AL37+AN37+AP37+AR37+AT37+AV37+AX37+AZ37 -> 19048.596 | BD37: =+H37*BA37 -> 19048.596 | BE37: =+BB37-BD37 -> 0
A38: VALOR GRUPO 3. ELEMENTOS DIAGNOSTICOS | I38: =SUM(I35:I37) -> 0 | J38: =SUM(J35:J37) -> 0 | K38: =SUM(K35:K37) -> 5 | L38: =SUM(L35:L37) -> 71854.954 | M38: =SUM(M35:M37) -> 5 | N38: =SUM(N35:N37) -> 71854.954 | O38: =SUM(O35:O37) -> 1 | P38: =SUM(P35:P37) -> 19048.596 | ... BA38: =SUM(BA35:BA37) -> 42 | BB38: =J38+L38+N38+P38+R38+T38+V38+X38+Z38+AB38+AD38+AF38+AH38+AJ38+AL38+AN38+AP38+AR38+AT38+AV38+AX38+AZ38 -> 587980.15 | BC38: =SUM(BB35:BB37) -> 587980.15 | BD38: =SUM(BD35:BD37) -> 587980.15
A39: GRUPO No.4 DESECHABLES | H39: VALOR | I39: DMBOG | K39: BIM12 | M39: BTURA | O39: TURBO | Q39: PUERTO LOPEZ | S39: BARRANCABERMEJA | U39: BAHIA MALAGA | W39: BAHIA SOLANO | Y39: PTO CARREÑO | AA39: GUAPI | AC39: YATI | AE39: LETICIA | AG39: HONAL | AI39: MALAGANA | AK39: SAN ANDRES | AM39: COVEÑAS | AO39: TUMACO | AQ39: INIRIDA | AS39: ENAP | AU39: ENSB | AW39: COROZAL | AY39: ARAUCA | BA39: CANTIDAD
A40: 30 | B40: 1 | C40: 42281902 | D40: 2502337 | E40: PAQUETE PEQUEÑA CIRUGIA, ESTERIL | F40: PAQUETE DE ROPA ESTERIL PARA PEQUEÑA CIRUGIA COMPUESTO POR: DE ABAJO HACIA ARRIBA: 2 ENVOLVEDERAS DE 180 X 150 CMS, 5 COMPRESAS DE 45 X 45 CMS., CON CINTA RADIOPACA, 1 CAMPO FENESTRADO DE 220 X 120 CMS. CON ORIFICIO SUPERIOR DE 15 X 15 CON REFUERZO Y ADHESIVO DE 1.5 DE ANCHO, 1 SABANA DE 1.45 X 180 CMS, 5 CAMPOS DE PIEL DE 90 X 90 CMS CON ADHESIVO., 1 CAMPO 80 X 80 SIN ADHESIVO, 1 FUNDA DE MAYO GRANDE CON REFUERZO SUPERIOR, 2 BATAS DE CIRUJANO TALLA XL CON PUÑO RESORTADO EN ALGODON, CON TOALLA DE MANOS, EN TELA DESECHABLE SMS DE 35 GRAMOS. ESTERIL, CON INDICADOR QUIMICO OE. | G40: UND | H40: 113390.64 | I40: 30 | J40: =H40*I40 -> 3401719.1 | K40: 0 | L40: =H40*K40 -> 0 | M40: 0 | N40: =H40*M40 -> 0 | O40: 0 | P40: =H40*O40 -> 0 | Q40: 0 | R40: =H40*Q40 -> 0 | S40: 0 | T40: =H40*S40 -> 0 | U40: 0 | V40: =H40*U40 -> 0 | W40: 0 | X40: =H40*W40 -> 0 | Y40: 0 | Z40: =H40*Y40 -> 0 | AA40: 0 | AB40: =H40*AA40 -> 0 | AC40: 0 | AD40: =H40*AC40 -> 0 | AE40: 0 | AF40: =H40*AE40 -> 0 | AG40: 0 | AH40: =H40*AG40 -> 0 | AI40: 0 | AJ40: =H40*AI40 -> 0 | AK40: 0 | AL40: =H40*AK40 -> 0 | AM40: 0 | AN40: =H40*AM40 -> 0 | AO40: 0 | AP40: =H40*AO40 -> 0 | AQ40: 0 | AR40: =H40*AQ40 -> 0 | AS40: 0 | AT40: =H40*AS40 -> 0 | AU40: 0 | AV40: =H40*AU40 -> 0 | AW40: 0 | AX40: =H40*AW40 -> 0 | AY40: 0 | AZ40: =H40*AY40 -> 0 | BA40: =I40+K40+M40+O40+Q40+S40+U40+W40+Y40+AA40+AC40+AE40+AG40+AI40+AK40+AM40+AO40+AQ40+AS40+AU40+AW40+AY40 -> 30 | BB40: =J40+L40+N40+P40+R40+T40+V40+X40+Z40+AB40+AD40+AF40+AH40+AJ40+AL40+AN40+AP40+AR40+AT40+AV40+AX40+AZ40 -> 3401719.1 | BD40: =+H40*BA40 -> 3401719.1 | BE40: =+BB40-BD40 -> 0
...

Sheet Distribucion %
C3: VIGENCIA 2023
C4: ESM | D4: PORCENTAJE | E4: VALOR | H4: ESM | I4: PORCENTAJE | J4: VALOR | K4: TOTAL POR REGIONAL /DMBAQ
C5: DMBOG | D5: =E5/$E$27 -> 0.34591252 | E5: =+Consolidado!J4 -> 40125835 | G5: REGIONAL CENTRO | H5: DMBOG | I5: =K5/J27 -> 0.56461696 | J5: =+E5 -> 40125835 | K5: =SUM(J5:J13) -> 65495539
C6: TURBO | D6: =E6/$E$27 -> 0.03219706 | E6: =+Consolidado!P4 -> 3734857.4 | H6: TURBO | J6: =+E6 -> 3734857.4 | O6: DMBOG | P6: 40125885
C7: BARRANCA | D7: =E7/$E$27 -> 0.018608994 | E7: =+Consolidado!T4 -> 2158642.4 | H7: BARRANCABERMEJA | J7: =+E7 -> 2158642.4 | O7: BIM 12 | P7: 2482322.4
C8: BIM 12 | D8: =E8/$E$27 -> 0.02139934 | E8: =+Consolidado!L4 -> 2482322.4 | H8: PUERTO CARREÑO | J8: =+E13 -> 2749896.2 | O8: BTURA | P8: 6774604.3
C9: BTURA | D9: =E9/$E$27 -> 0.058401787 | E9: =+Consolidado!N4 -> 6774604.3 | H9: LETICIA | J9: =+E16 -> 2528654.2 | O9: TURBO | P9: 3734857.4
C10: PTO LOPEZ | D10: =E10/$E$27 -> 0.015299802 | E10: =+Consolidado!R4 -> 1774776.3 | H10: HONAL | J10: =+E17 -> 7598438.3 | O10: PUERTO LOPEZ | P10: 1774776.3
C11: B. MÁLAGA | D11: =E11/$E$27 -> 0.036396372 | E11: =+Consolidado!V4 -> 4221977.4 | H11: PUERTO INIRIDA | J11: =+E22 -> 3039148.9 | O11: BARRANCABERMEJA | P11: 2158642.4
C12: B. SOLANO | D12: =E12/$E$27 -> 0.023829155 | E12: =+Consolidado!X4 -> 2764180.8 | H12: PUERTO LOPEZ | J12: =+E10 -> 1774776.3 | O12: BAHIA MALAGA | P12: 4221977.4
C13: PTO CARREÑO | D13: =E13/$E$27 -> 0.023706012 | E13: =+Consolidado!Z4 -> 2749896.2 | H13: ARAUCA | J13: =+E26 -> 1785290.6 | O13: BAHIA SOLANO | P13: 2764180.8
C14: GUAPI | D14: =E14/$E$27 -> 0.022286722 | E14: =+Consolidado!AB4 -> 2585258.6 | G14: REGIONAL PACIFICO | H14: BUENAVENTURA | I14: =K14/J27 -> 0.19016633 | J14: =+E9 -> 6774604.3 | K14: =SUM(J14:J18) -> 22059285 | O14: PTO CARREÑO | P14: 2749896.2
C15: YATI | D15: =E15/$E$27 -> 0.027892439 | E15: =+Consolidado!AD4 -> 3235521.5 | H15: HONAM | J15: =+E11 -> 4221977.4 | O15: GUAPI | P15: 2585258.6
C16: LETICIA | D16: =E16/$E$27 -> 0.021798752 | E16: =+Consolidado!AF4 -> 2528654.2 | H16: B. SOLANO | J16: =+E12 -> 2764180.8 | O16: YATI | P16: 3235521.5
C17: HONAL | D17: =E17/$E$27 -> 0.065503807 | E17: =+Consolidado!AH4 -> 7598438.3 | H17: GUAPI | J17: =+E14 -> 2585258.6 | O17: LETICIA | P17: 2528654.2
C18: MALAGANA | D18: =E18/$E$27 -> 0.02658658 | E18: =+Consolidado!AJ4 -> 3084042 | H18: TUMACO | J18: =+E21 -> 5713264.2 | O18: HONAL | P18: 7598438.3
C19: SAN ANDRES | D19: =E19/$E$27 -> 0.028105174 | E19: =+Consolidado!AL4 -> 3260198.8 | G19: REGIONAL CARIBE | H19: BIM 12 | I19: =K19/J27 -> 0.24521671 | J19: =+E8 -> 2482322.4 | K19: =SUM(J19:J25) -> 28445126 | O19: MALAGANA | P19: 3084042
C20: COVEÑAS | D20: =E20/$E$27 -> 0.039693838 | E20: =+Consolidado!AN4 -> 4604483.2 | H20: YATI | J20: =+E15 -> 3235521.5 | O20: SAN ANDRES | P20: 3260198.8
C21: TUMACO | D21: =E21/$E$27 -> 0.049252299 | E21: =+Consolidado!AP4 -> 5713264.2 | H21: MALAGANA | J21: =+E18 -> 3084042 | O21: COVEÑAS | P21: 4604483.2
C22: INIRIDA | D22: =E22/$E$27 -> 0.026199571 | E22: =+Consolidado!AR4 -> 3039148.9 | H22: SAN ANDRES | J22: =+E19 -> 3260198.8 | O22: TUMACO | P22: 5713264.2
C23: ENAP | D23: =E23/$E$27 -> 0.026344668 | E23: =+Consolidado!AT4 -> 3055980.2 | H23: COVEÑAS | J23: =+E20 -> 4604483.2 | O23: INIRIDA | P23: 3039148.9
C24: ENSB | D24: =E24/$E$27 -> 0 | E24: =+Consolidado!AV4 -> 0 | H24: ENAP | J24: =+E23 -> 3055980.2 | O24: ENAP | P24: 3055980.2
C25: COROZAL | D25: =E25/$E$27 -> 0.075194665 | E25: =+Consolidado!AX4 -> 8722577.4 | H25: COROZAL | J25: =+E25 -> 8722577.4 | O25: ENSB | P25: 0
C26: ARAUCA | D26: =E26/$E$27 -> 0.015390443 | E26: =+Consolidado!AZ4 -> 1785290.6 | G26: ENSB | H26: ENSB | I26: =D24 -> 0 | J26: =+E24 -> 0 | K26: =+F24 -> 0 | O26: COROZAL | P26: 8722577.4
C27: TOTAL | D27: =SUM(D5:D26) -> 1 | E27: =SUM(E5:E26) -> 1.1599995e+08 | G27: TOTALES | J27: =SUM(J5:J26) -> 1.1599995e+08 | K27: =SUM(K5:K26) -> 1.1599995e+08 | O27: ARAUCA | P27: 1785290.6
C28: RUBRO ASIGNADO | E28: 116000000 | P28: =SUM(P6:P27) -> 1.16e+08
E29: =+E28-E27 -> 49.827827

Sheet Anexo 02 Especificación Técnica
A1: ANEXO 2 - "ESPECIFICACIONES TÉCNICAS"
A2: NO ITEM GRAL | B2: NO ITEM GRUPO | C2: CODIGO UNSPSC | D2: NUMERO DE MATERIAL | E2: DESCRIPCION | F2: ESPECIFICACION TECNICA | G2: PRESENTACIÓN
A3: GRUPO No.1 ESTERILIZACION
A4: 1 | B4: 1 | C4: 42281807 | D4: 000000000002584099 | E4: ROLLO DE CINTA ADHESIVA TESTIGO PARA GARANTIZAR LA ESTERILIDAD DE MATERIAL EXPUESTO EN AUTOCLAVE A VAPOR DE BAJA TEMPERATURA CON FORMALDEHIDO DE GRADO QUIRÚRGICO. | F4: CINTA ADHESIVA DE PAPEL COMPATIBLE CON SISTEMA DE ESTERILIZACION MATACHANA POR VAPOR A BAJA TEMPERATURA CON FORMALFEHIDO 130LF (VBTF). DIMENSIONES 1,80CM X 50 MTS, HASTA 2 CM X 50 MTS, DE ALTA RESISTENCIA, EN LA QUE HAY POR UN LADO ADHESIVO Y POR EL OTRO LADO EL INDICADOR QUIMICO. CON CAMBIO DE COLOR DE LA TINTA INDICADORA DE GRANATE A VERDE. | G4: ROLLO
A5: 2 | B5: 2 | C5: 42281803 | D5: 000000000002584099 | E5: ROLLO DE CINTA ADHESIVA TESTIGO PARA GARANTIZAR LA ESTERILIDAD DE MATERIAL EXPUESTO EN AUTOCLAVE A VAPOR DE ALTA TEMPERATURA, DE GRADO QUIRÚRGICO. | F5: CINTA ADHESIVA COMPATIBLE CON SISTEMA DE ESTERILIZACION DE AUTOCLAVE A VAPOR DE ALTA TEMPERATURA. DIMENSIONES 1,80CM, X 50 MTS, HASTA 2 CM X 50 MTS, DE ALTA RESISTENCIA, LIBRE DE PLOMO, EN LA QUE HAY POR UN LADO ADHESIVO Y POR EL OTRO LADO EL INDICADOR QUIMICO. CON CAMBIO DE COLOR DE LA TINTA INDICADORA. | G5: ROLLO
A6: 3 | B6: 3 | C6: 42281904 | D6: 000000000002500005 | E6: BOLSA PARA ESTERILIZAR A VAPOR, DE MEDIDAS 135 MM X 255 MM (5 ¼’ X 10’) | F6: BOLSA PAPEL PLASTICO PARA ESTERILIZAR A VAPOR, INDICADOR QUÍMICO PARA VAPOR Y ÓXIDO DE ETILENO, DE MEDIDAS 135 MM X 255 MM (5 ¼’ X 10’), CON UN RANGO DE MÁS O MENOS 15%”. | G6: CAJA X 200
A7: 4 | B7: 4 | C7: 42281810 | D7: 000000000002500005 | E7: BOLSA PARA ESTERILIZAR A VAPOR DE 90 MM X 230 MM A 260 MM | F7: BOLSA PARA ESTERILIZAR A VAPOR CON INDICADOR QUÍMICO PARA VAPOR Y ÓXIDO DE ETILENO, CON MEDIDAS DE 90 MM X 230 MM A 260 MM | G7: CAJA X 200
A8: 5 | B8: 5 | C8: 42281706 | D8: 2584094 | E8: TEST BOWIE DICK CAJA X 50 | F8: HOJA DE PRUEBA DE ADVERTENCIA TEMPRANA PARA PROBAR LOS ESTERILIZADORES A VAPOR ASISTIDOS CON VACIO DE 132 A 134° CENTIGRADOS INDICA LA EFICIENCIA DE LA ELIMICIÓN DEL AIRE DURANTE LA FASE DE VACIO DEL ESTERILIZADOR | G8: CAJA X 50
A9: 6 | B9: 6 | C9: 42281915 | D9: 2501244 | E9: ROLLO EN PAPEL MIXTO PARA ESTERILIZAR A VAPOR | F9: ROLLO EN PAPEL MIXTO PARA ESTERILIZAR A VAPOR: 15X200MT, GRADO MEDICO, PARA EL ENVOLVIMIENTO Y PROTECCION DE MATERIAL ESTERIL QUIRUGICO | G9: ROLLO
A10: 7 | B10: 7 | C10: 42281915 | D10: 2501247 | E10: ROLLO EN PAPEL MIXTO PARA ESTERILIZAR A VAPOR | F10: ROLLO EN PAPEL MIXTO PARA ESTERILIZAR A VAPOR: DE MEDIDAS 40 X 200 MT (CON UN RANGO DE MÁS O MENOS 15%), GRADO MEDICO, PARA EL ENVOLVIMIENTO Y PROTECCION DE MATERIAL ESTERIL QUIRUGICO | G10: ROLLO
A11: 8 | B11: 8 | C11: 13111201 | D11: 2501247 | E11: ROLLO EN PAPEL MIXTO PARA ESTERILIZAR A VAPOR | F11: ROLLO EN PAPEL MIXTO PARA ESTERILIZAR A VAPOR: 30X200MT, GRADO MEDICO, PARA EL ENVOLVIMIENTO Y PROTECCION DE MATERIAL ESTERIL QUIRUGICO, SIN FUELLE | G11: ROLLO
A12: 9 | B12: 9 | C12: 51102708 | D12: 1144198 | E12: PAPEL VINIPEL | F12: MATERIAL TERMOPLÁSTICO CON PROPIEDADES DE ELONGACIÓN Y RETENCIÓN DE CARGA, ASEGURAMIENTO Y PROTECCIÓN EN MOVIMIENTO Y TRANSPORTE. LOS ROLLOS VIENEN ENVUELTOS EN STRETCH FILM PARA EVITAR CONTAMINACIÓN DEL PRODUCTO Y CUNETA CON PROTECCIÓN DEL CARTÓN EN LOS BORDES PARA EVITAR DAÑOS DURANTE EL TRANSPORTE Y MANIPULACIÓN. EMPAQUE 15-30CM X 300MT | G12: ROLLO
A13: 10 | B13: 10 | C13: 42281915 | D13: 2501238 | E13: PAPEL PARA ESTERILIZAR | F13: ROLLO DE PAPEL DE GRADO MEDICO, PARA EL ENVOLVIMIENTO Y PROTECCIÓN DE MATERIAL ESTÉRIL QUIRÚRGICO, DE 38 A 60 CM X 100 METROS | G13: ROLLO
A14: VALOR GRUPO 1. ESTERILIZACION
A15: GRUPO No.2 ELEMENTOS DE CIRUGIA
A16: 11 | B16: 1 | C16: 42295143 | D16: 2505276 | E16: LAPIZ PARA ELECTROBISTURÍ | F16: LAPIZ PARA ELECTROBISTURÍ COMPATIBLE SISTEMA VALLEYLABS O SU EQUIVALENTE. ESTERIL | G16: UND
A17: 12 | B17: 2 | C17: 42295143 | D17: 2500291 | E17: PLACA DE ELECTROCAUTERIO | F17: PLACA DE ELECTROCAUTERIO DESECHABLE, COMPATIBLE CON EQUIPO VALLEY LAB CON CABLE Y CONECTOR. PARA ADULTO | G17: UND
A18: 13 | B18: 3 | C18: 42181708 | D18: 2503282 | E18: ELECTRODOS DESECHABLES PARA MONITORIZACION ADULTOS | F18: ELECTRODOS HIPOALERGENICOS SIN LATEX, NO TEJIDO, CON GEL COMPACTO (NO SE TRANSFIERE AL ADHESIVO NI AL PACIENTE), CON SOPORTE DE ESPUMA PERMITE UNA APLICACION RAPIDA, FACIL Y SEGURA DURANTE MINIMO 24 HORAS, OJAL EN PLATA: CLORURO DE PLATA. PERMITE UN APROPIADO REGISTRO, BROCHE EN ACERO INOXIDABLE O NIQUEL , RESPALDO EN PELICULA DE POLIPROPILENO O POLIETILENO, CONEXION ESTANDAR DEL BROCHE, AJUSTA EN TODOS LOS SISTEMAS.CON BROCHE DE SEGURIDAD | G18: BOLSA X 50
A19: 14 | B19: 4 | C19: 42181707 | D19: 2504511 | E19: ELECTRODOS DESECHABLES EKG PEDIATRICO | F19: ELECTRODOS HIPOALERGENICOS SIN LATEX NO TEJIDO CON GEL COMPACTO (NO SE TRANSFIERE AL ADHESIVO NI AL PACIENTE), CON SOPORTE DE ESPUMA PERMITE UNA APLICACION RAPIDA, FACIL Y SEGURA DURANTE MINIMO 24 HORAS, OJAL EN PLATA: CLORURO DE PLATA. PERMITE UN APROPIADO REGISTRO, BROCHE EN ACERO INOXIDABLE O NIQUEL , RESPALDO EN PELICULA DE POLIPROPILENO O POLIETILENO, CONEXION ESTANDAR DEL BROCHE, AJUSTA EN TODOS LOS SISTEMAS.CON BROCHE DE SEGURIDAD | G19: BOLSA X 50
A20: 15 | B20: 5 | C20: 42181707 | D20: 2503282 | E20: ELECTRODO (PARCHE) DESECHABLE PARA PARA DESFIBRILADOR EXTERNO (DEA) ADULTO. | F20: ELECTRODO (PARCHE) DESECHABLE PARA ADULTO, REFERENCIA 0-21-0013 - SCHILLER PARA DESFIBRILADOR EXTERNO - FREED EASY. DE 75 CM2 DE SUPERFICIE ACTIVA POR ELECTRODO, LONGITUD DEL CABLE 2 M. | G20: UND
A21: 16 | B21: 6 | C21: 42181715 | D21: 000000000002503935 | E21: GEL CONDUCTOR PARA ULTRASONIDO | F21: JALEA CONDUCTIVA (GEL ULTRASONIDO), VISCOSO NEUTRO, HIDROSOLUBLE, HIPOALERGÉNICO DE ALTA CONDUCCIÓN, COLOR AZUL, PARA USO EN PROCEDIMIENTOS DE IMÁGENES DIAGNÓSTICAS, Y OTROS PROCEDIMIENTOS, EL CUAL FACILITA LA TRANSMISIÓN DE ONDAS DE ULTRASONIDO E IMPULSOS ELECTRICOS. INDICADO PARA USO EN EQUIPOS DE ELECTRO ESTIMULACIÓN, TERAPIA FÍSICA ENTRE OTROS PROCEDIMIENTOS. QUE NO MANCHE, NO DETERIORE LOS TRANSDUCTORES, NO GRASO, NO CONTENGA SALES, ALCOHOLES NI FRAGANCIAS. | G21: FCO X 250 ML
A22: 17 | B22: 7 | C22: 42181715 | D22: 2504235 | E22: GEL CONDUCTIVA | F22: GEL PARA USO CON ELECTRODO DE SUPERFICIE Y LA PIEL DEL PACIENTE | G22: FRASCO ENTRE 8 A 9 ONZ
A23: 18 | B23: 8 | C23: 42181715 | D23: 000000000002502424 | E23: GEL CONDUCTOR PARA ULTRASONIDO | F23: JALEA CONDUCTIVA (GEL ULTRASONIDO), VISCOSO NEUTRO, HIDROSOLUBLE, HIPOALERGÉNICO DE ALTA CONDUCCIÓN, COLOR AZUL, PARA USO EN PROCEDIMIENTOS DE IMÁGENES DIAGNÓSTICAS, Y OTROS PROCEDIMIENTOS, EL CUAL FACILITA LA TRANSMISIÓN DE ONDAS DE ULTRASONIDO E IMPULSOS ELECTRICOS. INDICADO PARA USO EN EQUIPOS DE ELECTRO ESTIMULACIÓN, TERAPIA FÍSICA ENTRE OTROS PROCEDIMIENTOS. QUE NO MANCHE, NO DETERIORE LOS TRANSDUCTORES, NO GRASO, NO CONTENGA SALES, ALCOHOLES NI FRAGANCIAS. | G23: GALON
A24: 19 | B24: 9 | C24: 42295406 | D24: 2503299 | E24: COMPRESA ESTERIL CON CINTA RADIO-OPACA | F24: COMPRESA ESTERIL CON CINTA RADIO-OPACA: COMPRESA QUIRURGICA ALTAMENTE ABSORBENTE CON CINTA EN MATERIAL RADIO-OPACO, PRELAVADA, 100% ALGODÓN, MEDIDAS 45 X 45CM, MINIMO 4 CAPAS CON COSTURA INTERNA. PAQUETE POR 5 UNIDADES, ESTERIL | G24: PAQ X 5
A25: 20 | B25: 10 | C25: 42291613 | D25: 2500546 | E25: HOJAS DE BISTURI N° 11 | F25: HOJA DE BISTURI N° 11, EN ACERO AL CARBONO, FLEXIBLE, EXCELENTE CORTE DE ALTA RESISTENCIA, EMPAQUE INDIVIDUAL Y DE FACIL APERTURA, ESTERIL. EN PRESENTACIÓN DE CAJA X 100 UNIDADES | G25: CAJA X 100
A26: 21 | B26: 11 | C26: 42291613 | D26: 2500547 | E26: HOJAS DE BISTURI N° 12 | F26: HOJA DE BISTURI N° 12, EN ACERO AL CARBONO, FLEXIBLE, EXCELENTE CORTE DE ALTA RESISTENCIA, EMPAQUE INDIVIDUAL Y DE FACIL APERTURA, ESTERIL. EN PRESENTACIÓN DE CAJA X 100 UNIDADES | G26: CAJA X 100
