Workbook
Name MI: PRESUPUESTO!#REF!,PRESUPUESTO!#REF!,PRESUPUESTO!#REF!,PRESUPUESTO!#REF!,PRESUPUESTO!#REF!,PRESUPUESTO!#REF!,PRESUPUESTO!#REF!
Name ML: PRESUPUESTO!#REF!,PRESUPUESTO!#REF!,PRESUPUESTO!#REF!,PRESUPUESTO!#REF!,PRESUPUESTO!#REF!,PRESUPUESTO!#REF!,PRESUPUESTO!#REF!

Sheet PRESUPUESTO RESUMIDO
A1: =ROTULOS!A1 -> DEPARTAMENTO DEL HUILA
A2: =ROTULOS!A2 -> SECRETARIA DE AGRICULTURA Y MINERÍA
A3: =ROTULOS!A3 -> PRESUPUESTO
A4: ITEM | B4: CUBS | C4: ACTIVIDAD | D4: UND | E4: VR. UNT. | F4: CANT. | G4: VR. PARCIAL
B5: 1 | C5: PRELIMINARES
B6: 3.3.1.6.0 | C6: Localización y replanteo topografico | D6: M2 | E6: =#REF! -> #REF! | G6: =E6*F6 -> #REF!
B7: 3,3.1,6,0 | C7: =+#REF! -> #REF! | D7: M2 | E7: =+#REF! -> #REF! | G7: =E7*F7 -> #REF!
B8: 3.3.1.6.0 | C8: =+#REF! -> #REF! | D8: =+#REF! -> #REF! | E8: =+#REF! -> #REF! | G8: =E8*F8 -> #REF!
B9: 3.3.1.2.2 | C9: =+#REF! -> #REF! | D9: M2 | E9: =#REF! -> #REF! | G9: =E9*F9 -> #REF!
B11: 2 | C11: DEMOLICIONES Y DESMONTE DE ELEMENTOS
B12: 3.3.1.1.8 | C12: Demolición muros e-0.15m, con retiro | D12: M2 | E12: =#REF! -> #REF! | G12: =E12*F12 -> #REF!
B13: 3.3.1.1.7 | C13: Demolición muros e=0.25m, con retiro | D13: M2 | E13: =#REF! -> #REF! | G13: =E13*F13 -> #REF!
B14: 3.3-1.1.0 | C14: Demolición de enchape y revoque, con retiro | D14: M2 | E14: =#REF! -> #REF! | G14: =E14*F14 -> #REF!
B15: 3.3.1.1.12 | C15: Demolición placa de piso concreto e=0.10m, incluye retiro | D15: M2 | E15: =#REF! -> #REF! | G15: =E15*F15 -> #REF!
B16: 3.3.1.1.0 | C16: Demolición mecánica placa concreto e = .20m, incluye retiro | D16: M2 | E16: =#REF! -> #REF! | G16: =E16*F16 -> #REF!
B17: 3.3.1.1.0 | C17: =+#REF! -> #REF! | D17: M2 | E17: =#REF! -> #REF! | G17: =E17*F17 -> #REF!
B18: 3.3.1.1.0 | C18: Retiro de escombros hasta 3Km | D18: M3 | E18: =#REF! -> #REF! | G18: =E18*F18 -> #REF!
B19: 3.3.1.1.0 | C19: Demolición mecánica de concreto ciclópeo | D19: M3 | E19: =#REF! -> #REF! | G19: =E19*F19 -> #REF!
B20: 3.3.1.1.0 | C20: Demolición mecánica viga concreto armado | D20: M3 | E20: =#REF! -> #REF! | G20: =E20*F20 -> #REF!
B21: 3.3.1.1.2 | C21: =+#REF! -> #REF! | D21: =+#REF! -> #REF! | E21: =#REF! -> #REF! | G21: =E21*F21 -> #REF!
B22: 3.3.1.1.3 | C22: =+#REF! -> #REF! | D22: =+#REF! -> #REF! | E22: =+#REF! -> #REF! | G22: =E22*F22 -> #REF!
C23: Desmonte de cielo falso en madera,incluye desmonte de estructura en madera y retiro de escombros | D23: M2 | E23: =#REF! -> #REF! | G23: =E23*F23 -> #REF!
C24: Desmonte de cubierta en teja de barro ,incluye desmonte de estructura en madera y retiro de escombros | D24: M2 | E24: =#REF! -> #REF! | G24: =E24*F24 -> #REF!
B25: 3.3.1.1.0 | C25: Desmonte cubierta teja de zinc con estructura | D25: M2 | E25: =#REF! -> #REF! | G25: =E25*F25 -> #REF!
B27: 3 | C27: MOVIMIENTO DE TIERRA
B28: 3.3.2.2.0 | C28: Excavación manual con retiro hasta h=2,9m | D28: M3 | E28: ='1'!#REF! -> #REF! | G28: =E28*F28 -> #REF!
B29: 3.3.2.2.0 | C29: Excavación mecánica con retiro | D29: M3 | E29: ='1'!#REF! -> #REF! | G29: =E29*F29 -> #REF!
B30: 3.3.2.2.0 | C30: Excavación en roca | D30: M3 | E30: ='1'!#REF! -> #REF! | G30: =E30*F30 -> #REF!
B31: 3.3.2.1.2 | C31: Explanación con retiro | D31: M3 | E31: ='1'!#REF! -> #REF! | G31: =E31*F31 -> #REF!
B32: 3.3.2.1.0 | C32: Explanación corte extendida | D32: M3 | E32: ='1'!#REF! -> #REF! | G32: =E32*F32 -> #REF!
B33: 3.3.2.6.0 | C33: Relleno compactado con material de sitio | D33: M3 | E33: ='1'!#REF! -> #REF! | G33: =E33*F33 -> #REF!
B35: 4 | C35: CIMIENTOS
B36: 3.3.6.1.0 | C36: =+'1'!#REF! -> #REF! | D36: =+'1'!#REF! -> #REF! | E36: =+'1'!#REF! -> #REF! | G36: =E36*F36 -> #REF!
B37: 3.3.6.3.0 | C37: =+'1'!#REF! -> #REF! | D37: =+'1'!#REF! -> #REF! | E37: =+'1'!#REF! -> #REF! | G37: =E37*F37 -> #REF!
B38: 3.3.6.3.0 | C38: Concreto muro de contención 3000 PSI | D38: M3 | E38: ='1'!#REF! -> #REF! | G38: =E38*F38 -> #REF!
B39: 3.3.6.1.4 | C39: Cimentacion tipo zapatas en concreto de 3000 P.S.I | D39: M3 | E39: ='1'!#REF! -> #REF! | G39: =E39*F39 -> #REF!
B40: 3.3.6.1.0 | C40: Cimentacion tipo viga de amarre, concreto 3000 psi. 0.25x0.25, Incluye acero | D40: ML | E40: ='1'!#REF! -> #REF! | G40: =E40*F40 -> #REF!
B41: 3.3.6.1.0 | C41: Cimentacion tipo viga de amarre, concreto 3000 psi. 0.15x0.25, Incluye acero | D41: ML | E41: ='1'!#REF! -> #REF! | G41: =E41*F41 -> #REF!
B42: 3.3.6.1.0 | C42: Cimentacion tipo viga de amarre, concreto 3000 psi. 0.30x0.30, Incluye acero (4No.5, E-3/8" C/0,20m) | D42: ML | E42: ='1'!#REF! -> #REF! | G42: =E42*F42 -> #REF!
B43: 3.3.6.1.12 | C43: Cimentacion tipo viga de amarre, concreto 3000 psi. | D43: M3 | E43: ='1'!#REF! -> #REF! | G43: =E43*F43 -> #REF!
...

Sheet ROTULOS
A1: DEPARTAMENTO DEL HUILA
A2: SECRETARIA DE AGRICULTURA Y MINERÍA
A3: PRESUPUESTO
A4: MEJORAMIENTO DE LA PLAZA DE FERIAS DEL MUNICIPIO DE ACEVEDO DEPARTAMENTO DEL HUILA

Sheet MANO DE OBRA Y CUADRILLAS
B1: =ROTULOS!A1 -> DEPARTAMENTO DEL HUILA
B2: =ROTULOS!A2 -> SECRETARIA DE AGRICULTURA Y MINERÍA
B3: =ROTULOS!A3 -> PRESUPUESTO
B5: ANÁLISIS DE PRECIOS UNITARIOS - SUBPRODUCTOS - VIGENCIA 2023 | H5: SALARIO 2023 | I5: 1160000
H6: SALARIO DIA PROMEDIO | I6: =I5/30 -> 38667
B7: AYUDANTE (Incl. Prestaciones) | H7: SUB TRANSPORTE | I7: 140606
B9: DESCRIPCIÓN | C9: UNIDAD | D9: CANT | E9: V/r UNITARIO | F9: V/r PARCIAL
B11: AYUDANTE | C11: DIA | D11: 1 | E11: 48000 | F11: =E11*D11 -> 48000
B13: PRESTACIONES SOCIALES | I13: COSTO TOTAL | J13: PATRONO | K13: EMPLEADO
B14: Subsidio de transporte | C14: % | D14: =(F14/E14) -> 0.0976 | E14: =E$11 -> 48000 | F14: =I7/30 -> 4686.87 | H14: PENSION | I14: 0.16 | J14: 0.12 | K14: =I14-J14 -> 0.04
B15: Cesantias | C15: % | D15: 0.0833 | E15: =E$11 -> 48000 | F15: =E15*D15 -> 3998.4 | H15: SALUD | I15: 0.125 | J15: 0.085 | K15: =I15-J15 -> 0.04
B16: Intereses de cesantias | C16: % | D16: 0.01 | E16: =E$11 -> 48000 | F16: =E16*D16 -> 480 | H16: RIESGOS | I16: 0.0696 | J16: 0.0696 | K16: =I16-J16 -> 0
B17: Prima legal | C17: % | D17: 0.0833 | E17: =E$11 -> 48000 | F17: =E17*D17 -> 3998.4 | I17: =SUM(I14:I16) -> 0.3546 | J17: =SUM(J14:J16) -> 0.2746 | K17: =SUM(K14:K16) -> 0.08
B18: Vacaciones | C18: % | D18: 0.0416 | E18: =E$11 -> 48000 | F18: =E18*D18 -> 1996.8
B19: Seguridad Social | C19: % | D19: 0.3546 | E19: =E$11 -> 48000 | F19: =E19*D19 -> 17020.8
B21: APORTES PARAFISCALES:
B22: Caja de compesnacion familiar | C22: % | D22: 0.04 | E22: =E$11 -> 48000 | F22: =E22*D22 -> 1920
B23: Sena | C23: % | D23: 0.02 | E23: =E$11 -> 48000 | F23: =E23*D23 -> 960
B24: FIC | C24: % | D24: 0.0175 | E24: =E$11 -> 48000 | F24: =E24*D24 -> 840
B25: ICBF | C25: % | D25: 0.03 | E25: =E$11 -> 48000 | F25: =E25*D25 -> 1440
B27: DOTACION | C27: % | D27: 0.0528 | E27: =E$11 -> 48000 | F27: =E27*D27 -> 2534.4
B29: INCREMENTO TOTAL | C29: % | D29: =SUM(D14:D27) -> 0.8307
C31: [ DIA ] | E31: V/r UNITARIO | F31: =SUM(F11:F27) -> 87875.67
C32: [ HR ] | F32: =F31/8 -> 10984.46
B34: OFICIAL (Incl. Prestaciones)
B36: DESCRIPCIÓN | C36: UNIDAD | D36: CANT | E36: V/r UNITARIO | F36: V/r PARCIAL
B38: OFICIAL | C38: DIA | D38: 1 | E38: 68000 | F38: =E38*D38 -> 68000
B40: PRESTACIONES SOCIALES
B41: Subsidio de transporte | C41: % | D41: =(F41/E41) -> 0.0689 | E41: =E$38 -> 68000 | F41: =I7/30 -> 4686.87
B42: Cesantias | C42: % | D42: 0.0833 | E42: =E$38 -> 68000 | F42: =E42*D42 -> 5664.4
B43: Intereses de cesantias | C43: % | D43: 0.01 | E43: =E$38 -> 68000 | F43: =E43*D43 -> 680
B44: Prima legal | C44: % | D44: 0.0833 | E44: =E$38 -> 68000 | F44: =E44*D44 -> 5664.4
B45: Vacaciones | C45: % | D45: 0.0416 | E45: =E$38 -> 68000 | F45: =E45*D45 -> 2828.8
B46: Seguridad Social | C46: % | D46: 0.3546 | E46: =E$38 -> 68000 | F46: =E46*D46 -> 24112.8
B48: APORTES PARAFISCALES:
B49: Caja de compesnacion familiar | C49: % | D49: 0.04 | E49: =E$38 -> 68000 | F49: =E49*D49 -> 2720
B50: Sena | C50: % | D50: 0.02 | E50: =E$38 -> 68000 | F50: =E50*D50 -> 1360
B51: FIC | C51: % | D51: 0.0175 | E51: =E$38 -> 68000 | F51: =E51*D51 -> 1190
B52: ICBF | C52: % | D52: 0.03 | E52: =E$38 -> 68000 | F52: =E52*D52 -> 2040
B54: DOTACION | C54: % | D54: 0.0528 | E54: =E$38 -> 68000 | F54: =E54*D54 -> 3590.4
...

Sheet ANALISIS BASICOS
B1: =ROTULOS!A1 -> DEPARTAMENTO DEL HUILA
B2: =ROTULOS!A2 -> SECRETARIA DE AGRICULTURA Y MINERÍA
B3: =ROTULOS!A3 -> PRESUPUESTO
B5: ANÁLISIS DE PRECIOS UNITARIOS - SUBPRODUCTOS
B8: CONCRETO 3500 PSI | E8: Unidad: | F8: M3
B10: DESCRIPCIÓN | C10: UNIDAD | D10: CANT | E10: V/r UNITARIO | F10: V/r PARCIAL
B11: MATERIALES : | F11: =SUM(F12:F16) -> 396128
B12: CEMENTO GRIS | C12: KG | D12: 380 | E12: ='LISTADO DE MATERIALES'!D91 -> 660 | F12: =E12*D12 -> 250800
B13: ARENA | C13: M3 | D13: 0.6 | E13: ='LISTADO DE MATERIALES'!D43 -> 85000 | F13: =E13*D13 -> 51000
B14: GRAVILLA DE PLANTA | C14: M3 | D14: 0.76 | E14: ='LISTADO DE MATERIALES'!D159 -> 116800 | F14: =E14*D14 -> 88768
B15: AGUA | C15: LT | D15: 180 | E15: ='LISTADO DE MATERIALES'!D23 -> 22 | F15: =E15*D15 -> 3960
B16: ENSAYOS | C16: UND | D16: 0.01 | E16: =+'LISTADO DE MATERIALES'!D538 -> 160000 | F16: =E16*D16 -> 1600
B18: EQUIPO Y HERRAMIENTAS: | F18: =SUM(F19:F20) -> 9993
B19: HERRAMIENTA MENOR | C19: GL | D19: 1 | E19: ='LISTADO DE MATERIALES'!D171 -> 1993 | F19: =E19*D19 -> 1993
B20: MEZCLADORA | C20: DIA | D20: 0.1 | E20: =+'LISTADO DE MATERIALES'!D216 -> 80000 | F20: =E20*D20 -> 8000
B22: MANO DE OBRA: | F22: =SUM(F23:F24) -> 126248
B23: OFICIAL (incl. Prestaciones) | C23: DIA | D23: 0.6 | E23: ='MANO DE OBRA Y CUADRILLAS'!F$58 -> 122537.67 | F23: =E23*D23 -> 73522.6
B24: AYUIDANTE (Incl. Prestaciones) | C24: DIA | D24: 0.6 | E24: ='MANO DE OBRA Y CUADRILLAS'!F$31 -> 87875.67 | F24: =E24*D24 -> 52725.4
C26: [ M3 ] V/r. COSTO DIRECTO = | F26: =ROUND(F22+F18+F11,0) -> 532369
B29: CONCRETO 3000 PSI (1:2:3) | E29: Unidad: | F29: M3
B31: DESCRIPCIÓN | C31: UNIDAD | D31: CANT | E31: V/r UNITARIO | F31: V/r PARCIAL
B32: MATERIALES : | F32: =SUM(F33:F37) -> 379540
B33: CEMENTO GRIS | C33: KG | D33: 350 | E33: ='LISTADO DE MATERIALES'!D91 -> 660 | F33: =E33*D33 -> 231000
B34: ARENA | C34: M3 | D34: 0.52 | E34: ='LISTADO DE MATERIALES'!D43 -> 85000 | F34: =E34*D34 -> 44200
B35: GRAVILLA DE PLANTA | C35: M3 | D35: 0.9 | E35: 110000 | F35: =E35*D35 -> 99000
B36: AGUA | C36: LT | D36: 170 | E36: ='LISTADO DE MATERIALES'!D23 -> 22 | F36: =E36*D36 -> 3740
B37: ENSAYOS | C37: UND | D37: 0.01 | E37: =E16 -> 160000 | F37: =E37*D37 -> 1600
B39: EQUIPO Y HERRAMIENTAS: | F39: =SUM(F40:F41) -> 9993
B40: HERRAMIENTA MENOR | C40: GL | D40: 1 | E40: ='LISTADO DE MATERIALES'!D171 -> 1993 | F40: =E40*D40 -> 1993
B41: MEZCLADORA | C41: DIA | D41: 0.1 | E41: =+'LISTADO DE MATERIALES'!D216 -> 80000 | F41: =E41*D41 -> 8000
B43: MANO DE OBRA: | F43: =SUM(F44:F45) -> 126248
B44: OFICIAL (incl. Prestaciones) | C44: DIA | D44: 0.6 | E44: ='MANO DE OBRA Y CUADRILLAS'!F$58 -> 122537.67 | F44: =E44*D44 -> 73522.6
B45: AYUIDANTE (Incl. Prestaciones) | C45: DIA | D45: 0.6 | E45: ='MANO DE OBRA Y CUADRILLAS'!F$31 -> 87875.67 | F45: =E45*D45 -> 52725.4
C47: [ M3 ] V/r. COSTO DIRECTO = | F47: =ROUND(F43+F39+F32,0) -> 515781
B50: CONCRETO DE 2.500 PSI (1:3:3) | E50: Unidad: | F50: M3
B52: DESCRIPCIÓN | C52: UNIDAD | D52: CANT | E52: V/r UNITARIO | F52: V/r PARCIAL
B53: MATERIALES : | F53: =SUM(F54:F58) -> 344246
B54: CEMENTO GRIS | C54: KG | D54: 300 | E54: ='LISTADO DE MATERIALES'!D91 -> 660 | F54: =E54*D54 -> 198000
B55: ARENA | C55: M3 | D55: 0.72 | E55: =E34 -> 85000 | F55: =E55*D55 -> 61200
B56: GRAVILLA DE PLANTA | C56: M3 | D56: 0.72 | E56: =E35 -> 110000 | F56: =E56*D56 -> 79200
...

Sheet LISTADO DE MATERIALES
A1: =ROTULOS!A1 -> DEPARTAMENTO DEL HUILA
A2: =ROTULOS!A2 -> SECRETARIA DE AGRICULTURA Y MINERÍA
A3: =ROTULOS!A3 -> PRESUPUESTO
A4: INSUMOS - VIGENCIA 2023
A5: CÓDIGO | B5: MATERIALES, EQUIPO y MAQUINARIA, JORNALES | C5: UNIDAD | D5: V/r. UNT NEIVA 2023
A6: M101 | B6: ACERO Fy=2,400 Kg/cm2 | C6: KG | D6: 7100
A7: M102 | B7: ACERO Fy=4,200 kg/cm2 | C7: KG | D7: 7380
A8: M103 | B8: ACIDO MURÍATICO | C8: GL | D8: 36000
A9: M104 | B9: ACCESORIO PARA FIJACION VARILLA | C9: UND | D9: 11200
A10: M104 | B10: ACCESORIO PVC 2" SAN | C10: UND | D10: 7936
A11: M104 | B11: ACCESORIO PVC 3" SAN | C11: UND | D11: 12419
A12: M104 | B12: ACCESORIO PVC 4" SAN | C12: UND | D12: 17954
A13: M105 | B13: ACCESORIO PVC 6" SAN | C13: UND | D13: 25650
A14: M106 | B14: ACCESORIOS EMPAQUES Y TORNILLOS | C14: GL | D14: 9917
A15: M107 | B15: ADAPTADOR MACHO PVC 1/2" | C15: UND | D15: 450
A16: M108 | B16: ADAPTADOR TERMINAL PVC ½" CONDUIT | C16: UND | D16: 450
B17: ADAPTADOR TERMINAL EMT ½" CONDUIT | C17: UND | D17: 1100
B18: ADAPTADOR TERMINAL EMT 3/4" CONDUIT | C18: UND | D18: 1500
B19: ADAPTADOR TERMINAL EMT 1" CONDUIT | C19: UND | D19: 2100
A20: M109 | B20: ADHESIVO PVC | C20: 1/4 GL | D20: 68900
A21: M110 | B21: ADOQUIN PEATONAL ·2 ARCOL | C21: M2 | D21: 32000
A22: M111 | B22: ADOQUIN VEHICULAR (24x12x6) | C22: M2 | D22: 54000
A23: M112 | B23: AGUA | C23: LT | D23: 22
A24: M113 | B24: ALAMBRE NEGRO No 18 | C24: KG | D24: 11900
A25: M114 | B25: ALFACOLOR | C25: KG | D25: 7000
A26: M115 | B26: AMARRES TEJA DE ZINC | C26: UND | D26: 339
A27: M116 | B27: ANDAMIO TUBULAR. 1.5 x 1.5 | C27: DÍA | D27: 4500
A28: M117 | B28: ÁNGULO 1/8 "x 1½" | C28: ML | D28: 8384
A29: M118 | B29: ÁNGULO l/8"xl" | C29: ML | D29: 4648
A30: M119 | B30: ÁNGULO 1/8 "x3/4 | C30: ML | D30: 2988
A31: M120 | B31: ANGULO 2 X 1/8" | C31: ML | D31: 9628
... A46: M135 | B46: AISLADOR DE SUSPENSION 6" | C46: UND | D46: 32450
B47: AISLADOR DE SUSPENSION POLIMERICO - SINTETICO DE 15 Kv | C47: UND | D47: 55600
A48: M136 | B48: AISLADOR TENSOR 3½" 54-1 | C48: UND | D48: 15450
A49: M137 | B49: AYUDANTE | C49: DIA | D49: 87094.53
A50: M138 | B50: BALDOSIN DE CEMENTO | C50: M2 | D50: 28500
A51: M139 | B51: BALDOSIN DURAKER 20X20 | C51: M2 | D51: 34500
A52: M140 | B52: BALDOSIN GRANITO ALFA 30X30 VILLA DE LEYVA | C52: M2 | D52: 55475
A53: M141 | B53: BALDOSIN GRANITO ALFA 30X30 BLANCO HUILA | C53: M2 | D53: 79800
A54: M142 | B54: BARNIZ | C54: GAL | D54: 95300
...

Sheet PRESUPUESTO
A1: =ROTULOS!A1 -> DEPARTAMENTO DEL HUILA
A2: =ROTULOS!A2 -> SECRETARIA DE AGRICULTURA Y MINERÍA
A3: PRESUPUESTO
A4: =ROTULOS!A4 -> MEJORAMIENTO DE LA PLAZA DE FERIAS DEL MUNICIPIO DE ACEVEDO DEPARTAMENTO DEL HUILA
A5: ITEM | B5: ACTIVIDAD | C5: UN | D5: VR. UNT. | E5: CANT. | F5: VR. PARCIAL | G5: AIU 29% | H5: VR. TOTAL INCLUIDO AIU
A6: 1 | B6: RELLENOS
A7: 1.1 | B7: Relleno compactado con recebo seleccionado | C7: M3 | D7: ='1'!F$22 -> 59790 | E7: =+'MEMORIA DE CANTIDADES'!H12 -> 12 | F7: =D7*E7 -> 717480 | G7: =+F7*0.29 -> 208069.2 | H7: =+G7+F7 -> 925549.2
A8: 2 | B8: ADECUACIÓN DE GRADERIAS
A9: 2.1 | B9: Construcción de Placa de piso en concreto de 3000 psi e=0.10 con malla electrosoldada de 6mm | C9: M2 | D9: ='2'!F$23 -> 127342 | E9: =+'MEMORIA DE CANTIDADES'!H19 -> 77 | F9: =D9*E9 -> 9805334 | G9: =+F9*0.29 -> 2843546.9 | H9: =+G9+F9 -> 12648881
A10: 2.2 | B10: Anclaje en varilla de 1/2 c/ 1metro longitud 1.5 | C10: ML | D10: =+'2'!F38 -> 53855 | E10: =+'MEMORIA DE CANTIDADES'!H25 -> 80 | F10: =D10*E10 -> 4308400 | G10: =+F10*0.29 -> 1249436 | H10: =+G10+F10 -> 5557836
A11: 2.3 | B11: Mantenimiento de corral de ferias, incluye cambio de postes averiados y tablones | C11: UND | D11: =+'2'!F53 -> 8416184 | E11: 1 | F11: =D11*E11 -> 8416184 | G11: =+F11*0.29 -> 2440693.4 | H11: =+G11+F11 -> 10856877
C12: TOTAL COSTOS DIRECTOS | F12: =SUM(F7:F11) -> 23247398 | G12: =SUM(G7:G11) -> 6741745.4 | H12: =SUM(H7:H11) -> 29989143
C13: ADMINISTRACION | E13: 0.23 | F13: =$F$12*E13 -> 5346901.5
C14: IMPREVISTOS | E14: 0.03 | F14: =$F$12*E14 -> 697421.94
C15: UTILIDADES | E15: 0.03 | F15: =$F$12*E15 -> 697421.94
C16: SUBTOTAL COSTOS INDIRECTOS | F16: =SUM(F13:F15) -> 6741745.4
C17: COSTO TOTAL | F17: =SUM(F12:F15) -> 29989143
A20: Elaboro:
B21: FIRMA:
B22: NOMBRE Y APELLIDOS:
B23: PROFESION:
B24: MATRICULA PROFESIONAL No.:

Sheet MEMORIA DE CANTIDADES
A1: =ROTULOS!A1 -> DEPARTAMENTO DEL HUILA
A2: =ROTULOS!A2 -> SECRETARIA DE AGRICULTURA Y MINERÍA
A3: PRESUPUESTO
A4: =ROTULOS!A4 -> MEJORAMIENTO DE LA PLAZA DE FERIAS DEL MUNICIPIO DE ACEVEDO DEPARTAMENTO DEL HUILA
A5: ITEM | B5: ACTIVIDAD | C5: UNIDAD
A6: 1 | B6: =+PRESUPUESTO!B7 -> Relleno compactado con recebo seleccionado
A7: =+PRESUPUESTO!A7 -> 1.1 | B7: =+PRESUPUESTO!B7 -> Relleno compactado con recebo seleccionado | C7: M2
A8: DESCRIPCION Y/O UBICACIÓN | C8: Largo (m) | D8: Ancho(m) | E8: Alto(m) | F8: Espesor Promedio(m) | G8: Cantidad | H8: Subtotal
A9: Relleno graderias escalon 1 | C9: 16 | D9: 0.5 | E9: 0.5 | G9: 1 | H9: =+C9*D9*E9*G9 -> 4
A10: Relleno graderias escalon 2 | C10: 16 | D10: 0.5 | E10: 0.5 | G10: 1 | H10: =+C10*D10*E10*G10 -> 4
A11: Relleno graderias escalon 3 | C11: 16 | D11: 0.5 | E11: 0.5 | G11: 1 | H11: =+C11*D11*E11*G11 -> 4
A12: Total | H12: =SUM(H9:H11) -> 12
A13: 2 | B13: =+PRESUPUESTO!B8 -> ADECUACIÓN DE GRADERIAS
A14: 2.1 | B14: Demolición baldosa de piso h=0.02 m | C14: M2
A15: DESCRIPCION Y/O UBICACIÓN | C15: Largo (m) | D15: Ancho(m) | E15: Alto(m) | F15: Espesor Promedio(m) | G15: Cantidad | H15: Subtotal
A16: Relleno graderias escalon 1 | C16: 16 | D16: 1 | E16: 1 | G16: 2 | H16: =+C16*D16*E16*G16 -> 32
A17: Relleno graderias escalon 2 | C17: 16 | D17: 1.8 | E17: 1 | G17: 1 | H17: =+C17*D17*E17*G17 -> 28.8
A18: Relleno graderias escalon 3 | C18: 16 | D18: 1 | E18: 1 | G18: 1 | H18: =+C18*D18*E18*G18 -> 16
A19: Total | H19: =ROUND(SUM(H16:H18),0) -> 77
A20: 2.2 | B20: Demolición enchape muro | C20: UND
A21: DESCRIPCION Y/O UBICACIÓN | C21: Largo (m) | D21: Ancho(m) | E21: Alto(m) | F21: Espesor Promedio(m) | G21: Cantidad | H21: Subtotal
A22: Relleno graderias escalon 1 | C22: 1 | D22: 1 | E22: 1 | G22: 16 | H22: =+C22*D22*E22*G22 -> 16
A23: Relleno graderias escalon 2 | C23: 1 | D23: 1 | E23: 1 | G23: 32 | H23: =+C23*D23*E23*G23 -> 32
A24: Relleno graderias escalon 3 | C24: 1 | D24: 1 | E24: 1 | G24: 32 | H24: =+C24*D24*E24*G24 -> 32
A25: Total | H25: =SUM(H22:H24) -> 80
A26: =+PRESUPUESTO!A11 -> 2.3 | B26: =+PRESUPUESTO!B11 -> Mantenimiento de corral de ferias, incluye cambio de postes averiados y tablones | C26: =+PRESUPUESTO!C11 -> UND
A27: DESCRIPCION Y/O UBICACIÓN | C27: Largo (m) | D27: Ancho(m) | E27: Alto(m) | F27: Espesor Promedio(m) | G27: Cantidad | H27: Subtotal
A28: Corral | G28: 1 | H28: =+G28 -> 1
A31: Total | H31: =SUM(H28:H30) -> 1
A34: Elaboro:
B35: FIRMA:
B36: NOMBRE Y APELLIDOS:
B37: PROFESION:
B38: MATRICULA PROFESIONAL No.:

Sheet 1
B1: =ROTULOS!A1 -> DEPARTAMENTO DEL HUILA
B2: =ROTULOS!A2 -> SECRETARIA DE AGRICULTURA Y MINERÍA
B3: =ROTULOS!A3 -> PRESUPUESTO
B5: ANÁLISIS DE PRECIOS UNITARIOS - COSTOS DIRECTOS
B7: 1. RELLENOS
A9: =+PRESUPUESTO!A7 -> 1.1 | B9: =PRESUPUESTO!B7 -> Relleno compactado con recebo seleccionado | E9: Unidad: | F9: =PRESUPUESTO!C7 -> M3
B11: DESCRIPCIÓN | C11: UNIDAD | D11: CANT | E11: V/r UNITARIO | F11: V/r PARCIAL
B13: MATERIALES | F13: =SUM(F14) -> 43401
B14: RECEBO SELECCIONADO | C14: M3 | D14: 1 | E14: ='LISTADO DE MATERIALES'!D$260 -> 43401 | F14: =D14*E14 -> 43401
B16: EQUIPO Y HERRAMIENTAS: | F16: =SUM(F17:F18) -> 3237.9
B17: HERRAMIENTA MENOR | C17: UND | D17: 0.3 | E17: ='LISTADO DE MATERIALES'!D$171 -> 1993 | F17: =E17*D17 -> 597.9
B18: =+'LISTADO DE MATERIALES'!B381 -> VIBROCOMPACTADOR MANUAL (RANA 80-100 kg) | C18: DIA | D18: 0.04 | E18: =+'LISTADO DE MATERIALES'!D$381 -> 66000 | F18: =E18*D18 -> 2640
B19: MANO DE OBRA | F19: =F20 -> 13151
B20: MANO DE OBRA | C20: HR | D20: 0.5 | E20: ='MANO DE OBRA Y CUADRILLAS'!F$68 -> 26302 | F20: =E20*D20 -> 13151
C22: [ M3 ] V/r. COSTO DIRECTO | F22: =ROUND(F19+F16+F13,0) -> 59790

Sheet 2
B1: =ROTULOS!A1 -> DEPARTAMENTO DEL HUILA
B2: =ROTULOS!A2 -> SECRETARIA DE AGRICULTURA Y MINERÍA
B3: =ROTULOS!A3 -> PRESUPUESTO
B5: ANÁLISIS DE PRECIOS UNITARIOS - COSTOS DIRECTOS
B7: 2. ADECUACIÓN DE GRADERIAS
A10: =PRESUPUESTO!A9 -> 2.1 | B10: =PRESUPUESTO!B9 -> Construcción de Placa de piso en concreto de 3000 psi e=0.10 con malla electrosoldada de 6mm | E10: UNIDAD: | F10: =PRESUPUESTO!C9 -> M2
B12: DESCRIPCIÓN | C12: UNIDAD | D12: CANT | E12: V/r UNITARIO | F12: V/r PARCIAL
B13: MATERIALES : | F13: =SUM(F14:F16) -> 107934.1
B14: CONCRETO DE 3000 PSI | C14: M3 | D14: 0.1 | E14: ='ANALISIS BASICOS'!F$47 -> 515781 | F14: =E14*D14 -> 51578.1
B15: FORMALETA | C15: M2 | D15: 0.5 | E15: ='LISTADO DE MATERIALES'!D$147 -> 69872 | F15: =E15*D15 -> 34936
B16: MALLA ELECTROSOLDADA 6mm | C16: M2 | D16: 1.05 | E16: ='LISTADO DE MATERIALES'!D$444 -> 20400 | F16: =E16*D16 -> 21420
B17: EQUIPO Y HERRAMIENTAS: | F17: =SUM(F18:F18) -> 996.5
B18: HERRAMIENTA MENOR | C18: UND | D18: 0.5 | E18: ='LISTADO DE MATERIALES'!D$171 -> 1993 | F18: =E18*D18 -> 996.5
B20: MANO DE OBRA: | F20: =F21 -> 18411.4
B21: MANO DE OBRA: | C21: HR | D21: 0.7 | E21: ='MANO DE OBRA Y CUADRILLAS'!F$68 -> 26302 | F21: =E21*D21 -> 18411.4
C23: V/r. COSTO DIRECTO = | F23: =ROUND(F20+F17+F13,0) -> 127342
A25: =+PRESUPUESTO!A10 -> 2.2 | B25: =+PRESUPUESTO!B10 -> Anclaje en varilla de 1/2 c/ 1metro longitud 1.5 | E25: UNIDAD: | F25: =+PRESUPUESTO!C10 -> ML
B27: DESCRIPCIÓN | C27: UNIDAD | D27: CANT | E27: V/r UNITARIO | F27: V/r PARCIAL
B28: MATERIALES : | F28: =SUM(F29:F30) -> 48705.5
B29: VARILLA DE 1/2" | C29: ML | D29: 1.5 | E29: =+'LISTADO DE MATERIALES'!D376 -> 4937 | F29: =E29*D29 -> 7405.5
B30: MATERIAL PARA ANCLAJES | C30: UND | D30: 0.35 | E30: ='LISTADO DE MATERIALES'!D$214 -> 118000 | F30: =E30*D30 -> 41300
B32: EQUIPO Y HERRAMIENTAS: | F32: =SUM(F33:F33) -> 1993
B33: HERRAMIENTA MENOR | C33: UND | D33: 1 | E33: ='LISTADO DE MATERIALES'!D$171 -> 1993 | F33: =E33*D33 -> 1993
B35: MANO DE OBRA: | F35: =F36 -> 3156.2
B36: MANO DE OBRA CARPINTERIA | C36: HR | D36: 0.1 | E36: ='MANO DE OBRA Y CUADRILLAS'!F$113 -> 31562 | F36: =E36*D36 -> 3156.2
C38: [ ML ] V/r. COSTO DIRECTO = | F38: =ROUND(F35+F32+F28,0) -> 53855
A40: =+PRESUPUESTO!A11 -> 2.3 | B40: =+PRESUPUESTO!B11 -> Mantenimiento de corral de ferias, incluye cambio de postes averiados y tablones | E40: UNIDAD: | F40: =+PRESUPUESTO!C11 -> UND
B42: DESCRIPCIÓN | C42: UNIDAD | D42: CANT | E42: V/r UNITARIO | F42: V/r PARCIAL
B43: MATERIALES : | F43: =SUM(F44:F45) -> 4250000
B44: =+'LISTADO DE MATERIALES'!B557 -> ESTACON DE MADERA 3 M, 10X10 Centimetros. | C44: ML | D44: 50 | E44: =+'LISTADO DE MATERIALES'!D557 -> 85000 | F44: =E44*D44 -> 4250000
B47: EQUIPO Y HERRAMIENTAS: | F47: =SUM(F48:F48) -> 378744
B48: HERRAMIENTA MENOR | C48: UND | D48: 0.1 | E48: =+F50 -> 3787440 | F48: =E48*D48 -> 378744
B50: MANO DE OBRA: | F50: =F51 -> 3787440
B51: MANO DE OBRA CARPINTERIA | C51: HR | D51: 120 | E51: ='MANO DE OBRA Y CUADRILLAS'!F$113 -> 31562 | F51: =E51*D51 -> 3787440
C53: [ ML ] V/r. COSTO DIRECTO = | F53: =ROUND(F50+F47+F43,0) -> 8416184
