Workbook
Name A: #REF!
Name A: #REF!
Name A: #REF!
Name A: #REF!
Name A: #REF!
Name A: #REF!
Name A: #REF!
Name A: #REF!
Name accesorios: #REF!
Name accesorios: #REF!
Name accesorios: #REF!
Name accesorios: #REF!
Name accesorios: #REF!
Name accesorios: #REF!
Name accesorios: #REF!
Name accesorios: #REF!
Name AÑOWUIE: '[1]Res-Accide-10'!$R$2:$R$7
Name auto1: #REF!
Name auto1: #REF!
Name auto1: #REF!
Name auto1: #REF!
Name auto1: #REF!
Name auto1: #REF!
Name auto1: #REF!
Name auto1: #REF!
Name auto2: #REF!
Name auto2: #REF!
Name auto2: #REF!
Name auto2: #REF!
Name auto2: #REF!
Name auto2: #REF!
Name auto2: #REF!
Name auto2: #REF!
Name EXCROC: '[2]Análisis de precios'!$H$52
Name g: [3]Cotización!#REF!
Name g: [3]Cotización!#REF!
Name g: [3]Cotización!#REF!
Name g: [3]Cotización!#REF!
Name g: [3]Cotización!#REF!
Name g: [3]Cotización!#REF!
Name g: [3]Cotización!#REF!
Name g: [3]Cotización!#REF!
Name GKJDGDIJZ: "Imagen 3"
Name GRUPO1: #REF!
Name GRUPO1: #REF!
Name GRUPO1: #REF!
Name GRUPO1: #REF!
Name GRUPO1: #REF!
Name GRUPO1: #REF!
Name GRUPO1: #REF!
Name GRUPO1: #REF!
Name GRUPO2: #REF!
Name GRUPO2: #REF!
Name GRUPO2: #REF!
Name GRUPO2: #REF!
Name GRUPO2: #REF!
Name GRUPO2: #REF!
Name GRUPO2: #REF!
Name GRUPO2: #REF!
Name INDICE: [4]INDICE!$1:$1048576

Sheet PRESUPUESTO
A1: INSTITUTO NACIONAL DE VIAS
A2: DIRECCIÓN TERRITORIAL HUILA
A4: PRESUPUESTO OFICIAL
A6: PROCESO DT-HUI-XXXX-2018 | K6: =+L12/6*6 -> 25
A8: ATENCIÓN OBRAS DE EMERGENCIA POR EL SISTEMA DE MONTO AGOTABLE, EN LAS VÍAS A CARGO DE LA DIRECCIÓN TERRITORIAL HUILA, DEPARTAMENTO DE HUILA - SELECCIÓN ABREVIADA
A10: FORMULARIO No. 1
A12: No | B12: ITEM DE PAGO | C12: ESPECIFICACION | E12: DESCRIPCION | F12: UNIDAD | G12: CANTIDAD | H12: PRECIO UNITARIO | I12: VALOR TOTAL EN PESOS COLOMBIANOS | L12: 25 | R12: 15
C13: GENERAL | D13: PARTICULAR | L13: CANT PARA PR60+550 | R13: CANT PARA PR60+0800
A15: 1 | B15: 201.7 | C15: =MID(B15,1,3) -> 201 | E15: =VLOOKUP(B15,INDICE,2,0) -> DEMOLICIÓN DE ESTRUCTURAS | F15: =VLOOKUP(B15,INDICE,3,0) -> m3 | G15: =+ROUND(O15+U15,0) -> 34 | H15: =+ROUND(J15,0) -> 134790 | I15: =+H15*G15 -> 4582860 | J15: =VLOOKUP(B15,INDICE,4,0) -> 134790.41 | L15: =+L12 -> 25 | M15: 2 | N15: 0.4 | O15: =+N15*M15*L15 -> 20 | R15: 100 | S15: 1.2 | T15: 0.12 | U15: =+T15*S15*R15 -> 14.4
A16: 2 | B16: 211.1 | C16: =MID(B16,1,3) -> 211 | E16: =VLOOKUP(B16,INDICE,2,0) -> REMOCIÓN DE DERRUMBES | F16: =VLOOKUP(B16,INDICE,3,0) -> m3 | G16: =+ROUND(O16+U16,0) -> 7360 | H16: =+ROUND(J16,0) -> 8317 | I16: =+H16*G16 -> 61213120 | J16: =VLOOKUP(B16,INDICE,4,0) -> 8317.0279 | L16: 3500 | M16: 2 | N16: 1 | O16: =+N16*M16*L16 -> 7000 | R16: 120 | S16: 3 | T16: 1 | U16: =+T16*S16*R16 -> 360
A17: 3 | B17: 210.1.1 | C17: =MID(B17,1,3) -> 210 | E17: =VLOOKUP(B17,INDICE,2,0) -> EXCAVACIÓN SIN CLASIFICAR DE LA EXPLANACIÓN Y CANALES | F17: =VLOOKUP(B17,INDICE,3,0) -> m3 | G17: =+ROUND(O17+U17,0) -> 330 | H17: =+ROUND(J17,0) -> 9217 | I17: =+H17*G17 -> 3041610 | J17: =VLOOKUP(B17,INDICE,4,0) -> 9216.9343 | L17: =+L15 -> 25 | M17: 3 | N17: 2 | O17: =+N17*M17*L17 -> 150 | R17: =+R12 -> 15 | S17: 3 | T17: 4 | U17: =+T17*S17*R17 -> 180
A18: 4 | B18: 600.2.1 | C18: =MID(B18,1,3) -> 600 | E18: =VLOOKUP(B18,INDICE,2,0) -> EXCAVACIONES VARIAS EN ROCA EN SECO. | F18: =VLOOKUP(B18,INDICE,3,0) -> m3 | G18: =+ROUND(O18+U18,0) -> 30 | H18: =+ROUND(J18,0) -> 76227 | I18: =+H18*G18 -> 2286810 | J18: =VLOOKUP(B18,INDICE,4,0) -> 76227.05 | R18: =+R12 -> 15 | S18: 4 | T18: 2 | U18: =+U19/2 -> 30
A19: 5 | B19: 600.1.1 | C19: =MID(B19,1,3) -> 600 | E19: =VLOOKUP(B19,INDICE,2,0) -> EXCAVACIONES VARIAS SIN CLASIFICAR | F19: =VLOOKUP(B19,INDICE,3,0) -> m3 | G19: =+ROUND(O19+U19,0) -> 83 | H19: =+ROUND(J19,0) -> 15473 | I19: =+H19*G19 -> 1284259 | J19: =VLOOKUP(B19,INDICE,4,0) -> 15472.711 | L19: =+L17 -> 25 | M19: 1.5 | N19: 0.4 | O19: =+PRESUPUESTO!AS16+L19*M19*N19+O22 -> 23 | R19: 20 | S19: 2 | T19: 1.5 | U19: =+T19*S19*R19 -> 60 | V19: =3.4*R19 -> 68
A20: 6 | B20: 610.2 | C20: =MID(B20,1,3) -> 610 | E20: =VLOOKUP(B20,INDICE,2,0) -> RELLENOS PARA ESTRUCTURAS CON RECEBO. | F20: =VLOOKUP(B20,INDICE,3,0) -> m3 | G20: =+ROUND(O20+U20,0) -> 150 | H20: =+ROUND(J20,0) -> 50273 | I20: =+H20*G20 -> 7540950 | J20: =VLOOKUP(B20,INDICE,4,0) -> 50272.586 | L20: =+L12 -> 25 | M20: 1.2 | N20: 3 | O20: =+PRESUPUESTO!AS23+L20*M20*N20 -> 90 | R20: =+R12 -> 15 | S20: 2 | T20: 2 | U20: =+T20*S20*R20 -> 60
A21: 7 | B21: 610.5 | C21: =MID(B21,1,3) -> 610 | E21: =VLOOKUP(B21,INDICE,2,0) -> RELLENOS CON MATERIAL FILTRANTE | F21: =VLOOKUP(B21,INDICE,3,0) -> m3 | G21: =+ROUND(O21+U21,0) -> 58 | H21: =+ROUND(J21,0) -> 86204 | I21: =+H21*G21 -> 4999832 | J21: =VLOOKUP(B21,INDICE,4,0) -> 86203.806 | L21: =+L22*2 -> 20 | M21: 0.8 | N21: 0.6 | O21: =+N21*M21*L21 -> 9.6 | R21: =+R22+100 -> 100 | S21: 0.8 | T21: 0.6 | U21: =+T21*S21*R21 -> 48
A22: 8 | B22: 621.1.2 | C22: =MID(B22,1,3) -> 621 | E22: =VLOOKUP(B22,INDICE,2,0) -> PILOTE DE CONCRETO VACIADO IN SITU, DE DIÁMETRO 1,2 M, INCLUYE EXCAVACIÓN EN ROCA, BAJO AGUA | F22: =VLOOKUP(B22,INDICE,3,0) -> m | G22: =+ROUND(O22+U22,0) -> 8 | H22: =+ROUND(J22,0) -> 3227349 | I22: =+H22*G22 -> 25818792 | J22: =VLOOKUP(B22,INDICE,4,0) -> 3227349.2 | L22: 10 | O22: =+(L22/6+1)*Q22 -> 8 | P22: h= | Q22: 3 | U22: =+T22*S22*R22 -> 0
A23: 9 | B23: 621.5.1 | C23: =MID(B23,1,3) -> 621 | E23: =VLOOKUP(B23,INDICE,2,0) -> CAMISA PERMANENTE DE DIÁMETRO EXTERIOR 1,50 M, EN CONCRETO | F23: =VLOOKUP(B23,INDICE,3,0) -> m | G23: =+ROUND(O23+U23,0) -> 8 | H23: =+ROUND(J23,0) -> 559411 | I23: =+H23*G23 -> 4475288 | J23: =VLOOKUP(B23,INDICE,4,0) -> 559410.6 | O23: =+O22 -> 8 | U23: =+T23*S23*R23 -> 0
A24: 10 | B24: 674.2 | C24: =MID(B24,1,3) -> 674 | E24: =VLOOKUP(B24,INDICE,2,0) -> DREN HORIZONTAL DE LONGITUD MAYOR A DIEZ (10) METROS. | F24: =VLOOKUP(B24,INDICE,3,0) -> m | G24: =+ROUND(O24+U24,0) -> 20 | H24: =+ROUND(J24,0) -> 187455 | I24: =+H24*G24 -> 3749100 | J24: =VLOOKUP(B24,INDICE,4,0) -> 187455.39 | L24: =+L22/6*12 -> 20 | O24: =+L24 -> 20 | U24: =+T24*S24*R24 -> 0
A25: 11 | B25: 630.3 | C25: =MID(B25,1,3) -> 630 | E25: =VLOOKUP(B25,INDICE,2,0) -> CONCRETO RESISTENCIA 28MPA (C ) | F25: =VLOOKUP(B25,INDICE,3,0) -> m3 | G25: =+ROUND(O25+U25,0) -> 1 | H25: =+ROUND(J25,0) -> 678646 | I25: =+H25*G25 -> 678646 | J25: =VLOOKUP(B25,INDICE,4,0) -> 678646.35 | L25: 1 | O25: 1 | U25: =+T25*S25*R25 -> 0
A26: 12 | B26: 630.4 | C26: =MID(B26,1,3) -> 630 | E26: =VLOOKUP(B26,INDICE,2,0) -> CONCRETO RESISTENCIA 21MPA (D) | F26: =VLOOKUP(B26,INDICE,3,0) -> m3 | G26: =+ROUND(O26+U26,0) -> 26 | H26: =+ROUND(J26,0) -> 605146 | I26: =+H26*G26 -> 15733796 | J26: =VLOOKUP(B26,INDICE,4,0) -> 605146.46 | O26: =+PRESUPUESTO!AS33 -> 0 | R26: 15 | S26: 7 | T26: 0.25 | U26: =+T26*S26*R26 -> 26.25
A27: 13 | B27: 630.5 | C27: =MID(B27,1,3) -> 630 | E27: =VLOOKUP(B27,INDICE,2,0) -> CONCRETO RESISTENCIA 17.5MPA (E ) | F27: =VLOOKUP(B27,INDICE,3,0) -> m3 | G27: =+ROUND(O27+U27,0) -> 3 | H27: =+ROUND(J27,0) -> 405378 | I27: =+H27*G27 -> 1216134 | J27: =VLOOKUP(B27,INDICE,4,0) -> 405378.03 | O27: =+PRESUPUESTO!AS29 -> 0 | R27: =+R26 -> 15 | S27: 2 | T27: 0.1 | U27: =+T27*S27*R27 -> 3
A28: 14 | B28: 630.7 | C28: =MID(B28,1,3) -> 630 | E28: =VLOOKUP(B28,INDICE,2,0) -> CONCRETO RESISTENCIA 14MPA (G) (CICLOPEO) | F28: =VLOOKUP(B28,INDICE,3,0) -> m3 | G28: =+ROUND(O28+U28,0) -> 9 | H28: =+ROUND(J28,0) -> 255528 | I28: =+H28*G28 -> 2299752 | J28: =VLOOKUP(B28,INDICE,4,0) -> 255527.91 | R28: =+R27 -> 15 | S28: 2 | T28: 0.3 | U28: =+T28*S28*R28 -> 9
A29: 15 | B29: 640.1 | C29: =MID(B29,1,3) -> 640 | E29: =VLOOKUP(B29,INDICE,2,0) -> ACERO DE REFUERZO FY 4200 MPA. | F29: =VLOOKUP(B29,INDICE,3,0) -> kg | G29: =+ROUND(O29+U29,0) -> 1838 | H29: =+ROUND(J29,0) -> 4987 | I29: =+H29*G29 -> 9166106 | J29: =VLOOKUP(B29,INDICE,4,0) -> 4987.0857 | O29: =+PRESUPUESTO!AS37 -> 0 | U29: =+U26*70 -> 1837.5
A30: 16 | B30: 670.5 | C30: =MID(B30,1,3) -> 670 | E30: =VLOOKUP(B30,INDICE,2,0) -> DISIPADORES DE ENERGÍA Y SEDIMENTADORES EN CONCRETO CICLOPEO | F30: =VLOOKUP(B30,INDICE,3,0) -> m3 | G30: =+ROUND(O30+U30,0) -> 23 | H30: =+ROUND(J30,0) -> 282146 | I30: =+H30*G30 -> 6489358 | J30: =VLOOKUP(B30,INDICE,4,0) -> 282146.48 | L30: 30 | M30: 1.5 | N30: 0.3 | O30: =+N30*M30*L30 -> 13.5 | R30: =+R19 -> 20 | S30: 1.5 | T30: 0.3 | U30: =+T30*S30*R30 -> 9
A31: 17 | B31: 671.3 | C31: =MID(B31,1,3) -> 671 | E31: =VLOOKUP(B31,INDICE,2,0) -> CUNETA DE CONCRETO VACIADA IN SITU; INCLUYE LA CONFORMACION DE LA SUPERFICIE DE APOYO | F31: =VLOOKUP(B31,INDICE,3,0) -> m3 | G31: =+ROUND(O31+U31,0) -> 3 | H31: =+ROUND(J31,0) -> 568344 | I31: =+H31*G31 -> 1705032 | J31: =VLOOKUP(B31,INDICE,4,0) -> 568343.63 | L31: =+L22 -> 10 | M31: 1 | N31: 0.1 | O31: =+N31*M31*L31 -> 1 | R31: =+R30 -> 20 | S31: 1 | T31: 0.1 | U31: =+T31*S31*R31 -> 2
A32: 18 | B32: 673.1.1 | C32: =MID(B32,1,3) -> 673 | E32: =VLOOKUP(B32,INDICE,2,0) -> GEOTEXTIL TIPO NT-2500 O SIMILAR NO TEJIDO | F32: =VLOOKUP(B32,INDICE,3,0) -> m2 | G32: =+ROUND(O32+U32,0) -> 1036 | H32: =+ROUND(J32,0) -> 7336 | I32: =+H32*G32 -> 7600096 | J32: =VLOOKUP(B32,INDICE,4,0) -> 7335.7177 | L32: =+L21 -> 20 | M32: =0.8*2+0.6*2 -> 2.8 | O32: =+M32*L32 -> 56 | R32: =+R21 -> 100 | S32: =(0.8*2+0.6*2)+7 -> 9.8 | U32: =+S32*R32 -> 980
A33: 19 | B33: 2.P | C33: =MID(B33,1,3) -> 2.P | D33: =+B33 -> 2.P | E33: =VLOOKUP(B33,INDICE,2,0) -> ESTRUCTURAS DE DRENAJE EN SACOS DE SUELO CEMENTO PROPORCIÓN 5:1 | F33: =VLOOKUP(B33,INDICE,3,0) -> m2 | G33: =+ROUND(O33+U33,0) -> 480 | H33: =+ROUND(J33,0) -> 35628 | I33: =+H33*G33 -> 17101440 | J33: =VLOOKUP(B33,INDICE,4,0) -> 35628 | O33: =+L33*M33 -> 0 | R33: =+R32*4 -> 400 | S33: 1.2 | U33: =+R33*S33 -> 480
A34: 20 | B34: 3.P | C34: =MID(B34,1,3) -> 3.P | D34: =+B34 -> 3.P | E34: =VLOOKUP(B34,INDICE,2,0) -> TRINCHOS EN GUADUA CON POSTES DE MADERA | F34: =VLOOKUP(B34,INDICE,3,0) -> m2 | G34: =+ROUND(O34+U34,0) -> 240 | H34: =+ROUND(J34,0) -> 33839 | I34: =+H34*G34 -> 8121360 | J34: =VLOOKUP(B34,INDICE,4,0) -> 33839 | R34: =+R33 -> 400 | S34: 0.6 | U34: =+R34*S34 -> 240
A35: 21 | B35: 681.1P | C35: =MID(B35,1,3) -> 681 | D35: =+B35 -> 681.1P | E35: =VLOOKUP(B35,INDICE,2,0) -> GAVIÓN RELLENO DE SUELO CON GEOTEXTIL, DE MALLA DE ALAMBRE DE ACERO ENTRELAZADO CLASE 1; RECUBRIMIENTO DE ZINC (GALVANIZADO) | F35: =VLOOKUP(B35,INDICE,3,0) -> m3 | G35: 22 | H35: =+ROUND(J35,0) -> 100730 | I35: =+H35*G35 -> 2216060 | J35: =VLOOKUP(B35,INDICE,4,0) -> 100730
A36: 22 | B36: 630.4P | C36: =MID(B36,1,3) -> 630 | D36: =+B36 -> 630.4P | E36: =VLOOKUP(B36,INDICE,2,0) -> SUMINISTRO E INSTALACION DE HEXÁPODO EN CONCRETO CLASE C (INCLUYE ACERO DE REFUERZO GRADO 60 Y ACERO PARA AMARRE ENTRE HEXÁPODOS) | F36: =VLOOKUP(B36,INDICE,3,0) -> UND | G36: 6 | H36: =+ROUND(J36,0) -> 870610 | I36: =+H36*G36 -> 5223660 | J36: =VLOOKUP(B36,INDICE,4,0) -> 870610
A37: 23 | B37: 630.3.2P | C37: =MID(B37,1,3) -> 630 | D37: =+B37 -> 630.3.2P | E37: =VLOOKUP(B37,INDICE,2,0) -> BOLSACRETO RESISTENCIA 17,5MPa (CLASE E ) | F37: =VLOOKUP(B37,INDICE,3,0) -> m3 | G37: 4 | H37: =+ROUND(J37,0) -> 589721 | I37: =+H37*G37 -> 2358884 | J37: =VLOOKUP(B37,INDICE,4,0) -> 589721
A38: 24 | B38: 681.1 | C38: =MID(B38,1,3) -> 681 | E38: =VLOOKUP(B38,INDICE,2,0) -> GAVIÓNES DE MALLA DE ALAMBRE DE ACERO ENTRELAZADO CLASE 1; RECUBRIMIENTO DE ZINC (GALVANIZADO) | F38: =VLOOKUP(B38,INDICE,3,0) -> m3 | G38: =+ROUND(O38+U38,0) -> 144 | H38: =+ROUND(J38,0) -> 148119 | I38: =+H38*G38 -> 21329136 | J38: =VLOOKUP(B38,INDICE,4,0) -> 148119.21 | L38: 12 | M38: 1 | N38: 2 | O38: =+N38*M38*L38 -> 24 | R38: =+R12 -> 15 | S38: 4 | T38: 2 | U38: =+T38*S38*R38 -> 120
A39: 25 | B39: 810.3 | C39: =MID(B39,1,3) -> 810 | E39: =VLOOKUP(B39,INDICE,2,0) -> PROTECCIÓN DE TALUDES CON HIDROSIEMBRA CONTROLADA. | F39: =VLOOKUP(B39,INDICE,3,0) -> m2 | G39: =+ROUND(O39+U39,0) -> 3200 | H39: =+ROUND(J39,0) -> 4545 | I39: =+H39*G39 -> 14544000 | J39: =VLOOKUP(B39,INDICE,4,0) -> 4544.5165 | R39: =+R34 -> 400 | S39: 8 | U39: =+R39*S39 -> 3200
A40: 26 | B40: 900.4P | C40: =MID(B40,1,3) -> 900 | D40: 900.4P | E40: =VLOOKUP(B40,INDICE,2,0) -> TRANSPORTE DE MATERIALES AFIRMADOS, AGREGADOS, RELLENOS, SUB-BASE, BASE Y MEZCLAS ASFALTICAS (a partir de los km asumidos en cada APU) | F40: =VLOOKUP(B40,INDICE,3,0) -> m3-km | G40: =+ROUND(O40+U40,0) -> 9776 | H40: =+ROUND(J40,0) -> 1231 | I40: =+H40*G40 -> 12034256 | J40: =VLOOKUP(B40,INDICE,4,0) -> 1231.0606 | O40: =+(O25+O26+O27+O28+O21+O22+O20+O31+O38)*29 -> 3874.4 | U40: =+(U25+U26+U27+U28+U21+U22+U20+U31+U38)*22 -> 5901.5
A41: 27 | B41: 900.2 | C41: =MID(B41,1,3) -> 900 | E41: =VLOOKUP(B41,INDICE,2,0) -> TRANSPORTE DE MATERIALES PROVENIENTES DE LA EXCAVACIÓN DE LA EXPLANACIÓN, CANALES Y PRÉSTAMOS PARA DISTANCIAS MAYORES DE MIL METROS (1.000 M) MEDIDO A PARTIR DE CIEN METROS (100 M). | F41: =VLOOKUP(B41,INDICE,3,0) -> m3-km | G41: =+ROUND(O41+U41+V41,2) -> 2240 | H41: =+ROUND(J41,0) -> 1231 | I41: =+H41*G41 -> 2757440 | J41: =VLOOKUP(B41,INDICE,4,0) -> 1231.0606 | O41: =+(O17+O18+O19)*5 -> 865 | U41: =+(U17+U18+U19)*5 -> 1350 | V41: 25
A42: 28 | B42: 900.3 | C42: =MID(B42,1,3) -> 900 | E42: =VLOOKUP(B42,INDICE,2,0) -> TRANSPORTE DE MATERIALES PROVENIENTES DE DERRUMBES, MEDIDO A PARTIR DE CIEN METROS (100 M) | F42: =VLOOKUP(B42,INDICE,3,0) -> m3-km | G42: =+ROUND(O42+U42,0) -> 36800 | H42: =+ROUND(J42,0) -> 1231 | I42: =+H42*G42 -> 45300800 | J42: =VLOOKUP(B42,INDICE,4,0) -> 1231.0606 | O42: =+O16*5 -> 35000 | U42: =+U16*5 -> 1800
B45: SUBTOTAL OBRAS | I45: =SUM(I15:I43) -> 294868577
B46: PROVISIÓN PARA OBRAS COMPLEMENTARIAS Y/O ADICIONALES (INCLUYE OBRAS AMBIENTALES DEL PAGA) | H46: NO MODIFICAR | I46: =ROUND(+I45*J46,0)+L46 -> 2955020 | J46: 0.01 | L46: 6334
B47: VALOR TOTAL BÁSICO DE OBRA (A) | I47: =SUM(I45:I46) -> 297823597
B48: VALOR IVA (OBRA) (19% SOBRE UTILIDAD OBRA) (B) | I48: =ROUND((+I47/(1+I56)*I55*0.19),0) -> 2176403
...

Sheet INDICE
A1: INSTITUTO NACIONAL DE VÍAS DIRECCIÓN TÉCNICA
A2: ITEM | B2: DESCRIPCION ACTIVIDAD | C2: UNIDAD | D2: COSTO TOTAL (Moneda $ Pesos)
A3: 201.7 | B3: DEMOLICIÓN DE ESTRUCTURAS | C3: m3 | D3: =VLOOKUP('201.7'!A88,'201.7'!A44:N115,14,FALSE) -> 134790.41
A4: 210.1.1 | B4: EXCAVACIÓN SIN CLASIFICAR DE LA EXPLANACIÓN Y CANALES | C4: m3 | D4: =VLOOKUP('210.1.1'!A88,'210.1.1'!A71:N142,14,FALSE) -> 9216.9343
A5: 211.1 | B5: REMOCIÓN DE DERRUMBES | C5: m3 | D5: =VLOOKUP('211.1'!A88,'211.1'!A88:N148,14,FALSE) -> 8317.0279
A6: 600.1.1 | B6: EXCAVACIONES VARIAS SIN CLASIFICAR | C6: m3 | D6: =VLOOKUP('600.1.1'!A85,'600.1.1'!A85:N311,14,FALSE) -> 15472.711
A7: 600.2.1 | B7: EXCAVACIONES VARIAS EN ROCA EN SECO. | C7: m3 | D7: =VLOOKUP('600.2.1'!A88,'600.2.1'!A88:N310,14,FALSE) -> 76227.05
A8: 600.2.2 | B8: EXCAVACIONES VARIAS EN ROCA BAJO AGUA. | C8: m3 | D8: =VLOOKUP('600.2.2'!A90,'600.2.2'!A90:N312,14,FALSE) -> 110435.59
A9: 610.2 | B9: RELLENOS PARA ESTRUCTURAS CON RECEBO. | C9: m3 | D9: =VLOOKUP('610.2'!A89,'610.2'!A89:N315,14,FALSE) -> 50272.586
A10: 610.5 | B10: RELLENOS CON MATERIAL FILTRANTE | C10: m3 | D10: =VLOOKUP('610.5'!A89,'610.5'!A89:N318,14,FALSE) -> 86203.806
A11: 621.1.2 | B11: PILOTE DE CONCRETO VACIADO IN SITU, DE DIÁMETRO 1,2 M, INCLUYE EXCAVACIÓN EN ROCA, BAJO AGUA | C11: m | D11: =VLOOKUP('621.1.2'!A99,'621.1.2'!A99:N326,14,FALSE) -> 3227349.2
A12: 621.5.1 | B12: CAMISA PERMANENTE DE DIÁMETRO EXTERIOR 1,50 M, EN CONCRETO | C12: m | D12: =VLOOKUP('621.5.1'!A89,'621.5.1'!A89:N330,14,FALSE) -> 559410.6
A13: 630.3 | B13: CONCRETO RESISTENCIA 28MPA (C ) | C13: m3 | D13: =VLOOKUP('630.3'!A89,'630.3'!A89:N343,14,FALSE) -> 678646.35
A14: 630.4 | B14: CONCRETO RESISTENCIA 21MPA (D) | C14: m3 | D14: =VLOOKUP('630.4'!A89,'630.4'!A89:N344,14,FALSE) -> 605146.46
A15: 630.5 | B15: CONCRETO RESISTENCIA 17.5MPA (E ) | C15: m3 | D15: =VLOOKUP('630.5'!A93,'630.5'!A93:N345,14,FALSE) -> 405378.03
A16: 630.7 | B16: CONCRETO RESISTENCIA 14MPA (G) (CICLOPEO) | C16: m3 | D16: =VLOOKUP('630.7'!A93,'630.7'!A90:N347,14,FALSE) -> 255527.91
A17: 640.1 | B17: ACERO DE REFUERZO FY 4200 MPA. | C17: kg | D17: =VLOOKUP('640.1'!A90,'640.1'!A90:N351,14,FALSE) -> 4987.0857
A18: 663.1 | B18: TUBERÍA DE PLASTICO TIPO__NORMA___DE DIAMETRO__MM | C18: m | D18: =VLOOKUP('663.1'!A87,'663.1'!A87:N367,14,FALSE) -> 15628.748
A19: 670.1 | B19: DISIPADORES DE ENERGÍA Y SEDIMENTADORES EN GAVIONES DE ALAMBRE DE ACERO ENTRELAZADO CLASE 1: RECUBRIMIENTO DE ZINC (GALVANIZADO) | C19: m3 | D19: =VLOOKUP('670.1'!A87,'670.1'!A87:N368,14,FALSE) -> 212624.19
A20: 670.2 | B20: DISIPADORES DE ENERGÍA Y SEDIMENTADORES EN GAVIONES DE ALAMBRE DE ACERO ENTRELAZADO CLASE 2: RECUBRIMIENTO DE ALEACION ZN-5A1-MM | C20: m3 | D20: =VLOOKUP('670.2'!A87,'670.2'!A87:N369,14,FALSE) -> 245222.45
A21: 670.3 | B21: DISIPADORES DE ENERGÍA Y SEDIMENTADORES EN GAVIONES DE ALAMBRE DE ACERO ENTRELAZADO CLASE 3: RECUBRIMIENTO DE ZINC (GALVANIZADO) Y PVC | C21: m3 | D21: =VLOOKUP('670.3'!A87,'670.3'!A87:N370,14,FALSE) -> 228405.67
A22: 670.5 | B22: DISIPADORES DE ENERGÍA Y SEDIMENTADORES EN CONCRETO CICLOPEO | C22: m3 | D22: =VLOOKUP('670.5'!A89,'670.5'!A89:N372,14,FALSE) -> 282146.48
A23: 671.3 | B23: CUNETA DE CONCRETO VACIADA IN SITU; INCLUYE LA CONFORMACION DE LA SUPERFICIE DE APOYO | C23: m3 | D23: =VLOOKUP('671.3'!A87,'671.3'!A87:N375,14,FALSE) -> 568343.63
A24: 673.1.1 | B24: GEOTEXTIL TIPO NT-2500 O SIMILAR NO TEJIDO | C24: m2 | D24: =VLOOKUP('673.1.1'!A87,'673.1.1'!A87:N381,14,FALSE) -> 7335.7177
A25: 673.2 | B25: MATERIAL GRANULAR DRENANTE | C25: m3 | D25: =VLOOKUP('673.2'!A87,'673.2'!A87:N383,14,FALSE) -> 73470.446
A26: 674.1 | B26: DREN HORIZONTAL DE LONGITUD MENOR O IGUAL A DIEZ (10) METROS. | C26: m | D26: =VLOOKUP('674.1'!A89,'674.1'!A89:N385,14,FALSE) -> 98904.333
A27: 674.2 | B27: DREN HORIZONTAL DE LONGITUD MAYOR A DIEZ (10) METROS. | C27: m | D27: =VLOOKUP('674.2'!A89,'674.2'!A89:N386,14,FALSE) -> 187455.39
A28: 681.1 | B28: GAVIÓNES DE MALLA DE ALAMBRE DE ACERO ENTRELAZADO CLASE 1; RECUBRIMIENTO DE ZINC (GALVANIZADO) | C28: m3 | D28: =VLOOKUP('681.1'!A89,'681.1'!A89:N390,14,FALSE) -> 148119.21
A29: 810.3 | B29: PROTECCIÓN DE TALUDES CON HIDROSIEMBRA CONTROLADA. | C29: m2 | D29: =VLOOKUP('810.3'!A89,'810.3'!A89:N435,14,FALSE) -> 4544.5165
A30: 811.1 | B30: PROTECCION DE TALUDES CON PRODUCTO ENROLLADO PARA CONTROL DE EROSION. DE TIPO MANTO TEMPORAL. SE DEBERA ELABORAR UN ITEM DE PAGO PARA CADA PRODUCTO ENROLLADO QUE SE ESPECIFIQUE EN EL PROYECTO. | C30: m2 | D30: =VLOOKUP('811.1'!A89,'811.1'!A89:N436,14,FALSE) -> 26804.727
A31: 811.2 | B31: PROTECCION DE TALUDES CON PRODUCTO ENROLLADO PARA CONTROL DE EROSION. DE TIPO MANTO PERMANENTE. SE DEBERA ELABORAR UN ITEM DE PAGO PARA CADA PRODUCTO ENROLLADO QUE SE ESPECIFIQUE EN EL PROYECTO. | C31: m2 | D31: =VLOOKUP('811.2'!A89,'811.2'!A89:N437,14,FALSE) -> 29280.055
A32: 812.1 | B32: RECUBRIMIENTO DE TALUDES CON MALLA Y MORTERO 1:4 DE E= 10 CM | C32: m2 | D32: =VLOOKUP('812.1'!A89,'812.1'!A89:N438,14,FALSE) -> 44861.847
A33: 900.1 | B33: TRANSPORTE DE MATERIALES PROVENIENTES DE LA EXCAVACION DE LA EXPLANACION, CANALES Y PRESTAMOS, ENTRE CIEN METROS (100 M) Y MIL METROS (1000 M) DE DISTANCIA | C33: m3-e | D33: =VLOOKUP('900.1'!A88,'900.1'!A88:N441,14,FALSE) -> 1003.0864
A34: 900.2 | B34: TRANSPORTE DE MATERIALES PROVENIENTES DE LA EXCAVACIÓN DE LA EXPLANACIÓN, CANALES Y PRÉSTAMOS PARA DISTANCIAS MAYORES DE MIL METROS (1.000 M) MEDIDO A PARTIR DE CIEN METROS (100 M). | C34: m3-km | D34: =VLOOKUP('900.2'!A88,'900.2'!A88:N442,14,FALSE) -> 1231.0606
A35: 900.3 | B35: TRANSPORTE DE MATERIALES PROVENIENTES DE DERRUMBES, MEDIDO A PARTIR DE CIEN METROS (100 M) | C35: m3-km | D35: =VLOOKUP('900.3'!A88,'900.3'!A88:N443,14,FALSE) -> 1231.0606
A36: 2.P | B36: ESTRUCTURAS DE DRENAJE EN SACOS DE SUELO CEMENTO PROPORCIÓN 5:1 | C36: m2 | D36: =+'2.P CUNETAS suelo C'!N79 -> 35628 | E36: P
A37: 630.4P | B37: SUMINISTRO E INSTALACION DE HEXÁPODO EN CONCRETO CLASE C (INCLUYE ACERO DE REFUERZO GRADO 60 Y ACERO PARA AMARRE ENTRE HEXÁPODOS) | C37: UND | D37: =+'630.4P HEXAPODO'!N95 -> 870610 | E37: P
A38: 3.P | B38: TRINCHOS EN GUADUA CON POSTES DE MADERA | C38: m2 | D38: =+'3P TRINCHO'!N79 -> 33839 | E38: P
A39: 900.4P | B39: TRANSPORTE DE MATERIALES AFIRMADOS, AGREGADOS, RELLENOS, SUB-BASE, BASE Y MEZCLAS ASFALTICAS (a partir de los km asumidos en cada APU) | C39: m3-km | D39: =+'900.4P'!N88 -> 1231.0606 | E39: P
A40: 630.3.2P | B40: BOLSACRETO RESISTENCIA 17,5MPa (CLASE E ) | C40: m3 | D40: =+'630.3.2P bolsac'!N95 -> 589721 | E40: P
...

Sheet MANO DE OBRA
A1: INSTITUTO NACIONAL DE VÍAS DIRECCIÓN TÉCNICA
A3: MANO DE OBRA INCLUIDO FACTOR PRESTACIONAL
D7: Moneda (Pesos $)
A8: A0100130 | B8: día | C8: Armador | D8: 50041.803
A9: A0100150 | B9: día | C9: Ayudante | D9: 45492.548
A10: A0010010 | B10: día | C10: Cadenero | D10: 59140.313
A11: A0100181 | B11: día | C11: Calculista | D11: 343360
A12: A0100140 | B12: día | C12: Cortador | D12: 68238.822
A13: A0100010 | B13: día | C13: Cuadrilla de desmontaje (10 personas) | D13: 500418.03
A14: A0100180 | B14: día | C14: Cuadrilla de fabricación | D14: 272955.29
A15: A0041004 | B15: día | C15: Cuadrilla de Un Oficial y (2) Obreros. | D15: 181970.19
A16: A0041006 | B16: día | C16: Cuadrilla de un oficial y (4) Obreros. | D16: 272955.29
A17: A0100170 | B17: día | C17: Dibujante | D17: 90985.097
A18: A0100182 | B18: día | C18: Dibujante 2 | D18: 81886.587
A19: A0100120 | B19: u | C19: Estudios, análisis e informes | D19: 1819701.9
... A67: A0040110 | B67: día | C67: Celador | D67: 45492.548

Sheet EQUIPOS
A1: INSTITUTO NACIONAL DE VÍAS DIRECCIÓN TÉCNICA
A3: EQUIPOS
C6: EQUIPOS VARIOS | D6: Moneda ($ Pesos)
A7: C0010011 | B7: u | C7: Andamiaje para Aplicar la Carga (Equipos Sustituto de la Tara) | D7: 47481.75
A8: C0010010 | B8: h | C8: Aspersor manual | D8: 1852.7263
A9: C0010020 | B9: h | C9: Barredora mecánica de cepillo de 3658 mm ; 6 m3 | D9: 47726.474
A10: C0010030 | B10: h | C10: Bomba de concreto, Producción: 30 m3/h, POTENCIA: 67 HP, MAX PRESION DE CONCRETO: 1150 PSI | D10: 45220
A11: C0010040 | B11: h | C11: Bomba de inyección de lechada | D11: 19035
A12: C0010034 | B12: h | C12: Bomba eléctrica para accionar la celda | D12: 46300
A13: C0010050 | B13: h | C13: Bomba para gato de tensionamiento | D13: 47587.5
A14: C0010053 | B14: h | C14: Buldozer Potencia al volante de 305 HP, motor de 2100 RPM, longitud de hoja 6,39m. | D14: 206212.5
A15: C0010052 | B15: h | C15: Buldozer, Potencia al volante de 140 HP, motor de 2200 RPM, longitud de hoja 4,80m. | D15: 196350
A16: C0010051 | B16: h | C16: Buldozer, Potencia al volante de 80 HP, motor de 2400 RPM, longitud de hoja 3,99m, | D16: 130900
A17: C0010961 | B17: h | C17: Caldera para pintura termoplástica | D17: 60277.5
A18: C0010090 | B18: h | C18: Calentador a gas | D18: 64375
... A154: C0010960 | B154: h | C154: Volqueta 6 m3 | D154: 62500

Sheet MATERIALES
A1: INSTITUTO NACIONAL DE VÍAS DIRECCIÓN TÉCNICA
A2: MATERIALES
C4: MATERIALES
D5: Moneda ($ Pesos)
A6: B0020001 | B6: kg | C6: Acero A-36 para estructura metálica | D6: 3719.49
A7: B0020004 | B7: kg | C7: Acero A-37 | D7: 3124
A8: B0020002 | B8: kg | C8: Acero A-40 | D8: 3147.7124
A9: B0020003 | B9: kg | C9: Acero PDR-60 | D9: 2856
A10: B002001 | B10: kg | C10: Acero suministrado y figurado PDR 60 | D10: 3000
A11: B003003 | B11: kg | C11: Aditivo Acelerante de Fraguado | D11: 12100
A12: B0030001 | B12: kg | C12: Aditivo curador | D12: 6297.9898
A13: B0043070 | B13: u | C13: Adoquín color 10X20X6 | D13: 950
A14: B0043080 | B14: m2 | C14: Adoquín e=8cm | D14: 43710
A15: B0043090 | B15: u | C15: Adoquín grama 10X20X6 | D15: 740.86608
A16: B0043071 | B16: m2 | C16: Adoquín Gris E=10 Cm | D16: 47500
A17: B0063201 | B17: lt | C17: Aglomerante Estabilizador | D17: 10252.549
... A372: B0015361 | B372: kg | C372: Varilla 5/8 | D372: 2500

Sheet TRANSPORTE
A1: INSTITUTO NACIONAL DE VÍAS DIRECCIÓN TÉCNICA
A2: TRANSPORTE
A6: T0010031 | B6: m3k | C6: Transporte de Material de Remoción | D6: =+'900.2'!$N$78 -> 946.9697
A7: T0010234 | B7: m3k | C7: Transporte de Mezcla Abierta en Frio MAF-38 | D7: =+'900.2'!$N$78 -> 946.9697
A8: T0010272 | B8: m3k | C8: Transporte de Mezcla densa en Caliente MDC-25 | D8: =+'900.2'!$N$78 -> 946.9697
A9: T0010002 | B9: tkm | C9: Transporte de agregado | D9: =+'900.2'!$N$78 -> 946.9697
A10: T0010400 | B10: m3k | C10: Transporte de agregado pétreo | D10: =+'900.2'!$N$78 -> 946.9697
A11: T0010170 | B11: m3k | C11: Transporte de agregado tipo LA-1 | D11: =+'900.2'!$N$78 -> 946.9697
A12: T0010180 | B12: m3k | C12: Transporte de agregado tipo LA-2 | D12: =+'900.2'!$N$78 -> 946.9697
A13: T0010190 | B13: m3k | C13: Transporte de agregado tipo LA-3 | D13: =+'900.2'!$N$78 -> 946.9697
A14: T0010200 | B14: m3k | C14: Transporte de agregado tipo LA-4 | D14: =+'900.2'!$N$78 -> 946.9697
A15: T0010110 | B15: m3k | C15: Transporte de agregados pétreos | D15: =+'900.2'!$N$78 -> 946.9697
A16: T0010003 | B16: m3k | C16: Transporte de Arena | D16: =+'900.2'!$N$78 -> 946.9697
A17: T0010004 | B17: m3k | C17: Transporte de arena | D17: =+'900.2'!$N$78 -> 946.9697
... A92: T0010038 | B92: m3k | C92: Trasporte de material Remoción de Postes | D92: =+'900.2'!$N$78 -> 946.9697
A93: T0015012 | B93: km | C93: Equipo de Transporte (Camiones Grúas | D93: 54.73806
A94: T0010440 | B94: u | C94: Pasajes aéreos | D94: 300000
A95: T0010001 | B95: tkm | C95: Transporte de acero | D95: 0.29694158
A96: T0010011 | B96: m3k | C96: Transporte de Adoquín e=8cm | D96: 1172.1089
A97: T0010053 | B97: m3k | C97: Transporte de barrera de seguridad | D97: 1120
A98: T0010008 | B98: u | C98: Transporte de defensa | D98: 22100
A99: T0010021 | B99: m3k | C99: Transporte de Defensa Metálica | D99: 1015
A100: T0010120 | B100: m3t | C100: Transporte de emulsión | D100: 1050
A101: T0010420 | B101: m3k | C101: Transporte de equipos | D101: 3631.2924
A102: T0010421 | B102: g | C102: Transporte de Equipos para Prueba (1) | D102: 129350
A103: T0010162 | B103: kgk | C103: Transporte de estructura metálica (En Obra) | D103: 0.448
A104: T0010160 | B104: kgk | C104: Transporte de estructuras metálicas | D104: 0.29694158
... A117: T0010081 | B117: u | C117: Trasporte de Torre | D117: 503370

Sheet MINFRA-MN-IN-10-FR-1
J1: CÓDIGO | K1: MINFRA-MN-IN-10-FR-1
B2: INSTITUTO NACIONAL DE VIAS
B3: PROCESO GESTIÓN DE LA INFRAESTRUCTURA VIAL | J3: VERSIÓN | K3: 1
B4: MANUAL DE INTERVENTORÍA OBRA PÚBLICA
B5: ANÁLISIS DE PRECIOS UNITARIOS | J5: PÁGINA | L5: DE
J8: FECHA
K9: (Día) | L9: (Mes) | M9: (Año)
A10: ITEMS DE LA PROPUESTA ECONÓMICA | E10: □ | H10: ITEMS NO PREVISTOS | J10: □
A11: UNIDAD EJECUTORA: | I11: DIRECCIÓN TERRITORIAL:
A14: CONTRATO No. | C14: DE
A15: OBJETO DEL CONTRATO:
A18: CARRETERA: | I18: SECTOR:
A20: CONTRATISTA:
A22: INTERVENTOR: | J22: CTO No.: | L22: DE
A24: FECHA CIERRE PROCESO DE SELECCIÓN CONTRATO DE OBRA:
E25: (Día) | H25: (Mes) | I25: (Año)
A27: DATOS ESPECÍFICOS
A29: ITEM | B29: DESCRIPCIÓN | J29: GRUPO DE AJUSTE | K29: UNIDAD | M29: CANTIDAD
A32: I. EQUIPO
A34: DESCRIPCIÓN | H34: TIPO | J34: TARIFA/HORA | K34: RENDIMIENTO | M34: Vr. UNITARIO
A37: SUBTOTAL $ | M37: 0
A39: II. MATERIALES
A41: DESCRIPCIÓN | I41: UNIDAD | J41: CANTIDAD | K41: PRECIO UNIT. | M41: Vr. UNITARIO
A44: SUBTOTAL $ | M44: 0
A46: III. TRANSPORTES
A48: MATERIAL | G48: UNIDAD | H48: CANTIDAD (1) | I48: DISTANCIA (2) | J48: CANTIDAD * DISTANCIA (1) * (2) | K48: TARIFA | M48: Vr. UNITARIO
A51: SUBTOTAL $ | M51: 0
A53: IV. MANO DE OBRA
A55: DESCRIPCIÓN | H55: JORNAL | I55: PRESTACIONES | J55: JORNAL TOTAL | K55: RENDIMIENTO | M55: Vr. UNITARIO
A58: SUBTOTAL $ | M58: 0
A60: TOTAL COSTO DIRECTO $ | M60: 0
A62: V. COSTOS INDIRECTOS
A64: DESCRIPCIÓN | J64: Porcentaje | K64: Valor Total
A65: ADMINISTRACIÓN
A66: IMPREVISTOS
A67: UTILIDAD
A68: SUBTOTAL $ | M68: 0
A70: Precio Unitario Total Aproximado al peso $ | M70: =ROUND(M60+M68,0) -> 0
D75: Firma
D76: Nombre:
...

Sheet 450.10P
K1: CÓDIGO | L1: MINFRA-MN-IN-10-FR-1
C2: INSTITUTO NACIONAL DE VIAS
C3: PROCESO GESTIÓN DE LA INFRAESTRUCTURA VIAL | K3: VERSIÓN | L3: 1
C4: MANUAL DE INTERVENTORÍA OBRA PÚBLICA
C5: ANÁLISIS DE PRECIOS UNITARIOS | K5: PÁGINA | M5: DE
K8: FECHA
L9: (Día) | M9: (Mes) | N9: (Año)
B10: ITEMS DE LA PROPUESTA ECONÓMICA | F10: □ | I10: ITEMS NO PREVISTOS | K10: □
B11: UNIDAD EJECUTORA: | J11: DIRECCIÓN TERRITORIAL:
B14: CONTRATO No. | D14: DE
B15: OBJETO DEL CONTRATO:
B18: CARRETERA: | J18: SECTOR:
B20: CONTRATISTA:
B22: INTERVENTOR: | K22: CTO No.: | M22: DE
B24: FECHA CIERRE PROCESO DE SELECCIÓN CONTRATO DE OBRA:
F25: (Día) | I25: (Mes) | J25: (Año)
B27: DATOS ESPECÍFICOS
B29: ITEM | C29: DESCRIPCIÓN | K29: GRUPO DE AJUSTE | L29: UNIDAD | N29: CANTIDAD
B30: ITEM | C30: DESCRIPCIÓN | L30: UNIDAD | N30: CANTIDAD
A31: Unidad | B31: 450.10P | C31: Mezcla en Caliente para Bacheo MSC-25 (INCLUYE CEMENTO ASFÁLTICO) | L31: m3
B33: I. EQUIPO
B35: DESCRIPCIÓN | I35: TIPO | K35: TARIFA/HORA | L35: RENDIMIENTO | N35: Vr. UNITARIO
A36: C0010140 | B36: =VLOOKUP(A36,EQUIPOS!A6:D154,3,FALSE) -> Cargador : Potencia en el volante 125 hp, Clasificación de RPM del motor 2300. | K36: =VLOOKUP(A36,EQUIPOS!A6:D163,4,FALSE) -> 196350 | M36: 30 | N36: =K36/M36 -> 6545
A37: C0010230 | B37: =VLOOKUP(A37,EQUIPOS!A7:D154,3,FALSE) -> Compactador neumático de Potencia 70 HP, peso de 13 ton | K37: =VLOOKUP(A37,EQUIPOS!A7:D164,4,FALSE) -> 125082.57 | M37: 8 | N37: =K37/M37 -> 15635.321
A38: C0010211 | B38: =VLOOKUP(A38,EQUIPOS!A8:D154,3,FALSE) -> Compactador de Rodillo POTENCIA: 99HP, PESO: 8 ton | K38: =VLOOKUP(A38,EQUIPOS!A8:D165,4,FALSE) -> 98600 | M38: 8 | N38: =K38/M38 -> 12325
A39: C0010660 | B39: =VLOOKUP(A39,EQUIPOS!A9:D154,3,FALSE) -> Planta de asfalto en caliente | K39: =VLOOKUP(A39,EQUIPOS!A9:D166,4,FALSE) -> 645075 | M39: 8 | N39: =K39/M39 -> 80634.375
A40: C0010690 | B40: =VLOOKUP(A40,EQUIPOS!A10:D154,3,FALSE) -> Planta trituradora | K40: =VLOOKUP(A40,EQUIPOS!A10:D167,4,FALSE) -> 476192.25 | M40: 30 | N40: =K40/M40 -> 15873.075
A41: C0010810 | B41: =VLOOKUP(A41,EQUIPOS!A11:D155,3,FALSE) -> Retroexcavadora E-200 sobre orugas | K41: =VLOOKUP(A41,EQUIPOS!A11:D168,4,FALSE) -> 166600 | M41: 30 | N41: =K41/M41 -> 5553.3333
A42: C0010910 | B42: =VLOOKUP(A42,EQUIPOS!A12:D156,3,FALSE) -> Terminadora de asfalto (Finisher), potencia en el volante 174 HP, R=20M3/H, velocidad de desplazamiento 114 m/min | K42: =VLOOKUP(A42,EQUIPOS!A12:D169,4,FALSE) -> 285600 | M42: 8 | N42: =K42/M42 -> 35700
A43: C0010960 | B43: =VLOOKUP(A43,EQUIPOS!A13:D157,3,FALSE) -> Volqueta 6 m3 | K43: =VLOOKUP(A43,EQUIPOS!A13:D170,4,FALSE) -> 62500 | M43: 8 | N43: =K43/M43 -> 7812.5
B46: HERRAMIENTA MENOR (%) | M46: 0.1 | N46: =N80*M46 -> 821.39323
B48: SUBTOTAL $ | N48: =SUM(N36:N47) -> 180900
B50: II. MATERIALES
B52: DESCRIPCIÓN | J52: UNIDAD | K52: CANTIDAD | L52: PRECIO UNIT. | N52: Vr. UNITARIO
A53: B0053191 | B53: =VLOOKUP(A53,MATERIALES!A5:D373,3,FALSE) -> Agregado Petreo para Triturar (Crudo) | J53: =VLOOKUP(A53,MATERIALES!A7:D645,2,FALSE) -> m3 | K53: 1.4 | M53: =VLOOKUP(A53,MATERIALES!A5:D396,4,FALSE) -> 24125.332 | N53: =K53*M53 -> 33775.465
A54: B0063200 | B54: =VLOOKUP(A54,MATERIALES!A6:D373,3,FALSE) -> Agua | J54: =VLOOKUP(A54,MATERIALES!A8:D646,2,FALSE) -> lt | K54: 25 | M54: =VLOOKUP(A54,MATERIALES!A6:D397,4,FALSE) -> 35.65649 | N54: =K54*M54 -> 891.41225
A55: B0103490 | B55: =VLOOKUP(A55,MATERIALES!A7:D374,3,FALSE) -> Cemento Asfaltico 60-70 | J55: =VLOOKUP(A55,MATERIALES!A9:D647,2,FALSE) -> kg | K55: =+K53*5%*1800 -> 126 | M55: =VLOOKUP(A55,MATERIALES!A7:D398,4,FALSE) -> 1610.07 | N55: =K55*M55 -> 202868.82
B58: SUBTOTAL $ | N58: =SUM(N53:N57) -> 237535.7
B60: III. TRANSPORTES
B62: MATERIAL | H62: UNIDAD | I62: CANTIDAD (1) | J62: DISTANCIA (2) | K62: (1) * (2) | L62: TARIFA | N62: Vr. UNITARIO
...

Sheet 630.3.2P bolsac
K1: CÓDIGO | L1: MINFRA-MN-IN-10-FR-1
C2: INSTITUTO NACIONAL DE VIAS
C3: PROCESO GESTIÓN DE LA INFRAESTRUCTURA VIAL | K3: VERSIÓN | L3: 1
C4: MANUAL DE INTERVENTORÍA OBRA PÚBLICA
C5: ANÁLISIS DE PRECIOS UNITARIOS | K5: PÁGINA | M5: DE
K8: FECHA
L9: (Día) | M9: (Mes) | N9: (Año)
B10: ITEMS DE LA PROPUESTA ECONÓMICA | F10: □ | I10: ITEMS NO PREVISTOS | K10: □
B11: UNIDAD EJECUTORA: | J11: DIRECCIÓN TERRITORIAL:
B14: CONTRATO No. | D14: DE
B15: OBJETO DEL CONTRATO:
B18: CARRETERA: | J18: SECTOR:
B20: CONTRATISTA:
B22: INTERVENTOR: | K22: CTO No.: | M22: DE
B24: FECHA CIERRE PROCESO DE SELECCIÓN CONTRATO DE OBRA:
F25: (Día) | I25: (Mes) | J25: (Año)
B27: DATOS ESPECÍFICOS
B29: ITEM | C29: DESCRIPCIÓN | K29: GRUPO DE AJUSTE | L29: UNIDAD | N29: CANTIDAD
B30: ITEM | C30: DESCRIPCIÓN | L30: UNIDAD | N30: CANTIDAD
A31: Unidad | B31: 630.3.2P | C31: BOLSACRETO RESISTENCIA 17,5MPa (CLASE E ) | L31: m3
B33: I. EQUIPO
B35: DESCRIPCIÓN | I35: TIPO | K35: TARIFA/HORA | L35: RENDIMIENTO | N35: Vr. UNITARIO
A37: C0010550 | B37: =VLOOKUP(A37,EQUIPOS!A7:D154,3,FALSE) -> Mezcladora de concreto 1 bulto | K37: =VLOOKUP(A37,EQUIPOS!A7:D164,4,FALSE) -> 5625 | M37: 1 | N37: =K37/M37 -> 5625
A38: C0010030 | B38: =VLOOKUP(A38,EQUIPOS!A8:D154,3,FALSE) -> Bomba de concreto, Producción: 30 m3/h, POTENCIA: 67 HP, MAX PRESION DE CONCRETO: 1150 PSI | K38: =VLOOKUP(A38,EQUIPOS!A8:D165,4,FALSE) -> 45220 | M38: 1 | N38: =K38/M38 -> 45220
B46: HERRAMIENTA MENOR (%) | M46: 0.05 | N46: =N83*M46 -> 2274.6274
B48: SUBTOTAL $ | N48: =SUM(N36:N47) -> 53119.627
B50: II. MATERIALES
B52: DESCRIPCIÓN | J52: UNIDAD | K52: CANTIDAD | L52: PRECIO UNIT. | N52: Vr. UNITARIO
A53: B0013430 | B53: =VLOOKUP(A53,MATERIALES!A5:D373,3,FALSE) -> Bolsacreto de 1m3 | J53: =VLOOKUP(A53,MATERIALES!A7:D645,2,FALSE) -> m3 | K53: 1 | M53: =VLOOKUP(A53,MATERIALES!A5:D396,4,FALSE) -> 20807 | N53: =K53*M53 -> 20807
A54: B003003 | B54: =VLOOKUP(A54,MATERIALES!A6:D373,3,FALSE) -> Aditivo Acelerante de Fraguado | J54: =VLOOKUP(A54,MATERIALES!A8:D646,2,FALSE) -> kg | K54: 8.75 | M54: =VLOOKUP(A54,MATERIALES!A6:D397,4,FALSE) -> 12100 | N54: =K54*M54 -> 105875
A55: B0053100 | B55: =VLOOKUP(A55,MATERIALES!A6:D373,3,FALSE) -> Agregado para concreto hidráulico | J55: =VLOOKUP(A55,MATERIALES!A9:D647,2,FALSE) -> m3 | K55: 0.95 | M55: =VLOOKUP(A55,MATERIALES!A6:D398,4,FALSE) -> 55110.85 | N55: =K55*M55 -> 52355.308
A56: B0063200 | B56: =VLOOKUP(A56,MATERIALES!A6:D373,3,FALSE) -> Agua | J56: =VLOOKUP(A56,MATERIALES!A10:D648,2,FALSE) -> lt | K56: 170 | M56: =VLOOKUP(A56,MATERIALES!A6:D399,4,FALSE) -> 35.65649 | N56: =K56*M56 -> 6061.6033
A57: B0093350 | B57: =VLOOKUP(A57,MATERIALES!A7:D373,3,FALSE) -> Arena lavada | J57: =VLOOKUP(A57,MATERIALES!A11:D649,2,FALSE) -> m3 | K57: 0.55 | L57: =VLOOKUP(A57,MATERIALES!A4:D373,4,FALSE) -> 50000 | N57: =K57*L57 -> 27500
A58: B0100001 | B58: =VLOOKUP(A58,MATERIALES!A8:D374,3,FALSE) -> Cemento gris | J58: =VLOOKUP(A58,MATERIALES!A12:D650,2,FALSE) -> kg | K58: 300 | L58: =VLOOKUP(A58,MATERIALES!A5:D374,4,FALSE) -> 470 | N58: =K58*L58 -> 141000
B61: SUBTOTAL $ | N61: =SUM(N53:N60) -> 353598.91
B63: III. TRANSPORTES
B65: MATERIAL | H65: UNIDAD | I65: CANTIDAD (1) | J65: DISTANCIA (2) | K65: (1) * (2) | L65: TARIFA | N65: Vr. UNITARIO
A66: T0010004 | B66: =VLOOKUP(A66,TRANSPORTE!A5:D117,3,FALSE) -> Transporte de arena | H66: m3km | I66: =+K57 -> 0.55 | J66: 1 | K66: =I66*J66 -> 0.55 | L66: =VLOOKUP(A66,TRANSPORTE!A5:D117,4,FALSE) -> 946.9697 | N66: =K66*L66 -> 520.83333
A67: T0010042 | B67: =VLOOKUP(A67,TRANSPORTE!A6:D118,3,FALSE) -> Transporte de material triturado | H67: m3km | I67: =+K55 -> 0.95 | J67: 1 | K67: =I67*J67 -> 0.95 | L67: =VLOOKUP(A67,TRANSPORTE!A6:D118,4,FALSE) -> 946.9697 | N67: =K67*L67 -> 899.62121
B72: SUBTOTAL $ | N72: =N66+N67+N68+N69+N70 -> 1420.4545
...

Sheet 630.4P HEXAPODO
K1: CÓDIGO | L1: MINFRA-MN-IN-10-FR-1
C2: INSTITUTO NACIONAL DE VIAS
C3: PROCESO GESTIÓN DE LA INFRAESTRUCTURA VIAL | K3: VERSIÓN | L3: 1
C4: MANUAL DE INTERVENTORÍA OBRA PÚBLICA
C5: ANÁLISIS DE PRECIOS UNITARIOS | K5: PÁGINA | M5: DE
K8: FECHA
L9: (Día) | M9: (Mes) | N9: (Año)
B10: ITEMS DE LA PROPUESTA ECONÓMICA | F10: □ | I10: ITEMS NO PREVISTOS | K10: □
B11: UNIDAD EJECUTORA: | J11: DIRECCIÓN TERRITORIAL:
B14: CONTRATO No. | D14: DE
B15: OBJETO DEL CONTRATO:
B18: CARRETERA: | J18: SECTOR:
B20: CONTRATISTA:
B22: INTERVENTOR: | K22: CTO No.: | M22: DE
B24: FECHA CIERRE PROCESO DE SELECCIÓN CONTRATO DE OBRA:
F25: (Día) | I25: (Mes) | J25: (Año)
B27: DATOS ESPECÍFICOS
B29: ITEM | C29: DESCRIPCIÓN | K29: GRUPO DE AJUSTE | L29: UNIDAD | N29: CANTIDAD
B30: ITEM | C30: DESCRIPCIÓN | L30: UNIDAD | N30: CANTIDAD
A31: Unidad | B31: 630.4P | C31: SUMINISTRO E INSTALACION DE HEXÁPODO EN CONCRETO CLASE C (INCLUYE ACERO DE REFUERZO GRADO 60 Y ACERO PARA AMARRE ENTRE HEXÁPODOS) | L31: UND
B33: I. EQUIPO
B35: DESCRIPCIÓN | I35: TIPO | K35: TARIFA/HORA | L35: RENDIMIENTO | N35: Vr. UNITARIO
M36: =+M77/8 -> 0.75 | P36: VOLUMEN HEXAPODO
A37: C0010820 | B37: =VLOOKUP(A37,EQUIPOS!A7:D154,3,FALSE) -> Retroexcavadora E-200 sobre orugas trabajo en rio | K37: =VLOOKUP(A37,EQUIPOS!A7:D164,4,FALSE) -> 170000 | M37: 10 | N37: =K37/M37 -> 17000 | P37: =((0.4+R38)/2*(0.4+R38)/2)*R37*6+R38*R38*R38 -> 1.005056 | R37: 0.6 | S37: L
A38: C0010922 | B38: =VLOOKUP(A38,EQUIPOS!A8:D154,3,FALSE) -> Vibrador de concreto, Motor de 3 hp a 18.000 rpm Mangueras de 4 mt | K38: =VLOOKUP(A38,EQUIPOS!A8:D165,4,FALSE) -> 4930.1736 | M38: =+M36 -> 0.75 | N38: =K38/M38 -> 6573.5648 | P38: =0.45*0.7*4*6+0.35*0.35*5 -> 8.1725 | R38: 0.56 | S38: C
B46: HERRAMIENTA MENOR (%) | M46: 0.05 | N46: =N83*M46 -> 1895.5228
B48: SUBTOTAL $ | N48: =SUM(N36:N47) -> 25469.088
B50: II. MATERIALES
B52: DESCRIPCIÓN | J52: UNIDAD | K52: CANTIDAD | L52: PRECIO UNIT. | N52: Vr. UNITARIO
A53: B0020003 | B53: =VLOOKUP(A53,MATERIALES!A5:D373,3,FALSE) -> Acero PDR-60 | J53: =VLOOKUP(A53,MATERIALES!A7:D645,2,FALSE) -> kg | K53: 42 | M53: =VLOOKUP(A53,MATERIALES!A5:D396,4,FALSE) -> 2856 | N53: =K53*M53 -> 119952
A54: B003003 | B54: =VLOOKUP(A54,MATERIALES!A6:D373,3,FALSE) -> Aditivo Acelerante de Fraguado | J54: =VLOOKUP(A54,MATERIALES!A8:D646,2,FALSE) -> kg | K54: 0.5 | M54: =VLOOKUP(A54,MATERIALES!A6:D397,4,FALSE) -> 12100 | N54: =K54*M54 -> 6050
A55: B0073230 | B55: =VLOOKUP(A55,MATERIALES!A6:D373,3,FALSE) -> Alambre negro para amarre calibre 18 | J55: =VLOOKUP(A55,MATERIALES!A9:D647,2,FALSE) -> kg | K55: 0.5 | M55: =VLOOKUP(A55,MATERIALES!A6:D398,4,FALSE) -> 3800 | N55: =K55*M55 -> 1900
A56: B0123620 | B56: =VLOOKUP(A56,MATERIALES!A6:D373,3,FALSE) -> Concreto Resistencia 28 (Mpa) | J56: =VLOOKUP(A56,MATERIALES!A10:D648,2,FALSE) -> m3 | K56: =+P37 -> 1.005056 | M56: =VLOOKUP(A56,MATERIALES!A6:D399,4,FALSE) -> 443156 | N56: =K56*M56 -> 445396.6
A57: B021007 | B57: =VLOOKUP(A57,MATERIALES!A7:D373,3,FALSE) -> FORMALETA (Depende para que sea el Concreto) | J57: =VLOOKUP(A57,MATERIALES!A11:D649,2,FALSE) -> m2 | K57: =+ROUND(P38*8/20,2) -> 3.27 | L57: =VLOOKUP(A57,MATERIALES!A4:D373,4,FALSE) -> 9806.0105 | N57: =K57*L57 -> 32065.654
B61: SUBTOTAL $ | N61: =SUM(N53:N60) -> 605364.25
B63: III. TRANSPORTES
B65: MATERIAL | H65: UNIDAD | I65: CANTIDAD (1) | J65: DISTANCIA (2) | K65: (1) * (2) | L65: TARIFA | N65: Vr. UNITARIO
A66: T0010009 | B66: =VLOOKUP(A66,TRANSPORTE!A5:D117,3,FALSE) -> Transporte de concreto | H66: m3km | I66: 1.01 | J66: 1 | K66: =I66*J66 -> 1.01 | L66: =VLOOKUP(A66,TRANSPORTE!A5:D117,4,FALSE) -> 946.9697 | N66: =K66*L66 -> 956.43939
B72: SUBTOTAL $ | N72: =N66+N67+N68+N69+N70 -> 956.43939
B74: IV. MANO DE OBRA
...

Sheet 900.4P
K1: CÓDIGO | L1: MINFRA-MN-IN-10-FR-1
C2: INSTITUTO NACIONAL DE VIAS
C3: PROCESO GESTIÓN DE LA INFRAESTRUCTURA VIAL | K3: VERSIÓN | L3: 1
C4: MANUAL DE INTERVENTORÍA OBRA PÚBLICA
C5: ANÁLISIS DE PRECIOS UNITARIOS | K5: PÁGINA | M5: DE
K8: FECHA
L9: (Día) | M9: (Mes) | N9: (Año)
B10: ITEMS DE LA PROPUESTA ECONÓMICA | F10: □ | I10: ITEMS NO PREVISTOS | K10: □
B11: UNIDAD EJECUTORA: | J11: DIRECCIÓN TERRITORIAL:
B14: CONTRATO No. | D14: DE
B15: OBJETO DEL CONTRATO:
B18: CARRETERA: | J18: SECTOR:
B20: CONTRATISTA:
B22: INTERVENTOR: | K22: CTO No.: | M22: DE
B24: FECHA CIERRE PROCESO DE SELECCIÓN CONTRATO DE OBRA:
F25: (Día) | I25: (Mes) | J25: (Año)
B27: DATOS ESPECÍFICOS
B29: ITEM | C29: DESCRIPCIÓN | K29: GRUPO DE AJUSTE | L29: UNIDAD | N29: CANTIDAD
B30: ITEM | C30: DESCRIPCIÓN | L30: UNIDAD | N30: CANTIDAD
A31: Unidad | B31: 900.4P | C31: TRANSPORTE DE MATERIALES AFIRMADOS, AGREGADOS, RELLENOS, SUB-BASE, BASE Y MEZCLAS ASFALTICAS (a partir de los km asumidos en cada APU) | L31: m3-km
B33: I. EQUIPO
B35: DESCRIPCIÓN | I35: TIPO | K35: TARIFA/HORA | L35: RENDIMIENTO | N35: Vr. UNITARIO
A36: C0010960 | B36: =VLOOKUP(A36,EQUIPOS!A6:D154,3,FALSE) -> Volqueta 6 m3 | K36: =VLOOKUP(A36,EQUIPOS!A6:D161,4,FALSE) -> 62500 | M36: 66 | N36: =K36/M36 -> 946.9697
B43: SUBTOTAL $ | N43: =SUM(N36:N42) -> 946.9697
B45: II. MATERIALES
B47: DESCRIPCIÓN | J47: UNIDAD | K47: CANTIDAD | L47: PRECIO UNIT. | N47: Vr. UNITARIO
B54: SUBTOTAL $
B56: III. TRANSPORTES
B58: MATERIAL | H58: UNIDAD | I58: CANTIDAD (1) | J58: DISTANCIA (2) | K58: (1) * (2) | L58: TARIFA | N58: Vr. UNITARIO
B65: SUBTOTAL $
B67: IV. MANO DE OBRA
B69: TRABAJADOR | I69: JORNAL | J69: PRESTACIONES (%) | K69: JORNAL TOTAL | L69: RENDIMIENTO | N69: Vr. UNITARIO
B76: SUBTOTAL $
B78: TOTAL COSTO DIRECTO $ | N78: =N43+N54+N65+N76 -> 946.9697
B80: V. COSTOS INDIRECTOS
B82: Descripción | K82: Porcentaje | L82: Valor Total
B83: ADMINISTRACION | K83: 0.2 | L83: =N78*K83 -> 189.39394
B84: IMPREVISTOS | K84: 0.05 | L84: =N78*K84 -> 47.348485
B85: UTILIDAD | K85: 0.05 | L85: =N78*K85 -> 47.348485
B86: SUBTOTAL $ | N86: =L83+L84+L85 -> 284.09091
...

Sheet 2.P CUNETAS suelo C
K1: CÓDIGO | L1: MINFRA-MN-FR-14
C2: INSTITUTO NACIONAL DE VIAS
C3: PROCESO MISIONAL INFRAESTRUCTURA VIAL | K3: VERSIÓN | L3: 1
C4: DIRECCION TECNICA
C5: ANALISIS DE PRECIOS UNITARIOS | K5: PÁGINA | L5: 1 | M5: DE | N5: 1
K9: FECHA | L9: DD | M9: MM | N9: AA
B11: UNIDAD EJECUTORA: | K11: DIRECCIÓN TERRITORIAL:
B17: CONTRATO No. | E17: DE
B18: OBJETO DEL CONTRATO
B21: CONTRATISTA
B23: INTERVENTOR
B26: FECHA CIERRE DE LICITACIÓN Y/O SELECCIÓN ABREVIADA
B28: DATOS ESPECÍFICOS
B29: ITEM | C29: DESCRIPCIÓN | L29: UNIDAD | N29: CANTIDAD
A30: Unidad | B30: 2.P | C30: ESTRUCTURAS DE DRENAJE EN SACOS DE SUELO CEMENTO PROPORCIÓN 5:1 | L30: M2
B32: I. EQUIPO
B34: DESCRIPCIÓN | I34: TIPO | K34: TARIFA/HORA | L34: RENDIMIENTO | N34: Vr. UNITARIO
B37: HERRAMIENTA MENOR (%) | M37: 0.05 | N37: =N67*M37 -> 758.20914
B38: SUBTOTAL $ | N38: =SUM(N35:N37) -> 758.20914
B40: II. MATERIALES
B42: DESCRIPCIÓN | J42: UNIDAD | K42: CANTIDAD | L42: PRECIO UNIT. | N42: Vr. UNITARIO
A43: B0100001 | B43: =VLOOKUP(A43,MATERIALES!A5:D373,3,FALSE) -> Cemento gris | J43: =VLOOKUP(A43,MATERIALES!A4:D640,2,FALSE) -> kg | K43: =320*0.06 -> 19.2 | M43: =VLOOKUP(A43,MATERIALES!A5:D397,4,FALSE) -> 470 | N43: =K43*M43 -> 9024
A44: B0063200 | B44: =VLOOKUP(A44,MATERIALES!A6:D374,3,FALSE) -> Agua | J44: =VLOOKUP(A44,MATERIALES!A5:D641,2,FALSE) -> lt | K44: 30 | M44: =VLOOKUP(A44,MATERIALES!A6:D398,4,FALSE) -> 35.65649 | N44: =K44*M44 -> 1069.6947
A45: B0013740 | B45: =VLOOKUP(A45,MATERIALES!A7:D375,3,FALSE) -> Costal de fibra o fique | J45: =VLOOKUP(A45,MATERIALES!A6:D642,2,FALSE) -> m2 | K45: 2 | M45: =VLOOKUP(A45,MATERIALES!A7:D399,4,FALSE) -> 695.04365 | N45: =K45*M45 -> 1390.0873
B48: SUBTOTAL $ | N48: =SUM(N43:N47) -> 11483.782
B50: III. TRANSPORTES
B52: MATERIAL | H52: UNIDAD | I52: CANTIDAD (1) | J52: DISTANCIA (2) | K52: (1) * (2) | L52: TARIFA | N52: Vr. UNITARIO
B57: SUBTOTAL $ | N57: =N53+N54+N55+N56 -> 0
B59: IV. MANO DE OBRA
B61: TRABAJADOR | I61: JORNAL | J61: PRESTACIONES (%) | K61: JORNAL TOTAL | L61: RENDIMIENTO | N61: Vr. UNITARIO
A63: A0030020 | B63: =VLOOKUP(A63,'MANO DE OBRA'!A1:D61,3,FALSE) -> Obrero (2) | I63: =K63/J63*100 -> 49181.133 | J63: 185 | K63: =VLOOKUP(A63,'MANO DE OBRA'!A1:D92,4,FALSE) -> 90985.097 | M63: 12 | N63: =K63/M63 -> 7582.0914
A64: A0040010 | B64: =VLOOKUP(A64,'MANO DE OBRA'!A2:D62,3,FALSE) -> Oficial | I64: =K64/J64*100 -> 49181.133 | J64: 185 | K64: =VLOOKUP(A64,'MANO DE OBRA'!A2:D93,4,FALSE) -> 90985.097 | M64: =+M63 -> 12 | N64: =K64/M64 -> 7582.0914
B67: SUBTOTAL $ | N67: =SUM(N62:N66) -> 15164.183
B69: TOTAL COSTO DIRECTO $ | N69: =N38+N48+N57+N67 -> 27406.174
B71: V. COSTOS INDIRECTOS
B73: Descripción | K73: Porcentaje | L73: Valor Total
B74: ADMINISTRACION | K74: 0.2 | L74: =N69*K74 -> 5481.2348
B75: IMPREVISTOS | K75: 0.05 | L75: =N69*K75 -> 1370.3087
B76: UTILIDAD | K76: 0.05 | L76: =N69*K76 -> 1370.3087
B77: SUBTOTAL $ | N77: =L74+L75+L76 -> 8221.8522
...

Sheet 681.1P GAVION SUELO
K1: CÓDIGO | L1: MINFRA-MN-IN-10-FR-1
C2: INSTITUTO NACIONAL DE VIAS
C3: PROCESO GESTIÓN DE LA INFRAESTRUCTURA VIAL | K3: VERSIÓN | L3: 1
C4: MANUAL DE INTERVENTORÍA OBRA PÚBLICA
C5: ANÁLISIS DE PRECIOS UNITARIOS | K5: PÁGINA | M5: DE
K8: FECHA
L9: (Día) | M9: (Mes) | N9: (Año)
B10: ITEMS DE LA PROPUESTA ECONÓMICA | F10: □ | I10: ITEMS NO PREVISTOS | K10: □
B11: UNIDAD EJECUTORA: | J11: DIRECCIÓN TERRITORIAL:
B14: CONTRATO No. | D14: DE
B15: OBJETO DEL CONTRATO:
B18: CARRETERA: | J18: SECTOR:
B20: CONTRATISTA:
B22: INTERVENTOR: | K22: CTO No.: | M22: DE
B24: FECHA CIERRE PROCESO DE SELECCIÓN CONTRATO DE OBRA:
F25: (Día) | I25: (Mes) | J25: (Año)
B27: DATOS ESPECÍFICOS
B29: ITEM | C29: DESCRIPCIÓN | K29: GRUPO DE AJUSTE | L29: UNIDAD | N29: CANTIDAD
B30: ITEM | C30: DESCRIPCIÓN | L30: UNIDAD | N30: CANTIDAD
A31: Unidad | B31: 681.1P | C31: Gavión relleno de suelo con geotextil, de Malla de Alambre de Acero Entrelazado Clase 1; recubrimiento de Zinc (galvanizado) | L31: m3
B33: I. EQUIPO
B35: DESCRIPCIÓN | I35: TIPO | K35: TARIFA/HORA | L35: RENDIMIENTO | N35: Vr. UNITARIO
B41: HERRAMIENTA MENOR (%) | M41: 0.05 | N41: =N77*M41 -> 1364.7765
B43: SUBTOTAL $ | N43: =SUM(N36:N41) -> 1364.7765
B45: II. MATERIALES
B47: DESCRIPCIÓN | J47: UNIDAD | K47: CANTIDAD | L47: PRECIO UNIT. | N47: Vr. UNITARIO
A49: B0073220 | B49: =VLOOKUP(A49,MATERIALES!A6:D373,3,FALSE) -> Alambre galvanizado No. 12 | J49: =VLOOKUP(A49,MATERIALES!A5:D641,2,FALSE) -> kg | K49: 1.15 | M49: =VLOOKUP(A49,MATERIALES!A6:D397,4,FALSE) -> 4600 | N49: =K49*M49 -> 5290
A50: B021001 | B50: =VLOOKUP(A50,MATERIALES!A6:D373,3,FALSE) -> Formaleta (gaviones, juntas de bordillos, juntas de cunetas, muros, concretos clase D,E, F y G) | J50: =VLOOKUP(A50,MATERIALES!A6:D642,2,FALSE) -> m2 | K50: 2 | M50: =VLOOKUP(A50,MATERIALES!A6:D398,4,FALSE) -> 4267.0158 | N50: =K50*M50 -> 8534.0315
A51: B033002 | B51: =VLOOKUP(A51,MATERIALES!A6:D373,3,FALSE) -> Malla para gaviones (2M3) | J51: =VLOOKUP(A51,MATERIALES!A6:D643,2,FALSE) -> u | K51: 0.5 | M51: =VLOOKUP(A51,MATERIALES!A6:D399,4,FALSE) -> 70000 | N51: =K51*M51 -> 35000
B55: SUBTOTAL $ | N55: =SUM(N48:N54) -> 48824.032
B57: III. TRANSPORTES
B59: MATERIAL | H59: UNIDAD | I59: CANTIDAD (1) | J59: DISTANCIA (2) | K59: (1) * (2) | L59: TARIFA | N59: Vr. UNITARIO
B66: SUBTOTAL $ | N66: =N60+N61+N62+N63+N64 -> 0
B68: IV. MANO DE OBRA
B70: TRABAJADOR | I70: JORNAL | J70: PRESTACIONES (%) | K70: JORNAL TOTAL | L70: RENDIMIENTO | N70: Vr. UNITARIO
A71: A0030040 | B71: =VLOOKUP(A71,'MANO DE OBRA'!A8:D68,3,FALSE) -> Obrero (4) | I71: =K71/J71*100 -> 98362.267 | J71: 185 | K71: =VLOOKUP(A71,'MANO DE OBRA'!A8:D99,4,FALSE) -> 181970.19 | M71: 10 | N71: =K71/M71 -> 18197.019
A72: A0040010 | B72: =VLOOKUP(A72,'MANO DE OBRA'!A8:D69,3,FALSE) -> Oficial | I72: =K72/J72*100 -> 49181.133 | J72: 185 | K72: =VLOOKUP(A72,'MANO DE OBRA'!A8:D100,4,FALSE) -> 90985.097 | M72: =+M71 -> 10 | N72: =K72/M72 -> 9098.5097
B77: SUBTOTAL $ | N77: =SUM(N71:N76) -> 27295.529
B79: TOTAL COSTO DIRECTO $ | N79: =N43+N55+N66+N77 -> 77484.337
B81: V. COSTOS INDIRECTOS
...

Sheet 3P TRINCHO
K1: CÓDIGO | L1: MINFRA-MN-FR-14
C2: INSTITUTO NACIONAL DE VIAS
C3: PROCESO MISIONAL INFRAESTRUCTURA VIAL | K3: VERSIÓN | L3: 1
C4: DIRECCION TECNICA
C5: ANALISIS DE PRECIOS UNITARIOS | K5: PÁGINA | L5: 1 | M5: DE | N5: 1
K9: FECHA | L9: DD | M9: MM | N9: AA
B11: UNIDAD EJECUTORA: | K11: DIRECCIÓN TERRITORIAL:
B17: CONTRATO No. | E17: DE
B18: OBJETO DEL CONTRATO
B21: CONTRATISTA
B23: INTERVENTOR
B26: FECHA CIERRE DE LICITACIÓN Y/O SELECCIÓN ABREVIADA
B28: DATOS ESPECÍFICOS
B29: ITEM | C29: DESCRIPCIÓN | L29: UNIDAD | N29: CANTIDAD
A30: Unidad | B30: 3.P | C30: TRINCHOS EN GUADUA CON POSTES DE MADERA | L30: M2
B32: I. EQUIPO
B34: DESCRIPCIÓN | I34: TIPO | K34: TARIFA/HORA | L34: RENDIMIENTO | N34: Vr. UNITARIO
B37: HERRAMIENTA MENOR (%) | M37: 0.05 | N37: =N67*M37 -> 682.38823
B38: SUBTOTAL $ | N38: =SUM(N35:N37) -> 682.38823
B40: II. MATERIALES
B42: DESCRIPCIÓN | J42: UNIDAD | K42: CANTIDAD | L42: PRECIO UNIT. | N42: Vr. UNITARIO
A43: B0014790 | B43: =VLOOKUP(A43,MATERIALES!A5:D373,3,FALSE) -> Poste de madera para cercas | J43: =VLOOKUP(A43,MATERIALES!A4:D640,2,FALSE) -> u | K43: 0.6 | M43: =VLOOKUP(A43,MATERIALES!A5:D397,4,FALSE) -> 9000 | N43: =K43*M43 -> 5400
A44: B0014185 | B44: =VLOOKUP(A44,MATERIALES!A6:D374,3,FALSE) -> Guadua | J44: =VLOOKUP(A44,MATERIALES!A5:D641,2,FALSE) -> m | K44: 2 | M44: =VLOOKUP(A44,MATERIALES!A6:D398,4,FALSE) -> 2000 | N44: =K44*M44 -> 4000
A45: B0073220 | B45: =VLOOKUP(A45,MATERIALES!A7:D375,3,FALSE) -> Alambre galvanizado No. 12 | J45: =VLOOKUP(A45,MATERIALES!A6:D642,2,FALSE) -> kg | K45: 0.5 | M45: =VLOOKUP(A45,MATERIALES!A7:D399,4,FALSE) -> 4600 | N45: =K45*M45 -> 2300
B48: SUBTOTAL $ | N48: =SUM(N43:N47) -> 11700
B50: III. TRANSPORTES
B52: MATERIAL | H52: UNIDAD | I52: CANTIDAD (1) | J52: DISTANCIA (2) | K52: (1) * (2) | L52: TARIFA | N52: Vr. UNITARIO
B57: SUBTOTAL $ | N57: =N53+N54+N55+N56 -> 0
B59: IV. MANO DE OBRA
B61: TRABAJADOR | I61: JORNAL | J61: PRESTACIONES (%) | K61: JORNAL TOTAL | L61: RENDIMIENTO | N61: Vr. UNITARIO
A63: A0030040 | B63: =VLOOKUP(A63,'MANO DE OBRA'!A1:D61,3,FALSE) -> Obrero (4) | I63: =K63/J63*100 -> 98362.267 | J63: 185 | K63: =VLOOKUP(A63,'MANO DE OBRA'!A1:D92,4,FALSE) -> 181970.19 | M63: 20 | N63: =K63/M63 -> 9098.5097
A64: A0040010 | B64: =VLOOKUP(A64,'MANO DE OBRA'!A2:D62,3,FALSE) -> Oficial | I64: =K64/J64*100 -> 49181.133 | J64: 185 | K64: =VLOOKUP(A64,'MANO DE OBRA'!A2:D93,4,FALSE) -> 90985.097 | M64: =+M63 -> 20 | N64: =K64/M64 -> 4549.2548
B67: SUBTOTAL $ | N67: =SUM(N62:N66) -> 13647.765
B69: TOTAL COSTO DIRECTO $ | N69: =N38+N48+N57+N67 -> 26030.153
B71: V. COSTOS INDIRECTOS
B73: Descripción | K73: Porcentaje | L73: Valor Total
B74: ADMINISTRACION | K74: 0.2 | L74: =N69*K74 -> 5206.0305
B75: IMPREVISTOS | K75: 0.05 | L75: =N69*K75 -> 1301.5076
B76: UTILIDAD | K76: 0.05 | L76: =N69*K76 -> 1301.5076
B77: SUBTOTAL $ | N77: =L74+L75+L76 -> 7809.0458
...

Sheet 681.3P GAV-SUELO 2
K1: CÓDIGO | L1: MINFRA-MN-IN-10-FR-1
C2: INSTITUTO NACIONAL DE VIAS
C3: PROCESO GESTIÓN DE LA INFRAESTRUCTURA VIAL | K3: VERSIÓN | L3: 1
C4: MANUAL DE INTERVENTORÍA OBRA PÚBLICA
C5: ANÁLISIS DE PRECIOS UNITARIOS | K5: PÁGINA | M5: DE
K8: FECHA
L9: (Día) | M9: (Mes) | N9: (Año)
B10: ITEMS DE LA PROPUESTA ECONÓMICA | F10: □ | I10: ITEMS NO PREVISTOS | K10: □
B11: UNIDAD EJECUTORA: | J11: DIRECCIÓN TERRITORIAL:
B14: CONTRATO No. | D14: DE
B15: OBJETO DEL CONTRATO:
B18: CARRETERA: | J18: SECTOR:
B20: CONTRATISTA:
B22: INTERVENTOR: | K22: CTO No.: | M22: DE
B24: FECHA CIERRE PROCESO DE SELECCIÓN CONTRATO DE OBRA:
F25: (Día) | I25: (Mes) | J25: (Año)
B27: DATOS ESPECÍFICOS
B29: ITEM | C29: DESCRIPCIÓN | K29: GRUPO DE AJUSTE | L29: UNIDAD | N29: CANTIDAD
B30: ITEM | C30: DESCRIPCIÓN | L30: UNIDAD | N30: CANTIDAD
A31: Unidad | B31: 681.3P | C31: Gavión relleno de suelo con geotextil, de Malla de Alambre de Acero Entrelazado Clase 3; recubrimiento de Zinc (galvanizado) y PVC | L31: m3
B33: I. EQUIPO
B35: DESCRIPCIÓN | I35: TIPO | K35: TARIFA/HORA | L35: RENDIMIENTO | N35: Vr. UNITARIO
B41: HERRAMIENTA MENOR (%) | M41: 0.05 | N41: =N77*M41 -> 1364.7765
B43: SUBTOTAL $ | N43: =SUM(N36:N42) -> 1364.7765
B45: II. MATERIALES
B47: DESCRIPCIÓN | J47: UNIDAD | K47: CANTIDAD | L47: PRECIO UNIT. | N47: Vr. UNITARIO
A49: B0073220 | B49: =VLOOKUP(A49,MATERIALES!A6:D373,3,FALSE) -> Alambre galvanizado No. 12 | J49: =VLOOKUP(A49,MATERIALES!A5:D641,2,FALSE) -> kg | K49: 1.15 | M49: =VLOOKUP(A49,MATERIALES!A6:D397,4,FALSE) -> 4600 | N49: =K49*M49 -> 5290
A50: B021001 | B50: =VLOOKUP(A50,MATERIALES!A6:D373,3,FALSE) -> Formaleta (gaviones, juntas de bordillos, juntas de cunetas, muros, concretos clase D,E, F y G) | J50: =VLOOKUP(A50,MATERIALES!A6:D642,2,FALSE) -> m2 | K50: 2 | M50: =VLOOKUP(A50,MATERIALES!A6:D398,4,FALSE) -> 4267.0158 | N50: =K50*M50 -> 8534.0315
A51: B033006 | B51: =VLOOKUP(A51,MATERIALES!A6:D373,3,FALSE) -> Malla Ciclónica Para Gaviones Galvanizada Y Plastificada Con Pvc Cal 12 (2M3) | J51: =VLOOKUP(A51,MATERIALES!A6:D643,2,FALSE) -> u | K51: 0.5 | M51: =VLOOKUP(A51,MATERIALES!A6:D399,4,FALSE) -> 94279.207 | N51: =K51*M51 -> 47139.604
B55: SUBTOTAL $ | N55: =SUM(N48:N54) -> 60963.635
B57: III. TRANSPORTES
B59: MATERIAL | H59: UNIDAD | I59: CANTIDAD (1) | J59: DISTANCIA (2) | K59: (1) * (2) | L59: TARIFA | N59: Vr. UNITARIO
B66: SUBTOTAL $ | N66: =N60+N61+N62+N63+N64 -> 0
B68: IV. MANO DE OBRA
B70: TRABAJADOR | I70: JORNAL | J70: PRESTACIONES (%) | K70: JORNAL TOTAL | L70: RENDIMIENTO | N70: Vr. UNITARIO
A71: A0030040 | B71: =VLOOKUP(A71,'MANO DE OBRA'!A8:D68,3,FALSE) -> Obrero (4) | I71: =K71/J71*100 -> 98362.267 | J71: 185 | K71: =VLOOKUP(A71,'MANO DE OBRA'!A8:D99,4,FALSE) -> 181970.19 | M71: 10 | N71: =K71/M71 -> 18197.019
A72: A0040010 | B72: =VLOOKUP(A72,'MANO DE OBRA'!A8:D69,3,FALSE) -> Oficial | I72: =K72/J72*100 -> 49181.133 | J72: 185 | K72: =VLOOKUP(A72,'MANO DE OBRA'!A8:D100,4,FALSE) -> 90985.097 | M72: =+M71 -> 10 | N72: =K72/M72 -> 9098.5097
B77: SUBTOTAL $ | N77: =SUM(N71:N76) -> 27295.529
B79: TOTAL COSTO DIRECTO $ | N79: =N43+N55+N66+N77 -> 89623.941
B81: V. COSTOS INDIRECTOS
...

Sheet 201.7
K1: CÓDIGO | L1: MINFRA-MN-IN-10-FR-1
C2: INSTITUTO NACIONAL DE VIAS
C3: PROCESO GESTIÓN DE LA INFRAESTRUCTURA VIAL | K3: VERSIÓN | L3: 1
C4: MANUAL DE INTERVENTORÍA OBRA PÚBLICA
C5: ANÁLISIS DE PRECIOS UNITARIOS | K5: PÁGINA | M5: DE
K8: FECHA
L9: (Día) | M9: (Mes) | N9: (Año)
B10: ITEMS DE LA PROPUESTA ECONÓMICA | F10: □ | I10: ITEMS NO PREVISTOS | K10: □
B11: UNIDAD EJECUTORA: | J11: DIRECCIÓN TERRITORIAL:
B14: CONTRATO No. | D14: DE
B15: OBJETO DEL CONTRATO:
B18: CARRETERA: | J18: SECTOR:
B20: CONTRATISTA:
B22: INTERVENTOR: | K22: CTO No.: | M22: DE
B24: FECHA CIERRE PROCESO DE SELECCIÓN CONTRATO DE OBRA:
F25: (Día) | I25: (Mes) | J25: (Año)
B27: DATOS ESPECÍFICOS
B29: ITEM | C29: DESCRIPCIÓN | K29: GRUPO DE AJUSTE | L29: UNIDAD | N29: CANTIDAD
B30: ITEM | C30: DESCRIPCIÓN | L30: UNIDAD | N30: CANTIDAD
A31: Unidad | B31: 201.7 | C31: DEMOLICIÓN DE ESTRUCTURAS | L31: m3
B33: I. EQUIPO
B35: DESCRIPCIÓN | I35: TIPO | K35: TARIFA/HORA | L35: RENDIMIENTO | N35: Vr. UNITARIO
A36: C0010790 | B36: =VLOOKUP(A36,EQUIPOS!A6:D154,3,FALSE) -> Retroexcavadora sobre oruga, potencia 138 HP, balde de 1,5 m3. | K36: =VLOOKUP(A36,EQUIPOS!A6:D161,4,FALSE) -> 148800 | M36: 2.5 | N36: =K36/M36 -> 59520
A37: C0010270 | B37: =VLOOKUP(A37,EQUIPOS!A7:D154,3,FALSE) -> Compresor 120 HP, con martillo. | K37: =VLOOKUP(A37,EQUIPOS!A7:D162,4,FALSE) -> 75000 | M37: 2.5 | N37: =K37/M37 -> 30000
A38: C0010330 | B38: =VLOOKUP(A38,EQUIPOS!A8:D154,3,FALSE) -> Equipo de oxicorte, Capacidad de corte: hasta 6´´ (152mm) | K38: =VLOOKUP(A38,EQUIPOS!A8:D163,4,FALSE) -> 8896.7365 | M38: 2.5 | N38: =K38/M38 -> 3558.6946
B42: HERRAMIENTA MENOR (%) | L42: 0.02 | N42: =N76*L42 -> 181.97019
B43: SUBTOTAL $ | N43: =SUM(N36:N42) -> 93260.665
B45: II. MATERIALES
B47: DESCRIPCIÓN | J47: UNIDAD | K47: CANTIDAD | L47: PRECIO UNIT. | N47: Vr. UNITARIO
B54: SUBTOTAL $
B56: III. TRANSPORTES
B58: MATERIAL | H58: UNIDAD | I58: CANTIDAD (1) | J58: DISTANCIA (2) | K58: (1) * (2) | L58: TARIFA | N58: Vr. UNITARIO
A59: T0010032 | B59: =VLOOKUP(A59,TRANSPORTE!A5:D94,3,FALSE) -> Transporte de material de demolición | H59: =VLOOKUP(A59,TRANSPORTE!A6:D120,2,FALSE) -> m3k | I59: 1.4 | J59: 1 | K59: =I59*J59 -> 1.4 | L59: ='900.2'!N78 -> 946.9697 | N59: =K59*L59 -> 1325.7576
B65: SUBTOTAL $ | N65: =N59+N60+N61+N62+N63 -> 1325.7576
B67: IV. MANO DE OBRA
B69: TRABAJADOR | I69: JORNAL | J69: PRESTACIONES (%) | K69: JORNAL TOTAL | L69: RENDIMIENTO | N69: Vr. UNITARIO
A70: A0030020 | B70: =VLOOKUP(A70,'MANO DE OBRA'!A8:D68,3,FALSE) -> Obrero (2) | I70: =K70/J70*100 -> 49181.133 | J70: 185 | K70: =VLOOKUP(A70,'MANO DE OBRA'!A8:D99,4,FALSE) -> 90985.097 | M70: 20 | N70: =K70/M70 -> 4549.2548
A71: A0040010 | B71: =VLOOKUP(A71,'MANO DE OBRA'!A8:D69,3,FALSE) -> Oficial | I71: =K71/J71*100 -> 49181.133 | J71: 185 | K71: =VLOOKUP(A71,'MANO DE OBRA'!A8:D100,4,FALSE) -> 90985.097 | M71: 20 | N71: =K71/M71 -> 4549.2548
B76: SUBTOTAL $ | N76: =SUM(N70:N75) -> 9098.5097
B78: TOTAL COSTO DIRECTO $ | N78: =N43+N54+N65+N76 -> 103684.93
...

Sheet 210.1.1
K1: CÓDIGO | L1: MINFRA-MN-IN-10-FR-1
C2: INSTITUTO NACIONAL DE VIAS
C3: PROCESO GESTIÓN DE LA INFRAESTRUCTURA VIAL | K3: VERSIÓN | L3: 1
C4: MANUAL DE INTERVENTORÍA OBRA PÚBLICA
C5: ANÁLISIS DE PRECIOS UNITARIOS | K5: PÁGINA | M5: DE
K8: FECHA
L9: (Día) | M9: (Mes) | N9: (Año)
B10: ITEMS DE LA PROPUESTA ECONÓMICA | F10: □ | I10: ITEMS NO PREVISTOS | K10: □
B11: UNIDAD EJECUTORA: | J11: DIRECCIÓN TERRITORIAL:
B14: CONTRATO No. | D14: DE
B15: OBJETO DEL CONTRATO:
B18: CARRETERA: | J18: SECTOR:
B20: CONTRATISTA:
B22: INTERVENTOR: | K22: CTO No.: | M22: DE
B24: FECHA CIERRE PROCESO DE SELECCIÓN CONTRATO DE OBRA:
F25: (Día) | I25: (Mes) | J25: (Año)
B27: DATOS ESPECÍFICOS
B29: ITEM | C29: DESCRIPCIÓN | K29: GRUPO DE AJUSTE | L29: UNIDAD | N29: CANTIDAD
B30: ITEM | C30: DESCRIPCIÓN | L30: UNIDAD | N30: CANTIDAD
A31: Unidad | B31: 210.1.1 | C31: EXCAVACIÓN SIN CLASIFICAR DE LA EXPLANACIÓN Y CANALES | L31: m3
B33: I. EQUIPO
B35: DESCRIPCIÓN | I35: TIPO | K35: TARIFA/HORA | L35: RENDIMIENTO | N35: Vr. UNITARIO
A36: C0010790 | B36: =VLOOKUP(A36,EQUIPOS!A6:D154,3,FALSE) -> Retroexcavadora sobre oruga, potencia 138 HP, balde de 1,5 m3. | K36: =VLOOKUP(A36,EQUIPOS!A6:D163,4,FALSE) -> 148800 | M36: 66 | N36: =K36/M36 -> 2254.5455
A37: C0010052 | B37: =VLOOKUP(A37,EQUIPOS!A7:D154,3,FALSE) -> Buldozer, Potencia al volante de 140 HP, motor de 2200 RPM, longitud de hoja 4,80m. | K37: =VLOOKUP(A37,EQUIPOS!A7:D164,4,FALSE) -> 196350 | M37: 100 | N37: =K37/M37 -> 1963.5
B42: HERRAMIENTA MENOR (%) | L42: 0.01 | N42: =N76*L42 -> 0.86160129
B43: SUBTOTAL $ | N43: =SUM(N36:N42) -> 4218.9071
B45: II. MATERIALES
B47: DESCRIPCIÓN | J47: UNIDAD | K47: CANTIDAD | L47: PRECIO UNIT. | N47: Vr. UNITARIO
A48: B0013790 | B48: =VLOOKUP(A48,MATERIALES!A4:D373,3,FALSE) -> Derechos de explotación y/o disposición de materiales | J48: =VLOOKUP(A48,MATERIALES!A4:D373,2,FALSE) -> m3 | K48: 1 | M48: =VLOOKUP(A48,MATERIALES!A5:D373,4,FALSE) -> 2784.8823 | N48: =K48*M48 -> 2784.8823
B54: SUBTOTAL $ | N54: =SUM(N48:N53) -> 2784.8823
B56: III. TRANSPORTES
B58: MATERIAL | H58: UNIDAD | I58: CANTIDAD (1) | J58: DISTANCIA (2) | K58: (1) * (2) | L58: TARIFA | N58: Vr. UNITARIO
B65: SUBTOTAL $
B67: IV. MANO DE OBRA
B69: TRABAJADOR | I69: JORNAL | J69: PRESTACIONES (%) | K69: JORNAL TOTAL | L69: RENDIMIENTO | N69: Vr. UNITARIO
A70: A0030010 | B70: =VLOOKUP(A70,'MANO DE OBRA'!A8:D68,3,FALSE) -> Obrero | I70: =K70/J70*100 -> 24590.567 | J70: 185 | K70: =VLOOKUP(A70,'MANO DE OBRA'!A8:D99,4,FALSE) -> 45492.548 | M70: 528 | N70: =K70/M70 -> 86.160129
B76: SUBTOTAL $ | N76: =SUM(N70:N75) -> 86.160129
B78: TOTAL COSTO DIRECTO $ | N78: =N43+N54+N65+N76 -> 7089.9495
B80: V. COSTOS INDIRECTOS
B82: Descripción | K82: Porcentaje | L82: Valor Total
...

Sheet 211.1
K1: CÓDIGO | L1: MINFRA-MN-IN-10-FR-1
C2: INSTITUTO NACIONAL DE VIAS
C3: PROCESO GESTIÓN DE LA INFRAESTRUCTURA VIAL | K3: VERSIÓN | L3: 1
C4: MANUAL DE INTERVENTORÍA OBRA PÚBLICA
C5: ANÁLISIS DE PRECIOS UNITARIOS | K5: PÁGINA | M5: DE
K8: FECHA
L9: (Día) | M9: (Mes) | N9: (Año)
B10: ITEMS DE LA PROPUESTA ECONÓMICA | F10: □ | I10: ITEMS NO PREVISTOS | K10: □
B11: UNIDAD EJECUTORA: | J11: DIRECCIÓN TERRITORIAL:
B14: CONTRATO No. | D14: DE
B15: OBJETO DEL CONTRATO:
B18: CARRETERA: | J18: SECTOR:
B20: CONTRATISTA:
B22: INTERVENTOR: | K22: CTO No.: | M22: DE
B24: FECHA CIERRE PROCESO DE SELECCIÓN CONTRATO DE OBRA:
F25: (Día) | I25: (Mes) | J25: (Año)
B27: DATOS ESPECÍFICOS
B29: ITEM | C29: DESCRIPCIÓN | K29: GRUPO DE AJUSTE | L29: UNIDAD | N29: CANTIDAD
B30: ITEM | C30: DESCRIPCIÓN | L30: UNIDAD | N30: CANTIDAD
A31: Unidad | B31: 211.1 | C31: REMOCIÓN DE DERRUMBES | L31: m3
B33: I. EQUIPO
