Workbook
Name contratación: 'IDENTIFICACION Y ANALISIS'!$B$31:$B$32
Name ejecución: 'IDENTIFICACION Y ANALISIS'!$B$36:$B$48
Name OPCIONES: 'ASIGNACION Y TRATAMIENTO'!$B$58:$B$60
Name planeación: 'IDENTIFICACION Y ANALISIS'!$B$19:$B$24
Name selección: 'IDENTIFICACION Y ANALISIS'!$B$26:$B$29

Sheet CONTEXTO
C2: MATRIZ DE RIESGOS EN CONTRATACIÓN | F2: Código: GCO-GCI-F164 Versión: 02 Vigencia: 01 de diciembre de 2022 Caso HOLA: 280117
B6: ESTABLECER EL CONTEXTO
B7: El punto inicial es identificar el contexto en el cual interactúa la Entidad Estatal para conocer el ambiente social, económico y político, e identificar (i) sus propios Riesgos; (ii) los Riesgos comunes a sus Procesos de Contratación; y (iii) los Riesgos del Proceso de Contratación en particular. (Aplica igual para contratos interadministrativos) En este paso la Entidad Estatal debe identificar los aspectos que se mencionan a continuación y los posibles efectos adversos que estos pueden generar.
B8: Objeto del Proceso de Contratación: EJECUTAR EL PROYECTO DE INVERSIÓN No. 1925 “TUNJUELITO SIN VIOLENCIA Y LIBRE DE FEMINICIDIOS” EN LA CONSTRUCCION DE CIUDADANIA Y DESARROLLO DE CAPACIDADES APORTANDO AL RECONOCIMIENTO DE LOS DERECHOS DE LAS MUJERES BAJO LOS ENFOQUES DE GENERO, DERECHOS Y DIFERENCIAL EN LA LOCALIDAD DE TUNJUELITO”
B9: Partícipes del Proceso de Contratación: Alcaldía Local de Tunjuelito, responsables del área de planeación para la formulación del proyecto, supervisores y delegados del alcalde para el proceso de ejecución, equipo de acompañamiento jurídico del contrato, funcionarios administrativos relacionados con el proyecto, proponentes partícipes del proceso de selección, contratista adjudicatario, organismos de control, y demás veedurías ciudadanas.
B10: Ciudadanía que se beneficia del Proceso de Contratación: Comunidad en general de la localidad de Tunjuelito, especialmente mujeres en su diversidad (infigenas, NARP, lesbianas, bisexuales, transgeneristas, con discapacidad, cuidadoras etc)
B11: Capacidad de la Entidad Estatal entendida como la disponibilidad de recursos y conocimientos para el Proceso de Contratación: Área de planeación formulación del proyecto (Etapa de Planeación), Dirección de Contratación, Comité Evaluador (Etapa de selección), Dirección de Contratación (Etapa de contratación) y la supervisión y apoyos a la supervisión delegados por el Alcalde, referentes de participación.
B12: Suficiencia del presupuesto oficial del Proceso de Contratación: $ 291.750.000
B13: Condiciones geográficas y de acceso del lugar en el cual se debe cumplir el objeto del Proceso de Contratación: El proyecto se desarrollará tanto en las instalaciones de la Alcaldía Local de Tunjuelito (sede principal, casa de la cultura y/o casa de la participación) como espacios relevantes para las mujeres de la localidad realizando presencia tanto en la UPZ Tunjuelito como en la UPZ Venecia.
B14: Entorno socio ambiental: Si aplican
B15: Condiciones políticas: El derecho a una vida libre de violencias es reconocido como un derecho humano y adquiere gran relevancia en el Desarrollo de programas y proyectos encaminando las acciones del Estado a prevenir, sancionar y eliminar las violencias contra las mujeres y diversidades, y las violencias basadas en género; las voces de las mujeres en la lucha por este derecho han sacado la violencia de lo privado y la convirtieron en debate social propiciando el reconocimiento de la violencia, física y psicología como parte de agendas legislativas, de apuestas sociales por la transformación e impulsando cambios culturales que desafían las prácticas tradicionalistas asociadas de roles asociadas al sexo. Teniendo en cuenta lo anterior El estado Colombiano ha adoptado normas ratificando la Convención de Belém do Pará, , así mismo como la “Convención sobre la Eliminación de todas las formas de Discriminación contra la Mujer” en la ONU, el 3 de septiembre de 1981, bajo el cual los Estados se comprometen a tomar las medidas necesarias para eliminar las funciones estereotipadas de hombres y mujeres al interior del núcleo familiar, mediante programas educativos; mientras garantiza la ampliación de la participación política de las mujeres y se reducen las desigualdades en materia laboral, no solo de oportunidades sino de remuneración, entre hombres y mujeres. Es de resaltar que, la “Convención Interamericana para Prevenir, Sancionar y Erradicar la Violencia Contra La Mujer” de 9 de Junio de 1994; adoptada por Colombia mediante la ley 248 de 1995, establece en su artículo 7 que “Los Estados partes condenan todas las formas de violencia contra la mujer y convienen en adoptar, por todos los medios apropiados y sin dilaciones, políticas orientadas a prevenir, sancionar y erradicar dicha violencia (...)" y en su literal C " incluir en su legislación interna normas penales, civiles y administrativas, así como las de otra naturaleza que sean necesarias para prevenir, sancionar y erradicar la violencia contra la mujer y adoptar las medidas administrativas apropiadas que sean del caso. Asi mismo el Decreto 166 de 2010 contempla en el literal e, del artículo 7, dentro de sus objetivos específicos: la "erradicación de todas las formas de violencia contra las mujeres. Erradicar, progresiva y sosteniblemente, todas las formas de violencia contra las mujeres (física, sexual, psicológica y emocional) en los ámbitos político comunitario familiar y de pareja en el espacio público y privado para el ejercicio pleno de sus derechos", lo que en consonancia con el Acuerdo 676 de 2017 por medio del cual se establecen los lineamientos para prevenir la violencia basada en género y el feminicidio en Bogotá, este proceso se acoge en el artículo 02; bajo las medidas para la visibilización de la problemática y la identificación de los escenarios de riesgo; acciones para la trasformación de concepciones e imaginarios sociales y de estereotipos de género y desnaturalización de la violencia basada en género; y adelantar acciones para la divulgación de la oferta distrital que involucre la atención a los intervinientes en la violencia basada en género. En este sentido el proceso de estrategias para la prevencion de violencias contra la mujer en la localidad de Tunjuelito se sustenta tanto en el Acuerdo 676 de 2017, como en el CONPES 14 " Politica pública de mujeres y equidad de género 2020-2030", en el reconocimiento al derecho a una vida libre de violencias.
B16: Factores ambientales: La Alcaldía Local de Tunjuelito, cumple la normatividad ambiental, mejora continuamente sus procesos para liderar, prevenir, mitigar, proteger, conservar y hacer un uso racional de los recursos naturales y del medio ambiente, siendo modelo de responsabilidad ambiental en la gestión pública. La Política Ambiental Operativa de La Alcaldía Local de Tunjuelito, forma parte de la Política del Sistema Integrado de Gestión de la Entidad y está orientada por la Norma ISO 14001 de 2004. En consecuencia, la Entidad desarrolla los lineamientos sectoriales contenidos en el Plan Institucional de Gestión Ambiental –PIGA-, que se concreta a través de los Programas de Gestión en Residuos, Agua, Energía, Condiciones Internas, Buenas Prácticas y Gestión Contractual. Dichos Programas están sujetos al mejoramiento continuo, por parte de la Entidad, para el beneficio general.
B17: Sector del objeto del Proceso de Contratación y su mercado: Componente Paz, Memoria y Reconciliación dentro de los programas, proyectos y demás políticas públicas orientadas por el Distrito.
... B19: Experiencia propia y de otras Entidades Estatales en Procesos de Contratación del mismo tipo: Implementación del proyecto de inversión 1925 denominado “Tunjuelito sin violencia y libre de feminicidios” cuyo rubro es 23011603400000001925 como estrategia para promover y difundir el derecho a una vida libre de violencias, rutas de atención, acciones de prevención de violencias y fortalecimiento de redes de apoyo, fomentando la seguridad y confianza de las mujeres y diversidades de Tunjuelito.

Sheet IDENTIFICACION Y ANALISIS
C2: MATRIZ DE RIESGOS DE CONTRATACIÓN | F2: Código: GCO-GCI-F164 Versión: 02 Vigencia: 01 de diciembre de 2022 Caso HOLA: 280117
B6: DEFINICIONES
B7: RIESGO: Evento que puede generar efectos adversos y de distinta magnitud en el logro de los objetivos del Proceso de Contratación o en la ejecución de un contrato RIESGOS PREVISIBLES: Son los posibles hechos o circunstancias que por la naturaleza del contrato y de la actividad a ejecutar es factible su ocurrencia. ETAPA DE PLANEACIÓN: Está comprendida desde el momento en que se identifican las necesidades que debe satisfacer la Secretaría Distrital de Gobierno y los Fondos de Desarrollo Local, a través del abastecimiento de bienes, obras o servicios, la elaboración del Plan Anual de Adquisiciones y la estructuración de los documentos y estudios previos. ETAPA DE SELECCIÓN: Está comprendida entre el acto de Apertura del Proceso de Contratación y la Adjudicación o la declaración de desierto del Proceso de Contratación ETAPA DE CONTRATACIÓN: Una vez adjudicado el contrato objeto del Proceso de Contratación, inicia la etapa para la celebración del contrato y el cumplimiento de los requisitos para de perfeccionamiento y ejecución. ETAPA DE EJECUCIÓN: Inicia una vez cumplidos los requisitos previstos para iniciar la ejecución del contrato respectivo y termina con el vencimiento del plazo del contrato o la fecha de liquidación si hay lugar a ella. RIESGO GENERAL: Es un riesgo de todos los procesos de contratación adelantados por la Entidad Estatal, por lo cual está presente en toda su actividad contractual. RIEGO ESPECIFICO: Es un riesgo propio del proceso de contratación objeto de análisis. RIESGOS ECONÓMICOS: Son los derivados del comportamiento del mercado, tales como la fluctuación de los precios de los insumos, desabastecimiento y especulación de los mismos, entre otros. RIESGOS SOCIALES O POLÍTICOS: son los derivados de los cambios de las políticas gubernamentales y de cambios en las condiciones sociales que tengan impacto en la ejecución del contrato. RIESGOS OPERACIONALES: Son los asociados a la operatividad del contrato, tales como la suficiencia del presupuesto oficial, del plazo o los derivados de procesos, procedimientos, parámetros, sistemas de información y tecnológicos, equipos humanos o técnicos inadecuados o insuficientes. RIESGOS FINANCIEROS: Son (i) el riesgo de consecución de financiación o riesgo de liquidez para obtener recursos para cumplir con el objeto del contrato, y (ii) el riesgo de las condiciones financieras establecidas para la obtención de los recursos, tales como plazos, tasas, garantías, contragarantías, y refinanciaciones, entre otros. RIESGOS REGULATORIOS: Derivados de cambios regulatorios o reglamentarios que afecten la ecuación económica del contrato. RIESGOS DE LA NATURALEZA: Son los eventos naturales previsibles en los cuales no hay intervención humana que puedan tener impacto en la ejecución del contrato, por ejemplo los temblores, inundaciones, lluvias, sequías, entre otros. RIESGOS AMBIENTALES: Son los derivados de las obligaciones legales o reglamentarias de carácter ambiental, así como de las licencias, planes de manejo o de permisos y autorizaciones ambientales, incluyendo tasas retributivas y compensatorias, obligaciones de mitigación, tareas de monitoreo y control, entre otras. RIESGOS TECNOLÓGICOS: Son los derivados de fallas en los sistemas de comunicación de voz y de datos, suspensión de servicios públicos, nuevos desarrollos tecnológicos o estándares que deben ser tenidos en cuenta para la ejecución del contrato, obsolescencia tecnológica.
B15: INSTRUCCIONES PARA LA IDENTIFICACIÓN, ANALISIS, EVALUACIÓN , ASIGNACIÓN Y TRATAMIENTO DE RIESGOS EN LA CONTRATACIÓN
B16: 1) Identifique los riesgos previsibles que le apliquen al objeto contractual que se adelante. Los relacionados a continuación se establecen de manera general y como proforma. No obstante, si del objeto contractual se identifican otros riesgos diferentes a los aquí determinados, por favor reemplace el texto de la casilla teniendo en cuenta la etapa del proceso. Así mismo, seleccione la clase, fuente y el tipo (Operacional, Económico, Sociales o Políticos, Regulatorios, Financieros, Tecnológicos, De la naturaleza, Ambientales) 2) Continúe en la hoja de "EVALUACIÓN" (SI EXISTEN DUDAS CONCEPTUALES PARA LA ELABORACIÓN DE LA MATRIZ DE RIESGO CONSULTE EL MANUAL PARA LA IDENTIFICACIÓN Y COBERTURA DEL RIESGO EN LOS PROCESOS DE CONTRATACIÓN EXPEDIDO POR COLOMBIA COMPRA EFICIENTE Y LA GUÍA DE RIESGOS PREVISIBLES CONTRACTUALES, EXPEDIDA POR LA VEEDURÍA DISTRITAL)
C17: ETAPAS | D17: CLASE | E17: FUENTE | F17: TIPO
C18: PLANEACIÓN
B19: Requisitos habilitantes inapropiados para el proceso de selección | D19: General | E19: Interno | F19: Operacionales
B20: Inadecuado análisis económico estimativo del valor del contrato | D20: General | E20: Interno | F20: Economicos
B21: Inadecuada descripción del bien o servicio requerido | D21: General | E21: Interno | F21: Operacionales
B22: Falta de profundidad en el estudio de sector no identificandose claramente aspectos de oferta y demanda | D22: General | E22: Interno | F22: Economicos
B23: Ausencia de fundamentación de la justificación y conveniencia de la contratación | D23: General | E23: Interno | F23: Operacionales
B24: Errores involuntarios en los Estudios Previos, Pliegos de Condiciones, Estudio de Sector y en general cualquier documento que sea parte integral del mismo. | D24: General | E24: Interno | F24: Operacionales
C25: SELECCIÓN
B26: Inadecuada evaluación de las ofertas y/o verificación de requisitos habilitantes | D26: General | E26: Interno | F26: Operacionales
B27: Confabulacion de los proponentes (Colusión) | D27: General | E27: Externo | F27: Operacionales
B28: Que ninguno de los proponentes cumplan los requisitos habilitantes establecidos en el pliego de condiciones | D28: General | E28: Interno | F28: Operacionales
B29: Proyección económica por parte del proponente que conlleve a pérdidas o baja utilidad en la ejecución del contrato. | D29: General | E29: Externo | F29: Operacionales
C30: CONTRATACIÓN
B31: Demora en la iniciación del contrato debido a la no entrega oportuna de las Garantías exigidas para el proceso de contratación o que las mismas no cobijen lo establecido en los Estudios Previos. | D31: General | E31: Interno | F31: Operacionales
B32: Presentación de reclamos de terceros sobre la selección del oferente que retrasen el perfeccionamiento del contrato. | D32: General | E32: Externo | F32: Operacionales
C33: EJECUCIÓN
B34: No liquidar los contratos en los plazos acordados en el contrato o los establecidos por la Ley. | D34: General | E34: Interno | F34: Operacionales
B35: Incumplimiento en los tiempos de entrega y/o en la calidad de los Bienes y/o Servicios contratados. | D35: General | E35: Externo | F35: Operacionales
B36: Pérdida de elementos por robo a alguno de los proveedores de los elementos, antes o durante la entrega de los mismos. | D36: General | E36: Externo | F36: Operacionales
B37: Poca participación por parte de la comunidad en las actividades realizadas en campo | D37: General | E37: Externo | F37: Operacionales
B38: Variación de los precios del mercado | D38: General | E38: Externo | F38: Economicos
B39: Afectaciones psicosociales, acción con daño, situaciones de revictimización | D39: Especifico | E39: Externo | F39: Sociales o Políticos
B40: Incumplimiento en las características técnicas exigidas en la elaboración de entregables a la poblacion beneficiaria | D40: Especifico | E40: Externo | F40: Operacionales
B41: Dificultades, disputas y/o conflictividades con la población beneficiaria y las diferentes instancias de participación de la localidad | D41: Especifico | E41: Externo | F41: Sociales o Políticos
B42: Accidentes, contingencia, emergencias, perjuicios y/o siniestros presentados en las actividades de formación y en espacio publico | D42: Especifico | E42: Externo | F42: Operacionales
B43: Contingencias, accidentes o demás dificultades presentadas en los eventos y espacios desarrollados a la interperie y por fuera de las instalaciones de la Alcaldía Local de Tunjuelito | D43: Especifico | E43: Externo | F43: Operacionales
B44: Intoxicaciones y/o enfermedades producidas por el consumo de alimentos contemplados en el proyecto | D44: Especifico | E44: Externo | F44: Operacionales
B45: Incumplimiento por parte del contratista en la entrega de los productos contemplados para cada actividad | D45: General | E45: Externo | F45: Operacionales
... B48: Eventos naturales tales como lluvias o dificultades climáticas | D48: General | E48: Externo | F48: De la naturaleza
B53: General
B54: Estatal
B55: Especifico
B57: Interno
B58: Externo

Sheet EVALUACION
C2: MATRIZ DE RIESGOS DE CONTRATACIÓN | K2: Código: GCO-GCI-F164 Versión: 02 Vigencia: 01 de diciembre de 2022 Caso HOLA: 280117
B6: Objeto Contractual: EJECUTAR EL PROYECTO DE INVERSIÓN No. 1925 “TUNJUELITO SIN VIOLENCIA Y LIBRE DE FEMINICIDIOS” EN LA CONSTRUCCION DE CIUDADANIA Y DESARROLLO DE CAPACIDADES APORTANDO AL RECONOCIMIENTO DE LOS DERECHOS DE LAS MUJERES BAJO LOS ENFOQUES DE GENERO, DERECHOS Y DIFERENCIAL EN LA LOCALIDAD DE TUNJUELITO”
B7: INSTRUCCIONES PARA LA IDENTIFICACIÓN, ANALISIS, EVALUACIÓN , ASIGNACIÓN Y TRATAMIENTO DE RIESGOS EN LA CONTRATACIÓN
B8: 1) Diligencie el objeto contractual y seleccione la(s) etapas y los riesgos que aplican al objeto contractual, de acuerdo a lo definido en la hoja de "IDENTIFICACIÓN Y ANÁLISIS"
B9: 2) Describa las consecuencias de la ocurrencia del Riesgo/evento.
B10: 3) Asigne la probabilidad de ocurrencia del riesgo, de conformidad con la tabla de probabilidad y la valoración del riesgo (Cualitativa o Monetaria)
B11: 4) Asigne el impacto que generaría la materialización del riesgo, de conformidad con la tabla de impacto y la valoración del riesgo (Cualitativa o Monetaria)
B12: 5) Al realizar las anteriores actividades se obtendrá la calificación total y la valoración del riesgo (prioridad).
B13: 6) Continúe en la hoja de "EVALUACIÓN DE CONTROLES"
B15: CALIFICACIÓN | H15: Cualitativa
B16: ETAPA | C16: Descripción (Que puede pasar y, cómo puede ocurrir) | H16: Consecuencias de la ocurrencia del evento | I16: Probabilidad de Ocurrencia | J16: Impacto | K16: Calificación Total | L16: Prioridad
B17: PLANEACIÓN | C17: Requisitos habilitantes inapropiados para el proceso de selección | D17: Requisitos habilitantes inapropiados para el proceso de selección | E17: Requisitos habilitantes inapropiados para el proceso de selección | F17: Requisitos habilitantes inapropiados para el proceso de selección | G17: Requisitos habilitantes inapropiados para el proceso de selección | H17: 1. Distorsión del proceso de selección 2. Elección de un proponente que no cumpla requisitos legales y/o que no tenga la capacidad para la ejecución 3. Selección adversa 5. Necesidad de iniciar un nuevo proceso | I17: 2 | J17: 4 | K17: =I17+J17 -> 6 | L17: =IF(K17<=4,"BAJO",IF(K17=5,"MEDIO",IF(K17=6,"ALTO",IF(K17=7,"ALTO","EXTREMO")))) -> ALTO
B18: PLANEACIÓN | C18: Inadecuado análisis económico estimativo del valor del contrato | D18: Inadecuado análisis económico estimativo del valor del contrato | E18: Inadecuado análisis económico estimativo del valor del contrato | F18: Inadecuado análisis económico estimativo del valor del contrato | G18: Inadecuado análisis económico estimativo del valor del contrato | H18: 1. Sobrecostos o ineficiencia económica del proyecto 2. Pérdidas económica para el contratista o para el FDLT 3. Necesidade de iniciar un nuevo proceso | I18: 2 | J18: 4 | K18: =+I18+J18 -> 6 | L18: =IF(K18<=4,"BAJO",IF(K18=5,"MEDIO",IF(K18=6,"ALTO",IF(K18=7,"ALTO","EXTREMO")))) -> ALTO
B19: PLANEACIÓN | C19: Inadecuada descripción del bien o servicio requerido | D19: Inadecuada descripción del bien o servicio requerido | E19: Inadecuada descripción del bien o servicio requerido | F19: Inadecuada descripción del bien o servicio requerido | G19: Inadecuada descripción del bien o servicio requerido | H19: 1. Necesidad de iniciar un nuevo proceso 2. Distorsión del proceso de selección 3. Selección adversa | I19: 2 | J19: 4 | K19: =+I19+J19 -> 6 | L19: =IF(K19<=4,"BAJO",IF(K19=5,"MEDIO",IF(K19=6,"ALTO",IF(K19=7,"ALTO","EXTREMO")))) -> ALTO
B20: PLANEACIÓN | C20: Falta de profundidad en el estudio de sector no identificandose claramente aspectos de oferta y demanda | D20: Falta de profundidad en el estudio de sector no identificandose claramente aspectos de oferta y demanda | E20: Falta de profundidad en el estudio de sector no identificandose claramente aspectos de oferta y demanda | F20: Falta de profundidad en el estudio de sector no identificandose claramente aspectos de oferta y demanda | G20: Falta de profundidad en el estudio de sector no identificandose claramente aspectos de oferta y demanda | H20: 1. Sobrecostos o ineficiencia económica del proyecto 2. Selección adversa 3. No se puede satisfacer la necesidad de la entidad | I20: 3 | J20: 4 | K20: =+I20+J20 -> 7 | L20: =IF(K20<=4,"BAJO",IF(K20=5,"MEDIO",IF(K20=6,"ALTO",IF(K20=7,"ALTO","EXTREMO")))) -> ALTO
B21: PLANEACIÓN | C21: Ausencia de fundamentación de la justificación y conveniencia de la contratación | D21: Ausencia de fundamentación de la justificación y conveniencia de la contratación | E21: Ausencia de fundamentación de la justificación y conveniencia de la contratación | F21: Ausencia de fundamentación de la justificación y conveniencia de la contratación | G21: Ausencia de fundamentación de la justificación y conveniencia de la contratación | H21: 1. Necesidad de iniciar un nuevo proceso. 2. Selección adversa 3. No se puede satisfacer la necesidad de la entidad | I21: 2 | J21: 4 | K21: =+I21+J21 -> 6 | L21: =IF(K21<=4,"BAJO",IF(K21=5,"MEDIO",IF(K21=6,"ALTO",IF(K21=7,"ALTO","EXTREMO")))) -> ALTO
B22: PLANEACIÓN | C22: Errores involuntarios en los Estudios Previos, Pliegos de Condiciones, Estudio de Sector y en general cualquier documento que sea parte integral del mismo. | D22: Errores involuntarios en los Estudios Previos, Pliegos de Condiciones, Estudio de Sector y en general cualquier documento que sea parte integral del mismo. | E22: Errores involuntarios en los Estudios Previos, Pliegos de Condiciones, Estudio de Sector y en general cualquier documento que sea parte integral del mismo. | F22: Errores involuntarios en los Estudios Previos, Pliegos de Condiciones, Estudio de Sector y en general cualquier documento que sea parte integral del mismo. | G22: Errores involuntarios en los Estudios Previos, Pliegos de Condiciones, Estudio de Sector y en general cualquier documento que sea parte integral del mismo. | H22: 1. Necesidad de iniciar un nuevo proceso 2. No se puede satisfacer la necesidad de la entidad. | I22: 3 | J22: 3 | K22: =+I22+J22 -> 6 | L22: =IF(K22<=4,"BAJO",IF(K22=5,"MEDIO",IF(K22=6,"ALTO",IF(K22=7,"ALTO","EXTREMO")))) -> ALTO
B23: SELECCIÓN | C23: Inadecuada evaluación de las ofertas y/o verificación de requisitos habilitantes | H23: 1. Selecciónar un contratista que no esté en capacidad de cumplir con el objeto del contrato. 2. Selección adversa | I23: 3 | J23: 4 | K23: =+I23+J23 -> 7 | L23: =IF(K23<=4,"BAJO",IF(K23=5,"MEDIO",IF(K23=6,"ALTO",IF(K23=7,"ALTO","EXTREMO")))) -> ALTO
B24: SELECCIÓN | C24: Confabulacion de los proponentes (Colusión) | H24: 1. Selecciónar un contratista que no esté en capacidad de cumplir con el objeto del contrato. 2. Selección adversa | I24: 3 | J24: 4 | K24: =+I24+J24 -> 7 | L24: =IF(K24<=4,"BAJO",IF(K24=5,"MEDIO",IF(K24=6,"ALTO",IF(K24=7,"ALTO","EXTREMO")))) -> ALTO
B25: SELECCIÓN | C25: Que ninguno de los proponentes cumplan los requisitos habilitantes establecidos en el pliego de condiciones | H25: 1. Que se declare desierta la convocatoria 2. Necesidad de iniciar un nuevo proceso | I25: 2 | J25: 4 | K25: =+I25+J25 -> 6 | L25: =IF(K25<=4,"BAJO",IF(K25=5,"MEDIO",IF(K25=6,"ALTO",IF(K25=7,"ALTO","EXTREMO")))) -> ALTO
B26: SELECCIÓN | C26: Proyección económica por parte del proponente que conlleve a pérdidas o baja utilidad en la ejecución del contrato. | H26: 1. Pérdidas económicas para el contratista o propuestas artificialmente bajas. | I26: 2 | J26: 4 | K26: =+I26+J26 -> 6 | L26: =IF(K26<=4,"BAJO",IF(K26=5,"MEDIO",IF(K26=6,"ALTO",IF(K26=7,"ALTO","EXTREMO")))) -> ALTO
B27: CONTRATACIÓN | C27: Demora en la iniciación del contrato debido a la no entrega oportuna de las Garantías exigidas para el proceso de contratación o que las mismas no cobijen lo establecido en los Estudios Previ | H27: 1. Pérdida de Tiempo por no iniciar el contrato de forma oportuna 2. Falta de respaldo por parte de una aseguradora sobre los riesgos existentes durante la ejecución del Contrato | I27: 3 | J27: 3 | K27: =+I27+J27 -> 6 | L27: =IF(K27<=4,"BAJO",IF(K27=5,"MEDIO",IF(K27=6,"ALTO",IF(K27=7,"ALTO","EXTREMO")))) -> ALTO
B28: CONTRATACIÓN | C28: Presentación de reclamos de terceros sobre la selección del oferente que retrasen el perfeccionamiento del contrato. | H28: 1. Pérdida de Tiempo por no iniciar el contrato de forma oportuna 2. Necesidad de iniciar un nuevo proceso | I28: 2 | J28: 2 | K28: =+I28+J28 -> 4 | L28: =IF(K28<=4,"BAJO",IF(K28=5,"MEDIO",IF(K28=6,"ALTO",IF(K28=7,"ALTO","EXTREMO")))) -> BAJO
B29: EJECUCIÓN | C29: No liquidar los contratos en los plazos acordados en el contrato o los establecidos por la Ley. | H29: 1. Pérdida de competencia para liquidar en sede administrativa. 2. Incertidumbre del estado del contrato. 3.Falta de paz y salvo por las partes. | I29: 1 | J29: 4 | K29: =+I29+J29 -> 5 | L29: =IF(K29<=4,"BAJO",IF(K29=5,"MEDIO",IF(K29=6,"ALTO",IF(K29=7,"ALTO","EXTREMO")))) -> MEDIO
B30: EJECUCIÓN | C30: Incumplimiento en los tiempos de entrega y/o en la calidad de los Bienes y/o Servicios contratados. | H30: 1. Mala ejecución del objeto contratado. 2.No se puede satisfacer la necesidad de la Entidad | I30: 3 | J30: 3 | K30: =+I30+J30 -> 6 | L30: =IF(K30<=4,"BAJO",IF(K30=5,"MEDIO",IF(K30=6,"ALTO",IF(K30=7,"ALTO","EXTREMO")))) -> ALTO
B31: EJECUCIÓN | C31: Pérdida de elementos por robo a alguno de los proveedores de los elementos, antes o durante la entrega de los mismos. | H31: 1. Daños ocasionados al FDLT. | I31: 2 | J31: 4 | K31: =+I31+J31 -> 6 | L31: =IF(K31<=4,"BAJO",IF(K31=5,"MEDIO",IF(K31=6,"ALTO",IF(K31=7,"ALTO","EXTREMO")))) -> ALTO
B32: EJECUCIÓN | C32: Poca participación por parte de la comunidad en las actividades realizadas en campo | H32: 1. Incumplimiento de las metas dentro de la vigencia, y el alcance de las iniciativas participativas. | I32: 2 | J32: 4 | K32: =+I32+J32 -> 6 | L32: =IF(K32<=4,"BAJO",IF(K32=5,"MEDIO",IF(K32=6,"ALTO",IF(K32=7,"ALTO","EXTREMO")))) -> ALTO
B33: EJECUCIÓN | C33: Variación de los precios del mercado | H33: 1. Variación presupuestal que afecte la capacidad de adquisición de bienes y servicios 2. Desfase presupuestal 3. reclamaciones de rompimiento del equilibrio económico por parte del contratista. | I33: 1 | J33: 3 | K33: =+I33+J33 -> 4 | L33: =IF(K33<=4,"BAJO",IF(K33=5,"MEDIO",IF(K33=6,"ALTO",IF(K33=7,"ALTO","EXTREMO")))) -> BAJO
B34: EJECUCIÓN | C34: Afectaciones psicosociales, acción con daño, situaciones de revictimización | H34: 1. Situaciones de revictimización o victimización secundaria. 2. Afectaciones individuales y/o comunitarias a la población beneficiaria | I34: 3 | J34: 4 | K34: =+I34+J34 -> 7 | L34: =IF(K34<=4,"BAJO",IF(K34=5,"MEDIO",IF(K34=6,"ALTO",IF(K34=7,"ALTO","EXTREMO")))) -> ALTO
... B43: EJECUCIÓN | C43: Eventos naturales tales como lluvias o dificultades climáticas | H43: 1. Imposibilidad o dificultades para el desarrollo de las actividades 2. Afectación del cumplimiento del contrato dentro de la vigencia | I43: 2 | J43: 4 | K43: =+I43+J43 -> 6 | L43: =IF(K43<=4,"BAJO",IF(K43=5,"MEDIO",IF(K43=6,"ALTO",IF(K43=7,"ALTO","EXTREMO")))) -> ALTO
B46: Probabilidad | C46: Catagoria | E46: Valoración | G46: Impacto | H46: Categoria | I46: Valoración
C47: Raro (puede ocurrir excepcionalmente) | E47: 1 | H47: Insignificante | I47: 1
C48: Improbable (puede ocurrir ocasionalmente) | E48: 2 | H48: Menor | I48: 2
C49: Posible (puede ocurrir en cualquier momento futuro) | E49: 3 | H49: Moderado | I49: 3
C50: Probable (probablemente va a ocurrir) | E50: 4 | H50: Mayor | I50: 4
C51: Casi cierto (ocurre en la mayoria de circunstancias) | E51: 5 | H51: Catastrófico | I51: 5
C53: Valoración del Riesgo
C54: Calificación Cualitativa | F54: Obstruye la ejecución del contrato de manera intrascendente. | G54: Dificulta la ejecución del contrato de manera baja, aplicando medidas mínimas se pueden lograr el objeto contractual | H54: Afecta la ejecución del contrato sin alterar el beneficio para las partes | I54: Obstruye la ejecución del contrato sustancialmente pero aun así permite la consecución del objeto contractual | K54: Perturba la ejecución del contrato de manera grave imposibilitando la consecución del objeto contractual.
C55: Calificación Monetaria | F55: Los sobrecostos no representan más del uno por ciento (1%) del valor del contrato. | G55: Los sobrecostos no representan más del cinco por ciento (5%) del valor del contrato. | H55: Genera un impacto sobre el valor del contrato entre el cinco (5%) y el quince por ciento (15%). | I55: Incrementa el valor del contrato entre el quince (15%) y el treinta por ciento (30%). | K55: Impacto sobre el valor del contrato en más del treinta por ciento (30%).
C56: Categoría | E56: Valoración | F56: Insignificante | G56: Menor | H56: Moderado | I56: Mayor | K56: Catastrófico
...

Sheet EVALUACION CON CONTROLES
C2: MATRIZ DE RIESGOS DE CONTRATACIÓN | Q2: Código: GCO-GCI-F164 Versión: 02 Vigencia: 01 de diciembre de 2022 Caso HOLA: 280117
B6: =+EVALUACION!B6 -> Objeto Contractual: EJECUTAR EL PROYECTO DE INVERSIÓN No. 1925 “TUNJUELITO SIN VIOLENCIA Y LIBRE DE FEMINICIDIOS” EN LA CONSTRUCCION DE CIUDADANIA Y DESARROLLO DE CAPACIDADES APORTANDO AL RECONOCIMIENTO DE LOS DERECHOS DE LAS MUJERES BAJO LOS ENFOQUES DE GENERO, DERECHOS Y DIFERENCIAL EN LA LOCALIDAD DE TUNJUELITO”
B7: INSTRUCCIONES PARA LA IDENTIFICACIÓN, ANALISIS, EVALUACIÓN , ASIGNACIÓN Y TRATAMIENTO DE RIESGOS EN LA CONTRATACIÓN
B8: 1) Describa el tratamiento/controles a ser implementados
B9: 2) Diligencie la información de las siguientes columnas, de acuerdo con el análisis realizado a cada riesgo: Afecta el equilibrio económico, persona responsable de implementar el tratamiento, fecha estimada de inicio del tratamiento, fecha estimada en la que se completa el tratamiento, cómo se realiza el monitoreo y la periodicidad.
B10: 3) Continúe en la hoja de "ASIGNACIÓN Y TRATAMIENTO" y diligencie las siguientes casillas: A quien se le asigna y el porcentaje que asume cada una de las partes en caso de que sea compartido.
B15: ETAPA | C15: Descripción (Que puede pasar y, cómo puede ocurrir) | G15: Tratamiento/Controles a ser implementados | I15: Probabilidad de Ocurrencia | J15: Impacto | K15: Calificación Total | L15: Prioridad | M15: ¿Afecta el equilibrio económico del contrato? | N15: Persona responsable por implementar el tratamiento | O15: Fecha estimada en que se inicia el tratamiento | P15: Fecha estimada en que se completa el tratamiento | Q15: ¿Cómo se realiza el monitoreo? | R15: Periodicidad ¿Cuándo?
B16: =+EVALUACION!B17 -> PLANEACIÓN | C16: =+EVALUACION!C17 -> Requisitos habilitantes inapropiados para el proceso de selección | G16: Revisión jurídica y efectuar revisiones con los lineamientos de Colombia Compra Eficiente | I16: =+EVALUACION!I17 -> 2 | J16: =+EVALUACION!J17 -> 4 | K16: =+I16+J16 -> 6 | L16: =IF(K16<=4,"BAJO",IF(K16=5,"MEDIO",IF(K16=6,"ALTO",IF(K16=7,"ALTO","EXTREMO")))) -> ALTO | M16: NO | N16: PROFESIONALES DEL ÁREA DE GESTIÓN DEL DESARROLLO LOCAL DE TUNJUELITO (PLANEACIÓN Y CONTRATACIÓN) | O16: 2023 | P16: 2023 | Q16: SEGUIMIENTO AL PROCESO | R16: ETAPA DE PLANEACIÓN Y SELECCIÓN
B17: =+EVALUACION!B18 -> PLANEACIÓN | C17: =+EVALUACION!C18 -> Inadecuado análisis económico estimativo del valor del contrato | G17: Revisión exhaustiva en el proceso de estudio de mercado siguiendo los lineamientos de Colombia Compra Eficiente | I17: =+EVALUACION!I18 -> 2 | J17: =+EVALUACION!J18 -> 4 | K17: =+I17+J17 -> 6 | L17: =IF(K17<=4,"BAJO",IF(K17=5,"MEDIO",IF(K17=6,"ALTO",IF(K17=7,"ALTO","EXTREMO")))) -> ALTO | M17: SI | N17: PROFESIONALES DEL ÁREA DE GESTIÓN DEL DESARROLLO LOCAL DE TUNJUELITO (PLANEACIÓN) | O17: 2023 | P17: 2023 | Q17: SEGUIMIENTO AL PROCESO | R17: ETAPA DE PLANEACIÓN
B18: =+EVALUACION!B19 -> PLANEACIÓN | C18: =+EVALUACION!C19 -> Inadecuada descripción del bien o servicio requerido | G18: Reducir la probabilidad de ocurrencia del evento | I18: =+EVALUACION!I19 -> 2 | J18: =+EVALUACION!J19 -> 4 | K18: =+I18+J18 -> 6 | L18: =IF(K18<=4,"BAJO",IF(K18=5,"MEDIO",IF(K18=6,"ALTO",IF(K18=7,"ALTO","EXTREMO")))) -> ALTO | M18: NO | N18: PROFESIONALES DEL ÁREA DE GESTIÓN DEL DESARROLLO LOCAL DE TUNJUELITO (PLANEACIÓN) | O18: 2023 | P18: 2023 | Q18: SEGUIMIENTO AL PROCESO | R18: ETAPA DE PLANEACIÓN
B19: =+EVALUACION!B20 -> PLANEACIÓN | C19: =+EVALUACION!C20 -> Falta de profundidad en el estudio de sector no identificandose claramente aspectos de oferta y demanda | G19: Utilizar los lineamientos de Colombia Compra Eficiente y utilizar como referencia procesos similares | I19: =+EVALUACION!I20 -> 3 | J19: =+EVALUACION!J20 -> 4 | K19: =+I19+J19 -> 7 | L19: =IF(K19<=4,"BAJO",IF(K19=5,"MEDIO",IF(K19=6,"ALTO",IF(K19=7,"ALTO","EXTREMO")))) -> ALTO | M19: SI | N19: PROFESIONALES DEL ÁREA DE GESTIÓN DEL DESARROLLO LOCAL DE TUNJUELITO (PLANEACIÓN) | O19: 2023 | P19: 2023 | Q19: SEGUIMIENTO AL PROCESO | R19: ETAPA DE PLANEACIÓN
B20: =+EVALUACION!B21 -> PLANEACIÓN | C20: =+EVALUACION!C21 -> Ausencia de fundamentación de la justificación y conveniencia de la contratación | G20: Revisiones constantes por parte del área de planeación de la entidad tomando como referencia procesos similares | I20: =+EVALUACION!I21 -> 2 | J20: =+EVALUACION!J21 -> 4 | K20: =+I20+J20 -> 6 | L20: =IF(K20<=4,"BAJO",IF(K20=5,"MEDIO",IF(K20=6,"ALTO",IF(K20=7,"ALTO","EXTREMO")))) -> ALTO | M20: NO | N20: PROFESIONALES DEL ÁREA DE GESTIÓN DEL DESARROLLO LOCAL DE TUNJUELITO (PLANEACIÓN) | O20: 2023 | P20: 2023 | Q20: SEGUIMIENTO AL PROCESO | R20: ETAPA DE PLANEACIÓN
B21: =+EVALUACION!B22 -> PLANEACIÓN | C21: =+EVALUACION!C22 -> Errores involuntarios en los Estudios Previos, Pliegos de Condiciones, Estudio de Sector y en general cualquier documento que sea parte integral del mismo. | G21: Verificar los documentos en el proceso de observaciones y respuesta a estas mismas observaciones. Realizar las aclaraciones necesarias en el proceso de selección y evaluar las propuestas con los criterios sugeridos por Colombia Compra Eficiente. | I21: =+EVALUACION!I22 -> 3 | J21: =+EVALUACION!J22 -> 3 | K21: =+I21+J21 -> 6 | L21: =IF(K21<=4,"BAJO",IF(K21=5,"MEDIO",IF(K21=6,"ALTO",IF(K21=7,"ALTO","EXTREMO")))) -> ALTO | M21: SI | N21: PROFESIONALES DEL ÁREA DE GESTIÓN DEL DESARROLLO LOCAL DE TUNJUELITO (PLANEACIÓN Y CONTRATACIÓN) | O21: 2023 | P21: 2023 | Q21: SEGUIMIENTO AL PROCESO | R21: ETAPA DE PLANEACIÓN Y SELECCIÓN
B22: =+EVALUACION!B23 -> SELECCIÓN | C22: =+EVALUACION!C23 -> Inadecuada evaluación de las ofertas y/o verificación de requisitos habilitantes | G22: Efectuar verificaciones a los documentos y propuestas presentadas, con el apoyo de los profesionales del área y el equipo jurídico | I22: =+EVALUACION!I23 -> 3 | J22: =+EVALUACION!J23 -> 4 | K22: =+I22+J22 -> 7 | L22: =IF(K22<=4,"BAJO",IF(K22=5,"MEDIO",IF(K22=6,"ALTO",IF(K22=7,"ALTO","EXTREMO")))) -> ALTO | M22: NO | N22: PROFESIONALES DEL ÁREA DE GESTIÓN DEL DESARROLLO LOCAL DE TUNJUELITO (PLANEACIÓN Y CONTRATACIÓN) | O22: 2023 | P22: 2023 | Q22: SEGUIMIENTO AL PROCESO | R22: SEMANAL ETAPA DE SELECCIÓN
B23: =+EVALUACION!B24 -> SELECCIÓN | C23: =+EVALUACION!C24 -> Confabulacion de los proponentes (Colusión) | G23: Utilizar la metodología de Colombia Compra Eficiente y dar cumplimiento a la normatividad vigente. | I23: =+EVALUACION!I24 -> 3 | J23: =+EVALUACION!J24 -> 4 | K23: =+I23+J23 -> 7 | L23: =IF(K23<=4,"BAJO",IF(K23=5,"MEDIO",IF(K23=6,"ALTO",IF(K23=7,"ALTO","EXTREMO")))) -> ALTO | M23: SI | N23: PROFESIONALES DEL ÁREA DE GESTIÓN DEL DESARROLLO LOCAL DE TUNJUELITO (PLANEACIÓN Y CONTRATACIÓN) | O23: 2023 | P23: 2023 | Q23: MUESTREO ALEATORIO DE CALIDAD | R23: SEMANAL ETAPA DE SELECCIÓN
B24: =+EVALUACION!B25 -> SELECCIÓN | C24: =+EVALUACION!C25 -> Que ninguno de los proponentes cumplan los requisitos habilitantes establecidos en el pliego de condiciones | G24: Efectuar verificaciones a los documentos y propuestas presentadas por parte de los profesionales del área | I24: =+EVALUACION!I25 -> 2 | J24: =+EVALUACION!J25 -> 4 | K24: =+I24+J24 -> 6 | L24: =IF(K24<=4,"BAJO",IF(K24=5,"MEDIO",IF(K24=6,"ALTO",IF(K24=7,"ALTO","EXTREMO")))) -> ALTO | M24: SI | N24: PROFESIONALES DEL ÁREA DE GESTIÓN DEL DESARROLLO LOCAL DE TUNJUELITO (CONTRATACIÓN) | O24: 2023 | P24: 2023 | Q24: MUESTREO ALEATORIO DE CALIDAD | R24: SEMANAL ETAPA DE SELECCIÓN
B25: =+EVALUACION!B26 -> SELECCIÓN | C25: =+EVALUACION!C26 -> Proyección económica por parte del proponente que conlleve a pérdidas o baja utilidad en la ejecución del contrato. | G25: Realizar aclaraciones en el proceso de selección y evaluar las propuestas con los criterios sugeridos por Colombia Compra Eficiente. | I25: =+EVALUACION!I26 -> 2 | J25: =+EVALUACION!J26 -> 4 | K25: =+I25+J25 -> 6 | L25: =IF(K25<=4,"BAJO",IF(K25=5,"MEDIO",IF(K25=6,"ALTO",IF(K25=7,"ALTO","EXTREMO")))) -> ALTO | M25: SI | N25: PROFESIONALES DEL ÁREA DE GESTIÓN DEL DESARROLLO LOCAL DE TUNJUELITO (PLANEACIÓN Y CONTRATACIÓN) | O25: 2023 | P25: 2023 | Q25: MUESTREO ALEATORIO DE CALIDAD | R25: SEMANAL ETAPA DE SELECCIÓN
B26: =+EVALUACION!B27 -> CONTRATACIÓN | C26: =+EVALUACION!C27 -> Demora en la iniciación del contrato debido a la no entrega oportuna de las Garantías exigidas para el proceso de contratación o que las mismas no cobijen lo establecido en los Estudios Previ | G26: Efectuar verificaciones a los documentos entregados de acuerdo con la lista de chequeo sugeridas para la entidad. | I26: =+EVALUACION!I27 -> 3 | J26: =+EVALUACION!J27 -> 3 | K26: =+I26+J26 -> 6 | L26: =IF(K26<=4,"BAJO",IF(K26=5,"MEDIO",IF(K26=6,"ALTO",IF(K26=7,"ALTO","EXTREMO")))) -> ALTO | M26: SI | N26: PROFESIONALES DEL ÁREA DE GESTIÓN DEL DESARROLLO LOCAL DE TUNJUELITO (PLANEACIÓN Y CONTRATACIÓN) | O26: 2023 | P26: 2023 | Q26: MUESTREO ALEATORIO DE CALIDAD | R26: ETAPA DE CONTRATACIÓN
B27: =+EVALUACION!B28 -> CONTRATACIÓN | C27: =+EVALUACION!C28 -> Presentación de reclamos de terceros sobre la selección del oferente que retrasen el perfeccionamiento del contrato. | G27: Dar trámite eficiente y oportuno de las PQRS presentadas por terceros | I27: =+EVALUACION!I28 -> 2 | J27: =+EVALUACION!J28 -> 2 | K27: =+I27+J27 -> 4 | L27: =IF(K27<=4,"BAJO",IF(K27=5,"MEDIO",IF(K27=6,"ALTO",IF(K27=7,"ALTO","EXTREMO")))) -> BAJO | M27: NO | N27: PROFESIONALES DEL ÁREA DE GESTIÓN DEL DESARROLLO LOCAL DE TUNJUELITO (PLANEACIÓN Y CONTRATACIÓN) | O27: 2023 | P27: 2023 | Q27: SEGUIMIENTO AL PROCESO | R27: ETAPA DE CONTRATACIÓN
... B33: =+EVALUACION!B34 -> EJECUCIÓN | C33: =+EVALUACION!C34 -> Afectaciones psicosociales, acción con daño, situaciones de revictimización | G33: Acompañamiento psicosocial del proyecto presentado por el contratista | I33: =+EVALUACION!I34 -> 3 | J33: =+EVALUACION!J34 -> 4 | K33: =+I33+J33 -> 7 | L33: =IF(K33<=4,"BAJO",IF(K33=5,"MEDIO",IF(K33=6,"ALTO",IF(K33=7,"ALTO","EXTREMO")))) -> ALTO | M33: NO | N33: CONTRATISTA | O33: 2023 | P33: 2023 | Q33: SEGUIMIENTO AL PROCESO | R33: SEMANAL SEGÚN CRONOGRAMA DEL PROYECTO
B34: =+EVALUACION!B36 -> EJECUCIÓN | C34: =+EVALUACION!C36 -> Dificultades, disputas y/o conflictividades con la población beneficiaria y las diferentes instancias de participación de la localidad | G34: Vinculación de delegaciones de instancias de participación y/o población beneficiaria en el Comité Técnico de Seguimiento Apoyo del/la referente de participación de la entidad | I34: =+EVALUACION!I36 -> 3 | J34: =+EVALUACION!J36 -> 4 | K34: =+I34+J34 -> 7 | L34: =IF(K34<=4,"BAJO",IF(K34=5,"MEDIO",IF(K34=6,"ALTO",IF(K34=7,"ALTO","EXTREMO")))) -> ALTO | M34: NO | N34: SUPERVISIÓN, APOYO A LA SUPERVISIÓN Y CONTRATISTA | O34: 2023 | P34: 2023 | Q34: SEGUIMIENTO AL PROCESO | R34: SEMANAL SEGÚN CRONOGRAMA DEL PROYECTO
B35: =+EVALUACION!B37 -> EJECUCIÓN | C35: =+EVALUACION!C37 -> Accidentes, contingencia, emergencias, perjuicios y/o siniestros presentados en las actividades de formación y en espacio publico | G35: Póliza de seguros para el cubrimiento de la actividad Verificación de las condiciones óptimas de los recursos logísticos y de seguridad Protocolos de cuidado y seguridad | I35: =+EVALUACION!I37 -> 2 | J35: =+EVALUACION!J37 -> 5 | K35: =+I35+J35 -> 7 | L35: =IF(K35<=4,"BAJO",IF(K35=5,"MEDIO",IF(K35=6,"ALTO",IF(K35=7,"ALTO","EXTREMO")))) -> ALTO | M35: SI | N35: SUPERVISIÓN, APOYO A LA SUPERVISIÓN Y CONTRATISTA | O35: 2023 | P35: 2023 | Q35: SEGUIMIENTO AL PROCESO | R35: SEMANAL SEGÚN CRONOGRAMA DEL PROYECTO
B36: =+EVALUACION!B38 -> EJECUCIÓN | C36: =+EVALUACION!C38 -> Contingencias, accidentes o demás dificultades presentadas en los eventos y espacios desarrollados a la interperie y por fuera de las instalaciones de la Alcaldía Local de Tunjuelito | G36: Protocolos de cuidado y seguridad Pólizas de seguro en el caso que lo requieran o planes de contingencia | I36: =+EVALUACION!I38 -> 3 | J36: =+EVALUACION!J38 -> 4 | K36: =+I36+J36 -> 7 | L36: =IF(K36<=4,"BAJO",IF(K36=5,"MEDIO",IF(K36=6,"ALTO",IF(K36=7,"ALTO","EXTREMO")))) -> ALTO | M36: SI | N36: SUPERVISIÓN, APOYO A LA SUPERVISIÓN Y CONTRATISTA | O36: 2023 | P36: 2023 | Q36: SEGUIMIENTO AL PROCESO | R36: SEMANAL SEGÚN CRONOGRAMA DEL PROYECTO
B37: =+EVALUACION!B39 -> EJECUCIÓN | C37: =+EVALUACION!C39 -> Intoxicaciones y/o enfermedades producidas por el consumo de las muestras gastronómicas contempladas en el proyecto | G37: Exigencia del carné de manipulación de alimentos por parte del personal contratado y verificación de las condiciones de salubridad de los alimentos | I37: =+EVALUACION!I39 -> 2 | J37: =+EVALUACION!J39 -> 5 | K37: =+I37+J37 -> 7 | L37: =IF(K37<=4,"BAJO",IF(K37=5,"MEDIO",IF(K37=6,"ALTO",IF(K37=7,"ALTO","EXTREMO")))) -> ALTO | M37: SI | N37: SUPERVISIÓN, APOYO A LA SUPERVISIÓN Y CONTRATISTA | O37: 2023 | P37: 2023 | Q37: SEGUIMIENTO AL PROCESO | R37: SEMANAL SEGÚN CRONOGRAMA DEL PROYECTO
B38: =+EVALUACION!B40 -> EJECUCIÓN | C38: =+EVALUACION!C40 -> Incumplimiento por parte del contratista en la entrega de los productos contemplados para cada actividad | G38: Realizar supervisiones periódicas al anexo técnico, el plan de trabajo y las obligaciones contractuales entre las partes | I38: =+EVALUACION!I40 -> 3 | J38: =+EVALUACION!J40 -> 4 | K38: =+I38+J38 -> 7 | L38: =IF(K38<=4,"BAJO",IF(K38=5,"MEDIO",IF(K38=6,"ALTO",IF(K38=7,"ALTO","EXTREMO")))) -> ALTO | M38: NO | N38: SUPERVISIÓN, APOYO A LA SUPERVISIÓN Y CONTRATISTA | O38: 2023 | P38: 2023 | Q38: SEGUIMIENTO AL PROCESO | R38: SEMANAL SEGÚN CRONOGRAMA DEL PROYECTO
B39: =+EVALUACION!B41 -> EJECUCIÓN | C39: =+EVALUACION!C41 -> Imposibilidad de tramitar los permisos para el desarrollo de actividades en espacio publico proyectadas por el proyecto | G39: Supervisar eficientemente el trámite de permisos y gestiones interinstitucionales | I39: =+EVALUACION!I41 -> 1 | J39: =+EVALUACION!J41 -> 4 | K39: =+I39+J39 -> 5 | L39: =IF(K39<=4,"BAJO",IF(K39=5,"MEDIO",IF(K39=6,"ALTO",IF(K39=7,"ALTO","EXTREMO")))) -> MEDIO | M39: NO | N39: SUPERVISIÓN, APOYO A LA SUPERVISIÓN Y CONTRATISTA | O39: 2023 | P39: 2023 | Q39: SEGUIMIENTO AL PROCESO | R39: SEMANAL SEGÚN CRONOGRAMA DEL PROYECTO
B40: =+EVALUACION!B42 -> EJECUCIÓN | C40: =+EVALUACION!C42 -> Paros huelgas, situaciones de orden público o situaciones externas como pandemias que afecten el cumplimiento de obligaciones cuando se hace trabajo en campo | G40: Seguimiento del cronograma estipulado y verificación en medios de comunicación y fuentes oficiales de situaciones de orden público | I40: =+EVALUACION!I42 -> 2 | J40: =+EVALUACION!J42 -> 4 | K40: =+I40+J40 -> 6 | L40: =IF(K40<=4,"BAJO",IF(K40=5,"MEDIO",IF(K40=6,"ALTO",IF(K40=7,"ALTO","EXTREMO")))) -> ALTO | M40: NO | N40: SUPERVISIÓN, APOYO A LA SUPERVISIÓN Y CONTRATISTA | O40: 2023 | P40: 2023 | Q40: SEGUIMIENTO AL PROCESO | R40: SEMANAL SEGÚN CRONOGRAMA DEL PROYECTO
B41: =+EVALUACION!B43 -> EJECUCIÓN | C41: =+EVALUACION!C43 -> Eventos naturales tales como lluvias o dificultades climáticas | G41: Seguimiento de la programación de las activades y verificación de las condiciones previsibles acerca del estado del clima | I41: =+EVALUACION!I43 -> 2 | J41: =+EVALUACION!J43 -> 4 | K41: =+I41+J41 -> 6 | L41: =IF(K41<=4,"BAJO",IF(K41=5,"MEDIO",IF(K41=6,"ALTO",IF(K41=7,"ALTO","EXTREMO")))) -> ALTO | M41: NO | N41: SUPERVISIÓN, APOYO A LA SUPERVISIÓN Y CONTRATISTA | O41: 2023 | P41: 2023 | Q41: SEGUIMIENTO AL PROCESO | R41: SEMANAL SEGÚN CRONOGRAMA DEL PROYECTO
C43: Categoria del Riesgo | H43: Impacto del Riesgo
B44: Probabilidad | C44: Catagoria | F44: Valoración | H44: Categoria | J44: Valoración | N44: Categoria del Riesgo
C45: Raro (puede ocurrir excepcionalmente) | F45: 1 | H45: Insignificante | J45: 1 | N45: Valoración del Riesgo | P45: Categoría
C46: Improbable (puede ocurrir ocasionalmente) | F46: 2 | H46: Menor | J46: 2 | N46: 8, 9 y 10 | P46: Riesgo extremo
C47: Posible (puede ocurrir en cualquier momento futuro) | F47: 3 | H47: Moderado | J47: 3 | N47: 6 y 7 | P47: Riesgo alto
C48: Probable (probablemente va a ocurrir) | F48: 4 | H48: Mayor | J48: 4 | N48: 5 | P48: Riesgo medio
C49: Casi cierto (ocurre en la mayoria de circunstancias) | F49: 5 | H49: Catastrófico | J49: 5 | N49: 2, 3 y 4 | P49: Riesgo bajo
C51: Valoración del Riesgo
C52: Calificación Cualitativa | G52: Obstruye la ejecución del contrato de manera intrascendente. | I52: Dificulta la ejecución del contrato de manera baja, aplicando medidas mínimas se pueden lograr el objeto contractual | L52: Afecta la ejecución del contrato sin alterar el beneficio para las partes | N52: Obstruye la ejecución del contrato sustancialmente pero aun así permite la consecución del objeto contractual | P52: Perturba la ejecución del contrato de manera grave imposibilitando la consecución del objeto contractual.
C53: Calificación Monetaria | G53: Los sobrecostos no representan más del uno por ciento (1%) del valor del contrato. | I53: Los sobrecostos no representan más del cinco por ciento (5%) del valor del contrato. | L53: Genera un impacto sobre el valor del contrato entre el cinco (5%) y el quince por ciento (15%). | N53: Incrementa el valor del contrato entre el quince (15%) y el treinta por ciento (30%). | P53: Impacto sobre el valor del contrato en más del treinta por ciento (30%).
C54: Catagoria | F54: Valoración | G54: Insignificante | I54: Menor | L54: Moderado | N54: Mayor | P54: Catastrófico
G55: 1 | I55: 2 | L55: 3 | N55: 4 | P55: 5
...

Sheet ASIGNACION Y TRATAMIENTO
C2: MATRIZ DE RIESGOS DE CONTRATACIÓN | W2: Código: GCO-GCI-F164 Versión: 02 Vigencia: 01 de diciembre de 2022 Caso HOLA: 280117
B6: =EVALUACION!B6 -> Objeto Contractual: EJECUTAR EL PROYECTO DE INVERSIÓN No. 1925 “TUNJUELITO SIN VIOLENCIA Y LIBRE DE FEMINICIDIOS” EN LA CONSTRUCCION DE CIUDADANIA Y DESARROLLO DE CAPACIDADES APORTANDO AL RECONOCIMIENTO DE LOS DERECHOS DE LAS MUJERES BAJO LOS ENFOQUES DE GENERO, DERECHOS Y DIFERENCIAL EN LA LOCALIDAD DE TUNJUELITO”
B7: Esta matriz es un documento anexo del Estudio Previo
B10: No | C10: Descripción (Que puede pasar y, cómo puede ocurrir) | D10: Etapa | E10: Clase | F10: Fuente | G10: Consecuencias de la ocurrencia del evento | H10: Probabilidad | I10: Impacto | J10: Calificación total | K10: Prioridad | L10: ¿A quien se le asigna? | M10: % | N10: Tratamiento/Controles a ser implementados | O10: Probabilidad | P10: Impacto | Q10: Calificación total | R10: Prioridad | S10: ¿Afecta el equilibrio económico del contrato? | T10: Persona responsable por implementar el tratamiento | U10: Fecha estimada en que se inicia el tratamiento | V10: Fecha estimada en que se completa el tratamiento | W10: ¿Cómo se realiza el monitoreo | X10: Periodicidad ¿Cuándo?
B11: 1 | C11: =+'EVALUACION CON CONTROLES'!C16:F16 -> Requisitos habilitantes inapropiados para el proceso de selección | D11: =+'EVALUACION CON CONTROLES'!B16 -> PLANEACIÓN | E11: =VLOOKUP(C11,'IDENTIFICACION Y ANALISIS'!$B$19:$F$48,3,FALSE) -> General | F11: =VLOOKUP(C11,'IDENTIFICACION Y ANALISIS'!$B$19:$F$48,4,FALSE) -> Interno | G11: =+EVALUACION!H17 -> 1. Distorsión del proceso de selección 2. Elección de un proponente que no cumpla requisitos legales y/o que no tenga la capacidad para la ejecución 3. Selección adversa 5. Necesidad de iniciar un nuevo proceso | H11: =+EVALUACION!I17 -> 2 | I11: =+EVALUACION!J17 -> 4 | J11: =+EVALUACION!K17 -> 6 | K11: =+EVALUACION!L17 -> ALTO | L11: SDG | M11: 100 | N11: =+'EVALUACION CON CONTROLES'!G16 -> Revisión jurídica y efectuar revisiones con los lineamientos de Colombia Compra Eficiente | O11: =+'EVALUACION CON CONTROLES'!I16 -> 2 | P11: =+'EVALUACION CON CONTROLES'!J16 -> 4 | Q11: =+'EVALUACION CON CONTROLES'!K16 -> 6 | R11: =+'EVALUACION CON CONTROLES'!L16 -> ALTO | S11: =+'EVALUACION CON CONTROLES'!M16 -> NO | T11: =+'EVALUACION CON CONTROLES'!N16 -> PROFESIONALES DEL ÁREA DE GESTIÓN DEL DESARROLLO LOCAL DE TUNJUELITO (PLANEACIÓN Y CONTRATACIÓN) | U11: =+'EVALUACION CON CONTROLES'!O16 -> 2023 | V11: =+'EVALUACION CON CONTROLES'!P16 -> 2023 | ... X11: =+'EVALUACION CON CONTROLES'!R16 -> ETAPA DE PLANEACIÓN Y SELECCIÓN
B12: 2 | C12: =+'EVALUACION CON CONTROLES'!C17:F17 -> Inadecuado análisis económico estimativo del valor del contrato | D12: =+'EVALUACION CON CONTROLES'!B17 -> PLANEACIÓN | E12: =VLOOKUP(C12,'IDENTIFICACION Y ANALISIS'!$B$19:$F$48,3,FALSE) -> General | F12: =VLOOKUP(C12,'IDENTIFICACION Y ANALISIS'!$B$19:$F$48,4,FALSE) -> Interno | G12: =+EVALUACION!H18 -> 1. Sobrecostos o ineficiencia económica del proyecto 2. Pérdidas económica para el contratista o para el FDLT 3. Necesidade de iniciar un nuevo proceso | H12: =+EVALUACION!I18 -> 2 | I12: =+EVALUACION!J18 -> 4 | J12: =+EVALUACION!K18 -> 6 | K12: =+EVALUACION!L18 -> ALTO | L12: SDG | M12: 100 | N12: =+'EVALUACION CON CONTROLES'!G17 -> Revisión exhaustiva en el proceso de estudio de mercado siguiendo los lineamientos de Colombia Compra Eficiente | O12: =+'EVALUACION CON CONTROLES'!I17 -> 2 | P12: =+'EVALUACION CON CONTROLES'!J17 -> 4 | Q12: =+'EVALUACION CON CONTROLES'!K17 -> 6 | R12: =+'EVALUACION CON CONTROLES'!L17 -> ALTO | S12: =+'EVALUACION CON CONTROLES'!M17 -> SI | T12: =+'EVALUACION CON CONTROLES'!N17 -> PROFESIONALES DEL ÁREA DE GESTIÓN DEL DESARROLLO LOCAL DE TUNJUELITO (PLANEACIÓN) | U12: =+'EVALUACION CON CONTROLES'!O17 -> 2023 | V12: =+'EVALUACION CON CONTROLES'!P17 -> 2023 | ... X12: =+'EVALUACION CON CONTROLES'!R17 -> ETAPA DE PLANEACIÓN
B13: 3 | C13: =+'EVALUACION CON CONTROLES'!C18:F18 -> Inadecuada descripción del bien o servicio requerido | D13: =+'EVALUACION CON CONTROLES'!B18 -> PLANEACIÓN | E13: =VLOOKUP(C13,'IDENTIFICACION Y ANALISIS'!$B$19:$F$48,3,FALSE) -> General | F13: =VLOOKUP(C13,'IDENTIFICACION Y ANALISIS'!$B$19:$F$48,4,FALSE) -> Interno | G13: =+EVALUACION!H19 -> 1. Necesidad de iniciar un nuevo proceso 2. Distorsión del proceso de selección 3. Selección adversa | H13: =+EVALUACION!I19 -> 2 | I13: =+EVALUACION!J19 -> 4 | J13: =+EVALUACION!K19 -> 6 | K13: =+EVALUACION!L19 -> ALTO | L13: SDG | M13: 100 | N13: =+'EVALUACION CON CONTROLES'!G18 -> Reducir la probabilidad de ocurrencia del evento | O13: =+'EVALUACION CON CONTROLES'!I18 -> 2 | P13: =+'EVALUACION CON CONTROLES'!J18 -> 4 | Q13: =+'EVALUACION CON CONTROLES'!K18 -> 6 | R13: =+'EVALUACION CON CONTROLES'!L18 -> ALTO | S13: =+'EVALUACION CON CONTROLES'!M18 -> NO | T13: =+'EVALUACION CON CONTROLES'!N18 -> PROFESIONALES DEL ÁREA DE GESTIÓN DEL DESARROLLO LOCAL DE TUNJUELITO (PLANEACIÓN) | U13: =+'EVALUACION CON CONTROLES'!O18 -> 2023 | V13: =+'EVALUACION CON CONTROLES'!P18 -> 2023 | ... X13: =+'EVALUACION CON CONTROLES'!R18 -> ETAPA DE PLANEACIÓN
B14: 4 | C14: =+'EVALUACION CON CONTROLES'!C19:F19 -> Falta de profundidad en el estudio de sector no identificandose claramente aspectos de oferta y demanda | D14: =+'EVALUACION CON CONTROLES'!B19 -> PLANEACIÓN | E14: =VLOOKUP(C14,'IDENTIFICACION Y ANALISIS'!$B$19:$F$48,3,FALSE) -> General | F14: =VLOOKUP(C14,'IDENTIFICACION Y ANALISIS'!$B$19:$F$48,4,FALSE) -> Interno | G14: =+EVALUACION!H20 -> 1. Sobrecostos o ineficiencia económica del proyecto 2. Selección adversa 3. No se puede satisfacer la necesidad de la entidad | H14: =+EVALUACION!I20 -> 3 | I14: =+EVALUACION!J20 -> 4 | J14: =+EVALUACION!K20 -> 7 | K14: =+EVALUACION!L20 -> ALTO | L14: SDG | M14: 100 | N14: =+'EVALUACION CON CONTROLES'!G19 -> Utilizar los lineamientos de Colombia Compra Eficiente y utilizar como referencia procesos similares | O14: =+'EVALUACION CON CONTROLES'!I19 -> 3 | P14: =+'EVALUACION CON CONTROLES'!J19 -> 4 | Q14: =+'EVALUACION CON CONTROLES'!K19 -> 7 | R14: =+'EVALUACION CON CONTROLES'!L19 -> ALTO | S14: =+'EVALUACION CON CONTROLES'!M19 -> SI | T14: =+'EVALUACION CON CONTROLES'!N19 -> PROFESIONALES DEL ÁREA DE GESTIÓN DEL DESARROLLO LOCAL DE TUNJUELITO (PLANEACIÓN) | U14: =+'EVALUACION CON CONTROLES'!O19 -> 2023 | V14: =+'EVALUACION CON CONTROLES'!P19 -> 2023 | ... X14: =+'EVALUACION CON CONTROLES'!R19 -> ETAPA DE PLANEACIÓN
B15: 5 | C15: =+'EVALUACION CON CONTROLES'!C20:F20 -> Ausencia de fundamentación de la justificación y conveniencia de la contratación | D15: =+'EVALUACION CON CONTROLES'!B20 -> PLANEACIÓN | E15: =VLOOKUP(C15,'IDENTIFICACION Y ANALISIS'!$B$19:$F$48,3,FALSE) -> General | F15: =VLOOKUP(C15,'IDENTIFICACION Y ANALISIS'!$B$19:$F$48,4,FALSE) -> Interno | G15: =+EVALUACION!H21 -> 1. Necesidad de iniciar un nuevo proceso. 2. Selección adversa 3. No se puede satisfacer la necesidad de la entidad | H15: =+EVALUACION!I21 -> 2 | I15: =+EVALUACION!J21 -> 4 | J15: =+EVALUACION!K21 -> 6 | K15: =+EVALUACION!L21 -> ALTO | L15: SDG | M15: 100 | N15: =+'EVALUACION CON CONTROLES'!G20 -> Revisiones constantes por parte del área de planeación de la entidad tomando como referencia procesos similares | O15: =+'EVALUACION CON CONTROLES'!I20 -> 2 | P15: =+'EVALUACION CON CONTROLES'!J20 -> 4 | Q15: =+'EVALUACION CON CONTROLES'!K20 -> 6 | R15: =+'EVALUACION CON CONTROLES'!L20 -> ALTO | S15: =+'EVALUACION CON CONTROLES'!M20 -> NO | T15: =+'EVALUACION CON CONTROLES'!N20 -> PROFESIONALES DEL ÁREA DE GESTIÓN DEL DESARROLLO LOCAL DE TUNJUELITO (PLANEACIÓN) | U15: =+'EVALUACION CON CONTROLES'!O20 -> 2023 | V15: =+'EVALUACION CON CONTROLES'!P20 -> 2023 | ... X15: =+'EVALUACION CON CONTROLES'!R20 -> ETAPA DE PLANEACIÓN
B16: 7 | C16: =+'EVALUACION CON CONTROLES'!C21:F21 -> Errores involuntarios en los Estudios Previos, Pliegos de Condiciones, Estudio de Sector y en general cualquier documento que sea parte integral del mismo. | D16: =+'EVALUACION CON CONTROLES'!B21 -> PLANEACIÓN | E16: =VLOOKUP(C16,'IDENTIFICACION Y ANALISIS'!$B$19:$F$48,3,FALSE) -> General | F16: =VLOOKUP(C16,'IDENTIFICACION Y ANALISIS'!$B$19:$F$48,4,FALSE) -> Interno | G16: =+EVALUACION!H22 -> 1. Necesidad de iniciar un nuevo proceso 2. No se puede satisfacer la necesidad de la entidad. | H16: =+EVALUACION!I22 -> 3 | I16: =+EVALUACION!J22 -> 3 | J16: =+EVALUACION!K22 -> 6 | K16: =+EVALUACION!L22 -> ALTO | L16: SDG | M16: 100 | N16: =+'EVALUACION CON CONTROLES'!G21 -> Verificar los documentos en el proceso de observaciones y respuesta a estas mismas observaciones. Realizar las aclaraciones necesarias en el proceso de selección y evaluar las propuestas con los criterios sugeridos por Colombia Compra Eficiente. | O16: =+'EVALUACION CON CONTROLES'!I21 -> 3 | P16: =+'EVALUACION CON CONTROLES'!J21 -> 3 | Q16: =+'EVALUACION CON CONTROLES'!K21 -> 6 | R16: =+'EVALUACION CON CONTROLES'!L21 -> ALTO | S16: =+'EVALUACION CON CONTROLES'!M21 -> SI | T16: =+'EVALUACION CON CONTROLES'!N21 -> PROFESIONALES DEL ÁREA DE GESTIÓN DEL DESARROLLO LOCAL DE TUNJUELITO (PLANEACIÓN Y CONTRATACIÓN) | U16: =+'EVALUACION CON CONTROLES'!O21 -> 2023 | V16: =+'EVALUACION CON CONTROLES'!P21 -> 2023 | ... X16: =+'EVALUACION CON CONTROLES'!R21 -> ETAPA DE PLANEACIÓN Y SELECCIÓN
B17: 8 | C17: =+'EVALUACION CON CONTROLES'!C22:F22 -> Inadecuada evaluación de las ofertas y/o verificación de requisitos habilitantes | D17: =+'EVALUACION CON CONTROLES'!B22 -> SELECCIÓN | E17: =VLOOKUP(C17,'IDENTIFICACION Y ANALISIS'!$B$19:$F$48,3,FALSE) -> General | F17: =VLOOKUP(C17,'IDENTIFICACION Y ANALISIS'!$B$19:$F$48,4,FALSE) -> Interno | G17: =+EVALUACION!H23 -> 1. Selecciónar un contratista que no esté en capacidad de cumplir con el objeto del contrato. 2. Selección adversa | H17: =+EVALUACION!I23 -> 3 | I17: =+EVALUACION!J23 -> 4 | J17: =+EVALUACION!K23 -> 7 | K17: =+EVALUACION!L23 -> ALTO | L17: SDG | M17: 100 | N17: =+'EVALUACION CON CONTROLES'!G22 -> Efectuar verificaciones a los documentos y propuestas presentadas, con el apoyo de los profesionales del área y el equipo jurídico | O17: =+'EVALUACION CON CONTROLES'!I22 -> 3 | P17: =+'EVALUACION CON CONTROLES'!J22 -> 4 | Q17: =+'EVALUACION CON CONTROLES'!K22 -> 7 | R17: =+'EVALUACION CON CONTROLES'!L22 -> ALTO | S17: =+'EVALUACION CON CONTROLES'!M22 -> NO | T17: =+'EVALUACION CON CONTROLES'!N22 -> PROFESIONALES DEL ÁREA DE GESTIÓN DEL DESARROLLO LOCAL DE TUNJUELITO (PLANEACIÓN Y CONTRATACIÓN) | U17: =+'EVALUACION CON CONTROLES'!O22 -> 2023 | V17: =+'EVALUACION CON CONTROLES'!P22 -> 2023 | ... X17: =+'EVALUACION CON CONTROLES'!R22 -> SEMANAL ETAPA DE SELECCIÓN
B18: 9 | C18: =+'EVALUACION CON CONTROLES'!C23:F23 -> Confabulacion de los proponentes (Colusión) | D18: =+'EVALUACION CON CONTROLES'!B23 -> SELECCIÓN | E18: =VLOOKUP(C18,'IDENTIFICACION Y ANALISIS'!$B$19:$F$48,3,FALSE) -> General | F18: =VLOOKUP(C18,'IDENTIFICACION Y ANALISIS'!$B$19:$F$48,4,FALSE) -> Externo | G18: =+EVALUACION!H24 -> 1. Selecciónar un contratista que no esté en capacidad de cumplir con el objeto del contrato. 2. Selección adversa | H18: =+EVALUACION!I24 -> 3 | I18: =+EVALUACION!J24 -> 4 | J18: =+EVALUACION!K24 -> 7 | K18: =+EVALUACION!L24 -> ALTO | L18: CONTRATISTA | M18: 100 | N18: =+'EVALUACION CON CONTROLES'!G23 -> Utilizar la metodología de Colombia Compra Eficiente y dar cumplimiento a la normatividad vigente. | O18: =+'EVALUACION CON CONTROLES'!I23 -> 3 | P18: =+'EVALUACION CON CONTROLES'!J23 -> 4 | Q18: =+'EVALUACION CON CONTROLES'!K23 -> 7 | R18: =+'EVALUACION CON CONTROLES'!L23 -> ALTO | S18: =+'EVALUACION CON CONTROLES'!M23 -> SI | T18: =+'EVALUACION CON CONTROLES'!N23 -> PROFESIONALES DEL ÁREA DE GESTIÓN DEL DESARROLLO LOCAL DE TUNJUELITO (PLANEACIÓN Y CONTRATACIÓN) | U18: =+'EVALUACION CON CONTROLES'!O23 -> 2023 | V18: =+'EVALUACION CON CONTROLES'!P23 -> 2023 | ... X18: =+'EVALUACION CON CONTROLES'!R23 -> SEMANAL ETAPA DE SELECCIÓN
