Workbook
Name CATÉGORIAS_ADMON_NO_FACTURABLE: '[1]BASE DE PRECIOS'!$C$3:$C$16
Name CATÉGORIAS_PROFESIONALES: '[1]BASE DE PRECIOS'!$C$3:$C$11
Name CdadNoFactura: Presupuesto!$B$152:$B$166
Name CdadNoFactura: #REF!
Name CdadProfesional: Presupuesto!$B$49:$B$104
Name CdadProfesional: #REF!
Name DuracionMeses: Presupuesto!$B$10
Name DuracionMeses: #REF!
Name EQUIPOS_VEHICULOS_OTROS: '[1]BASE DE PRECIOS'!$B$109:$B$114
Name GASTOS_OFICINA_PRINCIPAL: '[1]BASE DE PRECIOS'!$B$98:$B$107
Name LISTAUSUARIOS: '[1]LISTA DE USUARIOS'!$A$2:$A$23
Name MODALIDAD: '[1]LISTAS DESPLEGABLES'!$F$15:$F$16
Name PERSONAL_ADMON: '[1]BASE DE PRECIOS'!$B$82:$B$93
Name PROFESIONALES: '[1]BASE DE PRECIOS'!$B$34:$B$69
Name TÉCNICOS: '[1]BASE DE PRECIOS'!$B$71:$B$80
Name TIPO_DE_CTO: '[1]LISTAS DESPLEGABLES'!$F$2:$F$5
Name TIPO_PERSONA: '[1]LISTAS DESPLEGABLES'!$F$20:$F$21

Sheet Presupuesto
B2: PROYECTO: “CONSULTORÍA PARA EL ANÁLISIS, EVALUACIÓN, REVISIÓN Y DEFINICIÓN DE LA ALTERNATIVA PARA LA INTERVENCIÓN DE LAS ESTRUCTURAS QUE NO HAN SIDO DEMOLIDAS Y SE ENCUENTRAN DENTRO DE LOS PREDIOS DONDE SE CONSTRUIRA LA FUTURA ESTACION 12 DE LA PLMB QUE COLINDAN CON UN BIEN DE INTERÉS CULTURAL-BIC..”
B4: TIPO CONTRATISTA: | C4: Persona Jurídica y/o natural
B5: MODALIDAD CONTRATACIÓN: | C5: Minima Cuantia
B6: CONTRATO DE: | C6: Consultoría
B7: PLAZO EN MESES: | C7: 3
B10: PERSONAL PROFESIONAL (AFECTADO POR EL FACTOR MULTIPLICADOR)
B11: CARGO | C11: REFERENCIA DE COSTO | D11: CANTIDAD | E11: Categorias según CCI | F11: % DEDICACIÓN MENSUAL | G11: MESES | H11: % DE PARTICIPACIÓN TOTAL | I11: COSTO / MES (TARIFA CCI) 2012 | J11: Factor Indexación a Octubre 2023 | K11: COSTO / MES (TARIFA CCI) 2023 | M11: F.M.
B12: Director | C12: Informe "Taridas de consultoría y calculo FM" Camara Colombiana de Infraestructuras | D12: 1 | E12: Cat 1 | F12: 0.15 | G12: 3 | H12: =F12*G12 -> 0.45 | I12: 8730000 | J12: 0.74823831 | K12: =(I12*J12)+I12 -> 15262120 | L12: =K12*H12 -> 6867954.2 | M12: ='Factor multiplicador (Anexo 2)'!F16 -> 2.2029 | N12: =L12*M12 -> 15129416
B13: Arquitecto | C13: Informe "Taridas de consultoría y calculo FM" Camara Colombiana de Infraestructuras | D13: 1 | E13: Cat 2 | F13: 0.15 | G13: 3 | H13: =F13*G13 -> 0.45 | I13: 6653000 | J13: 0.74823831 | K13: =(I13*J13)+I13 -> 11631029 | L13: =K13*H13 -> 5233963.3 | M13: ='Factor multiplicador (Anexo 2)'!F16 -> 2.2029 | N13: =L13*M13 -> 11529898
B14: Esp. Geotecnia | C14: Informe "Taridas de consultoría y calculo FM" Camara Colombiana de Infraestructuras | D14: 1 | E14: Cat 2 | F14: 0.25 | G14: 3 | H14: =F14*G14 -> 0.75 | I14: 6653000 | J14: 0.74823831 | K14: =(I14*J14)+I14 -> 11631029 | L14: =K14*H14 -> 8723272.1 | M14: ='Factor multiplicador (Anexo 2)'!F16 -> 2.2029 | N14: =L14*M14 -> 19216496
B15: Esp. Estructuras | C15: Informe "Taridas de consultoría y calculo FM" Camara Colombiana de Infraestructuras | D15: 1 | E15: Cat 2 | F15: 0.25 | G15: 3 | H15: =F15*G15 -> 0.75 | I15: 6653000 | J15: 0.74823831 | K15: =(I15*J15)+I15 -> 11631029 | L15: =K15*H15 -> 8723272.1 | M15: ='Factor multiplicador (Anexo 2)'!F16 -> 2.2029 | N15: =L15*M15 -> 19216496
B16: Costo | N16: =SUM(N12:N15) -> 65092306
B17: PERSONAL TÉCNICO (AFECTADO POR EL FACTOR MULTIPLICADOR)
B18: CARGO | C18: REFERENCIA DE COSTO | D18: CANTIDAD | E18: CATEGORIA | F18: % DEDICACIÓN MENSUAL | G18: MESES | H18: % DE PARTICIPACIÓN TOTAL | I18: COSTO / MES (TARIFA CCI) 2012 | J18: Factor Indexación a Octubre 2023 | K18: COSTO / MES (TARIFA CCI) 2023 | M18: F.M. | N18: VALOR PARCIAL
B19: Topógrafo Inspector | C19: Informe "Taridas de consultoría y calculo FM" Camara Colombiana de Infraestructuras | D19: 1 | E19: NA | F19: 0.2 | G19: 0.5 | H19: =F19*G19 -> 0.1 | I19: 1874000 | J19: 0.74823831 | K19: =(I19*J19)+I19 -> 3276198.6 | L19: =H19*K19 -> 327619.86 | M19: ='Factor multiplicador (Anexo 2)'!F16 -> 2.2029 | N19: =L19*M19 -> 721713.79
B20: Cadenero 1 | C20: Informe "Taridas de consultoría y calculo FM" Camara Colombiana de Infraestructuras | D20: 1 | E20: NA | F20: 0.2 | G20: 0.5 | H20: =F20*G20 -> 0.1 | I20: 1164000 | J20: 0.74823831 | K20: =(I20*J20)+I20 -> 2034949.4 | L20: =H20*K20 -> 203494.94 | M20: ='Factor multiplicador (Anexo 2)'!F16 -> 2.2029 | N20: =L20*M20 -> 448279
B21: Ing.Civil Auxiliar | C21: Informe "Taridas de consultoría y calculo FM" Camara Colombiana de Infraestructuras | D21: 1 | E21: Profesional Cat 8 | F21: 0.2 | G21: 3 | H21: =F21*G21 -> 0.6 | I21: 2743000 | J21: 0.74823831 | K21: =(I21*J21)+I21 -> 4795417.7 | L21: =H21*K21 -> 2877250.6 | M21: ='Factor multiplicador (Anexo 2)'!F16 -> 2.2029 | N21: =L21*M21 -> 6338295.4
B22: Costo | N22: =SUM(N19:N21) -> 7508288.2
B23: PERSONAL ADMON NO FACTURABLE (AFECTADO POR EL FACTOR MULTIPLICADOR)
B24: CARGO | C24: REFERENCIA DE COSTO | D24: CANTIDAD | E24: CATEGORIA | F24: % DEDICACIÓN | G24: MESES | H24: % DE PARTICIPACIÓN TOTAL | I24: COSTO / MES (TARIFA EMB) 2022 | J24: Variación porcentual Anual según decreto 0885 de 2023 | K24: COSTO / MES (TARIFA EMB) 2023 | N24: VALOR PARCIAL
B25: Conductor | C25: Informe "Taridas de consultoría y calculo FM" Camara Colombiana de Infraestructuras | D25: 1 | E25: NA | F25: 0.1 | G25: 3 | H25: =F25*G25 -> 0.3 | I25: 843000 | J25: 0.74823831 | K25: =(I25*J25)+I25 -> 1473764.9 | L25: =H25*K25 -> 442129.47 | M25: ='Factor multiplicador (Anexo 2)'!F16 -> 2.2029 | N25: =L25*M25 -> 973967.01
B26: Costo | N26: =SUM(N25:N25) -> 973967.01
B28: TOTAL COSTO PERSONAL CON FM | N28: =N16+N22+N26 -> 73574561 | O28: =N28 -> 73574561
B30: OFICINA PRINCIPAL | C30: REFERENCIA DE COSTO | D30: CANTIDAD | F30: % DEDICACIÓN | G30: MESES | H30: COSTO / MES ( TARIFA IDU 2023) | N30: VALOR PARCIAL
B31: Descripción
B32: Arrendamiento incluye Admon, Servicios públicos comunicaciones ($/mes/m2) | C32: 1_Avisor de precios unitarios de referencia 2023 I Fase I IDU | D32: 1 | G32: 3 | I32: =20*45200 -> 904000 | N32: =I32*G32*D32 -> 2712000
B33: Papelería ($/mes) | C33: 1_Avisor de precios unitarios de referencia 2023 I Fase I IDU | D33: 1 | G33: 3 | I33: 81905 | N33: =I33*G33*D33 -> 245715
B34: Computador + Programas ($/mes) | C34: 1_Avisor de precios unitarios de referencia 2023 I Fase I IDU | D34: 1 | G34: 3 | I34: 154700 | N34: =I34*G34*D34 -> 464100
B35: Celular + Plan voz y datos ($/mes) | C35: 1_Avisor de precios unitarios de referencia 2023 I Fase I IDU | D35: 1 | G35: 3 | I35: 145300 | N35: =I35*G35*D35 -> 435900
B36: Costo | N36: =SUM(N32:N35) -> 3857715 | O36: =N36 -> 3857715
B38: EQUIPOS-VEHICULOS-OTROS (COSTOS DIRECTOS) | C38: REFERENCIA DE COSTO | D38: CANTIDAD | F38: % DEDICACIÓN | G38: MESES | H38: COSTO / MES ( TARIFA IDU 2023) | N38: VALOR PARCIAL
B39: Campero, Pick-up, Camioneta, capacidad 5 personas, incluye combustible, no incluye conductor | C39: 1_Avisor de precios unitarios de referencia 2023 I Fase I IDU | D39: 1 | F39: 0.2 | G39: 2 | I39: 10590000 | N39: =I39*G39*F39 -> 4236000
B40: Estación Total de Topografía | C40: 1_Avisor de precios unitarios de referencia 2023 I Fase I IDU | D40: 1 | F40: 0.25 | G40: 1 | I40: 2206167 | N40: =I40*G40*F40 -> 551541.75
B41: Costo | N41: =SUM(N39:N40) -> 4787541.8 | O41: =N41 -> 4787541.8
B43: ENSAYOS DE LABORATORIO | C43: REFERENCIA DE COSTO | D43: CANTIDAD | J43: Variación porcentual Anual según IPC a sept-2023 | K43: COSTO /GL a septiembre de 2023 | N43: VALOR PARCIAL
B44: Ensayos requeridos para la elaboración del informe de acuerdo al anexo 1 | C44: Cotizaciones comparativo anexo | D44: 1 | I44: ='Comparativo ensayos (Anexo 1)'!D33 -> 14524150 | J44: 0.0101488 | K44: =(I44*J44)+I44 -> 14671553 | N44: =K44 -> 14671553
B45: Costo | N45: =SUM(N44) -> 14671553 | O45: =N45 -> 14671553
B48: COSTO TOTAL DE COSULTORIA
B49: =O28+O36+O41+O45 -> 96891371
B52: IVA
...

Sheet Cronograma ded
B3: Actividad / Tiempo | C3: MES 1 | AJ3: MES 2 | BN3: MES 3
C4: 1 | D4: 2 | E4: 3 | F4: 4 | G4: 5 | H4: 6 | I4: 7 | J4: 8 | K4: 9 | L4: 10 | M4: 11 | N4: 12 | O4: 13 | P4: 14 | Q4: 15 | R4: 16 | S4: 17 | T4: 18 | U4: 19 | V4: 20 | W4: 21 | X4: 22 | Y4: 23 | Z4: 24 | AA4: 25 | AB4: 26 | AC4: 27 | AD4: 28 | AE4: 29 | AF4: 30 | AG4: 31 | AH4: 32 | AI4: 33 | AJ4: 34 | AK4: 35 | AL4: 36 | AM4: 37 | AN4: 38 | AO4: 39 | AP4: 40 | AQ4: 41 | AR4: 42 | AS4: 43 | AT4: 44 | AU4: 45 | AV4: 46 | AW4: 47 | AX4: 48 | AY4: 49 | AZ4: 50 | BA4: 51 | BB4: 52 | BC4: 53 | BD4: 54 | BE4: 55 | BF4: 56 | BG4: 57 | BH4: 58 | BI4: 59 | BJ4: 60 | BK4: 61 | BL4: 62 | BM4: 63 | BN4: 64 | BO4: 65 | BP4: 66 | BQ4: 67 | BR4: 68 | BS4: 69 | BT4: 70 | BU4: 71 | BV4: 72 | BW4: 73 | BX4: 74 | BY4: 75 | BZ4: 76 | CA4: 77 | CB4: 78 | CC4: 79 | CD4: 80 | CE4: 81 | CF4: 82 | CG4: 83 | CH4: 84 | CI4: 85 | CJ4: 86 | CK4: 87 | CL4: 88 | CM4: 89 | CN4: 90
B5: Visita previa
B6: Plan de trabajo
B7: Movilización de equipos
B8: Toma de muestras
B9: Realización de ensayos
B10: Resultados
B11: Analisis de resultados
B12: Diseño de alternativas
B13: Definición de las alternativas
B14: Elaboración Informe final
B15: Aprobación EMB
B16: Radicación IDPC
... B18: Obtención de permiso
B20: Dedicación Profesionales | CO20: TOTAL
B21: Director | C21: 0.15 | AJ21: 0.15 | BN21: 0.15 | CO21: =C21+AJ21+BN21 -> 0.45
B22: Arquitecto | C22: 0.1 | AJ22: 0.15 | BN22: 0.2 | CO22: =C22+AJ22+BN22 -> 0.45
B23: Estructural | C23: 0.3 | AJ23: 0.4 | BN23: 0.05 | CO23: =C23+AJ23+BN23 -> 0.75
B24: Geotecnista | C24: 0.3 | AJ24: 0.4 | BN24: 0.05 | CO24: =C24+AJ24+BN24 -> 0.75

Sheet Dedicación
C3: Nota 1 | D3: Un mes tiene en promedio 4.3 semanas = (52 semanas/12 mesese) | E3: =206*3 -> 618 | F3: Horas por 3 meses
C4: Nota 2 | D4: Cada semana tiene 48 horas laborables | E4: 48 | F4: HL
C5: Nota 3 | D5: Un mes tiene 206 horas laborables en promedio | E5: 4.3 | F5: Semanas
E6: 3 | F6: meses
E7: 1 | F7: meses | G7: 206 | H7: Horas X mes | I7: =G7/E5 -> 47.906977 | J7: Horas X semana
C10: DIRECTOR
C11: Item | D11: Descripcioón | E11: Horas de dedicación en el plazo | F11: Horas por semana | G11: Semanas por mes | H11: Horas por mes | I11: Plazo total (meses) | J11: Tiempo requerido | K11: % requerido
C12: 1 | D12: El analisis de los ensayos de laboratorio requiere al menos una dedicación de1 horas al día | E12: =1/E3 -> 0.001618123 | F12: =1*5 -> 5 | G12: 4.3 | H12: =G12*F12 -> 21.5 | I12: 3 | J12: =H12*I12 -> 64.5 | K12: =J12/$E$3 -> 0.10436893
C13: 2 | D13: El analisis para la elaboración del resultado requiere al menos 0.7 hora al día | E13: =0.7/E3 -> 0.0011326861 | F13: =0.7*5 -> 3.5 | G13: 4.3 | H13: =G13*F13 -> 15.05 | I13: 3 | J13: =H13*I13 -> 45.15 | K13: =J13/$E$3 -> 0.073058252
C14: 3 | D14: La elaboración del informe final requerirá al menos 0.7 horas por día | E14: =0.7/E3 -> 0.0011326861 | F14: =0.7*5 -> 3.5 | G14: 4.3 | H14: =G14*F14 -> 15.05 | I14: 3 | J14: =H14*I14 -> 45.15 | K14: =J14/$E$3 -> 0.073058252
C15: 4 | D15: Revisión de correspondencia y preparación de respuesta, al menos 0.7 hora a la semana | E15: =0.7/E3 -> 0.0011326861 | F15: =0.7*5 -> 3.5 | G15: 4.3 | H15: =G15*F15 -> 15.05 | I15: 3 | J15: =H15*I15 -> 45.15 | K15: =J15/$E$3 -> 0.073058252
C16: 5 | D16: Visita al sitio de obra, al menos 1 visita | E16: =4/E3 -> 0.0064724919 | F16: =1*5 -> 5 | G16: 4.3 | H16: =G16*F16 -> 21.5 | I16: 3 | J16: =H16*I16 -> 64.5 | K16: =J16/$E$3 -> 0.10436893
C17: 6 | D17: Asistencia a reuniones con el contratante al menos 1 de 2 horas por mes | E17: =6/E3 -> 0.0097087379 | F17: =0.3*3 -> 0.9 | G17: 4.3 | H17: =G17*F17 -> 3.87 | I17: 4 | J17: =H17*I17 -> 15.48 | K17: =J17/$E$3 -> 0.025048544
C18: DEDICACIÓN TOTAL | K18: =SUM(K12:K17) -> 0.45296117
C21: PROFESIONALES ESPECIALIZADOS; ESTRUCTURAL Y GEOTECNISTA
C22: Item | D22: Descripcioón | E22: Horas de dedicación en el plazo | F22: Horas por semana | G22: Semanas por mes | H22: Horas por mes | I22: Plazo total (meses) | J22: Tiempo requerido | K22: % requerido
C23: 1 | D23: El analisis de los ensayos de laboratorio requiere al menos una dedicación de 3 horas al día | E23: =3/E3 -> 0.0048543689 | F23: =3*5 -> 15 | G23: 4.3 | H23: =G23*F23 -> 64.5 | I23: 3 | J23: =H23*I23 -> 193.5 | K23: =J23/$E$3 -> 0.3131068
C24: 2 | D24: El analisis para la elaboración del resultado requiere al menos 1 hora al día | E24: =1/E3 -> 0.001618123 | F24: =1*5 -> 5 | G24: 4.3 | H24: =G24*F24 -> 21.5 | I24: 3 | J24: =H24*I24 -> 64.5 | K24: =J24/$E$3 -> 0.10436893
C25: 3 | D25: La elaboración del informe final requerirá al menos 1.5 horas por día | E25: =1.5/E3 -> 0.0024271845 | F25: =1.5*5 -> 7.5 | G25: 4.3 | H25: =G25*F25 -> 32.25 | I25: 3 | J25: =H25*I25 -> 96.75 | K25: =J25/$E$3 -> 0.1565534
C26: 4 | D26: Revisión de correspondencia y preparación de respuesta, al menos 1.3 hora a la semana | E26: =1.3/E3 -> 0.0021035599 | F26: =1.3*5 -> 6.5 | G26: 4.3 | H26: =G26*F26 -> 27.95 | I26: 3 | J26: =H26*I26 -> 83.85 | K26: =J26/$E$3 -> 0.13567961
C27: 5 | D27: Visita al sitio de obra, al menos dos días del contrato | E27: =16/E16 -> 2472 | F27: 1.4 | G27: 4.3 | H27: =G27*F27 -> 6.02 | I27: 3 | J27: =H27*I27 -> 18.06 | K27: =J27/$E$3 -> 0.029223301
C28: 6 | D28: Asistencia a reuniones con el contratante al menos 1 de 2 horas por mes | E28: =6/E16 -> 927 | F28: 0.5 | G28: 4.3 | H28: =G28*F28 -> 2.15 | I28: 4 | J28: =H28*I28 -> 8.6 | K28: =J28/$E$3 -> 0.013915858
C29: DEDICACIÓN TOTAL | K29: =SUM(K23:K28) -> 0.7528479
C32: ARQUITECTO
C33: Item | D33: Descripcioón | E33: Horas de dedicación en el plazo | F33: Horas por semana | G33: Semanas por mes | H33: Horas por mes | I33: Plazo total (meses) | J33: Tiempo requerido | K33: % requerido
C34: 1 | D34: El analisis de los ensayos de laboratorio requiere al menos una dedicación de1 horas al día | E34: =1/E25 -> 412 | F34: =1*5 -> 5 | G34: 4.3 | H34: =G34*F34 -> 21.5 | I34: 3 | J34: =H34*I34 -> 64.5 | K34: =J34/$E$3 -> 0.10436893
C35: 2 | D35: El analisis para la elaboración del resultado requiere al menos 0.7 hora al día | E35: =0.7/E25 -> 288.4 | F35: =0.7*5 -> 3.5 | G35: 4.3 | H35: =G35*F35 -> 15.05 | I35: 3 | J35: =H35*I35 -> 45.15 | K35: =J35/$E$3 -> 0.073058252
C36: 3 | D36: La elaboración del informe final requerirá al menos 0.7 horas por día | E36: =0.7/E25 -> 288.4 | F36: =0.7*5 -> 3.5 | G36: 4.3 | H36: =G36*F36 -> 15.05 | I36: 3 | J36: =H36*I36 -> 45.15 | K36: =J36/$E$3 -> 0.073058252
C37: 4 | D37: Revisión de correspondencia y preparación de respuesta, al menos 0.7 hora a la semana | E37: =0.7/E25 -> 288.4 | F37: =0.7*5 -> 3.5 | G37: 4.3 | H37: =G37*F37 -> 15.05 | I37: 3 | J37: =H37*I37 -> 45.15 | K37: =J37/$E$3 -> 0.073058252
C38: 5 | D38: Visita al sitio de obra, al menos 1 visita | E38: =4/E25 -> 1648 | F38: =1*5 -> 5 | G38: 4.3 | H38: =G38*F38 -> 21.5 | I38: 3 | J38: =H38*I38 -> 64.5 | K38: =J38/$E$3 -> 0.10436893
C39: 6 | D39: Asistencia a reuniones con el contratante al menos 1 de 2 horas por mes | E39: =6/E25 -> 2472 | F39: =0.3*3 -> 0.9 | G39: 4.3 | H39: =G39*F39 -> 3.87 | I39: 4 | J39: =H39*I39 -> 15.48 | K39: =J39/$E$3 -> 0.025048544
C40: DEDICACIÓN TOTAL | K40: =SUM(K34:K39) -> 0.45296117

Sheet Salarios CCI
D2: Tarifas 2012 | E2: Indexación a Oct/23 | F2: =+[2]IndicesIPC!W19 -> 1.7482383
C3: Director | D3: 8730000 | E3: =+D3*$F$2 -> 15262120
C4: Arquitecto especializado BIC | D4: 6653000 | E4: =+D4*$F$2 -> 11631029
C5: Esp. Geotecnia | D5: 6653000 | E5: =+D5*$F$2 -> 11631029
C6: Esp. Estructuras | D6: 6653000 | E6: =+D6*$F$2 -> 11631029
C7: Topógrafo Inspector | D7: 1874000 | E7: =+D7*$F$2 -> 3276198.6
C8: Cadenero 1 | D8: 1164000 | E8: =+D8*$F$2 -> 2034949.4
C9: Ing. Auxiliar | D9: 2743000 | E9: =+D9*$F$2 -> 4795417.7
C10: Conductor | D10: 843000 | E10: =+D10*$F$2 -> 1473764.9

Sheet Categorias est 
B3: CATEGORIAS ESTABLECIDAS SEGÚN CCI

Sheet Comparativo ensayos (Anexo 1)
B3: ENSAYOS DE LABORATORIO PARA ESTUDIO MURO E-12 CONCRELAB | I3: ENSAYOS DE LABORATORIO PARA ESTUDIO MURO E-12 EIE | P3: ENSAYOS DE LABORATORIO PARA ESTUDIO MURO E-12 DAPCIL | W3: PROMEDIO PONDERADO DE ACUERDO A LOS ITEMS SOLICITADOS | AE3: ENSAYOS DE LABORATORIO PARA ESTUDIO MURO E-12 PROMEDIO DE LOS TRES PROP
B4: No | C4: ITEM | D4: UNIDAD | E4: CANTIDAD | F4: VALOR UNITARIO | G4: VALOR TOTAL | I4: No | J4: ITEM | K4: UNIDAD | L4: CANTIDAD | M4: VALOR UNITARIO | N4: VALOR TOTAL | P4: No | Q4: ITEM | R4: UNIDAD | S4: CANTIDAD | T4: VALOR UNITARIO | U4: VALOR TOTAL | W4: No | X4: ITEM | Y4: UNIDAD | Z4: CANTIDAD | AA4: VALOR UNITARIO | AB4: VALOR TOTAL | AE4: TOTAL | AJ4: =(G25+N25+U25+AB25)/4 -> 14306402
B5: 1 | C5: Barreno manual (incluye transporte) | D5: ml | E5: 18 | F5: 196650 | G5: =F5*E5 -> 3539700 | I5: 1 | J5: Barreno manual (incluye transporte) | K5: ml | L5: 18 | M5: 418800 | N5: =M5*L5 -> 7538400 | P5: 1 | Q5: Barreno manual (incluye transporte) | R5: ml | S5: 18 | T5: 220000 | U5: =T5*S5 -> 3960000 | W5: 1 | X5: Barreno manual (incluye transporte) | Y5: ml | Z5: 18 | AA5: =(F5+M5+T5)/3 -> 278483.33 | AB5: =AA5*Z5 -> 5012700
B6: 1a | C6: Apique para investigación geotecnica | D6: Und | E6: 3 | F6: 0 | G6: =F6*E6 -> 0 | I6: 1a | J6: Apique para investigación geotecnica | K6: Und | L6: 3 | M6: 395000 | N6: =M6*L6 -> 1185000 | P6: 1a | Q6: Apique para investigación geotecnica | R6: Und | S6: 3 | T6: 0 | U6: =T6*S6 -> 0 | W6: 1a | X6: Apique para investigación geotecnica | Y6: Und | Z6: 3 | AA6: =M6 -> 395000 | AB6: =AA6*Z6 -> 1185000
B7: 2 | C7: Granulometría por tamizado, con lavado | D7: Und | E7: 9 | F7: 79000 | G7: =F7*E7 -> 711000 | I7: 2 | J7: Granulometría por tamizado, con lavado | K7: Und | L7: 9 | M7: 79740 | N7: =M7*L7 -> 717660 | P7: 2 | Q7: Granulometría por tamizado, con lavado | R7: Und | S7: 9 | T7: 85000 | U7: =T7*S7 -> 765000 | W7: 2 | X7: Granulometría por tamizado, con lavado | Y7: Und | Z7: 9 | AA7: =(F7+M7+T7)/3 -> 81246.667 | AB7: =AA7*Z7 -> 731220
B8: 6 | C8: Humedad natural (en horno) | D8: Und | E8: 9 | F8: 11500 | G8: =F8*E8 -> 103500 | I8: 6 | J8: Humedad natural (en horno) | K8: Und | L8: 9 | M8: 13680 | N8: =M8*L8 -> 123120 | P8: 6 | Q8: Humedad natural (en horno) | R8: Und | S8: 9 | T8: 8500 | U8: =T8*S8 -> 76500 | W8: 6 | X8: Humedad natural (en horno) | Y8: Und | Z8: 9 | AA8: =(F8+M8+T8)/3 -> 11226.667 | AB8: =AA8*Z8 -> 101040
B9: 13 | C9: Limites líquido y plástico | D9: Und | E9: 9 | F9: 70150 | G9: =F9*E9 -> 631350 | I9: 13 | J9: Limites líquido y plástico | K9: Und | L9: 9 | M9: 60030 | N9: =M9*L9 -> 540270 | P9: 13 | Q9: Limites líquido y plástico | R9: Und | S9: 9 | T9: 48000 | U9: =T9*S9 -> 432000 | W9: 13 | X9: Limites líquido y plástico | Y9: Und | Z9: 9 | AA9: =(F9+M9+T9)/3 -> 59393.333 | AB9: =AA9*Z9 -> 534540
B10: 14 | C10: Limite de contracción | D10: Und | E10: 3 | F10: 135000 | G10: =F10*E10 -> 405000 | I10: 14 | J10: Limite de contracción | K10: Und | L10: 3 | M10: 60030 | N10: =M10*L10 -> 180090 | P10: 14 | Q10: Limite de contracción | R10: Und | S10: 3 | T10: 66000 | U10: =T10*S10 -> 198000 | W10: 14 | X10: Limite de contracción | Y10: Und | Z10: 3 | AA10: =(F10+M10+T10)/3 -> 87010 | AB10: =AA10*Z10 -> 261030
B11: 15 | C11: Peso especifico de solidos | D11: Und | E11: 3 | F11: 294400 | G11: =F11*E11 -> 883200 | I11: 15 | J11: Peso especifico de solidos | K11: Und | L11: 3 | M11: 49050 | N11: =M11*L11 -> 147150 | P11: 15 | Q11: Peso especifico de solidos | R11: Und | S11: 3 | T11: 72000 | U11: =T11*S11 -> 216000 | W11: 15 | X11: Peso especifico de solidos | Y11: Und | Z11: 3 | AA11: =(F11+M11+T11)/3 -> 138483.33 | AB11: =AA11*Z11 -> 415450
B12: 16 | C12: Peso unitario y humedad | D12: Und | E12: 6 | F12: 1179900 | G12: =F12*E12 -> 7079400 | I12: 16 | J12: Peso unitario y humedad | K12: Und | L12: 6 | M12: 31410 | N12: =M12*L12 -> 188460 | P12: 16 | Q12: Peso unitario y humedad | R12: Und | S12: 6 | T12: 85000 | U12: =T12*S12 -> 510000 | W12: 16 | X12: Peso unitario y humedad | Y12: Und | Z12: 6 | AA12: =(M12+T12)/2 -> 58205 | AB12: =AA12*Z12 -> 349230
B13: 17 | C13: Consolidación rápida | D13: Und | E13: 2 | F13: 500000 | G13: =F13*E13 -> 1000000 | I13: 17 | J13: Consolidación rápida | K13: Und | L13: 2 | M13: 292320 | N13: =M13*L13 -> 584640 | P13: 17 | Q13: Consolidación rápida | R13: Und | S13: 2 | T13: 180000 | U13: =T13*S13 -> 360000 | W13: 17 | X13: Consolidación rápida | Y13: Und | Z13: 2 | AA13: =(F13+M13+T13)/3 -> 324106.67 | AB13: =AA13*Z13 -> 648213.33
B14: 17b | C14: Compresión incofinada | D14: Und | E14: 6 | F14: 0 | G14: =F14*E14 -> 0 | I14: 17b | J14: Compresión incofinada | K14: Und | L14: 6 | M14: 62460 | N14: =M14*L14 -> 374760 | P14: 17b | Q14: Compresión incofinada | R14: Und | S14: 6 | T14: 0 | U14: =T14*S14 -> 0 | W14: 17b | X14: Compresión incofinada | Y14: Und | Z14: 6 | AA14: =M14 -> 62460 | AB14: =AA14*Z14 -> 374760
B15: 23 | C15: Preparación Caras Núcleos | D15: Und | E15: 6 | F15: 28500 | G15: =F15*E15 -> 171000 | I15: 23 | J15: Preparación Caras Núcleos | K15: Und | L15: 6 | M15: 41850 | N15: =M15*L15 -> 251100 | P15: 23 | Q15: Preparación Caras Núcleos | R15: Und | S15: 6 | T15: 24000 | U15: =T15*S15 -> 144000 | W15: 23 | X15: Preparación Caras Núcleos | Y15: Und | Z15: 6 | AA15: =(F15+M15+T15)/3 -> 31450 | AB15: =AA15*Z15 -> 188700
B16: 24 | C16: Extracción Núcleo diámetro 15 cm y longitud 30 cm. | D16: Und | E16: 5 | F16: 0 | G16: =F16*E16 -> 0 | I16: 24 | J16: Extracción Núcleo diámetro 15 cm y longitud 30 cm. | K16: Und | L16: 5 | M16: 226700 | N16: =M16*L16 -> 1133500 | P16: 24 | Q16: Extracción Núcleo diámetro 15 cm y longitud 30 cm. | R16: Und | S16: 5 | T16: 480000 | U16: =T16*S16 -> 2400000 | W16: 24 | X16: Extracción Núcleo diámetro 15 cm y longitud 30 cm. | Y16: Und | Z16: 5 | AA16: =(M16+T16)/2 -> 353350 | AB16: =AA16*Z16 -> 1766750
B17: 24a | C17: Regatas para verificación de diametros y recubrimientso de armaduras | D17: Und | E17: 5 | F17: 0 | G17: =F17*E17 -> 0 | I17: 24a | J17: Regatas para verificación de diametros y recubrimientso de armaduras | K17: Und | L17: 5 | M17: 195000 | N17: =M17*L17 -> 975000 | P17: 24a | Q17: Regatas para verificación de diametros y recubrimientso de armaduras | R17: Und | S17: 5 | T17: 0 | U17: =T17*S17 -> 0 | W17: 24a | X17: Regatas para verificación de diametros y recubrimientso de armaduras | Y17: Und | Z17: 5 | AA17: =M17 -> 195000 | AB17: =AA17*Z17 -> 975000
B18: 24b | C18: Inspección de estructuras utilizando el ferroscan | D18: Und | E18: 5 | F18: 0 | G18: =F18*E18 -> 0 | I18: 24b | J18: Inspección de estructuras utilizando el ferroscan | K18: Und | L18: 5 | M18: 269500 | N18: =M18*L18 -> 1347500 | P18: 24b | Q18: Inspección de estructuras utilizando el ferroscan | R18: Und | S18: 5 | T18: 0 | U18: =T18*S18 -> 0 | W18: 24b | X18: Inspección de estructuras utilizando el ferroscan | Y18: Und | Z18: 5 | AA18: =M18 -> 269500 | AB18: =AA18*Z18 -> 1347500
B19: 24c | C19: Ensayo de ultrasonido, por elemento o zona | D19: Und | E19: 5 | F19: 0 | G19: =F19*E19 -> 0 | I19: 24c | J19: Ensayo de ultrasonido, por elemento o zona | K19: Und | L19: 5 | M19: 123200 | N19: =M19*L19 -> 616000 | P19: 24c | Q19: Ensayo de ultrasonido, por elemento o zona | R19: Und | S19: 5 | T19: 0 | U19: =T19*S19 -> 0 | W19: 24c | X19: Ensayo de ultrasonido, por elemento o zona | Y19: Und | Z19: 5 | AA19: =M19 -> 123200 | AB19: =AA19*Z19 -> 616000
B20: 24e | C20: Ensayo de esclerometro, por elemento | D20: Und | E20: 5 | F20: 0 | G20: =F20*E20 -> 0 | I20: 24e | J20: Ensayo de esclerometro, por elemento | K20: Und | L20: 5 | M20: 82500 | N20: =M20*L20 -> 412500 | P20: 24e | Q20: Ensayo de esclerometro, por elemento | R20: Und | S20: 5 | T20: 0 | U20: =T20*S20 -> 0 | W20: 24e | X20: Ensayo de esclerometro, por elemento | Y20: Und | Z20: 5 | AA20: =M20 -> 82500 | AB20: =AA20*Z20 -> 412500
B21: 24f | C21: Medida de potencial de corrosión | D21: Und | E21: 5 | F21: 0 | G21: =F21*E21 -> 0 | I21: 24f | J21: Medida de potencial de corrosión | K21: Und | L21: 5 | M21: 174900 | N21: =M21*L21 -> 874500 | P21: 24f | Q21: Medida de potencial de corrosión | R21: Und | S21: 5 | T21: 0 | U21: =T21*S21 -> 0 | W21: 24f | X21: Medida de potencial de corrosión | Y21: Und | Z21: 5 | AA21: =M21 -> 174900 | AB21: =AA21*Z21 -> 874500
B22: 25 | C22: Resistencia Compresión cilindros 15 cm | D22: Und | E22: 5 | F22: 0 | G22: =F22*E22 -> 0 | I22: 25 | J22: Resistencia Compresión cilindros 15 cm | K22: Und | L22: 5 | M22: 41850 | N22: =M22*L22 -> 209250 | P22: 25 | Q22: Resistencia Compresión cilindros 15 cm | R22: Und | S22: 5 | T22: 8500 | U22: =T22*S22 -> 42500 | W22: 25 | X22: Resistencia Compresión cilindros 15 cm | Y22: Und | Z22: 5 | AA22: =(M22+T22)/2 -> 25175 | AB22: =AA22*Z22 -> 125875
B23: 26 | C23: Tracción Indirecta Cilindros de Concreto | D23: Und | E23: 5 | F23: 0 | G23: =F23*E23 -> 0 | I23: 26 | J23: Tracción Indirecta Cilindros de Concreto | K23: Und | L23: 5 | M23: 13140 | N23: =M23*L23 -> 65700 | P23: 26 | Q23: Tracción Indirecta Cilindros de Concreto | R23: Und | S23: 5 | T23: 24000 | U23: =T23*S23 -> 120000 | W23: 26 | X23: Tracción Indirecta Cilindros de Concreto | Y23: Und | Z23: 5 | AA23: =(M23+T23)/2 -> 18570 | AB23: =AA23*Z23 -> 92850
C24: TOTAL | G24: =SUM(G5:G23) -> 14524150 | J24: TOTAL | N24: =SUM(N5:N23) -> 17464600 | Q24: TOTAL | U24: =SUM(U5:U23) -> 9224000 | X24: TOTAL | AB24: =SUM(AB5:AB23) -> 16012858
C25: VALOR TOTAL DE LOS ENSAYOS | G25: =G24 -> 14524150 | J25: VALOR TOTAL DE LOS ENSAYOS | N25: =N24 -> 17464600 | Q25: VALOR TOTAL DE LOS ENSAYOS | U25: =U24 -> 9224000 | X25: VALOR TOTAL DE LOS ENSAYOS | AB25: =AB24 -> 16012858
C31: **** | D31: Se tomará la propuesta de la mediana más cercano
C33: MA | D33: =MEDIAN(G25,N25,U25,AB25,AJ4) -> 14524150 | J33: ***Mediana aritmetica
C35: CONCRELAB | D35: =G25 -> 14524150 | F35: =D33 -> 14524150 | G35: =F35-D35 -> 0
C36: EIE | D36: =N25 -> 17464600 | F36: =D33 -> 14524150 | G36: =F36-D36 -> -2940450
C37: DAPCIL | D37: =U25 -> 9224000 | F37: =D33 -> 14524150 | G37: =F37-D37 -> 5300150
C38: PROMEDIO DE CADA ITEM | D38: =AB25 -> 16012858 | F38: =D33 -> 14524150 | G38: =F38-D38 -> -1488708.3
C39: PROMEDIO DEL TOTAL | D39: =AJ4 -> 14306402 | F39: =D33 -> 14524150 | G39: =F39-D39 -> 217747.92

Sheet IndicesIPC
A3: Total, Indice de Precios al Consumidor (IPC)
A5: Índices - Serie de empalme 2003 - 2023
V8: Base Diciembre de 2018 = 100,00
A9: Mes | B9: 2003 | C9: 2004 | D9: 2005 | E9: 2006 | F9: 2007 | G9: 2008 | H9: 2009 | I9: 2010 | J9: 2011 | K9: 2012 | L9: 2013 | M9: 2014 | N9: 2015 | O9: 2016 | P9: 2017 | Q9: 2018 | R9: 2019 | S9: 2020 | T9: 2021 | U9: 2022 | V9: 2023
A10: Enero | B10: 50.42 | C10: 53.54 | D10: 56.45 | E10: 59.02 | F10: 61.8 | G10: 65.51 | H10: 70.21 | I10: 71.69 | J10: 74.12 | K10: 76.75 | L10: 78.28 | M10: 79.95 | N10: 83 | O10: 89.19 | P10: 94.07 | Q10: 97.53 | R10: 100.6 | S10: 104.24 | T10: 105.91 | U10: 113.26 | V10: 128.27
A11: Febrero | B11: 50.98 | C11: 54.18 | D11: 57.02 | E11: 59.41 | F11: 62.53 | G11: 66.5 | H11: 70.8 | I11: 72.28 | J11: 74.57 | K11: 77.22 | L11: 78.63 | M11: 80.45 | N11: 83.96 | O11: 90.33 | P11: 95.01 | Q11: 98.22 | R11: 101.18 | S11: 104.94 | T11: 106.58 | U11: 115.11 | V11: 130.4
A12: Marzo | B12: 51.51 | C12: 54.71 | D12: 57.46 | E12: 59.83 | F12: 63.29 | G12: 67.04 | H12: 71.15 | I12: 72.46 | J12: 74.77 | K12: 77.31 | L12: 78.79 | M12: 80.77 | N12: 84.45 | O12: 91.18 | P12: 95.46 | Q12: 98.45 | R12: 101.62 | S12: 105.53 | T12: 107.12 | U12: 116.26 | V12: 131.77
A13: Abril | B13: 52.1 | C13: 54.96 | D13: 57.72 | E13: 60.09 | F13: 63.85 | G13: 67.51 | H13: 71.38 | I13: 72.79 | J13: 74.86 | K13: 77.42 | L13: 78.99 | M13: 81.14 | N13: 84.9 | O13: 91.63 | P13: 95.91 | Q13: 98.91 | R13: 102.12 | S13: 105.7 | T13: 107.76 | U13: 117.71 | V13: 132.8
A14: Mayo | B14: 52.36 | C14: 55.17 | D14: 57.95 | E14: 60.29 | F14: 64.05 | G14: 68.14 | H14: 71.39 | I14: 72.87 | J14: 75.07 | K14: 77.66 | L14: 79.21 | M14: 81.53 | N14: 85.12 | O14: 92.1 | P14: 96.12 | Q14: 99.16 | R14: 102.44 | S14: 105.36 | T14: 108.84 | U14: 118.7 | V14: 133.38
A15: Junio | B15: 52.33 | C15: 55.51 | D15: 58.18 | E15: 60.48 | F15: 64.12 | G15: 68.73 | H15: 71.35 | I15: 72.95 | J15: 75.31 | K15: 77.72 | L15: 79.39 | M15: 81.61 | N15: 85.21 | O15: 92.54 | P15: 96.23 | Q15: 99.31 | R15: 102.71 | S15: 104.97 | T15: 108.78 | U15: 119.31 | V15: 133.78
A16: Julio | B16: 52.26 | C16: 55.49 | D16: 58.21 | E16: 60.73 | F16: 64.23 | G16: 69.06 | H16: 71.32 | I16: 72.92 | J16: 75.42 | K16: 77.7 | L16: 79.43 | M16: 81.73 | N16: 85.37 | O16: 93.02 | P16: 96.18 | Q16: 99.18 | R16: 102.94 | S16: 104.97 | T16: 109.14 | U16: 120.27 | V16: 134.45
A17: Agosto | B17: 52.42 | C17: 55.51 | D17: 58.21 | E17: 60.96 | F17: 64.14 | G17: 69.19 | H17: 71.35 | I17: 73 | J17: 75.39 | K17: 77.73 | L17: 79.5 | M17: 81.9 | N17: 85.78 | O17: 92.73 | P17: 96.32 | Q17: 99.3 | R17: 103.03 | S17: 104.96 | T17: 109.62 | U17: 121.5 | V17: 135.39
A18: Septiembre | B18: 52.53 | C18: 55.67 | D18: 58.46 | E18: 61.14 | F18: 64.2 | G18: 69.06 | H18: 71.28 | I18: 72.9 | J18: 75.62 | K18: 77.96 | L18: 79.73 | M18: 82.01 | N18: 86.39 | O18: 92.68 | P18: 96.36 | Q18: 99.47 | R18: 103.26 | S18: 105.29 | T18: 110.04 | U18: 122.63 | V18: 136.11
A19: Octubre | B19: 52.56 | C19: 55.66 | D19: 58.6 | E19: 61.05 | F19: 64.2 | G19: 69.3 | H19: 71.19 | I19: 72.84 | J19: 75.77 | K19: 78.08 | L19: 79.52 | M19: 82.14 | N19: 86.98 | O19: 92.62 | P19: 96.37 | Q19: 99.59 | R19: 103.43 | S19: 105.23 | T19: 110.06 | U19: 123.51 | V19: 136.45 | W19: =+V19/V16 -> 1.0148754
A20: Noviembre | B20: 52.75 | C20: 55.82 | D20: 58.66 | E20: 61.19 | F20: 64.51 | G20: 69.49 | H20: 71.14 | I20: 72.98 | J20: 75.87 | K20: 77.98 | L20: 79.35 | M20: 82.25 | N20: 87.51 | O20: 92.73 | P20: 96.55 | Q20: 99.7 | R20: 103.54 | S20: 105.08 | T20: 110.6 | U20: 124.46 | W20: =V19/K21 -> 1.7482383
A21: Diciembre | B21: 53.07 | C21: 55.99 | D21: 58.7 | E21: 61.33 | F21: 64.82 | G21: 69.8 | H21: 71.2 | I21: 73.45 | J21: 76.19 | K21: 78.05 | L21: 79.56 | M21: 82.47 | N21: 88.05 | O21: 93.11 | P21: 96.92 | Q21: 100 | R21: 103.8 | S21: 105.48 | T21: 111.41 | U21: 126.03
A24: Fuente: DANE.
A25: Nota: La diferencia en la suma de las variables, obedece al sistema de aproximación y redondeo.
A26: Actualizado el 08 de noviembre de 2023

Sheet Factor multiplicador (Anexo 2)
B3: 1 | E3: 2
B4: Descripción | C4: Porcentaje | E4: Gastos Directos | F4: 0.18
B5: Salario | C5: 1
B6: Pensión | C6: 0.16 | E6: 3
B7: Salud | C7: 0.125 | E7: Gastos Generales | F7: 0.06
B8: Riesgos profesionales | C8: 0.0696
B9: Prima | C9: 0.0833 | E9: 4
B10: Cesantías | C10: 0.0833 | E10: Costos directos no reembolsables | F10: 0.15
B11: int. Cesantías | C11: 0.01
B12: Vacaciones | C12: 0.0417 | E12: 5
B13: Caja de compensación | C13: 0.04 | E13: Utilidad del consultor | F13: 0.09
B14: Sena | C14: 0.02
B15: ICBF | C15: 0.03 | E15: 6
B16: Dotación y SISO | C16: 0.06 | E16: Total FM | F16: =+(C17+F4+F7+F10+F13)/100%*1 -> 2.2029
B17: Total F.M. | C17: =SUM(C5:C16) -> 1.7229
B33: **** Análisis del factor multiplicador dentro del presupuesto de la consultaría en Colombia
B34: ***** Elaboración de presupuestos para contratos de construcción_2_IDU

Sheet Ensayos mínimos requeridos (A3)
C2: ENSAYOS DE LABORATORIO
C3: No | D3: ITEM | E3: UNIDAD
C4: 1 | D4: Barreno manual (incluye transporte) | E4: ml
C5: 1a | D5: Apique para investigación geotecnica | E5: Und
C6: 2 | D6: Granulometría por tamizado, con lavado | E6: Und
C7: 6 | D7: Humedad natural (en horno) | E7: Und
C8: 13 | D8: Limites líquido y plástico | E8: Und
C9: 14 | D9: Limite de contracción | E9: Und
C10: 15 | D10: Peso especifico de solidos | E10: Und
C11: 16 | D11: Peso unitario y humedad | E11: Und
C12: 17 | D12: Consolidación rápida | E12: Und
C13: 17b | D13: Compresión incofinada | E13: Und
C14: 23 | D14: Preparación Caras Núcleos | E14: Und
C15: 24 | D15: Extracción Núcleo diámetro 15 cm y longitud 30 cm. | E15: Und
C16: 24a | D16: Regatas para verificación de diametros y recubrimientso de armaduras | E16: Und
C17: 24b | D17: Inspección de estructuras utilizando el ferroscan | E17: Und
C18: 24c | D18: Ensayo de ultrasonido, por elemento o zona | E18: Und
C19: 24e | D19: Ensayo de esclerometro, por elemento | E19: Und
C20: 24f | D20: Medida de potencial de corrosión | E20: Und
C21: 25 | D21: Resistencia Compresión cilindros 15 cm | E21: Und
C22: 26 | D22: Tracción Indirecta Cilindros de Concreto | E22: Und
