Workbook

Sheet RESUMEN EVALUACIÓN
A1: FONDO DE DESARROLLO LOCAL DE USAQUEN
A2: FDLUSA-LP-004-2019
A3: CONTRATAR A MONTO AGOTABLE SIN FORMULA DE AJUSTE LAS OBRAS DE INTERVENCIÓN, MANTENIMIENTO, REHABILITACIÓN Y ACTUALIZACIÓN DEL EQUIPAMIENTO Y MOBILIARIO DEL PARQUE 01-079 DENOMINADO URBANIZACIÓN EL TOBERIN CATALOGADO COMO VECINAL EN LA LOCALIDAD DE USAQUÉN EN BOGOTÁ D.C.
B5: Nombre de Oferente : | C5: INDICES FINANCIEROS | D5: CAPACIDAD JURIDICA | E5: CAPACIDAD TÉCNICA | F5: K RESIDUAL | G5: INFORME FINAL | H5: OBSERVACIONES
A6: 1 | B6: CONSORCIO CQ USAQUEN | C6: HÁBIL | D6: HABIL | E6: HÁBIL | F6: HÁBIL | G6: HABIL | H6: NINGUNA | I6: SUBSANO
A7: 2 | B7: CONSORCIO INTERAPIA USA | C7: HÁBIL | D7: HÁBIL | E7: HÁBIL | F7: HÁBIL | G7: HÁBIL | H7: NINGUNA | I7: SUBSANO
A8: 3 | B8: CONSORCIO MONSERRATE | C8: HÁBIL | D8: HÁBIL | E8: HÁBIL | F8: HÁBIL | G8: HÁBIL | H8: NINGUNA | I8: SUBSANO
A9: 4 | B9: CONSORCIO PARQUES CJ | C9: HÁBIL | D9: HÁBIL | E9: HÁBIL | F9: HÁBIL | G9: HÁBIL | H9: NINGUNA | I9: SUBSANO
A10: 5 | B10: CONSORCIO PARQUES USAQUEN | C10: HÁBIL | D10: RECHAZADO | E10: NO HÁBIL | F10: HÁBIL | G10: RECHAZADO | H10: Remitirse a la evaluación, financiera, juridica y/o técncia según corresponda. | I10: SUBSANO | J10: TECNICO | K10: JURIDICO
A11: 6 | B11: CONSORCIO SAN ALEJANDRO | C11: HÁBIL | D11: HABIL | E11: HÁBIL | F11: HÁBIL | G11: HABIL | H11: NINGUNA | I11: NO SUBSANO
A12: 7 | B12: CONSORCIO TOBERIN 04 | C12: HÁBIL | D12: HÁBIL | E12: HÁBIL | F12: HABIL | G12: HÁBIL | H12: NINGUNA | I12: SUBSANO | J12: JURIDICO
A13: 8 | B13: CONSORCIO UNIOBRAS 2020 USA | C13: HABIL | D13: HABIL | E13: HÁBIL | F13: HÁBIL | G13: HABIL | H13: NINGUNA | I13: SUBSANO | J13: FINANCIERO | K13: JURIDICO
A14: 9 | B14: CONSORCIO USAQUEN GV-CJS | C14: HÁBIL | D14: HABIL | E14: HÁBIL | F14: HABIL | G14: HABIL | H14: NINGUNA | I14: NO SUBSANO
A15: 10 | B15: CONSORCIO VALHER | C15: HABIL | D15: HÁBIL | E15: HÁBIL | F15: HÁBIL | G15: HÁBIL | H15: NINGUNA | I15: SUBSANO | J15: FINANCIERO | K15: JURIDICO
A16: 11 | B16: CUT | C16: HÁBIL | D16: HABIL | E16: HÁBIL | F16: HÁBIL | G16: HABIL | H16: NINGUNA | I16: SUBSANO | J16: JURIDICO
A17: 12 | B17: ESTUDIOS E INGENIERIA SAS | C17: HÁBIL | D17: HÁBIL | E17: HÁBIL | F17: HÁBIL | G17: HÁBIL | H17: NINGUNA | I17: NO SUBSANO
A18: 13 | B18: GOARCO S.A.S | C18: HÁBIL | D18: HABIL | E18: HÁBIL | F18: HÁBIL | G18: HABIL | H18: NINGUNA | I18: SUBSANO
A19: 14 | B19: IMAGEN Y MARCA S.A.S | C19: HÁBIL | D19: HÁBIL | E19: HÁBIL | F19: NO HABIL | G19: NO HÁBIL | H19: Remitirse a la evaluación, financiera, juridica y/o técncia según corresponda. | I19: SUBSANO | J19: TECNICO
A20: 15 | B20: INGEDEUR SAS | C20: HÁBIL | D20: HABIL | E20: HÁBIL | F20: HÁBIL | G20: HABIL | H20: NINGUNA | I20: SUBSANO | J20: JURIDICO
A21: 16 | B21: PROFESIONALES ASOCIADOS LTDA | C21: HÁBIL | D21: HÁBIL | E21: HÁBIL | F21: HÁBIL | G21: HÁBIL | H21: NINGUNA | I21: SUBSANO
A22: 17 | B22: SIMA LTDA | C22: HÁBIL | D22: HABIL | E22: HÁBIL | F22: HÁBIL | G22: HABIL | H22: NINGUNA | I22: NO SUBSANO
B26: COMITÉ JURIDICO EVALUADOR: | H26: COMITÉ TECNICO EVALUADOR:
B27: DANIEL BARACALDO | H27: ESTEBAN MARTINEZ
B28: MONICA HERNANDEZ | H28: FREDY SANCHEZ
B29: ISAURO ALVARADO | H29: CHRISTIAN CERINZA
B30: GABRIEL RADA | H30: RODRIGO PUENTES
B32: COMITÉ FINANCIERO EVALUADOR:
B33: JEISON ORTIZ
B34: JUAN MANUEL BARRERA

Sheet EVALUACION
A2: FDLUSA-LP-004-2019
A3: REQUISITOS HABILITANTES TÉCNICOS
A6: =+'RESUMEN EVALUACIÓN'!A6 -> 1 | B6: =+'RESUMEN EVALUACIÓN'!B6 -> CONSORCIO CQ USAQUEN
A7: CONDICIONES DE EXPERIENCIA | H7: CONDICION N°. 1 (VER TABLA AL FINAL DE LA HOJA) | J7: CONDICION N° 2 (VER TABLA AL FINAL DE LA HOJA) | L7: CONDICION N°. 3 (VER TABLA AL FINAL DE LA HOJA) | N7: CODIGO UNSPSC 492415, 721531, 721413, 721411,721033, 721029, 492215, 561016, 561019 | O7: FORMATO Nro. 7 PERSONAL MÍNIMO REQUERIDO | P7: FORMATO Nro.14 REQUISITOS MINIMOS HABILITANTES TECNICOS MAQUINARIA | Q7: FORMATO Nro. 16 ACUERDO DE NIVELES DE SERVICIOS (ANS) | R7: Observación y respuesta a observaciones
A8: Objeto del Contrato | B8: Empleador | C8: Cargo | D8: Valor Contrato | E8: Valor del Contrato en SMMLV | F8: Participación UT/CONSORCIO | G8: Participación en SMMLV | H8: Cantidad exigida | I8: Cantidad aportada | J8: Término de ejecución exigido | K8: Término de ejecución aportado | L8: Valor exigido SMMLV | M8: Valor aportado
A9: M&C CONSTRUCCIONES SAS - 70%
A10: CONSTRUCCION DE UN PARQUE LINEAL DE ACCESO AL MUNICIPIO DE TAMALAMEQUE EN EL DEPARTAMENTO DEL CESAR | B10: MUNICIPIO DE TAMALAMEQUE | C10: CONTRATISTA | D10: 4726996732 | E10: =+D10/F287 -> 6050.6178 | F10: 0.2 | G10: =+E10*F10 -> 1210.1236 | H10: 16000 | I10: =8079.98*F10 -> 1615.996 | J10: Del 26/11/1999 al 25/11/2019 | K10: Del 16/11/2017 al 14/07/2018 | L10: =+$C$246 -> 2613.2566 | M10: =+G10 -> 1210.1236 | N10: CUMPLE, 492415 | O10: CUMPLE | P10: CUMPLE | Q10: CUMPLE | S10: formato no 6. pag 166 documento capacidad tecnica 492415 PAG 98
A11: CONTRATAR POR EL SISTEMA DE PRECIOS UNITARIOS FIJOS, SIN FORMULA DE AJUSTE, EL MANTENIMIENTO Y LA RECUPERACION INTEGRAL, PREVENTIVA Y CORRECTIVA DE TODA LA INFRAESTRUCTURA FISICA DE LOS PARQUES VECINALES QUE CONFORMAN EL SISTEMA DISTRITAL DE PARQUES | B11: INSTITUTO DISTRITAL DE RECREACION Y DEPORTE | C11: CONTRATISTA | D11: 1879273758 | E11: =+D11/F280 -> 3508.7262 | F11: 1 | G11: =+E11*F11 -> 3508.7262 | I11: 0 | J11: Del 26/11/1999 al 25/11/2019 | K11: Del 05/08/2010 al 28/02/2011 | M11: =+G11 -> 3508.7262 | N11: CUMPLE, 492415 | R11: SE SOLICITA AL PROPONENTE QUE ACLARE LAS AREAS INTERVENIDAS EN VIRTUD A QUE EN LA DOCUMENTACION APORTADA NO APARECEN DISCRIMINADOS ESTOS DATOS, ASI MISMO SE SOLICITA QUE LOS DOCUMENTOS APORTADOS SEAN LEGIBLES PARA SU CORRECTA REVISION. | S11: documento consorcial pag 22 documento capacidad juridica 492415 PAG 130
A12: El contratista se compromete a ejecutar para la instituto, por el sistema de precios unitarios fijos sin formula de reajuste, las obras para la construccion y remodelacion de parques del barrio del distrito capital de acuerdo con las especificaciones tecnicas contenidas en el pliego de condiciones | B12: INSTITUTO DISTRITAL DE RECREACION Y DEPORTE | C12: CONTRATISTA | D12: 5008932500 | E12: =+D12/F270 -> 17513.75 | F12: 0.45 | G12: =+E12*F12 -> 7881.1875 | I12: =121070*F12 -> 54481.5 | J12: Del 26/11/1999 al 25/11/2019 | K12: Del 14/03/2000 al 13/01/2001 | M12: =+G12 -> 7881.1875 | N12: CUMPLE, 721531 | S12: formato no 14 pag 100 documento k recidual
A14: CQK CONSTRUCCIONES SAS - 30%
A15: CONSTRUCCION DE UN PARQUE LINEAL DE ACCESO AL MUNICIPIO DE TAMALAMEQUE EN EL DEPARTAMENTO DEL CESAR | B15: MUNICIPIO DE TAMALAMEQUE | C15: CONTRATISTA | D15: 4726996732 | E15: =+D15/F287 -> 6050.6178 | F15: 0.8 | G15: =+E15*F15 -> 4840.4942 | I15: =8079.98*F15 -> 6463.984 | J15: Del 26/11/1999 al 25/11/2019 | K15: Del 16/11/2017 al 14/07/2018 | M15: =+G15 -> 4840.4942 | N15: CUMPLE, 492415
A16: TOTALES | H16: CUMPLE | I16: =SUM(I10:I15) -> 62561.48 | J16: CUMPLE | L16: CUMPLE | M16: =SUM(M10:M15) -> 17440.531 | N16: CUMPLE
A17: EXPERIENCIA DEL PROPONENTE | N17: CUMPLE
A20: =+'RESUMEN EVALUACIÓN'!A7 -> 2 | B20: =+'RESUMEN EVALUACIÓN'!B7 -> CONSORCIO INTERAPIA USA
A21: CONDICIONES DE EXPERIENCIA | H21: CONDICION N°. 1 (VER TABLA AL FINAL DE LA HOJA) | J21: CONDICION N° 2 (VER TABLA AL FINAL DE LA HOJA) | L21: CONDICION N°. 3 (VER TABLA AL FINAL DE LA HOJA) | N21: CODIGO UNSPSC 492415, 721531, 721413, 721411,721033, 721029, 492215, 561016, 561019 | O21: FORMATO Nro. 7 PERSONAL MÍNIMO REQUERIDO | P21: FORMATO Nro.14 REQUISITOS MINIMOS HABILITANTES TECNICOS MAQUINARIA | Q21: FORMATO Nro. 16 ACUERDO DE NIVELES DE SERVICIOS (ANS) | R21: Observación y respuesta a observaciones
A22: Objeto del Contrato | B22: Empleador | C22: Cargo | D22: Valor Contrato | E22: Valor del Contrato en SMMLV | F22: Participación UT/CONSORCIO | G22: Participación en SMMLV | H22: Cantidad exigida | I22: Cantidad aportada | J22: Término de ejecución exigido | K22: Término de ejecución aportado | L22: Valor exigido SMMLV | M22: Valor aportado
A23: INTER INGENIERÍA S.A.S - 70%
A24: REALIZAR EL MANTENIMIENTO ADECUACION DOTACION Y/O CONSTRUCCION DE PARQUES DE ESCALA VECINAL DE LA LOCALIDAD DE BOSA | B24: FDL BOSA | C24: CONTRATISTA | D24: 3015062500 | E24: 4680.01 | F24: 0.5 | G24: =+E24*F24 -> 2340.005 | H24: 16000 | I24: =10018.63*F24 -> 5009.315 | J24: Del 26/11/1999 al 25/11/2019 | K24: Del 17/12/2014 al 16/12/2015 | L24: =+$C$246 -> 2613.2566 | M24: =+G24 -> 2340.005 | N24: CUMPLE 492415 | O24: CUMPLE | P24: CUMPLE | Q24: CUMPLE | R24: UNA VEZ VERIFICADO EL CERTIFICADO DE ESTE CONTRATO SE ENCONTRO QUE NO SE TUVO EN CUENTA EL VALOR DE LA ADICION, POR LO TANTO EL FDLUSA CORRIGE EL VALOR CONSIGNADO EN EL RUP. PARA EL CALCULO DEL AREA INTERVENIDA EN EL CONTRATO SE TOMARON EN CUENTA LOS SIGUIENTES ITEMS: 3,4,5,6,7,8,32,41,49,NP49 Y NP 60 DEL ACTA DE RECIBO FINAL. | S24: RUP PAG 21
A25: EJECUTARO POR EL SISTEMA DE PRECIOS UNITARIOS FIJOS SIN FORMULA DE AJUSTE LA CONSTRUCCION, MANTENIMIENTO, ADECUACION Y DOTACION DE DIFERENTES PARQUES DE LA LOCALIDAD DE BOSA, INCLUIDO EL ESPACIO PUBLICO ASOCIADO | B25: FDL BOSA | C25: CONTRATISTA | D25: 5846542244 | E25: =+D25/F285 -> 8479.9476 | F25: 0.5 | G25: =+E25*F25 -> 4239.9738 | I25: =17740.81*F25 -> 8870.405 | J25: Del 26/11/1999 al 25/11/2019 | K25: Del 24/08/2015 al 23/07/2016 | M25: =+G25 -> 4239.9738 | N25: CUMPLE 492415 | R25: UNA VEZ VERIFICADO EL CERTIFICADO DE ESTE CONTRATO SE ENCONTRO QUE NO SE TUVO EN CUENTA EL VALOR DE LA ADICION, POR LO TANTO EL FDLUSA CORRIGE EL VALOR INCLUYENDO LA ADICION MENCIONADA. PARA EL CALCULO DEL AREA INTERVENIDA EN EL CONTRATO SE TOMARON EN CUENTA LOS SIGUIENTES ITEMS: 3,5,7,8,9,40,47,133,137,139,NP14 Y NP15 DEL ACTA DE RECIBO FINAL | S25: RUP PAG 23
A26: REALIZAR EL MANTENIMIENTO Y/O DOTACION DE PARQUES VECINALES Y DE BOLSILLO, POR EL SISTEMA DE PRECIOS UNITARIOS SIN FORMULA DE AJUSTE Y MONTO AGOTABLE | B26: FDL BOSA | C26: CONTRATISTA | D26: 1851020770 | E26: =+D26/F286 -> 2509.1204 | F26: 0.5 | G26: =+E26*F26 -> 1254.5602 | I26: =3490.71*F26 -> 1745.355 | J26: Del 26/11/1999 al 25/11/2019 | K26: Del 26/01/2016 al 29/04/2017 | M26: =+G26 -> 1254.5602 | N26: CUMPLE 492415 | R26: UNA VEZ VERIFICADO EL CERTIFICADO DE ESTE CONTRATO SE ENCONTRO QUE NO SE TUVO EN CUENTA EL VALOR DE LA ADICION, POR LO TANTO EL FDLUSA CORRIGE EL VALOR INCLUYENDO LA ADICION MENCIONADA. | S26: RUP PAG 28
A28: APIA PROYECTOS Y SOLUCIONES SAS - 30%
A29: EL CONTRATISTA SE OBLIGA PARA CON EL FONDO A EJECUTAR POR EL SISTEMA DE PRECIOS UNITARIOS FIJOS SIN FORMULA DE REAJUSTE Y A MONTO AGOTABLE LAS OBRAS NECESARIAS PARA LA CONSTRUCCIÓN, ADECUACIÓN, MANTENIMIENTO Y/O DOTACIÓN DE MOBILIARIO DE LOS DIFERENTES PARQUES VECINALES Y DE BOLSILLO DE LA LOCALIDAD DE BOSA, DE CONFORMIDAD CON LAS ACTIVIDADES, CONDICIONES, ESPECIFICACIONES Y OBLIGACIONES ESTABLECIDAS EN EL ANEXO TECNICO, | B29: FDL BOSA | C29: CONTRATISTA | D29: 6363440257 | E29: =+D29/F286 -> 8625.8555 | F29: 0.23 | G29: =+E29*F29 -> 1983.9468 | I29: =23176.79*F29 -> 5330.6617 | J29: Del 26/11/1999 al 25/11/2019 | K29: Del 24/01/2017 al 30/11/2017 | M29: =+G29 -> 1983.9468 | N29: CUMPLE 492415 | R29: La entidad modifca la fecha de inicio del contrato, según certificación allegada por el proponente. Cabe aclarar que en formato no 6 enuncia el contrato 206 de 2017, pero en la certificacion este aparece con numero de contrato 154 de 2016 | S29: RUP PAG 33
A30: TOTALES | H30: CUMPLE | I30: =SUM(I24:I29) -> 20955.737 | J30: CUMPLE | L30: CUMPLE | M30: =SUM(M24:M29) -> 9818.4857 | N30: CUMPLE | R30: PARA LA DOCUMENTACION DE LA MAQUINARIA SE TUVO EN CUENTA LA SUMINISTRADA POR EL PROPONENTE EN LA CARPETA MAQUINARIA.
A31: EXPERIENCIA DEL PROPONENTE | N31: CUMPLE
A34: =+'RESUMEN EVALUACIÓN'!A8 -> 3 | B34: =+'RESUMEN EVALUACIÓN'!B8 -> CONSORCIO MONSERRATE
A35: CONDICIONES DE EXPERIENCIA | H35: CONDICION N°. 1 (VER TABLA AL FINAL DE LA HOJA) | J35: CONDICION N° 2 (VER TABLA AL FINAL DE LA HOJA) | L35: CONDICION N°. 3 (VER TABLA AL FINAL DE LA HOJA) | N35: CODIGO UNSPSC 492415, 721531, 721413, 721411,721033, 721029, 492215, 561016, 561019 | O35: FORMATO Nro. 7 PERSONAL MÍNIMO REQUERIDO | P35: FORMATO Nro.14 REQUISITOS MINIMOS HABILITANTES TECNICOS MAQUINARIA | Q35: FORMATO Nro. 16 ACUERDO DE NIVELES DE SERVICIOS (ANS) | R35: Observación y respuesta a observaciones
A36: Objeto del Contrato | B36: Empleador | C36: Cargo | D36: Valor Contrato | E36: Valor del Contrato en SMMLV | F36: Participación UT/CONSORCIO | G36: Participación en SMMLV | H36: Cantidad exigida | I36: Cantidad aportada | J36: Término de ejecución exigido | K36: Término de ejecución aportado | L36: Valor exigido SMMLV | M36: Valor aportado
A37: HN INGENIERIA SAS- 50%
A38: CONTRATAR POR EL SISTEMA DE PREC!O GLOBAL FIJO LOS ESTUDIOS Y DISEÑOS TÉCNICOS Y POR EL SISTEMA DE PRECIOS UNITARIOS FIJOS SIN FÓRMULA DE AJUSTE, LAS OBRAS DE CONSTRUCC:ON 190 ADECUACIÓN CE PARQUES CE LA RED LOCAL DE BOGOTÁ, D C EN LAS ÁREAS DE MEJORA» EUTO INTEGRAL PR:ORIZADAS POR LA SDHT EN EL MARCO DEL PLAN DE DESARROLLO 2012-2916 BOGOTA HUMANA | B38: IDRD | C38: CONTRATISTA | D38: 7362873687 | E38: =+D38/F284 -> 11426.823 | F38: 0.5 | G38: =+E38*F38 -> 5713.4117 | H38: 16000 | I38: =91256*F38 -> 45628 | J38: Del 26/11/1999 al 25/11/2019 | K38: Del 03/02/2014 al 02/02/2015 | L38: =+$C$246 -> 2613.2566 | M38: =+G38 -> 5713.4117 | N38: CUMPLE 492415 | O38: CUMPLE | P38: CUMPLE | Q38: CUMPLE | S38: RUP PAG 23
A40: VICTOR RAUL NEIRA DEL VASTO - 50%
A41: CONTRATAR POR EL SISTEMA DE PRECIOS UNITARIOS FIJOS SIN FORMULA DE REAJUSTE LA RECUPERACION Y MANTEN Y ENTO DE LAS SUPERFIC•ES PISOS DUROS DE LOS PARQUES VECINALES Y DE BOLSILLO DEBIDAMENTE CERTIFICADOS POR EL IDRO Y EL DADEP Y QUE COMPONEN EL SISTEMA DISTRffAL DE PARQUES PARA EL GRUPO 3 | B41: IDRD | C41: CONTRATISTA | D41: 1333999832 | E41: =+D41/F278 -> 2684.6445 | F41: 0.2 | G41: =+E41*F41 -> 536.92889 | I41: =51800*F41 -> 10360 | J41: Del 26/11/1999 al 25/11/2019 | K41: Del 16/09/2008 al 15/05/2009 | M41: =+G41 -> 536.92889 | N41: CUMPLE 492415 | S41: EXPERIENCIA FORMATO 6 PAG 116 DOCUMENTO TECNIOCOS MONSERRATE RUP PAG 70
A42: CONTRATAR POR EL SISTEMA DE PRECIOS UNITARIOS FIJOS SIN FORMULA CE REAJUSTE LA RECUPERACION Y MANTEN Y Et4TO CES LAS SUPERFICIES PISOS DUROS DE LOS PARQUES VECINALES Y CE BOLS LLO DEBIDAMENTE CERTIFICADOS POR El IDRD Y EL DADEP Y QUE COMPONEN EL SISTEMA DISTRITAL DE PARQUES PARA EL GRUPO 2 | B42: IDRD | C42: CONTRATISTA | D42: 1517998672 | E42: =+D42/F278 -> 3054.938 | F42: 0.2 | G42: =+E42*F42 -> 610.98759 | I42: =62500*F42 -> 12500 | J42: Del 26/11/1999 al 25/11/2019 | K42: Del 16/09/2008 al 15/05/2009 | M42: =+G42 -> 610.98759 | N42: CUMPLE 492415 | S42: RUP PAG 72
A43: REALIZAR LAS OBRAS CIVILES NECESARIAS PARA EL MEJORAMIETO MANTENIMIENTO Y EQUIPAMIENTO DE ANDENES, PARQUES Y ESCENARIOS DEPORTIVOS DE LA LOCALIDAD DE BARRIOS UNIDOS | B43: FDL BARRIOS UNIDOS | C43: CONTRATISTA | D43: 1252232996 | E43: =+D43/F284 -> 1943.405 | F43: 0.3 | G43: =+E43*F43 -> 583.02149 | I43: =3420.04*F43 -> 1026.012 | J43: Del 26/11/1999 al 25/11/2019 | K43: Del 11/02/2015 al 10/08/2015 | M43: =+G43 -> 583.02149 | N43: CUMPLE 492415 | S43: RUP PAG 98
A44: TOTALES | H44: CUMPLE | I44: =SUM(I38:I43) -> 69514.012 | J44: CUMPLE | L44: CUMPLE | M44: =SUM(M38:M42) -> 6861.3282 | N44: CUMPLE | R44: EL PROPONENTE SUBSANO EL FORMATO Nro. 7 PERSONAL MÍNIMO REQUERIDO
A45: EXPERIENCIA DEL PROPONENTE | N45: CUMPLE
A48: =+'RESUMEN EVALUACIÓN'!A9 -> 4 | B48: =+'RESUMEN EVALUACIÓN'!B9 -> CONSORCIO PARQUES CJ
A49: CONDICIONES DE EXPERIENCIA | H49: CONDICION N°. 1 (VER TABLA AL FINAL DE LA HOJA) | J49: CONDICION N° 2 (VER TABLA AL FINAL DE LA HOJA) | L49: CONDICION N°. 3 (VER TABLA AL FINAL DE LA HOJA) | N49: CODIGO UNSPSC 492415, 721531, 721413, 721411,721033, 721029, 492215, 561016, 561019 | O49: FORMATO Nro. 7 PERSONAL MÍNIMO REQUERIDO | P49: FORMATO Nro.14 REQUISITOS MINIMOS HABILITANTES TECNICOS MAQUINARIA | Q49: FORMATO Nro. 16 ACUERDO DE NIVELES DE SERVICIOS (ANS) | R49: Observación y respuesta a observaciones
A50: Objeto del Contrato | B50: Empleador | C50: Cargo | D50: Valor Contrato | E50: Valor del Contrato en SMMLV | F50: Participación UT/CONSORCIO | G50: Participación en SMMLV | H50: Cantidad exigida | I50: Cantidad aportada | J50: Término de ejecución exigido | K50: Término de ejecución aportado | L50: Valor exigido SMMLV | M50: Valor aportado
A51: CONSULTORIA Y CONSTRUCCIÓN S.A.S. CON & CON - 50%
A52: CONTRATAR A PRECIOS UNITARIOS FIJOS, LA RECUPERACION Y MANTENIMIENTO DE LAS SUPERFICIES, PISOS DUROS DE LOS PARQUES DE ESCALA ZONALES, METROPOLITANOS Y REGIONAL DEBIDAMENTE CERTIFICADOS Y GEOREFERENCIADOS POR EL IDRD Y EL DADEP Y QUE COMPONEN EL SISTEMA DISTRITAL DE PARQUES | B52: IDRD | C52: CONTRATISTA | D52: 4060000000 | E52: =+D52/F286 -> 5503.4654 | F52: 0.5 | G52: =+E52*F52 -> 2751.7327 | H52: 16000 | I52: =31530*F52 -> 15765 | J52: Del 26/11/1999 al 25/11/2019 | K52: Del 31/01/2017 al 30/09/2017 | L52: =+$C$246 -> 2613.2566 | M52: =+G52 -> 2751.7327 | N52: CUMPLE 492415 | O52: CUMPLE | P52: CUMPLE | Q52: CUMPLE | S52: RUP PSG 364
...

Sheet K RESIDUAL
A1: FONDO DE DESARROLLO LOCAL DE USAQUEN
A2: LICITACION PUBLICA - FDLUSA-LP-004-2019
A3: Verificación Capacidad Residual
A5: 1 | N5: =+'RESUMEN EVALUACIÓN'!B6 -> CONSORCIO CQ USAQUEN
A28: 2 | N28: =+'RESUMEN EVALUACIÓN'!B7 -> CONSORCIO INTERAPIA USA
A51: 3 | N51: =+'RESUMEN EVALUACIÓN'!B8 -> CONSORCIO MONSERRATE
A74: 4 | N74: =+'RESUMEN EVALUACIÓN'!B9 -> CONSORCIO PARQUES CJ
A97: 5 | N97: =+'RESUMEN EVALUACIÓN'!B10 -> CONSORCIO PARQUES USAQUEN
A120: 6 | N120: =+'RESUMEN EVALUACIÓN'!B11 -> CONSORCIO SAN ALEJANDRO
A143: 7 | N143: =+'RESUMEN EVALUACIÓN'!B12 -> CONSORCIO TOBERIN 04
A166: 8 | N166: =+'RESUMEN EVALUACIÓN'!B13 -> CONSORCIO UNIOBRAS 2020 USA
A189: 9 | N189: =+'RESUMEN EVALUACIÓN'!B14 -> CONSORCIO USAQUEN GV-CJS
A212: 10 | N212: =+'RESUMEN EVALUACIÓN'!B15 -> CONSORCIO VALHER
A235: 11 | N235: =+'RESUMEN EVALUACIÓN'!B16 -> CUT
A258: 12 | N258: =+'RESUMEN EVALUACIÓN'!B17 -> ESTUDIOS E INGENIERIA SAS
A281: 13 | N281: HÁBIL
A304: 14 | N304: =+'RESUMEN EVALUACIÓN'!B19 -> IMAGEN Y MARCA S.A.S
A327: 15 | N327: =+'RESUMEN EVALUACIÓN'!B20 -> INGEDEUR SAS
A350: 16 | N350: =+'RESUMEN EVALUACIÓN'!B21 -> PROFESIONALES ASOCIADOS LTDA
A373: 17 | N373: =+'RESUMEN EVALUACIÓN'!B22 -> SIMA LTDA

Sheet F. PONDERABLES 
A1: FONDO DE DESARROLLO LOCAL DE USAQUEN
A2: LICITACION PUBLICA - FDLUSA-LP-004-2019
A3: FACTORES PONDERABLES
A7: FACTORES PONDERABLES / PUNTAJE FINAL | C7: SUMATORIA DEL COSTO DIRECTO DE OBRA Y COSTOS INDIRECTOS (74 PUNTOS) | D7: CALIDAD (15 PUNTOS) | E7: INCENTIVO INDUSTRIAL NACIONAL (10 PUNTOS) | F7: PUNTAJE ADICIONAL PROPUESTAS CON TRABAJADORES CON DISCAPACIDAD (1 PUNTO) | G7: PUNTAJE TOTAL | H7: OBSERVACIONES
A8: 1 | B8: =+'RESUMEN EVALUACIÓN'!B6 -> CONSORCIO CQ USAQUEN | D8: 15 | E8: 10 | F8: 1 | G8: =SUM(C8:F8) -> 26
A9: 2 | B9: =+'RESUMEN EVALUACIÓN'!B7 -> CONSORCIO INTERAPIA USA | D9: 15 | E9: 10 | F9: 1 | G9: =SUM(C9:F9) -> 26
A10: 3 | B10: =+'RESUMEN EVALUACIÓN'!B8 -> CONSORCIO MONSERRATE | D10: 15 | E10: 10 | F10: 1 | G10: =SUM(C10:F10) -> 26
A11: 4 | B11: =+'RESUMEN EVALUACIÓN'!B9 -> CONSORCIO PARQUES CJ | D11: 15 | E11: 10 | F11: 1 | G11: =SUM(C11:F11) -> 26
A12: 5 | B12: =+'RESUMEN EVALUACIÓN'!B10 -> CONSORCIO PARQUES USAQUEN | D12: 0 | E12: 0 | F12: 0 | G12: =SUM(C12:F12) -> 0
A13: 6 | B13: =+'RESUMEN EVALUACIÓN'!B11 -> CONSORCIO SAN ALEJANDRO | D13: 15 | E13: 10 | F13: 1 | G13: =SUM(C13:F13) -> 26
A14: 7 | B14: =+'RESUMEN EVALUACIÓN'!B12 -> CONSORCIO TOBERIN 04 | D14: 15 | E14: 10 | F14: 1 | G14: =SUM(C14:F14) -> 26
A15: 8 | B15: =+'RESUMEN EVALUACIÓN'!B13 -> CONSORCIO UNIOBRAS 2020 USA | D15: 15 | E15: 10 | F15: 1 | G15: =SUM(C15:F15) -> 26
A16: 9 | B16: =+'RESUMEN EVALUACIÓN'!B14 -> CONSORCIO USAQUEN GV-CJS | D16: 15 | E16: 10 | F16: 1 | G16: =SUM(C16:F16) -> 26
A17: 10 | B17: =+'RESUMEN EVALUACIÓN'!B15 -> CONSORCIO VALHER | D17: 15 | E17: 10 | F17: 1 | G17: =SUM(C17:F17) -> 26
A18: 11 | B18: =+'RESUMEN EVALUACIÓN'!B16 -> CUT | D18: 15 | E18: 10 | F18: 1 | G18: =SUM(C18:F18) -> 26
A19: 12 | B19: =+'RESUMEN EVALUACIÓN'!B17 -> ESTUDIOS E INGENIERIA SAS | D19: 15 | E19: 10 | F19: 1 | G19: =SUM(C19:F19) -> 26
... A24: 17 | B24: =+'RESUMEN EVALUACIÓN'!B22 -> SIMA LTDA | D24: 15 | E24: 10 | F24: 1 | G24: =SUM(C24:F24) -> 26
