Workbook

Sheet Ficha Técnica
A1: FICHA TECNICA
A3: OBJETO: SUMINISTRO DE ALIMENTACIÓN PARA EL PERSONAL DE LA POLICÍA NACIONAL Y DEMÁS ORGANISMOS DE SEGURIDAD E INTELIGENCIA DEL ESTADO QUE VIENEN A REFORZAR LA SEGURIDAD EN EL MUNICIPIO, EN DESARROLLO DEL PROGRAMA DE JUSTICIA Y SEGURIDAD
A5: ITEM | B5: DESCRIPCIÓN | C5: CANTIDAD | D5: VALOR UNITARIO | E5: VALOR IVA | F5: VALOR UNITARIO INCLUIDO IVA
A6: 1 | B6: DESAYUNO: CALDO DE COSTILLA CON PAPA (300 CC), HUEVOS AL GUSTO (2 UNIDADES), PAN PRESENTACIÓN PERSONAL (1 UNIDAD), BEBIDA CAFÉ O CHOCOLATE O JUGO (7 ONZAS) | C6: 1 | F6: =+D6+E6 -> 0
A7: 2 | B7: ALMUERZO: SOPA O CREMA (300 CC), PROTEÍNA (RES, CERDO, POLLO) 150G, PORCIÓN DE ARROZ (100 G) ACOMPAÑAMIENTO (YUCA, PAPA O PATACÓN), ENSALADA DE VERDURAS O FRUTAS (30 G) BEBIDA JUGO O LIMONADA (7 ONZAS) | C7: 1 | F7: =+D7+E7 -> 0
A8: 3 | B8: CENA: PROTEÍNA (RES, CERDO, POLLO) 150G, PORCIÓN DE ARROZ (100 G) ACOMPAÑAMIENTO (YUCA, PAPA O PATACÓN), ENSALADA DE VERDURAS O FRUTAS (30 G) BEBIDA JUGO O LIMONADA (7 ONZAS) | C8: 1 | F8: =+D8+E8 -> 0
A9: TOTAL | F9: =+F6+F7+F8 -> 0

Sheet DICOVA
A1: OBJETO: SUMINISTRO DE ALIMENTACIÓN PARA EL PERSONAL DE LA POLICÍA NACIONAL Y DEMÁS ORGANISMOS DE SEGURIDAD E INTELIGENCIA DEL ESTADO QUE VIENEN A REFORZAR LA SEGURIDAD EN EL MUNICIPIO, EN DESARROLLO DEL PROGRAMA DE JUSTICIA Y SEGURIDAD
A3: ITEM | B3: DESCRIPCIÓN | C3: CANTIDAD | D3: VALOR UNITARIO | E3: VALOR IVA | F3: VALOR UNITARIO INCLUIDO IVA
A4: 1 | B4: DESAYUNO: CALDO DE COSTILLA CON PAPA (300 CC), HUEVOS AL GUSTO (2 UNIDADES), PAN PRESENTACIÓN PERSONAL (1 UNIDAD), BEBIDA CAFÉ O CHOCOLATE O JUGO (7 ONZAS) | C4: 1 | D4: 19500 | E4: =+D4*8% -> 1560 | F4: =+D4+E4 -> 21060
A5: 2 | B5: ALMUERZO: SOPA O CREMA (300 CC), PROTEÍNA (RES, CERDO, POLLO) 150G, PORCIÓN DE ARROZ (100 G) ACOMPAÑAMIENTO (YUCA, PAPA O PATACÓN), ENSALADA DE VERDURAS O FRUTAS (30 G) BEBIDA JUGO O LIMONADA (7 ONZAS) | C5: 1 | D5: 19500 | E5: =+D5*8% -> 1560 | F5: =+D5+E5 -> 21060
A6: 3 | B6: CENA: PROTEÍNA (RES, CERDO, POLLO) 150G, PORCIÓN DE ARROZ (100 G) ACOMPAÑAMIENTO (YUCA, PAPA O PATACÓN), ENSALADA DE VERDURAS O FRUTAS (30 G) BEBIDA JUGO O LIMONADA (7 ONZAS) | C6: 1 | D6: 19500 | E6: =+D6*8% -> 1560 | F6: =+D6+E6 -> 21060
A7: TOTAL | F7: =+F4+F5+F6 -> 63180

Sheet GLOBAL
A1: OBJETO: SUMINISTRO DE ALIMENTACIÓN PARA EL PERSONAL DE LA POLICÍA NACIONAL Y DEMÁS ORGANISMOS DE SEGURIDAD E INTELIGENCIA DEL ESTADO QUE VIENEN A REFORZAR LA SEGURIDAD EN EL MUNICIPIO, EN DESARROLLO DEL PROGRAMA DE JUSTICIA Y SEGURIDAD
A3: ITEM | B3: DESCRIPCIÓN | C3: CANTIDAD | D3: VALOR UNITARIO | E3: VALOR IVA | F3: VALOR UNITARIO INCLUIDO IVA
A4: 1 | B4: DESAYUNO: CALDO DE COSTILLA CON PAPA (300 CC), HUEVOS AL GUSTO (2 UNIDADES), PAN PRESENTACIÓN PERSONAL (1 UNIDAD), BEBIDA CAFÉ O CHOCOLATE O JUGO (7 ONZAS) | C4: 1 | D4: 22000 | E4: =+D4*8% -> 1760 | F4: =+D4+E4 -> 23760
A5: 2 | B5: ALMUERZO: SOPA O CREMA (300 CC), PROTEÍNA (RES, CERDO, POLLO) 150G, PORCIÓN DE ARROZ (100 G) ACOMPAÑAMIENTO (YUCA, PAPA O PATACÓN), ENSALADA DE VERDURAS O FRUTAS (30 G) BEBIDA JUGO O LIMONADA (7 ONZAS) | C5: 1 | D5: 22000 | E5: =+D5*8% -> 1760 | F5: =+D5+E5 -> 23760
A6: 3 | B6: CENA: PROTEÍNA (RES, CERDO, POLLO) 150G, PORCIÓN DE ARROZ (100 G) ACOMPAÑAMIENTO (YUCA, PAPA O PATACÓN), ENSALADA DE VERDURAS O FRUTAS (30 G) BEBIDA JUGO O LIMONADA (7 ONZAS) | C6: 1 | D6: 22000 | E6: =+D6*8% -> 1760 | F6: =+D6+E6 -> 23760
A7: TOTAL | F7: =+F4+F5+F6 -> 71280

Sheet Promedio
A1: FICHA TECNICA
A3: OBJETO: PRESTACIÓN DE SERVICIOS DE ALIMENTACIÓN Y HOSPEDAJE PARA EL PERSONAL DE LA POLICÍA NACIONAL Y DEMÁS ORGANISMOS DE SEGURIDAD E INTELIGENCIA DEL ESTADO QUE VIENEN A REFORZAR LA SEGURIDAD EN EL MUNICIPIO, EN DESARROLLO DEL PROGRAMA DE JUSTICIA Y SEGURIDAD
A4: OBJETO: SUMINISTRO DE ALIMENTACIÓN PARA EL PERSONAL DE LA POLICÍA NACIONAL Y DEMÁS ORGANISMOS DE SEGURIDAD E INTELIGENCIA DEL ESTADO QUE VIENEN A REFORZAR LA SEGURIDAD EN EL MUNICIPIO, EN DESARROLLO DEL PROGRAMA DE JUSTICIA Y SEGURIDAD
A6: REQUERIMIENTO | D6: COTIZACION 1 | E6: COTIZACIÓN 2 | F6: PROMEDIO
A7: ITEM | B7: DESCRIPCIÓN | C7: CANTIDAD
A8: 1 | B8: DESAYUNO: CALDO DE COSTILLA CON PAPA (300 CC), HUEVOS AL GUSTO (2 UNIDADES), PAN PRESENTACIÓN PERSONAL (1 UNIDAD), BEBIDA CAFÉ O CHOCOLATE O JUGO (7 ONZAS) | C8: 1 | D8: =+DICOVA!F4 -> 21060 | E8: =+GLOBAL!F4 -> 23760 | F8: =(+D8+E8)/2 -> 22410
A9: 2 | B9: ALMUERZO: SOPA O CREMA (300 CC), PROTEÍNA (RES, CERDO, POLLO) 150G, PORCIÓN DE ARROZ (100 G) ACOMPAÑAMIENTO (YUCA, PAPA O PATACÓN), ENSALADA DE VERDURAS O FRUTAS (30 G) BEBIDA JUGO O LIMONADA (7 ONZAS) | C9: 1 | D9: =+DICOVA!F5 -> 21060 | E9: =+GLOBAL!F5 -> 23760 | F9: =(+D9+E9)/2 -> 22410
A10: 3 | B10: CENA: PROTEÍNA (RES, CERDO, POLLO) 150G, PORCIÓN DE ARROZ (100 G) ACOMPAÑAMIENTO (YUCA, PAPA O PATACÓN), ENSALADA DE VERDURAS O FRUTAS (30 G) BEBIDA JUGO O LIMONADA (7 ONZAS) | C10: 1 | D10: =+DICOVA!F6 -> 21060 | E10: =+GLOBAL!F6 -> 23760 | F10: =(+D10+E10)/2 -> 22410
A11: TOTAL | D11: =+DICOVA!F7 -> 63180 | E11: =+GLOBAL!F7 -> 71280 | F11: =(+D11+E11)/2 -> 67230
