Workbook

Sheet CONSORCIO UNIDAD DE CIBERSEGURI
D1: Fondo Nacional del Ahorro - Proceso de Selección No. FNA-VTTD-CP-011-2023 Evaluación Jurídica
A2: No. | B2: CAPACIDAD JURÍDICA | C2: PROPONENTE: | D2: CONSORCIO UNIDAD DE CIBERSEGURIDAD FNA
A3: 1 | B3: Carta de presentación de la Oferta | C3: Cumple / No cumple | D3: CUMPLE
B4: Suscripción Representante Legal | C4: CUMPLE | D4: EN CALIDAD DE REPRESENTANTE LEGAL // HUMBERTO DE JESUS VELEZ CASTRO// C.C. 8770446 de soledad atlántico
A5: 2 | B5: DOCUMENTO DE CONSTITUCION DEL CONSORCIO O UNION TEMPORAL | C5: CUMPLE | D5: CUMPLE | F5: CUMPLE | G5: CUMPLE
B6: identificacion integrantes | C6: CUMPLE | D6: MNEMO CYBER SEC SAS NIT 901.447.968-1 HUMBERTO DE JESUS VELEZ CASTRO | F6: MNEMO COLOMBIA SAS SAS NIT 900.396.176-1 HUMBERTO DE JESUS VELEZ CASTRO | G6: MNEMO EVOLUTION & INTEGRATION SERVICES SA NIT 901.306.687-2 JOHN JAIRO PARRA GAMBOA
B7: terminos de extension y participacion en la oferta | C7: CUMPLE | D7: el Consorcio se compromete entre otros aspectos y de acuerdo a la carta de conformación del mismo, a Responder en forma solidaria por todas las actuaciones, hechos y omisiones que se presenten en desarrollo de la propuesta y del contrato.
B8: indicacion porcentual de cada integrante | C8: CUMPLE | D8: 0.5 | F8: 0.49 | G8: 0.01
A9: 3 | B9: Certificado de Existencia y Representación Legal | C9: Cumple / No cumple | D9: CUMPLE | F9: CUMPLE | G9: CUMPLE
B10: Fecha de expedición (30 días calendarios) | C10: CUMPLE | D10: 14 de noviembre de 2023 | F10: 23 de noviembre de 2023 | G10: 14 de noviembre de 2023, Adicionlmente se aporta registro mercantil de la casa matriz en españa MNEMO EVOLUTION & INTEGRATION SERVICE S.A de fecha 23 de noviembre de 2023
B11: NIT | C11: CUMPLE | D11: 901447968-1 | F11: 900396176 1 | G11: 901306687-2
B12: Renovado | C12: CUMPLE | D12: 24 de marzo de 2023 | F12: 28 de marzo de 2023 | G12: 31 de marzo de 2023
B13: Duración de la sociedad no es inferior a la duración del contrato objeto del presente proceso de selección y cinco (5) años más | C13: CUMPLE | D13: Indefinida | F13: Indefinida | G13: Indefinida
B14: Objeto social | C14: CUMPLE | D14: a) La comercialización de todo tipo de productos y servicios derivados de la actividad informática y de tratamiento de la información. b) La elaboración y fabricación de todo tipo de productos y servicios derivados de la actividad informática y del tratamiento de la información.(...)d) En General desarrollar, impulsar o incrementar cualquier otra actividad lícita de comercio que tienda al mejor logro de su objeto social; | F14: La compañía tiene por Objeto Principal el desarrollo de las siguientes actividades: 1) consultoría, implantación de plataformas y prestación de servicios in situ y de forma remota, sobre y con recursos tecnológicos específicos, metodologías, normatividad, buenas prácticas, estándares y otros recursos relacionados con la ciberseguridad y ciber defensa, seguridad de la información y demás activos informáticos de empresas y/o entidades de cualquier sector, dentro y fuera del territorio nacional. 2) diseño, desarrollo,producción, integración, operación, instalación, adaptación, y mantenimiento de soluciones globales o parciales, productos y servicios derivados de la actividad informática y del tratamiento de la información haciendo uso de cualquier tipo de tecnologías de acceso para cualquier empresa y/o entidad pública, privada o mixta, dentro y fuera del territorio nacional. | G14: Los negocios a los que se dedicará la sucursal corresponden a todos los relacionados con la comercialización y distribución de productos y servicios derivados de la actividad informática y del tratamiento de la información.
B15: CIIU | C15: CUMPLE | D15: Actividad principal Código CIIU: 6201- Actividades de desarrollo de sistemas informáticos (planificación, análisis, diseño, programación, pruebas) Actividad secundaria Código CIIU: 6202- Actividades de consultoría informática y actividades de administración de instalaciones informáticas | F15: Actividad principal Código CIIU: 6201- Actividades de desarrollo de sistemas informáticos (planificación, análisis, diseño, programación, pruebas) Actividad secundaria Código CIIU: 6202-Actividades de consultoría informática y actividades de administración de instalaciones informáticas Otras actividades Código CIIU: 6209- Otras actividades de tecnologías de información y actividades de servicios informáticos, 9101-Actividades de bibliotecas y archivos | G15: Actividad principal Código CIIU: 6201-Actividades de desarrollo de sistemas informáticos (planificación, análisis, diseño, programación, pruebas) Actividad secundaria Código CIIU: 6202-Actividades de consultoría informática y actividades de administración de instalaciones informáticas Otras actividades Código CIIU: 6209-Otras actividades de tecnologías de información y actividades de servicios informáticos
B16: Representante Legal | C16: CUMPLE | D16: PRINCIPAL: Carlos Vicent Fernandez C.E. No. 667352 // SUPLENTE Humberto De Jesus C.C. No. 8770446 Velez Castro | F16: PRINCIPAL Antonio Vicent Vicent P.P. No. 119884 Pecharroman // SUPLENTE Humberto De Jesus Velez Castro C.C. No. 8770446 Sin perjuicio en lo dispuesto en el artículo 164 del Código de Comercio, mediante acta No. 23 de la Asamblea de Accionistas, del 15 de junio de 2015, inscrita el 9 de julio de 2015, bajo el No. 01955403 del libro IX, se revocó la designación de Garcia Martinez Luis Ignacio, Vicent Fernández Jorge, Iglesias Rodríguez José Antonio, como Representantes Legales (Gerentes), y Conde Fernández del Pino Diego como Suplente del Gerente uno y Vicent Pecharroman Antonio como Representante Legal (Gerente). Por documento privado del 29 de enero de 2016, inscrito el 3 de febrero de 2016, bajo el No. 02058297 del libro IX, navarro Gomariz Miguel Ramón renuncio al cargo de Gerente de la sociedad de la referencia, con los efectos señalados en la sentencia c-621/03 de la Corte Constitucional. Por documento privado del 28 de febrero de 2019, inscrito el 1 de marzo de 2019, bajo el No. 02430525 del libro IX, parra Gamboa John Jairo renuncio al cargo de suplente del Gerente de la sociedad de la referencia, con los efectos señalados en la sentencia c-621/03 de la Corte Constitucional. | G16: John Jairo Parra Gamboa C.C. No. 80808420
B17: Facultades representante legal | C17: CUMPLE | D17: Una vez cumplido el plazo para la presentación de subsanaciones establecido en el cronograma del proceso, el oferente allega documento de subsanación en el cual se evidencia ACTA 008 DE 2023 de la ASAMBLEA GENERAL DE ACCIONISTAS- ASAMBLEA ORDINARIA debidamente suscrita y donde se corrige la contrariedad evidenciada en el informe preliminar con respecto al año del acta. Por lo anterior se encuentra plenamente acreditado las facultades del Representante Legal Razon por la cual el oferente CUMPLE con lo solicitado en las Reglas Definitivas de Participación | F17: Una vez cumplido el plazo para la presentación de subsanaciones establecido en el cronograma del proceso, el oferente allega documento de subsanación en el cual se evidencia ACTA 056 DE 2023 de la ASAMBLEA GENERAL DE ACCIONISTAS- ASAMBLEA ORDINARIA debidamente suscrita y donde se corrige la contrariedad evidenciada en el informe preliminar con respecto al año del acta. Por lo anterior se encuentra plenamente acreditado las facultades del Representante Legal Razon por la cual el oferente CUMPLE con lo solicitado en las Reglas Definitivas de Participación | G17: Una vez cumplido el plazo para la presentación de subsanaciones establecido en el cronograma del proceso, el oferente allega documento de subsanación en el cual se evidencia Escritura pública 00790 de fecha 28 de mayo de 2019 de la Notaria 65 del circulo de Bogotá debidamente apostillado en España en donde el señor Antonio Vincent Pecharroman en calidad de Representante Legal de la sociedad española MNEMO EVOLUTION NTEGRATION SERVICES S.A identificada con NIF A 82958075 tal y como se evidencia en registro mercantil aportado en la oferta otorga poder general amplio y suficiente al señor JHON JAIRO PARRA GAMBOA para que en cualquier orden y sin consideración a la cuantía y calidad represente a la sociedad legal, juridica y judicialmente en todos los actos relacionados con sus derechos reales y personales y especialmente en el establecido en el literal m en donde indica: "(...) m) Representación: Para que represente a la sociedad poderdante ante cualquier persona natural o juridica, de derecho público o privado, de caracter nacional o internacional y ante cualquiera cuerpo colegiado o tribunal, asamblea, junta, reunión, sociedad, consorcio, corporación, entidad patrimonio autónomo. establecimiento, oficina, dirección, sección, etc, que pertenezcan o no, o que estén vinculados o adscritos al Estado o la Nacion, a los Departamentos, Distritos, Municipios, ministerios, Departamentos Administrativos Empresas Industriales y Comerciales del Estado, Establecimientos Publicos Sociedades de Economia Mixta, Notarias, y en general a toda la rama ejecutiva o administrativa, judicial o jurisdiccional y legislativa del poder público del Estado, en cualquier acto, contrato, petición, actuación, diligencia, trámite o proceso en cualquier calidad, (...)"(negrilla fuera de texto) Por lo anterior se acredita plenamente las facultades legales del Representante Legal y en consecuencia CUMPLE con lo requerido en el pliego de condiciones.
B18: Revisor Fiscal | C18: CUMPLE | D18: Revisor Fiscal Jairo David Tovar Lozano C.C. No. 1018408876 T.P. No. 232325-T | F18: Revisor Fiscal Jose Ignacio Salazar Gomez C.C. No. 14239581 T.P. No. 27398-T | G18: Revisor Fiscal Humberto De Jesus Velez Castro C.C. No. 000000008770446 T.P. No. 61061-T
A19: 4 | B19: Certificado Registro Único de Proponentes (RUP) | C19: Cumple / No cumple | D19: CUMPLE | F19: CUMPLE | G19: CUMPLE
B20: Fecha de expedición (30 días calendarios) | C20: CUMPLE | D20: 14 DE NOVIEMBRE DE 2023 | F20: 14 DE NOVIEMBRE DE 2023 | G20: 14 DE NOVIEMBRE DE 2023
B21: Fecha de Renovación | C21: CUMPLE | D21: 25 DE MAYO DE 2023 | F21: 12 DE MAYO DE 2023 | G21: 29 DE MAYO DE 2023
B22: Estado firmeza | C22: CUMPLE | D22: FIRME | F22: FIRME | G22: FIRME
A23: 5 | B23: Cédula del Representante legal | C23: Cumple / No cumple | D23: CUMPLE | F23: CUMPLE | G23: CUMPLE
B24: Representante Legal | C24: CUMPLE | D24: HUMBERTO DE JESUS VELEZ CASTRO CC 8.770.446 | F24: HUMBERTO DE JESUS VELEZ CASTRO CC 8.770.446 | G24: JOHN JAIRO PARRA GAMBOA CC 80808420
A25: 6 | B25: RUT | C25: Cumple / No cumple | D25: CUMPLE | F25: CUMPLE | G25: CUMPLE
B26: CIIU | C26: CUMPLE | D26: Actividad principal Código CIIU: 6201- Actividades de desarrollo de sistemas informáticos (planificación, análisis, diseño, programación, pruebas) Actividad secundaria Código CIIU: 6202- Actividades de consultoría informática y actividades de administración de instalaciones informáticas | F26: Actividad principal Código CIIU: 6201- Actividades de desarrollo de sistemas informáticos (planificación, análisis, diseño, programación, pruebas) Actividad secundaria Código CIIU: 6202-Actividades de consultoría informática y actividades de administración de instalaciones informáticas Otras actividades Código CIIU: 6209- Otras actividades de tecnologías de información | G26: Actividad principal Código CIIU: 6201-Actividades de desarrollo de sistemas informáticos (planificación, análisis, diseño, programación, pruebas) Actividad secundaria Código CIIU: 6202-Actividades de consultoría informática y actividades de administración de instalaciones informáticas Otras actividades Código CIIU: 6209-Otras actividades de tecnologías de información y actividades de servicios informáticos
A27: 7 | B27: GARANTIA DE SERIEDAD DE LA OFERTA | C27: Cumple / No cumple | D27: CUMPLE
B28: BENEFICIARIO | C28: CUMPLE | D28: FONDO NACIONAL DEL AHORRO
B29: Tomador/Asegurado | C29: CUMPLE | D29: CONSORCIO UNIDAD DE CIBERSEGURIDAD FNA
B30: Vigencia | C30: CUMPLE | D30: 01 DE DICIEMBRE DE 2023 HASTA 01 DE ABRIL DE 2024
B31: Porcentaje asegurado | C31: CUMPLE | D31: 0.2
B32: Clausulado para entidades de regimen especial | C32: CUMPLE | F32: CUMPLE
B33: valor asegurado | C33: CUMPLE | D33: $7.300.020.049
A34: 8 | B34: Certificación de Pagos al Sistema de Seguridad Social y de Aportes Parafiscales | C34: Cumple / No cumple
B35: Suscripción | C35: CUMPLE | D35: Revisor Fiscal Jairo David Tovar Lozano C.C. No. 1018408876 T.P. No. 232325-T | F35: Revisor Fiscal Jose Ignacio Salazar Gomez C.C. No. 14239581 T.P. No. 27398-T | G35: Revisor Fiscal Humberto De Jesus Velez Castro C.C. No. 000000008770446 T.P. No. 61061-T
B36: Suscripción por parte del Revisor Fiscal y documentos ( C.C, TP y Antecedentes) | C36: CUMPLE | D36: El oferente aporta cédula de ciudadania, T.P y antecedente de junta central de contadores de la reviaora fiscal | F36: El oferente aporta cédula de ciudadania, T.P y antecedente de junta central de contadores de la reviaora fiscal | G36: El oferente aporta cédula de ciudadania, T.P y antecedente de junta central de contadores de la reviaora fiscal
A37: 9 | B37: Antecedentes Fiscales - CGR PN y P.J. | C37: Cumple / No cumple | D37: CUMPLE | F37: CUMPLE | G37: CUMPLE
A38: 10 | B38: Antecedentes Disciplinarios - PGN - P.N y P.J | C38: Cumple / No cumple | D38: CUMPLE | F38: CUMPLE | G38: CUMPLE
A39: 11 | B39: Antecedentes Judiciales P.N | C39: Cumple / No cumple | D39: CUMPLE | F39: CUMPLE | G39: CUMPLE
A40: 12 | B40: Sistema registro Nacional de medidas correctivas P.N | C40: Cumple / No cumple | D40: CUMPLE | F40: CUMPLE | G40: CUMPLE
...

Sheet COMWARE S.A.
A1: Fondo Nacional del Ahorro - Proceso de Selección No. FNA-VTTD-CP-011-2023 Evaluación Jurídica
A2: No. | B2: CAPACIDAD JURÍDICA | C2: PROPONENTE: | D2: COMWARE S.A.
A3: 1 | B3: Carta de presentación de la Oferta | C3: Cumple / No cumple | D3: NO CUMPLE
B4: Suscripción Representante Legal | C4: NO CUMPLE | D4: El proponente en el termino otorgado por la entidad no allegó la delegación realizada por el Presidente el señor Luis Alberto Bocanegra, que para el caso de conformidad con certificado de existencia y representación lega obra como representante legal, dado que quien firma los documentos de la propuesta al presente proceso selectivo es la primera suplente , la señora Monica de Pilar Camacho casado, pero en los documentos no obra dicha facultad en atención a la falta absoluta, temporal o accidental del representante. Por lo anterior, NO CUMPLE CON LO REQUERIDO.
A5: 2 | B5: Certificado de Existencia y Representación Legal | C5: Cumple / No cumple | D5: NO CUMPLE
B6: Fecha de expedición (30 días calendarios) | C6: CUMPLE | D6: 22 DE NOVIEMBRE DE 2023
B7: NIT | C7: CUMPLE | D7: 860045379 1
B8: Renovado | C8: CUMPLE | D8: 24 de marzo de 2023
B9: Duración de la sociedad no es inferior a la duración del contrato objeto del presente proceso de selección y cinco (5) años más | C9: CUMPLE | D9: 28 de julio de 2074
B10: Objeto social | C10: CUMPLE | D10: (…)Integración de servicios y soluciones de tecnología informática y de telecomunicaciones. En desarrollo de su objeto, la compañía podrá, entre otras, realizar las siguientes actividade 7. Distribuir, vender y comercializar equipos de informática, ofreciendo plataformas para soportar aplicaciones de bases de datos, servidores corporativos, servidores de internet y correo electrónico, impresión, seguridad de datos, almacenamiento y monitoreo de redes (…)
B11: CIIU | C11: NO CUMPLE | D11: Las actividades economicas reportadas en el certificado de existencia y representación legal no tienen relación con el objeto a contratar, dado que las mismas corresponden a: 9511-El mantenimiento y reparación de equipos electrónicos, como computadores, accesorios informáticos y equipos periféricos.; 4651- «Comercio al por mayor de computadores, equipo periférico y programas de informática». Otras actividades: 1811: Actividades de impresión; 8220: Actividades de centros de llamadas (call center
B12: Representante Legal | C12: CUMPLE | D12: PRESIDENTE REPRESENTANTE LEGAL// Luis Alberto Bocanegra Clavijo//C.C. 14225485
B13: Facultades representante legal | C13: NO CUMPLE | D13: En el temrino otorgado por entidad el proponente NO ALLEGÓ los estatutos de la sociedad, impidiendo que la suscrita entidad realizará la verificación de las facultades otorgadas al representante legal dado que en el certificado de existencia y representación legal se indicaba: Celebrar libremente toda clase de actos u operaciones que no requieran autorización de la junta directiva o de la asamblea general de accionistas de acuerdo con estos estatutos. Sin emabrgo al momento de la evaluacion el comite evaluador no tiene conocimiento conocimiento respecto de lo que no requiere autorizacion de junta directiva. POR LO ANTERIOR EL PROPONENTE NO CUMPLE CON LO REQUERIDO
B14: Revisor Fiscal | C14: CUMPLE | D14: EN CALIDAD DE RF P JCA//RUBIO SAMACÁ ASOCIADOS SAS // NIT: 800084853 8 EN CALIDAD DE RF PPAL // Gerardo Prada Miranda // C.C. 19484930 EN CALIDAD DE RF SUPL // Fabian Bedoya Silva // C.C.: 1024526785
A15: 3 | B15: DOCUMENTO DE CONSTITUCION DEL CONSORCIO O UNION TEMPORAL | C15: N/A | D15: N/A
B16: identificacion integrantes
B17: terminos de extension y participacion en la oferta
B18: indicacion porcentual de cada integrante
A19: 4 | B19: Certificado Registro Único de Proponentes (RUP) | C19: CUMPLE | D19: CUMPLE
B20: Fecha de expedición (30 días calendarios) | C20: CUMPLE | D20: 7 DE NOVIEMBRE DE 2023
B21: Fecha de Renovación | C21: CUMPLE | D21: 4 DE ABRIL DE 2023
B22: Estado firmeza | C22: CUMPLE | D22: FIRME
A23: 5 | B23: Cédula del Representante legal | C23: Cumple / No cumple | D23: NO CUMPLE
B24: Representante Legal | C24: NO CUMPLE | D24: =+D4 -> El proponente en el termino otorgado por la entidad no allegó la delegación realizada por el Presidente el señor Luis Alberto Bocanegra, que para el caso de conformidad con certificado de existencia y representación lega obra como representante legal, dado que quien firma los documentos de la propuesta al presente proceso selectivo es la primera suplente , la señora Monica de Pilar Camacho casado, pero en los documentos no obra dicha facultad en atención a la falta absoluta, temporal o accidental del representante. Por lo anterior, NO CUMPLE CON LO REQUERIDO.
A25: 6 | B25: RUT | C25: Cumple / No cumple | D25: NO CUMPLE
B26: CIIU | C26: NO CUMPLE | D26: =+D11 -> Las actividades economicas reportadas en el certificado de existencia y representación legal no tienen relación con el objeto a contratar, dado que las mismas corresponden a: 9511-El mantenimiento y reparación de equipos electrónicos, como computadores, accesorios informáticos y equipos periféricos.; 4651- «Comercio al por mayor de computadores, equipo periférico y programas de informática». Otras actividades: 1811: Actividades de impresión; 8220: Actividades de centros de llamadas (call center
A27: 7 | B27: GARANTIA DE SERIEDAD DE LA OFERTA | C27: NO CUMPLE | D27: NO CUMPLE El proponente en el termino otorgado por la Entidad no allegó el clausulado de la respectiva poliza de conformidad a lo indicado en la nota 2 del numeral 4.1.1.7 de las reglas de participación
B28: BENEFICIARIO | C28: CUMPLE | D28: FONDO NACIONAL DEL AHORRO
B29: Tomador/Asegurado | C29: CUMPLE | D29: COMWARE S.A.
B30: Vigencia | C30: CUMPLE | D30: 04/12/2023 desde 00:00 hasta 20/03/2024 hasta las 00:00
B31: Porcentaje asegurado | C31: CUMPLE | D31: 0.2
B32: Clausulado para entidades de regimen especial | C32: no cumple | D32: no allega el clausulado requerido | AH32: ='CONSORCIO UNIDAD DE CIBERSEGURI'!AI32 -> 0 | AI32: ='CONSORCIO UNIDAD DE CIBERSEGURI'!AJ32 -> 0 | AJ32: ='CONSORCIO UNIDAD DE CIBERSEGURI'!AK32 -> 0 | AK32: ='CONSORCIO UNIDAD DE CIBERSEGURI'!AL32 -> 0 | AL32: ='CONSORCIO UNIDAD DE CIBERSEGURI'!AM32 -> 0 | AM32: ='CONSORCIO UNIDAD DE CIBERSEGURI'!AN32 -> 0 | AN32: ='CONSORCIO UNIDAD DE CIBERSEGURI'!AO32 -> 0 | AO32: ='CONSORCIO UNIDAD DE CIBERSEGURI'!AP32 -> 0 | ... XFC32: ='CONSORCIO UNIDAD DE CIBERSEGURI'!XFD32 -> 0 | XFD32: ='CONSORCIO UNIDAD DE CIBERSEGURI'!#REF! -> #REF!
B33: valor asegurado | C33: CUMPLE | D33: $7.300.020.048.60
A34: 8 | B34: Certificación de Pagos al Sistema de Seguridad Social y de Aportes Parafiscales | C34: Cumple / No cumple | D34: NO CUMPLE
B35: Suscripción | C35: CUMPLE | D35: EN CALIDAD DE RF P JCA//RUBIO SAMACÁ ASOCIADOS SAS // NIT: 800084853 8 EN CALIDAD DE RF PPAL // Gerardo Prada Miranda // C.C. 19484930
B36: Suscripción por parte del Revisor Fiscal y documentos ( C.C, TP y Antecedentes) | C36: NO CUMPLE | D36: El Oferta en el termino otrogado por la Entidad NO ALLEGÓ la totalidad de los requisitos establecidos 4.1.1.8 de las reglas de participación, por lo anterior, NO CUMPLE CON LO REQUERIDO
A37: 9 | B37: Antecedentes Fiscales - CGR PN y P.J. | C37: Cumple / No cumple | D37: CUMPLE
A38: 10 | B38: Antecedentes Disciplinarios - PGN - P.N y P.J | C38: Cumple / No cumple | D38: CUMPLE
A39: 11 | B39: Antecedentes Judiciales P.N | C39: Cumple / No cumple | D39: CUMPLE
A40: 12 | B40: Sistema registro Nacional de medidas correctivas P.N | C40: Cumple / No cumple | D40: CUMPLE
...

Sheet SOFTICS
A1: Fondo Nacional del Ahorro - Proceso de Selección No. FNA-VTTD-CP-011-2023 Evaluación Jurídica
A2: No. | B2: CAPACIDAD JURÍDICA | C2: PROPONENTE: | D2: SOFTICS INGENIEROS SAS C.I.
A3: 1 | B3: Carta de presentación de la Oferta | C3: Cumple / No cumple | D3: CUMPLE
B4: Suscripción Representante Legal | C4: CUMPLE | D4: EN CALIDAD DE REPRESENTANTE LEGAL // WILSON OMAR BERNAL FERNANDEZ// C.C. 19.470.583 de Bogotá D.C.
A5: 2 | B5: Certificado de Existencia y Representación Legal | C5: Cumple / No cumple | D5: NO CUMPLE
B6: Fecha de expedición (30 días calendarios) | C6: CUMPLE | D6: 30 DE NOVIEMBRE DE 2023
B7: NIT | C7: CUMPLE | D7: 900717927-5
B8: Renovado | C8: CUMPLE | D8: 10 de abril de 2023
B9: Duración de la sociedad no es inferior a la duración del contrato objeto del presente proceso de selección y cinco (5) años más | C9: CUMPLE | D9: 27 de Agosto de 2118
B10: Objeto social | C10: CUMPLE | D10: (…)La sociedad tendrá como objeto principal las actividades de consultría informatica y actividades de administración de instalaciones informaticas /código CIIU 6002 (…)
B11: CIIU | C11: CUMPLE | D11: Las actividades economicas reportadas en el certificado de existencia y representación legal cumplen objeto a contratar, dado que las mismas corresponden a: CIIU: 6202- Actividades de consultoría informática y actividades de administración de instalaciones informáticas; 4741: Comercio al por menor de computadores, equipos periféricos, programas de informática y equipos de telecomunicaciones en establecimientos especializados.
B12: Representante Legal | C12: CUMPLE | D12: PRESIDENTE REPRESENTANTE LEGAL//Wilson Omar Bernal Fernandez//C.C. 19.470.583
B13: Facultades representante legal | C13: NO CUMPLE | D13: El proponente no aporto los estatutos que permitieran verificar "aquellas facultades que de acuerdo a los estatutos, se hubieran reservado los accionistas", si bien es cierto, en la parte final del certificado de existencia y representación legal, en las facultades del representante cuenta con la facultad de celebrar y ejecutar todos los actos y contratos relacionados con el objeto social, existen limitaciones que estan sujetas a la verificación de los estatutos, razón por la cual no se puede dar por cumplido el presente requisito.
B14: Revisor Fiscal | C14: N/A | D14: N/A
A15: 3 | B15: DOCUMENTO DE CONSTITUCION DEL CONSORCIO O UNION TEMPORAL | C15: N/A | D15: N/A
B16: identificacion integrantes
B17: terminos de extension y participacion en la oferta
B18: indicacion porcentual de cada integrante
A19: 4 | B19: Certificado Registro Único de Proponentes (RUP) | C19: CUMPLE | D19: CUMPLE
B20: Fecha de expedición (30 días calendarios) | C20: CUMPLE | D20: 30 DE NOVIEMBRE DE 2023
B21: Fecha de Renovación | C21: CUMPLE | D21: 20 de abril de 2023
B22: Estado firmeza | C22: CUMPLE | D22: FIRME
A23: 5 | B23: Cédula del Representante legal | C23: Cumple / No cumple | D23: CUMPLE
B24: Representante Legal | C24: CUMPLE | D24: =+D4 -> EN CALIDAD DE REPRESENTANTE LEGAL // WILSON OMAR BERNAL FERNANDEZ// C.C. 19.470.583 de Bogotá D.C.
A25: 6 | B25: RUT | C25: Cumple / No cumple | D25: CUMPLE
B26: CIIU | C26: CUMPLE | D26: =+D11 -> Las actividades economicas reportadas en el certificado de existencia y representación legal cumplen objeto a contratar, dado que las mismas corresponden a: CIIU: 6202- Actividades de consultoría informática y actividades de administración de instalaciones informáticas; 4741: Comercio al por menor de computadores, equipos periféricos, programas de informática y equipos de telecomunicaciones en establecimientos especializados.
A27: 7 | B27: GARANTIA DE SERIEDAD DE LA OFERTA | C27: Cumple / No cumple | D27: SE RECHAZA De conformidad al numeral 2.5 Causales de Rechazo de las reglas de participación numeral 34 será causal de rechazo "Cuando el oferente no presente la garantía de seriedad de la oferta al momento del cierre del proceso" por esta razón una vez validado en la plataforma de SECOP II y descagada la oferta se verifico que se aporto documento en blanco. Por esta razón, se RECHAZA LA OFERTA.
B28: BENEFICIARIO | C28: NO CUMPLE
B29: Tomador/Asegurado | C29: NO CUMPLE
B30: Vigencia | C30: NO CUMPLE
B31: Porcentaje asegurado | C31: NO CUMPLE
B32: valor asegurado | C32: NO CUMPLE
A33: 8 | B33: Certificación de Pagos al Sistema de Seguridad Social y de Aportes Parafiscales | C33: Cumple / No cumple | D33: CUMPLE
B34: Suscripción | C34: CUMPLE | D34: EN CALIDAD DE RL //WILSON OMAR BERNAL FERNANDEZ // C.C. 19.470.583 de Bogotá D.C.
B35: Suscripción por parte del Revisor Fiscal y documentos ( C.C, TP y Antecedentes) | C35: N/A | D35: N/A
A36: 9 | B36: Antecedentes Fiscales - CGR PN y P.J. | C36: Cumple / No cumple | D36: CUMPLE
A37: 10 | B37: Antecedentes Disciplinarios - PGN - P.N y P.J | C37: Cumple / No cumple | D37: CUMPLE
A38: 11 | B38: Antecedentes Judiciales P.N | C38: Cumple / No cumple | D38: CUMPLE
A39: 12 | B39: Sistema registro Nacional de medidas correctivas P.N | C39: Cumple / No cumple | D39: CUMPLE
A40: 13 | B40: Compromiso anticorrupción | C40: Cumple / No cumple | D40: CUMPLE
...
