Workbook
Name _: #REF!
Name _: #REF!
Name _: #REF!
Name _: #REF!
Name __: #REF!
Name __: #REF!
Name ___AFC1: [1]INV!$A$25:$D$28
Name ___AFC3: [1]INV!$F$25:$I$28
Name ___AFC5: [1]INV!$K$25:$N$28
Name ___BGC1: [1]INV!$A$5:$D$8
Name ___BGC3: [1]INV!$F$5:$I$8
Name ___BGC5: [1]INV!$K$5:$N$8
Name ___CAC1: [1]INV!$A$19:$D$22
Name ___CAC3: [1]INV!$F$19:$I$22
Name ___CAC5: [1]INV!$K$19:$N$22
Name ___EST1: #REF!
Name ___EST1: #REF!
Name ___EST1: #REF!
Name ___EST10: #REF!
Name ___EST10: #REF!
Name ___EST10: #REF!
Name ___EST11: #REF!
Name ___EST11: #REF!
Name ___EST11: #REF!
Name ___EST12: #REF!
Name ___EST13: #REF!
Name ___EST14: #REF!
Name ___EST15: #REF!
Name ___EST16: #REF!
Name ___EST17: #REF!
Name ___EST18: #REF!
Name ___EST19: #REF!
Name ___EST2: #REF!
Name ___EST3: #REF!
Name ___EST4: #REF!
Name ___EST5: #REF!
Name ___EST6: #REF!
Name ___EST7: #REF!
Name ___EST8: #REF!
Name ___EST9: #REF!
Name ___EXC1: #REF!
Name ___EXC10: #REF!
Name ___EXC11: #REF!
Name ___EXC12: #REF!
Name ___EXC2: #REF!
Name ___EXC3: #REF!
Name ___EXC4: #REF!
Name ___EXC5: #REF!
Name ___EXC6: #REF!
Name ___EXC7: #REF!
Name ___EXC8: #REF!
Name ___EXC9: #REF!
Name ___SBC1: [1]INV!$A$12:$D$15
Name ___SBC3: [1]INV!$F$12:$I$15
Name ___SBC5: [1]INV!$K$12:$N$15
Name __AFC1: [1]INV!$A$25:$D$28
Name __AFC3: [1]INV!$F$25:$I$28
Name __AFC5: [1]INV!$K$25:$N$28
Name __BGC1: [1]INV!$A$5:$D$8
Name __BGC3: [1]INV!$F$5:$I$8

Sheet SMMLV
A1: AÑO | B1: SMMLV
A2: 2023 | B2: 1160000
A3: 2022 | B3: 1000000
A4: 2021 | B4: 908526
A5: 2020 | B5: 877802
A6: 2019 | B6: 828116
A7: 2018 | B7: 781242
A8: 2017 | B8: 737717
A9: 2016 | B9: 689454
A10: 2015 | B10: 644350
A11: 2014 | B11: 616000
A12: 2013 | B12: 589500
A13: 2012 | B13: 566700
... A56: 1960 | B56: 198

Sheet General
A1: Proceso No. | B1: FNA-VTTD-CPA-006-2023 | D1: Entidad: | E1: FONDO NACIONAL DEL AHORRO
A2: Objeto T: | B2: RENOVACIÓN DE SUSCRIPCIONES, HABILITACIÓN DE DATA STORAGE (10 GB) Y SOPORTE DE SEGUNDO NIVEL PARA EL SISTEMA CRM DEL FNA
H3: Presupuesto: | I3: 4532846151
H4: Póliza de G. Y C. Crédito Req: | I4: =I3*0.1 -> 4.5328462e+08
H5: Póliza de G. Y C. Crédito Req Grupo Unico
H6: Presupuesto Oficial en SMMLV | I6: =I3/I15 -> 3907.626
H7: Pago de derechos de participación
H9: USD
H10: TECNICO
A11: Cronograma: | H11: FINANCIERO
B12: Cierre del término para presentar propuestas: | F12: 45198 | H12: ABOGADO
B13: Informe de Solicitud de Aclaraciones | F13: 45203
B14: Plazo para Subsanar | F14: 45205 | H14: Año de evaluacion del proceso | I14: 2023
B15: Informe de Verificación de Requisitos Habilitantes | F15: 45209 | H15: SMMLV del año del proceso | I15: =VLOOKUP(I14, SMMLV!$A$2:$B$56,2,FALSE) -> 1160000
B16: Plazo para Observaciones | F16: 45210
B17: Publicacion Observaciones
B18: Respuesta a Observaciones | F18: 45211
B19: Audiencia | F19: 45212
B22: Fecha 1 mes antes de cierre para control Certificado Existencia y Póliza Garantía | F22: =+F12-30 -> 45168
F27: FIRMEZA DE RUP
H28: REVISAR DIEZ DIAS HABILES
B105: PROFESIONAL DE ESTUDIOS PREVIOS | E105: ASESOR JURIDICO DEL PROCESO
B106: CARLOS HECTOR CASTRO | E106: JHON JAIRO CORREDOR CALDAS
B107: CELMIRA MORENO CARRERO | E107: ALEXANDRA BAUTISTA BELTRAN
B108: DIANA PATRICIA LOPEZ ESTUPIÑAN | E108: CLAUDIA BEATRIZ NIETO
B109: ERICK VONN CABARCAS GOMEZ | E109: ELSA LUCIA CRUZ RODRIGUEZ
B110: FREDY CASTELLANOS OVIEDO | E110: GERMAN ANDRES URREGO SABOGAL
B111: GERMAN ALFONSO RODRIGUEZ SILVA | E111: IVAN ABELARDO SARMIENTO GALVIS
B112: HERNANDO ALFONSO GOMEZ LOPEZ | E112: JOSE RODRIGO BERMUDEZ CASTRO
B113: JAIRO FIDEL ORTEGA CHAPARRO | E113: MARGARITA MARIA MUÑOZ CABRERA
B114: JHON JAIRO ORTIZ RODRIGUEZ | E114: SANTIAGO PEREZ BUITRAGO
B115: JORGE ANDRES OSORIO ORTIZ | E115: TANIA LILIANA SANABRIA BARRERA
B116: LUSANGELA GALINDO BERROCAL | E116: JAIME ALEJANDRO DURAN FONTANILLA
... B119: ORLANDO FABIO BARRIOS LOZANO | E119: JUAN SEBASTIAN ARANGO PASTOR
B120: OSCAR JULIAN OLEA SALGADO
B121: SANDRA GIOVANA SALEH FRANCO
B122: WILSON BONILLA CRISTANCHO
B123: LUIS CARLOS ANDRADE FONSECA

Sheet Directorio
A1: No. | B1: PROCESO | C1: NOMBRE DEL OFERENTE | D1: NIT | E1: REPRESENTANTE LEGAL | F1: CEDULA | G1: Teléfono | H1: Fax | I1: Celular | J1: Direccion | K1: Email | L1: Ciudad | M1: NOMBRE COMPLETO | N1: INTEGRANTES DEL CONSORCIO O DE LA UNION TEMPORAL | W1: INTEGRANTES DEL CONSORCIO O DE LA UNION TEMPORAL | AF1: INTEGRANTES DEL CONSORCIO O DE LA UNION TEMPORAL | AO1: Socios Integrante 1 | BA1: Socios Integrante 2 | BM1: Socios Integrante 3
M2: ="("&E2&": "&N2&" "&TEXT(O2,"##0,00%")&" - "&P2&" "&TEXT(Q2,"##0,00%")&" - "&R2&" "&TEXT(S2,"##0,00%")&")" -> (: Integrante 1 % Int. 1 - NIT O CEDULA DE CIUDADANIA Integrante 2 - % Int. 2 NIT O CEDULA DE CIUDADANIA) | N2: Integrante 1 | O2: % Int. 1 | P2: NIT O CEDULA DE CIUDADANIA | Q2: Integrante 2 | R2: % Int. 2 | S2: NIT O CEDULA DE CIUDADANIA | T2: INTEGRANTE 3 | U2: % Int. 3 | V2: NIT O CEDULA DE CIUDADANIA | W2: Integrante 4 | X2: % Int. 4 | Y2: NIT O CEDULA DE CIUDADANIA | Z2: Integrante 5 | AA2: % Int. 5 | AB2: NIT O CEDULA DE CIUDADANIA | AC2: INTEGRANTE 6 | AD2: % Int. 6 | AE2: NIT O CEDULA DE CIUDADANIA | AF2: Integrante 7 | AG2: % Int. 7 | AH2: NIT O CEDULA DE CIUDADANIA | AI2: Integrante 8 | AJ2: % Int. 8 | AK2: NIT O CEDULA DE CIUDADANIA | AL2: INTEGRANTE 9 | AM2: % Int. 9 | AN2: NIT O CEDULA DE CIUDADANIA | AO2: Socio 1 | AQ2: Socio 2 | AS2: Socio 3 | AU2: Socio 4 | AW2: Socio 5 | AY2: Socio 6 | BA2: Socio 1 | BC2: Socio 2 | BE2: Socio 3 | BG2: Socio 4 | BI2: Socio 5 | BK2: Socio 6 | BM2: Socio 1 | BO2: Socio 2 | BQ2: Socio 3 | BS2: Socio 4 | BU2: Socio 5 | BW2: Socio 6
M3: ="("&N3&" "&TEXT(O3,"##0,00%")&" - "&P3&" "&TEXT(Q3,"##0,00%")&" - "&R3&" "&TEXT(S3,"##0,00%")&")" -> ( 000% - 000% - 000%) | AO3: Nombre | AP3: C. de Ciudadania | AQ3: Nombre | AR3: C. de Ciudadania | AS3: Nombre | AT3: C. de Ciudadania | AU3: Nombre | AV3: C. de Ciudadania | AW3: Nombre | AX3: C. de Ciudadania | AY3: Nombre | AZ3: C. de Ciudadania | BA3: Nombre | BB3: C. de Ciudadania | BC3: Nombre | BD3: C. de Ciudadania | BE3: Nombre | BF3: C. de Ciudadania | BG3: Nombre | BH3: C. de Ciudadania | BI3: Nombre | BJ3: C. de Ciudadania | BK3: Nombre | BL3: C. de Ciudadania | BM3: Nombre | BN3: C. de Ciudadania | BO3: Nombre | BP3: C. de Ciudadania | BQ3: Nombre | BR3: C. de Ciudadania | BS3: Nombre | BT3: C. de Ciudadania | BU3: Nombre | BV3: C. de Ciudadania | BW3: Nombre | BX3: C. de Ciudadania
A4: 1 | B4: =General!B1 -> FNA-VTTD-CPA-006-2023 | C4: CONSORCIO FNA SF FREEWAY INTELECTO | E4: PILAR SAMIRA CASTELLANOS | F4: 52782408 | L4: Bogotá | M4: ="("&C4&": "&N4&" "&TEXT(O4,"##0,00%")&" - "&Q4&" "&TEXT(R4,"##0,00%")&" - "&T4&" "&TEXT(U4,"##0,00%")&")" -> (CONSORCIO FNA SF FREEWAY INTELECTO: FREEWAY FCG COLOMBIA S.A.S. 70,00% - INTELECTO SOLUCIONES Y TECNOLOGÍA S.A.S 30,00% - 0,00%) | N4: FREEWAY FCG COLOMBIA S.A.S. | O4: 0.7 | P4: 901.413.546-0 | Q4: INTELECTO SOLUCIONES Y TECNOLOGÍA S.A.S | R4: 0.3 | S4: 805.022.904-8
A5: 2 | B5: =B4 -> FNA-VTTD-CPA-006-2023 | C5: SISTEMAS COLOMBIA S.A.S | D5: 900218578 7 | E5: ANDRÉS SANTIAGO GIOLITO | F5: 386690 | L5: Bogotá | M5: ="("&C5&": "&N5&" "&TEXT(O5,"##0,00%")&" - "&Q5&" "&TEXT(R5,"##0,00%")&" - "&T5&" "&TEXT(U5,"##0,00%")&")" -> (SISTEMAS COLOMBIA S.A.S: SISTEMAS COLOMBIA S.A.S 100,00% - 0,00% - 0,00%) | N5: =C5 -> SISTEMAS COLOMBIA S.A.S | O5: 1 | P5: =D5 -> 900218578 7
A6: 3 | B6: =B5 -> FNA-VTTD-CPA-006-2023 | M6: ="("&C6&": "&N6&" "&TEXT(O6,"##0,00%")&" - "&Q6&" "&TEXT(R6,"##0,00%")&" - "&T6&" "&TEXT(U6,"##0,00%")&")" -> (: 0 0,00% - 0,00% - 0,00%) | N6: =C6 -> 0 | P6: =D6 -> 0
A7: 4 | B7: =B6 -> FNA-VTTD-CPA-006-2023 | M7: ="("&C7&": "&N7&" "&TEXT(O7,"##0,00%")&" - "&Q7&" "&TEXT(R7,"##0,00%")&" - "&T7&" "&TEXT(U7,"##0,00%")&")" -> (: 0 0,00% - 0,00% - 0,00%) | N7: =C7 -> 0 | P7: =D7 -> 0
A8: 5 | B8: =B7 -> FNA-VTTD-CPA-006-2023 | M8: ="("&C8&": "&N8&" "&TEXT(O8,"##0,00%")&" - "&Q8&" "&TEXT(R8,"##0,00%")&" - "&T8&" "&TEXT(U8,"##0,00%")&")" -> (: 0 0,00% - 0,00% - 0,00%) | N8: =C8 -> 0 | P8: =D8 -> 0
A9: 6 | B9: =B8 -> FNA-VTTD-CPA-006-2023 | M9: ="("&C9&": "&N9&" "&TEXT(O9,"##0,00%")&" - "&Q9&" "&TEXT(R9,"##0,00%")&" - "&T9&" "&TEXT(U9,"##0,00%")&")" -> (: 0 0,00% - 0,00% - 0,00%) | N9: =C9 -> 0 | P9: =D9 -> 0
A10: 7 | B10: =B9 -> FNA-VTTD-CPA-006-2023 | M10: ="("&C10&": "&N10&" "&TEXT(O10,"##0,00%")&" - "&Q10&" "&TEXT(R10,"##0,00%")&" - "&T10&" "&TEXT(U10,"##0,00%")&")" -> (: 0 0,00% - 0,00% - 0,00%) | N10: =C10 -> 0 | P10: =D10 -> 0
A11: 8 | B11: =B10 -> FNA-VTTD-CPA-006-2023 | M11: ="("&C11&": "&N11&" "&TEXT(O11,"##0,00%")&" - "&Q11&" "&TEXT(R11,"##0,00%")&" - "&T11&" "&TEXT(U11,"##0,00%")&")" -> (: 0 0,00% - 0,00% - 0,00%) | N11: =C11 -> 0 | P11: =D11 -> 0 | W11: =L11 -> 0 | Y11: =M11 -> (: 0 0,00% - 0,00% - 0,00%) | AF11: =U11 -> 0 | AH11: =V11 -> 0
A12: 9 | B12: =B11 -> FNA-VTTD-CPA-006-2023 | M12: ="("&C12&": "&N12&" "&TEXT(O12,"##0,00%")&" - "&Q12&" "&TEXT(R12,"##0,00%")&" - "&T12&" "&TEXT(U12,"##0,00%")&")" -> (: 0,00% - 0,00% - 0,00%)
A13: 10 | B13: =B12 -> FNA-VTTD-CPA-006-2023 | M13: ="("&C13&": "&N13&" "&TEXT(O13,"##0,00%")&" - "&Q13&" "&TEXT(R13,"##0,00%")&" - "&T13&" "&TEXT(U13,"##0,00%")&")" -> (: 0,00% - 0,00% - 0,00%)
A14: 11 | B14: =B13 -> FNA-VTTD-CPA-006-2023 | M14: ="("&C14&": "&N14&" "&TEXT(O14,"##0,00%")&" - "&Q14&" "&TEXT(R14,"##0,00%")&" - "&T14&" "&TEXT(U14,"##0,00%")&")" -> (: 0,00% - 0,00% - 0,00%)
A15: 12 | B15: =B14 -> FNA-VTTD-CPA-006-2023 | M15: ="("&C15&": "&N15&" "&TEXT(O15,"##0,00%")&" - "&Q15&" "&TEXT(R15,"##0,00%")&" - "&T15&" "&TEXT(U15,"##0,00%")&")" -> (: 0,00% - 0,00% - 0,00%)
A16: 13 | B16: =B15 -> FNA-VTTD-CPA-006-2023 | M16: ="("&C16&": "&N16&" "&TEXT(O16,"##0,00%")&" - "&Q16&" "&TEXT(R16,"##0,00%")&" - "&T16&" "&TEXT(U16,"##0,00%")&")" -> (: 0,00% - 0,00% - 0,00%)
A17: 14 | B17: =B16 -> FNA-VTTD-CPA-006-2023 | M17: ="("&C17&":"&N17&" "&TEXT(O17,"##0,00%")&" - "&Q17&" "&TEXT(R17,"##0,00%")&" - "&T17&" "&TEXT(U17,"##0,00%")&")" -> (: 0,00% - 0,00% - 0,00%)
A18: 15 | B18: =B17 -> FNA-VTTD-CPA-006-2023 | M18: ="("&C18&": "&N18&" "&TEXT(O18,"##0,00%")&" - "&Q18&" "&TEXT(R18,"##0,00%")&" - "&T18&" "&TEXT(U18,"##0,00%")&")" -> (: 0,00% - 0,00% - 0,00%)
A19: 16 | B19: =B18 -> FNA-VTTD-CPA-006-2023 | M19: ="("&C19&": "&N19&" "&TEXT(O19,"##0,00%")&" - "&Q19&" "&TEXT(R19,"##0,00%")&" - "&T19&" "&TEXT(U19,"##0,00%")&")" -> (: 0,00% - 0,00% - 0,00%)
A20: 17 | B20: =B19 -> FNA-VTTD-CPA-006-2023 | M20: ="("&C20&": "&N20&" "&TEXT(O20,"##0,00%")&" - "&Q20&" "&TEXT(R20,"##0,00%")&" - "&T20&" "&TEXT(U20,"##0,00%")&")" -> (: 0,00% - 0,00% - 0,00%)
A21: 18 | B21: =B20 -> FNA-VTTD-CPA-006-2023 | M21: ="("&C21&": "&N21&" "&TEXT(O21,"##0,00%")&" - "&Q21&" "&TEXT(R21,"##0,00%")&" - "&T21&" "&TEXT(U21,"##0,00%")&")" -> (: 0,00% - 0,00% - 0,00%)
A22: 19 | B22: =B21 -> FNA-VTTD-CPA-006-2023 | M22: ="("&C22&": "&N22&" "&TEXT(O22,"##0,00%")&" - "&Q22&" "&TEXT(R22,"##0,00%")&" - "&T22&" "&TEXT(U22,"##0,00%")&")" -> (: 0,00% - 0,00% - 0,00%)
A23: 20 | B23: =B22 -> FNA-VTTD-CPA-006-2023 | M23: ="("&C23&": "&N23&" "&TEXT(O23,"##0,00%")&" - "&Q23&" "&TEXT(R23,"##0,00%")&" - "&T23&" "&TEXT(U23,"##0,00%")&")" -> (: 0,00% - 0,00% - 0,00%)

Sheet Conclusión Eval Técnica
A2: =General!E1 -> FONDO NACIONAL DEL AHORRO
A4: FNA-VTTD-CP-011-2023
A6: CONTRATAR UNIDAD DE CIBERSEGURIDAD QUE PROPORCIONE SERVICIOS DE SEGURIDAD INTEGRADOS AL FONDO NACIONAL DEL AHORRO
A7: INFORME DE EVALUACIÓN PRELIMINAR DE REQUISITOS DE CARÁCTER TÉCNICO
A8: Como producto de la verificación de los Requisitos Técnicos, a la fecha del presente Informe el resultado es el siguiente:
B10: No | C10: OFERENTE | E10: REQUISITOS MÍNIMOS TÉCNICOS EXIGIDOS
B11: 1 | C11: CONSORCIO UNIDAD DE CIBERSEGURIDAD FNA | E11: HABILITADO
B12: 2 | C12: SOFTICS INGENIEROS SAS CI | E12: RECHAZADO
B13: 3 | C13: COMWARE SA | E13: RECHAZADO
A16: Este informe permanecerá a disposición de los interesados, por el término de dos (2) dias hábiles, de conformidad con lo establecido en el Cronograma previsto en las Reglas de Participación.
A19: Bogotá D.C., a los once (11) días del mes de Diciembre de 2023
D21: (ORIGINAL FIRMADO)
A22: Cristian Garcia
A23: Evaluador Técnico
D25: (ORIGINAL FIRMADO)

Sheet Exp. Proponente
A1: =General!B2 -> RENOVACIÓN DE SUSCRIPCIONES, HABILITACIÓN DE DATA STORAGE (10 GB) Y SOPORTE DE SEGUNDO NIVEL PARA EL SISTEMA CRM DEL FNA
A2: =General!B1 -> FNA-VTTD-CPA-006-2023
A3: Condiciones Experiencia del OFERENTE
A5: Experiencia a Acreditar GENERAL | E5: # Contratos | F5: Fecha Lím. Fin. Cont. | G5: Valor Sumatoria Contratos SMMLV | H5: PRESUPUESTO
A6: 4.1.2.5.2 EXPERIENCIA ESPECIFICA a. Prestar el servicio de centro de operaciones de seguridad “SOC” o actividades relacionadas. - Máximo tres (3) certificaciones de contratos cuyo objeto, alcance y/o actividades incluyan correlación de eventos, gestión o monitoreo de incidentes. - Por lo menos una certificación deberá tener dentro de sus actividades Threat hunting, SOAR, monitoreo de infraestructura on-premise y cloud, auditoría continua de seguridad y vigilancia digital. - Por lo menos una certificación debe tener administración y soporte de herramientas de ciberdefensa darktrace. b. Suministro de servicios de seguridad informática y/o servicios de seguridad gestionada - Dos (2) certificaciones de contratos, relacionadas con: - Todas deben incluir análisis o gestión de vulnerabilidades. - Por lo menos una deberá incluir dentro de su objeto, alcance y/o actividades, implementación o actualización del sistema de gestión para seguridad de la información (SGSI), actualización del esquema de gestión de incidentes, definición de monitoreo de base de datos. b. Una certificación o contratos celebrados, cuyo objeto o actividades contengan renovación de plataforma de antivirus y antimalware en una empresa del estado de carácter financiero. | E6: 6 | F6: 40376 | G6: =(H6/1160000) -> 31465.604 | H6: 36500100243
Q9: 0.5 | R9: 1 | S9: 1.5 | T9: 2
G10: =COUNTIF(#REF!,"Vo.Bo.") -> #REF!
A11: EXPERIENCIA ADICIONAL
F12: N/A | G12: N/A | I12: =IF(E12>0,VLOOKUP(YEAR(E12),SMMLV!$A$7:$B$56,2,FALSE),0) -> 0 | K12: =IF(AND(E12>=$F$6,H12>0),H12/I12*J12,0) -> 0
F13: N/A | G13: N/A | I13: =IF(E13>0,VLOOKUP(YEAR(E13),SMMLV!$A$7:$B$56,2,FALSE),0) -> 0 | K13: =IF(AND(E13>=$F$6,H13>0),H13/I13*J13,0) -> 0
F14: N/A | G14: N/A | I14: =IF(E14>0,VLOOKUP(YEAR(E14),SMMLV!$A$10:$B$56,2,FALSE),0) -> 0 | K14: =IF(AND(E14>=$F$6,H14>0),H14/I14*J14,0) -> 0
I15: =IF(E15>0,VLOOKUP(YEAR(E15),SMMLV!$A$10:$B$56,2,FALSE),0) -> 0 | K15: =IF(AND(E15>=$F$6,H15>0),H15/I15*J15,0) -> 0
I16: =IF(E16>0,VLOOKUP(YEAR(E16),SMMLV!$A$10:$B$56,2,FALSE),0) -> 0 | K16: =IF(AND(E16>=$F$6,H16>0),H16/I16*J16,0) -> 0
I17: =IF(E17>0,VLOOKUP(YEAR(E17),SMMLV!$A$10:$B$56,2,FALSE),0) -> 0 | K17: =IF(AND(E17>=$F$6,H17>0),H17/I17*J17,0) -> 0
K18: =SUM(K12:K17) -> 0
K19: =IF(AND(K18>=$G$6,#REF!>0),"CUMPLE", "NO CUMPLE ") -> #REF!
K21: =IF(AND(K18>=#REF!,K18<=#REF!,K18>0),"CUMPLE", "NO CUMPLE ") -> #REF! | O21: NUMERAL 6.2.1 PRIMER CRITERIO (8 PUNTOS)
K22: =IF(AND(K18>=#REF!,K18<=#REF!,K18>0),"CUMPLE", "NO CUMPLE ") -> #REF! | O22: NUMERAL 6.2.1 SEGUNDO CRITERIO (15 PUNTOS)
K23: =IF(AND(K19>=#REF!,K19<=#REF!,K19>0),"CUMPLE", "NO CUMPLE ") -> #REF! | O23: NUMERAL 6.2.1 TERCER CRITERIO (15 PUNTOS)
K24: =IF(AND(K18>=#REF!,K18>0),"CUMPLE", "NO CUMPLE ") -> #REF! | O24: NUMERAL 6.2.1 TERCER CRITERIO (20 PUNTOS)
A26: No. | B26: 1 | C26: OFERENTE: | D26: CONSORCIO UNIDAD DE CIBERSEGURIDAD FNA | I26: =VLOOKUP(B26,Directorio!$A$4:$V$23,4,FALSE) -> 0
A27: Folio | B27: Propietario o Entidad Contratante | C27: Contratista | D27: Objeto o descripción de las obligaciones | E27: Fecha Finalización | F27: Valor Contrato us$ | G27: TRM (Si aplica) | H27: Valor Contrato | I27: SMMLV para Cálculo | J27: % Part Ejecuc | K27: Valor Contrato en SMMLV | L27: APLICA PARA CRITERIO DIFERENCIAL | M27: Código UNSPSC | N27: HABILITADO / NO HABILITADO | O27: Observaciones
A28: SF | B28: MSI SISTEMAS DE INTELIGENCIA DE MERCADO SA | C28: MNEMO CYBER SEC SAS | D28: Servicios gestionados de SOC (Security Operation Center. Correlación de eventos a través de herramientas SIEM. Gestión. Monitoreo y protección de amenazas (threat hunting) e incidentes de seguridad, Solución de automatización, orquestación y respuesta de seguridad (SOAR), Monitorización continua de la infraestructura (NOC) on premise y cloud, Auditorías continuas de seguridad por nivel de madurez, vigilancia digital y protección de marca. | E28: 21/04/2021 | F28: N/A | G28: N/A | H28: 3.3130865e+09 | I28: 908526 | J28: 1 | K28: =H28/I28 -> 3646.6612 | L28: NO APLICA | M28: No aplica | N28: CUMPLE | O28: El Oferente cumple conla experiencia minima habilitante
A29: SF | B29: EMTEL | C29: MNEMO COLOMBIA SAS | D29: Prestar servicio de centro de operaciones de seguridad "SOC" para el instituto colombiano agropecuario - ICA. En el marco del contrato interadministrativo No GGC-021-2021 de 2021 , suscrito entre el instituto colombiano agropecuario - ICA y EMTEL S.A.E.S.P | E29: 30/12/2021 | F29: N/A | G29: N/A | H29: 1639803200 | I29: 908526 | J29: 1 | K29: =H29/I29 -> 1804.9051 | L29: NO APLICA | M29: 432225 -432323 -432332- 811120- 831216- 931515- 321518- 811615 | N29: CUMPLE | O29: El Oferente cumple conla experiencia minima habilitante
A30: SF | B30: CONTRALORÍA GENERAL DE LA REPÚBLICA | C30: MNEMO COLOMBIA SAS | D30: ADQUISICIÓN DE UN SISTEMA DE SEGURIDAD INTEGRAL DE INFORMACION, QUE INCLUYE EL LICENCIAMIENTO CORPORATIVO SCISO, MAVERIC, PRESEA Y REMEDY; DISEÑO E IMPLEMENTACION DE LA ARQUITECTURA DE SEGURIDAD DE LA RED; DISEÑO E IMPLEMENTACION DEL SOCK; ENTREGA DEL ESTUDIO DE CORRELACION Y RECOMENDACIONES Y LA TRANSFERENCIA DE CONOCIMIENTO DE TODO AL SISTEMA; IMPLEMENTACIÓN DE LAS METODOLOGÍAS Y PRODUCTOS INTEGRADOS PARA LA OPERACIÓN Y MONITOREO DE INCIDENTES DE SEGURIDAD. | E30: 28/12/2012 | F30: N/A | G30: N/A | H30: 5363730370 | I30: 566700 | J30: 1 | K30: =H30/I30 -> 9464.8498 | L30: NO APLICA | M30: 432225-432323-432332-831216-931515-811615 | N30: CUMPLE | O30: El Oferente cumple conla experiencia minima habilitante
A31: SF | B31: DIRECCIÓN EJECUTIVA DE ADMINISTRACIÓN JUDICIAL | C31: MNEMO CYBER SEC SAS | D31: Adquirir la actualización, ¡mplementación y puesta en operación de un esquema de seguridad informática y de la información para la Rama Judicial. | E31: 42320 | F31: N/A | G31: N/A | H31: 6299086086 | I31: 644350 | J31: 1 | K31: =H31/I31 -> 9775.8766 | L31: NO APLICA | M31: 321518-432323-811120-432332-432225-811615-831216-931515 | N31: CUMPLE | O31: El Oferente cumple conla experiencia minima habilitante
B32: BBVA SA | C32: MNEMO EVOLUTION & INTEGRATION SA | D32: Servicio MSSP, seguridad gestionada de infraestructura y correlación de eventos, servicio de análisis de vulnerabilidades continuo, servicio de identificación, gestión de remediación de incidentes digitales | E32: 30/04/2017 | F32: N/A | G32: N/A | H32: 2.4471837e+09 | I32: 737717 | J32: 1 | K32: =H32/I32 -> 3317.2392 | L32: NO APLICA | M32: No aplica | N32: CUMPLE | O32: El Oferente cumple conla experiencia minima habilitante
A33: SF | B33: FONDO NACIONAL DEL AHORRO | C33: MNEMO COLOMBIA SAS | D33: Renovación y fortalecimiento de la infraestructura tecnológica de seguridad que soporta la plataforma de antivirus y antimalware existente en el FNA | E33: 30/09/2022 | F33: N/A | G33: N/A | H33: 1640376761 | I33: 1000000 | J33: 1 | K33: =H33/I33 -> 1640.3768 | L33: NO APLICA | M33: 321518-432332-432225-432323-811120-811615-831216-931515 | N33: CUMPLE | O33: El Oferente cumple conla experiencia minima habilitante
H34: =SUM(H28:H33) -> 2.0703267e+10 | K34: =SUM(K28:K33) -> 29649.909
A39: No. | B39: 2 | C39: OFERENTE: | D39: SOFTICS INGENIEROS SAS CI | I39: =VLOOKUP(B39,Directorio!$A$4:$V$23,4,FALSE) -> 900218578 7
A40: Folio | B40: Propietario o Entidad Contratante | C40: Contratista | D40: Objeto o descripción de las obligaciones | E40: Fecha Finalización | F40: Valor Contrato us$ | G40: TRM (Si aplica) | H40: Valor Contrato | I40: SMMLV para Cálculo | J40: % Part Ejecuc | K40: Valor Contrato en SMMLV | L40: APLICA PARA CRITERIO DIFERENCIAL | M40: Código UNSPSC | N40: HABILITADO / NO HABILITADO | O40: Observaciones
A41: SF | B41: CONMARCOSTA | C41: SOFTICS INGENIEROS SAS CI | D41: Adquisición e implementación de licenciamiento de antivirus y EDR para jefatura de inteligencia naval por el periodo de 36 meses | E41: 30/12/2020 | F41: N/A | G41: N/A | H41: 105910000 | I41: 877803 | J41: 1 | K41: =H41/I41 -> 120.6535 | L41: NO APLICA | M41: 432225-432323-432332-811120 | N41: NO HABILITADO | O41: Una vez cumplido el plazo establecido para la subsanación el proponente no allegó lo requerido por el comité evaluador por lo tanto NO CUMPLE y en consecuencia de lo anterior, y teniendo en cuenta lo establecido en el numeral 1 del punto2.5 CAUSALES DE RECHAZO de las reglas de participación, El FNA rechazará la Presente propuesta teniendo en cuenta que: "Cuando el comité evaluador haya solicitado presentar algún documento o subsanar o aclarar alguna información necesaria para el cumplimiento de los requisitos habilitantes, y el oferente no aporte, subsane o aclare lo pertinente, en los plazos y condiciones señalados por el comité evaluador"
A42: SF | B42: INVERCOLOMBIA | C42: SOFTICS INGENIEROS SAS CI | D42: Adquisición de 17200 licencias de antivirus con modulo de EDR por el periodo de 12 meses | E42: 28/02/2022 | F42: N/A | G42: N/A | H42: 2300000000 | I42: 1000000 | J42: 1 | K42: =H42/I42 -> 2300 | L42: NO APLICA | M42: 432225-432323-432332-811120 | N42: NO HABILITADO
A43: SF | B43: IPSE | C43: SOFTICS INGENIEROS SAS CI | D43: El objeto del contrato es la adquisición, configuración, implementación y soporte de licencias para una solución antivirus para el IPSE | E43: 31/12/2020 | F43: N/A | G43: N/A | H43: 81965900 | I43: 877803 | J43: 1 | K43: =H43/I43 -> 93.37619 | L43: NO APLICA | M43: 432225-432323-432332-811120 | N43: NO HABILITADO
A44: SF | B44: DIGSA | C44: SOFTICS INGENIEROS SAS CI | D44: Adquisición de una solución de protección de punto final que incluya EDR, parchado de aplicaciones y seguridad para correo office 365 para la dirección general de sanidad militar | E44: 31/12/2021 | F44: N/A | G44: N/A | H44: 110942950 | I44: 908526 | J44: 1 | K44: =H44/I44 -> 122.11313 | L44: NO APLICA | M44: 432225-432323-432332-811121 | N44: NO HABILITADO
H45: =SUM(H41:H44) -> 2598818850 | K45: =SUM(K41:K44) -> 2636.1428
A48: No. | B48: 3 | C48: OFERENTE: | D48: COMWARE SA | I48: =VLOOKUP(B48,Directorio!$A$4:$V$23,4,FALSE) -> 0
A49: Folio | B49: Propietario o Entidad Contratante | C49: Contratista | D49: Objeto o descripción de las obligaciones | E49: Fecha Finalización | F49: Valor Contrato us$ | G49: TRM (Si aplica) | H49: Valor Contrato | I49: SMMLV para Cálculo | J49: % Part Ejecuc | K49: Valor Contrato en SMMLV | L49: APLICA PARA CRITERIO DIFERENCIAL | M49: Código UNSPSC | N49: HABILITADO / NO HABILITADO | O49: Observaciones
A50: SF | B50: MINISTERIO DE DEFENSA NACIONAL COMANDO GENERAL FUERZAS MILITARES EJÉRCITO NACIONAL CENTRAL ADMINISTRATIVA Y CONTABLE ESPECIALIZADA TELEMATICA | C50: COMWARE SA | D50: ACTUALIZACION DE LICENCIAS Y MANTENIMIENTO DE LA PLATAFORMA FIREEYE NX Y HX (GAOCC) CIBERDEFENSA | E50: 31/12/2019 | F50: N/A | G50: N/A | H50: 6.7477008e+08 | I50: 828116 | J50: 1 | K50: =H50/I50 -> 814.82555 | L50: Se tendra como NO CUMPLE, dado que a pesar de aportar el formato solicitado por la entidad para acreditacion de este criterio, se le solicita al proponente allegar delegación realizada por el Presidente el señor Luis Alberto Bocanegra, que para el caso de conformidad con certificado de existencia y representación lega obra como representante legal, dado que quien firma los documentos de la propuesta al presente proceso selectivo es la primera suplente , la señora Monica de Pilar Camacho casado, pero en los documentos no obra dicha facultad en atención a la falta absoluta, temporal o accidental del representante. | N50: NO HABILITADO | O50: Una vez cumplido el plazo establecido para la subsanación el proponente no allegó lo requerido por el comité evaluador por lo tanto NO CUMPLE y en consecuencia de lo anterior, y teniendo en cuenta lo establecido en el numeral 1 del punto2.5 CAUSALES DE RECHAZO de las reglas de participación, El FNA rechazará la Presente propuesta teniendo en cuenta que: "Cuando el comité evaluador haya solicitado presentar algún documento o subsanar o aclarar alguna información necesaria para el cumplimiento de los requisitos habilitantes, y el oferente no aporte, subsane o aclare lo pertinente, en los plazos y condiciones señalados por el comité evaluador"
A51: SF | B51: COLOMBIA TELECOMUNICACIONES S.A. ESP | C51: COMWARE SA | D51: Licencias de Uso a Perpetuidad para la Solución de Seguridad FIREEYE NETWORK SECURITY y se compromete a Prestar los Servicios de Instalación, Soporte y Mantenimiento para el Proyecto del Cliente SENA. | E51: 43961 | F51: N/A | G51: N/A | H51: 2856000000 | I51: 781242 | J51: 1 | K51: =H51/I51 -> 3655.7174 | M51: 43222500 43232300 43233200 81161500 | N51: NO HABILITADO
...

Sheet ANÁLISIS 1
B1: SISTEMAS COLOMBIA
B3: PRODUCTOS FAMILIA | C3: CONTRATISTA | D3: SISTEMAS COLOMBIA | H3: SMMLV | I3: =F11/1000000 -> 3460.0965
B6: FECHA DE TERMINACIÓN | C6: 44878
C7: USD | E7: TRM
B8: VALOR INICIAL CONTRATO | C8: 719943 | E8: 4806.07 | F8: =C8*E8 -> 3.4600965e+09
B9: ADICIÓN 1 | F9: =C9*E8 -> 0
B10: ADICIÓN 2 | F10: =C10*E8 -> 0
B11: VALOR FINAL CONTRATO | C11: =SUM(C8:C10) -> 719943 | F11: =SUM(F8:F10) -> 3.4600965e+09
E12: IVA | F12: =F11*19% -> 6.5741833e+08
F13: =F11+F12 -> 4.1175148e+09
C17: CONTRATISTA
B20: FECHA DE TERMINACIÓN
C21: USD | E21: TRM
B22: VALOR INICIAL CONTRATO | F22: =C22*E22 -> 0
B23: ADICIÓN 1 | F23: =C23*E22 -> 0
B24: ADICIÓN 2 | F24: =C24*E22 -> 0
B25: VALOR FINAL CONTRATO | C25: =SUM(C22:C24) -> 0 | F25: =SUM(F22:F24) -> 0
B26: IVA | C26: =C25*19% -> 0 | E26: IVA | F26: =F25*19% -> 0
C27: =C25+C26 -> 0 | F27: =F25+F26 -> 0
C31: CONTRATISTA
B34: FECHA DE TERMINACIÓN
C35: USD | E35: TRM
B36: VALOR INICIAL CONTRATO | F36: =C36*E36 -> 0
B37: ADICIÓN 1 | F37: =C37*E36 -> 0
B38: ADICIÓN 2 | F38: =C38*E36 -> 0
B39: VALOR FINAL CONTRATO | C39: =SUM(C36:C38) -> 0 | F39: =SUM(F36:F38) -> 0
B40: IVA | E40: IVA
C41: =C39+C40 -> 0 | F41: =F39+F40 -> 0
C44: CONTRATISTA
B47: FECHA DE TERMINACIÓN
C48: USD | E48: TRM
B49: VALOR INICIAL CONTRATO | F49: =C49*E49 -> 0
B50: ADICIÓN 1 | F50: =C50*E49 -> 0
B51: ADICIÓN 2 | F51: =C51*E49 -> 0
B52: VALOR FINAL CONTRATO | C52: =SUM(C49:C51) -> 0 | F52: =SUM(F49:F51) -> 0
B53: IVA | E53: IVA
C54: =C52+C53 -> 0 | F54: =F52+F53 -> 0

Sheet Requisitos Técnicos
A1: 4.1.2.1. CERTIFICACIONES DE FABRICANTE Y/O MAYORISTA 4.1.2.2. CERTIFICACIÓN FIRST 4.1.2.3. CERTIFICACION CERT 4.1.2.4. CERTIFICACIÓN CENTRO DE DATOS ALTERNOS 4.1.2.5. CERTIFICACIONES ISO 4.1.2.8. MANIFESTACIÓN DE ACEPTACIÓN DE REQUERIMIENTOS MÍNIMOS OBLIGATORIOS 4.1.2.9 PERSONAL MINIMO | B1: 1 | C1: CONSORCIO UNIDAD DE CIBERSEGURIDAD FNA | F1: 2 | G1: SOFTICS INGENIEROS SAS CI | J1: 3 | K1: COMWARE SA | N1: =1+J1 -> 4 | O1: =VLOOKUP(N1,Directorio!$A$4:$V$23,3,FALSE) -> 0 | R1: =1+N1 -> 5 | S1: =VLOOKUP(R1,Directorio!$A$4:$V$23,3,FALSE) -> 0 | V1: =1+R1 -> 6 | W1: =VLOOKUP(V1,Directorio!$A$4:$V$23,3,FALSE) -> 0 | Z1: =1+V1 -> 7 | AA1: =VLOOKUP(Z1,Directorio!$A$4:$V$23,3,FALSE) -> 0 | AD1: =1+Z1 -> 8 | AE1: =VLOOKUP(AD1,Directorio!$A$4:$V$23,3,FALSE) -> 0 | AH1: =1+AD1 -> 9 | AI1: =VLOOKUP(AH1,Directorio!$A$4:$V$23,3,FALSE) -> 0 | AL1: =1+AH1 -> 10 | AM1: =VLOOKUP(AL1,Directorio!$A$4:$V$23,3,FALSE) -> 0 | AP1: =1+AL1 -> 11 | AQ1: =VLOOKUP(AP1,Directorio!$A$4:$V$23,3,FALSE) -> 0 | AT1: =1+AP1 -> 12 | AU1: =VLOOKUP(AT1,Directorio!$A$4:$V$23,3,FALSE) -> 0
N2: =VLOOKUP(N1,Directorio!$A$4:$V$23,13,FALSE) -> (: 0 0,00% - 0,00% - 0,00%) | R2: =VLOOKUP(R1,Directorio!$A$4:$V$23,13,FALSE) -> (: 0 0,00% - 0,00% - 0,00%) | V2: =VLOOKUP(V1,Directorio!$A$4:$V$23,13,FALSE) -> (: 0 0,00% - 0,00% - 0,00%) | Z2: =VLOOKUP(Z1,Directorio!$A$4:$V$23,13,FALSE) -> (: 0 0,00% - 0,00% - 0,00%) | AD2: =VLOOKUP(AD1,Directorio!$A$4:$V$23,13,FALSE) -> (: 0 0,00% - 0,00% - 0,00%) | AH2: =VLOOKUP(AH1,Directorio!$A$4:$V$23,13,FALSE) -> (: 0,00% - 0,00% - 0,00%) | AL2: =VLOOKUP(AL1,Directorio!$A$4:$V$23,13,FALSE) -> (: 0,00% - 0,00% - 0,00%) | AP2: =VLOOKUP(AP1,Directorio!$A$4:$V$23,13,FALSE) -> (: 0,00% - 0,00% - 0,00%) | AT2: =VLOOKUP(AT1,Directorio!$A$4:$V$23,13,FALSE) -> (: 0,00% - 0,00% - 0,00%)
A5: DOCUMENTO | B5: SI | C5: NO | D5: Folio | E5: OBSERVACIONES | F5: SI | G5: NO | H5: Folio | I5: OBSERVACIONES | J5: SI | K5: NO | L5: Folio | M5: OBSERVACIONES | N5: SI | O5: NO | P5: Folio | Q5: OBSERVACIONES | R5: SI | S5: NO | T5: Folio | U5: OBSERVACIONES | V5: SI | W5: NO | X5: Folio | Y5: OBSERVACIONES | Z5: SI | AA5: NO | AB5: Folio | AC5: OBSERVACIONES | AD5: SI | AE5: NO | AF5: Folio | AG5: OBSERVACIONES | AH5: SI | AI5: NO | AJ5: Folio | AK5: OBSERVACIONES | AL5: SI | AM5: NO | AN5: Folio | AO5: OBSERVACIONES | AP5: SI | AQ5: NO | AR5: Folio | AS5: OBSERVACIONES | AT5: SI | AU5: NO | AV5: Folio | AW5: OBSERVACIONES
A6: REQUISITOS HABILITANTES
A7: 4.1.2.1. CERTIFICACIONES DE FABRICANTE Y/O MAYORISTA
A8: El oferente o alguno de los miembros que conforman el oferente plural, debe presentar certificaciones expedidas por el fabricante y/o mayorista, donde acredite que puede comercializar cada una de las plataformas objeto del presente proceso, las cuales acuerdo con lo solicitado en el anexo técnico, corresponden a: - RENOVACION: las certificaciones a presentar corresponden a: Guardium, Qualys, Darktrace, Fortify - SUSCRIPCION: Solución de detección y respuesta – XDR, Sistema de correlación de eventos SIEM, Seguridad de red en nombres de dominio DNS, Protección de aplicaciones WEB, Endpoint Security Solution, Control de acceso seguro a la nube (CASB), Isolated Execution, Server Security, Intrusion Prevention System (IPS), Solución gobierno de identidades Las certificaciones mencionadas deben estar vigentes a la fecha de presentación de la propuesta, con fecha de suscripción no mayor a sesenta (60) días calendario contados a partir de la fecha de finalización del término para presentar oferta | B8: x | D8: SF | E8: El oferente adjunta las certificaciones solicitadas en las cuales cumple con la renovación de las plataformas Guardium, Qualys, Darktrace, Fortify, En cuanto a la suscripción se verifica la certificaciones de TREND MICRO COLOMBIA, FORTINET E INFOBLOX que cumplen con los requisitos solicitaos en el punto 4.1.2.1. CERTIFICACIONES DE FABRICANTE Y/O MAYORISTA, solicitados en las reglas de participación | G8: =+IF(F8="","X"," ") -> X | H8: SF | I8: El oferente no presenta las certificaciones solicitadas en las cuales demuestre que cumple que con la renovación de las plataformas Guardium, Qualys, Darktrace, Fortify, En cuanto a la suscripción se verifica la certificaciones de TREND MICRO COLOMBIA, que no cumplen con los requisitos solicitaos en el punto 4.1.2.1. CERTIFICACIONES DE FABRICANTE Y/O MAYORISTA, solicitados en las reglas de participación, ya que la certificación fue expedida el 27 de junio de 2023 y tiene una vigencia de 60 dias, establecido asi. "La presente certificación tiene fecha de validez 60 días calendario a partir de la fecha de su emisión" | K8: =+IF(J8="","X"," ") -> X | L8: SF | M8: Las dos certificaciones de fabricantes adjuntas no se pueden verificar ya que el archivo no se deja abrir o esta dañado los documentos son certificacion de fabricante_1, certificacion de fabricante_2. No se adjuntan certificaciones de suscripciones solicitadas en el numeral 4.1.2.1. CERTIFICACIONES DE FABRICANTE Y/O MAYORISTA | O8: =+IF(N8="","X"," ") -> X | P8: SF | S8: =+IF(R8="","X"," ") -> X | V8: X | W8: =+IF(V8="","X"," ") | X8: SF | AA8: =+IF(Z8="","X"," ") -> X | AE8: =+IF(AD8="","X"," ") -> X | AM8: =+IF(AL8="","X"," ") -> X | AQ8: =+IF(AP8="","X"," ") -> X | AU8: =+IF(AT8="","X"," ") -> X
A9: 4.1.2.2. CERTIFICACIÓN FIRST
A10: El oferente o alguno de los miembros del oferente plural debe presentar certificación o constancia expedida por FIRST, donde acredite que es miembro Vigente de FIRST, con una antigüedad mínima de 5 años Las certificaciones o constancias mencionadas deben estar vigentes a la fecha de presentación de la propuesta. | B10: X | C10: =+IF(B10="","X"," ") | D10: SF | E10: El oferente cumple con la información solicitada en el punto 4.1.2.2. CERTIFICACIÓN FIRST establecido en las regalas de participación | G10: =+IF(F10="","X"," ") -> X | H10: SF | I10: El oferente presenta la certificación solicitada en el punto 4.1.2.2. CERTIFICACIÓN FIRST establecido en las regalas de participación, no obstante el certificado no demuestra la antigüedad de la misma ni tampoco se evidencia que la empresa contiene la certificación | K10: =+IF(J10="","X"," ") -> X | L10: SF | M10: El oferente presenta documento llamadado CERTIFICACION FIRST el cual no tiene el contenido de lo solicitado. | O10: =+IF(N10="","X"," ") -> X | P10: SF | S10: =+IF(R10="","X"," ") -> X | V10: X | W10: =+IF(V10="","X"," ") | X10: SF | AA10: =+IF(Z10="","X"," ") -> X | AE10: =+IF(AD10="","X"," ") -> X | AM10: =+IF(AL10="","X"," ") -> X | AQ10: =+IF(AP10="","X"," ") -> X | AU10: =+IF(AT10="","X"," ") -> X
A11: 4.1.2.3. CERTIFICACION CERT
A12: El oferente o alguno de los miembros del oferente plural debe presentar certificación o constancia expedida por CARNEGIE MELLON UNIVERSITY, donde acredite que uno de los SOC ofertados para el presente proceso de selección se encuentra certificado como CERT y/o ser miembro de un CSIRT en cualquier geografía. Las certificaciones o constancias mencionadas deben estar vigentes a la fecha de presentación de la propuesta | B12: X | D12: SF | E12: El oferente cumple con la información solicitada en el punto 4.1.2.3. CERTIFICACIÓN CERT establecido en las regalas de participación | G12: x | H12: SF | I12: El oferente no presenta los documentos solicitados en el punto 4.1.2.3. CERTIFICACIÓN CERT establecido en las regalas de participación, lo que adjunta no es correcto | K12: x | L12: SF | M12: El oferente no presenta los documentos solicitados en el punto 4.1.2.3. CERTIFICACIÓN CERT establecido en las regalas de participación.
A13: 4.1.2.4. CERTIFICACIÓN CENTRO DE DATOS ALTERNOS
A14: Debido a los ataques que han sufrido diferentes centros de datos del país, es necesario que el proponente cuente con un (1) centro de datos-SOC en el territorio nacional y dos (02) centros de datos-SOC alternos ubicados fuera del país que permita garantizar a la entidad que la operación de estos servicios críticos tendrá continuidad en caso de una situación de contingencia nacional y/o desastres naturales y/o afectación de indisponibilidad por ataques organizados. | B14: x | D14: SF | E14: El oferente cumple con los requisitos establecidos en el numeral 4.1.2.4. CERTIFICACIÓN CENTRO DE DATOS ALTERNOS | G14: =+IF(F14="","X"," ") -> X | H14: SF | I14: El oferente no presenta los documentos solicitados en el punto 4.1.2.4. CERTIFICACIÓN CENTRO DE DATOS ALTERNOS, lo que adjunta no es correcto | K14: =+IF(J14="","X"," ") -> X | L14: SF | M14: El oferente no presenta los documentos solicitados en el punto 4.1.2.4. CERTIFICACIÓN CENTRO DE DATOS ALTERNOS, lo que adjunta no es correcto | O14: =+IF(N14="","X"," ") -> X | P14: SF | S14: =+IF(R14="","X"," ") -> X | V14: X | W14: =+IF(V14="","X"," ") | X14: SF | AA14: =+IF(Z14="","X"," ") -> X | AE14: =+IF(AD14="","X"," ") -> X | AM14: =+IF(AL14="","X"," ") -> X | AQ14: =+IF(AP14="","X"," ") -> X | AU14: =+IF(AT14="","X"," ") -> X
A15: 4.1.2.5. CERTIFICACIONES ISO
A16: El proponente deberá contar con mínimo las siguientes certificaciones frente a los procesos que hacen referencia a los servicios de Gestión de incidentes de seguridad, Vigilancia digital, auditorías técnicas de seguridad y monitorización de eventos de seguridad, las cuales deben estar vigentes a la fecha de presentación de la propuesta y expedida por entidad certificadora de reconocida idoneidad: - Certificación ISO 27001 correspondiente al sistema de gestión de seguridad de la información con una antigüedad mínima de 10 años. - Certificación ISO 22301 correspondiente al sistema de continuidad del negocio con una antigüedad mínima de 3 años. | B16: X | C16: =+IF(B16="","X"," ") | D16: SF | E16: El oferente presenta las certificaciones solicitadas en el punto 4.1.2.5. CERTIFICACIONES ISO en las cuales cumple con los requistos solicitados en las reglas de participación | G16: =+IF(F16="","X"," ") -> X | H16: SF | I16: El oferente no presenta las certificaciones solicitadas en el punto 4.1.2.5. CERTIFICACIONES ISO, solo tiene un documento que dice certifcación ISO y este esta en blanco | K16: =+IF(J16="","X"," ") -> X | L16: SF | M16: El oferente presenta certificación iso 27001 la cual se encuentra vigente pero no se evidencia la antigüedad de 10 años solicitadas en el punto 4.1.2.5. CERTIFICACIONES ISO, no adjunto la certificación de la ISO 22301. | O16: =+IF(N16="","X"," ") -> X | P16: SF | S16: =+IF(R16="","X"," ") -> X | V16: X | W16: =+IF(V16="","X"," ") | X16: SF | AA16: =+IF(Z16="","X"," ") -> X | AE16: =+IF(AD16="","X"," ") -> X | AM16: =+IF(AL16="","X"," ") -> X | AQ16: =+IF(AP16="","X"," ") -> X | AU16: =+IF(AT16="","X"," ") -> X
A17: 4.1.2.5.2 EXPERIENCIA ESPECIFICA
A18: a. Prestar el servicio de centro de operaciones de seguridad “SOC” o actividades relacionadas. - Máximo tres (3) certificaciones de contratos cuyo objeto, alcance y/o actividades incluyan correlación de eventos, gestión o monitoreo de incidentes. - Por lo menos una certificación deberá tener dentro de sus actividades Threat hunting, SOAR, monitoreo de infraestructura on-premise y cloud, auditoría continua de seguridad y vigilancia digital. - Por lo menos una certificación debe tener administración y soporte de herramientas de ciberdefensa darktrace. b. Suministro de servicios de seguridad informática y/o servicios de seguridad gestionada - Dos (2) certificaciones de contratos, relacionadas con: - Todas deben incluir análisis o gestión de vulnerabilidades. - Por lo menos una deberá incluir dentro de su objeto, alcance y/o actividades, implementación o actualización del sistema de gestión para seguridad de la información (SGSI), actualización del esquema de gestión de incidentes, definición de monitoreo de base de datos. b. Una certificación o contratos celebrados, cuyo objeto o actividades contengan renovación de plataforma de antivirus y antimalware en una empresa del estado de carácter financiero. | B18: X | D18: SF | E18: El oferente aportó para la verificación de los requisitos técnicos habilitantes y en la certificaciones se puede constatar que el objeto o actividades corresponde conforme al numeral de las reglas de participación 4.1.2.5.2. EXPERIENCIA ESPECIFICA | G18: x | H18: SF | I18: El oferente no cumple con la experiencia minima habilitante establecida en el numeral 4.1.2.6.1 EXPERIENCIA GENERAL, tampoco cumple con la experiencia especifica plasmada en el numeral 4.1.2.5.2 EXPERIENCIA ESPECIFICA . | K18: X | L18: SF | M18: El oferente no cumple con la experiencia conforme al numeral de las reglas de participación 4.1.2.5.2. EXPERIENCIA ESPECIFICA, Por lo menos una certificación deberá tener dentro de sus actividades Threat hunting, SOAR, monitoreo de infraestructura on-premise y cloud, auditoría continua de seguridad y vigilancia digital. -Por lo menos una certificación debe tener administración y soporte de herramientas de ciberdefensa darktrace. b. Una certificación o contratos celebrados, cuyo objeto o actividades contengan renovación de plataforma de antivirus y antimalware en una empresa del estado de carácter financiero. | O18: =+IF(N18="","X"," ") -> X | P18: SF
A19: 4.1.2.8. MANIFESTACIÓN DE ACEPTACIÓN DE REQUERIMIENTOS MÍNIMOS OBLIGATORIOS
A20: El proponente deberá manifestar mediante la suscripción por el Representante Legal del FORMATO 13, que entiende, acepta y cumple cada uno de los requerimientos técnicos mínimos obligatorios exigidos en el Anexo 1. Especificaciones técnicas de los servicios requeridos, los cuales han sido dados a conocer, sin perjuicio de que en la ejecución del contrato se acuerden entre las partes requerimientos técnicos adicionales a los establecidos en el proceso de selección. | B20: X | D20: SF | E20: El oferente presenta Formato 13 debidamente diligenciado y suscrito de conformidad con lo exigido en las Reglas de Participación, numeral 4.1.2.8 | F20: X | H20: SF | I20: El oferente presenta Formato 13 debidamente diligenciado y suscrito de conformidad con lo exigido en las Reglas de Participación, numeral 4.1.2.8 | J20: X | L20: SF | M20: El oferente presenta Formato 13 debidamente diligenciado y suscrito de conformidad con lo exigido en las Reglas de Participación, numeral 4.1.2.8 | O20: =+IF(N20="","X"," ") -> X | P20: SF
A21: 4.1.2.9 PERSONAL MINIMO
A22: El oferente deberá contar con una estructura y organización técnica, para poder responder con calidad a las necesidades del FNA y por ende cumplir cabalmente con el objeto del contrato que se pretende suscribir, por tanto, deberá contar con personal técnico idóneo y deberá aportar: El oferente deberá remitir junto con su propuesta el FORMATO 21 de personal mínimo, en el cual manifestará el ofrecimiento de los perfiles con la idoneidad y experiencia. según lo solicitado. Nota: El Contratista deberá entregar para verificación y aprobación del supervisor del contrato, en los dos (2) primeros días hábiles después de la firma del acta de inicio, el detalle del equipo de trabajo (hojas de vida, soportes que acrediten estudios y experiencia) de acuerdo con las especificaciones y perfil definido en el presente requerimiento y anexo de especificaciones técnicas. | B22: X | D22: SF | E22: El oferente presenta Formato 21 de personal minimo debidamente diligenciado y suscrito, en el cual manifesta el ofrecimiento de los perfiles con la idoneidad y experiencia, de conformidad con lo exigido en las Reglas de Participación, numeral 4.1.2.9 | F22: X | H22: SF | I22: El oferente presenta Formato 21 de personal minimo debidamente diligenciado y suscrito, en el cual manifesta el ofrecimiento de los perfiles con la idoneidad y experiencia, de conformidad con lo exigido en las Reglas de Participación, numeral 4.1.2.9 | K22: x | L22: SF | M22: El oferente no presenta Formato 21 de personal minimo debidamente diligenciado y suscrito, en el cual manifesta el ofrecimiento de los perfiles con la idoneidad y experiencia, de conformidad con lo exigido en las Reglas de Participación, numeral 4.1.2.9 | O22: =+IF(N22="","X"," ") -> X | P22: SF
A23: TOTAL | B23: HABILITADO | F23: RECHAZADO | J23: RECHAZADO | N23: CUMPLE | R23: NO CUMPLE | V23: CUMPLE | Z23: NO CUMPLE | AD23: NO CUMPLE | AH23: NO CUMPLE | AL23: NO CUMPLE | AP23: NO CUMPLE | AT23: NO CUMPLE

Sheet Ponderación Técnica
B2: =General!B2 -> RENOVACIÓN DE SUSCRIPCIONES, HABILITACIÓN DE DATA STORAGE (10 GB) Y SOPORTE DE SEGUNDO NIVEL PARA EL SISTEMA CRM DEL FNA
B3: =General!B1 -> FNA-VTTD-CPA-006-2023
B5: 4.4. CRITERIOS DE CALIFICACIÓN DE LAS PROPUESTAS – PONDERABLES
B7: 4.4.2. FACTORES TÉCNICOS PONDERABLES (40 Puntos)
B9: Renovación de 750 suscripciones Lightning – Sales Cloud – Enterprise CRM (Adicional sin costo para la Entidad). | C9: PUNTAJE MAXIMO | F9: =Directorio!C6 -> 0 | G9: =Directorio!C7 -> 0 | H9: =[11]Directorio!C6 -> 0 | I9: =[11]Directorio!C7 -> 0 | J9: =[11]Directorio!C8 -> 0
B10: UN (1) MES ADICIONAL | C10: 5
B11: DOS (2) MESES ADICIONALES | C11: 15
B12: TRES (3) MESES ADICIONALES | C12: 25
B13: TOTAL | C13: =SUM(C12) -> 25 | F13: =SUM(F12:F12) -> 0 | G13: =SUM(G12:G12) -> 0 | H13: =SUM(H12:H12) -> 0 | I13: =SUM(I12:I12) -> 0 | J13: =SUM(J12:J12) -> 0
B16: D. ASIGNACIÓN PUNTAJE APOYO A LA INDUSTRIA NACIONAL (10 PUNTOS)
B18: ASIGNACIÓN DE PUNTAJE APOYO A LA INDUSTRIA NACIONAL
B21: E. ASIGNACIÓN INCENTIVO DECRETO 392 de 2018 (1 PUNTO)
B23: Incentivo Decreto 392 de 2018 (Aplicable para procesos cuyo aviso de convocatoria sea publicado a partir del 1 de junio de 2018, corresponderá al 1% del total de los puntos establecidos, para licitaciones y concursos de méritos)
B24: Renovación y habilitación adicional sin costo para la Entidad de Data Storage (10 GB) Enterprise (adicional sin costo para la Entidad) | C24: PUNTAJE MAXIMO | F24: =Directorio!C6 -> 0 | G24: =Directorio!C7 -> 0 | H24: =[11]Directorio!C21 -> 0 | I24: =[11]Directorio!C22 -> 0 | J24: =[11]Directorio!C23 -> 0
B25: (1) Data Storage (10 GB) Enterprise (Adicional) | C25: 5
B26: (2) Data Storage (10 GB) Enterprise (Adicional) | C26: 10
B27: (3) Data Storage (10 GB) Enterprise (Adicional) | C27: 15
B28: TOTAL | C28: =SUM(C27) -> 15 | F28: =SUM(F27:F27) -> 0 | G28: =SUM(G27:G27) -> 0 | H28: =SUM(H27:H27) -> 0 | I28: =SUM(I27:I27) -> 0 | J28: =SUM(J27:J27) -> 0
B31: SUMATORIA PUNTAJE TOTAL | C31: =C13+C28 -> 40 | F31: =F13+F28 -> 0 | G31: =G13 -> 0 | H31: =H13 -> 0 | I31: =I13 -> 0 | J31: =J13 -> 0
B34: El oferente aporto formato 21 diligeciado con la oferta
