Workbook
Name _Toc210551163: COMWARE!#REF!
Name _Toc210551163: 'CONSORCIO UNIDAD CIBERSEGURIDAD'!#REF!
Name _Toc210551163: IIIII!#REF!
Name _Toc210551163: 'SOFTICS INGENIEROS'!#REF!
Name _Toc210551163: TTT!#REF!
Name _Toc210551163: U!#REF!
Name _Toc210551163: UUU!#REF!
Name _Toc210551163: V!#REF!
Name _Toc210551163: VV!#REF!
Name _Toc210551163: VVVV!#REF!
Name _Toc210551163: xx!#REF!
Name _Toc210551163: xxx!#REF!
Name _Toc210551163: xxxx!#REF!
Name _Toc210551163: XXXXX!#REF!
Name _Toc210551163: XXXXXXX!#REF!
Name _Toc210551163: YY!#REF!
Name _Toc210551163: YYY!#REF!
Name _Toc210551163: YYYYY!#REF!
Name _Toc210551172: COMWARE!#REF!
Name _Toc210551172: 'CONSORCIO UNIDAD CIBERSEGURIDAD'!#REF!
Name _Toc210551172: IIIII!#REF!
Name _Toc210551172: 'SOFTICS INGENIEROS'!#REF!
Name _Toc210551172: TTT!#REF!
Name _Toc210551172: U!#REF!
Name _Toc210551172: UUU!#REF!
Name _Toc210551172: V!#REF!
Name _Toc210551172: VV!#REF!
Name _Toc210551172: VVVV!#REF!
Name _Toc210551172: xx!#REF!
Name _Toc210551172: xxx!#REF!
Name _Toc210551172: xxxx!#REF!
Name _Toc210551172: XXXXX!#REF!
Name _Toc210551172: XXXXXXX!#REF!
Name _Toc210551172: YY!#REF!
Name _Toc210551172: YYY!#REF!
Name _Toc210551172: YYYYY!#REF!
Name A: #REF!
Name A: #REF!
Name A: #REF!
Name A: #REF!
Name A: #REF!
Name A: #REF!
Name A: #REF!
Name A: #REF!
Name A: #REF!
Name A: #REF!
Name A: #REF!
Name A: #REF!
Name A: #REF!
Name A: #REF!
Name A: #REF!
Name A: #REF!
Name A: #REF!
Name A: #REF!
Name A: #REF!
Name AA: #REF!
Name AA: #REF!
Name AA: #REF!
Name AA: #REF!
Name AA: #REF!

Sheet CONSOLIDADO FINANCIERO
D1: FONDO NACIONAL DEL AHORRO
B3: CONSOLIDADO VERIFICACIÓN FINANCIERA
B5: OBJETO PROCESO | D5: CONTRATAR UNIDAD DE CIBERSEGURIDAD QUE PROPORCIONE SERVICIOS DE SEGURIDAD INTEGRADOS AL FONDO NACIONAL DEL AHORRO
B6: NUMERO DE PROCESO | D6: FNA-VTTD-CP-011-2023
B7: PRESUPUESTO TOTAL | D7: 36500100235
B9: N° | C9: Proponente | E9: Capital de Trabajo >= 20% POE | F9: Índice de Liquidez | G9: Nivel de Endeudamiento | H9: Razón de Cobertura de Intereses | I9: Rentabilidad sobre Patrimonio | J9: Rentabilidad sobre Activo | K9: Patrimonio ≥ 30% POE | L9: Observaciones | M9: RESULTADOS DE INDICADORES FINANCIEROS Y CAPACIDAD ORGANIZACIONAL | N9: OFERTA ECONOMICA | O9: OBSERVACIONES OFERTA ECONOMICA | P9: RESULTADO EVALUACIÓN FINANCIERA Y ORGANIZACIONAL
B10: 1 | C10: =COMWARE!D5 -> COMWARE S.A | E10: =+COMWARE!H24 -> 29765627167 | F10: =COMWARE!$H26 -> 1.5411009 | G10: =COMWARE!$H28 -> 0.59479065 | H10: =COMWARE!$H30 -> 2.6837157 | I10: =COMWARE!$H32 -> 0.22937293 | J10: =COMWARE!$H34 -> 0.092944056 | K10: =COMWARE!$H36 -> 38478987668 | L10: =+COMWARE!K24 -> El proponente NO cumple con los indicadores establecidos en las reglas de participación de conformidad con lo estabecido en el numeral 4.1.3.1 de las reglas de participación. Asi mismo se da aplicacion a lo previsto en el numeral 2.5 CAUSALES DE RECHAZO numeral 20, "Cuando el comite evaluador verifique la informacion financiera reportada en el RUP y como consecuencia el oferente no cumpla con uno o varios indicadores de capacidad financiera y/o organizacional establecidos en las reglas de participacion": | M10: =COMWARE!H38 -> RECHAZADO | N10: CUMPLE : PRESENTA OFERTA ECONOMICA SIN SUPERAR LOS PRECIOS TECHO | O10: Se da aplicacion a lo previsto en el numeral 2.5 CAUSALES DE RECHAZO numeral 20, "Cuando el comite evaluador verifique la informacion financiera reportada en el RUP y como consecuencia el oferente no cumpla con uno o varios indicadores de capacidad financiera y/o organizacional establecidos en las reglas de participacion": | P10: RECHAZADO
B11: 2 | E11: =XXXXX!$I$31 -> 0 | F11: =XXXXX!$I$33 -> #DIV/0! | G11: =XXXXX!$I$35 -> #DIV/0! | H11: =XXXXX!$I$37 -> #DIV/0! | I11: =XXXXX!$I$39 -> #DIV/0! | J11: =XXXXX!$I$41 -> #DIV/0! | K11: =XXXXX!$I$43 -> 0 | L11: =XXXXX!$L$31 -> El proponente cumple con los indicadores establecidos en las regals de participación de conformidad con lo estabecido en el numeral 4.2 de las reglas de participación | M11: =XXXXX!$I$45 -> #DIV/0! | N11: CUMPLE : PRESENTA OFERTA ECONOMICA SIN SUPERAR LOS PRECIOS TECHO
B12: 3 | C12: =XXXXXXX!$D$5 -> 0 | E12: =XXXXXXX!$I$31 -> 0 | F12: =XXXXXXX!$I$33 -> #DIV/0! | G12: =XXXXXXX!$I$35 -> #DIV/0! | H12: =XXXXXXX!$I$37 -> #DIV/0! | I12: =XXXXXXX!$I$39 -> #DIV/0! | J12: =XXXXXXX!$I$41 -> #DIV/0! | K12: =XXXXXXX!$I$43 -> 0 | L12: =XXXXXXX!$L$31 -> El oferente debe subsanar, Según las reglas de participcion en el numeral 4.1.1.5. REQUISITOS MININOS HABILITANTES FINANCIEROS Y CAPACIDAD ORGANIZACIONAL (…) "el oferente o cada uno de los integrantes del Oferente (en caso de Consorcio o Unión Temporal), debe (n) presentar el Registro Único de Oferentes RUP expedido por la Cámara de Comercio con fecha de expedición no superior a treinta (30) días calendario a la fecha de cierre del presente proceso, documento que deberá encontrarse vigente, actualizado y en firme conforme a la normatividad vigente". | M12: NO CUMPLE | N12: CUMPLE : PRESENTA OFERTA ECONOMICA SIN SUPERAR LOS PRECIOS TECHO
B13: 4 | C13: =xx!D5 -> 0 | E13: =xx!$I$31 -> 0 | F13: =xx!$I$33 -> #DIV/0! | G13: =xx!$I$35 -> #DIV/0! | H13: =xx!$I$37 -> #DIV/0! | I13: =xx!$I$39 -> #DIV/0! | J13: =xx!$I$41 -> #DIV/0! | K13: =xx!$I$43 -> 0 | L13: =xx!$L$31 -> El proponente cumple con los indicadores establecidos en las regals de participación de conformidad con lo estabecido en el numeral 4.2 de las reglas de participación | M13: =xx!$I$45 -> #DIV/0! | N13: CUMPLE : PRESENTA OFERTA ECONOMICA SIN SUPERAR LOS PRECIOS TECHO
B14: 5 | C14: =xxx!D5 -> 0 | E14: =xxx!$I$31 -> 0 | F14: =xxx!$I$33 -> #DIV/0! | G14: =xxx!$I$35 -> #DIV/0! | H14: =xxx!$I$37 -> #DIV/0! | I14: =xxx!$I$39 -> #DIV/0! | J14: =xxx!$I$41 -> #DIV/0! | K14: =xxx!$I$43 -> 0 | L14: =xxx!L31 -> RECHAZADO Se reitera la causal de rechazo establecida: El oferente se encuentra incurso en la causal de rechazo establecidas en el numeral 2.4.15 de las reglas de participación (...) N° 11 Cuando no se presente la OFERTA ECONÓMICA de acuerdo con los requisitos establecidos en el presente documento o esta sea presentada luego de la fecha y hora exactas señaladas para la finalización del término para presentar ofertas o cuando sea radicada por medio distinto a la plataforma del SECOP II (sin que medie protocolo de indisponibilidad de la Plataforma debidamente certificada) EL OFERTENTE NO PRESENTO LA OFERTA ECONOMICA DE ACUERDO CON LOS REQUISITOS ESTABLECIDOS EN LAS REGLAS DE PARTICIPACIÓN AL NO OFERTAR UN PORCENTAJE DE DESCUENTO . y 16. Cuando el Oferente adicione, suprima, cambie, o modifique los ítems, filas o columnas de la descripción, unidades de medida, cantidades, las características o especificaciones requeridas por alguna otra de características técnicas inferiores o diferentes a las descritas en la oferta o el anexo técnico., Adicionalmente el oferente modificó la oferta economica, al eliminar las formulas establecidas en el formato de OFERTA ECONOMICA y cambiar de esta manera la estructura de la misma, haciendo que esta no cuente con las condiciones y mecanismos de comparación requeridos en el procesos; así las cosas el oferente no puede en instancia de subsanación MODIFICAR la oferta economica de ninguna forma, toda vez que dicho tramite se considera mejora de oferta . | M14: RECHAZADO | N14: =L14 -> RECHAZADO Se reitera la causal de rechazo establecida: El oferente se encuentra incurso en la causal de rechazo establecidas en el numeral 2.4.15 de las reglas de participación (...) N° 11 Cuando no se presente la OFERTA ECONÓMICA de acuerdo con los requisitos establecidos en el presente documento o esta sea presentada luego de la fecha y hora exactas señaladas para la finalización del término para presentar ofertas o cuando sea radicada por medio distinto a la plataforma del SECOP II (sin que medie protocolo de indisponibilidad de la Plataforma debidamente certificada) EL OFERTENTE NO PRESENTO LA OFERTA ECONOMICA DE ACUERDO CON LOS REQUISITOS ESTABLECIDOS EN LAS REGLAS DE PARTICIPACIÓN AL NO OFERTAR UN PORCENTAJE DE DESCUENTO . y 16. Cuando el Oferente adicione, suprima, cambie, o modifique los ítems, filas o columnas de la descripción, unidades de medida, cantidades, las características o especificaciones requeridas por alguna otra de características técnicas inferiores o diferentes a las descritas en la oferta o el anexo técnico., Adicionalmente el oferente modificó la oferta economica, al eliminar las formulas establecidas en el formato de OFERTA ECONOMICA y cambiar de esta manera la estructura de la misma, haciendo que esta no cuente con las condiciones y mecanismos de comparación requeridos en el procesos; así las cosas el oferente no puede en instancia de subsanación MODIFICAR la oferta economica de ninguna forma, toda vez que dicho tramite se considera mejora de oferta .
B15: 6 | C15: =xxxx!D5 -> 0 | E15: =xxxx!$I$31 -> 0 | F15: =xxxx!$I$33 -> #DIV/0! | G15: =xxxx!$I$35 -> #DIV/0! | H15: =xxxx!$I$37 -> #DIV/0! | I15: =xxxx!$I$39 -> #DIV/0! | J15: =xxxx!$I$41 -> #DIV/0! | K15: =xxxx!$I$43 -> -2577160969 | L15: =xxxx!$L$31 -> El proponente cumple con los indicadores establecidos en las regals de participación de conformidad con lo estabecido en el numeral 4.2 de las reglas de participación | M15: =xxxx!$I$45 -> #DIV/0! | N15: CUMPLE : PRESENTA OFERTA ECONOMICA SIN SUPERAR LOS PRECIOS TECHO
B16: 2 | C16: ='CONSORCIO UNIDAD CIBERSEGURIDAD'!D5 -> CONSORCIO UNIDAD DE CIBERSEGURIDAD FNA | E16: ='CONSORCIO UNIDAD CIBERSEGURIDAD'!$I$45 -> 12362158115 | F16: ='CONSORCIO UNIDAD CIBERSEGURIDAD'!$I$47 -> 1.6742783 | G16: ='CONSORCIO UNIDAD CIBERSEGURIDAD'!$I$49 -> 0.57404434 | H16: ='CONSORCIO UNIDAD CIBERSEGURIDAD'!$I$51 -> 20.011983 | I16: ='CONSORCIO UNIDAD CIBERSEGURIDAD'!$I$53 -> 0.36691335 | J16: ='CONSORCIO UNIDAD CIBERSEGURIDAD'!$I$55 -> 0.15628882 | K16: ='CONSORCIO UNIDAD CIBERSEGURIDAD'!$I$57 -> 55682445119 | L16: ='CONSORCIO UNIDAD CIBERSEGURIDAD'!$L$45 -> El proponente cumple con los indicadores establecidos en las regals de participación de conformidad con lo estabecido en el numeral 4.1.3.1 de las reglas de participación | M16: ='CONSORCIO UNIDAD CIBERSEGURIDAD'!$I$59 -> HABILITADO | N16: CUMPLE : PRESENTA OFERTA ECONOMICA SIN SUPERAR LOS PRECIOS TECHO | P16: HABILITADO
B17: 8 | C17: =YYY!$D$5 -> 0 | E17: =YYY!$J$37 -> 0 | F17: =YYY!$J$39 -> #DIV/0! | G17: =YYY!$J$41 -> #DIV/0! | H17: =YYY!$J$43 -> #DIV/0! | I17: =YYY!$J$45 -> #DIV/0! | J17: =YYY!$J$47 -> #DIV/0! | K17: =YYY!$J$49 -> 0 | L17: =YYY!$M$37 -> El proponente cumple con los indicadores establecidos en las regals de participación de conformidad con lo estabecido en el numeral 4.2 de las reglas de participación | M17: =YYY!$J$51 -> #DIV/0! | N17: CUMPLE : PRESENTA OFERTA ECONOMICA SIN SUPERAR LOS PRECIOS TECHO
B18: 3 | C18: ='SOFTICS INGENIEROS'!$D$5 -> SOFTICS INGENIEROS SAS C.I | E18: ='SOFTICS INGENIEROS'!$I$31 -> 485304000 | F18: ='SOFTICS INGENIEROS'!$I$33 -> 4.7126879 | G18: ='SOFTICS INGENIEROS'!$I$35 -> 0.21219313 | H18: ='SOFTICS INGENIEROS'!$I$37 -> 11.136051 | I18: ='SOFTICS INGENIEROS'!$I$39 -> 0.19699611 | J18: ='SOFTICS INGENIEROS'!$I$41 -> 0.15519489 | K18: ='SOFTICS INGENIEROS'!$I$43 -> 485304000 | L18: ='SOFTICS INGENIEROS'!$L$31 -> El proponente NO cumple con los indicadores establecidos en las reglas de participación de conformidad con lo estabecido en el numeral 4.1.3.1 de las reglas de participación | M18: ='SOFTICS INGENIEROS'!$I$45 -> RECHAZADO | N18: NO CUMPLE : PRESENTA OFERTA ECONOMICA SUPERANDO LOS PRECIOS TECHO | O18: El proponente No cumple con lo indicado en las reglas de particpacion con numeral 4.2 OFERTA ECONOMICA literal C "El valor ofertado de cada ítem antes de IVA, no podrá ser superior al valor techo o de referencia establecido por la entidad para cada ítem y tampoco podrá ser cero (0), so pena de incurrir en causal de rechazo." El oferente en el item 40 de su oferta economica supera el valor precio techo unitario antes de iva. Asi mismo se da aplicacion a lo previsto en el numeral 2.5 CAUSALES DE RECHAZO numeral 20, "Cuando el comite evaluador verifique la informacion financiera reportada en el RUP y como consecuencia el oferente no cumpla con uno o varios indicadores de capacidad financiera y/o organizacional establecidos en las reglas de participacion": | P18: RECHAZADO
B19: 6 | C19: =TTT!$D$5 -> 0 | E19: =TTT!$I$31 -> 0 | F19: =TTT!$I$33 -> #DIV/0! | G19: =TTT!$I$35 -> #DIV/0! | H19: =TTT!$I$37 -> #DIV/0! | I19: =TTT!$I$39 -> #DIV/0! | J19: =TTT!$I$41 -> #DIV/0! | K19: =TTT!$I$43 -> 0 | L19: =TTT!$L$31 -> El proponente cumple con los indicadores establecidos en las regals de participación de conformidad con lo estabecido en el numeral 4.2 de las reglas de participación | M19: =TTT!$I$45 -> #DIV/0! | N19: CUMPLE : PRESENTA OFERTA ECONOMICA SIN SUPERAR LOS PRECIOS TECHO | P19: CUMPLE
B20: 7 | C20: =IIIII!$D$5 -> 0 | E20: =IIIII!$I$31 -> 0 | F20: =IIIII!$I$33 -> #DIV/0! | G20: =IIIII!$I$35 -> #DIV/0! | H20: =IIIII!$I$37 -> #DIV/0! | I20: =IIIII!$I$39 -> #DIV/0! | J20: =IIIII!$I$41 -> #DIV/0! | K20: =IIIII!$I$43 -> 0 | L20: =IIIII!$L$31 -> El proponente cumple con los indicadores establecidos en las regals de participación de conformidad con lo estabecido en el numeral 4.2 de las reglas de participación | M20: =IIIII!$I$45 -> #DIV/0! | N20: CUMPLE : PRESENTA OFERTA ECONOMICA SIN SUPERAR LOS PRECIOS TECHO | P20: CUMPLE
B21: 12 | C21: =VVVV!$D$5 -> 0 | E21: =VVVV!$I$31 -> 0 | F21: =VVVV!$I$33 -> #DIV/0! | G21: =VVVV!$I$35 -> #DIV/0! | H21: =VVVV!$I$37 -> #DIV/0! | I21: =VVVV!$I$39 -> #DIV/0! | J21: =VVVV!$I$41 -> #DIV/0! | K21: =VVVV!$I$43 -> 0 | L21: =VVVV!$L$31 -> El proponente cumple con los indicadores establecidos en las regals de participación de conformidad con lo estabecido en el numeral 4.2 de las reglas de participación | M21: =VVVV!$I$45 -> #DIV/0! | N21: CUMPLE : PRESENTA OFERTA ECONOMICA SIN SUPERAR LOS PRECIOS TECHO | P21: CUMPLE
B22: 13 | C22: =V!$D$5 -> 0 | E22: =V!$I$31 -> 0 | F22: =V!$I$33 -> #DIV/0! | G22: =V!$I$35 -> #DIV/0! | H22: =V!$I$37 -> #DIV/0! | I22: =V!$I$39 -> #DIV/0! | J22: =V!$I$41 -> #DIV/0! | K22: =V!$I$43 -> 0 | L22: =V!L31 -> a) La entidad no pudo realizar la verificación de los indicadores financieros dado que de acuerdo a lo establecido en el numeral 4.2.8 REQUISITOS MÍNIMOS HABILITANTES FINANCIEROS Y CAPACIDAD ORGANIZACIONAL (...) EL RUP debe tener fecha de expedicion no superior a (30) dias calendario a la fecha de cierre del presente proceso. Por lo tanto el oferente debe subsanar el requisito, presentando el RUP en los ternimos establecidos en las regals de participación | M22: NO CUMPLE | N22: CUMPLE : PRESENTA OFERTA ECONOMICA SIN SUPERAR LOS PRECIOS TECHO | P22: DEBE JUSTIFICAR
B23: 14 | C23: =U!$D$5 -> 0 | E23: =U!$I$31 -> 0 | F23: =U!$I$33 -> #DIV/0! | G23: =U!$I$35 -> #DIV/0! | H23: =U!$I$37 -> INDETERMINADO | I23: =U!$I$39 -> #DIV/0! | J23: =U!$I$41 -> #DIV/0! | K23: =U!$I$43 -> 0 | L23: =U!$L$31 -> El proponente cumple con los indicadores establecidos en las regals de participación de conformidad con lo estabecido en el numeral 4.2 de las reglas de participación | M23: =U!$I$45 -> #DIV/0! | N23: CUMPLE : PRESENTA OFERTA ECONOMICA SIN SUPERAR LOS PRECIOS TECHO | P23: DEBE JUSTIFICAR
B24: 15 | C24: =UUU!$D$5 -> 0 | E24: =UUU!$I$31 -> 0 | F24: =UUU!$I$33 -> #DIV/0! | G24: =UUU!$I$35 -> #DIV/0! | H24: =UUU!$I$37 -> #DIV/0! | I24: =UUU!$I$39 -> #DIV/0! | J24: =UUU!$I$41 -> #DIV/0! | K24: =UUU!$I$43 -> 0 | L24: =UUU!$L$31 -> El proponente cumple con los indicadores establecidos en las regals de participación de conformidad con lo estabecido en el numeral 4.2 de las reglas de participación | M24: =UUU!$I$45 -> #DIV/0! | N24: CUMPLE : PRESENTA OFERTA ECONOMICA SIN SUPERAR LOS PRECIOS TECHO | P24: CUMPLE
B25: 16 | C25: =YYYYY!$D$5 -> 0 | E25: =YYYYY!$I$31 -> 0 | F25: =YYYYY!$I$33 -> #DIV/0! | G25: =YYYYY!$I$35 -> #DIV/0! | H25: =YYYYY!$I$37 -> INDETERMINADO | I25: =YYYYY!$I$39 -> #DIV/0! | J25: =YYYYY!$I$41 -> #DIV/0! | K25: =YYYYY!$I$43 -> 0 | L25: =YYYYY!$L$31 -> El proponente cumple con los indicadores establecidos en las regals de participación de conformidad con lo estabecido en el numeral 4.2 de las reglas de participación | M25: =YYYYY!$I$45 -> #DIV/0! | N25: CUMPLE : PRESENTA OFERTA ECONOMICA SIN SUPERAR LOS PRECIOS TECHO | P25: CUMPLE
B26: 17 | C26: =YY!$D$5 -> 0 | E26: =YY!$I$31 -> 0 | F26: =YY!$I$33 -> #DIV/0! | G26: =YY!$I$35 -> #DIV/0! | H26: =YY!$I$37 -> #DIV/0! | I26: =YY!$I$39 -> #DIV/0! | J26: =YY!$I$41 -> #DIV/0! | K26: =YY!$I$43 -> 0 | L26: =YY!$L$31 -> El proponente cumple con los indicadores establecidos en las regals de participación de conformidad con lo estabecido en el numeral 4.2 de las reglas de participación | M26: =YY!$I$45 -> #DIV/0! | N26: CUMPLE : PRESENTA OFERTA ECONOMICA SIN SUPERAR LOS PRECIOS TECHO | P26: CUMPLE
B27: 18 | C27: =VV!$D$5 -> 0 | E27: =VV!$I$31 -> 0 | F27: =VV!$I$33 -> #DIV/0! | G27: =VV!$I$35 -> #DIV/0! | H27: =VV!$I$37 -> #DIV/0! | I27: =VV!$I$39 -> #DIV/0! | J27: =VV!$I$41 -> #DIV/0! | K27: =VV!$I$43 -> 0 | L27: =VV!$L$31 -> El proponente cumple con los indicadores establecidos en las regals de participación de conformidad con lo estabecido en el numeral 4.2 de las reglas de participación | M27: =VV!$I$45 -> #DIV/0! | N27: CUMPLE : PRESENTA OFERTA ECONOMICA SIN SUPERAR LOS PRECIOS TECHO | P27: CUMPLE
J28: Elaboró: Diana Ximena Diaz Ramirez Tecnico A Gerencia Contratación Fondo Nacional del Ahorro

Sheet COMWARE
C1: FONDO NACIONAL DEL AHORRO
C3: OBJETO PROCESO | D3: CONTRATAR UNIDAD DE CIBERSEGURIDAD QUE PROPORCIONE SERVICIOS DE SEGURIDAD INTEGRADOS AL FONDO NACIONAL DEL AHORRO
C4: NUMERO DE PROCESO | D4: FNA-VTTD-CP-011-2023
C5: PROPONENTE | D5: COMWARE S.A
C7: VERIFICACION EXPEDICIÓN REGISTRO UNICO DE PROPONENTES
C9: FECHA CIERRE PROCESO | D9: 45264
C10: FECHA EXPEDICION RUP | D10: 45237 | I10: =IF(D10>=N10,"CUMPLE","NO CUMPLE") -> CUMPLE | K10: mm / dd / aa | L10: =IF(I10="CUMPLE",0,1) -> 0 | N10: =+D9-30 -> 45234 | O10: 30 días anteriores
C11: FECHA ULTIMA RENOVACION | D11: 45020 | I11: =IF(D10>=N11,"CUMPLE","NO CUMPLE") -> CUMPLE | K11: mm / dd / aa | L11: =IF(I11="CUMPLE",0,1) -> 0 | N11: =+D11+15 -> 45035 | O11: 10 días hábiles
C12: FECHA DE LOS ESTADOS FINANCIEROS | D12: 44926 | I12: =IF(D10>=N12,"CUMPLE","NO CUMPLE") -> CUMPLE | K12: mm / dd / aa | L12: =IF(I12="CUMPLE",0,1) -> 0 | N12: =+D12+15 -> 44941
C15: FECHA CIERRE PROCESO
C16: FECHA EXPEDICION RUP | K16: mm / dd / aa | L16: =IF(I16="CUMPLE",0,1) -> 1 | N16: =+D15-30 -> -30 | O16: 30 días anteriores
C17: FECHA ULTIMA RENOVACION | K17: mm / dd / aa | L17: =IF(I17="CUMPLE",0,1) -> 1 | N17: =+D16+15 -> 15 | O17: 10 días hábiles
C18: FECHA DE LOS ESTADOS FINANCIEROS | K18: mm / dd / aa | L18: =IF(I18="CUMPLE",0,1) -> 1 | N18: =+D18+15 -> 15
C20: VERIFICACIÓN REQUISITOS HABILITANTES FINANCIEROS - GRAN EMPRESA | L20: 0
L21: 0
A22: NUMERAL | B22: VERIFICACIÓN DE LA CAPACIDAD FINANCIERA | C22: DESCRIPCION | D22: CRITERIO | E22: ITEM | F22: COMWARE S.A | H22: INDICADOR | I22: RESULTADO VERIFICACION | J22: DOCUMENTO ELECTRONICO | K22: OBSERVACIONES | L22: 0
F23: 1 | L23: 0
A24: 4.2 | B24: 4.2,8.1. Capacidad Fiinanciera | C24: Capital de Trabajo >= 20% POE | D24: =+'CONSOLIDADO FINANCIERO'!$D$7*20% -> 7300020047 | E24: Activo Corriente | F24: 84775015058 | H24: =+((F24*F23)+(G24*G23))-((F25*F23)+(G25*G23)) -> 29765627167 | I24: =IF(H24>=D24,"CUMPLE","NO CUMPLE") -> CUMPLE | J24: Registro Único de Proponentes | K24: El proponente NO cumple con los indicadores establecidos en las reglas de participación de conformidad con lo estabecido en el numeral 4.1.3.1 de las reglas de participación. Asi mismo se da aplicacion a lo previsto en el numeral 2.5 CAUSALES DE RECHAZO numeral 20, "Cuando el comite evaluador verifique la informacion financiera reportada en el RUP y como consecuencia el oferente no cumpla con uno o varios indicadores de capacidad financiera y/o organizacional establecidos en las reglas de participacion": | L24: =IF(I24="CUMPLE",0,1) -> 0
E25: Pasivo Corriente | F25: 55009387891
A26: 4.2 | B26: =B24 -> 4.2,8.1. Capacidad Fiinanciera | C26: Índice de Liquidez | D26: 1.52 | E26: Activo Corriente | F26: =+F24 -> 84775015058 | H26: =+((F26*F23)+(G26*G23))/((F27*F23)+(G27*G23)) -> 1.5411009 | I26: =IF(H26>=D26,"CUMPLE","NO CUMPLE") -> CUMPLE | J26: Registro Único de Proponentes | L26: =IF(I26="CUMPLE",0,1) -> 0
E27: Pasivo Corriente | F27: =+F25 -> 55009387891
A28: 4.2 | B28: =B26 -> 4.2,8.1. Capacidad Fiinanciera | C28: Nivel de Endeudamiento | D28: 60 | E28: Pasivo Total | F28: 56481772173 | H28: =((F28*F23)+(G28*G23))/((F29*F23)+(G29*G23)) -> 0.59479065 | I28: =IF(H28<=D28,"CUMPLE","NO CUMPLE") -> CUMPLE | J28: Registro Único de Proponentes | L28: =IF(I28="CUMPLE",0,1) -> 0
E29: Activo Total | F29: 94960759841
A30: 4.2 | B30: =B28 -> 4.2,8.1. Capacidad Fiinanciera | C30: Razón de Cobertura de Intereses | D30: 8 | E30: Utilidad Operacional | F30: 8826038141 | H30: =((F30*F23)+(G30*G23))/((F31*F23)+(G31*G23)) -> 2.6837157 | I30: =IF(H30>=D30,"CUMPLE","NO CUMPLE") -> NO CUMPLE | J30: Registro Único de Proponentes | L30: =IF(I30="CUMPLE",0,1) -> 1
E31: Gastos de Intereses | F31: 3288738163
A32: 4.2 | B32: 4.2,8.2. Capacidad organizacional | C32: Rentabilidad sobre Patrimonio | D32: 0.16 | E32: Utilidad Operacional | F32: =F30 -> 8826038141 | H32: =((F32*F23)+(G32*G23))/((F33*F23)+(G33*G23)) -> 0.22937293 | I32: =IF(H32>=D32,"CUMPLE","NO CUMPLE") -> CUMPLE | J32: Registro Único de Proponentes | L32: =IF(I32="CUMPLE",0,1) -> 0
E33: Patrimonio | F33: 38478987668
A34: 4.2 | B34: =+B32 -> 4.2,8.2. Capacidad organizacional | C34: Rentabilidad sobre Activo | D34: 0.06 | E34: Utilidad Operacional | F34: =F32 -> 8826038141 | H34: =((F34*F23)+(G34*G23))/((F35*F23)+(G35*G23)) -> 0.092944056 | I34: =IF(H34>=D34,"CUMPLE","NO CUMPLE") -> CUMPLE | J34: Registro Único de Proponentes | L34: =IF(I34="CUMPLE",0,1) -> 0
E35: Activo total | F35: =+F29 -> 94960759841
A36: 4.2 | B36: =+B34 -> 4.2,8.2. Capacidad organizacional | C36: Patrimonio ≥ 30% POE | D36: =+'CONSOLIDADO FINANCIERO'!$D$7*30% -> 1.095003e+10 | E36: Activo total | F36: =F29 -> 94960759841 | H36: =+((F36*F23)+(G36*G23))-((F37*F23)+(G37*G23)) -> 38478987668 | I36: =IF(H36>=D36,"CUMPLE","NO CUMPLE") -> CUMPLE | J36: Registro Único de Proponentes | L36: =IF(I36="CUMPLE",0,1) -> 0
E37: Pasivo total | F37: =F28 -> 56481772173
E38: RESULTADO | H38: RECHAZADO | L38: =L36+L34+L32+L30+L28+L26+L24+L12+L11+L10 -> 1
A43: =+'CONSOLIDADO FINANCIERO'!$B$28 -> 0

Sheet XXXXX
A1: 2 | C1: FONDO NACIONAL DEL AHORRO
C3: OBJETO PROCESO
C4: NUMERO DE PROCESO
C5: PROPONENTE
C7: VERIFICACION EXPEDICIÓN REGISTRO UNICO DE PROPONENTES
C9: FECHA CIERRE PROCESO
C10: FECHA EXPEDICION RUP | J10: =IF(D10>=O10,"CUMPLE","NO CUMPLE") -> CUMPLE | L10: mm / dd / aa | M10: =IF(J10="CUMPLE",0,1) -> 0 | N10: =+TODAY()-30 -> 45241 | O10: =+D9-30 -> -30 | P10: 30 días anteriores
C11: FECHA ULTIMA RENOVACION | J11: =IF(D10>=O11,"CUMPLE","NO CUMPLE") -> NO CUMPLE | L11: mm / dd / aa | M11: =IF(J11="CUMPLE",0,1) -> 1 | O11: =+D11+15 -> 15 | P11: 10 días hábiles
C12: FECHA DE LOS ESTADOS FINANCIEROS | J12: =IF(D10>=O12,"CUMPLE","NO CUMPLE") -> NO CUMPLE | L12: mm / dd / aa | M12: =IF(J12="CUMPLE",0,1) -> 1 | O12: =+D12+15 -> 15
C15: FECHA CIERRE PROCESO
C16: FECHA EXPEDICION RUP | L16: mm / dd / aa | M16: =IF(J16="CUMPLE",0,1) -> 1 | O16: =+D15-30 -> -30 | P16: 30 días anteriores
C17: FECHA ULTIMA RENOVACION | L17: mm / dd / aa | M17: =IF(J17="CUMPLE",0,1) -> 1 | O17: =+D17+15 -> 15 | P17: 10 días hábiles
C18: FECHA DE LOS ESTADOS FINANCIEROS | L18: mm / dd / aa | M18: =IF(J18="CUMPLE",0,1) -> 1 | O18: =+D18+15 -> 15
C22: FECHA CIERRE PROCESO
C23: FECHA EXPEDICION RUP | L23: mm / dd / aa | M23: =IF(J23="CUMPLE",0,1) -> 1 | O23: =+D22-30 -> -30 | P23: 30 días anteriores
C24: FECHA ULTIMA RENOVACION | L24: mm / dd / aa | M24: =IF(J24="CUMPLE",0,1) -> 1 | O24: =+D24+15 -> 15 | P24: 10 días hábiles
C25: FECHA DE LOS ESTADOS FINANCIEROS | L25: mm / dd / aa | M25: =IF(J25="CUMPLE",0,1) -> 1 | O25: =+D25+15 -> 15
C27: VERIFICACIÓN REQUISITOS HABILITANTES FINANCIEROS
A29: NUMERAL | B29: VERIFICACIÓN DE LA CAPACIDAD FINANCIERA | C29: DESCRIPCION | D29: CRITERIO | E29: ITEM | F29: SINPRO COLOMBIA S.A.S. | I29: INDICADOR | J29: RESULTADO VERIFICACION | K29: DOCUMENTO ELECTRONICO | L29: OBSERVACIONES
F30: 1
A31: 4.2 | B31: 4.2,8.1. Capacidad Fiinanciera | C31: Capital de Trabajo >= 20% POE | D31: =+'CONSOLIDADO FINANCIERO'!$D$7*20% -> 7300020047 | E31: Activo Corriente | I31: =+((F31*F30)+(G31*G30)+(H31*H30))-((F32*F30)+(G32*G30)+(H32*H30)) -> 0 | J31: =IF(I31>=D31,"CUMPLE","NO CUMPLE") -> NO CUMPLE | K31: Registro Único de Proponentes | L31: El proponente cumple con los indicadores establecidos en las regals de participación de conformidad con lo estabecido en el numeral 4.2 de las reglas de participación | M31: =IF(J31="CUMPLE",0,1) -> 1
E32: Pasivo Corriente
A33: 4.2 | B33: =B31 -> 4.2,8.1. Capacidad Fiinanciera | C33: Índice de Liquidez | D33: 1.6 | E33: Activo Corriente | F33: =+F31 -> 0 | I33: =+((F33*F30)+(G33*G30)+(H33*H30))/((F34*F30)+(G34*G30)+(H34*H30)) -> #DIV/0! | J33: =IF(I33>=D33,"CUMPLE","NO CUMPLE") -> #DIV/0! | K33: Registro Único de Proponentes | M33: =IF(J33="CUMPLE",0,1) -> #DIV/0!
E34: Pasivo Corriente | F34: =+F32 -> 0
A35: 4.2 | B35: =B33 -> 4.2,8.1. Capacidad Fiinanciera | C35: Nivel de Endeudamiento | D35: 0.6 | E35: Pasivo Total | I35: =((F35*F30)+(G35*G30)+(H35*H30))/((F36*F30)+(G36*G30)+(H36*H30)) -> #DIV/0! | J35: =IF(I35<=D35,"CUMPLE","NO CUMPLE") -> #DIV/0! | K35: Registro Único de Proponentes | M35: =IF(J35="CUMPLE",0,1) -> #DIV/0!
E36: Activo Total
A37: 4.2 | B37: =B35 -> 4.2,8.1. Capacidad Fiinanciera | C37: Razón de Cobertura de Intereses | D37: 1.5 | E37: Utilidad Operacional | I37: =((F37*F30)+(G37*G30)+(H37*H30))/((F38*F30)+(G38*G30)+(H38*H30)) -> #DIV/0! | J37: =IF(I37>=D37,"CUMPLE","NO CUMPLE") -> #DIV/0! | K37: Registro Único de Proponentes | M37: =IF(J37="CUMPLE",0,1) -> #DIV/0!
E38: Gastos de Intereses
A39: 4.2 | B39: 4.2,8.2. Capacidad organizacional | C39: Rentabilidad sobre Patrimonio | D39: 0.1 | E39: Utilidad Operacional | F39: =F37 -> 0 | I39: =((F39*F30)+(G39*G30)+(H39*H30))/((F40*F30)+(G40*G30)+(H40*H30)) -> #DIV/0! | J39: =IF(I39>=D39,"CUMPLE","NO CUMPLE") -> #DIV/0! | K39: Registro Único de Proponentes | M39: =IF(J39="CUMPLE",0,1) -> #DIV/0!
E40: Patrimonio
A41: 4.2 | B41: =+B39 -> 4.2,8.2. Capacidad organizacional | C41: Rentabilidad sobre Activo | D41: 0.04 | E41: Utilidad Operacional | F41: =F39 -> 0 | I41: =((F41*F30)+(G41*G30)+(H41*H30))/((F42*F30)+(G42*G30)+(H42*H30)) -> #DIV/0! | J41: =IF(I41>=D41,"CUMPLE","NO CUMPLE") -> #DIV/0! | K41: Registro Único de Proponentes | M41: =IF(J41="CUMPLE",0,1) -> #DIV/0!
E42: Activo total | F42: =+F36 -> 0
A43: 4.2 | B43: =+B41 -> 4.2,8.2. Capacidad organizacional | C43: Patrimonio ≥ 20% POE | D43: =+'CONSOLIDADO FINANCIERO'!$D$7*20% -> 7300020047 | E43: Activo total | F43: =F36 -> 0 | I43: =+((F43*F30)+(G43*G30)+(H43*H30))-((F44*F30)+(G44*G30)+(H44*H30)) -> 0 | J43: =IF(I43>=D43,"CUMPLE","NO CUMPLE") -> NO CUMPLE | K43: Registro Único de Proponentes | M43: =IF(J43="CUMPLE",0,1) -> 1
E44: Pasivo total | F44: =F35 -> 0
E45: RESULTADO | I45: =IF(M45>0,"NO CUMPLE","CUMPLE") -> #DIV/0! | M45: =M43+M41+M39+M37+M35+M33+M31+M10+M11+M12 -> #DIV/0!
A50: =+'CONSOLIDADO FINANCIERO'!$B$28 -> 0 | E50: ='CONSOLIDADO FINANCIERO'!J28 -> Elaboró: Diana Ximena Diaz Ramirez Tecnico A Gerencia Contratación Fondo Nacional del Ahorro

Sheet XXXXXXX
A1: 3 | C1: FONDO NACIONAL DEL AHORRO
C3: OBJETO PROCESO
C4: NUMERO DE PROCESO
C5: PROPONENTE
C7: VERIFICACION EXPEDICIÓN REGISTRO UNICO DE PROPONENTES
C9: FECHA CIERRE PROCESO
C10: FECHA EXPEDICION RUP | J10: =IF(D10>=N10,"CUMPLE","NO CUMPLE") -> CUMPLE | L10: mm / dd / aa | M10: =IF(J10="CUMPLE",0,1) -> 0 | N10: =+D9-30 -> -30 | O10: =+D9-30 -> -30 | P10: 30 días anteriores
C11: FECHA ULTIMA RENOVACION | J11: =IF(D10>=O11,"CUMPLE","NO CUMPLE") -> NO CUMPLE | L11: mm / dd / aa | M11: =IF(J11="CUMPLE",0,1) -> 1 | O11: =+D11+15 -> 15 | P11: 10 días hábiles
C12: FECHA DE LOS ESTADOS FINANCIEROS | J12: =IF(D10>=O12,"CUMPLE","NO CUMPLE") -> NO CUMPLE | L12: mm / dd / aa | M12: =IF(J12="CUMPLE",0,1) -> 1 | O12: =+D12+15 -> 15
C15: FECHA CIERRE PROCESO
C16: FECHA EXPEDICION RUP | L16: mm / dd / aa | M16: =IF(J16="CUMPLE",0,1) -> 1 | N16: =+D15-30 -> -30 | O16: =+D15-30 -> -30 | P16: 30 días anteriores
C17: FECHA ULTIMA RENOVACION | L17: mm / dd / aa | M17: =IF(J17="CUMPLE",0,1) -> 1 | O17: =+D17+15 -> 15 | P17: 10 días hábiles
C18: FECHA DE LOS ESTADOS FINANCIEROS | L18: mm / dd / aa | M18: =IF(J18="CUMPLE",0,1) -> 1 | O18: =+D18+15 -> 15
C21: FECHA CIERRE PROCESO
C22: FECHA EXPEDICION RUP | L22: mm / dd / aa | M22: =IF(J22="CUMPLE",0,1) -> 1 | N22: =+D21-30 -> -30 | O22: =+D21-30 -> -30 | P22: 30 días anteriores
C23: FECHA ULTIMA RENOVACION | L23: mm / dd / aa | M23: =IF(J23="CUMPLE",0,1) -> 1 | O23: =+D23+15 -> 15 | P23: 10 días hábiles
C24: FECHA DE LOS ESTADOS FINANCIEROS | L24: mm / dd / aa | M24: =IF(J24="CUMPLE",0,1) -> 1 | O24: =+D24+15 -> 15
C27: VERIFICACIÓN REQUISITOS HABILITANTES FINANCIEROS
A29: NUMERAL | B29: VERIFICACIÓN DE LA CAPACIDAD FINANCIERA | C29: DESCRIPCION | D29: CRITERIO | E29: ITEM | F29: OINSAT INGENIERIA Y SERVICIOS S.A.S | I29: INDICADOR | J29: RESULTADO VERIFICACION | K29: DOCUMENTO ELECTRONICO | L29: OBSERVACIONES
F30: 1
A31: 4.2 | B31: 4.2,8.1. Capacidad Fiinanciera | C31: Capital de Trabajo >= 20% POE | D31: =+'CONSOLIDADO FINANCIERO'!$D$7*20% -> 7300020047 | E31: Activo Corriente | I31: =((F31*F30)+(G31*G30)+(H31*H30))-((F32*F30)+(G32*G30)+(H32*H30)) -> 0 | J31: =IF(I31>=D31,"CUMPLE","NO CUMPLE") -> NO CUMPLE | K31: Registro Único de Proponentes | L31: El oferente debe subsanar, Según las reglas de participcion en el numeral 4.1.1.5. REQUISITOS MININOS HABILITANTES FINANCIEROS Y CAPACIDAD ORGANIZACIONAL (…) "el oferente o cada uno de los integrantes del Oferente (en caso de Consorcio o Unión Temporal), debe (n) presentar el Registro Único de Oferentes RUP expedido por la Cámara de Comercio con fecha de expedición no superior a treinta (30) días calendario a la fecha de cierre del presente proceso, documento que deberá encontrarse vigente, actualizado y en firme conforme a la normatividad vigente". | M31: =IF(J31="CUMPLE",0,1) -> 1
E32: Pasivo Corriente
A33: 4.2 | B33: =B31 -> 4.2,8.1. Capacidad Fiinanciera | C33: Índice de Liquidez | D33: 1.6 | E33: Activo Corriente | F33: =+F31 -> 0 | I33: =((F33*F30)+(G33*G30)+(H33*H30))/((F34*F30)+(G34*G30)+(H34*H30)) -> #DIV/0! | J33: =IF(I33>=D33,"CUMPLE","NO CUMPLE") -> #DIV/0! | K33: Registro Único de Proponentes | M33: =IF(J33="CUMPLE",0,1) -> #DIV/0!
E34: Pasivo Corriente | F34: =+F32 -> 0
A35: 4.2 | B35: =B33 -> 4.2,8.1. Capacidad Fiinanciera | C35: Nivel de Endeudamiento | D35: 0.6 | E35: Pasivo Total | I35: =((F35*F30)+(G35*G30)+(H35*H30))/((F36*F30)+(G36*G30)+(H36*H30)) -> #DIV/0! | J35: =IF(I35<=D35,"CUMPLE","NO CUMPLE") -> #DIV/0! | K35: Registro Único de Proponentes | M35: =IF(J35="CUMPLE",0,1) -> #DIV/0!
E36: Activo Total
A37: 4.2 | B37: =B35 -> 4.2,8.1. Capacidad Fiinanciera | C37: Razón de Cobertura de Intereses | D37: 1.5 | E37: Utilidad Operacional | I37: =((F37*F30)+(G37*G30)+(H37*H30))/((F38*F30)+(G38*G30)+(H38*H30)) -> #DIV/0! | J37: =IF(I37>=D37,"CUMPLE","NO CUMPLE") -> #DIV/0! | K37: Registro Único de Proponentes | M37: =IF(J37="CUMPLE",0,1) -> #DIV/0!
E38: Gastos de Intereses
A39: 4.2 | B39: 4.2,8.2. Capacidad organizacional | C39: Rentabilidad sobre Patrimonio | D39: 0.1 | E39: Utilidad Operacional | F39: =F37 -> 0 | I39: =((F39*F30)+(G39*G30)+(H39*H30))/((F40*F30)+(G40*G30)+(H40*H30)) -> #DIV/0! | J39: =IF(I39>=D39,"CUMPLE","NO CUMPLE") -> #DIV/0! | K39: Registro Único de Proponentes | M39: =IF(J39="CUMPLE",0,1) -> #DIV/0!
E40: Patrimonio
A41: 4.2 | B41: =+B39 -> 4.2,8.2. Capacidad organizacional | C41: Rentabilidad sobre Activo | D41: 0.04 | E41: Utilidad Operacional | F41: =F39 -> 0 | I41: =((F41*F30)+(G41*G30)+(H41*H30))/((F42*F30)+(G42*G30)+(H42*H30)) -> #DIV/0! | J41: =IF(I41>=D41,"CUMPLE","NO CUMPLE") -> #DIV/0! | K41: Registro Único de Proponentes | M41: =IF(J41="CUMPLE",0,1) -> #DIV/0!
E42: Activo total | F42: =+F36 -> 0
A43: 4.2 | B43: =+B41 -> 4.2,8.2. Capacidad organizacional | C43: Patrimonio ≥ 20% POE | D43: =+'CONSOLIDADO FINANCIERO'!$D$7*20% -> 7300020047 | E43: Activo total | F43: =F36 -> 0 | I43: =+((F43*F30)+(G43*G30)+(H43*H30))-((F44*F30)+(G44*G30)+(H44*H30)) -> 0 | J43: =IF(I43>=D43,"CUMPLE","NO CUMPLE") -> NO CUMPLE | K43: Registro Único de Proponentes | M43: =IF(J43="CUMPLE",0,1) -> 1
E44: Pasivo total | F44: =F35 -> 0
E45: RESULTADO | I45: =IF(M45>0,"NO CUMPLE","CUMPLE") -> #DIV/0! | M45: =M43+M41+M39+M37+M35+M33+M31+M12+M11+M10 -> #DIV/0!
A50: =+'CONSOLIDADO FINANCIERO'!$B$28 -> 0 | E50: ='CONSOLIDADO FINANCIERO'!J28 -> Elaboró: Diana Ximena Diaz Ramirez Tecnico A Gerencia Contratación Fondo Nacional del Ahorro

Sheet xx
A1: 4 | C1: FONDO NACIONAL DEL AHORRO
C3: OBJETO PROCESO | D3: =+'CONSOLIDADO FINANCIERO'!D5 -> CONTRATAR UNIDAD DE CIBERSEGURIDAD QUE PROPORCIONE SERVICIOS DE SEGURIDAD INTEGRADOS AL FONDO NACIONAL DEL AHORRO
C4: NUMERO DE PROCESO | D4: =+'CONSOLIDADO FINANCIERO'!D6 -> FNA-VTTD-CP-011-2023
C5: PROPONENTE
C7: VERIFICACION EXPEDICIÓN REGISTRO UNICO DE PROPONENTES -
C9: FECHA CIERRE PROCESO
C10: FECHA EXPEDICION RUP | J10: =IF(D10>=N10,"CUMPLE","NO CUMPLE") -> CUMPLE | L10: mm / dd / aa | M10: =IF(J10="CUMPLE",0,1) -> 0 | N10: =+D9-30 -> -30 | O10: =+D9-30 -> -30 | P10: 30 días anteriores
C11: FECHA ULTIMA RENOVACION | J11: =IF(D10>=O11,"CUMPLE","NO CUMPLE") -> NO CUMPLE | L11: mm / dd / aa | M11: =IF(J11="CUMPLE",0,1) -> 1 | O11: =+D11+15 -> 15 | P11: 10 días hábiles
C12: FECHA DE LOS ESTADOS FINANCIEROS | J12: =IF(D10>=O12,"CUMPLE","NO CUMPLE") -> NO CUMPLE | L12: mm / dd / aa | M12: =IF(J12="CUMPLE",0,1) -> 1 | O12: =+D12+15 -> 15
C15: FECHA CIERRE PROCESO
C16: FECHA EXPEDICION RUP | L16: mm / dd / aa | M16: =IF(J16="CUMPLE",0,1) -> 1 | N16: =+D15-30 -> -30 | O16: =+D15-30 -> -30 | P16: 30 días anteriores
C17: FECHA ULTIMA RENOVACION | L17: mm / dd / aa | M17: =IF(J17="CUMPLE",0,1) -> 1 | O17: =+D17+15 -> 15 | P17: 10 días hábiles
C18: FECHA DE LOS ESTADOS FINANCIEROS | L18: mm / dd / aa | M18: =IF(J18="CUMPLE",0,1) -> 1 | O18: =+D18+15 -> 15
C21: FECHA CIERRE PROCESO
C22: FECHA EXPEDICION RUP | L22: mm / dd / aa | M22: =IF(J22="CUMPLE",0,1) -> 1 | N22: =+D21-30 -> -30 | O22: =+D21-30 -> -30 | P22: 30 días anteriores
C23: FECHA ULTIMA RENOVACION | L23: mm / dd / aa | M23: =IF(J23="CUMPLE",0,1) -> 1 | O23: =+D23+15 -> 15 | P23: 10 días hábiles
C24: FECHA DE LOS ESTADOS FINANCIEROS | L24: mm / dd / aa | M24: =IF(J24="CUMPLE",0,1) -> 1 | O24: =+D24+15 -> 15
C27: VERIFICACIÓN REQUISITOS HABILITANTES FINANCIEROS
A29: NUMERAL | B29: VERIFICACIÓN DE LA CAPACIDAD FINANCIERA | C29: DESCRIPCION | D29: CRITERIO | E29: ITEM | F29: IMAGROUP COLOMBIA S.A.S | I29: INDICADOR | J29: RESULTADO VERIFICACION | K29: DOCUMENTO ELECTRONICO | L29: OBSERVACIONES
F30: 1
A31: 4.2 | B31: 4.2,8.1. Capacidad Fiinanciera | C31: Capital de Trabajo >= 25% POE | D31: =+'CONSOLIDADO FINANCIERO'!$D$7*25% -> 9.1250251e+09 | E31: Activo Corriente | I31: =((F31*F30)+(G31*G30)+(H31*H30))-((F32*F30)+(G32*G30)+(H32*H30)) -> 0 | J31: =IF(I31>=D31,"CUMPLE","NO CUMPLE") -> NO CUMPLE | K31: Registro Único de Proponentes | L31: El proponente cumple con los indicadores establecidos en las regals de participación de conformidad con lo estabecido en el numeral 4.2 de las reglas de participación | M31: =IF(J31="CUMPLE",0,1) -> 1
E32: Pasivo Corriente
A33: 4.2 | B33: =B31 -> 4.2,8.1. Capacidad Fiinanciera | C33: Índice de Liquidez | D33: 1.4 | E33: Activo Corriente | I33: =((F33*F30)+(G33*G30)+(H33*H30))/((F34*F30)+(G34*G30)+(H34*H30)) -> #DIV/0! | J33: =IF(I33>=D33,"CUMPLE","NO CUMPLE") -> #DIV/0! | K33: Registro Único de Proponentes | M33: =IF(J33="CUMPLE",0,1) -> #DIV/0!
E34: Pasivo Corriente
A35: 4.2 | B35: =B33 -> 4.2,8.1. Capacidad Fiinanciera | C35: Nivel de Endeudamiento | D35: 0.7 | E35: Pasivo Total | I35: =((F35*F30)+(G35*G30)+(H35*H30))/((F36*F30)+(G36*G30)+(H36*H30)) -> #DIV/0! | J35: =IF(I35<=D35,"CUMPLE","NO CUMPLE") -> #DIV/0! | K35: Registro Único de Proponentes | M35: =IF(J35="CUMPLE",0,1) -> #DIV/0!
E36: Activo Total
A37: 4.2 | B37: =B35 -> 4.2,8.1. Capacidad Fiinanciera | C37: Razón de Cobertura de Intereses | D37: 1.6 | E37: Utilidad Operacional | I37: =((F37*F30)+(G37*G30)+(H37*H30))/((F38*F30)+(G38*G30)+(H38*H30)) -> #DIV/0! | J37: =IF(I37>=D37,"CUMPLE","NO CUMPLE") -> #DIV/0! | K37: Registro Único de Proponentes | M37: =IF(J37="CUMPLE",0,1) -> #DIV/0!
E38: Gastos de Intereses
A39: 4.2 | B39: 4.2,8.2. Capacidad organizacional | C39: Rentabilidad sobre Patrimonio | D39: 0.1 | E39: Utilidad Operacional | I39: =((F39*F30)+(G39*G30)+(H39*H30))/((F40*F30)+(G40*G30)+(H40*H30)) -> #DIV/0! | J39: =IF(I39>=D39,"CUMPLE","NO CUMPLE") -> #DIV/0! | K39: Registro Único de Proponentes | M39: =IF(J39="CUMPLE",0,1) -> #DIV/0!
E40: Patrimonio
A41: 4.2 | B41: =+B39 -> 4.2,8.2. Capacidad organizacional | C41: Rentabilidad sobre Activo | D41: 0.06 | E41: Utilidad Operacional | I41: =((F41*F30)+(G41*G30)+(H41*H30))/((F42*F30)+(G42*G30)+(H42*H30)) -> #DIV/0! | J41: =IF(I41>=D41,"CUMPLE","NO CUMPLE") -> #DIV/0! | K41: Registro Único de Proponentes | M41: =IF(J41="CUMPLE",0,1) -> #DIV/0!
E42: Activo total
A43: 4.2 | B43: =+B41 -> 4.2,8.2. Capacidad organizacional | C43: Patrimonio ≥ 25% POE | D43: =+'CONSOLIDADO FINANCIERO'!$D$7*25% -> 9.1250251e+09 | E43: Activo total | I43: =+((F43*F30)+(G43*G30)+(H43*H30))-((F44*F30)+(G44*G30)+(H44*H30)) -> 0 | J43: =IF(I43>=D43,"CUMPLE","NO CUMPLE") -> NO CUMPLE | K43: Registro Único de Proponentes | M43: =IF(J43="CUMPLE",0,1) -> 1
E44: Pasivo total
E45: RESULTADO | I45: =IF(M45>0,"NO CUMPLE","CUMPLE") -> #DIV/0! | M45: =M43+M41+M39+M37+M35+M33+M31+M12+M11+M10 -> #DIV/0!
A50: =+'CONSOLIDADO FINANCIERO'!$B$28 -> 0 | E50: ='CONSOLIDADO FINANCIERO'!J28 -> Elaboró: Diana Ximena Diaz Ramirez Tecnico A Gerencia Contratación Fondo Nacional del Ahorro

Sheet xxx
A1: 5 | C1: FONDO NACIONAL DEL AHORRO
C3: OBJETO PROCESO | D3: =+'CONSOLIDADO FINANCIERO'!D5 -> CONTRATAR UNIDAD DE CIBERSEGURIDAD QUE PROPORCIONE SERVICIOS DE SEGURIDAD INTEGRADOS AL FONDO NACIONAL DEL AHORRO
C4: NUMERO DE PROCESO | D4: =+'CONSOLIDADO FINANCIERO'!D6 -> FNA-VTTD-CP-011-2023
C5: PROPONENTE
C7: VERIFICACION EXPEDICIÓN REGISTRO UNICO DE PROPONENTES -
C9: FECHA CIERRE PROCESO
C10: FECHA EXPEDICION RUP | J10: =IF(D10>=N10,"CUMPLE","NO CUMPLE") -> CUMPLE | L10: mm / dd / aa | M10: =IF(J10="CUMPLE",0,1) -> 0 | N10: =+D9-30 -> -30 | O10: =+D9-30 -> -30 | P10: 30 días anteriores
C11: FECHA ULTIMA RENOVACION | J11: =IF(D10>=O11,"CUMPLE","NO CUMPLE") -> NO CUMPLE | L11: mm / dd / aa | M11: =IF(J11="CUMPLE",0,1) -> 1 | O11: =+D11+15 -> 15 | P11: 10 días hábiles
C12: FECHA DE LOS ESTADOS FINANCIEROS | J12: =IF(D10>=O12,"CUMPLE","NO CUMPLE") -> NO CUMPLE | L12: mm / dd / aa | M12: =IF(J12="CUMPLE",0,1) -> 1 | O12: =+D12+15 -> 15
C15: FECHA CIERRE PROCESO
C16: FECHA EXPEDICION RUP | L16: mm / dd / aa | M16: =IF(J16="CUMPLE",0,1) -> 1 | N16: =+D15-30 -> -30 | O16: =+D15-30 -> -30 | P16: 30 días anteriores
C17: FECHA ULTIMA RENOVACION | L17: mm / dd / aa | M17: =IF(J17="CUMPLE",0,1) -> 1 | O17: =+D17+15 -> 15 | P17: 10 días hábiles
C18: FECHA DE LOS ESTADOS FINANCIEROS | L18: mm / dd / aa | M18: =IF(J18="CUMPLE",0,1) -> 1 | O18: =+D18+15 -> 15
C21: FECHA CIERRE PROCESO
C22: FECHA EXPEDICION RUP | L22: mm / dd / aa | M22: =IF(J22="CUMPLE",0,1) -> 1 | N22: =+D21-30 -> -30 | O22: =+D21-30 -> -30 | P22: 30 días anteriores
C23: FECHA ULTIMA RENOVACION | L23: mm / dd / aa | M23: =IF(J23="CUMPLE",0,1) -> 1 | O23: =+D23+15 -> 15 | P23: 10 días hábiles
C24: FECHA DE LOS ESTADOS FINANCIEROS | L24: mm / dd / aa | M24: =IF(J24="CUMPLE",0,1) -> 1 | O24: =+D24+15 -> 15
C27: VERIFICACIÓN REQUISITOS HABILITANTES FINANCIEROS
A29: NUMERAL | B29: VERIFICACIÓN DE LA CAPACIDAD FINANCIERA | C29: DESCRIPCION | D29: CRITERIO | E29: ITEM | F29: BON SANTE SAS | I29: INDICADOR | J29: RESULTADO VERIFICACION | K29: DOCUMENTO ELECTRONICO | L29: OBSERVACIONES
F30: 1
A31: 4.2 | B31: 4.2,8.1. Capacidad Fiinanciera | C31: Capital de Trabajo >= 25% POE | D31: =+'CONSOLIDADO FINANCIERO'!$D$7*25% -> 9.1250251e+09 | E31: Activo Corriente | I31: =((F31*F30)+(G31*G30)+(H31*H30))-((F32*F30)+(G32*G30)+(H32*H30)) -> 0 | J31: =IF(I31>=D31,"CUMPLE","NO CUMPLE") -> NO CUMPLE | K31: Registro Único de Proponentes | L31: RECHAZADO Se reitera la causal de rechazo establecida: El oferente se encuentra incurso en la causal de rechazo establecidas en el numeral 2.4.15 de las reglas de participación (...) N° 11 Cuando no se presente la OFERTA ECONÓMICA de acuerdo con los requisitos establecidos en el presente documento o esta sea presentada luego de la fecha y hora exactas señaladas para la finalización del término para presentar ofertas o cuando sea radicada por medio distinto a la plataforma del SECOP II (sin que medie protocolo de indisponibilidad de la Plataforma debidamente certificada) EL OFERTENTE NO PRESENTO LA OFERTA ECONOMICA DE ACUERDO CON LOS REQUISITOS ESTABLECIDOS EN LAS REGLAS DE PARTICIPACIÓN AL NO OFERTAR UN PORCENTAJE DE DESCUENTO . y 16. Cuando el Oferente adicione, suprima, cambie, o modifique los ítems, filas o columnas de la descripción, unidades de medida, cantidades, las características o especificaciones requeridas por alguna otra de características técnicas inferiores o diferentes a las descritas en la oferta o el anexo técnico., Adicionalmente el oferente modificó la oferta economica, al eliminar las formulas establecidas en el formato de OFERTA ECONOMICA y cambiar de esta manera la estructura de la misma, haciendo que esta no cuente con las condiciones y mecanismos de comparación requeridos en el procesos; así las cosas el oferente no puede en instancia de subsanación MODIFICAR la oferta economica de ninguna forma, toda vez que dicho tramite se considera mejora de oferta . | M31: =IF(J31="CUMPLE",0,1) -> 1
E32: Pasivo Corriente
A33: 4.2 | B33: =B31 -> 4.2,8.1. Capacidad Fiinanciera | C33: Índice de Liquidez | D33: 1.4 | E33: Activo Corriente | I33: =((F33*F30)+(G33*G30)+(H33*H30))/((F34*F30)+(G34*G30)+(H34*H30)) -> #DIV/0! | J33: =IF(I33>=D33,"CUMPLE","NO CUMPLE") -> #DIV/0! | K33: Registro Único de Proponentes | M33: =IF(J33="CUMPLE",0,1) -> #DIV/0!
E34: Pasivo Corriente
A35: 4.2 | B35: =B33 -> 4.2,8.1. Capacidad Fiinanciera | C35: Nivel de Endeudamiento | D35: 0.7 | E35: Pasivo Total | I35: =((F35*F30)+(G35*G30)+(H35*H30))/((F36*F30)+(G36*G30)+(H36*H30)) -> #DIV/0! | J35: =IF(I35<=D35,"CUMPLE","NO CUMPLE") -> #DIV/0! | K35: Registro Único de Proponentes | M35: =IF(J35="CUMPLE",0,1) -> #DIV/0!
E36: Activo Total
A37: 4.2 | B37: =B35 -> 4.2,8.1. Capacidad Fiinanciera | C37: Razón de Cobertura de Intereses | D37: 1.6 | E37: Utilidad Operacional | I37: =((F37*F30)+(G37*G30)+(H37*H30))/((F38*F30)+(G38*G30)+(H38*H30)) -> #DIV/0! | J37: =IF(I37>=D37,"CUMPLE","NO CUMPLE") -> #DIV/0! | K37: Registro Único de Proponentes | M37: =IF(J37="CUMPLE",0,1) -> #DIV/0!
E38: Gastos de Intereses
A39: 4.2 | B39: 4.2,8.2. Capacidad organizacional | C39: Rentabilidad sobre Patrimonio | D39: 0.1 | E39: Utilidad Operacional | I39: =((F39*F30)+(G39*G30)+(H39*H30))/((F40*F30)+(G40*G30)+(H40*H30)) -> #DIV/0! | J39: =IF(I39>=D39,"CUMPLE","NO CUMPLE") -> #DIV/0! | K39: Registro Único de Proponentes | M39: =IF(J39="CUMPLE",0,1) -> #DIV/0!
E40: Patrimonio
A41: 4.2 | B41: =+B39 -> 4.2,8.2. Capacidad organizacional | C41: Rentabilidad sobre Activo | D41: 0.06 | E41: Utilidad Operacional | I41: =((F41*F30)+(G41*G30)+(H41*H30))/((F42*F30)+(G42*G30)+(H42*H30)) -> #DIV/0! | J41: =IF(I41>=D41,"CUMPLE","NO CUMPLE") -> #DIV/0! | K41: Registro Único de Proponentes | M41: =IF(J41="CUMPLE",0,1) -> #DIV/0!
E42: Activo total
A43: 4.2 | B43: =+B41 -> 4.2,8.2. Capacidad organizacional | C43: Patrimonio ≥ 25% POE | D43: =+'CONSOLIDADO FINANCIERO'!$D$7*25% -> 9.1250251e+09 | E43: Activo total | I43: =+((F43*F30)+(G43*G30)+(H43*H30))-((F44*F30)+(G44*G30)+(H44*H30)) -> 0 | J43: =IF(I43>=D43,"CUMPLE","NO CUMPLE") -> NO CUMPLE | K43: Registro Único de Proponentes | M43: =IF(J43="CUMPLE",0,1) -> 1
E44: Pasivo total
E45: RESULTADO | I45: RECHAZADO | M45: =M43+M41+M39+M37+M35+M33+M31+M12+M11+M10 -> #DIV/0!
A50: =+'CONSOLIDADO FINANCIERO'!$B$28 -> 0 | E50: ='CONSOLIDADO FINANCIERO'!J28 -> Elaboró: Diana Ximena Diaz Ramirez Tecnico A Gerencia Contratación Fondo Nacional del Ahorro

Sheet xxxx
A1: 6 | C1: FONDO NACIONAL DEL AHORRO
C3: OBJETO PROCESO | D3: =+'CONSOLIDADO FINANCIERO'!D5 -> CONTRATAR UNIDAD DE CIBERSEGURIDAD QUE PROPORCIONE SERVICIOS DE SEGURIDAD INTEGRADOS AL FONDO NACIONAL DEL AHORRO
C4: NUMERO DE PROCESO | D4: =+'CONSOLIDADO FINANCIERO'!D6 -> FNA-VTTD-CP-011-2023
C5: PROPONENTE
C7: VERIFICACION EXPEDICIÓN REGISTRO UNICO DE PROPONENTES -
C9: FECHA CIERRE PROCESO
C10: FECHA EXPEDICION RUP | J10: =IF(D10>=N10,"CUMPLE","NO CUMPLE") -> CUMPLE | L10: mm / dd / aa | M10: =IF(J10="CUMPLE",0,1) -> 0 | N10: =+D9-30 -> -30 | O10: =+D9-30 -> -30 | P10: 30 días anteriores
C11: FECHA ULTIMA RENOVACION | J11: =IF(D10>=O11,"CUMPLE","NO CUMPLE") -> NO CUMPLE | L11: mm / dd / aa | M11: =IF(J11="CUMPLE",0,1) -> 1 | O11: =+D11+15 -> 15 | P11: 10 días hábiles
C12: FECHA DE LOS ESTADOS FINANCIEROS | J12: =IF(D10>=O12,"CUMPLE","NO CUMPLE") -> NO CUMPLE | L12: mm / dd / aa | M12: =IF(J12="CUMPLE",0,1) -> 1 | O12: =+D12+15 -> 15
C15: FECHA CIERRE PROCESO
C16: FECHA EXPEDICION RUP | L16: mm / dd / aa | M16: =IF(J16="CUMPLE",0,1) -> 1 | N16: =+D15-30 -> -30 | O16: =+D15-30 -> -30 | P16: 30 días anteriores
C17: FECHA ULTIMA RENOVACION | L17: mm / dd / aa | M17: =IF(J17="CUMPLE",0,1) -> 1 | O17: =+D17+15 -> 15 | P17: 10 días hábiles
C18: FECHA DE LOS ESTADOS FINANCIEROS | L18: mm / dd / aa | M18: =IF(J18="CUMPLE",0,1) -> 1 | O18: =+D18+15 -> 15
C21: FECHA CIERRE PROCESO
C22: FECHA EXPEDICION RUP | L22: mm / dd / aa | M22: =IF(J22="CUMPLE",0,1) -> 1 | N22: =+D21-30 -> -30 | O22: =+D21-30 -> -30 | P22: 30 días anteriores
C23: FECHA ULTIMA RENOVACION | L23: mm / dd / aa | M23: =IF(J23="CUMPLE",0,1) -> 1 | O23: =+D23+15 -> 15 | P23: 10 días hábiles
C24: FECHA DE LOS ESTADOS FINANCIEROS | L24: mm / dd / aa | M24: =IF(J24="CUMPLE",0,1) -> 1 | O24: =+D24+15 -> 15
C27: VERIFICACIÓN REQUISITOS HABILITANTES FINANCIEROS
A29: NUMERAL | B29: VERIFICACIÓN DE LA CAPACIDAD FINANCIERA | C29: DESCRIPCION | D29: CRITERIO | E29: ITEM | F29: HAUTE PROTOCOLE SAS | I29: INDICADOR | J29: RESULTADO VERIFICACION | K29: DOCUMENTO ELECTRONICO | L29: OBSERVACIONES
F30: 1
A31: 4.2 | B31: 4.2,8.1. Capacidad Fiinanciera | C31: Capital de Trabajo >= 25% POE | D31: =+'CONSOLIDADO FINANCIERO'!$D$7*25% -> 9.1250251e+09 | E31: Activo Corriente | I31: =((F31*F30)+(G31*G30)+(H31*H30))-((F32*F30)+(G32*G30)+(H32*H30)) -> 0 | J31: =IF(I31>=D31,"CUMPLE","NO CUMPLE") -> NO CUMPLE | K31: Registro Único de Proponentes | L31: El proponente cumple con los indicadores establecidos en las regals de participación de conformidad con lo estabecido en el numeral 4.2 de las reglas de participación | M31: =IF(J31="CUMPLE",0,1) -> 1
E32: Pasivo Corriente
A33: 4.2 | B33: =B31 -> 4.2,8.1. Capacidad Fiinanciera | C33: Índice de Liquidez | D33: 1.4 | E33: Activo Corriente | I33: =((F33*F30)+(G33*G30)+(H33*H30))/((F34*F30)+(G34*G30)+(H34*H30)) -> #DIV/0! | J33: =IF(I33>=D33,"CUMPLE","NO CUMPLE") -> #DIV/0! | K33: Registro Único de Proponentes | M33: =IF(J33="CUMPLE",0,1) -> #DIV/0!
E34: Pasivo Corriente
A35: 4.2 | B35: =B33 -> 4.2,8.1. Capacidad Fiinanciera | C35: Nivel de Endeudamiento | D35: 0.7 | E35: Pasivo Total | I35: =((F35*F30)+(G35*G30)+(H35*H30))/((F36*F30)+(G36*G30)+(H36*H30)) -> #DIV/0! | J35: =IF(I35<=D35,"CUMPLE","NO CUMPLE") -> #DIV/0! | K35: Registro Único de Proponentes | M35: =IF(J35="CUMPLE",0,1) -> #DIV/0!
E36: Activo Total
A37: 4.2 | B37: =B35 -> 4.2,8.1. Capacidad Fiinanciera | C37: Razón de Cobertura de Intereses | D37: 1.6 | E37: Utilidad Operacional | I37: =((F37*F30)+(G37*G30)+(H37*H30))/((F38*F30)+(G38*G30)+(H38*H30)) -> #DIV/0! | J37: =IF(I37>=D37,"CUMPLE","NO CUMPLE") -> #DIV/0! | K37: Registro Único de Proponentes | M37: =IF(J37="CUMPLE",0,1) -> #DIV/0!
E38: Gastos de Intereses
A39: 4.2 | B39: 4.2,8.2. Capacidad organizacional | C39: Rentabilidad sobre Patrimonio | D39: 0.1 | E39: Utilidad Operacional | I39: =((F39*F30)+(G39*G30)+(H39*H30))/((F40*F30)+(G40*G30)+(H40*H30)) -> #DIV/0! | J39: =IF(I39>=D39,"CUMPLE","NO CUMPLE") -> #DIV/0! | K39: Registro Único de Proponentes | M39: =IF(J39="CUMPLE",0,1) -> #DIV/0!
E40: Patrimonio
A41: 4.2 | B41: =+B39 -> 4.2,8.2. Capacidad organizacional | C41: Rentabilidad sobre Activo | D41: 0.06 | E41: Utilidad Operacional | I41: =((F41*F30)+(G41*G30)+(H41*H30))/((F42*F30)+(G42*G30)+(H42*H30)) -> #DIV/0! | J41: =IF(I41>=D41,"CUMPLE","NO CUMPLE") -> #DIV/0! | K41: Registro Único de Proponentes | M41: =IF(J41="CUMPLE",0,1) -> #DIV/0!
E42: Activo total
A43: 4.2 | B43: =+B41 -> 4.2,8.2. Capacidad organizacional | C43: Patrimonio ≥ 25% POE | D43: =+'CONSOLIDADO FINANCIERO'!$D$7*25% -> 9.1250251e+09 | E43: Activo total | I43: =+((F43*F30)+(G43*G30)+(H43*H30))-((F44*F30)+(G44*G30)+(H44*H30)) -> -2577160969 | J43: =IF(I43>=D43,"CUMPLE","NO CUMPLE") -> NO CUMPLE | K43: Registro Único de Proponentes | M43: =IF(J43="CUMPLE",0,1) -> 1
E44: Pasivo total | F44: 2577160969
E45: RESULTADO | I45: =IF(M45>0,"NO CUMPLE","CUMPLE") -> #DIV/0! | M45: =M43+M41+M39+M37+M35+M33+M31+M12+M11+M10 -> #DIV/0!
A50: =+'CONSOLIDADO FINANCIERO'!$B$28 -> 0 | E50: ='CONSOLIDADO FINANCIERO'!J28 -> Elaboró: Diana Ximena Diaz Ramirez Tecnico A Gerencia Contratación Fondo Nacional del Ahorro

Sheet CONSORCIO UNIDAD CIBERSEGURIDAD
C1: FONDO NACIONAL DEL AHORRO
C3: OBJETO PROCESO | D3: CONTRATAR UNIDAD DE CIBERSEGURIDAD QUE PROPORCIONE SERVICIOS DE SEGURIDAD INTEGRADOS AL FONDO NACIONAL DEL AHORRO
C4: NUMERO DE PROCESO | D4: FNA-VTTD-CP-011-2023
C5: PROPONENTE | D5: CONSORCIO UNIDAD DE CIBERSEGURIDAD FNA
C7: MNEMO CYBER SEC SAS - 50%
C9: FECHA CIERRE PROCESO | D9: 45264
C10: FECHA EXPEDICION RUP | D10: 45244 | J10: =IF(D10>=N10,"CUMPLE","NO CUMPLE") -> CUMPLE | L10: mm / dd / aa | M10: =IF(J10="CUMPLE",0,1) -> 0 | N10: =+D9-30 -> 45234 | O10: =+D9-30 -> 45234 | P10: 30 días anteriores
C11: FECHA ULTIMA RENOVACION | D11: 45071 | J11: =IF(D10>=O11,"CUMPLE","NO CUMPLE") -> CUMPLE | L11: mm / dd / aa | M11: =IF(J11="CUMPLE",0,1) -> 0 | O11: =+D11+15 -> 45086 | P11: 10 días hábiles
C12: FECHA DE LOS ESTADOS FINANCIEROS | D12: 44926 | J12: =IF(D10>=O12,"CUMPLE","NO CUMPLE") -> CUMPLE | L12: mm / dd / aa | M12: =IF(J12="CUMPLE",0,1) -> 0 | O12: =+D12+15 -> 44941
C13: MNEMO COLOMBIA SAS - 49%
C15: FECHA CIERRE PROCESO | D15: 45264
C16: FECHA EXPEDICION RUP | D16: 45244 | J16: =IF(D16>=N10,"CUMPLE","NO CUMPLE") -> CUMPLE | L16: mm / dd / aa | M16: =IF(J16="CUMPLE",0,1) -> 0 | N16: =+D15-30 -> 45234 | O16: =+D15-30 -> 45234 | P16: 30 días anteriores
C17: FECHA ULTIMA RENOVACION | D17: 45058 | J17: =IF(D16>=O17,"CUMPLE","NO CUMPLE") -> CUMPLE | L17: mm / dd / aa | M17: =IF(J17="CUMPLE",0,1) -> 0 | O17: =+D17+15 -> 45073 | P17: 10 días hábiles
C18: FECHA DE LOS ESTADOS FINANCIEROS | D18: 44926 | J18: =IF(D16>=O18,"CUMPLE","NO CUMPLE") -> CUMPLE | L18: mm / dd / aa | M18: =IF(J18="CUMPLE",0,1) -> 0 | O18: =+D18+15 -> 44941
C21: FECHA CIERRE PROCESO
C22: FECHA EXPEDICION RUP | L22: mm / dd / aa | M22: =IF(J22="CUMPLE",0,1) -> 1 | N22: =+D21-30 -> -30 | O22: =+D21-30 -> -30 | P22: 30 días anteriores
C23: FECHA ULTIMA RENOVACION | L23: mm / dd / aa | M23: =IF(J23="CUMPLE",0,1) -> 1 | O23: =+D23+15 -> 15 | P23: 10 días hábiles
C24: FECHA DE LOS ESTADOS FINANCIEROS | L24: mm / dd / aa | M24: =IF(J24="CUMPLE",0,1) -> 1 | O24: =+D24+15 -> 15
C27: MNEMO EVOLUTION & INTEGRATION SERVICES SA -1%
C29: FECHA CIERRE PROCESO | D29: 45264
C30: FECHA EXPEDICION RUP | D30: 45244 | J30: =IF(D30>=N10,"CUMPLE","NO CUMPLE") -> CUMPLE | L30: mm / dd / aa | M30: =IF(J30="CUMPLE",0,1) -> 0 | N30: =+D29-30 -> 45234 | O30: =+D29-30 -> 45234 | P30: 30 días anteriores
C31: FECHA ULTIMA RENOVACION | D31: 45075 | J31: =IF(D30>=O31,"CUMPLE","NO CUMPLE") -> CUMPLE | L31: mm / dd / aa | M31: =IF(J31="CUMPLE",0,1) -> 0 | O31: =+D31+15 -> 45090 | P31: 10 días hábiles
C32: FECHA DE LOS ESTADOS FINANCIEROS | D32: 44196 | J32: =IF(D30>=O32,"CUMPLE","NO CUMPLE") -> CUMPLE | L32: mm / dd / aa | M32: =IF(J32="CUMPLE",0,1) -> 0 | O32: =+D32+15 -> 44211
C35: FECHA CIERRE PROCESO
C36: FECHA EXPEDICION RUP | L36: mm / dd / aa | M36: =IF(J36="CUMPLE",0,1) -> 1 | N36: =+D35-30 -> -30 | O36: =+D35-30 -> -30 | P36: 30 días anteriores
C37: FECHA ULTIMA RENOVACION | L37: mm / dd / aa | M37: =IF(J37="CUMPLE",0,1) -> 1 | O37: =+D37+15 -> 15 | P37: 10 días hábiles
C38: FECHA DE LOS ESTADOS FINANCIEROS | L38: mm / dd / aa | M38: =IF(J38="CUMPLE",0,1) -> 1 | O38: =+D38+15 -> 15
C41: VERIFICACIÓN REQUISITOS HABILITANTES FINANCIEROS
A43: NUMERAL | B43: VERIFICACIÓN DE LA CAPACIDAD FINANCIERA | C43: DESCRIPCION | D43: CRITERIO | E43: ITEM | F43: MNEMO CYBER SEC SAS GRAN EMPRESA | G43: MNEMO COLOMBIA SAS GRAN EMPRESA | H43: MNEMO EVOLUTION & INTEGRATION SERVICES SA GRAN EMPRESA | I43: INDICADOR | J43: RESULTADO VERIFICACION | K43: DOCUMENTO ELECTRONICO | L43: OBSERVACIONES
F44: 0.5 | G44: 0.49 | H44: 0.01
A45: 4.2 | B45: 4.2,8.1. Capacidad Fiinanciera | C45: Capital de Trabajo >= 20% POE | D45: =+'CONSOLIDADO FINANCIERO'!$D$7*20% -> 7300020047 | E45: Activo Corriente | F45: 11745322360 | G45: 16111399000 | H45: 42254733222 | I45: =(F45+G45+H45)-(F46+G46+H46) -> 12362158115 | J45: =IF(I45>=D45,"CUMPLE","NO CUMPLE") -> CUMPLE | K45: Registro Único de Proponentes | L45: El proponente cumple con los indicadores establecidos en las regals de participación de conformidad con lo estabecido en el numeral 4.1.3.1 de las reglas de participación | M45: 5.9451008e+09
E46: Pasivo Corriente | F46: 5024734538 | G46: 11324078000 | H46: 41400483929
A47: 4.2 | B47: =B45 -> 4.2,8.1. Capacidad Fiinanciera | C47: Índice de Liquidez | D47: 1.52 | E47: Activo Corriente | F47: =+F45 -> 11745322360 | G47: =+G45 -> 16111399000 | H47: =+H45 -> 42254733222 | I47: =((F47*F44)+(G47*G44)+(H47*H44))/((F48*F44)+(G48*G44)+(H48*H44)) -> 1.6742783 | J47: =IF(I47>=D47,"CUMPLE","NO CUMPLE") -> CUMPLE | K47: Registro Único de Proponentes
E48: Pasivo Corriente | F48: =+F46 -> 5024734538 | G48: =+G46 -> 11324078000 | H48: =+H46 -> 41400483929
A49: 4.2 | B49: =B47 -> 4.2,8.1. Capacidad Fiinanciera | C49: Nivel de Endeudamiento | D49: 0.6 | E49: Pasivo Total | F49: 5308459289 | G49: 35233742000 | H49: 70140193888 | I49: =((F49*F44)+(G49*G44)+(H49*H44))/((F50*F44)+(G50*G44)+(H50*H44)) -> 0.57404434 | J49: =IF(I49<=D49,"CUMPLE","NO CUMPLE") -> CUMPLE | K49: Registro Único de Proponentes | M49: =IF(J49="CUMPLE",0,1) -> 0
E50: Activo Total | F50: 12172775360 | G50: 58942812000 | H50: 95249252936
A51: 4.2 | B51: =B49 -> 4.2,8.1. Capacidad Fiinanciera | C51: Razón de Cobertura de Intereses | D51: 8 | E51: Utilidad Operacional | F51: 6697018530 | G51: 4605008000 | H51: 906524842 | I51: =((F51*F44)+(G51*G44)+(H51*H44))/((F52*F44)+(G52*G44)+(H52*H44)) -> 20.011983 | J51: =IF(I51>=D51,"CUMPLE","NO CUMPLE") -> CUMPLE | K51: Registro Único de Proponentes | M51: =IF(J51="CUMPLE",0,1) -> 0
E52: Gastos de Intereses | F52: 49650245 | G52: 500304000 | H52: 1055926065
A53: 4.2 | B53: 4.2,8.2. Capacidad organizacional | C53: Rentabilidad sobre Patrimonio | D53: 0.16 | E53: Utilidad Operacional | F53: =F51 -> 6697018530 | G53: =G51 -> 4605008000 | H53: =H51 -> 906524842 | I53: =((F53*F44)+(G53*G44)+(H53*H44))/((F54*F44)+(G54*G44)+(H54*H44)) -> 0.36691335 | J53: =IF(I53>=D53,"CUMPLE","NO CUMPLE") -> CUMPLE | K53: Registro Único de Proponentes | M53: =IF(J53="CUMPLE",0,1) -> 0
E54: Patrimonio | F54: 6864316071 | G54: 23709070000 | H54: 25109059048
...

Sheet YYY
A1: 8 | C1: FONDO NACIONAL DEL AHORRO
C3: OBJETO PROCESO | D3: =+'CONSOLIDADO FINANCIERO'!D5 -> CONTRATAR UNIDAD DE CIBERSEGURIDAD QUE PROPORCIONE SERVICIOS DE SEGURIDAD INTEGRADOS AL FONDO NACIONAL DEL AHORRO
C4: NUMERO DE PROCESO | D4: =+'CONSOLIDADO FINANCIERO'!D6 -> FNA-VTTD-CP-011-2023
C5: PROPONENTE
C9: FECHA CIERRE PROCESO
C10: FECHA EXPEDICION RUP | K10: =IF(D10>=O10,"CUMPLE","NO CUMPLE") -> NO CUMPLE | M10: mm / dd / aa | N10: =IF(K10="CUMPLE",0,1) -> 1 | O10: =TODAY()-30 -> 45241 | P10: =+D9-30 -> -30 | Q10: 30 días anteriores
C11: FECHA ULTIMA RENOVACION | K11: =IF(D11>=O11,"CUMPLE","NO CUMPLE") -> CUMPLE | M11: mm / dd / aa | N11: =IF(K11="CUMPLE",0,1) -> 0 | P11: =+D11+15 -> 15 | Q11: 10 días hábiles
C12: FECHA DE LOS ESTADOS FINANCIEROS | K12: =IF(D12>=O12,"CUMPLE","NO CUMPLE") -> CUMPLE | M12: mm / dd / aa | N12: =IF(K12="CUMPLE",0,1) -> 0 | P12: =+D12+15 -> 15
C15: FECHA CIERRE PROCESO
C16: FECHA EXPEDICION RUP | K16: =IF(D16>=O16,"CUMPLE","NO CUMPLE") -> CUMPLE | M16: mm / dd / aa | N16: =IF(K16="CUMPLE",0,1) -> 0 | P16: =+D15-30 -> -30 | Q16: 30 días anteriores
C17: FECHA ULTIMA RENOVACION | K17: =IF(D17>=O17,"CUMPLE","NO CUMPLE") -> CUMPLE | M17: mm / dd / aa | N17: =IF(K17="CUMPLE",0,1) -> 0 | P17: =+D17+15 -> 15 | Q17: 10 días hábiles
C18: FECHA DE LOS ESTADOS FINANCIEROS | K18: =IF(D18>=O18,"CUMPLE","NO CUMPLE") -> CUMPLE | M18: mm / dd / aa | N18: =IF(K18="CUMPLE",0,1) -> 0 | P18: =+D18+15 -> 15
M23: mm / dd / aa | N23: =IF(K23="CUMPLE",0,1) -> 1 | P23: =+D22-30 -> -30 | Q23: 30 días anteriores
M24: mm / dd / aa | N24: =IF(K24="CUMPLE",0,1) -> 1 | P24: =+D24+15 -> 15 | Q24: 10 días hábiles
M25: mm / dd / aa | N25: =IF(K25="CUMPLE",0,1) -> 1 | P25: =+D25+15 -> 15
M30: mm / dd / aa | N30: =IF(K30="CUMPLE",0,1) -> 1 | P30: =+D29-30 -> -30 | Q30: 30 días anteriores
M31: mm / dd / aa | N31: =IF(K31="CUMPLE",0,1) -> 1 | P31: =+D31+15 -> 15 | Q31: 10 días hábiles
M32: mm / dd / aa | N32: =IF(K32="CUMPLE",0,1) -> 1 | P32: =+D32+15 -> 15
C33: VERIFICACIÓN REQUISITOS HABILITANTES FINANCIEROS
A35: NUMERAL | B35: VERIFICACIÓN DE LA CAPACIDAD FINANCIERA | C35: DESCRIPCION | D35: CRITERIO | E35: ITEM | J35: INDICADOR | K35: RESULTADO VERIFICACION | L35: DOCUMENTO ELECTRONICO | M35: OBSERVACIONES
F36: 0.5 | G36: 0.5
A37: 4.2 | B37: 4.2,8.1. Capacidad Fiinanciera | C37: Capital de Trabajo >= 25% POE | D37: =+'CONSOLIDADO FINANCIERO'!$D$7*25% -> 9.1250251e+09 | E37: Activo Corriente | J37: =+(((F37*F36)+(G37*G36)+(H37*H36)+(I37*I36)))-(((F38*F36)+(G38*G36)+(H38*H36)+(I38*I36))) -> 0 | K37: =IF(J37>=D37,"CUMPLE","NO CUMPLE") -> NO CUMPLE | L37: Registro Único de Proponentes | M37: El proponente cumple con los indicadores establecidos en las regals de participación de conformidad con lo estabecido en el numeral 4.2 de las reglas de participación | N37: =IF(K37="CUMPLE",0,1) -> 1
E38: Pasivo Corriente | G38: 0
A39: 4.2 | B39: =B37 -> 4.2,8.1. Capacidad Fiinanciera | C39: Índice de Liquidez | D39: 1.4 | E39: Activo Corriente | F39: =+F37 -> 0 | G39: =+G37 -> 0 | J39: =+(((F39*F36)+(G39*G36)+(H39*H36)+(I39*I36)))/(((F40*F36)+(G40*G36)+(H40*H36)+(I40*I36))) -> #DIV/0! | K39: =IF(J39>=D39,"CUMPLE","NO CUMPLE") -> #DIV/0! | L39: Registro Único de Proponentes | N39: =IF(K39="CUMPLE",0,1) -> #DIV/0!
E40: Pasivo Corriente | F40: =+F38 -> 0 | G40: =+G38 -> 0
A41: 4.2 | B41: =B39 -> 4.2,8.1. Capacidad Fiinanciera | C41: Nivel de Endeudamiento | D41: 0.7 | E41: Pasivo Total | G41: 0 | J41: =(((F41*F36)+(G41*G36)+(H41*H36)+(I41*I36)))/(((F42*F36)+(G42*G36)+(H42*H36)+(I42*I36))) -> #DIV/0! | K41: =IF(J41<=D41,"CUMPLE","NO CUMPLE") -> #DIV/0! | L41: Registro Único de Proponentes | N41: =IF(K41="CUMPLE",0,1) -> #DIV/0!
E42: Activo Total
A43: 4.2 | B43: =B41 -> 4.2,8.1. Capacidad Fiinanciera | C43: Razón de Cobertura de Intereses | D43: 1.6 | E43: Utilidad Operacional | G43: 0 | J43: =(((F43*F36)+(G43*G36)+(H43*H36)+(I43*I36)))/(((F44*F36)+(G44*G36)+(H44*H36)+(I44*I36))) -> #DIV/0! | K43: =IF(J43>=D43,"CUMPLE","NO CUMPLE") -> #DIV/0! | L43: Registro Único de Proponentes | N43: =IF(K43="CUMPLE",0,1) -> #DIV/0!
E44: Gastos de Intereses | G44: 0
