Workbook

Sheet UNITARIOS (MAX 60 PTS)
B2: VALOR PROPUESTA ECONÓMICA | L2: SI | M2: NO
B4: Nombre Oferente | C4: Valor Propuesta económica | D4: ¿Propuesta Habilitada? | F4: Número de Ofertas Habilitadas (n) | I4: Número de veces que se incluye el valor oficial (a)
A5: 1 | B5: CONSORCIO MABRIL 90 2023 | C5: 11256241 | D5: SI | F5: 1 | G5: - | H5: 3 | I5: 1
A6: 2 | B6: ESCALA 7 SAS AN | C6: 11622498 | D6: SI | F6: 4 | G6: - | H6: 6 | I6: 2
A7: 3 | B7: Consorcio Rionegro C&R | C7: 11493608 | D7: SI | F7: 7 | G7: - | H7: 9 | I7: 3 | R7: 1
A8: 4 | B8: SERARCO SAS | D8: NO | F8: 10 | G8: - | H8: 12 | I8: 4 | M8: 1 | N8: 77066075 | R8: 2
A9: 5 | B9: SERPEC INGENIEROS | D9: NO | F9: 13 | G9: - | H9: 15 | I9: 5 | M9: 2 | N9: 77142654 | R9: 3
A10: 6 | B10: SU MANO DERECHA | C10: 11090218 | D10: SI | F10: 16 | G10: - | H10: 18 | I10: 6 | M10: 3 | N10: 77761766 | R10: 4
A11: 7 | B11: CONSORCIO MANTENIMIENTO M&X | D11: NO
A12: 8 | B12: LIMACOR MY S.A.S | C12: 11852090 | D12: SI
A13: 9 | B13: EULHYN MAYRELL CORREA ORTIZ | D13: NO
A14: 10 | B14: UNION TEMPORAL PYT 2023 | C14: 11581083 | D14: SI
A15: 11 | B15: CONSORCIO OBRAS LOCATIVAS | D15: NO
A16: 12 | B16: MONICA LOPEZ | D16: NO
A17: 13 | B17: AIA SAS | D17: NO
A18: 14 | B18: CONSORCIO SYNARCA | C18: 11282014 | D18: SI
A19: 15 | B19: CONSTRUVALORES SAS | C19: 11717185 | D19: SI
A20: 16 | B20: CILJSAS | C20: 11412454 | D20: SI
A21: 17 | B21: G&V ASOCIADOS S.A.S | D21: NO
A22: 18 | B22: CONSORCIO INTERSALINAS | C22: 11641298 | D22: SI
A23: 19 | B23: FREDY SAUL GRIMALDOS MURALLAS | C23: 9284850 | D23: SI
A24: 20 | B24: arqos | D24: NO
A25: 21 | B25: CONSORCIO LJ | C25: 11727407 | D25: SI
A26: 22 | B26: SOLTEC PROYECTOS DE INGENIERÍA S.A.S | D26: NO
B28: =F4&"=" -> Número de Ofertas Habilitadas (n)= | C28: =COUNTIF(D5:D26,"=SI") -> 12
B30: =I4&"=" -> Número de veces que se incluye el valor oficial (a)= | C30: =VLOOKUP(C28,$F$5:$I$11,4,TRUE) -> 4 | F30: RANGO (Inclusive) | I30: Alternativa de Evaluación | J30: Número
F31: 0 | G31: A | H31: 0.24 | I31: MEDIANA CON VALOR ABSOLUTO | J31: 1 | K31: =(MEDIAN(C6:C22)) -> 11581083
B32: VALOR TRM = | C32: 4092.33 | F32: 0.25 | G32: A | H32: 0.49 | I32: MEDIA GEOMÉTRICA | J32: 2 | K32: =GEOMEAN(C5:C26) -> 11309239 | L32: =(C5*C6*C7*C10*C12*C14*C18*C19*C20*C22*C23*C24*C25)^(1/13) -> 0
C33: =MID(C32,FIND(",",C32),LEN(C32)-FIND(",",C32)+1)*1 -> 0.33 | F33: 0.5 | G33: A | H33: 0.74 | I33: MEDIA ARITMÉTICA BAJA | J33: 3 | K33: =((MIN(C5:C22))+(K31))/(2) -> 11335650
B34: ALTERNATIVA DE EVULUACIÓN = | C34: =VLOOKUP(C33,$F$31:$I$34,4,TRUE) -> MEDIA GEOMÉTRICA | F34: 0.75 | G34: A | H34: 0.99 | I34: MENOR VALOR | J34: 4 | K34: =((MIN(C5:C10))) -> 11090218
B36: Valor del proceso = | C36: 310877723
B38: MEDIANA CON VALOR ABSOLUTO | C38: =IF($C$34=B38,K31,"N/A") -> N/A
B39: MEDIA GEOMÉTRICA | C39: =IF($C$34=B39,K32,"N/A") -> 11309239
B40: MEDIA ARITMÉTICA BAJA | C40: =IF($C$34=B40,HARMEAN(C45:C60),"N/A") -> N/A | F40: =+SUM(C38:C41) -> 11309239
B41: MENOR VALOR | C41: =IF($C$34=B41,(K34),"N/A") -> N/A
B42: ASIGNACIÓN PUNTAJES
B44: Nombre Oferente | C44: Valor Propuesta económica | D44: PUNTAJE
A45: 1 | B45: =B5 -> CONSORCIO MABRIL 90 2023 | C45: =IF(D5="NO","NO HABILITADA",C5) -> 11256241 | D45: =IFERROR(((1-ABS(($F$40-C45)/$F$40))*60.5),"-") -> 60.216478
A46: 2 | B46: =B6 -> ESCALA 7 SAS AN | C46: =IF(D6="NO","NO HABILITADA",C6) -> 11622498 | D46: =IFERROR(((1-ABS(($F$40-C46)/$F$40))*60.5),"-") -> 58.824188
A47: 3 | B47: =B7 -> Consorcio Rionegro C&R | C47: =IF(D7="NO","NO HABILITADA",C7) -> 11493608 | D47: =IFERROR(((1-ABS(($F$40-C47)/$F$40))*60.5),"-") -> 59.5137
...

Sheet Puntaje Adicional (MAX 40 PTS)
B3: Contratista | C3: FACTOR DE CALIDAD | D3: FACTORES DE SOSTENIBILIDAD TÉCNICO AMBIENTAL AGREGADO | E3: APOYO A LA INDUSTRIA NACIONAL | F3: CRITERIOS DIFERENCIALES PARA EMPRENDIMIENTOS Y EMPRESAS DE MUJERESEN EL SISTEMA DE COMPRAS PÚBLICAS | G3: CRITERIOS DIFERENCIALES PARA MIPYME DOMICILIADA EN COLOMBIA | H3: TOTAL | I3: X
C4: 10 | D4: 9 | E4: 20 | F4: 0.25 | G4: 0.25 | H4: =SUM(C4:G4) -> 39.5
A5: ='UNITARIOS (MAX 60 PTS)'!A45 -> 1 | B5: ='UNITARIOS (MAX 60 PTS)'!B45 -> CONSORCIO MABRIL 90 2023 | C5: 10 | D5: 9 | E5: 20 | F5: 0 | G5: 0.25 | H5: =SUM(C5:G5) -> 39.25
A6: ='UNITARIOS (MAX 60 PTS)'!A46 -> 2 | B6: ='UNITARIOS (MAX 60 PTS)'!B46 -> ESCALA 7 SAS AN | C6: 10 | D6: 9 | E6: 20 | F6: 0.25 | G6: 0.25 | H6: =SUM(C6:G6) -> 39.5
A7: ='UNITARIOS (MAX 60 PTS)'!A47 -> 3 | B7: ='UNITARIOS (MAX 60 PTS)'!B47 -> Consorcio Rionegro C&R | C7: 10 | D7: 9 | E7: 0 | F7: 0.25 | G7: 0.25 | H7: =SUM(C7:G7) -> 19.5
A8: ='UNITARIOS (MAX 60 PTS)'!A48 -> 4 | B8: ='UNITARIOS (MAX 60 PTS)'!B48 -> SERARCO SAS
A9: ='UNITARIOS (MAX 60 PTS)'!A49 -> 5 | B9: ='UNITARIOS (MAX 60 PTS)'!B49 -> SERPEC INGENIEROS
A10: ='UNITARIOS (MAX 60 PTS)'!A50 -> 6 | B10: ='UNITARIOS (MAX 60 PTS)'!B50 -> SU MANO DERECHA | C10: 10 | D10: 9 | E10: 20 | F10: 0.25 | G10: 0.25 | H10: =SUM(C10:G10) -> 39.5
A11: ='UNITARIOS (MAX 60 PTS)'!A51 -> 7 | B11: ='UNITARIOS (MAX 60 PTS)'!B51 -> CONSORCIO MANTENIMIENTO M&X
A12: ='UNITARIOS (MAX 60 PTS)'!A52 -> 8 | B12: ='UNITARIOS (MAX 60 PTS)'!B52 -> LIMACOR MY S.A.S | C12: 10 | D12: 9 | E12: 20 | F12: 0.25 | G12: 0.25 | H12: =SUM(C12:G12) -> 39.5
A13: ='UNITARIOS (MAX 60 PTS)'!A53 -> 9 | B13: ='UNITARIOS (MAX 60 PTS)'!B53 -> EULHYN MAYRELL CORREA ORTIZ
A14: ='UNITARIOS (MAX 60 PTS)'!A54 -> 10 | B14: ='UNITARIOS (MAX 60 PTS)'!B54 -> UNION TEMPORAL PYT 2023 | C14: 10 | D14: 9 | E14: 20 | F14: 0.25 | G14: 0.25 | H14: =SUM(C14:G14) -> 39.5
A15: ='UNITARIOS (MAX 60 PTS)'!A55 -> 11 | B15: ='UNITARIOS (MAX 60 PTS)'!B55 -> CONSORCIO OBRAS LOCATIVAS
A16: ='UNITARIOS (MAX 60 PTS)'!A56 -> 12 | B16: ='UNITARIOS (MAX 60 PTS)'!B56 -> MONICA LOPEZ
A17: ='UNITARIOS (MAX 60 PTS)'!A57 -> 13 | B17: ='UNITARIOS (MAX 60 PTS)'!B57 -> AIA SAS
A18: ='UNITARIOS (MAX 60 PTS)'!A58 -> 14 | B18: ='UNITARIOS (MAX 60 PTS)'!B58 -> CONSORCIO SYNARCA | C18: 10 | D18: 9 | E18: 0 | F18: 0.25 | G18: 0.25 | H18: =SUM(C18:G18) -> 19.5
A19: ='UNITARIOS (MAX 60 PTS)'!A59 -> 15 | B19: ='UNITARIOS (MAX 60 PTS)'!B59 -> CONSTRUVALORES SAS | C19: 10 | D19: 9 | E19: 20 | F19: 0.25 | G19: 0.25 | H19: =SUM(C19:G19) -> 39.5
A20: ='UNITARIOS (MAX 60 PTS)'!A60 -> 16 | B20: ='UNITARIOS (MAX 60 PTS)'!B60 -> CILJSAS | C20: 10 | D20: 9 | E20: 20 | F20: 0.25 | G20: 0.25 | H20: =SUM(C20:G20) -> 39.5
A21: ='UNITARIOS (MAX 60 PTS)'!A61 -> 17 | B21: ='UNITARIOS (MAX 60 PTS)'!B61 -> G&V ASOCIADOS S.A.S
A22: ='UNITARIOS (MAX 60 PTS)'!A62 -> 18 | B22: ='UNITARIOS (MAX 60 PTS)'!B62 -> CONSORCIO INTERSALINAS | C22: 10 | D22: 9 | E22: 20 | F22: 0 | G22: 0.25 | H22: =SUM(C22:G22) -> 39.25
A23: ='UNITARIOS (MAX 60 PTS)'!A63 -> 19 | B23: ='UNITARIOS (MAX 60 PTS)'!B63 -> FREDY SAUL GRIMALDOS MURALLAS | C23: 10 | D23: 9 | E23: 20 | F23: 0 | G23: 0.25 | H23: =SUM(C23:G23) -> 39.25
A24: ='UNITARIOS (MAX 60 PTS)'!A64 -> 20 | B24: ='UNITARIOS (MAX 60 PTS)'!B64 -> arqos
A25: ='UNITARIOS (MAX 60 PTS)'!A65 -> 21 | B25: ='UNITARIOS (MAX 60 PTS)'!B65 -> CONSORCIO LJ | C25: 10 | D25: 9 | E25: 0 | F25: 0 | G25: 0.25 | H25: =SUM(C25:G25) -> 19.25
A26: ='UNITARIOS (MAX 60 PTS)'!A66 -> 22 | B26: ='UNITARIOS (MAX 60 PTS)'!B66 -> SOLTEC PROYECTOS DE INGENIERÍA S.A.S

Sheet TOTAL
C2: UNITARIOS (Max 60,5 Pts) | D2: Puntaje Adicional (Max 39,5 Pts) | E2: TOTAL
E3: 100 PTOS
B4: ='Puntaje Adicional (MAX 40 PTS)'!B5 -> CONSORCIO MABRIL 90 2023 | C4: =+'UNITARIOS (MAX 60 PTS)'!D45 -> 60.216478 | D4: ='Puntaje Adicional (MAX 40 PTS)'!H5 -> 39.25 | E4: =+SUM(C4:D4) -> 99.466478
B5: ='Puntaje Adicional (MAX 40 PTS)'!B20 -> CILJSAS | C5: =+'UNITARIOS (MAX 60 PTS)'!D60 -> 59.94784 | D5: ='Puntaje Adicional (MAX 40 PTS)'!H20 -> 39.5 | E5: =+SUM(C5:D5) -> 99.44784
B6: ='Puntaje Adicional (MAX 40 PTS)'!B10 -> SU MANO DERECHA | C6: =+'UNITARIOS (MAX 60 PTS)'!D50 -> 59.32832 | D6: ='Puntaje Adicional (MAX 40 PTS)'!H10 -> 39.5 | E6: =+SUM(C6:D6) -> 98.82832
B7: ='Puntaje Adicional (MAX 40 PTS)'!B14 -> UNION TEMPORAL PYT 2023 | C7: =+'UNITARIOS (MAX 60 PTS)'!D54 -> 59.045742 | D7: ='Puntaje Adicional (MAX 40 PTS)'!H14 -> 39.5 | E7: =+SUM(C7:D7) -> 98.545742
B8: ='Puntaje Adicional (MAX 40 PTS)'!B6 -> ESCALA 7 SAS AN | C8: =+'UNITARIOS (MAX 60 PTS)'!D46 -> 58.824188 | D8: ='Puntaje Adicional (MAX 40 PTS)'!H6 -> 39.5 | E8: =+SUM(C8:D8) -> 98.324188
B9: ='Puntaje Adicional (MAX 40 PTS)'!B22 -> CONSORCIO INTERSALINAS | C9: =+'UNITARIOS (MAX 60 PTS)'!D62 -> 58.723615 | D9: ='Puntaje Adicional (MAX 40 PTS)'!H22 -> 39.25 | E9: =+SUM(C9:D9) -> 97.973615
B10: ='Puntaje Adicional (MAX 40 PTS)'!B19 -> CONSTRUVALORES SAS | C10: =+'UNITARIOS (MAX 60 PTS)'!D59 -> 58.31765 | D10: ='Puntaje Adicional (MAX 40 PTS)'!H19 -> 39.5 | E10: =+SUM(C10:D10) -> 97.81765
B11: ='Puntaje Adicional (MAX 40 PTS)'!B12 -> LIMACOR MY S.A.S | C11: =+'UNITARIOS (MAX 60 PTS)'!D52 -> 57.59596 | D11: ='Puntaje Adicional (MAX 40 PTS)'!H12 -> 39.5 | E11: =+SUM(C11:D11) -> 97.09596
B12: ='Puntaje Adicional (MAX 40 PTS)'!B23 -> FREDY SAUL GRIMALDOS MURALLAS | C12: =+'UNITARIOS (MAX 60 PTS)'!D63 -> 49.670311 | D12: ='Puntaje Adicional (MAX 40 PTS)'!H23 -> 39.25 | E12: =+SUM(C12:D12) -> 88.920311
B13: ='Puntaje Adicional (MAX 40 PTS)'!B18 -> CONSORCIO SYNARCA | C13: =+'UNITARIOS (MAX 60 PTS)'!D58 -> 60.354357 | D13: ='Puntaje Adicional (MAX 40 PTS)'!H18 -> 19.5 | E13: =+SUM(C13:D13) -> 79.854357
B14: ='Puntaje Adicional (MAX 40 PTS)'!B7 -> Consorcio Rionegro C&R | C14: =+'UNITARIOS (MAX 60 PTS)'!D47 -> 59.5137 | D14: ='Puntaje Adicional (MAX 40 PTS)'!H7 -> 19.5 | E14: =+SUM(C14:D14) -> 79.0137
B15: ='Puntaje Adicional (MAX 40 PTS)'!B25 -> CONSORCIO LJ | C15: =+'UNITARIOS (MAX 60 PTS)'!D65 -> 58.262967 | D15: ='Puntaje Adicional (MAX 40 PTS)'!H25 -> 19.25 | E15: =+SUM(C15:D15) -> 77.512967
B16: ='Puntaje Adicional (MAX 40 PTS)'!B8 -> SERARCO SAS | C16: =+'UNITARIOS (MAX 60 PTS)'!D48 -> - | D16: ='Puntaje Adicional (MAX 40 PTS)'!H8 -> 0 | E16: =+SUM(C16:D16) -> 0
B17: ='Puntaje Adicional (MAX 40 PTS)'!B9 -> SERPEC INGENIEROS | C17: =+'UNITARIOS (MAX 60 PTS)'!D49 -> - | D17: ='Puntaje Adicional (MAX 40 PTS)'!H9 -> 0 | E17: =+SUM(C17:D17) -> 0
B18: ='Puntaje Adicional (MAX 40 PTS)'!B11 -> CONSORCIO MANTENIMIENTO M&X | C18: =+'UNITARIOS (MAX 60 PTS)'!D51 -> - | D18: ='Puntaje Adicional (MAX 40 PTS)'!H11 -> 0 | E18: =+SUM(C18:D18) -> 0
B19: ='Puntaje Adicional (MAX 40 PTS)'!B13 -> EULHYN MAYRELL CORREA ORTIZ | C19: =+'UNITARIOS (MAX 60 PTS)'!D53 -> - | D19: ='Puntaje Adicional (MAX 40 PTS)'!H13 -> 0 | E19: =+SUM(C19:D19) -> 0
B20: ='Puntaje Adicional (MAX 40 PTS)'!B15 -> CONSORCIO OBRAS LOCATIVAS | C20: =+'UNITARIOS (MAX 60 PTS)'!D55 -> - | D20: ='Puntaje Adicional (MAX 40 PTS)'!H15 -> 0 | E20: =+SUM(C20:D20) -> 0
B21: ='Puntaje Adicional (MAX 40 PTS)'!B16 -> MONICA LOPEZ | C21: =+'UNITARIOS (MAX 60 PTS)'!D56 -> - | D21: ='Puntaje Adicional (MAX 40 PTS)'!H16 -> 0 | E21: =+SUM(C21:D21) -> 0
B22: ='Puntaje Adicional (MAX 40 PTS)'!B17 -> AIA SAS | C22: =+'UNITARIOS (MAX 60 PTS)'!D57 -> - | D22: ='Puntaje Adicional (MAX 40 PTS)'!H17 -> 0 | E22: =+SUM(C22:D22) -> 0
B23: ='Puntaje Adicional (MAX 40 PTS)'!B21 -> G&V ASOCIADOS S.A.S | C23: =+'UNITARIOS (MAX 60 PTS)'!D61 -> - | D23: ='Puntaje Adicional (MAX 40 PTS)'!H21 -> 0 | E23: =+SUM(C23:D23) -> 0
B24: ='Puntaje Adicional (MAX 40 PTS)'!B24 -> arqos | C24: =+'UNITARIOS (MAX 60 PTS)'!D64 -> - | D24: ='Puntaje Adicional (MAX 40 PTS)'!H24 -> 0 | E24: =+SUM(C24:D24) -> 0
B25: ='Puntaje Adicional (MAX 40 PTS)'!B26 -> SOLTEC PROYECTOS DE INGENIERÍA S.A.S | C25: =+'UNITARIOS (MAX 60 PTS)'!D66 -> - | D25: ='Puntaje Adicional (MAX 40 PTS)'!H26 -> 0 | E25: =+SUM(C25:D25) -> 0
B28: PROPONENTE GANADOR | C28: =INDEX($B$4:$E$25,MATCH(MAX(E4:E25),$E$4:$E$25,0),1) -> CONSORCIO MABRIL 90 2023

Sheet ORDEN DE ELEGIBILIDAD
A1: ORDEN | B1: OFERENTE | C1: UNITARIOS (Max 60,5 Pts) | D1: Puntaje Adicional (Max 39,5 Pts) | E1: TOTAL
A2: 1 | B2: CONSORCIO MABRIL 90 2023 | C2: 60.216478 | D2: 39.25 | E2: 99.466478
A3: 2 | B3: CILJSAS | C3: 59.94784 | D3: 39.5 | E3: 99.44784
A4: 3 | B4: SU MANO DERECHA | C4: 59.32832 | D4: 39.5 | E4: 98.82832
A5: 4 | B5: UNION TEMPORAL PYT 2023 | C5: 59.045742 | D5: 39.5 | E5: 98.545742
A6: 5 | B6: ESCALA 7 SAS AN | C6: 58.824188 | D6: 39.5 | E6: 98.324188
A7: 6 | B7: CONSORCIO INTERSALINAS | C7: 58.723615 | D7: 39.25 | E7: 97.973615
A8: 7 | B8: CONSTRUVALORES SAS | C8: 58.31765 | D8: 39.5 | E8: 97.81765
A9: 8 | B9: LIMACOR MY S.A.S | C9: 57.59596 | D9: 39.5 | E9: 97.09596
A10: 9 | B10: FREDY SAUL GRIMALDOS MURALLAS | C10: 49.670311 | D10: 39.25 | E10: 88.920311
A11: 10 | B11: CONSORCIO SYNARCA | C11: 60.354357 | D11: 19.5 | E11: 79.854357
A12: 11 | B12: Consorcio Rionegro C&R | C12: 59.5137 | D12: 19.5 | E12: 79.0137
A13: 12 | B13: CONSORCIO LJ | C13: 58.262967 | D13: 19.25 | E13: 77.512967
