Workbook
Name a1_Y1: [1]CONFIGURACIÓN!$D$17
Name a1_Y2: [1]CONFIGURACIÓN!$E$17
Name a10_Y10: [1]CONFIGURACIÓN!$M$26
Name a10_Y11: [1]CONFIGURACIÓN!$N$26
Name a2_Y2: [1]CONFIGURACIÓN!$E$18
Name a2_Y3: [1]CONFIGURACIÓN!$F$18
Name a3_Y3: [1]CONFIGURACIÓN!$F$19
Name a3_Y4: [1]CONFIGURACIÓN!$G$19
Name a4_Y4: [1]CONFIGURACIÓN!$G$20
Name a4_Y5: [1]CONFIGURACIÓN!$H$20
Name a5_Y5: [1]CONFIGURACIÓN!$H$21
Name a5_Y6: [1]CONFIGURACIÓN!$I$21
Name a6_Y6: [1]CONFIGURACIÓN!$I$22
Name a6_Y7: [1]CONFIGURACIÓN!$J$22
Name a7_Y7: [1]CONFIGURACIÓN!$J$23
Name a7_Y8: [1]CONFIGURACIÓN!$K$23
Name a8_Y8: [1]CONFIGURACIÓN!$K$24
Name a8_Y9: [1]CONFIGURACIÓN!$L$24
Name a9_Y10: [1]CONFIGURACIÓN!$M$25
Name a9_Y9: [1]CONFIGURACIÓN!$L$25
Name año1: [1]CONFIGURACIÓN!$F$9
Name CALENDARIO: [1]CALENDARIO!$B$6:$H$161
Name Decision: [2]lista!$A$6:$A$7
Name EUR: '[1]DATOS ENTRADA'!$E$2
Name fecha_fin_servicio: [1]CONFIGURACIÓN!$C$10
Name fecha_inicio_servicio: [1]CONFIGURACIÓN!$C$9
Name horas_jornada: [1]CONFIGURACIÓN!$C$12
Name horas_ubicacion1: [1]CONFIGURACIÓN!$C$47
Name horas_ubicacion2: [1]CONFIGURACIÓN!$C$48
Name horas_ubicacion3: [1]CONFIGURACIÓN!$C$49
Name horas_ubicacion4: [1]CONFIGURACIÓN!$C$50
Name horas_ubicacion5: [1]CONFIGURACIÓN!$C$51
Name horas_ubicacion6: [1]CONFIGURACIÓN!$C$52
Name horas_ubicacion7: [1]CONFIGURACIÓN!$C$53
Name Info_Prazo_do_contrato: [3]Seletor!$C$13
Name lista_hnp: '[1]COSTES NO SSPP'!$B$24:$B$33
Name lista_lineas_reparto: '[1]HW&SW'!$C$314:$C$324
Name lista_localizaciones: [1]CONFIGURACIÓN!$B$47:$B$53
Name lista_paises: '[1]DATOS MAESTROS'!$B$13:$B$39
Name lista_perfiles_esp: [1]TASAS!$D$7:$D$198
Name lista_perfiles_resto: [1]TASAS!$B$330:$B$450
Name margen: '[1]Cash Flow (COP)'!$O$68
Name markup_infra: [1]DASHBOARD!$D$20
Name mes_inicio_servicio: MONTH([1]CONFIGURACIÓN!$C$9)
Name meses_a1: [1]CONFIGURACIÓN!$D$29
Name meses_a10: [1]CONFIGURACIÓN!$M$29
Name meses_a11: [1]CONFIGURACIÓN!$N$29
Name meses_a2: [1]CONFIGURACIÓN!$E$29
Name meses_a3: [1]CONFIGURACIÓN!$F$29
Name meses_a4: [1]CONFIGURACIÓN!$G$29
Name meses_a5: [1]CONFIGURACIÓN!$H$29
Name meses_a6: [1]CONFIGURACIÓN!$I$29
Name meses_a7: [1]CONFIGURACIÓN!$J$29
Name meses_a8: [1]CONFIGURACIÓN!$K$29
Name meses_a9: [1]CONFIGURACIÓN!$L$29
Name meses_servicio: [1]CONFIGURACIÓN!$C$8
Name MTC: '[4]Cons Cotizac - Examenes médicos'!$M$12:$R$12
Name PARTICIPACION: [2]lista!$A$15:$A$17
Name penal_1: [1]PARÁMETROS!$C$70
Name penal_10: [1]PARÁMETROS!$C$79

Sheet LISTADO INSUMOS
B2: SALARIO MINIMO | C2: =1160000+140606 -> 1300606
B4: MANO DE OBRA TRABAJADOR
B5: CARGO | C5: JORNAL | D5: PRESTACIONES | E5: TOTAL DIARIO | F5: UNIDAD DE MEDIDA | G5: VALOR UNITARIO HORA
B6: AYUDANTE ARBAÑILERIA | C6: =+C2/30 -> 43353.533 | D6: 1.8 | E6: =+C6*D6 -> 78036.36 | F6: HORA | G6: =+E6/8 -> 9754.545
B7: OFICIAL ALBAÑILERIA | C7: =+(C2+(C2*80%))/30 -> 78036.36 | D7: 1.8 | E7: =+C7*D7 -> 140465.45 | F7: HORA | G7: =+E7/8 -> 17558.181
B8: AYUDANTE ELÉCTRICO | C8: =+(C2+(C2*15%))/30 -> 49856.563 | D8: 1.8 | E8: =+C8*D8 -> 89741.814 | F8: HORA | G8: =+E8/8 -> 11217.727
B9: OFICIAL ELECTRICO | C9: =+(C2+(C2*85%))/30 -> 80204.037 | D9: 1.8 | E9: =+C9*D9 -> 144367.27 | F9: HORA | G9: =+E9/8 -> 18045.908
B10: AYUDANTE METALISTERIA | C10: =+(C2+(C2*15%))/30 -> 49856.563 | D10: 1.8 | E10: =+C10*D10 -> 89741.814 | F10: HORA | G10: =+E10/8 -> 11217.727
B11: OFICIAL METALISTERIA | C11: =+(C2+(C2*85%))/30 -> 80204.037 | D11: 1.8 | E11: =+C11*D11 -> 144367.27 | F11: HORA | G11: =+E11/8 -> 18045.908
B12: AYUDANTE PINTURA | C12: =+(C2+(C2*15%))/30 -> 49856.563 | D12: 1.8 | E12: =+C12*D12 -> 89741.814 | F12: HORA | G12: =+E12/8 -> 11217.727
B13: OFICIAL PINTURA | C13: =+(C2+(C2*90%))/30 -> 82371.713 | D13: 1.8 | E13: =+C13*D13 -> 148269.08 | F13: HORA | G13: =+E13/8 -> 18533.636
B15: HERRAMIENTA MENOR
B16: HERRAMIENTA MENOR | C16: =180000/100 -> 1800
B18: LISTA DE EQUIPOS
B19: DESCRIPCIÓN EQUIPO | C19: UNIDAD DE MEDIDA | D19: TARIFA OPERATIVA
B20: VOLQUETA 5 M3 | C20: VJE | D20: 450000
B21: ANDAMIO METALICO TUBULAR | C21: U/D | D21: 3500
B22: CRUCETA ANDAMIO | C22: DIA | D22: 200
B23: HIDROLAVADORA CHORRO PRESION-AUTONOMA | C23: DIA | D23: 250000
B24: EQUIPO DE SOLDADURA | C24: DIA | D24: 60000
B25: EQUIPO OXICORTE | C25: DIA | D25: 70000
B26: ROTOMARTILLO 8-10 JLS | C26: DIA | D26: 70000
B27: CORTADORA CERAMICA | C27: DIA | D27: 32000
B28: VIBROCOMPACTADOR TIPO RANA | C28: DIA | D28: 45000

Sheet CUADRO DE RENDIMIENTOS
D2: PLAZO DE EJECUCIÓN CONTRATUAL | F2: 60 DIAS CALENDARIO | G2: TIPOS DE CUADRILLA
G3: ALBAÑILERIA | I3: A
G4: ELECTRICA | I4: E
G5: METALISTERIA | I5: M
G6: PINTURA | I6: P
G7: HIDROSANITARIO | I7: H
G8: INGENIERO | I8: ING
B9: Ítem | C9: Descripción | D9: Unidad | E9: Cantidad | F9: Rendimientos | G9: TIPO DE CUADRILLA | H9: Oficiales Disponibles | I9: Ayudantes disponibles | J9: Duración calculada | K9: Duración calculada (dias) | L9: Duracion ajustada (dias)
C10: CUBIERTAS
B11: 1 | C11: PRELIMINARES
B12: 1.1 | C12: DESMONTE DE IMPERMEABILIZACIÓN DE CUBIERTAS EN CUALQUIER MATERIAL INCLUYE EQUIPOS, HERRAMIENTAS Y TODO LOS ELEMENTOS NECESARIOS PARA SU CORRECTA EJECUCION. | D12: M2 | E12: 580 | F12: 0.2 | G12: A | I12: 2 | J12: =+(E12*F12)/(H12+I12) -> 58 | K12: =+J12/8 -> 7.25 | L12: 8
B13: 1.2 | C13: DEMOLICION CIELO RASO EN CUALQUIER MATERIAL, INCLUYE EQUIPOS, HERRAMIENTAS Y TODO LOS ELEMENTOS NECESARIOS PARA SU CORRECTA EJECUCION. | D13: M2 | E13: 30 | F13: 0.1 | G13: A | I13: 2 | J13: =+(E13*F13)/(H13+I13) -> 1.5 | K13: =+J13/8 -> 0.1875 | L13: 1
B14: 1.3 | C14: RETIRO DE ESCOMBROS, INCLUYE CARGUE Y RETIRO A SITIO AUTORIZADO | D14: M3 | E14: 18 | F14: 2 | G14: A | I14: 2 | J14: =+(E14*F14)/(H14+I14) -> 18 | K14: =+J14/8 -> 2.25 | L14: 3
B15: 2 | C15: ACABADOS
B16: 2.1 | C16: CIELO FALSO EN LAMINA DE DRYWALL 12 MM TERMINADO. INCLUYE HERRAMIENTAS Y EQUIPOS NECESARIOS PARA SU CORRECTA INSTALACION. | D16: M2 | E16: 100 | F16: 0.55 | G16: A | H16: 1 | I16: 1 | J16: =+(E16*F16)/(H16+I16) -> 27.5 | K16: =+J16/8 -> 3.4375 | L16: 4
B17: 3 | C17: CUBIERTAS
B18: 3.1 | C18: IMPERMEABILIZACION CUBIERTAS (BICAPA MANTO ASFÁLTICO 6,2MM) | D18: M2 | E18: 580 | F18: 0.5 | G18: A | H18: 1 | I18: 2 | J18: =+(E18*F18)/(H18+I18) -> 96.666667 | K18: =+J18/8 -> 12.083333 | L18: 13
B19: 3.2 | C19: CIELO RASO ACRILICO DE 60 X1.20 CM | D19: UN | E19: 6 | F19: 0.35 | G19: A | H19: 1 | J19: =+(E19*F19)/(H19+I19) -> 2.1 | K19: =+J19/8 -> 0.2625 | L19: 1
B20: 3.3 | C20: FLANCHE EN LAMINA GALVANIZADA | D20: ML | E20: 60 | F20: 0.25 | G20: A | H20: 1 | I20: 1 | J20: =+(E20*F20)/(H20+I20) -> 7.5 | K20: =+J20/8 -> 0.9375 | L20: 1
B21: 3.4 | C21: LIMPIEZA Y MANTENIMIENTO DE CANALES Y BAJANTES. | D21: ML | E21: 190 | F21: 0.25 | G21: A | I21: 2 | J21: =+(E21*F21)/(H21+I21) -> 23.75 | K21: =+J21/8 -> 2.96875 | L21: 3
B22: 3.5 | C22: DESMONTE DE REMATE EN TEJA DE ZINC. (Caras laterales fachada occidental) . | D22: ML | E22: 21.16 | F22: 0.1 | G22: A | I22: 1 | J22: =+(E22*F22)/(H22+I22) -> 2.116 | K22: =+J22/8 -> 0.2645 | L22: 1
B23: 3.6 | C23: SUMINISTRO E INSTALACIÓN FLANCHE EN LAMINA ALVANIZADA CALIBRE 20; DS=25- TIPO A (Fachada occidental). Incluye accesorios de anclaje y tapas laterales. | D23: ML | E23: 21.16 | F23: 0.25 | G23: A | H23: 1 | I23: 1 | J23: =+(E23*F23)/(H23+I23) -> 2.645 | K23: =+J23/8 -> 0.330625 | L23: 1
B24: 3.7 | C24: SUMINISTRO E INSTALACIÓN FLANCHE EN LAMINA GALVANIZADA CALIBRE 20; DS=25 - TIPO B (Fachada norte). Incluye accesorios de anclaje y tapas laterales | D24: ML | E24: 47.82 | F24: 0.25 | G24: A | H24: 1 | I24: 1 | J24: =+(E24*F24)/(H24+I24) -> 5.9775 | K24: =+J24/8 -> 0.7471875 | L24: 1
B25: 3.8 | C25: Suministro de andamios certificados altura aproximada 14 m (6 secciones de 2 m). Incluye transporte. | D25: SEMANA | E25: 14 | F25: 1 | G25: A | I25: 1 | J25: =+(E25*F25)/(H25+I25) -> 14 | K25: =+J25/8 -> 1.75 | L25: 2
C26: PINTURA EN ALTURA
B27: 1 | C27: PRELIMINARES
B28: 1.1 | C28: PINTURA INTERIOR EN VINILO TIPO 1 CON 3 MANOS DE PINTURA, INCLUYE FILOS, DILATACIONES Y RESANES, ANDAMIOS Y HERRAMIENTAS NECESARIAS PARA SU CORRECTA EJECUCION. | D28: M2 | E28: 800 | F28: 0.4 | G28: P | H28: 2 | I28: 1 | J28: =+(E28*F28)/(H28+I28) -> 106.66667 | K28: =+J28/8 -> 13.333333 | L28: 14
B29: 1.2 | C29: APLICACION DE IMPERMEABILIZANTE ACRILICO EN MUROS PARA TANQUE SUBTERRANEO, CON DOS MANOS DE IMPRIMACION DEL PRODUCTO. INCLUYE TODOS LOS ELEMENTOS NECESARIOS PARA SU CORRECTA APLICACIÓN. | D29: M2 | E29: 45 | F29: 0.2 | G29: P | H29: 1 | I29: 1 | J29: =+(E29*F29)/(H29+I29) -> 4.5 | K29: =+J29/8 -> 0.5625 | L29: 1
C30: PISOS Y COCINA
B31: 1 | C31: PRELIMINARES
B32: 1.1 | C32: DEMOLICIONES DE ENCHAPES DE PISO Y MURO INCLUYE HERRAMIENTAS Y EQUIPOS NECESARIOS PARA SU CORRECTA INSTALACION. | D32: M2 | E32: 60 | F32: 0.35 | G32: A | I32: 1 | J32: =+(E32*F32)/(H32+I32) -> 21 | K32: =+J32/8 -> 2.625 | L32: 3
B33: 1.2 | C33: DEMOLICION MESÓN CORRIDO (INC. RETIRO DE SOBR.) INCLUYE EQUIPOS, HERRAMIENTAS Y TODO LOS ELEMENTOS NECESARIOS PARA SU CORRECTA EJECUCION. | D33: M2 | E33: 1 | F33: 0.35 | G33: A | I33: 1 | J33: =+(E33*F33)/(H33+I33) -> 0.35 | K33: =+J33/8 -> 0.04375 | L33: 1
B34: 1.3 | C34: RETIRO DE ESCOMBROS, INCLUYE CARGUE Y RETIRO A SITIO AUTORIZADO | D34: M3 | E34: 2 | F34: 2 | G34: A | I34: 1 | J34: =+(E34*F34)/(H34+I34) -> 4 | K34: =+J34/8 -> 0.5 | L34: 1
B35: 2 | C35: MUROS Y MUEBLES
B36: 2.1 | C36: SUMINISTRO E INSTALACION DE ENCHAPE CERAMICO PARA MUROS 25X43 CM COLOR A ELECCION ACABADO BRILLANTE INCLUYE PREGANTE CERAMICO, EMBOQUILLADO, HERRAMIENTAS Y EQUIPOS NECESARIOS PARA SU CORRECTA INSTALACION. | D36: M2 | E36: 60 | F36: 1.2 | G36: A | H36: 1 | I36: 1 | J36: =+(E36*F36)/(H36+I36) -> 36 | K36: =+J36/8 -> 4.5 | L36: 5
B37: 2.2 | C37: SUMINISTRO E INSTALACION DE MESON PARA COCINA EN ACERO INOXIDABLE CALIBRE 16 DE L = 1,80 M CON SALPICADERO. INCLUYE HERRAMIENTAS Y EQUIPOS NECESARIOS PARA SU CORRECTA INSTALACION. | D37: UN | E37: 1 | F37: 150 | G37: M | H37: 1 | I37: 1 | J37: =+(E37*F37)/(H37+I37) -> 75 | K37: =+J37/8 -> 9.375 | L37: 10
C38: HIDROSANITARIO
B39: 1 | C39: PRELIMINARES
B40: 1.1 | C40: DEMOLICIONES DE ENCHAPES DE PISO Y MURO INCLUYE HERRAMIENTAS Y EQUIPOS NECESARIOS PARA SU CORRECTA INSTALACION. | D40: M2 | E40: 60 | F40: 0.35 | G40: A | I40: 1 | J40: =+(E40*F40)/(H40+I40) -> 21 | K40: =+J40/8 -> 2.625 | L40: 3
B41: 1.2 | C41: DESMONTE DE LAVAMANOS Y SANITARIOS (INC. RETIRO DE SOBR.) INCLUYE HERRAMIENTAS Y EQUIPOS NECESARIOS PARA SU CORRECTA INSTALACION. | D41: UN | E41: 12 | F41: 1 | G41: A | I41: 1 | J41: =+(E41*F41)/(H41+I41) -> 12 | K41: =+J41/8 -> 1.5 | L41: 2
...

Sheet CRONOGRAMA
B2: ITEMS | C2: DIA 1 | D2: DIA 2 | E2: DIA 3 | F2: DIA 4 | G2: DIA 5 | H2: DIA 6 | I2: DIA 7 | J2: DIA 8 | K2: DIA 9 | L2: DIA 10 | M2: DIA 11 | N2: DIA 12 | O2: DIA 13 | P2: DIA 14 | Q2: DIA 15 | R2: DIA 16 | S2: DIA 17 | T2: DIA 18 | U2: DIA 19 | V2: DIA 20 | W2: DIA 21 | X2: DIA 22 | Y2: DIA 23 | Z2: DIA 24 | AA2: DIA 25 | AB2: DIA 26 | AC2: DIA 27 | AD2: DIA 28 | AE2: DIA 29 | AF2: DIA 30 | AG2: DIA 31 | AH2: DIA 32 | AI2: DIA 33 | AJ2: DIA 34 | AK2: DIA 35 | AL2: DIA 36 | AM2: DIA 37 | AN2: DIA 38 | AO2: DIA 39 | AP2: DIA 40 | AQ2: DIA 41 | AR2: DIA 42 | AS2: DIA 43 | AT2: DIA 44 | AU2: DIA 45 | AV2: DIA 46 | AW2: DIA 47 | AX2: DIA 48 | AY2: DIA 49 | AZ2: DIA 50 | BA2: DIA 51 | BB2: DIA 52 | BC2: DIA 53 | BD2: DIA 54 | BE2: DIA 55 | BF2: DIA 56 | BG2: DIA 57 | BH2: DIA 58 | BI2: DIA 59 | BJ2: DIA 60
B3: CUBIERTAS - FRENTE 1
B4: PINTURA EN ALTURA - FRENTE 2
B5: PISOS Y COCINA - FRENTE 3
B6: HIDROSANITARIO - FRENTE 4
B7: INSTALACIONES ELECTRICAS - FRENTE 5
B8: CARPINTERIA METALICA - FRENTE 6
B9: TOTAL DIAS OFERTADOS | C9: 47
B10: TOTAL CUADRILLAS OFERTADAS | C10: 6

Sheet CORTE No. 2
C2: República de Colombia Instituto Colombiano de Bienestar Familiar Cecilia de la Fuente de Lleras Regional Bogotá Grupo Administrativo
C3: CORTE No. 2
C4: OBJETO: “REALIZAR ADECUACIONES, REPARACIONES Y MEJORAS A LA PLANTA FISICA DEL INMUEBLE UBICADO EN LA DIRECCIÓN KRA. 30 NO. 12 – 35”
C6: EMPRESA: | D6: CONSORCIO JHS - CONSTRUCCIONES AL DIA | E6: NIT: | F6: NO APLICA | G6: FECHA: | H6: 45253
C7: CONTACTO: | D7: JORGE DAVID GONZALEZ MARTINEZ | E7: CARGO: | F7: REPRESENTANTE LEGAL | G7: TEL. CELULAR : | H7: 317 666 70 43
C8: E-MAIL: | D8: jhscolombianadeingenieria@gmail.com | E8: DIRECCIÓN: | F8: CALLE 22 # 1 - 64 TORR 2 AP. 302 | G8: TELEFONO FIJO: | H8: 601 729 36 39
C10: Instrucciones para el diligenciamiento del formato de cotización
C11: • Por favor diligenciar solo las celdas en AMARILLO. Se debem de llenar todas las casillas. • Revisar todos los requerimientos que se exponen en el documento "Ficha de Condiciones Técnicas Escenciales para la Prestación del Servicio y/o Entrega del Bien" (FCT) y Anexos; y formular su oferta en concordancia con este, garantizando que los bienes y/o servicios ofrecidos cumplan en su totalidad con las especificaciones técnicas descritas en la FCT. • Asignar el precio en las celdas de la columnas: "Precio unitario", asignar el porcentaje de ADMINISTRACIÓN, IMPREVISTOS Y UTULIDAD en la columna "Porcentaje %" • Los precios de la oferta deben ser expresados en PESOS COLOMBIANOS. • Los precios unitarios deberán aproximarse por exceso o por defecto al entero más cercano. Si la cifra no está aproximada y aparece con centavos, el ICBF aproximará al entero inferior. • No modificar o quitar ningún ítem o sub-ítem.
C12: Nota (1) Administración, imprevistos y Utilidad: Establecer los porcentajes que correspondan a estos tres factores. Con respecto a la Administración incluir los costos correspondientes a demás costos indirectos relacionados en el contrato entre ellos se deben tener en cuenta ICA, pólizas para la legalización del contrato, gastos de oficina, gravamen al impuesto financiero (4 x mil), estampillas y demas costos asociados.
C15: CUBIERTAS | K15: PRESENTE ACTA | N15: ACUMULADO ANTERIOR | Q15: ACUMULADO ACTUAL | AF15: MENOR | AG15: MEDIO | AH15: MAYOR
C16: DESCRIPCION ACTIVIDADES | F16: UNIDAD | G16: CANTIDAD | H16: Precio unitario | I16: valor total | K16: CANTIDAD | L16: VALOR | N16: CANTIDAD | O16: VALOR | Q16: CANTIDAD | R16: VR. EJECUTADO | AF16: 0.934 | AG16: 0.946 | AH16: 0.958
B17: 1 | C17: PRELIMINARES | H17: * | I17: *
B18: 1.1 | C18: DESMONTE DE IMPERMEABILIZACIÓN DE CUBIERTAS EN CUALQUIER MATERIAL INCLUYE EQUIPOS, HERRAMIENTAS Y TODO LOS ELEMENTOS NECESARIOS PARA SU CORRECTA EJECUCION. | F18: M2 | G18: 580 | H18: =+AF18*$AF$16 -> 26443.875 | I18: =G18*H18 -> 15337448 | K18: 0 | L18: =+K18*H18 -> 0 | N18: 471.861 | O18: =+N18*H18 -> 12477833 | Q18: =+N18+K18 -> 471.861 | R18: =+Q18*H18 -> 12477833 | S18: 1 | AF18: 28312.5 | AG18: =+AF18*G18 -> 16421250
B19: 1.2 | C19: DEMOLICION CIELO RASO EN CUALQUIER MATERIAL, INCLUYE EQUIPOS, HERRAMIENTAS Y TODO LOS ELEMENTOS NECESARIOS PARA SU CORRECTA EJECUCION. | F19: M2 | G19: 30 | H19: =+AF19*$AF$16 -> 102495.4 | I19: =G19*H19 -> 3074862.1 | K19: 0 | L19: =+K19*H19 -> 0 | N19: 15.276 | O19: =+N19*H19 -> 1565719.8 | Q19: =+N19+K19 -> 15.276 | R19: =+Q19*H19 -> 1565719.8 | S19: 1 | AF19: 109738.12 | AG19: =+AF19*G19 -> 3292143.6
B20: 1.3 | C20: RETIRO DE ESCOMBROS, INCLUYE CARGUE Y RETIRO A SITIO AUTORIZADO | F20: M3 | G20: 18 | H20: =+AF20*$AF$16 -> 98629.784 | I20: =G20*H20 -> 1775336.1 | K20: =+'CUBIERTA 1.3'!$G$43 -> 7 | L20: =+K20*H20 -> 690408.48 | N20: 0 | O20: =+N20*H20 -> 0 | Q20: =+N20+K20 -> 7 | R20: =+Q20*H20 -> 690408.48 | S20: 1 | AF20: 105599.34 | AG20: =+AF20*G20 -> 1900788.1
C21: SUBTOTAL | F21: * | G21: * | H21: * | I21: =SUM(I18:I20) -> 20187646 | K21: * | L21: =SUM(L18:L20) -> 690408.48 | O21: =SUM(O18:O20) -> 14043553 | R21: =SUM(R18:R20) -> 14733962 | AG21: =SUM(AG18:AG20) -> 21614182
B22: 2 | C22: ACABADOS | H22: * | I22: *
B23: 2.1 | C23: CIELO FALSO EN LAMINA DE DRYWALL 12 MM TERMINADO. INCLUYE HERRAMIENTAS Y EQUIPOS NECESARIOS PARA SU CORRECTA INSTALACION. | F23: M2 | G23: 100 | H23: =+AF23*$AG$16 -> 97445.256 | I23: =G23*H23 -> 9744525.6 | K23: =+'CUBIERTA 2.1'!G61 -> 27.912 | L23: =+K23*H23 -> 2719892 | N23: 0 | O23: =+N23*H23 -> 0 | Q23: =+N23+K23 -> 27.912 | R23: =+Q23*H23 -> 2719892 | S23: 1 | AF23: 103007.67 | AG23: =+AF23*G23 -> 10300767
C24: SUBTOTAL | F24: * | G24: * | H24: * | I24: =SUM(I23) -> 9744525.6 | K24: * | L24: =SUM(L23) -> 2719892 | O24: =SUM(O23) -> 0 | R24: =SUM(R23) -> 2719892 | AG24: =SUM(AG23) -> 10300767
B25: 3 | C25: CUBIERTAS | H25: * | I25: *
B26: 3.1 | C26: IMPERMEABILIZACION CUBIERTAS (BICAPA MANTO ASFÁLTICO 6,2MM) | F26: M2 | G26: =410+170 -> 580 | H26: =+AF26*$AG$16 -> 186155.88 | I26: =G26*H26 -> 1.0797041e+08 | K26: 0 | L26: =+K26*H26 -> 0 | N26: 621.661 | O26: =+N26*H26 -> 1.1572585e+08 | Q26: =+N26+K26 -> 621.661 | R26: =+Q26*H26 -> 1.1572585e+08 | S26: 1 | AF26: 196782.11 | AG26: =+AF26*G26 -> 1.1413362e+08
B27: 3.2 | C27: CIELO RASO ACRILICO DE 60 X1.20 CM | F27: UN | G27: 6 | H27: =+AF27*$AG$16 -> 152843.33 | I27: =G27*H27 -> 917059.97 | K27: =+'CUBIERTA 3.2'!G59 -> 9 | L27: =+K27*H27 -> 1375590 | N27: 0 | O27: =+N27*H27 -> 0 | Q27: =+N27+K27 -> 9 | R27: =+Q27*H27 -> 1375590 | S27: 1 | AF27: 161568 | AG27: =+AF27*G27 -> 969408
B28: 3.3 | C28: FLANCHE EN LAMINA GALVANIZADA | F28: ML | G28: 60 | H28: =+AF28*$AG$16 -> 79815.202 | I28: =G28*H28 -> 4788912.2 | K28: =+'CUBIERTA 3.3'!G65 -> 5.2 | L28: =+K28*H28 -> 415039.05 | N28: 0 | O28: =+N28*H28 -> 0 | Q28: =+N28+K28 -> 5.2 | R28: =+Q28*H28 -> 415039.05 | S28: 1 | AF28: 84371.25 | AG28: =+AF28*G28 -> 5062275
B29: 3.4 | C29: LIMPIEZA Y MANTENIMIENTO DE CANALES Y BAJANTES. | F29: ML | G29: =50+20+50+20+50 -> 190 | H29: =+AF29*$AG$16 -> 23141.052 | I29: =G29*H29 -> 4396799.9 | K29: =+'CUBIERTA 3.4'!G67 -> 88.1 | L29: =+K29*H29 -> 2038726.7 | N29: 105.6 | O29: =+N29*H29 -> 2443695.1 | Q29: =+N29+K29 -> 193.7 | R29: =+Q29*H29 -> 4482421.8 | S29: 1 | AF29: 24462 | AG29: =+AF29*G29 -> 4647780
B30: 3.5 | C30: DESMONTE DE REMATE EN TEJA DE ZINC. (Caras laterales fachada occidental) . | F30: ML | G30: 21.16 | H30: =+AF30*$AG$16 -> 22176.841 | I30: =G30*H30 -> 469261.97 | K30: 0 | L30: =+K30*H30 -> 0 | N30: 0 | O30: =+N30*H30 -> 0 | Q30: =+N30+K30 -> 0 | R30: =+Q30*H30 -> 0 | T30: 1 | AF30: 23442.75 | AG30: =+AF30*G30 -> 496048.59
B31: 3.6 | C31: SUMINISTRO E INSTALACIÓN FLANCHE EN LAMINA ALVANIZADA CALIBRE 20; DS=25- TIPO A (Fachada occidental). Incluye accesorios de anclaje y tapas laterales. | F31: ML | G31: 21.16 | H31: =+AF31*$AG$16 -> 79815.202 | I31: =G31*H31 -> 1688889.7 | K31: 0 | L31: =+K31*H31 -> 0 | N31: 0 | O31: =+N31*H31 -> 0 | Q31: =+N31+K31 -> 0 | R31: =+Q31*H31 -> 0 | T31: 1 | AF31: 84371.25 | AG31: =+AF31*G31 -> 1785295.6
B32: 3.7 | C32: SUMINISTRO E INSTALACIÓN FLANCHE EN LAMINA GALVANIZADA CALIBRE 20; DS=25 - TIPO B (Fachada norte). Incluye accesorios de anclaje y tapas laterales | F32: ML | G32: 47.82 | H32: =+AF32*$AG$16 -> 84100.582 | I32: =G32*H32 -> 4021689.9 | K32: 0 | L32: =+K32*H32 -> 0 | N32: 0 | O32: =+N32*H32 -> 0 | Q32: =+N32+K32 -> 0 | R32: =+Q32*H32 -> 0 | T32: 1 | AF32: 88901.25 | AG32: =+AF32*G32 -> 4251257.8
B33: 3.8 | C33: Suministro de andamios certificados altura aproximada 14 m (6 secciones de 2 m). Incluye transporte. | F33: SEMANA | G33: 14 | H33: =+AF33*$AG$16 -> 498239.28 | I33: =G33*H33 -> 6975349.9 | K33: =+'CUBIERTA 3.8'!G49 -> 8 | L33: =+K33*H33 -> 3985914.2 | N33: 5 | O33: =+N33*H33 -> 2491196.4 | Q33: =+N33+K33 -> 13 | R33: =+Q33*H33 -> 6477110.6 | S33: 1 | AF33: 526680 | AG33: =+AF33*G33 -> 7373520
C34: SUBTOTAL | F34: * | G34: * | H34: * | I34: =SUM(I26:I33) -> 1.3122837e+08 | K34: * | L34: =SUM(L26:L33) -> 7815269.9 | O34: =SUM(O26:O33) -> 1.2066074e+08 | R34: =SUM(R26:R33) -> 1.2847601e+08 | AG34: =SUM(AG26:AG33) -> 1.3871921e+08
C35: ADMINISTRACIÓN, IMPREVISTOS Y UTULIDAD Nota (1) | H35: Porcentaje % | I35: Porcentaje %
C36: ADMINISTRACIÓN. | H36: 0.15 | I36: =(I21+I24+I34)*H36 -> 24174081 | K36: 0.15 | L36: =(L21+L24+L34)*H36 -> 1683835.6 | N36: 0.15 | O36: =(O21+O24+O34)*K36 -> 20205644 | Q36: 0.15 | R36: =(R21+R24+R34)*H36 -> 21889479 | AF36: 0.15 | AG36: =+(AG34+AG24+AG21)*AF36 -> 25595124
C37: IMPREVISTOS | H37: 0.05 | I37: =(I21+I24+I34)*H37 -> 8058027.1 | K37: 0.05 | L37: =(L21+L24+L34)*H37 -> 561278.52 | N37: 0.05 | O37: =(O21+O24+O34)*K37 -> 6735214.6 | Q37: 0.05 | R37: =(R21+R24+R34)*H37 -> 7296493.2 | AF37: 0.05 | AG37: =+(AG34+AG24+AG21)*AF37 -> 8531707.9
C38: UTILIDAD | H38: 0.05 | I38: =(I21+I24+I34)*H38 -> 8058027.1 | K38: 0.05 | L38: =(L21+L24+L34)*H38 -> 561278.52 | N38: 0.05 | O38: =(O21+O24+O34)*K38 -> 6735214.6 | Q38: 0.05 | R38: =(R21+R24+R34)*H38 -> 7296493.2 | AF38: 0.05 | AG38: =+(AG34+AG24+AG21)*AF38 -> 8531707.9
C39: IVA SOBRE UTILIDAD | H39: 0.19 | I39: =I38*H39 -> 1531025.2 | K39: 0.19 | L39: =L38*H39 -> 106642.92 | N39: 0.19 | O39: =O38*K39 -> 1279690.8 | Q39: 0.19 | R39: =R38*H39 -> 1386333.7 | AF39: 0.19 | AG39: =+AG38*AF39 -> 1621024.5
C40: TOTAL COSTOS | I40: =I21+I24+I34+I36+I37+I38+I39 -> 2.029817e+08 | L40: =L21+L24+L34+L36+L37+L38+L39 -> 14138606 | O40: =O21+O24+O34+O36+O37+O38+O39 -> 1.6966006e+08 | R40: =R21+R24+R34+R36+R37+R38+R39 -> 1.8379866e+08 | AG40: =SUM(AG36:AG39)+AG34+AG24+AG21 -> 2.1491372e+08
C42: PINTURA EN ALTURA
C43: DESCRIPCION ACTIVIDADES | F43: UNIDAD | G43: CANTIDAD | H43: Precio unitario | I43: valor total | K43: CANTIDAD | L43: VALOR | N43: CANTIDAD | O43: VALOR | Q43: CANTIDAD | R43: VR. EJECUTADO
B44: 1 | C44: PRELIMINARES | H44: * | I44: *
B45: 1.1 | C45: PINTURA INTERIOR EN VINILO TIPO 1 CON 3 MANOS DE PINTURA, INCLUYE FILOS, DILATACIONES Y RESANES, ANDAMIOS Y HERRAMIENTAS NECESARIAS PARA SU CORRECTA EJECUCION. | F45: M2 | G45: 800 | H45: =+AF45*$AG$16 -> 27699.627 | I45: =G45*H45 -> 22159702 | K45: =+'PINTURA 1.1'!G124 -> 913.1561 | L45: =+K45*H45 -> 25294084 | N45: 401.5419 | O45: =+N45*H45 -> 11122561 | Q45: =+N45+K45 -> 1314.698 | R45: =+Q45*H45 -> 36416645 | S45: 1 | AF45: 29280.79 | AG45: =+AF45*G45 -> 23424632
B46: 1.2 | C46: APLICACION DE IMPERMEABILIZANTE ACRILICO EN MUROS PARA TANQUE SUBTERRANEO, CON DOS MANOS DE IMPRIMACION DEL PRODUCTO. INCLUYE TODOS LOS ELEMENTOS NECESARIOS PARA SU CORRECTA APLICACIÓN. | F46: M2 | G46: 45 | H46: =+AF46*$AG$16 -> 69637.425 | I46: =G46*H46 -> 3133684.1 | K46: =+'PINTURA 1.2'!G86 -> 86.8 | L46: =+K46*H46 -> 6044528.5 | N46: 0 | O46: =+N46*H46 -> 0 | Q46: =+N46+K46 -> 86.8 | R46: =+Q46*H46 -> 6044528.5 | S46: 1 | AF46: 73612.5 | AG46: =+AF46*G46 -> 3312562.5
...

Sheet CUBIERTA 1.3
A1: CONSORCIO JHS - CONSTRUCCIONES AL DIA | C1: MEMORIAS DE CANTIDADES DE OBRA
A3: INFORMACIÓN GENERAL DEL CONTRATO
A4: CONTRATISTA DE OBRA: | B4: CONSORCIO JHS - CONSTRUCCIONES AL DIA | H4: N° CONTRATO DE OBRA | P4: CO1_PCCNTR_5116115 | X4: DE | AA4: 2023 | AF4: pag. | AM4: de
A5: OBJETO: | B5: REALIZAR ADECUACIONES, REPARACIONES Y MEJORAS A LA PLANTA FISICA DEL INMUEBLE UBICADO EN LA DIRECCIÓN KR 30 NO. 12 - 35
A7: NOMBRE . | B7: INSTITUTO COLOMBIANO DE BIENESTAR FAMILIAR
A9: CAPÍTULO | B9: =+'CORTE No. 2'!C15 -> CUBIERTAS
A10: ITEM No. | B10: UNIDAD | C10: DESCRIPCIÓN | M10: ZONA O ÁREA DE UBICACIÓN | AB10: CORTE No. | AJ10: FECHA
A11: =+'CORTE No. 2'!B20 -> 1.3 | B11: =+'CORTE No. 2'!F20 -> M3 | C11: =+'CORTE No. 2'!C20:E20 -> RETIRO DE ESCOMBROS, INCLUYE CARGUE Y RETIRO A SITIO AUTORIZADO | M11: GENERAL | AB11: 2
A13: ÁREA O LUGAR ESPECIFICO | C13: DIMENSIONES | G13: MEDIDA TOTAL | H13: PLANO O REGISTRO GRÁFICO O ESQUEMA
C14: LARGO | D14: ANCHO | E14: ALTO | F14: CANT.
A15: RETIRO ESCOMBRO MANTO | F15: 7 | G15: =+F15 -> 7
A43: CANTIDAD TOTAL | G43: =SUM(G15:G42) -> 7
A45: OBSERVACIONES
A46: N.A
C49: QUIEN ENTREGA | M49: QUIEN RECIBE:
C53: ING.HECTOR PARDO | H53: ARQ. JOHNY ALEXANDER HERNANDEZ
C54: RESIDENTE DE OBRA

Sheet CUBIERTA 2.1
A1: CONSORCIO JHS - CONSTRUCCIONES AL DIA | C1: MEMORIAS DE CANTIDADES DE OBRA
A3: INFORMACIÓN GENERAL DEL CONTRATO
A4: CONTRATISTA DE OBRA: | B4: CONSORCIO JHS - CONSTRUCCIONES AL DIA | H4: N° CONTRATO DE OBRA | P4: CO1_PCCNTR_5116115 | X4: DE | AA4: 2023 | AF4: pag. | AM4: de
A5: OBJETO: | B5: REALIZAR ADECUACIONES, REPARACIONES Y MEJORAS A LA PLANTA FISICA DEL INMUEBLE UBICADO EN LA DIRECCIÓN KR 30 NO. 12 - 35
A7: NOMBRE . | B7: INSTITUTO COLOMBIANO DE BIENESTAR FAMILIAR
A9: CAPÍTULO | B9: =+'CORTE No. 2'!C15 -> CUBIERTAS
A10: ITEM No. | B10: UNIDAD | C10: DESCRIPCIÓN | M10: ZONA O ÁREA DE UBICACIÓN | AB10: CORTE No. | AJ10: FECHA
A11: =+'CORTE No. 2'!B23 -> 2.1 | B11: =+'CORTE No. 2'!F23 -> M2 | C11: =+'CORTE No. 2'!C23:E23 -> CIELO FALSO EN LAMINA DE DRYWALL 12 MM TERMINADO. INCLUYE HERRAMIENTAS Y EQUIPOS NECESARIOS PARA SU CORRECTA INSTALACION. | M11: GENERAL | AB11: 2
A13: ÁREA O LUGAR ESPECIFICO | C13: DIMENSIONES | G13: MEDIDA TOTAL | H13: PLANO O REGISTRO GRÁFICO O ESQUEMA
C14: LARGO | D14: ANCHO | E14: ALTO | F14: CANT.
A15: CIELO RASO ARCHIVO FISCALIA | C15: 3.22 | D15: 2.1 | G15: =+C15*D15 -> 6.762
A16: CIELO RASO CUARTO FISCALIA | C16: 2.13 | D16: 1.45 | G16: =+C16*D16 -> 3.0885
A17: CIELO RASO HALL FISCALIA | C17: 2.53 | D17: 1.55 | G17: =+C17*D17 -> 3.9215
A18: CIELO RASO BAÑO SEGUNDO PISO | C18: 1 | D18: 1.5 | G18: =+C18*D18 -> 1.5
A19: CIELO RASO DUCTO SEGUNDO PISO | C19: 1.6 | D19: 0.4 | G19: =+C19*D19 -> 0.64
A20: REPARACIONES TECHO CUARTO PISO | C20: 1 | D20: 1 | G20: =+C20*D20 -> 1
A21: REPARACIONES TECHO CUARTO PISO | C21: 1 | D21: 1 | G21: =+C21*D21 -> 1
A22: REPARACIÓN TECHO MEDICINA LEGAL | C22: 1 | D22: 1 | G22: =+C22*D22 -> 1
A23: CIELO RASO BAÑO CENTRO DE RECLUSIÓN | C23: 3 | D23: 3 | G23: =+C23*D23 -> 9
G61: =SUM(G15:G60) -> 27.912
A63: OBSERVACIONES
A64: N.A
C67: QUIEN ENTREGA | M67: QUIEN RECIBE:
C71: ING.HECTOR PARDO | H71: ARQ. JOHNY ALEXANDER HERNANDEZ
C72: RESIDENTE DE OBRA

Sheet CUBIERTA 3.2
A1: CONSORCIO JHS - CONSTRUCCIONES AL DIA | C1: MEMORIAS DE CANTIDADES DE OBRA
A3: INFORMACIÓN GENERAL DEL CONTRATO
A4: CONTRATISTA DE OBRA: | B4: CONSORCIO JHS - CONSTRUCCIONES AL DIA | H4: N° CONTRATO DE OBRA | P4: CO1_PCCNTR_5116115 | X4: DE | AA4: 2023 | AF4: pag. | AM4: de
A5: OBJETO: | B5: REALIZAR ADECUACIONES, REPARACIONES Y MEJORAS A LA PLANTA FISICA DEL INMUEBLE UBICADO EN LA DIRECCIÓN KR 30 NO. 12 - 35
A7: NOMBRE . | B7: INSTITUTO COLOMBIANO DE BIENESTAR FAMILIAR
A9: CAPÍTULO | B9: =+'CORTE No. 2'!C15 -> CUBIERTAS
A10: ITEM No. | B10: UNIDAD | C10: DESCRIPCIÓN | M10: ZONA O ÁREA DE UBICACIÓN | AB10: CORTE No. | AJ10: FECHA
A11: =+'CORTE No. 2'!B27 -> 3.2 | B11: =+'CORTE No. 2'!F27 -> UN | C11: =+'CORTE No. 2'!C27:E27 -> CIELO RASO ACRILICO DE 60 X1.20 CM | M11: GENERAL | AB11: 2
A13: ÁREA O LUGAR ESPECIFICO | C13: DIMENSIONES | G13: MEDIDA TOTAL | H13: PLANO O REGISTRO GRÁFICO O ESQUEMA
C14: LARGO | D14: ANCHO | E14: ALTO | F14: CANT.
A15: CIELO RASO ACRILICO | C15: 1.2 | D15: 0.6 | F15: 9 | G15: =+F15 -> 9
G59: =SUM(G15:G58) -> 9
A61: OBSERVACIONES
A62: N.A
C65: QUIEN ENTREGA | M65: QUIEN RECIBE:
C69: ING.HECTOR PARDO | H69: ARQ. JOHNY ALEXANDER HERNANDEZ
C70: RESIDENTE DE OBRA

Sheet CUBIERTA 3.3
A1: CONSORCIO JHS - CONSTRUCCIONES AL DIA | C1: MEMORIAS DE CANTIDADES DE OBRA
A3: INFORMACIÓN GENERAL DEL CONTRATO
A4: CONTRATISTA DE OBRA: | B4: CONSORCIO JHS - CONSTRUCCIONES AL DIA | H4: N° CONTRATO DE OBRA | P4: CO1_PCCNTR_5116115 | X4: DE | AA4: 2023 | AF4: pag. | AM4: de
A5: OBJETO: | B5: REALIZAR ADECUACIONES, REPARACIONES Y MEJORAS A LA PLANTA FISICA DEL INMUEBLE UBICADO EN LA DIRECCIÓN KR 30 NO. 12 - 35
A7: NOMBRE . | B7: INSTITUTO COLOMBIANO DE BIENESTAR FAMILIAR
A9: CAPÍTULO | B9: =+'CORTE No. 2'!C15 -> CUBIERTAS
A10: ITEM No. | B10: UNIDAD | C10: DESCRIPCIÓN | M10: ZONA O ÁREA DE UBICACIÓN | AB10: CORTE No. | AJ10: FECHA
A11: =+'CORTE No. 2'!B28 -> 3.3 | B11: =+'CORTE No. 2'!F28 -> ML | C11: =+'CORTE No. 2'!C28:E28 -> FLANCHE EN LAMINA GALVANIZADA | M11: GENERAL | AB11: 2
A13: ÁREA O LUGAR ESPECIFICO | C13: DIMENSIONES | G13: MEDIDA TOTAL | H13: PLANO O REGISTRO GRÁFICO O ESQUEMA
C14: LARGO | D14: ANCHO | E14: ALTO | F14: CANT.
A15: FLANCE COBERTURA FACHADA | C15: 1.3 | F15: 4 | G15: =+C15*F15 -> 5.2
G65: =SUM(G15:G64) -> 5.2
A67: OBSERVACIONES
A68: N.A
C71: QUIEN ENTREGA | M71: QUIEN RECIBE:
C75: ING.HECTOR PARDO | H75: ARQ. JOHNY ALEXANDER HERNANDEZ
C76: RESIDENTE DE OBRA

Sheet CUBIERTA 3.4
A1: CONSORCIO JHS - CONSTRUCCIONES AL DIA | C1: MEMORIAS DE CANTIDADES DE OBRA
A3: INFORMACIÓN GENERAL DEL CONTRATO
A4: CONTRATISTA DE OBRA: | B4: CONSORCIO JHS - CONSTRUCCIONES AL DIA | H4: N° CONTRATO DE OBRA | P4: CO1_PCCNTR_5116115 | X4: DE | AA4: 2023 | AF4: pag. | AM4: de
A5: OBJETO: | B5: REALIZAR ADECUACIONES, REPARACIONES Y MEJORAS A LA PLANTA FISICA DEL INMUEBLE UBICADO EN LA DIRECCIÓN KR 30 NO. 12 - 35
A7: NOMBRE . | B7: INSTITUTO COLOMBIANO DE BIENESTAR FAMILIAR
A9: CAPÍTULO | B9: =+'CORTE No. 2'!C15 -> CUBIERTAS
A10: ITEM No. | B10: UNIDAD | C10: DESCRIPCIÓN | M10: ZONA O ÁREA DE UBICACIÓN | AB10: CORTE No. | AJ10: FECHA
A11: =+'CORTE No. 2'!B29 -> 3.4 | B11: =+'CORTE No. 2'!F29 -> ML | C11: =+'CORTE No. 2'!C29:E29 -> LIMPIEZA Y MANTENIMIENTO DE CANALES Y BAJANTES. | M11: GENERAL | AB11: 2
A13: ÁREA O LUGAR ESPECIFICO | C13: DIMENSIONES | G13: MEDIDA TOTAL | H13: PLANO O REGISTRO GRÁFICO O ESQUEMA
C14: LARGO | D14: ANCHO | E14: ALTO | F14: CANT.
A15: CANAL COSTADO SUR | C15: 45.3 | G15: =+C15 -> 45.3
A16: CANAL COSTADO ORIENTAL | C16: 18.3 | G16: =+C16 -> 18.3
A17: CANAL COSTADO OCCIDENTAL | C17: 18.3 | G17: =+C17 -> 18.3
A18: CANAL SALON DE COLORES | C18: 6.2 | G18: =+C18 -> 6.2
G67: =SUM(G15:G66) -> 88.1
A69: OBSERVACIONES
A70: N.A
C73: QUIEN ENTREGA | M73: QUIEN RECIBE:
C77: ING.HECTOR PARDO | H77: ARQ. JOHNY ALEXANDER HERNANDEZ
C78: RESIDENTE DE OBRA

Sheet CUBIERTA 3.8
A1: CONSORCIO JHS - CONSTRUCCIONES AL DIA | C1: MEMORIAS DE CANTIDADES DE OBRA
A3: INFORMACIÓN GENERAL DEL CONTRATO
A4: CONTRATISTA DE OBRA: | B4: CONSORCIO JHS - CONSTRUCCIONES AL DIA | H4: N° CONTRATO DE OBRA | P4: CO1_PCCNTR_5116115 | X4: DE | AA4: 2023 | AF4: pag. | AM4: de
A5: OBJETO: | B5: REALIZAR ADECUACIONES, REPARACIONES Y MEJORAS A LA PLANTA FISICA DEL INMUEBLE UBICADO EN LA DIRECCIÓN KR 30 NO. 12 - 35
A7: NOMBRE . | B7: INSTITUTO COLOMBIANO DE BIENESTAR FAMILIAR
A9: CAPÍTULO | B9: =+'CORTE No. 2'!C15 -> CUBIERTAS
A10: ITEM No. | B10: UNIDAD | C10: DESCRIPCIÓN | M10: ZONA O ÁREA DE UBICACIÓN | AB10: CORTE No. | AJ10: FECHA
A11: =+'CORTE No. 2'!B33 -> 3.8 | B11: =+'CORTE No. 2'!F33 -> SEMANA | C11: =+'CORTE No. 2'!C33:E33 -> Suministro de andamios certificados altura aproximada 14 m (6 secciones de 2 m). Incluye transporte. | M11: GENERAL | AB11: 2
A13: ÁREA O LUGAR ESPECIFICO | C13: DIMENSIONES | G13: MEDIDA TOTAL | H13: PLANO O REGISTRO GRÁFICO O ESQUEMA
C14: LARGO | D14: ANCHO | E14: ALTO | F14: CANT.
A15: ANDAMIO CERTIFICADO
A16: SEMANA 6 LUNES 14 DE AGOSTO A DOMINGO 20 DE AGOSTO | F16: 1 | G16: =+F16 -> 1
A18: SEMANA 7 LUNES 21 DE AGOSTO A DOMINGO 27 DE AGOSTO | F18: 1 | G18: =+F18 -> 1
A20: SEMANA 8 LUNES 28 DE AGOSTO A DOMINGO 3 DE SEPTIEMBRE | F20: 1 | G20: =+F20 -> 1
A22: SEMANA 9 LUNES 4 DE SEPTIEMBRE A DOMINGO 10 DE SEPTIEMBRE | F22: 1 | G22: =+F22 -> 1
A24: SEMANA 10 LUNES 11 DE SEPTIEMBRE A DOMINGO 17 DE SEPTIEMBRE | F24: 1 | G24: =+F24 -> 1
A26: SEMANA 11 LUNES 18 DE SEPTIEMBRE A DOMINGO 24 DE SEPTIEMBRE | F26: 1 | G26: =+F26 -> 1
A28: SEMANA 12 LUNES 25 DE SEPTIEMBRE A DOMINGO 1 DE OCTUBRE | F28: 1 | G28: =+F28 -> 1
A30: SEMANA 13 LUNES 2 DE OCTUBRE A DOMINGO 8 DE OCTUBRE | F30: 1 | G30: =+F30 -> 1
G49: =SUM(G15:G48) -> 8
A51: OBSERVACIONES
A52: N.A
C55: QUIEN ENTREGA | M55: QUIEN RECIBE:
C59: ING.HECTOR PARDO | H59: ARQ. JOHNY ALEXANDER HERNANDEZ
C60: RESIDENTE DE OBRA

Sheet PINTURA 1.1
A1: CONSORCIO JHS - CONSTRUCCIONES AL DIA | C1: MEMORIAS DE CANTIDADES DE OBRA
A3: INFORMACIÓN GENERAL DEL CONTRATO
A4: CONTRATISTA DE OBRA: | B4: CONSORCIO JHS - CONSTRUCCIONES AL DIA | H4: N° CONTRATO DE OBRA | P4: CO1_PCCNTR_5116115 | X4: DE | AA4: 2023 | AF4: pag. | AM4: de
A5: OBJETO: | B5: REALIZAR ADECUACIONES, REPARACIONES Y MEJORAS A LA PLANTA FISICA DEL INMUEBLE UBICADO EN LA DIRECCIÓN KR 30 NO. 12 - 35
A7: NOMBRE . | B7: INSTITUTO COLOMBIANO DE BIENESTAR FAMILIAR
A9: CAPÍTULO | B9: =+'CORTE No. 2'!C42 -> PINTURA EN ALTURA
A10: ITEM No. | B10: UNIDAD | C10: DESCRIPCIÓN | M10: ZONA O ÁREA DE UBICACIÓN | AB10: CORTE No. | AJ10: FECHA
A11: =+'CORTE No. 2'!B45 -> 1.1 | B11: =+'CORTE No. 2'!F45 -> M2 | C11: =+'CORTE No. 2'!C45:E45 -> PINTURA INTERIOR EN VINILO TIPO 1 CON 3 MANOS DE PINTURA, INCLUYE FILOS, DILATACIONES Y RESANES, ANDAMIOS Y HERRAMIENTAS NECESARIAS PARA SU CORRECTA EJECUCION. | M11: GENERAL | AB11: 2
A13: ÁREA O LUGAR ESPECIFICO | C13: DIMENSIONES | G13: MEDIDA TOTAL | H13: PLANO O REGISTRO GRÁFICO O ESQUEMA
C14: LARGO | D14: ANCHO | E14: ALTO | F14: CANT.
A15: TERCER PISO TECHO OFICINAS | C15: 9.9 | D15: 7.1 | G15: =+D15*C15 -> 70.29
A16: TERCER PISO TECHO OFICINAS | C16: 30 | D16: 0.04 | G16: =+D16*C16 -> 1.2
A17: MUROS BAÑO FISCALIA HOMBRES | C17: 3.92 | E17: 0.75 | G17: =+E17*C17 -> 2.94
C18: 1.5 | E18: 0.75 | G18: =+E18*C18 -> 1.125
C19: 2.41 | E19: 0.75 | G19: =+E19*C19 -> 1.8075
C20: 2.6 | E20: 0.75 | G20: =+E20*C20 -> 1.95
C21: 2.65 | E21: 0.75 | G21: =+E21*C21 -> 1.9875
C22: 2.84 | E22: 0.75 | G22: =+E22*C22 -> 2.13
C23: 1.6 | E23: 0.75 | G23: =+E23*C23 -> 1.2
A24: TECHO BAÑO FISCALIA HOMBRES | F24: 14.48 | G24: =+F24 -> 14.48
A25: TECHO BAÑO FISCLIA MUJERES | F25: 18.15 | G25: =+F25 -> 18.15
A26: MUROS BAÑO FISCALIA MUJERES | C26: 2.4 | E26: 0.79 | G26: =+E26*C26 -> 1.896
C27: 3.4 | E27: 0.79 | G27: =+E27*C27 -> 2.686
C28: 3.8 | E28: 0.79 | G28: =+E28*C28 -> 3.002
C29: 1.14 | E29: 0.79 | G29: =+E29*C29 -> 0.9006
C30: 0.93 | E30: 0.79 | G30: =+E30*C30 -> 0.7347
C31: 2.95 | E31: 0.79 | G31: =+E31*C31 -> 2.3305
C32: 3.94 | E32: 0.79 | G32: =+E32*C32 -> 3.1126
C33: 1.45 | E33: 0.79 | G33: =+E33*C33 -> 1.1455
A34: MUROS CUARTO DE ARCHIVO FISCALIA | C34: 3.3 | E34: 2.4 | G34: =+E34*C34 -> 7.92
C35: =3.3-0.8 -> 2.5 | E35: 2.4 | G35: =+E35*C35 -> 6
C36: 2.1 | E36: 2.4 | F36: 2 | G36: =+(E36*C36)*F36 -> 10.08
A37: MUROS CUARTO FISCALIA | C37: 2.15 | E37: 2.4 | F37: 2 | G37: =+(E37*C37)*F37 -> 10.32
C38: 1.5 | E38: 2.4 | G38: =+E38*C38 -> 3.6
C39: =1.5-0.8 -> 0.7 | E39: 2.4 | G39: =+E39*C39 -> 1.68
A40: MUROS CUARTO CONSEJE CUARTO PISO | C40: 1.2 | E40: 2.3 | F40: 2 | G40: =+(E40*C40)*F40 -> 5.52
C41: 2.15 | E41: 2.3 | G41: =+E41*C41 -> 4.945
C42: =2.15-0.8 -> 1.35 | E42: 2.3 | G42: =+E42*C42 -> 3.105
A43: TECHO CUARTO CONSERJE CUARTO PISO | C43: 2.15 | D43: 1.2 | G43: =+D43*C43 -> 2.58
A44: MUROS COCINETA CUARTO PISO | C44: 2.65 | E44: 2.4 | F44: 2 | G44: =+(E44*C44)*F44 -> 12.72
...

Sheet PINTURA 1.2
A1: CONSORCIO JHS - CONSTRUCCIONES AL DIA | C1: MEMORIAS DE CANTIDADES DE OBRA
A3: INFORMACIÓN GENERAL DEL CONTRATO
A4: CONTRATISTA DE OBRA: | B4: CONSORCIO JHS - CONSTRUCCIONES AL DIA | H4: N° CONTRATO DE OBRA | P4: CO1_PCCNTR_5116115 | X4: DE | AA4: 2023 | AF4: pag. | AM4: de
A5: OBJETO: | B5: REALIZAR ADECUACIONES, REPARACIONES Y MEJORAS A LA PLANTA FISICA DEL INMUEBLE UBICADO EN LA DIRECCIÓN KR 30 NO. 12 - 35
A7: NOMBRE . | B7: INSTITUTO COLOMBIANO DE BIENESTAR FAMILIAR
A9: CAPÍTULO | B9: =+'CORTE No. 2'!C42 -> PINTURA EN ALTURA
A10: ITEM No. | B10: UNIDAD | C10: DESCRIPCIÓN | M10: ZONA O ÁREA DE UBICACIÓN | AB10: CORTE No. | AJ10: FECHA
A11: =+'CORTE No. 2'!B46 -> 1.2 | B11: =+'CORTE No. 2'!F46 -> M2 | C11: =+'CORTE No. 2'!C46:E46 -> APLICACION DE IMPERMEABILIZANTE ACRILICO EN MUROS PARA TANQUE SUBTERRANEO, CON DOS MANOS DE IMPRIMACION DEL PRODUCTO. INCLUYE TODOS LOS ELEMENTOS NECESARIOS PARA SU CORRECTA APLICACIÓN. | M11: GENERAL | AB11: 2
A13: ÁREA O LUGAR ESPECIFICO | C13: DIMENSIONES | G13: MEDIDA TOTAL | H13: PLANO O REGISTRO GRÁFICO O ESQUEMA
C14: LARGO | D14: ANCHO | E14: ALTO | F14: CANT.
A15: IMPERMEABLIZACIÓN PISO TANQUE | C15: 8 | D15: 5 | G15: =+D15*C15 -> 40
A16: IMPERMEABLIZACIÓN MUROS TANQUE | C16: 8 | E16: 1.8 | F16: 2 | G16: =+(C16*E16)*F16 -> 28.8
C17: 5 | E17: 1.8 | F17: 2 | G17: =+(C17*E17)*F17 -> 18
G86: =SUM(G15:G85) -> 86.8
A88: OBSERVACIONES
A89: N.A
C92: QUIEN ENTREGA | M92: QUIEN RECIBE:
C96: ING.HECTOR PARDO | H96: ARQ. JOHNY ALEXANDER HERNANDEZ
C97: RESIDENTE DE OBRA

Sheet PISOS Y COCINA 1.3
A1: CONSORCIO JHS - CONSTRUCCIONES AL DIA | C1: MEMORIAS DE CANTIDADES DE OBRA
A3: INFORMACIÓN GENERAL DEL CONTRATO
A4: CONTRATISTA DE OBRA: | B4: CONSORCIO JHS - CONSTRUCCIONES AL DIA | H4: N° CONTRATO DE OBRA | P4: CO1_PCCNTR_5116115 | X4: DE | AA4: 2023 | AF4: pag. | AM4: de
A5: OBJETO: | B5: REALIZAR ADECUACIONES, REPARACIONES Y MEJORAS A LA PLANTA FISICA DEL INMUEBLE UBICADO EN LA DIRECCIÓN KR 30 NO. 12 - 35
A7: NOMBRE . | B7: INSTITUTO COLOMBIANO DE BIENESTAR FAMILIAR
A9: CAPÍTULO | B9: =+'CORTE No. 2'!C55 -> PISOS Y COCINA
A10: ITEM No. | B10: UNIDAD | C10: DESCRIPCIÓN | M10: ZONA O ÁREA DE UBICACIÓN | AB10: CORTE No. | AJ10: FECHA
A11: =+'CORTE No. 2'!B60 -> 1.3 | B11: =+'CORTE No. 2'!F60 -> M3 | C11: =+'CORTE No. 2'!C60:E60 -> RETIRO DE ESCOMBROS, INCLUYE CARGUE Y RETIRO A SITIO AUTORIZADO | M11: GENERAL | AB11: 2
A13: ÁREA O LUGAR ESPECIFICO | C13: DIMENSIONES | G13: MEDIDA TOTAL | H13: PLANO O REGISTRO GRÁFICO O ESQUEMA
C14: LARGO | D14: ANCHO | E14: ALTO | F14: CANT.
A15: RETIRO DE ESCOMBROS DE DEMOLICIÓN | F15: 7 | G15: =+F15 -> 7
G44: =SUM(G15:G24) -> 7
A46: OBSERVACIONES
A47: N.A
C50: QUIEN ENTREGA | M50: QUIEN RECIBE:
C54: ING.HECTOR PARDO | H54: ARQ. JOHNY ALEXANDER HERNANDEZ
C55: RESIDENTE DE OBRA

Sheet PISOS Y COCINA 2.1
A1: CONSORCIO JHS - CONSTRUCCIONES AL DIA | C1: MEMORIAS DE CANTIDADES DE OBRA
A3: INFORMACIÓN GENERAL DEL CONTRATO
A4: CONTRATISTA DE OBRA: | B4: CONSORCIO JHS - CONSTRUCCIONES AL DIA | H4: N° CONTRATO DE OBRA | P4: CO1_PCCNTR_5116115 | X4: DE | AA4: 2023 | AF4: pag. | AM4: de
A5: OBJETO: | B5: REALIZAR ADECUACIONES, REPARACIONES Y MEJORAS A LA PLANTA FISICA DEL INMUEBLE UBICADO EN LA DIRECCIÓN KR 30 NO. 12 - 35
A7: NOMBRE . | B7: INSTITUTO COLOMBIANO DE BIENESTAR FAMILIAR
A9: CAPÍTULO | B9: =+'CORTE No. 2'!C55 -> PISOS Y COCINA
A10: ITEM No. | B10: UNIDAD | C10: DESCRIPCIÓN | M10: ZONA O ÁREA DE UBICACIÓN | AB10: CORTE No. | AJ10: FECHA
A11: =+'CORTE No. 2'!B63 -> 2.1 | B11: =+'CORTE No. 2'!F63 -> M2 | C11: =+'CORTE No. 2'!C63:E63 -> SUMINISTRO E INSTALACION DE ENCHAPE CERAMICO PARA MUROS 25X43 CM COLOR A ELECCION ACABADO BRILLANTE INCLUYE PREGANTE CERAMICO, EMBOQUILLADO, HERRAMIENTAS Y EQUIPOS NECESARIOS PARA SU CORRECTA INSTALACION. | M11: GENERAL | AB11: 2
A13: ÁREA O LUGAR ESPECIFICO | C13: DIMENSIONES | G13: MEDIDA TOTAL | H13: PLANO O REGISTRO GRÁFICO O ESQUEMA
C14: LARGO | D14: ANCHO | E14: ALTO | F14: CANT.
A15: MURO CUARTO DE INSUMOS COCINETA TERCER PISO | C15: 3.2 | E15: 2.2 | G15: =+E15*C15 -> 7.04
A16: MUROS COCINETA SEGUNDO PISO | C16: 1.54 | E16: 0.6 | G16: =+E16*C16 -> 0.924
C17: 0.6 | E17: 0.6 | G17: =+E17*C17 -> 0.36
C18: 0.72 | E18: 1.6 | G18: =+E18*C18 -> 1.152
A19: POCETA COCINETA SEGUNDO PISO | C19: 0.77 | E19: 0.47 | G19: =+E19*C19 -> 0.3619
C20: 0.77 | E20: 0.47 | G20: =+E20*C20 -> 0.3619
C21: 0.6 | E21: 0.47 | G21: =+E21*C21 -> 0.282
C22: 0.64 | E22: 0.47 | G22: =+E22*C22 -> 0.3008
AS25: 15.52
AS26: 1.94
AS27: =+AS25/AS26 -> 8
AS28: 7.76
AS29: =+AS28/AS26 -> 4
AS30: 1
AS32: =+AS27+AS29+AS30 -> 13
AS33: =+AS32*1.94 -> 25.22
G83: =SUM(G15:G24) -> 10.7826
A85: OBSERVACIONES
A86: N.A
C89: QUIEN ENTREGA | M89: QUIEN RECIBE:
C93: ING.HECTOR PARDO | H93: ARQ. JOHNY ALEXANDER HERNANDEZ
C94: RESIDENTE DE OBRA

Sheet HIDROSANITARIO 1.1
A1: CONSORCIO JHS - CONSTRUCCIONES AL DIA | C1: MEMORIAS DE CANTIDADES DE OBRA
A3: INFORMACIÓN GENERAL DEL CONTRATO
A4: CONTRATISTA DE OBRA: | B4: CONSORCIO JHS - CONSTRUCCIONES AL DIA | H4: N° CONTRATO DE OBRA | P4: CO1_PCCNTR_5116115 | X4: DE | AA4: 2023 | AF4: pag. | AM4: de
A5: OBJETO: | B5: REALIZAR ADECUACIONES, REPARACIONES Y MEJORAS A LA PLANTA FISICA DEL INMUEBLE UBICADO EN LA DIRECCIÓN KR 30 NO. 12 - 35
A7: NOMBRE . | B7: INSTITUTO COLOMBIANO DE BIENESTAR FAMILIAR
A9: CAPÍTULO | B9: =+'CORTE No. 2'!C73 -> HIDROSANITARIO
A10: ITEM No. | B10: UNIDAD | C10: DESCRIPCIÓN | M10: ZONA O ÁREA DE UBICACIÓN | AB10: CORTE No. | AJ10: FECHA
A11: =+'CORTE No. 2'!B76 -> 1.1 | B11: =+'CORTE No. 2'!F76 -> M2 | C11: =+'CORTE No. 2'!C76:E76 -> DEMOLICIONES DE ENCHAPES DE PISO Y MURO INCLUYE HERRAMIENTAS Y EQUIPOS NECESARIOS PARA SU CORRECTA INSTALACION. | M11: GENERAL | AB11: 2
A13: ÁREA O LUGAR ESPECIFICO | C13: DIMENSIONES | G13: MEDIDA TOTAL | H13: PLANO O REGISTRO GRÁFICO O ESQUEMA
C14: LARGO | D14: ANCHO | E14: ALTO | F14: CANT.
A15: BAÑO HOMBRES SEGUNDO PISO | F15: 2.34 | G15: =+F15 -> 2.34
A16: BAÑO MUJERES SEGUNDO PISO | F16: 2.1 | G16: =+F16 -> 2.1
A17: BATERIA DE BAÑOS MUJRES SEGUNDO PISO | F17: 11.66 | G17: =+F17 -> 11.66
A18: MURO BAÑO HOMBRES SEGUNDO PISO | C18: =6.52-0.71 -> 5.81 | E18: 1 | G18: =+E18*C18 -> 5.81
A19: MURO BAÑO MUJERES SEGUNDO PISO | C19: =5.8-0.8 -> 5 | E19: 1 | G19: =+E19*C19 -> 5
A20: MURO BATERIA DE BAÑOS MUJERES SEGUNDO PISO | C20: 2.66 | E20: 0.8 | G20: =+E20*C20 -> 2.128
A21: BAÑO HOMBRES FISCALIA | F21: 14.48 | G21: =+F21 -> 14.48
G49: =SUM(G15:G48) -> 43.518
A51: OBSERVACIONES
A52: N.A
C55: QUIEN ENTREGA | M55: QUIEN RECIBE:
C59: ING.HECTOR PARDO | H59: ARQ. JOHNY ALEXANDER HERNANDEZ
C60: RESIDENTE DE OBRA

Sheet HIDROSANITARIO 1.2
A1: CONSORCIO JHS - CONSTRUCCIONES AL DIA | C1: MEMORIAS DE CANTIDADES DE OBRA
A3: INFORMACIÓN GENERAL DEL CONTRATO
A4: CONTRATISTA DE OBRA: | B4: CONSORCIO JHS - CONSTRUCCIONES AL DIA | H4: N° CONTRATO DE OBRA | P4: CO1_PCCNTR_5116115 | X4: DE | AA4: 2023 | AF4: pag. | AM4: de
A5: OBJETO: | B5: REALIZAR ADECUACIONES, REPARACIONES Y MEJORAS A LA PLANTA FISICA DEL INMUEBLE UBICADO EN LA DIRECCIÓN KR 30 NO. 12 - 35
A7: NOMBRE . | B7: INSTITUTO COLOMBIANO DE BIENESTAR FAMILIAR
A9: CAPÍTULO | B9: =+'CORTE No. 2'!C73 -> HIDROSANITARIO
A10: ITEM No. | B10: UNIDAD | C10: DESCRIPCIÓN | M10: ZONA O ÁREA DE UBICACIÓN | AB10: CORTE No. | AJ10: FECHA
A11: =+'CORTE No. 2'!B77 -> 1.2 | B11: =+'CORTE No. 2'!F77 -> UN | C11: =+'CORTE No. 2'!C77:E77 -> DESMONTE DE LAVAMANOS Y SANITARIOS (INC. RETIRO DE SOBR.) INCLUYE HERRAMIENTAS Y EQUIPOS NECESARIOS PARA SU CORRECTA INSTALACION. | M11: GENERAL | AB11: 2
A13: ÁREA O LUGAR ESPECIFICO | C13: DIMENSIONES | G13: MEDIDA TOTAL | H13: PLANO O REGISTRO GRÁFICO O ESQUEMA
C14: LARGO | D14: ANCHO | E14: ALTO | F14: CANT.
A15: DESMONTE LAVAMANOS BAÑO HOMBRES FISCALIA | F15: 2 | G15: =+F15 -> 2
A16: DESMONTE SANITARIOS BAÑO HOMBRES FISCALIA | F16: 3 | G16: =+F16 -> 3
A17: DESMONTE ORINAL BAÑO HOMBRES FISCALIA | F17: 1 | G17: =+F17 -> 1
A18: DESMONTE LAVAMANOS BATERIA DE BAÑOS MUJERES SEGUNDO PISO | F18: 3 | G18: =+F18 -> 3
A19: DESMONTE SANITARIOS BATERIA DE BAÑOS MUJERES SEGUNDO PISO | F19: 3 | G19: =+F19 -> 3
A20: DESMONTE LAVAMANOS BAÑO HOMBRES SEGUNDO PISO | F20: 1 | G20: =+F20 -> 1
A21: DESMONTE SANITARIO BAÑO HOMBRES SEGUNDO PISO | F21: 1 | G21: =+F21 -> 1
A22: DESMONTE LAVAMANOS BAÑO MUJRES SEGUNDO PISO | F22: 1 | G22: =+F22 -> 1
A23: DESMONTE SANITARIO BAÑO MUJERES SEGUNDO PISO | F23: 1 | G23: =+F23 -> 1
G79: =SUM(G15:G78) -> 16
A81: OBSERVACIONES
A82: N.A
C85: QUIEN ENTREGA | M85: QUIEN RECIBE:
C89: ING.HECTOR PARDO | H89: ARQ. JOHNY ALEXANDER HERNANDEZ
C90: RESIDENTE DE OBRA

Sheet HIDROSANITARIO 1.3
A1: CONSORCIO JHS - CONSTRUCCIONES AL DIA | C1: MEMORIAS DE CANTIDADES DE OBRA
A3: INFORMACIÓN GENERAL DEL CONTRATO
A4: CONTRATISTA DE OBRA: | B4: CONSORCIO JHS - CONSTRUCCIONES AL DIA | H4: N° CONTRATO DE OBRA | P4: CO1_PCCNTR_5116115 | X4: DE | AA4: 2023 | AF4: pag. | AM4: de
A5: OBJETO: | B5: REALIZAR ADECUACIONES, REPARACIONES Y MEJORAS A LA PLANTA FISICA DEL INMUEBLE UBICADO EN LA DIRECCIÓN KR 30 NO. 12 - 35
A7: NOMBRE . | B7: INSTITUTO COLOMBIANO DE BIENESTAR FAMILIAR
A9: CAPÍTULO | B9: =+'CORTE No. 2'!C73 -> HIDROSANITARIO
A10: ITEM No. | B10: UNIDAD | C10: DESCRIPCIÓN | M10: ZONA O ÁREA DE UBICACIÓN | AB10: CORTE No. | AJ10: FECHA
A11: =+'CORTE No. 2'!B78 -> 1.3 | B11: =+'CORTE No. 2'!F78 -> M2 | C11: =+'CORTE No. 2'!C78:E78 -> DEMOLICION PAÑETES (INC. RETIRO DE SOBR.) INCLUYE EQUIPOS, HERRAMIENTAS Y TODO LOS ELEMENTOS NECESARIOS PARA SU CORRECTA EJECUCION. | M11: GENERAL | AB11: 2
A13: ÁREA O LUGAR ESPECIFICO | C13: DIMENSIONES | G13: MEDIDA TOTAL | H13: PLANO O REGISTRO GRÁFICO O ESQUEMA
C14: LARGO | D14: ANCHO | E14: ALTO | F14: CANT.
A15: DEMOLICIÓN PAÑETE CUARTO COCINETA TERCER PISO | C15: 3.2 | E15: 2.2 | G15: =+E15*C15 -> 7.04
A16: DEMOLICIÓN PAÑETE INSTALACIÓN MUEBLE COCINETA TERCER PISO | C16: 1.5 | E16: 0.9 | G16: =+E16*C16 -> 1.35
A17: DEMOLICIÓN PAÑETE CUARTO CONSERJE CUARTO PISO | C17: 1 | E17: 1.8 | G17: =+E17*C17 -> 1.8
A18: DEMOLICIÓN PAÑETE TECHOS DORMITORIO | F18: 26 | G18: =+F18 -> 26
F19: 20 | G19: 30
A20: DEMOLICIÓN PAÑETE CUARTOS FISCALIA | C20: 1 | E20: 1 | G20: =+E20*C20 -> 1
G55: =SUM(G15:G54) -> 67.19
A57: OBSERVACIONES
A58: N.A
C61: QUIEN ENTREGA | M61: QUIEN RECIBE:
C65: ING.HECTOR PARDO | H65: ARQ. JOHNY ALEXANDER HERNANDEZ
C66: RESIDENTE DE OBRA

Sheet HIDROSANITARIO 1.4
A1: CONSORCIO JHS - CONSTRUCCIONES AL DIA | C1: MEMORIAS DE CANTIDADES DE OBRA
A3: INFORMACIÓN GENERAL DEL CONTRATO
A4: CONTRATISTA DE OBRA: | B4: CONSORCIO JHS - CONSTRUCCIONES AL DIA | H4: N° CONTRATO DE OBRA | P4: CO1_PCCNTR_5116115 | X4: DE | AA4: 2023 | AF4: pag. | AM4: de
A5: OBJETO: | B5: REALIZAR ADECUACIONES, REPARACIONES Y MEJORAS A LA PLANTA FISICA DEL INMUEBLE UBICADO EN LA DIRECCIÓN KR 30 NO. 12 - 35
A7: NOMBRE . | B7: INSTITUTO COLOMBIANO DE BIENESTAR FAMILIAR
A9: CAPÍTULO | B9: =+'CORTE No. 2'!C73 -> HIDROSANITARIO
A10: ITEM No. | B10: UNIDAD | C10: DESCRIPCIÓN | M10: ZONA O ÁREA DE UBICACIÓN | AB10: CORTE No. | AJ10: FECHA
A11: =+'CORTE No. 2'!B79 -> 1.4 | B11: =+'CORTE No. 2'!F79 -> M2 | C11: =+'CORTE No. 2'!C79:E79 -> DEMOLICION CIELO RASO FALSO (INC. RETIRO DE SOBR.) INCLUYE EQUIPOS, HERRAMIENTAS Y TODO LOS ELEMENTOS NECESARIOS PARA SU CORRECTA EJECUCION. | M11: GENERAL | AB11: 2
A13: ÁREA O LUGAR ESPECIFICO | C13: DIMENSIONES | G13: MEDIDA TOTAL | H13: PLANO O REGISTRO GRÁFICO O ESQUEMA
C14: LARGO | D14: ANCHO | E14: ALTO | F14: CANT.
A15: DEMOLICIÓN TERCER PISO ARREGLO SIFON | C15: 1.1 | D15: 0.57 | G15: =+C15*D15 -> 0.627
A16: DEMOLICI´´ON SEGUNDO PISO DUCTO BAJANTE | C16: 1 | D16: 0.5 | G16: =+C16*D16 -> 0.5
A17: DEMOLICIÓN CUARTO PISO ARREGLO | C17: 0.5 | D17: 0.5 | G17: =+C17*D17 -> 0.25
A18: DEMOLICIÓN ÁREA DE INSPECCIÓN BAÑOS | C18: 0.6 | D18: 0.6 | G18: =+C18*D18 -> 0.36
M55: QUIEN RECIBE:
H59: ARQ. JOHNY ALEXANDER HERNANDEZ
A67: CANTIDAD TOTAL | G67: =SUM(G15:G66) -> 1.737
A69: OBSERVACIONES
A70: N.A
C73: QUIEN ENTREGA | M73: QUIEN RECIBE:
C77: ING.HECTOR PARDO | H77: ARQ. JOHNY ALEXANDER HERNANDEZ
C78: RESIDENTE DE OBRA

Sheet HIDROSANITARIO 1.5
A1: CONSORCIO JHS - CONSTRUCCIONES AL DIA | C1: MEMORIAS DE CANTIDADES DE OBRA
A3: INFORMACIÓN GENERAL DEL CONTRATO
A4: CONTRATISTA DE OBRA: | B4: CONSORCIO JHS - CONSTRUCCIONES AL DIA | H4: N° CONTRATO DE OBRA | P4: CO1_PCCNTR_5116115 | X4: DE | AA4: 2023 | AF4: pag. | AM4: de
A5: OBJETO: | B5: REALIZAR ADECUACIONES, REPARACIONES Y MEJORAS A LA PLANTA FISICA DEL INMUEBLE UBICADO EN LA DIRECCIÓN KR 30 NO. 12 - 35
A7: NOMBRE . | B7: INSTITUTO COLOMBIANO DE BIENESTAR FAMILIAR
A9: CAPÍTULO | B9: =+'CORTE No. 2'!C73 -> HIDROSANITARIO
A10: ITEM No. | B10: UNIDAD | C10: DESCRIPCIÓN | M10: ZONA O ÁREA DE UBICACIÓN | AB10: CORTE No. | AJ10: FECHA
A11: =+'CORTE No. 2'!B80 -> 1.5 | B11: =+'CORTE No. 2'!F80 -> M3 | C11: =+'CORTE No. 2'!C80:E80 -> RETIRO DE ESCOMBROS, INCLUYE CARGUE Y RETIRO A SITIO AUTORIZADO | M11: GENERAL | AB11: 2
A13: ÁREA O LUGAR ESPECIFICO | C13: DIMENSIONES | G13: MEDIDA TOTAL | H13: PLANO O REGISTRO GRÁFICO O ESQUEMA
C14: LARGO | D14: ANCHO | E14: ALTO | F14: CANT.
A15: RETIRO DE ESCOMBROS DE DEMOLICIÓN | F15: 3.5 | G15: =+F15 -> 3.5
G44: =SUM(G15:G43) -> 3.5
A46: OBSERVACIONES
A47: N.A
C50: QUIEN ENTREGA | M50: QUIEN RECIBE:
C54: ING.HECTOR PARDO | H54: ARQ. JOHNY ALEXANDER HERNANDEZ
C55: RESIDENTE DE OBRA

Sheet HIDROSANITARIO 2.1
A1: CONSORCIO JHS - CONSTRUCCIONES AL DIA | C1: MEMORIAS DE CANTIDADES DE OBRA
A3: INFORMACIÓN GENERAL DEL CONTRATO
A4: CONTRATISTA DE OBRA: | B4: CONSORCIO JHS - CONSTRUCCIONES AL DIA | H4: N° CONTRATO DE OBRA | P4: CO1_PCCNTR_5116115 | X4: DE | AA4: 2023 | AF4: pag. | AM4: de
A5: OBJETO: | B5: REALIZAR ADECUACIONES, REPARACIONES Y MEJORAS A LA PLANTA FISICA DEL INMUEBLE UBICADO EN LA DIRECCIÓN KR 30 NO. 12 - 35
A7: NOMBRE . | B7: INSTITUTO COLOMBIANO DE BIENESTAR FAMILIAR
A9: CAPÍTULO | B9: =+'CORTE No. 2'!C73 -> HIDROSANITARIO
A10: ITEM No. | B10: UNIDAD | C10: DESCRIPCIÓN | M10: ZONA O ÁREA DE UBICACIÓN | AB10: CORTE No. | AJ10: FECHA
A11: =+'CORTE No. 2'!B83 -> 2.1 | B11: =+'CORTE No. 2'!F83 -> M2 | C11: =+'CORTE No. 2'!C83:E83 -> CIELO FALSO EN LAMINA DE DRYWALL 12 MM TERMINADO. INCLUYE HERRAMIENTAS Y EQUIPOS NECESARIOS PARA SU CORRECTA INSTALACION. | M11: GENERAL | AB11: 2
A13: ÁREA O LUGAR ESPECIFICO | C13: DIMENSIONES | G13: MEDIDA TOTAL | H13: PLANO O REGISTRO GRÁFICO O ESQUEMA
C14: LARGO | D14: ANCHO | E14: ALTO | F14: CANT.
A15: CIELO FALSO BAÑO ACCESO FISCALIA | C15: 1.6 | D15: 0.94 | G15: =+C15*D15 -> 1.504
G44: =SUM(G15:G43) -> 1.504
A46: OBSERVACIONES
A47: N.A
C50: QUIEN ENTREGA | M50: QUIEN RECIBE:
C54: ING.HECTOR PARDO | H54: ARQ. JOHNY ALEXANDER HERNANDEZ
C55: RESIDENTE DE OBRA

Sheet HIDROSANITARIO 2.2
A1: CONSORCIO JHS - CONSTRUCCIONES AL DIA | C1: MEMORIAS DE CANTIDADES DE OBRA
A3: INFORMACIÓN GENERAL DEL CONTRATO
A4: CONTRATISTA DE OBRA: | B4: CONSORCIO JHS - CONSTRUCCIONES AL DIA | H4: N° CONTRATO DE OBRA | P4: CO1_PCCNTR_5116115 | X4: DE | AA4: 2023 | AF4: pag. | AM4: de
A5: OBJETO: | B5: REALIZAR ADECUACIONES, REPARACIONES Y MEJORAS A LA PLANTA FISICA DEL INMUEBLE UBICADO EN LA DIRECCIÓN KR 30 NO. 12 - 35
A7: NOMBRE . | B7: INSTITUTO COLOMBIANO DE BIENESTAR FAMILIAR
A9: CAPÍTULO | B9: =+'CORTE No. 2'!C73 -> HIDROSANITARIO
A10: ITEM No. | B10: UNIDAD | C10: DESCRIPCIÓN | M10: ZONA O ÁREA DE UBICACIÓN | AB10: CORTE No. | AJ10: FECHA
A11: =+'CORTE No. 2'!B84 -> 2.2 | B11: =+'CORTE No. 2'!F84 -> M2 | C11: =+'CORTE No. 2'!C84:E84 -> SUMINISTRO E INSTALACION DE ENCHAPE CERAMICO PARA MUROS 25X43 CM COLOR A ELECCION ACABADO BRILLANTE INCLUYE PREGANTE CERAMICO, EMBOQUILLADO, HERRAMIENTAS Y EQUIPOS NECESARIOS PARA SU CORRECTA INSTALACION. | M11: GENERAL | AB11: 2
A13: ÁREA O LUGAR ESPECIFICO | C13: DIMENSIONES | G13: MEDIDA TOTAL | H13: PLANO O REGISTRO GRÁFICO O ESQUEMA
C14: LARGO | D14: ANCHO | E14: ALTO | F14: CANT.
A15: ENCHAPE BAÑO MUJERES SEGUNDO PISO | C15: =6.52-0.71 -> 5.81 | E15: 1 | G15: =+E15*C15 -> 5.81
A16: ENCHAPE BAÑO HOMBRES SEGUNDO PISO | C16: =5.8-0.8 -> 5 | E16: 1 | G16: =+E16*C16 -> 5
AR28: =+((6.52-0.71)*1)+((5.8-0.8)*1) -> 10.81
G49: =SUM(G15:G48) -> 10.81
A51: OBSERVACIONES
A52: N.A
C55: QUIEN ENTREGA | M55: QUIEN RECIBE:
C59: ING.HECTOR PARDO | H59: ARQ. JOHNY ALEXANDER HERNANDEZ
C60: RESIDENTE DE OBRA

Sheet HIDROSANITARIO 2.3
A1: CONSORCIO JHS - CONSTRUCCIONES AL DIA | C1: MEMORIAS DE CANTIDADES DE OBRA
A3: INFORMACIÓN GENERAL DEL CONTRATO
A4: CONTRATISTA DE OBRA: | B4: CONSORCIO JHS - CONSTRUCCIONES AL DIA | H4: N° CONTRATO DE OBRA | P4: CO1_PCCNTR_5116115 | X4: DE | AA4: 2023 | AF4: pag. | AM4: de
A5: OBJETO: | B5: REALIZAR ADECUACIONES, REPARACIONES Y MEJORAS A LA PLANTA FISICA DEL INMUEBLE UBICADO EN LA DIRECCIÓN KR 30 NO. 12 - 35
A7: NOMBRE . | B7: INSTITUTO COLOMBIANO DE BIENESTAR FAMILIAR
A9: CAPÍTULO | B9: =+'CORTE No. 2'!C73 -> HIDROSANITARIO
A10: ITEM No. | B10: UNIDAD | C10: DESCRIPCIÓN | M10: ZONA O ÁREA DE UBICACIÓN | AB10: CORTE No. | AJ10: FECHA
A11: =+'CORTE No. 2'!B85 -> 2.3 | B11: =+'CORTE No. 2'!F85 -> UN | C11: =+'CORTE No. 2'!C85:E85 -> SUMINISTRO E INSTALACIÓN DE COMBO SAN GIORGIO BLANCO (SANITARIO Y LAVAMANOS) O SIMILAR.INCLUYE TUBERIA Y TODOS LOS ACCESORIOS, EQUIPOS Y HERRAMIENTAS NECESARIAS PARA SU CORRECTA INSTALACION. | M11: GENERAL | AB11: 2
A13: ÁREA O LUGAR ESPECIFICO | C13: DIMENSIONES | G13: MEDIDA TOTAL | H13: PLANO O REGISTRO GRÁFICO O ESQUEMA
C14: LARGO | D14: ANCHO | E14: ALTO | F14: CANT.
A15: COMBO BAÑO MUJERES FISCALIA | F15: 4 | G15: =+F15 -> 4
A16: COMBOS BAÑO HOMBRES FISCALIA | F16: 3 | G16: =+F16 -> 3
A17: COMBO BAÑO HOMBRES SEGUNDO PISO | F17: 1 | G17: =+F17 -> 1
A18: COMBO BAÑO MUJERES SEGUNDO PISO | F18: 1 | G18: =+F18 -> 1
G71: =SUM(G15:G70) -> 9
A73: OBSERVACIONES
A74: N.A
C77: QUIEN ENTREGA | M77: QUIEN RECIBE:
C81: ING.HECTOR PARDO | H81: ARQ. JOHNY ALEXANDER HERNANDEZ
C82: RESIDENTE DE OBRA

Sheet HIDROSANITARIO 2.4
A1: CONSORCIO JHS - CONSTRUCCIONES AL DIA | C1: MEMORIAS DE CANTIDADES DE OBRA
A3: INFORMACIÓN GENERAL DEL CONTRATO
A4: CONTRATISTA DE OBRA: | B4: CONSORCIO JHS - CONSTRUCCIONES AL DIA | H4: N° CONTRATO DE OBRA | P4: CO1_PCCNTR_5116115 | X4: DE | AA4: 2023 | AF4: pag. | AM4: de
A5: OBJETO: | B5: REALIZAR ADECUACIONES, REPARACIONES Y MEJORAS A LA PLANTA FISICA DEL INMUEBLE UBICADO EN LA DIRECCIÓN KR 30 NO. 12 - 35
A7: NOMBRE . | B7: INSTITUTO COLOMBIANO DE BIENESTAR FAMILIAR
A9: CAPÍTULO | B9: =+'CORTE No. 2'!C73 -> HIDROSANITARIO
A10: ITEM No. | B10: UNIDAD | C10: DESCRIPCIÓN | M10: ZONA O ÁREA DE UBICACIÓN | AB10: CORTE No. | AJ10: FECHA
A11: =+'CORTE No. 2'!B86 -> 2.4 | B11: =+'CORTE No. 2'!F86 -> UN | C11: =+'CORTE No. 2'!C86:E86 -> SUMINISTRO E INSTALACION DE ORINAL BLANCO TIPO INSTITUCIONAL. INCLUYE TUBERIA, ACCESORIOS Y TODOS LOS ELEMENTOS NECESARIOS PARA SU CORRECTA INSTALACION. | M11: GENERAL | AB11: 2
A13: ÁREA O LUGAR ESPECIFICO | C13: DIMENSIONES | G13: MEDIDA TOTAL | H13: PLANO O REGISTRO GRÁFICO O ESQUEMA
C14: LARGO | D14: ANCHO | E14: ALTO | F14: CANT.
A15: ORINAL BAÑO HOMBRES SEGUNDO PISO | F15: 1 | G15: =+F15 -> 1
G41: =SUM(G15:G40) -> 1
A43: OBSERVACIONES
A44: N.A
C47: QUIEN ENTREGA | M47: QUIEN RECIBE:
C51: ING.HECTOR PARDO | H51: ARQ. JOHNY ALEXANDER HERNANDEZ
C52: RESIDENTE DE OBRA

Sheet HIDROSANITARIO 3.1
A1: CONSORCIO JHS - CONSTRUCCIONES AL DIA | C1: MEMORIAS DE CANTIDADES DE OBRA
A3: INFORMACIÓN GENERAL DEL CONTRATO
A4: CONTRATISTA DE OBRA: | B4: CONSORCIO JHS - CONSTRUCCIONES AL DIA | H4: N° CONTRATO DE OBRA | P4: CO1_PCCNTR_5116115 | X4: DE | AA4: 2023 | AF4: pag. | AM4: de
A5: OBJETO: | B5: REALIZAR ADECUACIONES, REPARACIONES Y MEJORAS A LA PLANTA FISICA DEL INMUEBLE UBICADO EN LA DIRECCIÓN KR 30 NO. 12 - 35
A7: NOMBRE . | B7: INSTITUTO COLOMBIANO DE BIENESTAR FAMILIAR
A9: CAPÍTULO | B9: =+'CORTE No. 2'!C73 -> HIDROSANITARIO
A10: ITEM No. | B10: UNIDAD | C10: DESCRIPCIÓN | M10: ZONA O ÁREA DE UBICACIÓN | AB10: CORTE No. | AJ10: FECHA
A11: =+'CORTE No. 2'!B89 -> 3.1 | B11: =+'CORTE No. 2'!F89 -> ML | C11: =+'CORTE No. 2'!C89:E89 -> SUMINISTRO E INSTALACION DE ACOMETIDA PVC AGUA POTABLE Ø 1" (INC. ACCESORIOS) | M11: GENERAL | AB11: 2
A13: ÁREA O LUGAR ESPECIFICO | C13: DIMENSIONES | G13: MEDIDA TOTAL | H13: PLANO O REGISTRO GRÁFICO O ESQUEMA
C14: LARGO | D14: ANCHO | E14: ALTO | F14: CANT.
A15: BAÑO FISCALIA MUJERES | C15: 7.78 | G15: =+C15 -> 7.78
A16: BAÑO FISCALIA HOMBRES | C16: 6.76 | G16: =+C16 -> 6.76
A17: CUARTO CONSERJE 4 PISO | C17: 2.1 | G17: =+C17 -> 2.1
G62: =SUM(G15:G61) -> 16.64
A64: OBSERVACIONES
A65: N.A
C68: QUIEN ENTREGA | M68: QUIEN RECIBE:
C72: ING.HECTOR PARDO | H72: ARQ. JOHNY ALEXANDER HERNANDEZ
C73: RESIDENTE DE OBRA

Sheet HIDROSANITARIO 3.2
A1: CONSORCIO JHS - CONSTRUCCIONES AL DIA | C1: MEMORIAS DE CANTIDADES DE OBRA
A3: INFORMACIÓN GENERAL DEL CONTRATO
A4: CONTRATISTA DE OBRA: | B4: CONSORCIO JHS - CONSTRUCCIONES AL DIA | H4: N° CONTRATO DE OBRA | P4: CO1_PCCNTR_5116115 | X4: DE | AA4: 2023 | AF4: pag. | AM4: de
A5: OBJETO: | B5: REALIZAR ADECUACIONES, REPARACIONES Y MEJORAS A LA PLANTA FISICA DEL INMUEBLE UBICADO EN LA DIRECCIÓN KR 30 NO. 12 - 35
A7: NOMBRE . | B7: INSTITUTO COLOMBIANO DE BIENESTAR FAMILIAR
A9: CAPÍTULO | B9: =+'CORTE No. 2'!C73 -> HIDROSANITARIO
A10: ITEM No. | B10: UNIDAD | C10: DESCRIPCIÓN | M10: ZONA O ÁREA DE UBICACIÓN | AB10: CORTE No. | AJ10: FECHA
A11: =+'CORTE No. 2'!B90 -> 3.2 | B11: =+'CORTE No. 2'!F90 -> ML | C11: =+'CORTE No. 2'!C90:E90 -> ACOMETIDA PVC DESAGUES DE 3" (INC. ACCESORIOS) | M11: GENERAL | AB11: 2
A13: ÁREA O LUGAR ESPECIFICO | C13: DIMENSIONES | G13: MEDIDA TOTAL | H13: PLANO O REGISTRO GRÁFICO O ESQUEMA
C14: LARGO | D14: ANCHO | E14: ALTO | F14: CANT.
A15: COCINETA CUARTO PISO | C15: 0.8 | G15: =+C15 -> 0.8
C16: 0.33 | G16: =+C16 -> 0.33
C17: 1.78 | G17: =+C17 -> 1.78
A18: BAÑO MUJRES FISCALIA | C18: 0.89 | G18: =+C18 -> 0.89
C19: 1.37 | G19: =+C19 -> 1.37
A20: BAÑO HOMBRES FISCALIA | C20: 0.93 | G20: =+C20 -> 0.93
C21: 1.14 | G21: =+C21 -> 1.14
A22: BAÑO HOMBRES SEGUNDO PISO | C22: 0.9 | G22: =+C22 -> 0.9
A23: BAÑO MUJRES SEGUNDO PISO | C23: 0.94 | G23: =+C23 -> 0.94
A24: BATERIA DE BAÑOS MUJRES SEGUNDO PISO | C24: 0.83 | G24: =+C24 -> 0.83
A25: COCINETA SEGUNDO PISO | C25: =0.99+0.38+0.31+1.69+0.9 -> 4.27 | G25: =+C25 -> 4.27
G108: =SUM(G15:G107) -> 14.18
A110: OBSERVACIONES
A111: N.A
C114: QUIEN ENTREGA | M114: QUIEN RECIBE:
C118: ING.HECTOR PARDO | H118: ARQ. JOHNY ALEXANDER HERNANDEZ
C119: RESIDENTE DE OBRA

Sheet HIDROSANITARIO 3.3
A1: CONSORCIO JHS - CONSTRUCCIONES AL DIA | C1: MEMORIAS DE CANTIDADES DE OBRA
A3: INFORMACIÓN GENERAL DEL CONTRATO
A4: CONTRATISTA DE OBRA: | B4: CONSORCIO JHS - CONSTRUCCIONES AL DIA | H4: N° CONTRATO DE OBRA | P4: CO1_PCCNTR_5116115 | X4: DE | AA4: 2023 | AF4: pag. | AM4: de
A5: OBJETO: | B5: REALIZAR ADECUACIONES, REPARACIONES Y MEJORAS A LA PLANTA FISICA DEL INMUEBLE UBICADO EN LA DIRECCIÓN KR 30 NO. 12 - 35
A7: NOMBRE . | B7: INSTITUTO COLOMBIANO DE BIENESTAR FAMILIAR
A9: CAPÍTULO | B9: =+'CORTE No. 2'!C73 -> HIDROSANITARIO
A10: ITEM No. | B10: UNIDAD | C10: DESCRIPCIÓN | M10: ZONA O ÁREA DE UBICACIÓN | AB10: CORTE No. | AJ10: FECHA
A11: =+'CORTE No. 2'!B91 -> 3.3 | B11: =+'CORTE No. 2'!F91 -> GL | C11: =+'CORTE No. 2'!C91:E91 -> DIAGNOSTICO (PERITAJE) HIDROSANITARIO, PARA HALLAR SOLUCIONES ESPECIFICAS DE FUGAS EN ALOJAMIENTOS USADOS PARA INTERNAMIENTO PREVENTIVO, CORRESPONDENCIA CESPA, DOS BAÑOS Y UN ARCHIVO UBICADOS EN FISCALIA. | M11: GENERAL | AB11: 2
A13: ÁREA O LUGAR ESPECIFICO | C13: DIMENSIONES | G13: MEDIDA TOTAL | H13: PLANO O REGISTRO GRÁFICO O ESQUEMA
C14: LARGO | D14: ANCHO | E14: ALTO | F14: CANT.
A15: DIAGNOSTICO PERIJATE | F15: 1 | G15: =+F15 -> 1
G49: =SUM(G15:G48) -> 1
A51: OBSERVACIONES
A52: N.A
C55: QUIEN ENTREGA | M55: QUIEN RECIBE:
C59: ING.HECTOR PARDO | H59: ARQ. JOHNY ALEXANDER HERNANDEZ
C60: RESIDENTE DE OBRA

Sheet INSTALACIONES ELÉCTRICAS 2.1
A1: CONSORCIO JHS - CONSTRUCCIONES AL DIA | C1: MEMORIAS DE CANTIDADES DE OBRA
A3: INFORMACIÓN GENERAL DEL CONTRATO
A4: CONTRATISTA DE OBRA: | B4: CONSORCIO JHS - CONSTRUCCIONES AL DIA | H4: N° CONTRATO DE OBRA | P4: CO1_PCCNTR_5116115 | X4: DE | AA4: 2023 | AF4: pag. | AM4: de
A5: OBJETO: | B5: REALIZAR ADECUACIONES, REPARACIONES Y MEJORAS A LA PLANTA FISICA DEL INMUEBLE UBICADO EN LA DIRECCIÓN KR 30 NO. 12 - 35
A7: NOMBRE . | B7: INSTITUTO COLOMBIANO DE BIENESTAR FAMILIAR
A9: CAPÍTULO | B9: =+'CORTE No. 2'!C100 -> INSTALACIONES ELÉCTRICAS
A10: ITEM No. | B10: UNIDAD | C10: DESCRIPCIÓN | M10: ZONA O ÁREA DE UBICACIÓN | AB10: CORTE No. | AJ10: FECHA
A11: =+'CORTE No. 2'!B108 -> 2.1 | B11: =+'CORTE No. 2'!F108 -> UN | C11: =+'CORTE No. 2'!C108:E108 -> SUMINISTRO, INSTALACIÓN DE SALIDA DE ILUMINACIÓN PROMEDIO 6 M DE LONGITUD, INCLUYE TUBERÍA TIPO E.M.T, INTERRUPTOR, RESANES. CONDUCTOR CALIBRE 12 AWG, THWN/THHW, HILO DE CONTINUIDAD, CAJAS GALVANIZADA Y ACCESORIOS. INCLUYE ACCESORIOS, HERRAMIENTOS, EQUIPOS Y TODOS LOS ELEMENTOS NECESARIOS PARA SU CORRECTA INSTALACION. | M11: GENERAL | AB11: 2
A13: ÁREA O LUGAR ESPECIFICO | C13: DIMENSIONES | G13: MEDIDA TOTAL | H13: PLANO O REGISTRO GRÁFICO O ESQUEMA
C14: LARGO | D14: ANCHO | E14: ALTO | F14: CANT.
A15: SALIDA ILUMINACIÓN ARCHIVO SEGUNDO PISO | F15: 6 | G15: =+F15 -> 6
A16: SALIDA DE ILUMINACIÓN ARCHIVO FISCALIA | F16: 1 | G16: =+F16 -> 1
A17: SALIDA DE ILUMINACIÓN CUARTO FISCALIA | F17: 1 | G17: =+F17 -> 1
G56: =SUM(G15:G55) -> 8
A58: OBSERVACIONES
A59: N.A
C62: QUIEN ENTREGA | M62: QUIEN RECIBE:
C66: ING.HECTOR PARDO | H66: ARQ. JOHNY ALEXANDER HERNANDEZ
C67: RESIDENTE DE OBRA

Sheet INSTALACIONES ELÉCTRICAS 2.3
A1: CONSORCIO JHS - CONSTRUCCIONES AL DIA | C1: MEMORIAS DE CANTIDADES DE OBRA
A3: INFORMACIÓN GENERAL DEL CONTRATO
A4: CONTRATISTA DE OBRA: | B4: CONSORCIO JHS - CONSTRUCCIONES AL DIA | H4: N° CONTRATO DE OBRA | P4: CO1_PCCNTR_5116115 | X4: DE | AA4: 2023 | AF4: pag. | AM4: de
