Workbook
Name _: #REF!
Name _: #REF!
Name _: #REF!
Name ___AFC1: [1]INV!$A$25:$D$28
Name ___AFC3: [1]INV!$F$25:$I$28
Name ___AFC5: [1]INV!$K$25:$N$28
Name ___BGC1: [1]INV!$A$5:$D$8
Name ___BGC3: [1]INV!$F$5:$I$8
Name ___BGC5: [1]INV!$K$5:$N$8
Name ___CAC1: [1]INV!$A$19:$D$22
Name ___CAC3: [1]INV!$F$19:$I$22
Name ___CAC5: [1]INV!$K$19:$N$22
Name ___EST1: #REF!
Name ___EST1: #REF!
Name ___EST1: #REF!
Name ___EST10: #REF!
Name ___EST10: #REF!
Name ___EST10: #REF!
Name ___EST11: #REF!
Name ___EST11: #REF!
Name ___EST11: #REF!
Name ___EST12: #REF!
Name ___EST12: #REF!
Name ___EST12: #REF!
Name ___EST13: #REF!
Name ___EST13: #REF!
Name ___EST13: #REF!
Name ___EST14: #REF!
Name ___EST14: #REF!
Name ___EST14: #REF!
Name ___EST15: #REF!
Name ___EST15: #REF!
Name ___EST15: #REF!
Name ___EST16: #REF!
Name ___EST16: #REF!
Name ___EST16: #REF!
Name ___EST17: #REF!
Name ___EST17: #REF!
Name ___EST17: #REF!
Name ___EST18: #REF!
Name ___EST18: #REF!
Name ___EST18: #REF!
Name ___EST19: #REF!
Name ___EST19: #REF!
Name ___EST19: #REF!
Name ___EST2: #REF!
Name ___EST2: #REF!
Name ___EST2: #REF!
Name ___EST3: #REF!
Name ___EST3: #REF!
Name ___EST3: #REF!
Name ___EST4: #REF!
Name ___EST4: #REF!
Name ___EST4: #REF!
Name ___EST5: #REF!
Name ___EST5: #REF!
Name ___EST5: #REF!
Name ___EST6: #REF!
Name ___EST6: #REF!
Name ___EST6: #REF!

Sheet Conformación
A1: UNIDAD DE SERVICIOS PENITENCIARIOS Y CARCELARIOS – USPEC “LA CONSTRUCCIÓN Y EQUIPAMIENTO DEL ESTABLECIMIENTO DE RECLUSIÓN DEL ORDEN NACIONAL – ERON DE MEDIANA SEGURIDAD ETAPA I, ADECUADO PARA LA OPERACIÓN POR PARTE DEL INPEC, EN SABANAS DE SAN ÁNGEL, DEPARTAMENTO DEL MAGDALENA, POR EL SISTEMA DE PRECIOS UNITARIOS CON FORMULA DE AJUSTE, PARA LO CUAL, ACTUALIZARÁ Y COMPLEMENTARÁ LOS ESTUDIOS, DISEÑOS, PLANOS Y ESPECIFICACIONES SUMINISTRADOS POR LA USPEC.” LICITACION PÚBLICA DE OBRA USPEC-LP-83-2019
A4: No. | B4: NOMBRE DEL OFERENTE | C4: REPRESENTANTE LEGAL | D4: ESTRUCTURA PLURAL | E4: Integrante 1 | F4: % Int. 1 | G4: Integrante 2 | H4: % Int. 2 | I4: INTEGRANTE 3 | J4: % Int. 3 | K4: INTEGRANTE 4 | L4: % Int. 4 | M4: INTEGRANTE 5 | N4: % Int. 5 | O4: Telefono | P4: FAX | Q4: Direccion | R4: Email | S4: Ciudad | T4: ANTICIPO
A5: 1 | B5: CONSORCIO UM SAN ANGEL | C5: SERGIO MARIN VALENCIA | D5: (MARVAL S.A. 75% - URBANIZADORA MARIN VALENCIA S.A. 20% - MELO Y ALVAREZ INGENIERIA S.A.S 5%- 0%- 0%) | E5: MARVAL S.A. | F5: 0.75 | G5: URBANIZADORA MARIN VALENCIA S.A. | H5: 0.2 | I5: MELO Y ALVAREZ INGENIERIA S.A.S | J5: 0.05
A6: 2 | B6: CONSORCIO SABANAS | C6: JAIRO ENRIQUE VARELA FIHOLL | D6: (VALERA FIHOLL & CIA S.A.S 50% - ARQUITECTURA Y CONCRETO S.A.S 50% - 0%- 0%- 0%) | E6: VALERA FIHOLL & CIA S.A.S | F6: 0.5 | G6: ARQUITECTURA Y CONCRETO S.A.S | H6: 0.5
A7: 3 | B7: UNIÓN TEMPORAL SAN ÁNGEL 2020 | C7: CARLOS ALBERTO FERRERA SANDINO | D7: (SAINC INGENIEROS S.A.S| 50% - CYG INGENIERIA Y CONSTRUCCIONES S.A.S 15% - PROYECTOS DE INGENIERIA S.A PROING S.A 15%-DISICO S.A. 15%-SEGURYTECNIA DE COLOMBIA S.A.S 5%) | E7: SAINC INGENIEROS S.A.S| | F7: 0.5 | G7: CYG INGENIERIA Y CONSTRUCCIONES S.A.S | H7: 0.15 | I7: PROYECTOS DE INGENIERIA S.A PROING S.A | J7: 0.15 | K7: DISICO S.A. | L7: 0.15 | M7: SEGURYTECNIA DE COLOMBIA S.A.S | N7: 0.05
A8: 4 | B8: UT ERON ETAPA I | C8: EDUARDO SANTOS MARTINEZ | D8: (CONSTRUCCIONES DANFEL S.A.S 50% - A CONSTRUIR S.A 50% - 0%- 0%- 0%) | E8: CONSTRUCCIONES DANFEL S.A.S | F8: 0.5 | G8: A CONSTRUIR S.A | H8: 0.5
A9: 5 | B9: CONSORCIO FUNDACION 2020 | C9: ALFREDO MUÑOZ RODRIGUEZ | D9: (CONSTRUCTORA CON-UNION LTDA 50% - MEYAN S.A. 20% - AMR CONSTRUCCIONES S.A.S 15%-CONSTRUCTORA AMCO LTDA 15%- 0%) | E9: CONSTRUCTORA CON-UNION LTDA | F9: 0.5 | G9: MEYAN S.A. | H9: 0.2 | I9: AMR CONSTRUCCIONES S.A.S | J9: 0.15 | K9: CONSTRUCTORA AMCO LTDA | L9: 0.15
A11: 7
A12: 8
A13: 9
A14: 10
A15: 11
A16: 12
A17: 13
A18: 14
A19: 15
A20: 16
A21: 17
A22: 18
... A26: 22

Sheet FASE 1 CONSULTORIA
A1: UNIDAD DE SERVICIOS PENITENCIARIOS Y CARCELARIOS – USPEC “LA CONSTRUCCIÓN Y EQUIPAMIENTO DEL ESTABLECIMIENTO DE RECLUSIÓN DEL ORDEN NACIONAL – ERON DE MEDIANA SEGURIDAD ETAPA I, ADECUADO PARA LA OPERACIÓN POR PARTE DEL INPEC, EN SABANAS DE SAN ÁNGEL, DEPARTAMENTO DEL MAGDALENA, POR EL SISTEMA DE PRECIOS UNITARIOS CON FORMULA DE AJUSTE, PARA LO CUAL, ACTUALIZARÁ Y COMPLEMENTARÁ LOS ESTUDIOS, DISEÑOS, PLANOS Y ESPECIFICACIONES SUMINISTRADOS POR LA USPEC.” LICITACION PÚBLICA DE OBRA USPEC-LP-83-2019 | W1: AÑO | X1: SMMLV
W2: 1999 | X2: 236460
A3: EXPERIENCIA TÉCNICA HABILITANTE DEL PROPONENTE | W3: 2000 | X3: 260100
W4: 2001 | X4: 286000
W5: 2002 | X5: 309000
A6: Para acreditar la experiencia en consultoría el proponente deberá aportar: MÁXIMO TRES (3) certificaciones de contratos y/o actas de liquidación y/o acta de recibo a satisfacción de contratos cuyo objeto y/o alcance sea en: “ESTUDIOS Y DISEÑOS PARA CONSTRUCCION Y/O REHABILITACION Y/O ADECUACION Y/O AMPLIACION Y/O MEJORAMIENTO Y/O MANTENIMIENTO DE ESTABLECIMIENTOS PENITENCIARIOS Y/O CARCELARIOS Y/O EDIFICACIONES PUBLICAS Y/O DEFENSA”. NOTA: Para el presente proceso se entenderá como edificaciones públicas aquellas referentes a edificaciones de administración pública y/o edificaciones de seguridad y/o edificaciones de salud y/o edificaciones de justicia. Las certificaciones deberán sumar en conjunto, un valor igual o superior al CIEN POR CIENTO (100%) del P.O.E. del componente de consultoría expresado en SMMLV para la Fase 1 de Planeamiento y Pre - Construcción, equivalente a OCHOCIENTOS SETENTA Y UN MILLONES SETECIENTOS CUATRO MIL SEISCIENTOS TREINTA Y SEIS PESOS M/CTE ($871.704.636.) | W6: 2003 | X6: 332000
A7: CODIGOS UNSPSC | C7: 711015 811015 801016 | W7: 2004 | X7: 358000
W8: 2005 | X8: 381500
W9: 2006 | X9: 408000
W10: 2007 | X10: 433700
B11: SMMLV 2019 | C11: POE | D11: POE EN SMMLV 2019 | E11: SMMLV MINIMOS | H11: FECHA DE CIERRE | I11: TERMINADOS EN LOS ULTIMOS X AÑOS | J11: CONTRATOS TERMINADOS ANTES DE: | V11: 1989 | W11: 2008 | X11: 461500
B12: 828116 | C12: 871704636 | D12: =C12/B12 -> 1052.6359 | E12: 1052.6359 | H12: 43801 | I12: 20 | J12: 36496 | V12: 1990
B14: Oferente | E14: 1 | F14: CONSORCIO UM SAN ANGEL | W14: 2009 | X14: 496900
F15: (MARVAL S.A. 75% - URBANIZADORA MARIN VALENCIA S.A. 20% - MELO Y ALVAREZ INGENIERIA S.A.S 5%- 0%- 0%) | W15: 2010 | X15: 515000
Q16: INTEGRANTES | W16: 2011 | X16: 535600
Q17: #REF! | R17: #REF! | S17: #REF! | T17: #REF! | U17: #REF!
A18: No | B18: PROPIETARIO O ENTIDAD CONTRATANTE | C18: CTO RUP | D18: UNSPSC | E18: APORTADA POR | F18: % en Cto | G18: OBJETO | H18: Fecha de Terminación | I18: Folio | J18: VALOR | K18: SMMLV | L18: OBSERVACIONES | P18: #REF! | Q18: #REF! | R18: #REF! | S18: #REF! | T18: #REF! | V18: 2012 | W18: 566700
A19: 1 | B19: MINISTERIO DEL INTERIOR Y DE JUSTICIA | C19: 4 | D19: 811015 | E19: MARVAL S.A. | F19: 0.005 | G19: AJUSTE A LOS DISEÑOS ARQUITECTONICOS Y TECNICOS LOS ESTUDIOS DEFINITIVOS CONSTRUCCION Y DOTACION DEL CENTRO PENITENCIARIO DE MEDIANA SEGURIDAD EL BARNE EN COMBITA | H19: 37484 | I19: N.A | J19: 318868452 | K19: =(J19*F19)/$X$5 -> 5.1596837 | M19: #REF! | P19: #REF! | Q19: #REF! | R19: #REF! | S19: #REF! | T19: #REF! | V19: 2013 | W19: 589500
C20: 3 | D20: 811015 | E20: URBANIZADORA MARIN VALENCIA S.A. | F20: 0.37 | H20: 37484 | I20: N.A | J20: 318868452 | K20: =(J20*F20)/$X$5 -> 381.81659 | M20: #REF! | P20: #REF! | Q20: #REF! | R20: #REF! | S20: #REF! | T20: #REF! | V20: 2014 | W20: 616000
A21: 2 | B21: MINISTERIO DEL INTERIOR Y DE JUSTICIA | C21: 1 | D21: 811015 | E21: MARVAL S.A. | F21: 0.3 | G21: AJUSTES A LOS DISEÑOS ARQUITECTONICOS Y TECNICOS DEFINITIVOS PRESUPUESTO CON SUS RESPECTIVOS APUs Y LISTA DE PRECIOS DE MATERIALES RENDIMIENTOS Y MANO DE OBRA (…..) PARA LA CONSTRUCCION DE OBRA LAS OBRAS DE URBANISMO LA CONSTRUCCION DEL CENTRO PENITENCIARIO DE MEDIANA SEGURIDAD SAN ISIDRO REGIONAL OCCIDENTE EN EL MUNICIPIO DE POPAYAN. | H21: 37330 | I21: N.A | J21: 234512580 | K21: =(J21*F21)/$X$5 -> 227.68212 | M21: #REF! | P21: #REF! | Q21: #REF! | R21: #REF! | S21: #REF! | T21: #REF! | V21: 2015 | W21: 644350
C22: 1 | D22: 811015 | E22: URBANIZADORA MARIN VALENCIA S.A. | F22: 0.3 | H22: 37330 | I22: N.A | J22: 234512580 | K22: =(J22*F22)/$X$5 -> 227.68212 | M22: #REF! | V22: 2016 | W22: 689454
A23: 3 | B23: ESE HOSPITAL UNIVERSITARIO DE SANTANDER | C23: 2 | D23: 811015 | E23: MELO Y ALVAREZ INGENIERIA S.A.S | F23: 0.5 | G23: ELABORACION DE LOS ESTUDIOS DE VULNERABILIDAD SISMICA ESTRUCTURAL Y REDISEÑO DEL REFUERZO DEL EDIFICIO EN EL CUAL FUNCIONA LA E.S.E HOSPITAL UNIVERSITARIO DE SANTANDER, ESTUDIOS PARA LA ACTUALIZACION DE LA EDIFICACION AL (……) CONSECUENCIA DE LA INTERVENCION RESULTANTE DE LOS ESTUDIOS DE CONSULTORIA | H23: 39370 | I23: N.A | J23: 345120000 | L23: TENIENDO EN CUENTA QUE LA SOCIEDAD MELO Y ALVAREZ INGENIERIA S.A.S FUE CONSTITUIDA CON UNA ANTELACIÓN AL CIERRE DEL PROCESO MAYOR DE 3 AÑOS, Y QUE ÉSTA APORTA UN CONTRATO PARA ACREDITAR EXPERIENCIA A TRAVÉS DE UNO DE SUS SOCIOS - SOCIEDAD MELO Y ALVAREZ PROYECTISTAS Y CONSTRUCTORES ASOCIADOS LTDA; NO ES POSIBLE TENERLO EN CUENTA, NI DAR APLICACIÓN AL NUMERAL 2.5 DEL ARTICULO 2.2.1.1.1.5.2 DEL DECRETO 1082 de 2015, YA QUE TENIENDO MAS DE 3 AÑOS DE INSCRITA EN EL RUP, DEBERÁ APORTAR EXPERIENCIA A NOMBRE PROPIO Y NO A TRAVÈS DE SOCIOS Y/O ACCIONISTA. POR LO ANTERIOR Y AL NO TENER COMO VALIDO ÉSTE CONTRATO, EL INTEGRANTE MELO Y ALVAREZ INGENIERIA S.A.S NO APORTA EXPERIENCIA DENTRO DEL PRESENTE PROCESO Y NO CUMPLE CON LO DISPUESTO EN EL NUMERAL 5,3 DEL ANEXO DE CONDICIONES QUE SEÑALA: TODOS LOS INTEGRANTES DE LA ESTRUCTURA PLURAL, DEBEN ACREDITAR EXPERIENCIA EN LOS TÉRMINOS EXIGIDOS PARA LA ACREDITACIÓN DE EXPERIENCIA DEL PROPONENTE. ASÍ LAS COSAS, EL PROPONENTE CONSORCIO UM SAN ANGEL SE ENCUETRA INCURSO EN LA CAUSAL DE RECHAZO No. 1 QUE CITA: 1) Cuando el oferente no cumpla con alguno de los requisitos mínimos o las condiciones de los requisitos mínimos exigidos en el presente documento. | M23: #REF! | P23: #REF! | Q23: #REF! | R23: #REF! | S23: #REF! | T23: #REF! | V23: 2017 | W23: 737717
J24: TOTAL | K24: =SUM(K19:K23) -> 842.34051 | L24: =IF(K24>=$D$12,"SI CUMPLE 1 VEZ EL POE","NO CUMPLE 1 VEZ EL POE") -> NO CUMPLE 1 VEZ EL POE | V24: 2018 | W24: 781242
J25: EVALUACION | L25: =IF(L24="SI CUMPLE 1 VEZ EL POE","HABILITADO","NO HABILITADO") -> NO HABILITADO
B28: Oferente | E28: 2 | F28: CONSORCIO SABANAS
F29: (VALERA FIHOLL & CIA S.A.S 50% - ARQUITECTURA Y CONCRETO S.A.S 50% - 0%- 0%- 0%)
A31: No | B31: PROPIETARIO O ENTIDAD CONTRATANTE | C31: CTO RUP | D31: UNSPSC | E31: APORTADA POR | F31: % en Cto | G31: OBJETO | H31: Fecha de Terminación | I31: Folio | J31: VALOR | K31: SMMLV | L31: OBSERVACIONES
A32: 1 | B32: DIRECCION DE SANIDAD DE LA POLICIA | C32: 54 | D32: 811015 | E32: VALERA FIHOLL & CIA S.A.S | F32: 0.29 | G32: CONSTRUCCION DEL ESTABLECIMIENTO DE SANIDAD POLICIAL DE SEGUNDO NIVEL CON INTERNACION QUE INCLUYE ELABORACION DE ESTUDIOS Y DISEÑOS TECNICOS LICENCIAS Y PERMISOS EN EL SUR DE BOGOTA POR EL SISTEMA LLAVE EN MANO A PRECIO GLOBAL FIJO | H32: 41936 | I32: N.A. | J32: 549279720 | K32: =(J32*F32)/$W$20 -> 258.58948 | L32: Presenta certificaciòn del contrato y Resolución de terminación unilateral donde consta que el contrato se encuentra terminado, acredintando la experiencia requerida en consultoria por la Entidad.
C33: 113 | D33: 811015 801016 | E33: ARQUITECTURA Y CONCRETO S.A.S | F33: 0.51 | H33: 41936 | I33: N.A. | J33: 549279720 | K33: =(J33*F33)/$W$20 -> 454.76081
A34: 2 | B34: DIRECCION DE SANIDAD DE LA POLICIA | C34: 61 | D34: 811015 | E34: VALERA FIHOLL & CIA S.A.S | F34: 0.4 | G34: ESTUDIOS TECNICOS DISEÑOS LICENCIAS PERMISOS Y CONSTRUCCION DE LA CLINICA DE SEGUNDO NIVEL SIN INTERNACION EN LA CIUDAD DE VILLAVICENCIO - META POR EL SISTEMA LLAVE EN MANO A PRECIO GLOBAL Y PRECIO FIJO | H34: 41968 | I34: N.A. | J34: 355818400 | K34: =(J34*F34)/$W$20 -> 231.05091 | L34: Presenta certificaciòn del contrato y Resolución de terminación unilateral donde consta que el contrato se encuentra terminado, acredintando la experiencia requerida en consultoria por la Entidad.
C35: 112 | D35: 811015 | E35: ARQUITECTURA Y CONCRETO S.A.S | F35: 0.4 | H35: 41968 | I35: N.A. | J35: 355818400 | K35: =(J35*F35)/$W$20 -> 231.05091
A36: 3 | B36: DIRECCION GENERAL DE SANIDAD MILITAR | C36: 63 | D36: 811015 | E36: VALERA FIHOLL & CIA S.A.S | F36: 0.465 | G36: DISEÑO Y CONSTRUCCION, TRAMITES, DOTACION Y EQUIPOS DE UN ESTABLECIMIENTO DE SANIDAD MILITAR CONJUNTO FAC-ARC DE MEDIANA COMPLEJIDAD EN BOGOTÁ | H36: 43220 | I36: N.A. | J36: 1814784677 | K36: =(J36*F36)/$W$24 -> 1080.1709
C37: 103 | D37: 811015 | E37: ARQUITECTURA Y CONCRETO S.A.S | F37: 0.465 | H37: 43220 | I37: N.A. | J37: 1814784677 | K37: =(J37*F37)/$W$24 -> 1080.1709
J38: TOTAL | K38: =SUM(K32:K37) -> 3335.7939 | L38: =IF(K38>=$D$12,"SI CUMPLE 1 VEZ EL POE","NO CUMPLE 1 VEZ EL POE") -> SI CUMPLE 1 VEZ EL POE
E39: =46.5+46.5 -> 93 | J39: EVALUACION | L39: =IF(L38="SI CUMPLE 1 VEZ EL POE","HABILITADO","NO HABILITADO") -> HABILITADO
B42: Oferente | E42: 3 | F42: UNIÓN TEMPORAL SAN ÁNGEL 2020
F43: (SAINC INGENIEROS S.A.S| 50% - CYG INGENIERIA Y CONSTRUCCIONES S.A.S 15% - PROYECTOS DE INGENIERIA S.A PROING S.A 15%-DISICO S.A. 15%-SEGURYTECNIA DE COLOMBIA S.A.S 5%)
A46: No | B46: PROPIETARIO O ENTIDAD CONTRATANTE | C46: CTO RUP | D46: UNSPSC | E46: APORTADA POR | F46: % en Cto | G46: OBJETO | H46: Fecha de Terminación | I46: Folio | J46: VALOR | K46: SMMLV | L46: OBSERVACIONES
A47: 1 | B47: GOBERNACION VALLE DEL CAUCA | C47: 43 | D47: 811015 | E47: SEGURYTECNIA DE COLOMBIA S.A.S | F47: 1 | G47: CONTRATAR LA CONSULTORÍA ESPECIALIZADA PARA LA ELABORACIÓN DE LOS ESTUDIOS Y DISEÑOS DEL CONTRO DE COMANDO Y CONTROL DEL DEPARTAMENTO DEL VALLE DEL CAUCA A NIVEL DE EMERGENCIAS Y ORDEN PÚBLICO | H47: 43318 | I47: N.A. | J47: 1349959500 | K47: 1727.9659
J48: TOTAL | K48: =K47 -> 1727.9659 | L48: =IF(K48>=$D$12,"SI CUMPLE 1 VEZ EL POE","NO CUMPLE 1 VEZ EL POE") -> SI CUMPLE 1 VEZ EL POE
J49: EVALUACION | L49: =IF(L48="SI CUMPLE 1 VEZ EL POE","HABILITADO","NO HABILITADO") -> HABILITADO
B53: Oferente | E53: 4 | F53: UT ERON ETAPA I
F54: (CONSTRUCCIONES DANFEL S.A.S 50% - A CONSTRUIR S.A 50% - 0%- 0%- 0%)
A56: No | B56: PROPIETARIO O ENTIDAD CONTRATANTE | C56: CTO RUP | D56: UNSPSC | E56: APORTADA POR | F56: % en Cto | G56: OBJETO | H56: Fecha de Terminación | I56: Folio | J56: VALOR | K56: SMMLV | L56: OBSERVACIONES
A57: 1 | B57: CONCEJERIA DE SANIDAD Y CONSUMO DE LA COMUNIDAD DE MADRID | C57: 56 | D57: 811015 | E57: CONSTRUCCIONES DANFEL S.A.S | F57: 0.4 | G57: CONSTRUCCIÓN DEL HOSPITAL DEL TAJO EN LA LOCALIDAD DE ARANJUEZ, CONTRATADO POR LA CONCEJERÍA DE SANIDAD Y CONSUMO DE LA COMUNIDAD DE MADRID | H57: 39232 | J57: 3.2017027e+09 | K57: =(J57*F57)/X10 -> 2952.9193
J58: TOTAL | K58: =K57 -> 2952.9193 | L58: =IF(K58>=$D$12,"SI CUMPLE 1 VEZ EL POE","NO CUMPLE 1 VEZ EL POE") -> SI CUMPLE 1 VEZ EL POE
J59: EVALUACION | L59: =IF(L58="SI CUMPLE 1 VEZ EL POE","HABILITADO","NO HABILITADO") -> HABILITADO
B62: Oferente | E62: 5 | F62: CONSORCIO FUNDACION 2020
F63: (CONSTRUCTORA CON-UNION LTDA 50% - MEYAN S.A. 20% - AMR CONSTRUCCIONES S.A.S 15%-CONSTRUCTORA AMCO LTDA 15%- 0%)
A66: No | B66: PROPIETARIO O ENTIDAD CONTRATANTE | C66: CTO RUP | D66: UNSPSC | E66: APORTADA POR | F66: % en Cto | G66: OBJETO | H66: Fecha de Terminación | I66: Folio | J66: VALOR | K66: SMMLV | L66: OBSERVACIONES
A67: 1 | B67: FONADE | C67: 3 | D67: 721214 | E67: CONSTRUCTORA AMCO LTDA | F67: 0.13 | G67: REALIZAR LOS DISEÑOS ARQUITECTONICOS Y LOS ESTUDIOS TÉCNICOS DE LOS COMPLEJOS CARCELARIOS PENITENCIARIOS DE NÁPOLES - MUNICIPIO DE PUERTO TRIUNFO - ANTIOQUIA Y MEDELLÍN - CORREGIMEINTO DE SAN CRISTOBAL - ANTIOQUIA | H67: 38753 | I67: N.A. | J67: 1.6409451e+09 | K67: =(J67*F67)/$X$9 -> 522.85017
C68: 43 | D68: 721214 | E68: CONSTRUCTORA CON-UNION LTDA | F68: 0.8 | H68: 38753 | I68: N.A. | J68: 1.6409451e+09 | K68: =(J68*F68)/$X$9 -> 3217.5395 | L68: CONSTRUCTORA CON-UNION REGISTRADA EL 11/04/2018 APORTA SU EXPERIENCIA A TRAVÉS DE SU SOCIO EDIFICADORA URBE ANTES RMR CONSTRUCCIONES.
A69: 2 | B69: FONADE | C69: 8 | D69: 721214 | E69: CONSTRUCTORA AMCO LTDA | F69: 0.2 | G69: ELABORACIÓN DEL DISEÑO ARQUITECTONICO, DEMAS DISEÑOS Y ESTUDIOS TÉCNICOS NECESARIOS PARA EL PROYECTO CONSTRUCCIÓN, ADECUACIÓN Y DOTACIÓN DE LA ESCUELA DE CADETES DE POLICÍA GENERAL SANTANDER EN TABIO - CUNDINAMARCA | H69: 39416 | I69: N.A. | J69: 6078005600 | K69: =(J69*F69)/$X$10 -> 2802.8617
C70: 44 | D70: 721214 | E70: CONSTRUCTORA CON-UNION LTDA | F70: 0.8 | H70: 39416 | I70: N.A. | J70: 6078005600 | K70: =(J70*F70)/$X$10 -> 11211.447 | L70: CONSTRUCTORA CON-UNION REGISTRADA EL 11/04/2018 APORTA SU EXPERIENCIA A TRAVÉS DE SU SOCIO EDIFICADORA URBE ANTES RMR CONSTRUCCIONES.
J71: TOTAL | K71: =SUM(K67:K70) -> 17754.698 | L71: =IF(K71>=$D$12,"SI CUMPLE 1 VEZ EL POE","NO CUMPLE 1 VEZ EL POE") -> SI CUMPLE 1 VEZ EL POE
J72: EVALUACION | L72: =IF(L71="SI CUMPLE 1 VEZ EL POE","HABILITADO","NO HABILITADO") -> HABILITADO

Sheet FASE 2 OBRA
A1: UNIDAD DE SERVICIOS PENITENCIARIOS Y CARCELARIOS – USPEC “LA CONSTRUCCIÓN Y EQUIPAMIENTO DEL ESTABLECIMIENTO DE RECLUSIÓN DEL ORDEN NACIONAL – ERON DE MEDIANA SEGURIDAD ETAPA I, ADECUADO PARA LA OPERACIÓN POR PARTE DEL INPEC, EN SABANAS DE SAN ÁNGEL, DEPARTAMENTO DEL MAGDALENA, POR EL SISTEMA DE PRECIOS UNITARIOS CON FORMULA DE AJUSTE, PARA LO CUAL, ACTUALIZARÁ Y COMPLEMENTARÁ LOS ESTUDIOS, DISEÑOS, PLANOS Y ESPECIFICACIONES SUMINISTRADOS POR LA USPEC.” LICITACION PÚBLICA DE OBRA USPEC-LP-83-2019
Y2: AÑO | Z2: SMMLV
A3: EXPERIENCIA TÉCNICA HABILITANTE DEL PROPONENTE | Y3: 1999 | Z3: 236460
Y4: 2000 | Z4: 260100
Y5: 2001 | Z5: 286000
A6: Para acreditar la experiencia en obra el proponente deberá aportar:  MÁXIMO SEIS (6) certificaciones de contratos y/o actas de liquidación y/o acta de recibo a satisfacción de contratos cuyo objeto y/o alcance sea en: “CONSTRUCCION Y/O REHABILITACION Y/O ADECUACION Y/O AMPLIACION Y/O MEJORAMIENTO Y/O MANTENIMIENTO DE ESTABLECIMIENTOS PENITENCIARIOS Y/O CARCELARIOS Y/O EDIFICACIONES PUBLICAS Y/O DEFENSA”. NOTA: Para el presente proceso se entenderá como edificaciones públicas aquellas referentes a edificaciones de administración pública y/o edificaciones de seguridad y/o edificaciones de salud y/o edificaciones de justicia. | Y6: 2002 | Z6: 309000
A7: CODIGOS UNSPSC | C7: 721214 721414 921017 951217 951227 | Y7: 2003 | Z7: 332000
Y8: 2004 | Z8: 358000
Y9: 2005 | Z9: 381500
Y10: 2006 | Z10: 408000
B11: SMMLV 2019 | C11: POE | D11: POE EN SMMLV 2019 | E11: SMMLV EN CENTROS PENITENCIARIOS O CARCELARIOS | H11: FECHA DE CIERRE | I11: TERMINADOS EN LOS ULTIMOS X AÑOS | J11: CONTRATOS TERMINADOS DESPUÉ ANTES DE: | K11: 75% POE EN SMMLV 2019 | L11: 50% POE EN SMMLV 2019 | Y11: 2007 | Z11: 433700
B12: 828116 | C12: 185234749581 | D12: =C12/B12 -> 223682.13 | E12: =D12*10% -> 22368.213 | F12: =D12*10% -> 22368.213 | H12: 43801 | I12: 20 | J12: 36496 | K12: =(C12*75%)/B12 -> 167761.6 | L12: 111841.06 | Y12: 2008 | Z12: 461500
B14: Oferente | E14: 1 | F14: CONSORCIO UM SAN ANGEL | P14: SI
F15: (MARVAL S.A. 75% - URBANIZADORA MARIN VALENCIA S.A. 20% - MELO Y ALVAREZ INGENIERIA S.A.S 5%- 0%- 0%) | P15: NO | Y15: 2009 | Z15: 496900
S16: INTEGRANTES | Y16: 2010 | Z16: 515000
S17: MARVAL S.A. | T17: URBANIZADORA MARIN VALENCIA S.A. | U17: MELO Y ALVAREZ INGENIERIA S.A.S | V17: 0 | W17: 0 | Y17: 2011 | Z17: 535600
A18: No | B18: PROPIETARIO O ENTIDAD CONTRATANTE | C18: CTO RUP | D18: UNSPSC | E18: APORTADA POR | F18: % en Cto | G18: OBJETO | H18: Fecha de Terminación | I18: Folio | J18: VALOR | K18: SMMLV | L18: ESTABLECIMIENTO PENITENCIARIO O CARCELARIO? | M18: OBSERVACIONES | S18: 48222.534 | T18: 0 | U18: 0 | V18: 0 | W18: 0
A19: 1 | B19: FONADE | C19: 5 | D19: 721414 | E19: MARVAL S.A. | F19: 0.5 | G19: CONSTRUCCION DEL COMPLEJO PENITENCIARIO Y CARCELARIO DE CUCUTA QUE CONTIENE ESTABLECIMIENTO PENITENCIARIO DE MEDIANA SEGURIDAD ESTABLECIMIENTO CARCELARIO Y RECLUSION DE MUJERES EN CUCUTA - NORTE DE SANTANDER | H19: 40513 | I19: N.A. | J19: 60383385275 | K19: =(J19*F19)/$Z$16 -> 58624.646 | L19: SI | P19: #REF! | S19: 0 | T19: 46125.902 | U19: 0 | V19: 0 | W19: 0 | Y19: 2012 | Z19: 566700
C20: 4 | D20: 721414 | E20: URBANIZADORA MARIN VALENCIA S.A. | F20: 0.5 | H20: 40513 | I20: N.A. | J20: 60383385275 | K20: =(J20*F20)/$Z$16 -> 58624.646 | L20: SI | P20: #REF! | S20: 0 | T20: 0 | U20: 0 | V20: 0 | W20: 0 | Y20: 2013 | Z20: 589500
A21: 2 | B21: MINISTERIO DEL INTERIOR Y DE JUSTICIA | C21: 3 | D21: 951217 | E21: MARVAL S.A. | F21: 0.46 | G21: AJUSTE A DISEÑOS ARQUITECTONICOS ESTUDIOS TECNICOS (…..) QUE SE REQUIERAN PARA LA CONSTRUCCION DE OBRA, LAS OBRAS DE URBANISMO, LA CONSTRUCCION Y DOTACION DEL CENTRO PENITENCIARIO DE MEDIANA SEGURIDAD EN LA DORADA-CALDAS | H21: 37812 | I21: N.A. | J21: 34804090052 | K21: =(J21*F21)/$Z$7 -> 48222.534 | L21: SI | P21: #REF! | S21: 0 | T21: 58624.646 | U21: 0 | V21: 0 | W21: 0 | Y21: 2014 | Z21: 616000
C22: 2 | D22: 951217 | E22: URBANIZADORA MARIN VALENCIA S.A. | F22: 0.44 | H22: 37812 | I22: N.A. | J22: 34804090052 | K22: =(J22*F22)/$Z$7 -> 46125.902 | L22: SI | P22: #REF! | Y22: 2015 | Z22: 644350
A23: 3 | B23: MINISTERIO DEL INTERIOR Y DE JUSTICIA | C23: 1 | D23: 721414 | E23: MARVAL S.A. | F23: 0.3 | G23: AJUSTES A LOS DISEÑOS ARQUITECTONICOS Y TECNICOS DEFINITIVOS PRESUPUESTO CON SUS RESPECTIVOS APUs Y LISTA DE PRECIOS DE MATERIALES RENDIMIENTOS Y MANO DE OBRA (…..) PARA LA CONSTRUCCION DE OBRA LAS OBRAS DE URBANISMO LA CONSTRUCCION DEL CENTRO PENITENCIARIO DE MEDIANA SEGURIDAD SAN ISIDRO REGIONAL OCCIDENTE EN EL MUNICIPIO DE POPAYAN. | H23: 37330 | I23: N.A. | J23: 25596910840 | K23: =(J23*F23)/$Z$6 -> 24851.37 | L23: SI | P23: #REF! | S23: 24851.37 | T23: 0 | U23: 0 | V23: 0 | W23: 0 | Y23: 2016 | Z23: 689454
C24: 1 | D24: 721414 | E24: URBANIZADORA MARIN VALENCIA S.A. | F24: 0.3 | H24: 37330 | I24: N.A. | J24: 25596910840 | K24: =(J24*F24)/$Z$6 -> 24851.37 | L24: SI | P24: #REF! | S24: 376.97214 | T24: 0 | U24: 0 | V24: 0 | W24: 0
A25: 4 | B25: MINISTERIO DEL INTERIOR Y DE JUSTICIA | C25: 4 | D25: 721414 | E25: MARVAL S.A. | F25: 0.005 | G25: AJUSTE A LOS DISEÑOS ARQUITECTONICOS Y TECNICOS LOS ESTUDIOS DEFINITIVOS CONSTRUCCION Y DOTACION DEL CENTRO PENITENCIARIO DE MEDIANA SEGURIDAD EL BARNE EN COMBITA | H25: 37484 | I25: N.A. | J25: =29469937368-318868452 -> 29151068916 | L25: SI | M25: ÈSTE CONTRATO NO SERÁ TENIDO EN CUENTA POR LA ENTIDAD, CONFORME LA MANIFESTACIÓN REALIZADA POR EL PROPONENTE. SIN EMBARGO SU PROPUESTA SE ENCUENTRA RECHAZADA POR EL CONTRATO APORTADO POR EL INTEGRANTE MELO Y ALVAREZ INGENIERIA S.A.S EN LA FASE I | P25: #REF! | S25: 0 | T25: 27895.939 | U25: 0 | V25: 0 | W25: 0 | Y25: 2019 | Z25: 828116
C26: 3 | D26: 721414 | E26: URBANIZADORA MARIN VALENCIA S.A. | F26: 0.37 | H26: 37484 | I26: N.A. | J26: =29469937368-318868452 -> 29151068916 | L26: SI | P26: #REF! | S26: 0 | T26: 0 | U26: 0 | V26: 0 | W26: 0 | Y26: 2017 | Z26: 737717
A27: 5 | B27: MINISTERIO DE GOBIERNO - REPUBLICA DE PANAMA | C27: 11 | D27: 721414 | E27: MARVAL S.A. | G27: DISEÑO CONSTRUCCION Y EQUIPAMIENTO DEL NUEVO COMPLEJO PENITENCIARIO LA NUEVA JOYA | H27: 42155 | I27: N.A. | K27: =(J27*F27)/$Z$22 -> 0 | L27: SI | M27: ESTE CONTRATO NO SERÁ TENIDO EN CUENTA POR LA ENTIDAD, CONFORME LA MANIFESTACIÓN REALIZADA POR EL PROPONENTE. SIN EMBARGO SU PROPUESTA SE ENCUENTRA RECHAZADA POR EL CONTRATO APORTADO POR EL INTEGRANTE MELO Y ALVAREZ INGENIERIA S.A.S EN LA FASE I | P27: #REF! | S27: 0 | T27: 0 | U27: 0 | V27: 0 | W27: 0 | Y27: 2018 | Z27: 781242
I28: TOTAL | K28: =SUM(K19:K27) -> 261300.47 | L28: CUMPLE EL % DEL POE DE ACUERDO AL NUMERO DE CONTRATOS? | M28: =IF(K28>=$D$12,"CUMPLE","NO CUMPLE") -> CUMPLE
I29: SMMLV EN CENTROS PENITENCIARIOS O CARCELARIOS? | K29: =SUM(K21:K27) -> 144051.18 | L29: CUMPLE 10% DEL POE EN CPOC? | M29: =IF(K29>=$E$12,"CUMPLE","NO CUMPLE") -> CUMPLE
C30: % PARTICIPACIÓN | D30: EXPERIENCIA EN CONSULTORIA SMMLV | E30: EXPERIENCIA EN OBRA SMMLV | F30: TOTAL | G30: % EXPERIENCIA APORTADA
B31: MARVAL S.A. | C31: 0.75 | D31: ='FASE 1 CONSULTORIA'!K19+'FASE 1 CONSULTORIA'!K21 -> 232.8418 | E31: =K19+K21+K23+K25+K27 -> 131698.55 | F31: =SUM(D31:E31) -> 131931.39 | G31: =F31/F34 -> 0.50328061 | K31: * | L31: APORTA | M31: EL INTEGRANTE MARVAL S.A AL NO CUMPLIR CON LOS REQUISITOS PARA EL CONTRATO NO. 5 APORTADO DENTRO DEL PRESENTE PROCESO, NO CUMPLE CON LO ESTABLECIDO EN EL INCISO CUARTO DEL CAPITULO 5.3 "ESTRUCTURAS PLURALES" que cita: "El integrante del consorcio o unión temporal que aporte el mayor porcentaje de experiencia respecto de los otros integrantes, deberá tener una participación IGUAL O SUPERIOR AL 50% en el consorcio o unión temporal". Por lo anterior el proponente deberá subsanar lo indicado por la Entidad, toda vez que si bien, cumple los requisitos habilitantes técnicos de experiencia con los cuatro primeros contratos aportados, su porcentaje de experiencia acreditada no concuerda con el porcentaje de participaciòn en la estructura plural.
B32: URBANIZADORA MARIN VALENCIA S.A. | C32: 0.2 | D32: ='FASE 1 CONSULTORIA'!K20+'FASE 1 CONSULTORIA'!K22 -> 609.49871 | E32: =K20+K22+K24+K26 -> 129601.92 | F32: =SUM(D32:E32) -> 130211.42 | G32: =F32/F34 -> 0.49671939 | K32: NO CUMPLE | L32: APORTA
B33: MELO Y ALVAREZ INGENIERIA S.A.S | C33: 0.05 | D33: ='FASE 1 CONSULTORIA'!K23 -> 0 | E33: 0 | F33: =SUM(D33:E33) -> 0 | G33: =F33/F34 -> 0 | K33: *
E34: TOTAL | F34: =SUM(F31:F33) -> 262142.81 | G34: =SUM(G31:G33) -> 1 | K34: -
K35: -
K36: NO CUMPLE | L36: CUMPLE
K37: EVALUACION | M37: =IF(AND(M28="CUMPLE",M29="CUMPLE",K36="CUMPLE",L36="CUMPLE"),"HABILITADO","NO HABILITADO") -> NO HABILITADO
B39: Oferente | E39: 2 | F39: CONSORCIO SABANAS
F40: (VALERA FIHOLL & CIA S.A.S 50% - ARQUITECTURA Y CONCRETO S.A.S 50% - 0%- 0%- 0%)
A42: No | B42: PROPIETARIO O ENTIDAD CONTRATANTE | C42: CTO RUP | D42: UNSPSC | E42: APORTADA POR | F42: % en Cto | G42: OBJETO | H42: Fecha de Terminación | I42: Folio | J42: VALOR | K42: SMMLV | L42: ESTABLECIMIENTO PENITENCIARIO O CARCELARIO? | M42: OBSERVACIONES
A43: 1 | B43: FONADE | C43: 2 | D43: 721214 721414 | E43: VALERA FIHOLL & CIA S.A.S | F43: 0.3333 | G43: CONSTRUCCION DEL COMPLEJO PENITENCIARIO Y CARCELARIO QUE CONTIENE DOS (2) ESTABLECIMIENTOS CARCELARIOS Y UN (1) ESTABLECIMIENTO PENITENCIARIO DE ALTA SEGURIDAD EN BOGOTA D.C. | H43: 40431 | I43: N.A. | J43: 8.4550867e+10 | K43: =(J43*F43)/$Z$16 -> 54720.008 | L43: SI
C44: 8 | D44: 721214 721414 | E44: ARQUITECTURA Y CONCRETO S.A.S | F44: 0.3333 | H44: 40431 | I44: N.A. | J44: 8.4550867e+10 | K44: =(J44*F44)/$Z$16 -> 54720.008 | L44: SI
A45: 2 | B45: FONADE | C45: 1 | D45: 721214 951217 | E45: VALERA FIHOLL & CIA S.A.S | F45: 0.3333 | G45: CONSTRUCCION DEL COMPLEJO PENITENCIARIO Y CARCELARIO CON ESTABLECIMIENTO PENITENCIARIO DE MEDIANA Y ALTA SEGURIDAD PARA HOMRES Y ESTABLECIMIENTOS CARCELARIO Y RECLUSION DE MUJERES EN MEDELLIN (ANTIOQUIA) | H45: 40423 | I45: N.A. | J45: 8.8003655e+10 | K45: =(J45*F45)/$Z$16 -> 56954.599 | L45: SI
C46: 7 | D46: 721214 951217 | E46: ARQUITECTURA Y CONCRETO S.A.S | F46: 0.3333 | H46: 40423 | I46: N.A. | J46: 8.8003655e+10 | K46: =(J46*F46)/$Z$16 -> 56954.599 | L46: SI
A47: 3 | B47: DIRECCION DE SANIDAD DE LA POLICIA NACIONAL | C47: 44 | D47: 721214 | E47: VALERA FIHOLL & CIA S.A.S | F47: 0.4 | G47: ESTUDIOS TECNICOS, DISEÑOS, LICENCIAS, PERMISOS Y CONSTRUCCION DE LA CLINICA DE SEGUNDO NIVEL CON INTERNACION EN LA CIUDAD DE NEIVA | H47: 42102 | I47: N.A. | J47: =13648128000+1511394040 -> 15159522040 | K47: =(J47*F47)/$Z$22 -> 9410.7377 | L47: NO
C48: 80 | D48: 721214 | E48: ARQUITECTURA Y CONCRETO S.A.S | F48: 0.4 | H48: 42102 | I48: N.A. | J48: =15580000000-420477960 -> 15159522040 | K48: =(J48*F48)/$Z$22 -> 9410.7377 | L48: NO
A49: 4 | B49: FONDO ROTATORIO DE LA POLICIA | C49: 43 | D49: 721214 | E49: VALERA FIHOLL & CIA S.A.S | F49: 0.6 | G49: CONTRATAR BAJO LA MODALIDAD DE PRECIOS UNITARIOS FIJOS SIN FORMULA DE REAJUSTE LAS ACTIVIDADES REQUERIDAS PARA ACOMETER LA SEGUNDA ETAPA DE CONSTRUCCIONES DE LA CLINICA REGIONAL DE OCCIDENTE EN LA CIUDAD DE CALI | H49: 42004 | I49: N.A. | J49: 3.8210082e+10 | K49: =(J49*F49)/$Z$21 -> 37217.613 | L49: NO
C50: 54 | D50: 721214 | E50: ARQUITECTURA Y CONCRETO S.A.S | F50: 0.4 | H50: 42004 | I50: N.A. | J50: 3.8210082e+10 | K50: =(J50*F50)/$Z$21 -> 24811.742 | L50: NO
I51: TOTAL | K51: =SUM(K43:K50) -> 304200.04 | L51: CUMPLE EL % DEL POE DE ACUERDO AL NUMERO DE CONTRATOS? | M51: =IF(K51>=$K$12,"CUMPLE","NO CUMPLE") -> CUMPLE
C52: % PARTICIPACIÓN | D52: EXPERIENCIA EN CONSULTORIA SMMLV | E52: EXPERIENCIA EN OBRA SMMLV | F52: TOTAL | G52: % EXPERIENCIA APORTADA | I52: SMMLV EN CENTROS PENITENCIARIOS O CARCELARIOS? | K52: =SUM(K43:K46) -> 223349.21 | L52: CUMPLE 10% DEL POE EN CPOC? | M52: =IF(K52>=$E$12,"CUMPLE","NO CUMPLE") -> CUMPLE
B53: VALERA FIHOLL & CIA S.A.S | C53: 0.5 | D53: ='FASE 1 CONSULTORIA'!K32+'FASE 1 CONSULTORIA'!K34+'FASE 1 CONSULTORIA'!K36 -> 1569.8113 | E53: =K43+K45+K47+K49 -> 158302.96 | F53: =SUM(D53:E53) -> 159872.77 | G53: =F53/F55 -> 0.51985086
B54: ARQUITECTURA Y CONCRETO S.A.S | C54: 0.5 | D54: ='FASE 1 CONSULTORIA'!K33+'FASE 1 CONSULTORIA'!K35+'FASE 1 CONSULTORIA'!K37 -> 1765.9826 | E54: =K44+K46+K48+K50 -> 145897.09 | F54: =SUM(D54:E54) -> 147663.07 | G54: =F54/F55 -> 0.48014914 | K54: MAYOR | L54: APORTA
E55: TOTAL | F55: =SUM(F53:F55) -> 307535.84 | G55: =SUM(G53:G55) -> 1 | K55: * | L55: APORTA
K56: -
K57: -
K58: -
K59: CUMPLE | L59: CUMPLE
K60: EVALUACION | M60: =IF(AND(M51="CUMPLE",M52="CUMPLE",K59="CUMPLE",L59="CUMPLE"),"HABILITADO","NO HABILITADO") -> HABILITADO
B63: Oferente | E63: 3 | F63: UNIÓN TEMPORAL SAN ÁNGEL 2020
F64: (SAINC INGENIEROS S.A.S| 50% - CYG INGENIERIA Y CONSTRUCCIONES S.A.S 15% - PROYECTOS DE INGENIERIA S.A PROING S.A 15%-DISICO S.A. 15%-SEGURYTECNIA DE COLOMBIA S.A.S 5%)
A67: No | B67: PROPIETARIO O ENTIDAD CONTRATANTE | C67: CTO RUP | D67: UNSPSC | E67: APORTADA POR | F67: % en Cto | G67: OBJETO | H67: Fecha de Terminación | I67: Folio | J67: VALOR | K67: SMMLV | L67: ESTABLECIMIENTO PENITENCIARIO O CARCELARIO? | M67: OBSERVACIONES
A68: 1 | B68: FONADE | C68: 7 | D68: 721214 | E68: CYG INGENIERIA Y CONSTRUCCIONES S.A.S | F68: 0.33 | G68: CONSTRUCCIÓN DEL ESTABLECIMIENTO PENITENCIARIO DE MEDIANA SEGURIDAD EN ACACIAS - META | H68: 40560 | I68: N.A. | J68: 3.7109621e+10 | K68: =(J68*F68)/Z17 -> 22864.404 | L68: SI
A69: 2 | B69: FONADE | C69: 10 | D69: 721214 | E69: DISICO S.A. | F69: 0.25 | G69: CONSTRUCCIÓN DEL COMPLEJO PENITENCIARIO Y CARCELARIO QUE CONTIENE ESTABLECIMIENTO PENITENCIARIO DE MEDIANA Y MÍNIMA SEGURIDAD PARA HOMBRES Y RECLUSIÓN DE MUJERES, EN PUERTO TRIUNFO, ANTIOQUIA | H69: 40441 | I69: N.A. | J69: 4.8097988e+10 | K69: =(J69*F69)/Z16 -> 23348.538 | L69: SI
A70: 3 | B70: USPEC | C70: 40 | D70: 721214 | E70: CYG INGENIERIA Y CONSTRUCCIONES S.A.S | F70: 0.21 | G70: CONSTRUCCIÓN DE UN SECTOR DE MEDIANA SEGURIDAD Y OBRAS CONEXAS EN EL ESTABLECIMEINTO CARCELARIO Y PENITENCIARIO DE TULUÁ - VALLE DEL CAUCA | H70: 43008 | I70: N.A. | J70: 65610040126 | K70: =(J70*F70)/Z26 -> 18676.686 | L70: SI
C71: 74 | D71: 721214 | E71: DISICO S.A. | F71: 0.51 | H71: 43008 | I71: N.A. | J71: 65610040126 | K71: =(J71*F71)/Z27 -> 42830.673 | L71: SI
C72: 24 | D72: 721214 | E72: PROYECTOS DE INGENIERIA S.A PROING S.A | F72: 0.28 | H72: 43008 | I72: N.A. | J72: 65610040126 | K72: =(J72*F72)/Z26 -> 24902.247 | L72: SI
A73: 4 | B73: EMPRESA DE DESARROLLO URBANO - EDU | C73: 291 | D73: 721214 | E73: SAINC INGENIEROS S.A.S| | F73: 0.5 | G73: CONSTRUCCIÓN DEL CENTRO INTEGRAL DE SERVICIOS AMBULATORIOS PARA LA MUJER Y LA FAMILIA EN EL MUNICIPIO DE MEDELLIN | H73: 42768 | I73: N.A. | J73: 21195577912 | K73: =(J73*F73)/Z26 -> 14365.656 | L73: NO
A74: 5 | B74: MINISTERIO DE DEFENSA NACIONAL | C74: 213 | D74: 951227 | E74: SAINC INGENIEROS S.A.S| | F74: 1 | G74: CONSTRUCCIÓN DE LA PRIMERA ETAPA EDIFICIO ADMINISTRATIVO JEFATURA DE DESARROLLO HUMANO (JEDEH), UBICADO EN EL CANTÓN CALDAS EN LA CIUDAD DE BOGOTÁ D.C. | H74: 42185 | I74: N.A. | J74: 28960984593 | K74: =(J74*F74)/Z27 -> 37070.44 | L74: NO
A75: 6 | B75: FISCALIA GENERAL DE LA NACIÓN | C75: 117 | D75: 721414 | E75: SAINC INGENIEROS S.A.S| | F75: 0.5 | G75: EL CONTRATISTA SE OBLIGA CON LA FISCALÍA A REALIZAR BAJO LA MODALIDAD DE PRECIO GLOBAL CON FÓRMULA DE REAJUSTE Y PLAZO FIJO, LA CONSTRUCCIÓN DE LA AMPLIACIÓN DE LA SEDE DEL NIVEL CENTRAL DE LA FISCALIA GENERAL DE LA NACIÓN | H75: 41766 | I75: N.A. | J75: 5.8043246e+10 | K75: =(J75*F75)/Z21 -> 47113.024 | L75: NO
I76: TOTAL | K76: =SUM(K68:K75) -> 231171.67 | L76: CUMPLE EL % DEL POE DE ACUERDO AL NUMERO DE CONTRATOS? | M76: =IF(K76>=$D$12,"CUMPLE","NO CUMPLE") -> CUMPLE
I77: SMMLV EN CENTROS PENITENCIARIOS O CARCELARIOS? | K77: =SUM(K68:K72) -> 132622.55 | L77: CUMPLE 10% DEL POE EN CPOC? | M77: =IF(K77>=$E$12,"CUMPLE","NO CUMPLE") -> CUMPLE
C78: % PARTICIPACIÓN | D78: EXPERIENCIA EN CONSULTORIA SMMLV | E78: EXPERIENCIA EN OBRA SMMLV | F78: TOTAL | G78: % EXPERIENCIA APORTADA
B79: SAINC INGENIEROS S.A.S| | C79: 0.5 | D79: 0 | E79: =K73+K74+K75 -> 98549.121 | F79: =SUM(D79:E79) -> 98549.121 | G79: =F79/$F$84 -> 0.42313987 | K79: MAYOR | L79: APORTA
B80: CYG INGENIERIA Y CONSTRUCCIONES S.A.S | C80: 0.15 | D80: 0 | E80: =K68+K70 -> 41541.09 | F80: =SUM(D80:E80) -> 41541.09 | G80: =F80/$F$84 -> 0.17836477 | K80: CUMPLE | L80: APORTA
B81: PROYECTOS DE INGENIERIA S.A PROING S.A | C81: 0.15 | D81: 0 | E81: =K72 -> 24902.247 | F81: =SUM(D81:E81) -> 24902.247 | G81: =F81/$F$84 -> 0.10692266 | K81: CUMPLE | L81: APORTA
B82: DISICO S.A. | C82: 0.15 | D82: 0 | E82: =K69+K71 -> 66179.211 | F82: =SUM(D82:E82) -> 66179.211 | G82: =F82/$F$84 -> 0.28415335 | K82: CUMPLE | L82: APORTA
B83: SEGURYTECNIA DE COLOMBIA S.A.S | C83: 0.05 | D83: ='FASE 1 CONSULTORIA'!K47 -> 1727.9659 | E83: 0 | F83: =SUM(D83:E83) -> 1727.9659 | G83: =F83/$F$84 -> 0.0074193584 | K83: CUMPLE
E84: TOTAL | F84: =SUM(F79:F83) -> 232899.63 | G84: =SUM(G79:G83) -> 1 | K84: CUMPLE | L84: CUMPLE
K85: EVALUACION | M85: =IF(AND(M76="CUMPLE",M77="CUMPLE",K84="CUMPLE",L84="CUMPLE"),"HABILITADO","NO HABILITADO") -> HABILITADO
B89: Oferente | E89: 4 | F89: UT ERON ETAPA I
F90: (CONSTRUCCIONES DANFEL S.A.S 50% - A CONSTRUIR S.A 50% - 0%- 0%- 0%)
A92: No | B92: PROPIETARIO O ENTIDAD CONTRATANTE | C92: CTO RUP | D92: UNSPSC | E92: APORTADA POR | F92: % en Cto | G92: OBJETO | H92: Fecha de Terminación | I92: Folio | J92: VALOR | K92: SMMLV | L92: ESTABLECIMIENTO PENITENCIARIO O CARCELARIO? | M92: OBSERVACIONES
A93: 1 | B93: DEPARTAMENTO DEL ATLANTICO | C93: 41 | D93: 721214 | E93: A CONSTRUIR S.A | F93: 1 | G93: CONSTRUCCIÓN DEL CENTRO REGIONAL DE ATENCIÓN Y REPARACIÓN DE VICTIMAS EN EL MUNICIPIO DE SOLEDAD | H93: 42202 | I93: N.A. | J93: 1741875988 | K93: =(J93*F93)/Z22 -> 2703.3072 | L93: NO
A94: 2 | B94: MINISTRO DEL INTERIOR DEL URUGUAI | C94: 65 | D94: 721214 | E94: CONSTRUCCIONES DANFEL S.A.S | F94: 0.5 | G94: OBRAS DE CONSTRUCCIÓN DE LOS MODULOS 9 Y 10 DEL ESTABLECIMIENTO PENITENCIARIO COMPLEJO CARCELARIO SANTIAGO VASQUEZ | H94: 41495 | I94: N.A. | J94: 3.8765945e+10 | K94: =(J94*F94)/Z20 -> 32880.36 | L94: SI | M94: SUBSANÓ APORTANDO COPIA DE LA TARJETA PROFESIONAL, CERTIFICADO DE LA JUNTA CENTRAL DE CONTADORES Y VIGENCIA Y COPIA DE LA CEDULA DE GINA SALTAREN QUIEN ACTUA COMO CONTADORA
A95: 3 | B95: CONCEJERIA DE SANIDAD Y CONSUMO DE LA COMUNIDAD DE MADRID | C95: 56 | D95: 811015 | E95: CONSTRUCCIONES DANFEL S.A.S | F95: 0.4 | G95: CONSTRUCCIÓN DEL HOSPITAL DEL TAJO EN LA LOCALIDAD DE ARANJUEZ, CONTRATADO POR LA CONCEJERÍA DE SANIDAD Y CONSUMO DE LA COMUNIDAD DE MADRID | H95: 39232 | I95: N.A. | J95: 6.9315236e+10 | K95: =(J95*F95)/Z11 -> 63929.201 | L95: NO | M95: SUBSANÓ APORTANDO COPIA DE LA TARJETA PROFESIONAL, CERTIFICADO DE LA JUNTA CENTRAL DE CONTADORES Y VIGENCIA Y COPIA DE LA CEDULA DE GINA SALTAREN QUIEN ACTUA COMO CONTADORA
A96: 4 | B96: SECRETARIA DE SALUD DE MEXICO | C96: 66 | D96: 721214 | E96: CONSTRUCCIONES DANFEL S.A.S | F96: 0.47 | G96: CONSTRUCCIÓN DEL HOSPITAL REGIONAL DE ALTA ESPECILAIDAD DE IXTAPALUCA Y UNIDAD DE APOYO | H96: 40786 | I96: N.A. | J96: 9.691576e+11 | K96: =(J96*F96)/Z17 -> 850455.7 | L96: NO
I97: TOTAL | K97: =SUM(K93:K96) -> 949968.57 | L97: CUMPLE EL % DEL POE DE ACUERDO AL NUMERO DE CONTRATOS? | M97: =IF(K97>=$D$12,"CUMPLE","NO CUMPLE") -> CUMPLE
I98: SMMLV EN CENTROS PENITENCIARIOS O CARCELARIOS? | K98: =SUM(K94) -> 32880.36 | L98: CUMPLE 10% DEL POE EN CPOC? | M98: =IF(K98>=$E$12,"CUMPLE","NO CUMPLE") -> CUMPLE
C99: % PARTICIPACIÓN | D99: EXPERIENCIA EN CONSULTORIA SMMLV | E99: EXPERIENCIA EN OBRA SMMLV | F99: TOTAL | G99: % EXPERIENCIA APORTADA
B100: CONSTRUCCIONES DANFEL S.A.S | C100: 0.5 | D100: ='FASE 1 CONSULTORIA'!K57 -> 2952.9193 | E100: =K94+K95+K96 -> 947265.26 | F100: =SUM(D100:E100) -> 950218.18 | G100: =F100/F102 -> 0.4831243 | K100: MAYOR | L100: APORTA
B101: A CONSTRUIR S.A | C101: 0.5 | D101: 0 | E101: =K91+K93+K95+K97 -> 1016601.1 | F101: =SUM(D101:E101) -> 1016601.1 | G101: =F101/F102 -> 0.5168757 | K101: CUMPLE | L101: APORTA
E102: TOTAL | F102: =SUM(F100:F101) -> 1966819.3 | G102: =SUM(G100:G101) -> 1 | K102: -
K103: -
K104: -
K105: CUMPLE | L105: CUMPLE
K106: EVALUACION | M106: =IF(AND(M97="CUMPLE",M98="CUMPLE",K105="CUMPLE",L105="CUMPLE"),"HABILITADO","NO HABILITADO") -> HABILITADO
Y107: 2011 | Z107: 535600
B109: Oferente | E109: 5 | F109: CONSORCIO FUNDACION 2020
F110: (CONSTRUCTORA CON-UNION LTDA 50% - MEYAN S.A. 20% - AMR CONSTRUCCIONES S.A.S 15%-CONSTRUCTORA AMCO LTDA 15%- 0%)
A113: No | B113: PROPIETARIO O ENTIDAD CONTRATANTE | C113: CTO RUP | D113: UNSPSC | E113: APORTADA POR | F113: % en Cto | G113: OBJETO | H113: Fecha de Terminación | I113: Folio | J113: VALOR | K113: SMMLV | L113: ESTABLECIMIENTO PENITENCIARIO O CARCELARIO? | M113: OBSERVACIONES
A114: 1 | B114: FUERZA AEREA COLOMBIANA | C114: 50 | D114: 721214 | E114: CONSTRUCTORA CON-UNION LTDA | F114: 0.5 | G114: EJECUTAR A PRECIO GLOBAL FIJO PARA EL MINISTERIO LOS ESTUDIOS, DISEÑO Y CONSTRUCCIÓN DE LA BASE AEREA EN LETICIA, AMAZONAS. | H114: 31/11/2011 | I114: N.A. | J114: 37513520000 | K114: =(J114*F114)/$Z$17 -> 35020.09 | L114: NO | M114: CONSTRUCTORA CON-UNION REGISTRADA EL 11/04/2018 APORTA SU EXPERIENCIA A TRAVÉS DE SU SOCIO EDIFICADORA URBE ANTES RMR CONSTRUCCIONES.
...

Sheet FACTOR DE CALIDAD
A1: UNIDAD DE SERVICIOS PENITENCIARIOS Y CARCELARIOS – USPEC “LA CONSTRUCCIÓN Y EQUIPAMIENTO DEL ESTABLECIMIENTO DE RECLUSIÓN DEL ORDEN NACIONAL – ERON DE MEDIANA SEGURIDAD ETAPA I, ADECUADO PARA LA OPERACIÓN POR PARTE DEL INPEC, EN SABANAS DE SAN ÁNGEL, DEPARTAMENTO DEL MAGDALENA, POR EL SISTEMA DE PRECIOS UNITARIOS CON FORMULA DE AJUSTE, PARA LO CUAL, ACTUALIZARÁ Y COMPLEMENTARÁ LOS ESTUDIOS, DISEÑOS, PLANOS Y ESPECIFICACIONES SUMINISTRADOS POR LA USPEC.” LICITACION PÚBLICA DE OBRA USPEC-LP-83-2019
A3: FACTOR DE CALIDAD
A6: Para este caso, el proponente deberá presentar junto con la presentación de su propuesta los siguientes ofrecimientos adicionales con los cuales podrá obtener un puntaje máximo de 19 puntos, distribuidos así:
B12: Oferente | E12: 1 | F12: CONSORCIO UM SAN ANGEL | J12: 10 | K12: 8 | L12: 1
F13: (MARVAL S.A. 75% - URBANIZADORA MARIN VALENCIA S.A. 20% - MELO Y ALVAREZ INGENIERIA S.A.S 5%- 0%- 0%)
A16: No | B16: CRITERIO | G16: PUNTOS | H16: OBSERVACIONES
A17: A | B17: Ofrece la instalación en el sitio de la obra de sede o sucursal de laboratorio certificado, para los ensayos en suelos, concretos y materiales pétreos. Esta instalación incluye los equipos y máquinas con certificado de calibración, el personal con la correspondiente certificación de idoneidad para llevar a cabo los ensayos. Según las especificaciones contenidas en el Anexo No.4 | G17: 0 | H17: POR ENCONTRASE RECHAZADA LA OFERTA AL NO CUMPLIR CON LOS REQUISITOS TECNICOS HABILITANTES, NO ES SUSCEPTIBLE DE OTORGARSE PUNTAJE
A18: B | B18: Ofrecer la contratación de por lo menos el 10% de la mano de obra no calificada proveniente del Departamento. El oferente deberá oficiar a los entes territoriales para informar el inicio del proyecto y solicitar las hojas de vida del personal. | G18: 0 | H18: POR ENCONTRASE RECHAZADA LA OFERTA AL NO CUMPLIR CON LOS REQUISITOS TECNICOS HABILITANTES, NO ES SUSCEPTIBLE DE OTORGARSE PUNTAJE
A19: C | B19: Ofrece dos capacitaciones al año en el objeto del contrato (mínimo cuatro (4) horas por capacitación), dirigidas tanto al personal del contrato que presta el servicio como al personal de la Entidad. Los temas de la capacitación se definirán en acuerdo con la USPEC. Las capacitaciones para el personal de la Entidad se deben realizar en las instalaciones de la USPEC. | G19: 0 | H19: POR ENCONTRASE RECHAZADA LA OFERTA AL NO CUMPLIR CON LOS REQUISITOS TECNICOS HABILITANTES, NO ES SUSCEPTIBLE DE OTORGARSE PUNTAJE
E20: PUNTAJE TOTAL | G20: =SUM(G17:G19) -> 0
B23: Oferente | E23: 2 | F23: CONSORCIO SABANAS
F24: (VALERA FIHOLL & CIA S.A.S 50% - ARQUITECTURA Y CONCRETO S.A.S 50% - 0%- 0%- 0%)
A27: No | B27: CRITERIO | G27: PUNTOS | H27: OBSERVACIONES
A28: A | B28: Ofrece la instalación en el sitio de la obra de sede o sucursal de laboratorio certificado, para los ensayos en suelos, concretos y materiales pétreos. Esta instalación incluye los equipos y máquinas con certificado de calibración, el personal con la correspondiente certificación de idoneidad para llevar a cabo los ensayos. Según las especificaciones contenidas en el Anexo No.4 | G28: 10
A29: B | B29: Ofrecer la contratación de por lo menos el 10% de la mano de obra no calificada proveniente del Departamento. El oferente deberá oficiar a los entes territoriales para informar el inicio del proyecto y solicitar las hojas de vida del personal. | G29: 8
A30: C | B30: Ofrece dos capacitaciones al año en el objeto del contrato (mínimo cuatro (4) horas por capacitación), dirigidas tanto al personal del contrato que presta el servicio como al personal de la Entidad. Los temas de la capacitación se definirán en acuerdo con la USPEC. Las capacitaciones para el personal de la Entidad se deben realizar en las instalaciones de la USPEC. | G30: 1
E31: PUNTAJE TOTAL | G31: 19
B34: Oferente | E34: 3 | F34: UNIÓN TEMPORAL SAN ÁNGEL 2020
F35: (SAINC INGENIEROS S.A.S| 50% - CYG INGENIERIA Y CONSTRUCCIONES S.A.S 15% - PROYECTOS DE INGENIERIA S.A PROING S.A 15%-DISICO S.A. 15%-SEGURYTECNIA DE COLOMBIA S.A.S 5%)
A38: No | B38: CRITERIO | G38: PUNTOS | H38: OBSERVACIONES
A39: A | B39: Ofrece la instalación en el sitio de la obra de sede o sucursal de laboratorio certificado, para los ensayos en suelos, concretos y materiales pétreos. Esta instalación incluye los equipos y máquinas con certificado de calibración, el personal con la correspondiente certificación de idoneidad para llevar a cabo los ensayos. Según las especificaciones contenidas en el Anexo No.4 | G39: 10
A40: B | B40: Ofrecer la contratación de por lo menos el 10% de la mano de obra no calificada proveniente del Departamento. El oferente deberá oficiar a los entes territoriales para informar el inicio del proyecto y solicitar las hojas de vida del personal. | G40: 8
A41: C | B41: Ofrece dos capacitaciones al año en el objeto del contrato (mínimo cuatro (4) horas por capacitación), dirigidas tanto al personal del contrato que presta el servicio como al personal de la Entidad. Los temas de la capacitación se definirán en acuerdo con la USPEC. Las capacitaciones para el personal de la Entidad se deben realizar en las instalaciones de la USPEC. | G41: 1
E42: PUNTAJE TOTAL | G42: =SUM(G39:G41) -> 19
B45: Oferente | E45: 4 | F45: UT ERON ETAPA I
F46: (CONSTRUCCIONES DANFEL S.A.S 50% - A CONSTRUIR S.A 50% - 0%- 0%- 0%)
A49: No | B49: CRITERIO | G49: PUNTOS | H49: OBSERVACIONES
A50: A | B50: Ofrece la instalación en el sitio de la obra de sede o sucursal de laboratorio certificado, para los ensayos en suelos, concretos y materiales pétreos. Esta instalación incluye los equipos y máquinas con certificado de calibración, el personal con la correspondiente certificación de idoneidad para llevar a cabo los ensayos. Según las especificaciones contenidas en el Anexo No.4 | G50: 10
A51: B | B51: Ofrecer la contratación de por lo menos el 10% de la mano de obra no calificada proveniente del Departamento. El oferente deberá oficiar a los entes territoriales para informar el inicio del proyecto y solicitar las hojas de vida del personal. | G51: 8
A52: C | B52: Ofrece dos capacitaciones al año en el objeto del contrato (mínimo cuatro (4) horas por capacitación), dirigidas tanto al personal del contrato que presta el servicio como al personal de la Entidad. Los temas de la capacitación se definirán en acuerdo con la USPEC. Las capacitaciones para el personal de la Entidad se deben realizar en las instalaciones de la USPEC. | G52: 1
E53: PUNTAJE TOTAL | G53: =SUM(G50:G52) -> 19
B56: Oferente | E56: 5 | F56: CONSORCIO FUNDACION 2020
F57: (CONSTRUCTORA CON-UNION LTDA 50% - MEYAN S.A. 20% - AMR CONSTRUCCIONES S.A.S 15%-CONSTRUCTORA AMCO LTDA 15%- 0%)
A60: No | B60: CRITERIO | G60: PUNTOS | H60: OBSERVACIONES
A61: A | B61: Ofrece la instalación en el sitio de la obra de sede o sucursal de laboratorio certificado, para los ensayos en suelos, concretos y materiales pétreos. Esta instalación incluye los equipos y máquinas con certificado de calibración, el personal con la correspondiente certificación de idoneidad para llevar a cabo los ensayos. Según las especificaciones contenidas en el Anexo No.4 | G61: 10
A62: B | B62: Ofrecer la contratación de por lo menos el 10% de la mano de obra no calificada proveniente del Departamento. El oferente deberá oficiar a los entes territoriales para informar el inicio del proyecto y solicitar las hojas de vida del personal. | G62: 8
A63: C | B63: Ofrece dos capacitaciones al año en el objeto del contrato (mínimo cuatro (4) horas por capacitación), dirigidas tanto al personal del contrato que presta el servicio como al personal de la Entidad. Los temas de la capacitación se definirán en acuerdo con la USPEC. Las capacitaciones para el personal de la Entidad se deben realizar en las instalaciones de la USPEC. | G63: 1
E64: PUNTAJE TOTAL | G64: =SUM(G61:G63) -> 19

Sheet RESUMEN
C3: UNIDAD DE SERVICIOS PENITENCIARIOS Y CARCELARIOS – USPEC “LA CONSTRUCCIÓN Y EQUIPAMIENTO DEL ESTABLECIMIENTO DE RECLUSIÓN DEL ORDEN NACIONAL – ERON DE MEDIANA SEGURIDAD ETAPA I, ADECUADO PARA LA OPERACIÓN POR PARTE DEL INPEC, EN SABANAS DE SAN ÁNGEL, DEPARTAMENTO DEL MAGDALENA, POR EL SISTEMA DE PRECIOS UNITARIOS CON FORMULA DE AJUSTE, PARA LO CUAL, ACTUALIZARÁ Y COMPLEMENTARÁ LOS ESTUDIOS, DISEÑOS, PLANOS Y ESPECIFICACIONES SUMINISTRADOS POR LA USPEC.” LICITACION PÚBLICA DE OBRA USPEC-LP-83-2019
B6: CONSOLIDADO EVALUACION TECNICA PRELIMINAR
D7: FASE I CONSULTORIA | E7: FASE 2 OBRA | F7: EVALUACION TÉCNICA GENERAL | G7: APOYO A LA INDUSTRIA NACIONAL (10 PUNTOS) | H7: INCENTIVO PERSONAL CON DISCAPACIDAD (1 PUNTO) | I7: FACTOR DE CALIDAD (19 PUNTOS) | J7: OFERTA ECONOMICA (70 PUNTOS) | K7: TOTAL | L7: OBSERVACIONES
B8: 1 | C8: CONSORCIO UM SAN ANGEL | D8: RECHAZADO | E8: RECHAZADO | F8: RECHAZADO | G8: 0 | H8: 0 | I8: 0 | K8: =SUM(G8:J8) -> 0
B9: 2 | C9: CONSORCIO SABANAS | D9: =IF('FASE 1 CONSULTORIA'!L39="HABILITADO","HABILITADO","NO HABILITADO") -> HABILITADO | E9: =IF('FASE 2 OBRA'!M60="HABILITADO","HABILITADO","NO HABILITADO") -> HABILITADO | F9: =IF(AND(D9="HABILITADO",E9="HABILITADO"),"HABILITADO","NO HABILITADO") -> HABILITADO | G9: 10 | H9: 1 | I9: 19 | K9: =SUM(G9:J9) -> 30
B10: 3 | C10: UNIÓN TEMPORAL SAN ÁNGEL 2020 | D10: =IF('FASE 1 CONSULTORIA'!L49="HABILITADO","HABILITADO","NO HABILITADO") -> HABILITADO | E10: =IF('FASE 2 OBRA'!M85="HABILITADO","HABILITADO","NO HABILITADO") -> HABILITADO | F10: =IF(AND(D10="HABILITADO",E10="HABILITADO"),"HABILITADO","NO HABILITADO") -> HABILITADO | G10: 10 | H10: 1 | I10: 19 | K10: =SUM(G10:J10) -> 30
B11: 4 | C11: UT ERON ETAPA I | D11: =IF('FASE 1 CONSULTORIA'!L59="HABILITADO","HABILITADO","NO HABILITADO") -> HABILITADO | E11: =IF('FASE 2 OBRA'!M106="HABILITADO","HABILITADO","NO HABILITADO") -> HABILITADO | F11: =IF(AND(D11="HABILITADO",E11="HABILITADO"),"HABILITADO","NO HABILITADO") -> HABILITADO | G11: 10 | H11: 1 | I11: 19 | K11: =SUM(G11:J11) -> 30
B12: 5 | C12: CONSORCIO FUNDACION 2020 | D12: =IF('FASE 1 CONSULTORIA'!L72="HABILITADO","HABILITADO","NO HABILITADO") -> HABILITADO | E12: =IF('FASE 2 OBRA'!M131="HABILITADO","HABILITADO","NO HABILITADO") -> HABILITADO | F12: =IF(AND(D12="HABILITADO",E12="HABILITADO"),"HABILITADO","NO HABILITADO") -> HABILITADO | G12: 10 | H12: 0 | I12: 19 | K12: =SUM(G12:J12) -> 29
B13: 6 | C13: #N/A | D13: 15 | E13: 15
B14: #REF!
B15: #REF!
B16: #REF!
B17: #REF!
B18: #REF!
B19: #REF!
B20: #REF!
B21: #REF!
B22: #REF!
B23: #REF!
B24: #REF!
B25: #REF!
... B29: #REF!
