Workbook
Name RESPUESTASINO: 'Hoja 1 variables'!$B$2:$B$3
Name unocero: '[1]Hoja 1 variables'!$C$2:$C$3

Sheet EVALUACIÓN
B1: REGIÓN | C1: Región Noroccidente
A3: PROPONENTE | B3: ='1. Carta y exp habilitante'!B1:K1 -> COMUNICACIÓN CELULAR S.A. COMCEL S.A.
B4: Nota: Se entenderá el número 1 que se encuentra cumpliendo y 0 que no cumple
A6: REQUISITO HABILITANTE
A7: CAPACIDAD JURÍDICA | B7: 1
A8: CAPACIDAD FINANCIERA | B8: 1
A9: CAPACIDAD ORGANIZACIONAL | B9: 1
A10: EXPERIENCIA PROPONENTE | B10: 1
A11: HABILITADO | B11: =+IFERROR(IF(AND(B7:B10),1,0),0) -> 1
A13: PUNTAJE OBTENIDO
A14: CRITERIO DE EVALUACIÓN | B14: Puntaje Máximo | C14: Puntaje Proponente
A15: 1. Calidad de la Propuesta Cantidad de meses adicionales | B15: 49 | C15: =+'3. Calidad'!D8 -> 49
A16: 2. Oferta Económica Cantidad de accesos adicionales | B16: 40 | C16: ='4. Oferta Económica'!D8 -> 40
A17: 3. Apoyo Industria Nacional | B17: 10 | C17: =C25 -> 10
A18: 4. Proponentes con trabajadores con discapacidad | B18: 1 | C18: =B27 -> 0
A19: TOTAL | B19: =SUM(B15:B18) -> 100 | C19: =SUM(C15:C18) -> 99
A21: APOYO A LA INDUSTRIA NACIONAL | B21: PUNTAJE MÁXIMO | C21: PUNTAJE DEL PROPONENTE
A23: Cuando los proponentes oferten bienes o servicios nacionales. | B23: 10 | C23: 10
A24: Tratándose de bienes o servicios extranjeros, pero que incorpore servicios profesionales, técnicos y operativos de origen nacional. | B24: 5 | C24: 0
A25: Total puntaje apoyo a la industria nacional | C25: =+IFERROR(_xlfn.IFS(C23,10,C24,5),0) -> 10
A27: Puntaje para proponentes con trabajadores con discapacidad. | B27: 0 | C27: No cumple toda vez que el anexo No 12CERTIFICACION PROPONENTES TRABAJADORRES CON DISCAPACIDAD debe venir suscrito por el revisor fiscal. El proponente allega un anexo suscrito por Mariana Gomez Pinto en su calidad de revisora fiscal, el cual no acredita ninguna información teniendo en cuenta que no se encuentra diligenciado.

Sheet 1. Carta y exp habilitante
A1: PROPONENTE | B1: COMUNICACIÓN CELULAR S.A. COMCEL S.A.
A2: Nota: Se entenderá el número 1 que se encuentra cumpliendo y 0 que no cumple
A4: CARTA DE PRESENTACIÓN DE LA PROPUESTA
A6: MIEMBROS DEL PROPONENTE PLURAL: | B6: PORCENTAJE DE PARTICIPACIÓN | D6: ACREDITA LA EXPERIENCIA
A7: COMUNICACIÓN CELULAR -S.A. COMCEL.S.A | B7: 1 | D7: SI
A12: 1. EXPERIENCIA COMO REQUISITO HABILITANTE
A13: Valor acreditado en SMMLV por los contratos válidos de acuerdo a los requisitos habilitantes del numeral 5.3. del Pliego de Condiciones | I13: ='2. Experiencia habilitante'!N11 -> 400248.79
A16: Requisito mínimo habilitante en SMMLV | H16: Cumple con el requisito mínimo habilitante?
A17: REGION | D17: SMMLV POR REGION | H17: =IF(I13>=D18,1,0) -> 1
A18: =+EVALUACIÓN!C1 -> Región Noroccidente | D18: =VLOOKUP(A18,'Hoja 1 variables'!H3:K7,4,FALSE) -> 13911.095
A20: 2. REGISTRO OFICIAL COLOMBIA TIC
A21: Registro del último boletín trimestral de las TIC (Colombia TIC) | H21: Cantidad de Suscriptores de Internet fijo del proponente | J21: Cumple
A22: Número mínimo de veinticinco mil (25.000) suscriptores de Internet fijo a nivel nacional, incluyendo usuarios de tipo residencial y /o corporativo. | H22: 2610782 | J22: =+IF($H$22>=25000,1,0) -> 1

Sheet 2. Experiencia habilitante
A1: PROPONENTE | C1: =EVALUACIÓN!B3 -> COMUNICACIÓN CELULAR S.A. COMCEL S.A. | O1: =+C1 -> COMUNICACIÓN CELULAR S.A. COMCEL S.A.
A2: Nota: Se entenderá el número 1 que se encuentra cumpliendo y 0 que no cumple
A3: # Contrato | B3: Miembro que reporta la Experiencia | C3: Consecutivo RUP | D3: Clasificación UNSPSC | E3: Entidad Contratante | F3: El Proponente deberá acreditar su experiencia que acrediten experiencia en la prestación del servicio de Internet, observando la siguiente condición: • El objeto y/u obligaciones de los contratos aportados deberá contener actividades de prestación del servicio de Internet. | G3: Fecha de Inicio | H3: Fecha de terminación | I3: Forma de ejecución | K3: Valor del Contrato COP | L3: SMMLV del año de terminación del contrato | M3: Valor del Contrato en SMMLV | N3: Valor del Contrato en SMMLV (RUP) con % de participación | O3: RUP | S3: CERTIFICACION | Y3: CONTRATO VÁLIDO PARA HABILITAR | Z3: OBSERVACIONES
I4: I, C, UT | J4: % | O4: Valor del Contrato en SMMLV (RUP) | P4: Nombre del contratista (RUP) | Q4: Nombre del contratante (RUP) | R4: Porcentaje de participación en el valor ejecutado en caso de consorcios y uniones temporales (RUP) | S4: Objeto del Contrato. | T4: Actividades y /o obligaciones | U4: Identificación y cargo de la persona facultada para expedirla. | V4: Si la certificación incluye varios contratos, se debe identificar en forma precisa si se trata de adiciones, prórrogas u otrosíes al principal o son contratos diferentes, indicando en cada uno de ellos sus plazos y valor. | W4: Fecha de suscripción o de iniciación del Contrato. | X4: Fecha de terminación de los contratos suscritos, ejecutados y terminados dentro de los diez (10) años anteriores a la fecha de cierre del presente proceso de selección
A5: 1 | B5: COMUNICACIÓN CELULAR S.A. COMCEL S.A | C5: 2 | D5: 81161700-81112100-83111600 | E5: SERVICIO NACIONAL DE APRENDIZAJE- SENA | F5: El contratista se obliga a prestar los servicios de Tecnologías de información y comunicaciones, para la Dirección General, regionales, centros de formación profesional, tecnoparques, tecnoacademias, Oficinas del servicio nacional de empleo y aulas móviles del SENA, de acuerdo con las necesidades de la entidad, | G5: 40919 | H5: 42369 | I5: UT | J5: 0.5495 | K5: 4.4415002e+11 | L5: 644350 | M5: =K5/L5 -> 689299.32 | N5: =K5/L5 * J5 -> 378769.97 | O5: 689299.32 | P5: UNION TEMPORAL ASSENDA S.A.S., CARVAJAL TECNOLOGIAS Y SERVICIOS S.A.S, TELMEX COLOMBIA S.A.,53,50%(ABSORBIDO POR FUSION POR COMUNICACIÓN CELULAR S.A COMCEL-S.A) Y COMCEL S.A 1,45% | Q5: SERVICIO NACIONAL DE APRENDIZAJE . SENA | R5: 0.5495 | S5: CUMPLE | T5: CUMPLE | U5: CUMPLE | V5: Otrosí No 1: Modifica las cláusulas quinta, octava y decimosegunda. Otrosí No 2: modifica cláusula tercera forma de pago. Otrosí No 3: modifica la cláusula primera adiciona el contrato en $9.801.702.105. Otrosí No 4 adiciona $1.937.754.596. Otrosí No 5: adiciona $8.700.000.000 Prórroga, ajuste y adición No 6: Hasta $99.400.000.000 Prórroga ajuste y adición y plazo No 7 $ 18.579.746.110 Prórroga ajuste y adicción No 8 16.930.185.854. Prórroga ajuste y adición No 9 $2.899.813.213 | W5: CUMPLE | X5: CUMPLE | Y5: 1
A6: 2 | B6: COMUNICACIÓN CELULAR S.A. COMCEL S.A | C6: 55 | D6: 81161700-81112100-83111600 | E6: CINE COLOMBIA S.A. | F6: Prestación de servicios de seguridad de la información por intermedio del SOC, hosting y centro de computo telecomunicaciones, almacenamiento y back up, mesa de servicio para los productos contratados. | G6: 42005 | H6: 43101 | I6: I | J6: 1 | K6: 6465600000 | L6: 781242 | M6: 8382.03 | N6: 8382.03 | O6: 8382.03 | P6: TELMEX COLOMBIA S.A (ABSORBIDO POR FUSION POR COMUNICACIÓN CELULAR S.A. COMCEL S.A.) | Q6: CINE COLOMBIA S.A | R6: 1 | S6: NO CUMPLE | T6: NO CUMPLE | U6: CUMPLE | V6: NA | W6: CUMPLE | X6: CUMPLE | Y6: 0 | Z6: No cumple con el numeral 5.3 Experiencia mínima requerida- primer requisito, toda vez que el objeto y obligaciones del contrato aportado no contiene actividades de prestación del servicio de internet.
A7: 3 | B7: COMUNICACIÓN CELULAR S.A. COMCEL S.A | C7: 51 | D7: 81112100 | E7: CONSORCIO SALUD | F7: Servicios administrados de centro de datos, conectividad nacional, servicios de telefonía | G7: 40452 | H7: 42369 | I7: I | J7: 1 | K7: 13839872470 | L7: 644350 | M7: =K7/L7 -> 21478.812 | N7: =K7/L7 -> 21478.812 | O7: 21478.81 | P7: TELMEX COLOMBIA S.A (ABSORBIDO POR FUSION POR COMUNICACIÓN CELULAR S.A. COMCEL S.A.) | Q7: CONSORCIO SALUD | R7: 1 | S7: CUMPLE | T7: CUMPLE | U7: CUMPLE | V7: NA | W7: CUMPLE | X7: CUMPLE | Y7: 1
A8: 4 | Y8: 0
A9: 5 | Y9: 0
A10: 6 | Y10: 0
N11: =+SUMPRODUCT($N$5:$N$10,$Y$5:$Y$10) -> 400248.79

Sheet 3. Calidad
A1: PROPONENTE | C1: =EVALUACIÓN!B3 -> COMUNICACIÓN CELULAR S.A. COMCEL S.A.
A2: PROPUESTA DE CALIDAD
B3: Nota: Se entenderá el número 1 que se encuentra cumpliendo y 0 que no cumple
B4: Número de meses de operación adicionales | C4: Puntaje | D4: Puntaje proponente | E4: Observaciones
B5: 3 meses adicionales | C5: 30 puntos | D5: 0
B6: 6 meses adicionales | C6: 49 puntos | D6: 1
B7: 0 meses adicionales | C7: 0 puntos | D7: 0
B8: PUNTAJE TOTAL | D8: =+IFERROR(_xlfn.IFS(D5,30,D6,49,D7,0),0) -> 49

Sheet 4. Oferta Económica
A1: PROPONENTE | B1: =EVALUACIÓN!B3 -> COMUNICACIÓN CELULAR S.A. COMCEL S.A.
A2: PROPUESTA ECONÓMICA
A3: Nota: Se entenderá el número 1 que se encuentra cumpliendo y 0 que no cumple
A5: Región | B5: Suscriptores | C5: Puntaje | D5: Puntaje otorgado | E5: Observaciones
A6: =+EVALUACIÓN!C1 -> Región Noroccidente | B6: =+VLOOKUP($A$6,'Hoja 1 variables'!$H$12:$J$16,2,0) -> 1200 | C6: 20 | D6: 0
B7: =+VLOOKUP($A$6,'Hoja 1 variables'!$H$12:$J$16,3,0) -> 2000 | C7: 40 | D7: 1
A8: PUNTAJE | D8: =+IFERROR(_xlfn.IFS(D6,20,D7,40),0) -> 40

Sheet Hoja 1 variables
B2: SI | C2: 1 | D2: Año | E2: SMMLV | H2: Región | I2: Presupuesto oficial COP (estos montos son inamovibles por región) | J2: 0.3 | K2: SMMLV | N2: Región | O2: Puntaje
B3: NO | C3: 0 | D3: 2008 | E3: 461500 | H3: Región Centro | I3: 72000000000 | J3: =I3*J2 -> 21600000000 | K3: =J3/E14 -> 26083.302 | N3: Región Centro | O3: 20 puntos: 2.250 accesos
D4: 2009 | E4: 496900 | H4: Región Noroccidente | I4: 38400000000 | J4: =I4*J2 -> 11520000000 | K4: =J4/E14 -> 13911.095 | O4: 40 puntos: 3.750 accesos
B5: 100 | D5: 2010 | E5: 515000 | H5: Región Norte | I5: 33600000000 | J5: =I5*J2 -> 10080000000 | K5: =J5/E14 -> 12172.208 | N5: Región Noroccidente | O5: 20 puntos: 1.200 accesos
B6: 0 | D6: 2011 | E6: 535600 | H6: Región oriente | I6: 24000000000 | J6: =I6*J2 -> 7200000000 | K6: =J6/E14 -> 8694.4341 | O6: 40 puntos: 2.000 accesos
D7: 2012 | E7: 566700 | H7: Región sur | I7: 24000000000 | J7: =I7*J2 -> 7200000000 | K7: =J7/E14 -> 8694.4341 | N7: Región Norte | O7: 20 puntos: 1.050 accesos
D8: 2013 | E8: 589500 | H8: Total | I8: 192000000000 | J8: =SUM(J2:J7) -> 5.76e+10 | K8: =SUM(K3:K7) -> 69555.473 | O8: 40 puntos: 1.750 accesos
D9: 2014 | E9: 616000 | N9: Región oriente | O9: 20 puntos: 750 accesos
D10: 2015 | E10: 644350 | O10: 40 puntos: 1.250 accesos
D11: 2016 | E11: 689454 | K11: PUNTAJE | N11: Región sur | O11: 20 puntos: 750 accesos
D12: 2017 | E12: 737717 | H12: Región Centro | I12: 2250 | J12: 3750 | K12: 0 | O12: 40 puntos: 1.250 accesos
D13: 2018 | E13: 781242 | H13: Región Noroccidente | I13: 1200 | J13: 2000 | K13: 1
D14: 2019 | E14: 828116 | H14: Región Norte | I14: 1050 | J14: 1750
H15: Región oriente | I15: 750 | J15: 1250
H16: Región sur | I16: 750 | J16: 1250
H18: PUNTAJE
H19: 0
H20: 20
H21: 0
H22: 40
H24: OREDEN DE EVALUACION
H25: Región | I25: Orden establecido de acuerdo al monto del presupuesto oficial (de mayor a menor)
H26: Región Centro | I26: 1
H27: Región Noroccidente | I27: 2
H28: Región Norte | I28: 3
H29: Región oriente | I29: 4
H30: Región sur | I30: 5
G32: 1 | H32: Sea el único proponente habilitado para presentar oferta en la región evaluada; o
G33: 2 | H33: Supere al proponente que le sigue en orden de elegibilidad en al menos 20 puntos.
