Workbook
Name RESPUESTASINO: 'Hoja 1 variables'!$B$2:$B$3
Name unocero: '[1]Hoja 1 variables'!$C$2:$C$3

Sheet EVALUACIÓN
B1: REGION | C1: Región Norte
A3: PROPONENTE | B3: CONECTAMOS EL NORTE UT
B4: Nota: Se entenderá el número 1 que se encuentra cumpliendo y 0 que no cumple
A6: REQUISITO HABILITANTE
A7: CAPACIDAD JURÍDICA | B7: 1
A8: CAPACIDAD FINANCIERA | B8: 1
A9: CAPACIDAD ORGANIZACIONAL | B9: 1
A10: EXPERIENCIA PROPONENTE | B10: 1
A11: HABILITADO | B11: =+IFERROR(IF(AND(B7:B10),1,0),0) -> 1
A13: PUNTAJE OBTENIDO
A14: CRITERIO DE EVALUACIÓN | B14: PUNTAJE MÁXIMO | C14: Puntaje Proponente
A15: 1. Calidad Cantidad de meses adicionales | B15: 49 | C15: ='4. PROPUESTA CALIDAD'!D8 -> 49
A16: 2. Propuesta Económica Cantidad de accesos adicionales | B16: 40 | C16: ='5. PROPUESTA ECONOMICA'!D8 -> 40
A17: 3. Apoyo Industria Nacional | B17: 10 | C17: =C25 -> 10
A18: 4. Proponentes con trabajadores con discapacidad | B18: 1 | C18: =B27 -> 0
A19: TOTAL | B19: =SUM(B15:B18) -> 100 | C19: =SUM(C15:C18) -> 99
A21: APOYO A LA INDUSTRIA NACIONAL | B21: PUNTAJE MÁXIMO | C21: PUNTAJE DEL PROPONENTE
A23: Cuando los proponentes oferten bienes o servicios nacionales. | B23: 10 | C23: 10
A24: Tratándose de bienes o servicios extranjeros, pero que incorpore servicios profesionales, técnicos y operativos de origen nacional. | B24: 5 | C24: 0
A25: Total puntaje apoyo a la industria nacional | C25: =+IFERROR(_xlfn.IFS(C23,10,C24,5),0) -> 10
A27: Puntaje para proponentes con trabajadores con discapacidad. | B27: 0 | C27: Revisados los documentos aportados por el oferente se observa que no acredita el numero mínimo de (2) trabajadores con discapacidad exigidos en el numeral 6.1.4 del pliego de condiciones en razón al numero de trabajadores de planta que posee (100).

Sheet 1.Carta y exp habilitante
A1: PROPONENTE | B1: =EVALUACIÓN!B3 -> CONECTAMOS EL NORTE UT
E2: Nota: Se entenderá el número 1 que se encuentra cumpliendo y 0 que no cumple
A4: CARTA DE PRESENTACIÓN DE LA PROPUESTA
A6: MIEMBROS DEL PROPONENTE PLURAL: | B6: PORCENTAJE DE PARTICIPACIÓN | D6: ACREDITA LA EXPERIENCIA
A7: Sistemas y Telecomunicaciones del oriente S.A.S | B7: 0.5 | D7: SI
A8: DIALNET DE COLOMBIA S.A.E S P | B8: 0.5 | D8: SI
A12: 1. EXPERIENCIA COMO REQUISITO HABILITANTE
A13: Valor acreditado en SMMLV por los contratos válidos de acuerdo a los requisitos habilitantes del numeral 5.3. del Pliego de Condiciones | I13: ='2. Experiencia habilitante'!N11 -> 17949.988
A16: Requisito mínimo habilitante en SMMLV | H16: ='[2]1.Carta y exp habilitante'!$H$16:$K$16 -> Cumple con el requisito mínimo habilitante?
A17: ='[2]1.Carta y exp habilitante'!$A$17:$C$17 -> REGION | D17: ='[2]1.Carta y exp habilitante'!$D$17:$G$17 -> SMMLV POR REGION | H17: =+IF(I13>=D18,1,0) -> 1
A18: Región Norte | D18: =VLOOKUP(A18,'Hoja 1 variables'!H3:K8,4,FALSE) -> 14508.576
A20: 2. REGISTRO OFICIAL COLOMBIA TIC
A21: Registro del último boletín trimestral de las TIC (Colombia TIC) | H21: Cantidad de Suscriptores de Internet fijo del proponente | J21: Cumple
A22: Número mínimo de ( 12.734) suscriptores de Internet fijo a nivel nacional, incluyendo usuarios de tipo residencial y /o corporativo. | H22: =13067+25360 -> 38427 | J22: =+IF($H$22>=12734,1,0) -> 1

Sheet 2. Experiencia habilitante
A1: PROPONENTE | C1: =EVALUACIÓN!B3 -> CONECTAMOS EL NORTE UT
C2: Nota: Se entenderá el número 1 que se encuentra cumpliendo y 0 que no cumple
A3: # Contrato | B3: Miembro que reporta la Experiencia | C3: Consecutivo RUP | D3: Clasificación UNSPSC | E3: Entidad Contratante | F3: El Proponente deberá acreditar su experiencia que acrediten experiencia en la prestación del servicio de Internet, observando la siguiente condición: • El objeto y/u obligaciones de los contratos aportados deberá contener actividades de prestación del servicio de Internet. | G3: Fecha de Inicio | H3: Fecha de terminación | I3: Forma de ejecución | K3: Valor del Contrato COP | L3: SMMLV del año de terminación del contrato | M3: Valor del Contrato en SMMLV | N3: Valor del Contrato en SMMLV (RUP) con % de participación | O3: RUP | S3: CERTIFICACION | Y3: CONTRATO VÁLIDO PARA HABILITAR | Z3: OBSERVACIONES
I4: I, C, UT | J4: % | O4: Valor del Contrato en SMMLV (RUP) | P4: Nombre del contratista (RUP) | Q4: Nombre del contratante (RUP) | R4: Porcentaje de participación en el valor ejecutado en caso de consorcios y uniones temporales (RUP) | S4: Objeto del Contrato. | T4: Actividades y /o obligaciones | U4: Identificación y cargo de la persona facultada para expedirla. | V4: Si la certificación incluye varios contratos, se debe identificar en forma precisa si se trata de adiciones, prórrogas u otrosíes al principal o son contratos diferentes, indicando en cada uno de ellos sus plazos y valor. | W4: Fecha de suscripción o de iniciación del Contrato. | X4: Fecha de terminación de los contratos suscritos, ejecutados y terminados dentro de los diez (10) años anteriores a la fecha de cierre del presente proceso de selección
A5: 1 | B5: DIALNET DE COLOMBIA S.A. E.S.P. | C5: 56 | D5: 81161700 81112100 | E5: FONDO DE TECNOLOGIAS DE LA INFORMACION Y LAS COMUNICACIONES | F5: “Proyecto Conexiones Digitales II, orientado a la instalación, operación y mantenimiento de la infraestructura necesaria sobre las redes fijas y/o móviles, para la prestación de servicios en Banda Ancha en los municipios incluidos en departamentos ofertados, cumpliendo las condiciones y niveles de servicio exigidos en el Anexo Técnico”. | G5: 42369 | H5: 43335 | I5: I | J5: 1 | K5: 14023284244 | L5: ='Hoja 1 variables'!E13 -> 781242 | M5: =K5/L5 -> 17949.988 | N5: =M5*J5 -> 17949.988 | O5: 17949.98 | P5: DIALNET DE COLOMBIA S.A. E.S.P. | Q5: FONDO DE TECNOLOGIAS DE LA INFORMACION Y LAS COMUNICACIONES | R5: 1 | S5: CUMPLE | T5: CUMPLE | U5: CUMPLE | V5: N/A | W5: 42369 | X5: CUMPLE | Y5: 1
A6: 2 | B6: SISTEMAS Y TELECOMUNICACIONES DEL ORIENTE S.A.S | C6: 67 | D6: 81161700 81112100 83161100 | E6: FONDO DE TECNOLOGIAS DE LA INFORMACION Y LAS COMUNICACIONES | F6: “Proyecto Conexiones Digitales II, orientado a la instalación, operación y mantenimiento de la infraestructura necesaria sobre las redes fijas y/o móviles, para la prestación de servicios en Banda Ancha en los municipios incluidos en Departamentos ofertados, cumpliendo las condiciones y niveles de servicio exigidos en el Anexo Técnico”. | G6: 42369 | H6: 43464 | I6: I | J6: 1 | K6: 10284525369 | L6: ='Hoja 1 variables'!E13 -> 781242 | M6: =K6/L6 -> 13164.327 | N6: 7794.96 | O6: 7794.96 | P6: SISTEMAS Y TELECOMUNICACIONES DEL ORIENTE S.A.S | Q6: FONDO DE TECNOLOGIAS DE LA INFORMACION Y LAS COMUNICACIONES | R6: 1 | S6: CUMPLE | T6: CUMPLE | U6: CUMPLE | V6: N/A | W6: 42369 | X6: CUMPLE | Y6: 0 | Z6: De conformidad con el numeral 5.3.2 del pliego de condiciones, el proponente aporta acta de liquidación por valor de ($ 10.284.525.369) no coincide con el valor reportado en el RUP (7.794,96 SMMLV).
A7: 3 | B7: SISTEMAS Y TELECOMUNICACIONES DEL ORIENTE S.A.S | C7: 69 | D7: 81161700 81112100 83161100 | E7: FONDO DE TECNOLOGIAS DE LA INFORMACION Y LAS COMUNICACIONES | F7: “Proyecto Conexiones Digitales II, orientado al diseño, instalación, operación y mantenimiento de la infraestructura necesaria sobre las Redes Fijas y/o móviles, para la prestación de servicios en Banda Ancha en los municipios incluidos dentro de los departamentos ofertados, cumpliendo las condiciones y niveles de servicio exigidos en el Anexo Técnico”. | G7: 42369 | H7: 43449 | I7: ut | J7: 0.5 | K7: 23379088515 | L7: ='Hoja 1 variables'!E13 -> 781242 | M7: =K7/L7 -> 29925.54 | N7: =O7*J7 -> 8859.865 | O7: =17719.73 -> 17719.73 | P7: UNION TEMPORAL BAUMTIC UT | Q7: FONDO DE TECNOLOGIAS DE LA INFORMACION Y LAS COMUNICACIONES | R7: 0.5 | S7: CUMPLE | T7: CUMPLE | U7: CUMPLE | V7: CUMPLE | W7: 42369 | X7: CUMPLE | Y7: 0 | Z7: De conformidad con el numeral 5.3.2 del pliego de condiciones, el proponente aporta acta de liquidación cuyo valor ($ 23.379.088.515) no coincide con los salarios mínimos reportados en el RUP (17.719,73 smmlv ). se tomaron los smmlv reportados en el RUP.
A8: 4
A9: 5
A10: 6
N11: =+SUMPRODUCT($N$5:$N$10,$Y$5:$Y$10) -> 17949.988

Sheet 4. PROPUESTA CALIDAD
A1: PROPONENTE | C1: =EVALUACIÓN!B3 -> CONECTAMOS EL NORTE UT
A2: PROPUESTA DE CALIDAD
A3: Nota: Se entenderá el número 1 que se encuentra cumpliendo y 0 que no cumple
B4: Número de meses de operación adicionales | C4: Puntaje | D4: Puntaje proponente | E4: Observaciones
B5: 3 meses adicionales | C5: 30 puntos | D5: 0
B6: 6 meses adicionales | C6: 49 puntos | D6: 1
B7: 0 meses adicionales | C7: 0 puntos | D7: 0
B8: PUNTAJE TOTAL | D8: =+IFERROR(_xlfn.IFS(D5,30,D6,49,D7,0),0) -> 49

Sheet 5. PROPUESTA ECONOMICA
A1: PROPONENTE | B1: =EVALUACIÓN!B3 -> CONECTAMOS EL NORTE UT
A2: PROPUESTA ECONOMICA
A3: Nota: Se entenderá el número 1 que se encuentra cumpliendo y 0 que no cumple
A5: Región | B5: Suscriptores | C5: Puntaje | D5: propuesta oferente | E5: Observaciones
A6: Región Norte | B6: =+VLOOKUP($A$6,'Hoja 1 variables'!$H$12:$J$17,2,0) -> 834 | C6: 20 | D6: 0
B7: =+VLOOKUP($A$6,'Hoja 1 variables'!$H$12:$J$17,3,0) -> 1391 | C7: 40 | D7: 1
A8: PUNTAJE | D8: =+IFERROR(_xlfn.IFS(D6,20,D7,40),0) -> 40

Sheet Hoja 1 variables
B2: SI | C2: 1 | D2: Año | E2: SMMLV | H2: Región | I2: Presupuesto oficial COP (estos montos son inamovibles por región) | J2: 0.3 | K2: SMMLV | O2: 2020 | P2: 2021 | Q2: 2022 | R2: 2023 | S2: TOTAL
B3: NO | C3: 0 | D3: 2008 | E3: 461500 | H3: Región Centro | I3: =S3 -> 20291040000 | J3: =I3*J2 -> 6087312000 | K3: =J3/E14 -> 7350.7963 | N3: CENTRO | O3: 2794876966 | P3: 6763680000 | Q3: 6763680000 | R3: 3968803034 | S3: 20291040000
D4: 2009 | E4: 496900 | H4: Región Noroccidente | I4: =S4 -> 18336960000 | J4: =I4*J2 -> 5501088000 | K4: =J4/E14 -> 6642.8954 | N4: NOROCCIDENTE | O4: 2525723034 | P4: 6112320000 | Q4: 6112320000 | R4: 3586596966 | S4: 18336960000
B5: 100 | D5: 2010 | E5: 515000 | H5: Región Norte | I5: =S5 -> 40049280000 | J5: =I5*J2 -> 12014784000 | K5: =J5/E14 -> 14508.576 | N5: NORTE | O5: 5516366345 | P5: 13349760000 | Q5: 13349760000 | R5: 7833393655 | S5: 40049280000
B6: 0 | D6: 2011 | E6: 535600 | H6: Región oriente | I6: =S6 -> 39850560000 | J6: =I6*J2 -> 11955168000 | K6: =J6/E14 -> 14436.586 | N6: ORIENTE | O6: 5488994759 | P6: 13283520000 | Q6: 13283520000 | R6: 7794525241 | S6: 39850560000
D7: 2012 | E7: 566700 | H7: Region Caribe | I7: =S7 -> 30093120000 | J7: =I7*J2 -> 9027936000 | K7: =J7/E14 -> 10901.777 | N7: CARIBE | O7: 4145010207 | P7: 10031040000 | Q7: 10031040000 | R7: 5886029793 | S7: 30093120000
D8: 2013 | E8: 589500 | H8: Regios Sur | I8: =S8 -> 60179040000 | J8: =I8*J2 -> 18053712000 | K8: =J8/E14 -> 21800.946 | N8: SUR | O8: 8289028690 | P8: 20059680000 | Q8: 20059680000 | R8: 11770651310 | S8: 60179040000
D9: 2014 | E9: 616000 | H9: Total | I9: =SUM(I3:I8) -> 208800000000 | J9: =SUM(J3:J8) -> 62640000000 | K9: =SUM(K3:K8) -> 75641.577
D10: 2015 | E10: 644350
D11: 2016 | E11: 689454 | N11: Región | O11: Puntaje | Q11: REGION | R11: Meta Regional de nuevos suscriptores
D12: 2017 | E12: 737717 | H12: Región Centro | I12: 423 | J12: 705 | K12: 0 | N12: Región Sur | O12: 20 puntos: 1.254 accesos
D13: 2018 | E13: 781242 | H13: Región Noroccidente | I13: 382 | J13: 637 | K13: 1 | O13: 40 puntos: 2.090 accesos | Q13: Centro | R13: 14091
D14: 2019 | E14: 828116 | H14: Región Norte | I14: 834 | J14: 1391 | N14: Región Norte | O14: 20 puntos: 834 accesos | Q14: Noroccidente | R14: 12734
H15: Región oriente | I15: 830 | J15: 1384 | O15: 40 puntos: 1.391 accesos | Q15: Norte | R15: 27812
H16: Region Caribe | I16: 627 | J16: 1045 | N16: Región Oriente | O16: 20 puntos: 830 accesos | Q16: Oriente | R16: 27674
H17: Regios Sur | I17: 1254 | J17: 2090 | O17: 40 puntos: 1.384 accesos | Q17: Caribe | R17: 20898
N18: Región Caribe | O18: 20 puntos: 627 accesos | Q18: Sur | R18: 41791
O19: 40 puntos: 1.045 accesos | Q19: Total general | R19: 145000
H20: PUNTAJE | N20: Región Centro | O20: 20 puntos: 423 accesos
H21: 0 | O21: 40 puntos: 705 accesos
H22: 1 | N22: Región Noroccidente | O22: 20 puntos: 382 accesos
O23: 40 puntos: 637 accesos
G24: 1 | H24: Sea el único proponente habilitado para presentar oferta en la región evaluada
H26: Región | I26: Orden establecido de acuerdo al monto del presupuesto oficial (de mayor a menor)
H27: Región Sur | I27: 1
H28: Región Norte | I28: 2
H29: Región Oriente | I29: 3
H30: Región Caribe | I30: 4
H31: Región Centro | I31: 5
H32: Región Noroccidente | I32: 6
