Workbook

Sheet EVALUACIONES
B1: PROCESO No. | C1: MC-001-2024
B2: OBJETO GENERAL: | C2: CONTRATAR LA PRESTACIÓN DE SERVICIOS EXEQUIALES, DIRIGIDO A LA POBLACIÓN VULNERABLE DEL MUNICIPIO DE CHINCHINA
B3: PRESUPUESTO OFICIAL | C3: 18000000
B4: FECHA APERTURA SOBRE ECONOMICO | C4: 45307
B6: NOMBRE | C6: CC/NIT | D6: VALOR | E6: CRITERIO | F6: OBSERVACIONES
A7: 1 | B7: JARDINES DEL RENACER | C7: 900340724 | D7: =+'01 JARDINES DEL RENACER'!F13 -> 1785060 | E7: NO CUMPLE
A8: 2 | B8: LA AURORA | C8: 900541903 | D8: =+'02 LA AURORA'!F13 -> 1688000 | E8: NO CUMPLE | F8: VALOR MINIMO OFERTADO - SOLICITAR ACLARACIÓN POR PRECIOS ARTIFICIALMENTE BAJOS
B14: ANA MARÍA GÓMEZ URIBE
B15: SECRETARIA ADMINISTRATIVA Y FINANCIERA
B16: MIEMBRO DEL COMITÉ EVALUADOR
B18: Proyectó: Cristian Leyton Mejia, Asesor Financiero - Contratista

Sheet VLRMINIMO
B1: PROCESO No. | C1: =+EVALUACIONES!C1 -> MC-001-2024
B2: OBJETO GENERAL: | C2: =+EVALUACIONES!C2 -> CONTRATAR LA PRESTACIÓN DE SERVICIOS EXEQUIALES, DIRIGIDO A LA POBLACIÓN VULNERABLE DEL MUNICIPIO DE CHINCHINA
B3: PRESUPUESTO OFICIAL | C3: =+'01 JARDINES DEL RENACER'!H13 -> 2630000
B4: FECHA APERTURA SOBRE ECONOMICO | C4: =+EVALUACIONES!C4 -> 45307
B5: VALOR MÍNIMO ACEPTABLE
B7: NOMBRE | C7: VALOR | D7: CRITERIO
A8: 1 | B8: =+EVALUACIONES!B7 -> JARDINES DEL RENACER | C8: =+'01 JARDINES DEL RENACER'!F13 -> 1785060 | D8: =IF(C13<=C8,"CUMPLE","NO CUMPLE") -> NO CUMPLE
A9: 2 | B9: LA AURORA | C9: =+'02 LA AURORA'!F13 -> 1688000 | D9: =IF(C13<=C9,"CUMPLE","NO CUMPLE") -> NO CUMPLE
B13: VALOR MÍNIMO ACEPTABLE | C13: =+C14*0.8 -> 2104000
B14: PRESUPUESTO OFICIAL | C14: =+C3 -> 2630000
B17: ANA MARÍA GÓMEZ URIBE
B18: SECRETARIA ADMINISTRATIVA Y FINANCIERA
B19: MIEMBRO DEL COMITÉ EVALUADOR
B21: =+EVALUACIONES!B18 -> Proyectó: Cristian Leyton Mejia, Asesor Financiero - Contratista

Sheet 01 JARDINES DEL RENACER
A1: PROCESO No. | B1: =+EVALUACIONES!C1 -> MC-001-2024
A2: OBJETO GENERAL: | B2: =+EVALUACIONES!C2 -> CONTRATAR LA PRESTACIÓN DE SERVICIOS EXEQUIALES, DIRIGIDO A LA POBLACIÓN VULNERABLE DEL MUNICIPIO DE CHINCHINA
A3: PRESUPUESTO OFICIAL | B3: =+EVALUACIONES!C3 -> 18000000
A4: FECHA APERTURA SOBRE ECONOMICO | B4: =+EVALUACIONES!C4 -> 45307
A5: PROPONENTE | B5: =+EVALUACIONES!B7 -> JARDINES DEL RENACER
A6: NIT | B6: =+EVALUACIONES!C7 -> 900340724
A8: ITEM | B8: CANT | C8: Unidad de medida | D8: PRODUCTO | E8: DESCRIPCION | F8: VALOR UNITARIO DE LA OFERTA | G8: VALOR TOTAL OFERTA | H8: VALOR UNITARIO PROCESO | I8: VALOR TOTAL PROCESO | J8: VALOR TOTAL PROCESO
A9: 1 | D9: COFRE | E9: COFRE MORTUORIO EN MADERA, FORRADO AL INTERIOR EN TELA CON 4 AGARRZDERAS Y VENTANA DE VIDRIO. | F9: 445060 | G9: =+B9*F9 -> 0 | H9: 650000 | I9: =+B9*H9 -> 0 | J9: =IF(G9<=I9,"CUMPLE","NO CUMPLE") -> CUMPLE
A10: 2 | D10: TRANSPORTE EN CARROZA FUNEBRE | E10: TRASLADO DE HOSPITAL Y/O LUGAR DE FALLECIMIENTO, A LA SALA DE VELACIÓN– IGLESIA DENTRO DE LA CIUDAD DE CHINCHINÁ HASTA EL CEMENTERIO CENTRAL | F10: 270000 | G10: =+B10*F10 -> 0 | H10: 340000 | I10: =+B10*H10 -> 0 | J10: =IF(G10<=I10,"CUMPLE","NO CUMPLE") -> CUMPLE
A11: 3 | D11: TRANSPORTE EN CARROZA FUNEBRE PARA SERVICIOS COVID-19 | E11: TRASLADO DEL CADAVER HASTA EL HORNO CREMATORIO O CEMENTERIO MUNICIPAL, CUMPLIENDO CON LOS PROTOCOLOS DE BIOSEGURIDAD. | F11: 320000 | G11: =+B11*F11 -> 0 | H11: 490000 | I11: =+B11*H11 -> 0 | J11: =IF(G11<=I11,"CUMPLE","NO CUMPLE") -> CUMPLE
A12: 4 | D12: CREMACIÓN | E12: CREMACIÓN DE PERSONA FALLECIDA (BAJO SOSPECHA, PROBABILIDAD Y CONFIRMADA POR COVID-19) Y ENTREGA DE CENIZAS EN COFRE A FAMILIARES | F12: 750000 | G12: =+B12*F12 -> 0 | H12: 1150000 | I12: =+B12*H12 -> 0 | J12: =IF(G12<=I12,"CUMPLE","NO CUMPLE") -> CUMPLE
A13: TOTAL | F13: =SUM(F9:F12) -> 1785060 | G13: =SUM(G9:G12) -> 0 | H13: =SUM(H9:H12) -> 2630000 | I13: =SUM(I9:I12) -> 0 | J13: =IF(G13<=I13,"CUMPLE","NO CUMPLE") -> CUMPLE

Sheet 02 LA AURORA
A1: PROCESO No. | B1: =+EVALUACIONES!C1 -> MC-001-2024
A2: OBJETO GENERAL: | B2: =+EVALUACIONES!C2 -> CONTRATAR LA PRESTACIÓN DE SERVICIOS EXEQUIALES, DIRIGIDO A LA POBLACIÓN VULNERABLE DEL MUNICIPIO DE CHINCHINA
A3: PRESUPUESTO OFICIAL | B3: =+EVALUACIONES!C3 -> 18000000
A4: FECHA APERTURA SOBRE ECONOMICO | B4: =+EVALUACIONES!C4 -> 45307
A5: PROPONENTE | B5: =+EVALUACIONES!B7 -> JARDINES DEL RENACER
A6: NIT | B6: =+EVALUACIONES!C7 -> 900340724
A8: ITEM | B8: CANT | C8: Unidad de medida | D8: PRODUCTO | E8: DESCRIPCION | F8: VALOR UNITARIO DE LA OFERTA | G8: VALOR TOTAL OFERTA | H8: VALOR UNITARIO PROCESO | I8: VALOR TOTAL PROCESO | J8: VALOR TOTAL PROCESO
A9: 1 | D9: COFRE | E9: COFRE MORTUORIO EN MADERA, FORRADO AL INTERIOR EN TELA CON 4 AGARRZDERAS Y VENTANA DE VIDRIO. | F9: 428000 | G9: =+B9*F9 -> 0 | H9: 650000 | I9: =+B9*H9 -> 0 | J9: =IF(G9<=I9,"CUMPLE","NO CUMPLE") -> CUMPLE
A10: 2 | D10: TRANSPORTE EN CARROZA FUNEBRE | E10: TRASLADO DE HOSPITAL Y/O LUGAR DE FALLECIMIENTO, A LA SALA DE VELACIÓN– IGLESIA DENTRO DE LA CIUDAD DE CHINCHINÁ HASTA EL CEMENTERIO CENTRAL | F10: 240000 | G10: =+B10*F10 -> 0 | H10: 340000 | I10: =+B10*H10 -> 0 | J10: =IF(G10<=I10,"CUMPLE","NO CUMPLE") -> CUMPLE
A11: 3 | D11: TRANSPORTE EN CARROZA FUNEBRE PARA SERVICIOS COVID-19 | E11: TRASLADO DEL CADAVER HASTA EL HORNO CREMATORIO O CEMENTERIO MUNICIPAL, CUMPLIENDO CON LOS PROTOCOLOS DE BIOSEGURIDAD. | F11: 320000 | G11: =+B11*F11 -> 0 | H11: 490000 | I11: =+B11*H11 -> 0 | J11: =IF(G11<=I11,"CUMPLE","NO CUMPLE") -> CUMPLE
A12: 4 | D12: CREMACIÓN | E12: CREMACIÓN DE PERSONA FALLECIDA (BAJO SOSPECHA, PROBABILIDAD Y CONFIRMADA POR COVID-19) Y ENTREGA DE CENIZAS EN COFRE A FAMILIARES | F12: 700000 | G12: =+B12*F12 -> 0 | H12: 1150000 | I12: =+B12*H12 -> 0 | J12: =IF(G12<=I12,"CUMPLE","NO CUMPLE") -> CUMPLE
A13: TOTAL | F13: =SUM(F9:F12) -> 1688000 | G13: =SUM(G9:G12) -> 0 | H13: =SUM(H9:H12) -> 2630000 | I13: =SUM(I9:I12) -> 0 | J13: =IF(G13<=I13,"CUMPLE","NO CUMPLE") -> CUMPLE

Sheet PROMEDIO
A1: N° | B1: Cant | C1: Descripción | D1: 1 | E1: 2 | F1: PROMEDIO | G1: PROMEDIO TOTAL
A2: 1 | B2: 20 | C2: Bolsas para embalar cuerpos sin vida | D2: 22000 | E2: 24000 | F2: =AVERAGE(D2:E2) -> 23000 | G2: =+B2*F2 -> 460000
A3: 2 | B3: 6 | C3: Bolsa plástica ziploc | D3: 39000 | E3: 41000 | F3: =AVERAGE(D3:E3) -> 40000 | G3: =+B3*F3 -> 240000
A4: 3 | B4: 3 | C4: Bolsas para residuos peligrosos | D4: 18000 | E4: 20000 | F4: =AVERAGE(D4:E4) -> 19000 | G4: =+B4*F4 -> 57000
A5: 4 | B5: 1 | C5: LINTERNA LED | D5: 299000 | E5: 301000 | F5: =AVERAGE(D5:E5) -> 300000 | G5: =+B5*F5 -> 300000
A6: 5 | B6: 1 | C6: Kit de reseña | D6: 365000 | E6: 367000 | F6: =AVERAGE(D6:E6) -> 366000 | G6: =+B6*F6 -> 366000
A7: 6 | B7: 20 | C7: Trajes de bioseguridad | D7: 56000 | E7: 58000 | F7: =AVERAGE(D7:E7) -> 57000 | G7: =+B7*F7 -> 1140000
A8: 7 | B8: 20 | C8: Guantes de nitrilo | D8: 39000 | E8: 41000 | F8: =AVERAGE(D8:E8) -> 40000 | G8: =+B8*F8 -> 800000
A9: 8 | B9: 7 | C9: Resma tamaño carta reprograf | D9: 259000 | E9: 261000 | F9: =AVERAGE(D9:E9) -> 260000 | G9: =+B9*F9 -> 1820000
A10: 9 | B10: 7 | C10: Resma tamaño oficio reprograf | D10: 259000 | E10: 261000 | F10: =AVERAGE(D10:E10) -> 260000 | G10: =+B10*F10 -> 1820000
A11: 10 | B11: 5 | C11: Bisturí grande metálico | D11: 8000 | E11: 10000 | F11: =AVERAGE(D11:E11) -> 9000 | G11: =+B11*F11 -> 45000
A12: 11 | B12: 5 | C12: Cuchillas repuestosbisturi | D12: 8000 | E12: 10000 | F12: =AVERAGE(D12:E12) -> 9000 | G12: =+B12*F12 -> 45000
A13: 12 | B13: 5 | C13: Carpetas con solapas laterales – cuatro aletas – cuatro aletas | D13: 379000 | E13: 381000 | F13: =AVERAGE(D13:E13) -> 380000 | G13: =+B13*F13 -> 1900000
... A16: 15 | B16: 4 | C16: TABLA PLANILLERA | D16: 18900 | E16: 20900 | F16: =AVERAGE(D16:E16) -> 19900 | G16: =+B16*F16 -> 79600
A17: 16 | B17: 5 | C17: CINTA DE POLIPROPIL ENO | D17: 33900 | E17: 35900 | F17: =AVERAGE(D17:E17) -> 34900 | G17: 139600
A18: 17 | B18: 2 | C18: PEGANTE COLBON | D18: 32000 | E18: 34000 | F18: =AVERAGE(D18:E18) -> 33000 | G18: =+B18*F18 -> 66000
A19: 18 | B19: 2 | C19: BOLIGRAFO | D19: 18500 | E19: 20500 | F19: =AVERAGE(D19:E19) -> 19500 | G19: 39800
A20: 19 | B20: 2 | C20: LAPIZ | D20: 12500 | E20: 14500 | F20: =AVERAGE(D20:E20) -> 13500 | G20: =+B20*F20 -> 27000
A21: 20 | B21: 3 | C21: TIJERAS | D21: 6000 | E21: 8000 | F21: =AVERAGE(D21:E21) -> 7000 | G21: =+B21*F21 -> 21000
A22: 21 | B22: 2 | C22: GUILLOTINA | D22: 95000 | E22: 97000 | F22: =AVERAGE(D22:E22) -> 96000 | G22: =+B22*F22 -> 192000
A23: 22 | B23: 6 | C23: Regla metalica | D23: 4500 | E23: 6500 | F23: =AVERAGE(D23:E23) -> 5500 | G23: =+B23*F23 -> 33000
A24: 23 | B24: 2 | C24: Clip mariposa | D24: 7000 | E24: 9000 | F24: =AVERAGE(D24:E24) -> 8000 | G24: =+B24*F24 -> 16000
F25: =SUM(F2:F24) -> 2600300 | G25: =SUM(G2:G24) -> 12207000
