Workbook

Sheet CUADRO RESUMEN
A1: PROGRAMA DE ALIMENTACION ESCOLAR PAE BOLIVAR
A2: PROCESO LP-SED-006-2023 | E2: OFERENTE:
A4: RESUMEN FACTOR DE CALIFICACION | E4: DETALLES FACTOR DE CALIDAD
A5: FACTOR DE EVALUACION | B5: PUNTOS A ASIGNAR | C5: PUNTOS OBTENIDOS | E5: FACTOR | F5: PUNTOS A ASIGNAR | G5: PUNTOS OBTENIDOS
A6: CALIDAD DEL SERVICIO | B6: 74 | C6: =+G19 -> 51.7048 | E6: TRANSPORTE MINIMO | F6: 2 | G6: =Transporte!P25 -> 4
A7: PROMOCION A LA INDUSTRIA NACIONAL | B7: 10 | C7: =Industria!E9 -> 10 | E7: TRANSPORTE ADICIONAL | F7: 2
A8: APOYO VINCULACION PERSONAL CON DISCAPACIDAD | B8: 1 | C8: =Discapacidad!H8 -> 0 | E8: CAPACIDAD INSTALADA | F8: 4 | G8: ='Capacidad Inst'!K9 -> 4
A9: PARTICIPACION DE EMPRENDIMIENTO Y EMPRESAS DE MUJERES | B9: 0.25 | C9: =Emprendimiento!F7 -> 0.25 | E9: OFERTA DE COMPRAS LOCALES | F9: 4 | G9: ='Compras Locales'!E14 -> 0
A10: CUOTA PARAFISCAL | B10: 6 | C10: 0 | E10: SUPERVISORES- OFRECIMIENTO 6 SUPERVISORES | F10: 12 | G10: =Supervisor!C29 -> 8.4998
A11: PROVEEDOR DIRECTO | B11: 6 | C11: ='Puntaje Adicionales'!F9 -> 6 | E11: COORDINADOR OPERATIVO | F11: 3 | G11: ='Coord.Operativo'!H17 -> 3
A12: EVALUACION ECONOMICA | B12: 2.75 | C12: 2.74996 | E12: COORDINADOR ZONA | F12: 3 | G12: ='Coord. Zona'!E17 -> 2.625
A13: TOTAL PUNTOS | B13: =SUM(B6:B12) -> 100 | C13: =SUM(C6:C12) -> 70.70476 | E13: NUTRICIONISTA | F13: 3 | G13: =Nutricionista!D17 -> 3
E14: INGENIERO DE ALIMENTOS | F14: 3 | G14: ='Ing. Alimentos'!E17 -> 3
E15: SUPERVISORES- DISPONIBILIDAD DE PERMANECER EN LA ZONA | F15: 3 | G15: =Supervisor!C28 -> 0
E16: OFRECIMIENTO DE MANIPULADORAS >% 30 | F16: 27 | G16: 15.58
E17: PLAN DE CALIDAD > Mejoramiento | F17: 4 | G17: ='Plan de Calidad'!F9 -> 4
E18: CADENA DE FRIO | F18: 4 | G18: 4
E19: TOTAL FACTOR CALIDAD | F19: =SUM(F6:F18) -> 74 | G19: =SUM(G6:G18) -> 51.7048

Sheet Experiencia
A3: PROCESO LP-SED-006-2023
A4: EXPERIENCIA
B5: PRESUPUESTO OFICIAL $: | C5: 8097056614 | E5: 0.75 | F5: =C5*E5 -> 6.0727925e+09 | G5: VR SMMLV | H5: =F5/D19 -> 6684.2253
B7: CODIGOS | C7: 80141700 | D7: Distribución
C8: 85151600 | D8: Asuntos Nutricionales
C9: 85151700 | D9: Planeación y Ayuda Política de Alimentos
C10: 90101600 | D10: Servicios de Banquetes y Catering
C11: 90101800 | D11: Servicios de Comida para llevar y a domicilio
C12: 93131600 | D12: Planeación y Programas de Política de Alimentación y Nutrición
B14: NOMBRE DEL PROPONENTE: CONSORCIO PAE BOLIVAR 2024 ( CORPORACION CONSTRUYENDO VIDA - CONSTRUCVIDA- y FUNDACION VIVE COLOMBIA) | H14: LOTE: 3
A15: MAXIMO 6 CONTRATOS REPORTADOS EN EL RUP - 3 CODIGOS - CORRESPONDAN AL SERVICIO DE ALIMENTACION ESCOLAR- PAE
A16: Numero | B16: No. RUP | C16: Codigos (3) | D16: SMMLV | E16: Entidad Contratante | F16: No. Contrato | G16: Quien Aporta Experiencia | H16: Participacion | I16: Valor $ | J16: Valor Participacion | K16: Objeto: Programa de Alimenración Escolar | L16: Cumple/No Cumple | M16: OBSERVACION
A17: 1 | B17: 59 | C17: 85151600 85151700 90101600 90101800 93131600 | D17: 7.252 | E17: DEPARTAMENTO DE BOLIVAR | F17: 1014 DEL 12 DE ABRIL DE 2021 | G17: FUNDACION PRODUCTIVA POR COLOMBIA | H17: 0.5 | I17: 7360876329 | J17: =I17/2 -> 3.6804382e+09 | K17: PAE BOLIVAR | L17: CUMPLE
C19: Salario Mínimo 2021 | D19: 908526
N24: 2
N26: 1
N28: 4
N30: 2

Sheet D.Tecnicos
A2: PROCESO LP-SED-006-2023
A3: DOCUMENTOS TECNICOS
A4: PROPONENTE :
A5: REQUISITOS | B5: DESCRIPCION | C5: ACREDITACION | D5: INTEGRANTES | E5: CUMPLE/NO CUMPLE | F5: OBERVACIONES | G5: HABIL/ NO HABIL
A6: Licencia o Registro | B6: El proponente deberá anexar con su propuesta en la plataforma SECOP II copia simple del documento contentivo de la licencia o personería jurídica reconocida por el Ministerio de Educación o el Instituto de Bienestar Familiar para la prestación del servicio de alimentación o alimentación escolar | C6: Copia simple o Certificacion | D6: FUNSENS y PENTAGONO | E6: CUMPLE | G6: HABIL
A7: Sistema de Gestión de Seguridad y Salud en el Trabajo SG-SST (Resolución 0312 de 2019). | B7: El proponente deberá anexar con su propuesta certificación expedida por la ARL que demuestre la implementación del Sistema de Gestión de Seguridad y Salud en el trabajo, con porcentaje total de implementación superior a 90%. Cada uno de sus integrantes deberán presentar en forma independiente, copia de la certificación expedida por la ARL, con porcentaje total de implementacion superior a 90% | C7: Certificacion | D7: PENTAGONO | E7: CUMPLE
D8: FUNSENS | E8: CUMPLE
A9: Aceptacion Carecteristicas Tecnicas | B9: Carecteristicas Tecnicas | C9: Anexo 1 Ccumplimiento de las condiciones tecnicas | D9: FUNSENS y PENTAGONO | E9: CUMPLE

Sheet Capacidad Inst
B3: PROCESO LP-SED-006-2023
B4: Capacidad Instalada
B6: PROPONENTE: | C6: CONSORCIO ALIMENTOS PARA LA NIÑEZ
A8: Consecutivo | B8: Carta de Compromiso Proponetne | C8: Carta de Compromiso de Arriendo | D8: Certificado de libertad y tradicion del inmueble Fecha de expedición no mayor a 30 días a la fecha de presentación de la propuesta | E8: Acta de Inspeccion Sanitaria favorable >=90/S.Salud/<=1 año | F8: Registro y/o inscripción vigente de la Secretaria de Salud competente | G8: La bodega debe ser de uso exclusivo para la operación programa del lote a ofertar | H8: Registro Fotográfico de la Bodega en el que se pueda evidenciar las áreas de almacenamiento, cargue y descargue, área administrativa, entre otras, en el que evidencie la demarcación y señalización de las áreas | I8: Area: 300M2 | J8: Ubicación Bodega: Zode lote a ofertar o municipio limitrofe | K8: PUNTOS
A9: 1 | B9: SI | C9: CARTA DE INTENCIO A NOMBRE DE YOHENNIS ROCIO GOMEZ ARRIETA R.L de FUNDACION PRODUCTIVA POR COLOMBIA- | D9: F. EXPEDICION:19/12/2023 | E9: FUNDACION VIVE COLOMBIA: 21-12-2023-SECRETARIA DE SALUD DEPARTAMENTAL-97% | G9: CUMPLE | H9: ANEXA REGISTRO FOTOGRAFICO | I9: 355m2 | J9: SAN PABLO CARRERA 5 #13-37 | K9: 4
B11: IMPLEMENTOS MINIMO CAPACIDAD INSTALADA
B12: Descripción | C12: Cantidad de elementos | D12: Descripción del(los) bien(s) | E12: OBSERVACION
B13: Equipos de refrigeración y congelación | C13: 1 | D13: Cuarto frio MIN 1 TON | E13: OFERTADO
C14: 3 | D14: NEVERA | E14: OFERTADO
C15: 2 | D15: Congeladores | E15: OFERTADO
B16: Sistema de Transporte | C16: 2 | D16: Carretillas | E16: OFERTADO
B17: Equipos de medición | C17: 2 | D17: Grameras | E17: OFERTADO
C18: 1 | D18: Basculas | E18: OFERTADO
C19: 1 | D19: Termometro Infrarojo | E19: OFERTADO
C20: 1 | D20: Termometro Digitales | E20: OFERTADO
C21: 1 | D21: Termo Higrometro | E21: OFERTADO
B22: Implementos de almacenamiento | C22: 6 | D22: Cavas Isotermicas | E22: OFERTADO
C23: 40 | D23: Estibas | E23: OFERTADO
C24: 100 | D24: Canastillas Plasticas | E24: OFERTADO

Sheet Manipuladoras
A2: PROCESO LP-SED-006-2023
A3: MANIPULADORAS
D5: ITEMS | E5: PERFIL | H5: No. | I5: NOMBRE | J5: Formato HV | K5: Carta de Intencion | L5: Certificado de Vecindad | M5: Fotocopia CC | N5: Fotocipia LM | O5: Fotocipia SISBEN | P5: Certificacion Medica | Q5: Analisis Fotis-Garganta | R5: Antecedentes | U5: Capacitacion Higiene Manipulacion de Alimentos | V5: Capacitacion Proteccion y Conservacion de Alimentos | W5: Experiencia: 24 Meses en preparación de alimentos en el desarrollo del programa de alimentación escolar
D6: 1 | E6: Hoja de Vida | R6: Penales | S6: Disciplinarios | T6: Fiscales
D7: 2 | E7: Disponibilidad para permanecer y desplazarse en la zona de desarrollo del contrato | H7: 1 | I7: AIDETH VANEGAS CARCAMO
D8: 3 | E8: Ser Mayor de Edad | H8: =1+H7 -> 2 | I8: ALEMARCE MONTERO TORREJANO
D9: 4 | E9: Libreta Militar cuando aplique | H9: =1+H8 -> 3 | I9: ANA ROSA BANDERA LOPEZ
D10: 5 | E10: Residente de un Municipio del Lote a Ofertar o perteneciente a población vulnerable de un Municipio del Lote a Ofertar | H10: =1+H9 -> 4 | I10: ANGIE MELISSA MARTINEZ MERCADO
D11: 6 | E11: Buen Estado de Salud. | H11: =1+H10 -> 5 | I11: ANGIE TATIANA ANGULO QUIROZ
D12: 7 | E12: No tener o haber tenido antecedentes penales, disciplinarios, fiscales | H12: =1+H11 -> 6 | I12: AUDY MARIA BLANCO MONTERO
D13: 8 | E13: Capacitación en Higiene y Manipulación de Alimentos | H13: =1+H12 -> 7 | I13: BELEN ARREVALO GALVAN
D14: 9 | E14: Capacitacion en Proteccion y Conservacion de Alimentos | H14: =1+H13 -> 8 | I14: CANDELARIA PAVA TORRES
D15: 10 | E15: Experiencia: 24 Meses en preparación de alimentos en el desarrollo del programa de alimentación escolar | H15: =1+H14 -> 9 | I15: CARMEN EDITH OROZCO CUDRIS
D16: Cantidad de hojas de vida: 30% de las requeridas. En caso de presentación de más de una hoja de vida se evaluará la primera presentada en la propuesta | H16: =1+H15 -> 10 | I16: CELMIRA OROZCO ROCHA
H17: =1+H16 -> 11 | I17: CINDY PAOLA GARCIA ROJAS
D18: No. | E18: ACREDITACION | F18: PUNTOS | H18: =1+H17 -> 12 | I18: DARLENY ECHAVEZ JORDAN
D19: 1 | E19: Formato Hoja de Vida | H19: =1+H18 -> 13 | I19: DIANA DURAN CABANA
E20: Formato común de hoja de vida | H20: =1+H19 -> 14 | I20: DOREYDA ARQUEZ RUZ
D21: 2 | E21: Carta de Intención Suscrita | H21: =1+H20 -> 15 | I21: EDIALIS CABRALES NAVARRO
D22: 3 | E22: Fotocopia de la Cédula de Ciudanía (ambas caras) | H22: =1+H21 -> 16 | I22: AMPARO URICOECHEA MARMOL
D23: 4 | E23: Fotocopia Libreta Militar si aplica | H23: =1+H22 -> 17 | I23: EDNNA PEDROZO CHACON
D24: 5 | E24: Certificado de Vecindad o Fotocopia SISBEN | H24: =1+H23 -> 18 | I24: ERMINIA DE LEON MARTINEZ
D25: 6 | E25: Certificación médica, de acuerdo a lo establecido en la Resolución 2674 de 2013 y el Articulo 2.7.2.2.1.3.4 del Decreto 780 de 2016, y demás normas que la modifiquen, adicionen o sustituyan. | H25: =1+H24 -> 19 | I25: EVELIS MARIA QUICENO LOPEZ
E26: Análisis Frotis de garganta y KOH para uñas | H26: =1+H25 -> 20 | I26: FANNY ESTHER MARRIAGA VIDES
E27: Vigencia máxima de 6 meses | H27: =1+H26 -> 21 | I27: HELENA RODRIGUEZ ZAPATA
D28: 7 | E28: Certificados de Antecedentes Disciplinarios, Fiscales, judiciales y RNMC | H28: =1+H27 -> 22 | I28: ICELA YEPEZ OVIEDO
D29: 8 | E29: Higiene y Manipulacion de alimentos | H29: =1+H28 -> 23 | I29: JINA ISABEL VIDES JIMENEZ
D30: a | E30: No mayor a un (1) año con relación a la fecha de presentación de la propuesta. Intensidad: Mínimo 40 horas | H30: =1+H29 -> 24 | I30: JUDITH TERESA ALVAREZ RODRIGUEZ
D31: b | E31: No mayor a dos (2) años con relación a la fecha de presentación de la propuesta. Intensidad: Mínimo 40 horas | H31: =1+H30 -> 25 | I31: KELLY JOHANA ROJAS SALCEDO
D32: c | E32: No mayor a un (1) año con relación a la fecha de presentación de la propuesta. Intensidad: Menor de 40 horas y mínimo de 10 horas | H32: =1+H31 -> 26 | I32: LERIDA TORRES CASTRO
D33: 9 | E33: Copia de Contrato o Certificación que indique claramente la fecha expedición, el plazo o duración de la actividad que se certifica y el objeto del certificado referido a experiencia en programas de alimentación PAE por mínimo 24 meses | H33: =1+H32 -> 27 | I33: LICETH CABALLERO MENESE
E34: Copia de Contrato o Certificación que indique claramente la fecha expedición, el plazo o duración de la actividad que se certifica y el objeto del certificado referido a experiencia en programas de alimentación PAE por mínimo 12 meses | H34: =1+H33 -> 28 | I34: LICETH PEDROZO MOLINA
H35: =1+H34 -> 29 | I35: LILIBETH PADILLA CASTRO
H36: =1+H35 -> 30 | I36: LORAYNE JIMENEZ SOLIS
H37: =1+H36 -> 31 | I37: LUISA FERNANDEZ PURTA
D38: FACTOR | E38: DESCRIPCIÓN DEL FACTOR | F38: PUNTAJE | H38: =1+H37 -> 32 | I38: MAIDETH SALAZAR BENAVIDES
D39: Inclusión Manipuladoras Adicionales | E39: Ofrecimiento del 30% de hojas de vida de manipuladoras requeridas del lote a ofertar, que acrediten el perfil requerido y pertenezcan a los grupos poblacionales de población pobre vulnerable y/o pertenecientes al SISBEN A y B, residentes en los municipios del lote a ofertar. | F39: 27 | H39: =1+H38 -> 33 | I39: MARELIS MORA PEREZ
D40: Cumplimiento de lo establecido en el numeral 2.3.2 – Condiciones Técnicas Mínimas – Equipo mínimo de trabajo - Manipuladoras | E40: Ofrecimiento del 20% de hojas de vida de manipuladoras requeridas del lote a ofertar, que acrediten el perfil requerido y pertenezcan a los grupos poblacionales de población pobre vulnerable y/o pertenecientes al SISBEN A y B, residentes en los municipios del lote a ofertar. | F40: 18 | H40: =1+H39 -> 34 | I40: MARIA DEL CRISTO CABRALES NAVARRO
D41: Cumplimiento de lo establecido en el numeral 2.3.2 – Condiciones Técnicas Mínimas – Equipo mínimo de trabajo - Manipuladoras | E41: Ofrecimiento del 10% de hojas de vida de manipuladoras requeridas del lote a ofertar, que acrediten el perfil requerido y pertenezcan a los grupos poblacionales de población pobre vulnerable y/o pertenecientes al SISBEN A y B, residentes en los municipios del lote a ofertar. | F41: 9 | H41: =1+H40 -> 35 | I41: MARIA ELENA PEREZ NAVARRO
H42: =1+H41 -> 36 | I42: MARIA DEL CARMEN GUZMAN PIÑERES
...

Sheet Transporte
A2: PROCESO LP-SED-006-2023
A3: TRANSPORTE
A4: PROPONENTE: | B4: CONSORCIO ALIMENTOS PARA LA NIÑEZ
A6: VEHICULO TERRESTRE-
A7: TIPO FURGON REFRIGERADO -CAPACIDAD MINIMA DE 2 TON- MODELO MINIMO 2018
A8: Consecutivo | B8: Carta de intencion Proponente | C8: Carta Intencion Propietario del Vehiculo | D8: Placa del vehiculo | E8: Modelo | F8: Tipo Vehiculo | G8: Capacidad Kgs | H8: Fotocopia Tarjeta Propiedad | I8: Fecha Venciento SOAT | J8: Fecha VencimientoCertificado revision tecnica mecanica | K8: Certificado sanitario concepto favorable>=90 | L8: Poliza responsabilidad civil extracontractual | M8: Fotocipia cedula del conductor | N8: Licencia de conduccion del conductor | O8: Certificado de Hgiene y Manipulacion de Alimentos del Conductor | P8: Regsitro Fotografico | Q8: Observacion | R8: PUNTOS
A9: 1 | B9: SI | C9: SI | D9: LCN857 | E9: 2022 | F9: FURGON | G9: 5550kg | H9: SI | I9: 45389 | J9: N.A | K9: F. EXP: 21/12/2023 96% | L9: Vigencia: 13/4/2023 a 13/4/2024 | M9: SI | N9: SI | O9: SI | P9: SI | R9: 1
A11: TIPO FURGON -CAPACIDAD MINIMA DE 2 TON- MODELO MINIMO 2018 (1)
A12: Consecutivo | B12: Carta de intencion Proponente | C12: Carta Intencion Propietario del Vehiculo | D12: Placa del vehiculo | E12: Modelo | F12: Tipo Vehiculo | G12: Capacidad Kgs | H12: Fotocopia Tarjeta Propiedad | I12: Fecha Venciento SOAT | J12: Fecha VencimientoCertificado revision tecnica mecanica | K12: Certificado sanitario concepto favorable>=90 | L12: Poliza responsabilidad civil extracontractual | M12: Fotocipia cedula del conductor | N12: Licencia de conduccion del conductor | O12: Certificado de Hgiene y Manipulacion de Alimentos del Conductor | P12: Registro Fotografico | Q12: Observacion | R12: PUNTOS
A13: 2 | B13: SI | C13: SI | D13: KOL270 | E13: 2022 | F13: FURGON | G13: 5550 | H13: SI | I13: 45582 | J13: N.A | K13: F. EXP: 18/01/2023 93,5% | L13: Vigencia: 14/1/2023 a 14/1/2024 | M13: SI | N13: SI | O13: SI | P13: SI | R13: 1
A16: Lancha
A17: Consecutivo | B17: Carta de intencion Proponente | C17: Carta de Intencion Propietario | D17: Nombe de la Emabarcacion | E17: Fotocopia Tarjeta Propiedad | F17: Fotocopia del SOAT | G17: Certificado de Inspeccion Tecnica: Fecha de Vigencia | H17: Motor | I17: Certificado sanitario concepto favorable>=90 | J17: Poliza responsabilidad civil extracontractual | K17: Fotocipia cedula del Motorista | L17: Permiso del Motorista | M17: Certificado de Hgiene y Manipulacion de Alimentos del Motorista | N17: Registro Fotografico | O17: Observacion | P17: PUNTOS
A18: 1 | B18: SI | C18: SI | D18: KEILA ISABEL | E18: SI | F18: N.A | G18: 1035N263489 F.VENC 12/08/2023 | H18: YAMAHA | I18: F. EXP: 21/12/2023 94% | J18: Vigencia: 1/2/2023 a 1/2/2024 | K18: SI | L18: F. Vencimiento: 12/01/2027 | M18: F. EXP: 17/6/2023 | N18: SI | P18: 1
A22: Consecutivo | B22: Carta de intencion Proponente | C22: Carta de Intencion Propietario | D22: Nombe de la Emabarcacion | E22: Fotocopia Tarjeta Propiedad | F22: Fotocopia del SOAT | G22: Certificado de Inspeccion Tecnica: Fecha de Vigencia | H22: Motor | I22: Certificado sanitario concepto favorable>=90 | J22: Poliza responsabilidad civil extracontractual | K22: Fotocipia cedula del Motorista | L22: Permiso del Motorista | M22: Certificado de Hgiene y Manipulacion de Alimentos del Motorista | N22: Registro Fotografico | O22: Observacion | P22: PUNTOS
A23: 2 | B23: SI | C23: SI | D23: DANIELA ISABEL | E23: SI | F23: N.A | G23: 1035N241121 | H23: 64VL-1004660N | I23: F.EXP: 21/12/2023 94% | J23: Vigencia: 1/2/2023 a 1/2/2024 | K23: SI | L23: F. Vencimiento: 23/01/2024 | M23: F. EXP: 23/01/2024 | N23: SI | P23: 1
B25: TOTAL | P25: =R9+R13+P18+P23 -> 4

Sheet Capacidad Inst Adicional
B3: PROCESO LP-SED-006-2023
B4: Capacidad Instalada Habilitante
B6: PROPONENTE: | D6: CONSORCIO ALIMENTOS PARA LA NIÑEZ
A8: Consecutivo | B8: Carta de Compromiso Proponetne | C8: Carta de Compromiso de Arriendo | D8: Certificado de libertad y tradicion del inmueble Fecha de expedición no mayor a 30 días a la fecha de presentación de la propuesta | E8: Acta de Inspeccion Sanitaria favorable >=90/S.Salud/<=1 año | F8: Registro y/o inscripción vigente de la Secretaria de Salud competente | G8: La bodega debe ser de uso exclusivo para la operación programa del lote a ofertar | H8: Registro Fotográfico de la Bodega en el que se pueda evidenciar las áreas de almacenamiento, cargue y descargue, área administrativa, entre otras, en el que evidencie la demarcación y señalización de las áreas | I8: Area: 79M2 | J8: Ubicación Bodega: Zode lote a ofertar o municipio limitrofe | K8: OBSERVACIONES
A9: 1 | B9: SI | C9: CARTA DE INTENCIO A NOMBRE DE KARINA FALARDO R.L de CONSORCIO ALIMENTOS PARA LA NIÑEZ 2024- | D9: F. EXPEDICION: 19/12/2023 | E9: FUNDACION PRODUCTIVA POR COLOMBIA: 20-12-2023-SECRETARIA DE SALUD DEPARTAMENTAL-96% | F9: FUNDACION PRODUCTIVA POR COLOMBIA: 20-12-2023-SECRETARIA DE SALUD DEPARTAMENTAL | G9: CUMPLE | H9: ANEXA REGISTRO FOTOGRAFICO | I9: 300 M2 | J9: MUNICIPIO DE MAGANGUE, URBANIZACION CRISTO PRADO, CALLE 16 No.39-76

Sheet Compras Locales
A5: PROCESO LP-SED-006-2023
A7: PROPONENTE
A9: FACTOR | B9: DESCRIPCIÓN DEL FACTOR | C9: PUNTAJE PLIEGO | D9: ACREDITACION | E9: PUNTAJE PROPONENTE | F9: OBSERVACION
A10: Compras Locales | B10: Adquirir localmente alimentos comprados a pequeños productores agropecuarios locales y/o a productores de la Agricultura Campesina, Familiar o Comunitaria locales y sus organizaciones que se encuentren en el Registro general de pequeños productores y productores de la Agricultura Campesina, Familiar y Comunitaria; ubicada en un municipio del departamento de Bolívar del lote en qué participa; en un porcentaje mayor del 30% del valor destinado a compra de alimentos | C10: 4 | D10: Promesa de Contrato de Proveeduría Certificado de Registro de Líneas Productivas Certificado de Existencia y Representación Legal Registro Unico Tributario | E10: 0 | F10: EL CONTRATO DE PROMESA DE PROVEEDURIA DEBE CUMPLIR CON EL ARTICULO 2.20.1.1.4 DECRETO 248 DE 2021
B11: Adquirir localmente alimentos comprados a pequeños productores agropecuarios locales y/o a productores de la Agricultura Campesina, Familiar o Comunitaria locales y sus organizaciones que se encuentren en el Registro general de pequeños productores y productores de la Agricultura Campesina, Familiar y Comunitaria; en un municipio del departamento de Bolívar en un porcentaje mayor del 30% del valor destinado a compra de alimentos | C11: 3
B12: Adquirir localmente alimentos comprados a pequeños productores agropecuarios locales y/o a productores de la Agricultura Campesina, Familiar o Comunitaria locales y sus organizaciones que se encuentren en el Registro general de pequeños productores y productores de la Agricultura Campesina, Familiar y Comunitaria; ubicada en un municipio limítrofe (fuera del departamento) al Zodes a ofertar; en un porcentaje mayor del 30% del valor destinado a compra de alimentos | C12: 2
B13: Adquirir localmente alimentos comprados a pequeños productores agropecuarios locales y/o a productores de la Agricultura Campesina, Familiar o Comunitaria locales y sus organizaciones que se encuentren en el Registro general de pequeños productores y productores de la Agricultura Campesina, Familiar y Comunitaria; ubicada en un municipio de la región Caribe; en un porcentaje mayor del 30% del valor destinado a compra de alimentos | C13: 1
B14: TOTAL PUNTOS | E14: =SUM(E10:E13) -> 0

Sheet Coord.Operativo
B2: PROCESO LP-SED-006-2023
B3: COORDINADOR OPERATIVO
B7: ITEMS | C7: PERFIL | E7: No. | F7: ACREDITACION | G7: PROPONENTE | H7: PUNTAJE | I7: OBSERVACION
B8: 1 | C8: Hoja de Vida | E8: 1 | F8: Formato Función Publica | G8: SI | H8: 0.3
B9: 2 | C9: Disponibilidad | E9: 2 | F9: Carta de Intención Suscrita | G9: SI | H9: 0.3
B10: 3 | C10: Ser Mayor de Edad | E10: 3 | F10: Fotocopia de la Cedula de Ciudanía (ambas caras) | G10: SI | H10: 0.3
B11: 4 | C11: Libreta Militar | E11: 4 | F11: Fotocopia Libreta Militar | G11: N.A
B12: 5 | C12: Profesional en Nutrición y Dietética, Ingeniería de Alimentos, Química de Alimentos, Ingeniería Química, Ingeniería Industrial, Administración de empresas o profesiones afines (núcleo de conocimiento) | E12: 5 | F12: Fotocopia de Tarjeta Profesional Vigente | G12: SI | H12: 0.3
C13: Tarjeta Profesional | E13: 6 | F13: Certificados de Antecedentes Disciplinarios, Fiscales, judiciales y RNMC | G13: SI | H13: 0.3
B14: 6 | C14: No tener o haber tenido antecedentes penales, disciplinarios, fiscales | E14: 7 | F14: Copia de contrato o certificación que indique claramente la fecha, el plazo y el objeto del mismo para la experiencia específica por 5 años | H14: 1.5
B15: 7 | C15: Experiencia Específica: | F15: Copia de contrato o certificación que indique claramente la fecha, el plazo y el objeto del mismo para la experiencia específica por 4 años
C16: Mínimo 5 años como en programas de alimentación escolar; Posterior a la fecha de expedición de la tarjeta profesional. | F16: Copia de contrato o certificación que indique claramente la fecha, el plazo y el objeto del mismo para la experiencia específica por 3 años
E17: TOTAL PUNTOS | H17: =SUM(H8:H16) -> 3
E19: Se asignará un total de tres (3) puntos, distribuidos así: uno punto cinco (1.5) puntos al requisito de acreditación experiencia siempre y cuando certifique el máximo de años exigidos como experiencia específica y el puntaje restante uno punto cinco (1.5) siempre y cuando cumpla con la totalidad del resto de los ítems exigidos.
E21: La experiencia específica, la entidad aclara que se asignaran 1.5 puntos para la acreditación de la experiencia siempre y cuando certifique 4 años de experiencia en programas de alimentación escolar, de lo contrario se asignara el puntaje proporcionalmente mediante una regla de tres simple.
B23: NO. CONTRATO | C23: ENTIDAD | D23: CARGO | E23: FECHA INICIO | F23: FECHA TERMINACION | G23: OBJETO | H23: DIA | I23: MES | J23: AÑO | K23: PLANILLA
B24: SD | C24: UT ALIMENTOS HUILA | D24: COORDINARO GENERAL | E24: 43174 | F24: 43465 | G24: PAE | H24: 15 | I24: 9 | K24: CERTIFICADO APORTES OPERADOR
B25: 2015-0084 | C25: ALCALDIA DE FUSAGASUGA | D25: OPS | E25: 42117 | F25: 42369 | G25: PAE | H25: 7 | I25: 8 | K25: CONSTANCIA PAGO INDEPENDIENTE
B26: 2016-0012 | C26: ALCALDIA DE FUSAGASUGA | D26: OPS | E26: 42395 | F26: 42730 | G26: PAE | H26: 0 | I26: 11 | K26: CONSTANCIA PAGO INDEPENDIENTE
B27: 0456-2014 | C27: CONSORCIO NUTRICION HUILA | D27: COORDINADOR ZONA 1 | E27: 41744 | F27: 41988 | G27: PAE | H27: 0 | I27: 8 | K27: CONSTANCIA PAGO OPERADOR
B28: 1435-2020 | C28: CONSORCIO ALIMENTACION ESCOLAR BOLIVAR 2020 | D28: COORDINADORA OPERATIVA | E28: 44092 | F28: 44165 | G28: PAE | H28: 12 | I28: 2 | K28: CERTIFICADO DE APORTES OPERADOR
E29: 44235 | F29: 44300 | H29: 6 | I29: 2 | K29: CERTIFICADO DE APORTES OPERADOR
B30: 1014-2021 | C30: CONSORCIO ALIMENTANDO ESCOLAR 2021 | D30: COORDINADORA OPERATIVA | E30: 44301 | F30: 44469 | G30: PAE | H30: 15 | I30: 5 | K30: CERTIFICADO DE APORTES OPERADOR
B31: 2492-2021 | C31: CONSORCIO ALIMENTANDO FUTURO 2021 | D31: COORDINADORA OPERATIVA | E31: 44487 | F31: 44548 | G31: PAE | H31: 0 | I31: 2 | K31: CERTIFICADO APORTES OPERADOR
E32: 44592 | F32: 44895 | H32: 0 | I32: 10 | K32: CERTIFICADO APORTES OPERADOR
B33: 427-2023 | C33: CONSORCIO ALIMENTANDO A BOLIVAR 2023 | D33: COORDINADORA OPERATIVA | E33: 44981 | F33: 45138 | G33: PAE | H33: 6 | I33: 5 | K33: CERTIFICADO APORTES OPERADOR- FEBRERO
B34: 3361-2023 | C34: CONSORCIO ALIMENTACION PARA BOLIVAR 2023 | D34: COORDINADOR OPERATIVA | E34: 45144 | F34: 45260 | G34: PAE | H34: 24 | I34: 3 | K34: CERTIFICADO APORTES OPERADOR

Sheet Coord. Zona
C3: PROCESO LP-SED-006-2023
C7: No. | D7: ACREDITACION | E7: PUNTOS | F7: OBSERVACION
C8: 1 | D8: Formato Función Publica | E8: 0.3
C9: 2 | D9: Carta de Intención Suscrita | E9: 0.3
C10: 3 | D10: Fotocopia de la Cedula de Ciudanía (ambas caras) | E10: 0.3
C11: 4 | D11: Fotocopia Libreta Militar | E11: 0
C12: 5 | D12: Fotocopia de Tarjeta Profesional Vigente | E12: 0.3
C13: 6 | D13: Certificados Disciplinarios, Antecedentes judiciales y Fiscales y de RNMC | E13: 0.3
C14: 7 | D14: Copia de contrato o certificación que indique claramente la fecha, el plazo y el objeto del mismo, que acredite 4 años de experiencia específica.
D15: Copia de contrato o certificación que indique claramente la fecha, el plazo y el objeto del mismo, que acredite 3 años de experiencia específica | E15: =+(1.5*3)/4 -> 1.125
D16: Copia de contrato o certificación que indique claramente la fecha, el plazo y el objeto del mismo, que acredite 2 años de experiencia específica
D17: TOTAL | E17: =SUM(E8:E16) -> 2.625
C20: NO. CONTRATO | D20: ENTIDAD | E20: CARGO | F20: FECHA INICIO | G20: FECHA TERMINACION | H20: OBJETO | I20: DIA | J20: MES | K20: AÑO | L20: PLANILLA
C21: 315631-2022 | D21: UT VAMOS PAE SANTANDER 2022 | E21: COORDINADOR LOGISTICA | F21: 44585 | G21: 44883 | H21: PAE | I21: 11 | J21: 9 | L21: EN ENERO SE PAGA SOLO 7 DIAS
C22: 393-2019 | D22: PEFINS | E22: DIRECTOR INTERVENTORIA PAE | F22: 43511 | G22: 44167 | H22: INTERPAE | I22: 12 | J22: 9 | L22: EN ABRIL APORTA 25 DIAS
C23: 685-2018 | D23: PEFINS | E23: DIRECTOR INTERVENTORIA PAE | F23: 43167 | G23: 43460 | H23: INTERPAE | I23: =26-8 -> 18 | J23: 8 | L23: NO APORTA ABRIL
C24: 427-2023 | D24: CONSORCIO ALIMENTANDO A BOLIVAR 2023 | E24: PAE | F24: 44981 | G24: 45138 | H24: PAE | I24: 5 | J24: 5 | L24: CANCELA SOLO 15 DIAS DE FEBRERO
C25: 3361-2023 | D25: CONSORCIO ALIMENTACION PARA BOLIVAR 2023 | E25: PAE | F25: 45144 | G25: 45260 | H25: PAE | I25: 24 | J25: 3 | L25: AGOSTO - NOV
I26: =SUM(I21:I25) -> 70 | J26: =SUM(J21:J25) -> 34 | L26: TIEMPO DE SERVICIO 3 AÑOS

Sheet Nutricionista
B3: PROCESO LP-SED-006-2023
B4: NUTRICIONISTA
B7: No. | C7: ACREDITACION | D7: PUNTOS | E7: OBSERVACION
B8: 1 | C8: Formato Función Publica | D8: 0.3 | F8: =1.5/5 -> 0.3
B9: 2 | C9: Carta de Intención Suscrita | D9: 0.3
B10: 3 | C10: Fotocopia de la Cedula de Ciudanía (ambas caras) | D10: 0.3
B11: 4 | C11: Fotocopia Libreta Militar | D11: 0 | E11: N.A
B12: 5 | C12: Fotocopia de Tarjeta Profesional Vigente | D12: 0.3
B13: 6 | C13: Certificados de Antecedentes Judiciales Disciplinarios, Fiscales y RNMC | D13: 0.3 | E13: APORTADO CON LA PROPUESTA
B14: 7 | C14: Copia de contrato o certificación que indique claramente la fecha, el plazo y el objeto del mismo, para acreditar la experiencia específica por 3 años. | D14: 1.5
C15: Copia de contrato o certificación que indique claramente la fecha, el plazo y el objeto del mismo, para acreditar la experiencia específica por 2 años
C16: Copia de contrato o certificación que indique claramente la fecha, el plazo y el objeto del mismo, para acreditar la experiencia específica por 1 año
C17: TOTAL | D17: =SUM(D8:D16) -> 3
B21: NO. CONTRATO | C21: ENTIDAD | D21: CARGO | E21: FECHA INICIO | F21: FECHA TERMINACION | G21: OBJETO | H21: DIA | I21: MES | J21: AÑO | K21: PLANILLA
B22: OPS | C22: POPAYAN | D22: NUTRICIONISTA DIETISTA | E22: 44092 | F22: 44196 | G22: PAE | H22: 12 | I22: 3 | K22: CERTIFICADO APORTES INDEPENDIENTE
B23: 12017000442 | C23: ALCALDIA BARRANQUILLA | D23: NUTRICIONISTA | E23: 42795 | F23: 43100 | G23: PAE | H23: 29 | I23: 9 | K23: CERTIFICADO APORTES INDEPENDIENTE
B24: 12018000344 | C24: ALCALDIA BARRANQUILLA | D24: NUTRICIONISTA | E24: 43118 | G24: PAE | I24: 6 | K24: CERTIFICADO APORTES INDEPENDIENTE
B25: 12018002940 | C25: ALCALDIA BARRANQUILLA | D25: NUTRICIONISTA | E25: 43305 | F25: 43465 | G25: PAE | H25: 6 | I25: 5 | K25: CERTIFICADO APORTES INDEPENDIENTE
B26: 12019000451 | C26: ALCALDIA BARRANQUILLA | D26: NUTRICIONISTA | E26: 43494 | F26: 43830 | G26: PAE | H26: 1 | I26: 11 | K26: CERTIFICADO APORTES INDEPENDIENTE
B27: 1014-2021 | C27: CONSORCIO ALIMENTANDO ESCOLAR 2021 | D27: NUTRICIONISTA | E27: 44301 | F27: 44469 | G27: PAE | H27: 15 | I27: 5 | K27: CERTIFICADO APORTES OPERADOR
B28: 2492-2021 | C28: CONSORCIO ALIMENTANDO FUTURO 2021 | D28: NUTRICIONISTA | E28: 44487 | F28: 44548 | G28: PAE | H28: 0 | I28: 2 | K28: CERTIFICADO APORTES OPERADOR
E29: 44592 | F29: 44895 | G29: PAE | H29: 0 | I29: 10 | K29: CERTIFICADO APORTES OPERADOR
B30: 427-2023 | C30: CONSORCIO ALIMENTANDO BOLIVAR 2023 | D30: NUTRICIONISTA | E30: 44981 | F30: 45138 | G30: PAE | H30: 6 | I30: 5 | K30: CERTIFICADO APORTES OPERADOR
B31: 3361-2023 | C31: CONSORCIO ALIMENTACION PARA BOLIVAR 2023 | D31: NUTRICIONISTA | E31: 45144 | F31: 45260 | G31: PAE | H31: 24 | I31: 3 | K31: CERTIFICADO APORTES OPERADOR
H32: =SUM(H22:H31) -> 93 | I32: =SUM(I22:I31) -> 59
H33: =H32/30 -> 3.1 | I33: =+I32/12 -> 4.9166667

Sheet Ing. Alimentos
B3: PROCESO LP-SED-006-2023
B4: INGENIERO DE ALIMENTOS | F4: =0.25*6 -> 1.5
F5: =1.5/6 -> 0.25
B6: VIVIANA ANDREA GELVEZ SILVA
B7: No. | C7: ACREDITACION | D7: PUNTOS: | E7: SUB-TOTAL | F7: OBSERVACION | H7: NO. CONTRATO | I7: ENTIDAD | J7: CARGO | K7: FECHA INICIO | L7: FECHA TERMINACION | M7: OBJETO | N7: DIA | O7: MES | P7: AÑO | Q7: PLANILLA | R7: OBSERVACION
B8: 1 | C8: Formato Función Publica | D8: 0.25 | E8: =SUM(D8:D13) -> 1.5 | H8: 016-2019 | I8: UT ALIMENTAR CUCUTA 2019 | J8: COORDINADOR ZONAL | K8: 43502 | L8: 43799 | M8: PAE | N8: 24 | O8: 9 | Q8: FEB - DIC
B9: 2 | C9: Carta de Intención Suscrita | D9: 0.25 | H9: 3123-2019 | I9: UT ALIMENTAR CUCUTA 2020 | J9: COORDINADOR BODEGA | K9: 43845 | L9: 44169 | M9: PAE | N9: =4-15+30 -> 19 | O9: 10 | Q9: ENE - DIC
B10: 3 | C10: Fotocopia de la Cedula de Ciudanía (ambas caras) | D10: 0.25 | H10: 41994291-45132381 | I10: UT ALIMENTAR CUCUTA 2021 | J10: COORDINADOR LOGISTICO | K10: 44235 | L10: 44530 | M10: PAE | N10: 22 | O10: 9 | Q10: ENE - NOV
B11: 4 | C11: Fotocopia Libreta Militar | D11: 0.25 | H11: 2492-2021 | I11: CONSORCIO ALIMENTANDO FUTURO 2021 | J11: INGENIERA DE ALIMENTOS | K11: 44487 | L11: 44548 | M11: PAE | Q11: ENE - DIC
B12: 5 | C12: Fotocopia de Tarjeta Profesional Vigente | D12: 0.25 | K12: 44592 | L12: 44895 | N12: 0 | O12: 10 | Q12: ENE - DIC
B13: 6 | C13: Certificados de Antecedentes Judiciales Disciplinarios, Fiscales y RNMC | D13: 0.25 | N13: =SUM(N8:N12) -> 65 | O13: =SUM(O8:O12) -> 38 | Q13: 3 AÑOS
B14: 7 | C14: Copia de contrato o certificación que indique claramente la fecha, el plazo y el objeto del mismo, para acreditar la experiencia específica por 3 años. | D14: 1.5 | E14: =SUM(D14) -> 1.5 | N14: =SUM(N8:N13) -> 130 | O14: =SUM(O8:O13) -> 76 | Q14: TIEMPO DE SERVICIO: 6 AÑOS, 7 MESES,3 DIAS
A15: 2010 | C15: Copia de contrato o certificación que indique claramente la fecha, el plazo y el objeto del mismo, para acreditar la experiencia específica por 2 años
C16: Copia de contrato o certificación que indique claramente la fecha, el plazo y el objeto del mismo, para acreditar la experiencia específica por 1 año
C17: TOTAL | E17: =SUM(E8:E16) -> 3
B19: Se asignará un total de tres (3) puntos, distribuidos así: uno punto cinco (1.5) puntos al requisito de acreditación experiencia siempre y cuando certifique el máximo de años exigidos como experiencia específica y el puntaje restante uno punto cinco (1.5) siempre y cuando cumpla con la totalidad del resto de los ítems exigidos.
B21: La experiencia específica, la entidad aclara que se asignaran 1.5 puntos para la acreditación de la experiencia siempre y cuando certifique 3 años de experiencia en programas de alimentación escolar, de lo contrario se asignara el puntaje proporcionalmente mediante una regla de tres simple

Sheet Supervisor
F2: =0.5/6 -> 0.083333333
B3: PROCESO LP-SED-006-2023
B4: SUPERVISORES
B6: ANTONIO PAVA OBREGON | H6: GRISELDA IRIARTE LARA | O6: YURIS MONTENEGRO CHAVEZ | V6: TATIANA PINO LOPERA | AC6: NELSA CABEZA VILLAMIZAR | AJ6: YAMILETH MACIA ALVAREZ
B7: No. | C7: ACREDITACION | D7: PUNTOS: | E7: OBSERVACION | F7: SUBTOTAL | H7: No. | I7: ACREDITACION | J7: PROPONENTE | K7: PUNTOS: | L7: OBSERVACION | M7: SUBTOTAL | O7: No. | P7: ACREDITACION | Q7: PROPONENTE | R7: PUNTOS: | S7: OBSERVACION | T7: SUBTOTAL | V7: No. | W7: ACREDITACION | X7: PROPONENTE | Y7: PUNTOS: | Z7: OBSERVACION | AA7: SUBTOTAL | AC7: No. | AD7: ACREDITACION | AE7: PROPONENTE | AF7: PUNTOS: | AG7: OBSERVACION | AH7: SUBTOTAL | AJ7: No. | AK7: ACREDITACION | AL7: PROPONENTE | AM7: PUNTOS: | AN7: OBSERVACION | AO7: SUBTOTAL
B8: 1 | C8: Formato Hoja de Vida | D8: 0.0833 | F8: =SUM(D8:D13) -> 0.4998 | H8: 1 | I8: Formato Hoja de Vida | K8: 0.1 | M8: =SUM(K8:K13) -> 0.5 | O8: 1 | P8: Formato Hoja de Vida | R8: 0.1 | T8: =SUM(R8:R13) -> 0.5 | V8: 1 | W8: Formato Hoja de Vida | Y8: 0.1 | AA8: =SUM(Y8:Y13) -> 0.5 | AC8: 1 | AD8: Formato Hoja de Vida | AF8: 0.1 | AH8: =SUM(AF8:AF13) -> 0.5 | AJ8: 1 | AK8: Formato Hoja de Vida | AM8: 0.1 | AO8: =SUM(AM8:AM13) -> 0.5
B9: 2 | C9: Fotocopia de la Cédula de Ciudanía (ambas caras) | D9: 0.0833 | H9: 2 | I9: Fotocopia de la Cédula de Ciudanía (ambas caras) | K9: 0.1 | O9: 2 | P9: Fotocopia de la Cédula de Ciudanía (ambas caras) | R9: 0.1 | V9: 2 | W9: Fotocopia de la Cédula de Ciudanía (ambas caras) | Y9: 0.1 | AC9: 2 | AD9: Fotocopia de la Cédula de Ciudanía (ambas caras) | AF9: 0.1 | AJ9: 2 | AK9: Fotocopia de la Cédula de Ciudanía (ambas caras) | AM9: 0.1
B10: 3 | C10: Fotocopia Libreta Militar si aplica | D10: 0.0833 | E10: NO APORTA, se le aplica lo estipulado en el Art. 10 de la ley 48 de 1993 | H10: 3 | I10: Fotocopia Libreta Militar | K10: 0 | L10: N.A | O10: 3 | P10: Fotocopia Libreta Militar | R10: 0 | S10: N.A | V10: 3 | W10: Fotocopia Libreta Militar | Y10: 0 | Z10: N/A | AC10: 3 | AD10: Fotocopia Libreta Militar | AF10: 0 | AG10: N.A | AJ10: 3 | AK10: Fotocopia Libreta Militar
B11: 4 | C11: Fotocopia de Diploma | D11: 0.0833 | H11: 4 | I11: Fotocopia de Diploma | K11: 0.1 | O11: 4 | P11: Fotocopia de Diploma | R11: 0.1 | V11: 4 | W11: Fotocopia de Diploma | Y11: 0.1 | AC11: 4 | AD11: Fotocopia de Diploma | AF11: 0.1 | AJ11: 4 | AK11: Fotocopia de Diploma | AM11: 0.1
B12: 5 | C12: Fotocopia Tarjeta Profesional Vigente | D12: 0.0833 | H12: 5 | I12: Fotocopia Tarjeta Profesional Vigente | K12: 0.1 | O12: 5 | P12: Fotocopia Tarjeta Profesional Vigente | R12: 0.1 | V12: 5 | W12: Fotocopia Tarjeta Profesional Vigente | Y12: 0.1 | AC12: 5 | AD12: Fotocopia Tarjeta Profesional Vigente | AF12: 0.1 | AJ12: 5 | AK12: Fotocopia Tarjeta Profesional Vigente | AM12: 0.1
B13: 6 | C13: Certificados de Antecedentes Disciplinarios, Fiscales, judiciales y RNMC | D13: 0.0833 | H13: 6 | I13: Certificados de Antecedentes Disciplinarios, Fiscales, judiciales y RNMC | K13: 0.1 | O13: 6 | P13: Certificados de Antecedentes Disciplinarios, Fiscales, judiciales y RNMC | R13: 0.1 | V13: 6 | W13: Certificados de Antecedentes Disciplinarios, Fiscales, judiciales y RNMC | Y13: 0.1 | AC13: 6 | AD13: Certificados de Antecedentes Disciplinarios, Fiscales, judiciales y RNMC | AF13: 0.1 | AJ13: 6 | AK13: Certificados de Antecedentes Disciplinarios, Fiscales, judiciales y RNMC | AM13: 0.1
B14: 7 | C14: Capacitación en higiene y manipulación de alimentos | D14: 0 | E14: OBSERVACION PRESENTADA POR UT ALIMENTANDO SUEÑOS 2024, ATINENTE A LOS REQUISITOS EXIGIDOS | F14: =SUM(D14:D18) -> 0 | I14: Capacitación en higiene y manipulación de alimentos | K14: 0 | L14: OBSERVACION PRESENTADA POR UT ALIMENTANDO SUEÑOS 2024, ATINENTE A LOS REQUISITOS EXIGIDOS | M14: =SUM(K14:K21) -> 0 | P14: Capacitación en higiene y manipulación de alimentos | R14: 0 | S14: OBSERVACION PRESENTADA POR UT ALIMENTANDO SUEÑOS 2024, ATINENTE A LOS REQUISITOS EXIGIDOS | T14: =SUM(R14:R21) -> 0 | W14: Capacitación en higiene y manipulación de alimentos | Y14: 0 | Z14: OBSERVACION PRESENTADA POR UT ALIMENTANDO SUEÑOS 2024, ATINENTE A LOS REQUISITOS EXIGIDOS | AA14: =SUM(Y14:Y21) -> 0 | AD14: Capacitación en higiene y manipulación de alimentos | AF14: 0 | AG14: OBSERVACION PRESENTADA POR UT ALIMENTANDO SUEÑOS 2024, ATINENTE A LOS REQUISITOS EXIGIDOS | AH14: =SUM(AF14:AF21) -> 0 | AK14: Capacitación en higiene y manipulación de alimentos | AM14: 0 | AN14: OBSERVACION PRESENTADA POR UT ALIMENTANDO SUEÑOS 2024, ATINENTE A LOS REQUISITOS EXIGIDOS | AO14: =SUM(AM14:AM21) -> 0
B15: a | C15: No mayor a un (1) año con relación a la fecha de presentación de la propuesta. Intensidad: Mínimo 40 horas | I15: No mayor a un (1) año con relación a la fecha de presentación de la propuesta. Intensidad: Mínimo 40 horas | P15: No mayor a un (1) año con relación a la fecha de presentación de la propuesta. Intensidad: Mínimo 40 horas | W15: No mayor a un (1) año con relación a la fecha de presentación de la propuesta. Intensidad: Mínimo 40 horas | AD15: No mayor a un (1) año con relación a la fecha de presentación de la propuesta. Intensidad: Mínimo 40 horas | AK15: No mayor a un (1) año con relación a la fecha de presentación de la propuesta. Intensidad: Mínimo 40 horas
B16: b | C16: No mayor a dos (2) años con relación a la fecha de presentación de la propuesta. Intensidad: Mínimo 40 horas | I16: No mayor a dos (2) años con relación a la fecha de presentación de la propuesta. Intensidad: Mínimo 40 horas | P16: No mayor a dos (2) años con relación a la fecha de presentación de la propuesta. Intensidad: Mínimo 40 horas | W16: No mayor a dos (2) años con relación a la fecha de presentación de la propuesta. Intensidad: Mínimo 40 horas | AD16: No mayor a dos (2) años con relación a la fecha de presentación de la propuesta. Intensidad: Mínimo 40 horas | AK16: No mayor a dos (2) años con relación a la fecha de presentación de la propuesta. Intensidad: Mínimo 40 horas
B17: c | C17: No mayor a un (1) año con relación a la fecha de presentación de la propuesta.Intensidad: Menor de 40 horas y mínimo de 10 horas | I17: No mayor a un (1) año con relación a la fecha de presentación de la propuesta. Intensidad: Menor de 40 horas y mínimo de 10 horas | P17: No mayor a un (1) año con relación a la fecha de presentación de la propuesta. Intensidad: Menor de 40 horas y mínimo de 10 horas | W17: No mayor a un (1) año con relación a la fecha de presentación de la propuesta. Intensidad: Menor de 40 horas y mínimo de 10 horas | AD17: No mayor a un (1) año con relación a la fecha de presentación de la propuesta. Intensidad: Menor de 40 horas y mínimo de 10 horas | AK17: No mayor a un (1) año con relación a la fecha de presentación de la propuesta. Intensidad: Menor de 40 horas y mínimo de 10 horas
B18: 8 | C18: Capacitacion en Proteccion y Conservacion de Alimentos | D18: 0 | I18: Capacitacion en Proteccion y Conservacion de Alimentos | K18: 0 | P18: Capacitacion en Proteccion y Conservacion de Alimentos | R18: 0 | W18: Capacitacion en Proteccion y Conservacion de Alimentos | Y18: 0 | AD18: Capacitacion en Proteccion y Conservacion de Alimentos | AF18: 0 | AK18: Capacitacion en Proteccion y Conservacion de Alimentos | AM18: 0
B19: a | C19: No mayor a un (1) año con relación a la fecha de presentación de la propuesta. Intensidad: Mínimo 40 horas | I19: No mayor a un (1) año con relación a la fecha de presentación de la propuesta. Intensidad: Mínimo 40 horas | P19: No mayor a un (1) año con relación a la fecha de presentación de la propuesta. Intensidad: Mínimo 40 horas | W19: No mayor a un (1) año con relación a la fecha de presentación de la propuesta. Intensidad: Mínimo 40 horas | AD19: No mayor a un (1) año con relación a la fecha de presentación de la propuesta. Intensidad: Mínimo 40 horas | AK19: No mayor a un (1) año con relación a la fecha de presentación de la propuesta. Intensidad: Mínimo 40 horas
B20: b | C20: No mayor a dos (2) años con relación a la fecha de presentación de la propuesta. Intensidad: Mínimo 40 horas | I20: No mayor a dos (2) años con relación a la fecha de presentación de la propuesta. Intensidad: Mínimo 40 horas | P20: No mayor a dos (2) años con relación a la fecha de presentación de la propuesta. Intensidad: Mínimo 40 horas | W20: No mayor a dos (2) años con relación a la fecha de presentación de la propuesta. Intensidad: Mínimo 40 horas | AD20: No mayor a dos (2) años con relación a la fecha de presentación de la propuesta. Intensidad: Mínimo 40 horas | AK20: No mayor a dos (2) años con relación a la fecha de presentación de la propuesta. Intensidad: Mínimo 40 horas
B21: c | C21: No mayor a un (1) año con relación a la fecha de presentación de la propuesta.Intensidad: Menor de 40 horas y mínimo de 10 horas | I21: No mayor a un (1) año con relación a la fecha de presentación de la propuesta. Intensidad: Menor de 40 horas y mínimo de 10 horas | P21: No mayor a un (1) año con relación a la fecha de presentación de la propuesta. Intensidad: Menor de 40 horas y mínimo de 10 horas | W21: No mayor a un (1) año con relación a la fecha de presentación de la propuesta. Intensidad: Menor de 40 horas y mínimo de 10 horas | AD21: No mayor a un (1) año con relación a la fecha de presentación de la propuesta. Intensidad: Menor de 40 horas y mínimo de 10 horas | AK21: No mayor a un (1) año con relación a la fecha de presentación de la propuesta. Intensidad: Menor de 40 horas y mínimo de 10 horas
B22: 9 | C22: Copia de Contrato o Certificación que indique claramente la fecha expedición, el plazo o duración de la actividad que se certifica y el objeto del certificado referido a experiencia en programas de alimentación PAE por mínimo 2 años. | D22: 0 | F22: =SUM(D22:D23) -> 0.5 | H22: 9 | I22: Copia de Contrato o Certificación que indique claramente la fecha expedición, el plazo o duración de la actividad que se certifica y el objeto del certificado referido a experiencia en programas de alimentación PAE por mínimo 2 años. | K22: 1 | M22: =SUM(K22) -> 1 | O22: 9 | P22: Copia de Contrato o Certificación que indique claramente la fecha expedición, el plazo o duración de la actividad que se certifica y el objeto del certificado referido a experiencia en programas de alimentación PAE por mínimo 2 años. | R22: 1 | T22: =SUM(R22) -> 1 | V22: 9 | W22: Copia de Contrato o Certificación que indique claramente la fecha expedición, el plazo o duración de la actividad que se certifica y el objeto del certificado referido a experiencia en programas de alimentación PAE por mínimo 2 años. | Y22: 1 | AA22: =SUM(Y22) -> 1 | AC22: 9 | AD22: Copia de Contrato o Certificación que indique claramente la fecha expedición, el plazo o duración de la actividad que se certifica y el objeto del certificado referido a experiencia en programas de alimentación PAE por mínimo 2 años. | AF22: 1 | AH22: =SUM(AF22) -> 1 | AJ22: 9 | AK22: Copia de Contrato o Certificación que indique claramente la fecha expedición, el plazo o duración de la actividad que se certifica y el objeto del certificado referido a experiencia en programas de alimentación PAE por mínimo 2 años. | AM22: 1 | AO22: =SUM(AM22) -> 1
C23: Copia de Contrato o Certificación que indique claramente la fecha expedición, el plazo o duración de la actividad que se certifica y el objeto del certificado referido a experiencia en programas de alimentación PAE por mínimo 1 año. | D23: 0.5 | I23: Copia de Contrato o Certificación que indique claramente la fecha expedición, el plazo o duración de la actividad que se certifica y el objeto del certificado referido a experiencia en programas de alimentación PAE por mínimo 1 año. | P23: Copia de Contrato o Certificación que indique claramente la fecha expedición, el plazo o duración de la actividad que se certifica y el objeto del certificado referido a experiencia en programas de alimentación PAE por mínimo 1 año. | W23: Copia de Contrato o Certificación que indique claramente la fecha expedición, el plazo o duración de la actividad que se certifica y el objeto del certificado referido a experiencia en programas de alimentación PAE por mínimo 1 año. | AD23: Copia de Contrato o Certificación que indique claramente la fecha expedición, el plazo o duración de la actividad que se certifica y el objeto del certificado referido a experiencia en programas de alimentación PAE por mínimo 1 año. | AK23: Copia de Contrato o Certificación que indique claramente la fecha expedición, el plazo o duración de la actividad que se certifica y el objeto del certificado referido a experiencia en programas de alimentación PAE por mínimo 1 año.
B24: 10 | C24: Carta de Intención | E24: NO APORTA CERTIFICADO DE VENCIDAD O SISBEN | F24: 0 | H24: 10 | I24: Carta de Intención | J24: X | K24: 0 | L24: NO APORTA CERTIFICADO DE VENCIDAD O SISBEN | M24: =SUM(K24) -> 0 | O24: 10 | P24: Carta de Intención | Q24: X | R24: 0 | S24: NO APORTA CERTIFICADO DE VENCIDAD O SISBEN | T24: =SUM(R24) -> 0 | V24: 10 | W24: Carta de Intención | X24: X | Y24: 0 | Z24: NO APORTA CERTIFICADO DE VENCIDAD O SISBEN | AA24: =SUM(Y24) -> 0 | AC24: 10 | AD24: Carta de Intención | AE24: X | AF24: 0 | AG24: NO APORTA CERTIFICADO DE VENCIDAD O SISBEN | AH24: =SUM(AF24) -> 0 | AJ24: 10 | AK24: Carta de Intención | AL24: X | AM24: 0 | AN24: NO APORTA CERTIFICADO DE VENCIDAD O SISBEN | AO24: =SUM(AM24) -> 0
C25: Certificado de Vecindad | I25: Certificado de Vecindad | P25: Certificado de Vecindad | W25: Certificado de Vecindad | AD25: Certificado de Vecindad | AK25: Certificado de Vecindad
C26: TOTAL | F26: =SUM(F8:F23) -> 0.9998 | I26: TOTAL | M26: =SUM(M8:M25) -> 1.5 | P26: TOTAL | T26: =SUM(T8:T25) -> 1.5 | W26: TOTAL | AA26: =SUM(AA8:AA25) -> 1.5 | AD26: TOTAL | AH26: =SUM(AH8:AH25) -> 1.5 | AK26: TOTAL | AO26: =SUM(AO8:AO25) -> 1.5
B28: DISPONIBILIDAD PARA PERMANECER Y DESPLAZARSE EN LA ZONA DE DESARROLLO DEL CONTRATO | C28: =F24+K24+T24+AA24+AH24+AO24 -> 0
B29: SUPERVISORES | C29: =F26+M26+T26+AA26+AH26+AO26 -> 8.4998
V30: NO. CONTRATO | W30: ENTIDAD | X30: CARGO | Y30: FECHA INICIO | Z30: FECHA TERMINACION | AA30: OBJETO | AB30: DIA | AC30: MES | AD30: AÑO | AE30: PLANILLA | AF30: OBSERVACION
B31: ANTONIO PAVA OBREGON C.C No. | V31: PAE TURBO-2019-005-06-2019 | W31: TURBO | X31: PROFESIONAL | Y31: 43475 | AB31: 20 | AC31: 4 | AE31: CONSTANCIA PAGO INDEPENDIENTE | AF31: ANEXAR ACTA RECIBO FINAL CONTRATO PAE
B32: NO. CONTRATO | C32: ENTIDAD | D32: CARGO | E32: FECHA INICIO | F32: FECHA TERMINACION | G32: OBJETO | H32: DIA | I32: MES | J32: OBSERVACION | V32: PAE TURBO-2019-005-11-2019 | W32: TURBO | X32: PROFESIONAL | Y32: 43621 | AB32: 25 | AC32: 6 | AE32: CONSTANCIA PAGO INDEPENDIENTE | AF32: ANEXAR ACTA RECIBO FINAL CONTRATO PAE
B33: 1435-2020 | C33: CONSORCIO ALIMENTACION ESCOLAR BOLIVAR 2020 | D33: SUPERVISOR | E33: 44092 | F33: 44165 | G33: PAE | H33: 12 | I33: 2 | V33: 016-2020 | W33: PENTAGONO | X33: NUTRICIONISTA-SUPERVISOR | Y33: 43881 | Z33: 43951 | AB33: 10 | AC33: 2 | AE33: NO REPORTA PLANILLA | AF33: ANEXAR ACTA RECIBO FINAL CONTRATO PAE
E34: 44235 | F34: 44300 | G34: PAE | H34: 6 | I34: 2 | V34: FALTA | W34: FUNRESUEÑOS | X34: NUTRICIONISTA-SUPERVISOR | Y34: 43965 | Z34: 44124 | AB34: 6 | AC34: 5 | AE34: NO REPORTA PLANILLA 8-07-06-05 | AF34: ANEXAR ACTA RECIBO FINAL CONTRATO PAE
B35: 1014-2021 | C35: CONSORCIO ALIMENTANDO ESCOLAR 2021 | D35: SUPERVISOR | E35: 44301 | F35: 44469 | G35: PAE | H35: 15 | I35: 5 | V35: 427-2023 | W35: CONSORCIO ALIMENTANDO A BOLIVAR 2023 | X35: SUPERVISORA | Y35: 44981 | Z35: 45138 | AB35: 6 | AC35: 5 | AE35: CERTIFICADO APORTES OPERADOR | AF35: ANEXAR ACTA RECIBO FINAL CONTRATO PAE
B36: 2492-2021 | C36: CONSORCIO ALIMENTANDO FUTURO 2021 | D36: SUPERVISOR | E36: 44487 | F36: 44548 | G36: PAE | H36: 0 | I36: 0 | J36: EN SS SOLO APORTA EPS Y ARL | V36: 3361-2023 | W36: CONSORCIO ALIMENTACION PARA BOLIVAR 2023 | X36: SUPERVISORA | Y36: 45142 | Z36: 45260 | AB36: 26 | AC36: 3 | AE36: CERTIFICADO APORTES OPERADOR | AF36: ANEXAR ACTA RECIBO FINAL CONTRATO PAE
D37: SUPERVISOR | E37: 44592 | F37: 44895 | G37: PAE | H37: 0 | I37: 0 | J37: EN SS SOLO APORTA EPS Y ARL | AB37: =SUM(AB31:AB36) -> 93 | AC37: =SUM(AC31:AC36) -> 25
B38: 427 -2023 | C38: CONSORCIO ALIMENTADO A BOLIVAR 2023 | D38: SUPERVISOR | E38: 44981 | F38: 45138 | G38: PAE | J38: EN SS SOLO APORTA EPS Y ARL
B39: 3361-2023 | C39: CONSORCIO ALIMENTACION PARA BOLIVAR 2023 | D39: SUPERVISOR | E39: 45142 | F39: 45260 | G39: PAE | H39: 26 | I39: 3
H40: =SUM(H33:H39) -> 59 | I40: =SUM(I33:I39) -> 12 | J40: TIEMPO DE SERVICIO 1 AÑOS, 59 DIA
B42: GRISELDA IRIARTE LARA
B43: NO. CONTRATO | C43: ENTIDAD | D43: CARGO | E43: FECHA INICIO | F43: FECHA TERMINACION | G43: OBJETO | H43: DIA | I43: MES | J43: PLANILLA | K43: OBSERVACION
B44: 1435-2020 | C44: CONSORCIO ALIMENTACION ESCOLAR BOLIVAR 2020 | D44: SUPERVISOR | E44: 44092 | F44: 44165 | G44: PAE | H44: 12 | I44: 2 | J44: CERTIFICADO APORTES OPERADOR
...

Sheet Cadena Frio
B2: LP-SED-006-2023
B3: Garantizar la Cadena de Frio
B13: FACTOR | C13: DESCRIPCIÓN DEL FACTOR | D13: PUNTAJE PLIEGO | E13: PUNTAJE PROPONENTE
B14: Conservación de los Alimentos | C14: Ofrecimiento de un porcentaje igual o mayor al 25% de neveras y/o congeladores para las sedes Educativas con modalidad industrializada. | D14: 4 | E14: 4
C15: Debe indicarse el número de neveras y/o congeladores a entregar.
C16: Especificar en calidad de qué va a ser la entrega (comodato o cesión definitiva).

Sheet Plan de Calidad
B2: LP-SED-006-2023
B3: PLAN DE CALIDAD
C8: FACTOR | D8: DESCRIPCION DEL FACTOR | E8: PUNTAJE PLIEGO | F8: PUNTAJE DEL PROPONENTE | G8: OBSERVACION
C9: Actividades en procura de la construccion, ejecucion, revision y seguimento del Programa | D9: Quien presente mejoramientos al ofrecimiento a todas las actividades que se describen a continuación, con respecto a la exigencia mínima del lineamiento del PAE, que describen en el cuadro de arriba. | E9: 4 | F9: 4
D10: Ofrecimiento de iguales, menores o incompletas medidas de calidad establecidos en la Resolución 0035 de 2021 que se describen en el cuadro de arriba, que describen en el cuadro de arriba. | E10: 2

Sheet Industria
B4: PROCESO LP-SED-006-2023
B5: PROMOCION A LA INDUSTRIA NACIONAL -
B8: APOYO A LA INDUSTRIA NACIONAL | C8: PUNTOS PLIEGOS | D8: ACREDITACION | E8: PUNTOS OFERENTES
B9: Si el oferente es nacional y todo el personal contratado para la ejecución del contrato es de nacionalidad colombiana, y ofrece usar bienes nacionales en un porcentaje superior al 30% de las compras locales que debe hacer, con respecto a los alimentos necesarios para la preparación de las raciones del PAE, obtendrá el puntaje señalado. Este aspecto se acreditará mediante la información que sobre la nacionalidad del personal suministre el proponente o el representante legal del proponente en el anexo “Protección a la industria nacional”. Por bienes nacionales para la preparación se debe entender los alimentos que conforman la materia prima de las raciones que se entregarán a los menores estudiantes. | C9: 10 | D9: APORTA ANEXO 10 DILIGENCIADO Y FIRMADO | E9: 10
B10: Si el oferente es extranjero y si dentro del personal contratado para la ejecución del contrato hay personal de nacionalidad colombiana y/o extranjero, y no ofrece usar bienes nacionales en un porcentaje superior al 30% de las compras locales que debe hacer, con respecto a los alimentos necesarios para la preparación de las raciones del PAE, obtendrá el puntaje señalado. Este aspecto se acreditará mediante la información que sobre la nacionalidad del personal suministre el proponente o el representante legal del proponente en el anexo “Protección a la industria nacional”. | C10: 5

Sheet Discapacidad
C2: PROCESO LP-SED-006-2023
C3: CRITERIO DE EVALUACION-VINCULACION DE PERSONAL CON DISCAPACIDAD
C6: NUMERO TOTAL DE TRABAJADORES DE LA PLANTA DE PERSONAL DEL PROPONENTE | D6: NUMERO MINIMO DE TRABAJADORES DE LA PLANTA DE PERSONAL DEL PROPONENTE | E6: CERTIFICACION | F6: CERTIFICADO MINTRABAJO | G6: PROPONENTE | H6: PUNTOS | I6: OBSERVACION
C8: ENTRE 1 Y 30 | D8: 1 | E8: X | F8: 05EE2023716300100003228 de 20/11/2023 | G8: PENTAGONO | H8: 0 | I8: OBSERVACION REALIZADA POR LA UT ALIMENTANDO SUEÑOS 2024 Dec. 392 de 2018, “Artículo 2.2.1.2.4.2.6. Puntaje adicional para proponentes con trabajadores con discapacidad.Parágrafo. Para efectos de lo señalado en el presente artículo, si la oferta es presentada por un consorcio, unión temporal o promesa de sociedad futura, se tendrá en cuenta la planta de personal del integrante del proponente plural que aporte como mínimo el cuarenta por ciento (40%) de la experiencia requerida para la respectiva contratación.
C9: ENTRE 31 Y 100 | D9: 2
C10: ENTRE 101 Y 150 | D10: 3
C11: ENTRE 151 Y 200 | D11: 4
C12: MAS DE 200 | D12: 5

Sheet Emprendimiento
C2: LP-SED-006-2023
C3: Participación de Emprendimiento y Empresas de Mujeres (0,25 puntos)
C6: FACTOR | D6: PUNTAJE PLIEGO | E6: ACREDITACION | F6: PUNTAJE PROPONENTE
C7: 1. Cuando más del cincuenta por ciento (50%) de las acciones, partes de interés o cuotas de participación de la persona jurídica pertenezcan a mujeres y los derechos de propiedad hayan pertenecido a estas durante al menos el último año anterior a la fecha de cierre del presente Proceso de Selección. Esta circunstancia se acreditará mediante certificación expedida por el representante legal y el revisor fiscal, cuando exista de acuerdo con los requerimientos de ley, o el contador, donde conste la distribución de los derechos en la sociedad y el tiempo en el que las mujeres han mantenido su participación | D7: 0.25 | E7: CUMPLE | F7: 0.25
C10: 2. Cuando por lo menos el cincuenta por ciento (50%) de los empleos del nivel directivo de la persona jurídica sean ejercidos por mujeres y éstas hayan estado vinculadas laboralmente a la empresa durante al menos el último año anterior a la fecha de cierre del presente Proceso de Selección en el mismo cargo u otro del mismo nivel
C13: Se entenderá como empleos del nivel directivo aquellos cuyas funciones están relacionadas con la dirección de áreas misionales de la empresa y la toma de decisiones a nivel estratégico. En este serán cargos de nivel directivo los que dentro de la organización de la empresa se encuentran ubicados en un nivel de mando o los que por su jerarquía desempeñan cargos encaminados al cumplimiento de funciones orientadas a representar al empleador
C16: Esta circunstancia se acreditará mediante certificación expedida por el representante legal y el revisor fiscal, cuando exista de acuerdo con los requerimientos de ley, o el contador, donde se señale de manera detallada todas las personas que conforman los cargos de nivel directivo del proponente, el número de mujeres y el tiempo de vinculación. La certificación deberá relacionar adicionalmente el nombre completo y el número de documento de identidad de cada una de las personas que conforman el nivel directivo del proponente. Como soporte, se anexará copia de los respectivos documentos de identidad, copia de los contratos de trabajo o certificación laboral con las funciones, así como el certificado de aportes a seguridad social del último año en el que se demuestren los pagos realizados por el empleador.
C19: 3. Cuando la persona natural sea una mujer y haya ejercido actividades comerciales a través de un establecimiento de comercio durante al menos el último año anterior a la fecha de cierre del presente Proceso de Selección. Esta circunstancia se acreditará mediante la copia de cédula de ciudadanía, la cédula de extranjería o el pasaporte, así como la copia del registro mercantil
C22: 4. Para las asociaciones y cooperativas, cuando más del cincuenta por ciento (50%) de los asociados sean mujeres y la participación haya correspondido a estas durante al menos el último año anterior a la fecha de cierre del Presente Proceso de Selección. Esta circunstancia se acreditará mediante certificación expedida por el representante legal.

Sheet Puntaje Adicionales
C2: LP-SED-006-2023
C3: PUNTAJES ADICIONALES OBLIGATORIOS
C5: FACTOR | D5: PUNTAJE PLIEGO | E5: ACREDITACION | F5: PUNTAJE PROPONENTE
C6: a. Cuota Parafiscal. Se asignará el seis por ciento (6%) de los puntos al oferente cuya mayoría de proveedores, indicados en el inciso anterior, esto es la mitad más uno, esté a paz y salvo con el pago de la respectiva cuota parafiscal, en el caso de los productos que cuenten con fondo parafiscal. Este criterio se acreditará a través de la certificación emitida por el Fondo Parafiscal respectivo o a través de factura de compra o venta a nombre del productor que acredite el descuento de la cuota parafiscal en su venta, o a través del documento que acredite el paz y salvo dispuesto por el respectivo Fondo | D6: 6 | F6: 0
C9: b. Proveedor Directo: Se asignará un seis por ciento (6%) adicional al oferente que también tenga la calidad de pequeño productor y/o productor de la Agricultura Campesina, Familiar o Comunitaria y/o sus organizaciones del pequeño productor ubicado en el departamento de Bolívar. Condición que se acreditará a través del Registro Único Tributario - RUT, en el que se evidencie el registro de las actividades contempladas en la Sección A de agricultura, ganadería, caza, silvicultura y pesca de la Clasificación Industrial Internacional Uniforme (CIIU), excepto las actividades de apoyo a la agricultura y la ganadería. | D9: 6 | E9: FUNSENS | F9: 6
C12: Parágrafo 1. Para acreditar la calidad productor nacional se deberá allegar contrato de arrendamiento o un certificado de tradición y libertad del inmueble, o los recibos de pago de los impuestos, contribuciones y valorizaciones del inmueble, que permita demostrar que los productores tienen la calidad de propietarios, poseedores, o tenedores del predio, en los que se evidencie la vereda, el municipio, el departamento o la región de ubicación donde se encuentra el sistema de producción del proveedor de los productos agropecuarios dentro del territorio nacional. | E12: CUMPLE
C15: Parágrafo 2. Para acreditar la calidad pequeño productor se tomará el medio de prueba establecido en el artículo 2.1.2.2.8 del Decreto 1071 de 2015 o el que lo modifique. Para acreditar la calidad de productor de la Agricultura, Campesina, Familiar y Comunitaria deberá demostrar que figuran como productor de la ACFC en el registro general de pequeños productores y productores de la Agricultura Campesina, Familiar y Comunitaria u otros registros oficiales o en el Sistema de Información Alimentaria una vez entre en operación.
C20: Ley 71 de 2015- ARTÍCULO 2.1.2.2.8. Pequeño Productor. Para los fines de la Ley 16 de 1990, se entenderá por pequeño productor la persona natural que posea activos totales no superiores a los doscientos ochenta y cuatro (284) SMMLV, en el momento de la respectiva operación de crédito. Deberá demostrarse que estos activos no excedan de ese valor, según balance comercial aceptado por el intermediario financiero, cuya antigüedad de edad no sea superior a 90 días a la solicitud del crédito
