Workbook
Name AnticipoM1: POA!$D$2
Name AnticipoM2: POA!$D$12
Name AnticipoM3: POA!$D$13
Name AnticipoM4: POA!$D$14
Name ase: '[1]FORMULA 1'!#REF!
Name CapFinanciera1: [2]Puntajes!$C$12
Name CapFinanciera1: [2]Puntajes!$C$12
Name CapFinanciera1: Puntajes!$C$12
Name CapFinanciera2: [2]Puntajes!$C$13
Name CapFinanciera2: [2]Puntajes!$C$13
Name CapFinanciera2: Puntajes!$C$13
Name CapFinanciera3: [2]Puntajes!$C$14
Name CapFinanciera3: [2]Puntajes!$C$14
Name CapFinanciera3: Puntajes!$C$14
Name CapFinanciera4: [2]Puntajes!$C$15
Name CapFinanciera4: [2]Puntajes!$C$15
Name CapFinanciera4: Puntajes!$C$15
Name CapTecnica1: [2]Puntajes!$G$4
Name CapTecnica1: [2]Puntajes!$G$4
Name CapTecnica1: Puntajes!$G$4
Name CapTecnica2: [2]Puntajes!$G$5
Name CapTecnica2: [2]Puntajes!$G$5
Name CapTecnica2: Puntajes!$G$5
Name CUMPLIMIENTO: SMLM!$H$22:$H$23
Name DDDA: [3]SMLM!$H$14
Name DEPENDENCIAS: [4]LISTAS!$B$2:$B$16
Name DEPENDENCIAS: [5]DEPENDENCIAS!$B$1:$B$13
Name DEPENDENCIAS: [4]LISTAS!$B$2:$B$16
Name DEPENDENCIAS: SMLM!$H$3:$H$11
Name ESCONDIDO: #REF!
Name Estado: [4]LISTAS!$E$2:$E$3
Name Experiencia1: [2]Puntajes!$C$4
Name Experiencia1: [2]Puntajes!$C$4
Name Experiencia1: Puntajes!$C$4
Name Experiencia2: [2]Puntajes!$C$5
Name Experiencia2: [2]Puntajes!$C$5
Name Experiencia2: Puntajes!$C$5
Name Experiencia3: [2]Puntajes!$C$6
Name Experiencia3: [2]Puntajes!$C$6
Name Experiencia3: Puntajes!$C$6
Name FECHACIERRE: EXPER.GRAL!$R$12
Name FECHAMIN: EXPER.GRAL!$Q$12
Name FIIF: '[1]FORMULA 1'!#REF!
Name FRRUUU: '[6]FORMULA 1'!#REF!
Name hide: #REF!
Name inf: #REF!
Name JERARQUIA: '[6]FORMULA 1'!#REF!
Name NONO: '[1]FORMULA 1'!#REF!
Name ORDEN: '[6]FORMULA 1'!#REF!
Name PlazoM1: POA!$C$2
Name PlazoM2: POA!$C$12
Name PlazoM3: POA!$C$13
Name PlazoM4: POA!$C$14
Name PO: CRC!#REF!
Name PORPOM: [4]EXPERIENCIA!$P$14
Name PPPPP: #REF!
Name PRO: #REF!
Name prueba: #REF!
Name prueba: #REF!
Name prueba: #REF!

Sheet PRESUPUESTOS
B1: INSTITUTO NACIONAL DE VÍAS
B2: DIRECCIÓN TERRITORIAL PUTUMAYO
B3: LP-DT-PUT-002-2019
B5: OBJETO: MANTENIMIENTO RUTINARIO VÍAS A CARGO DEL INSTITUTO NACIONAL DEL VÍAS DIRECCIÓN TERRITORIAL PUTUMAYO.
B6: PRESUPUESTO
B8: MODULO No. | C8: OBJETO DEL PROYECTO | D8: PRESUPUESTO OFICIAL | E8: PLAZO
B9: 0
B10: 9 | C10: Mantenimiento Rutinario Carretera1003 Pasto - El Pepino, PR 62+000 (San Pedro) - PR 88+0000 (Año Nuevo) | D10: 1325369398 | E10: 33
G11: VALOR BASICO | H11: 1113755797
B13: TOTAL | D13: =SUM(D10:D11) -> 1325369398 | E13: =+E10 -> 33 | F13: =D13/POA!SALACTUAL -> 1600.4635

Sheet POA
A1: Modulo | B1: PO | C1: N | D1: Anticipo | F1: SMMLV 2019
A2: 9 | B2: =+PRESUPUESTOS!D10 -> 1325369398 | C2: =+PRESUPUESTOS!E13 -> 33 | D2: =+PRESUPUESTOS!H11*0.4 -> 4.4550232e+08 | F2: 828116

Sheet Puntajes
B2: EXPERIENCIA | F2: CAPACIDAD TÉCNICA
B3: Mayor a | C3: Menor o Igual a | D3: Puntaje | F3: Desde | G3: Hasta | H3: Puntaje
B4: 0 | C4: 3 | D4: 60 | F4: 1 | G4: 5 | H4: 20
B5: 3 | C5: 6 | D5: 80 | F5: 6 | G5: 10 | H5: 30
B6: 6 | C6: 10 | D6: 100 | F6: 11 | G6: Mayores | H6: 40
B7: 10 | C7: Mayores | D7: 120
B10: CAPACIDAD FINANCIERA
B11: Mayor a | C11: Menor o Igual a | D11: Puntaje
B12: 0 | C12: 0.5 | D12: 20
B13: 0.5 | C13: 0.75 | D13: 25
B14: 0.75 | C14: 1 | D14: 30
B15: 1 | C15: 1.5 | D15: 35
B16: 1.5 | C16: Mayores | D16: 40

Sheet PROPONENTES
C1: =PRESUPUESTOS!B1 -> INSTITUTO NACIONAL DE VÍAS
C2: =PRESUPUESTOS!B2 -> DIRECCIÓN TERRITORIAL PUTUMAYO
C3: =PRESUPUESTOS!B3 -> LP-DT-PUT-002-2019
C5: =PRESUPUESTOS!B5 -> OBJETO: MANTENIMIENTO RUTINARIO VÍAS A CARGO DEL INSTITUTO NACIONAL DEL VÍAS DIRECCIÓN TERRITORIAL PUTUMAYO.
C7: CUADRO 1
C8: LISTADO DE PROPONENTES
C10: PROPUESTA NÚMERO | D10: PROPONENTE | E10: PRESUPUESTO OFICIAL | F10: PLAZO MESES | G10: PRESUPUESTO OFICIAL MENSUAL (POM) | H10: PLAZO | I10: POM | J10: PLAZO | K10: POM | L10: PLAZO | M10: POM | N10: PLAZO | O10: POM | P10: PLAZO | Q10: POM | R10: POM TOTAL | S10: CR REQUERIDO
H11: =PRESUPUESTOS!#REF! -> #REF! | J11: =PRESUPUESTOS!#REF! -> #REF! | L11: =PRESUPUESTOS!#REF! -> #REF! | N11: =PRESUPUESTOS!#REF! -> #REF! | P11: =PRESUPUESTOS!#REF! -> #REF!
B12: 6 | C12: 1 | D12: COOPERATIVA DE TRABAJO ASOCIADO EL REFUGIO DEL TRAMPOLYN | E12: =+PRESUPUESTOS!D10 -> 1325369398 | F12: =+PRESUPUESTOS!$E$10 -> 33 | G12: =E12/POA!SALACTUAL/F12 -> 48.498893 | H12: =IF(#REF!="","",$H$11) -> #REF! | I12: =IF(H12="",0,IF(LOOKUP(2,#REF!,#REF!)=2,PRESUPUESTOS!#REF!/H12,0)/SALACTUAL) -> #REF! | J12: =IF(#REF!="","",$J$11) -> #REF! | K12: =IF(J12="",0,IF(LOOKUP(3,#REF!,#REF!)=3,PRESUPUESTOS!#REF!/J12,0)/SALACTUAL) -> #REF! | L12: =IF(#REF!="","",$L$11) -> #REF! | M12: =IF(L12="",0,IF(LOOKUP(4,#REF!,#REF!)=4,PRESUPUESTOS!#REF!/L12,0)/SALACTUAL) -> #REF! | N12: =IF(#REF!="","",$N$11) -> #REF! | O12: =IF(N12="",0,IF(LOOKUP(5,#REF!,#REF!)=5,PRESUPUESTOS!#REF!/N12,0)/SALACTUAL) -> #REF! | P12: =IF(#REF!="","",$P$11) -> #REF! | Q12: =IF(P12="",0,IF(LOOKUP(6,#REF!,#REF!)=6,PRESUPUESTOS!#REF!/P12,0)/461500) -> #REF! | R12: =G12 -> 48.498893 | S12: =+(E12-AnticipoM1)*12/F12 -> 3.1995167e+08
W20: 0

Sheet Cap Financiera y Organizacional
A1: =+PROPONENTES!C1 -> INSTITUTO NACIONAL DE VÍAS
A2: =+PROPONENTES!C2 -> DIRECCIÓN TERRITORIAL PUTUMAYO
A3: =+PROPONENTES!C3 -> LP-DT-PUT-002-2019
A4: EVALUACIÓN FINANCIERA
A5: =+PROPONENTES!C5 -> OBJETO: MANTENIMIENTO RUTINARIO VÍAS A CARGO DEL INSTITUTO NACIONAL DEL VÍAS DIRECCIÓN TERRITORIAL PUTUMAYO.
C7: CIFRAS FINANCIERAS - RUP ACTUALIZADO | J7: INDICE-LIQUIDEZ | L7: INDICE-ENDEUDAMIENTO | N7: RAZÓN COBERTURA DE INTERESES | P7: EVALUACIÓN FINANCIERA | Q7: RENTABILIDAD DEL PATRIMONIO | S7: RENTABILIDAD DEL ACTIVO | U7: EVALUACIÓN ORGANIZACIONAL | V7: OBSERVACIONES
A8: OFERTA | B8: PROPONENTE | C8: ACTIVO CORRIENTE | D8: ACTIVO TOTAL | E8: PASIVO CORRIENTE | F8: PASIVO TOTAL | G8: PATRIMONIO | H8: UTILIDAD OPERACIONAL | I8: GASTOS INTERESES | J8: Fórmula: Liquidez=AC/PC>=0,42 | L8: Fórmula: Endeudamiento=Pas.T/Act.T<=70% | N8: Fórmula: RCI=Utilidad Operacional/Gastos Intereses | P8: CAPACIDAD FINANCIERA ADMISIBLE/NO ADMISIBLE | Q8: Fórmula: ROE=Utilidad Operacional/Patrimonio*100% | S8: Fórmula: ROE=Utilidad Operacional/Activo Total*100% | U8: CAPACIDAD ORGANIZACIONAL ADMISIBLE/NO ADMISIBLE
J9: Req. Min. Solvencia: > = | K9: 0.42 | L9: Req. Min. Endeudamiento: < = | M9: 0.7 | N9: Req. Min. >= | O9: 1 | Q9: Req. Min.: > = | R9: 0 | S9: Req. Min.: > = | T9: 0
J10: INDICADOR | K10: RESULTADO | L10: INDICADOR | M10: RESULTADO | N10: INDICADOR | O10: RESULTADO | Q10: INDICADOR | R10: RESULTADO | S10: INDICADOR | T10: RESULTADO
A12: 1 | B12: =+PROPONENTES!D12 -> COOPERATIVA DE TRABAJO ASOCIADO EL REFUGIO DEL TRAMPOLYN | C12: 46983526 | D12: 96983526 | E12: 9135839 | F12: 9135839 | G12: =+D12-F12 -> 87847687 | H12: 2927260 | I12: 0 | J12: =SUM(C12/E12) -> 5.1427708 | K12: =+IF(J12>=$K$9,"ADMISIBLE","NO ADMISIBLE") -> ADMISIBLE | L12: =SUM(F12/D12) -> 0.094199906 | M12: =+IF(L12<=$M$9,"ADMISIBLE","NO ADMISIBLE") -> ADMISIBLE | N12: =IF(I12=0,"",H12/I12) | O12: =+IF(I12=0,"ADMISIBLE",IF(N12>=$O$9,"ADMISIBLE","NO ADMISIBLE")) -> ADMISIBLE | P12: =+IF(K12="NO ADMISIBLE","NO ADMISIBLE",IF(M12="NO ADMISIBLE","NO ADMISIBLE",IF(O12="NO ADMISIBLE","NO ADMISIBLE","ADMISIBLE"))) -> ADMISIBLE | Q12: =H12/G12 -> 0.033321993 | R12: =+IF(Q12>=$R$9,"ADMISIBLE","NO ADMISIBLE") -> ADMISIBLE | S12: =H12/D12 -> 0.030183064 | T12: =+IF(S12>=$T$9,"ADMISIBLE","NO ADMISIBLE") -> ADMISIBLE | U12: =+IF(R12="NO ADMISIBLE","NO ADMISIBLE",IF(T12="NO ADMISIBLE","NO ADMISIBLE","ADMISIBLE")) -> ADMISIBLE
A52: 6 | B52: =+PROPONENTES!D17 -> 0 | C52: =SUM(C53:C53) -> 837535591 | D52: =SUM(D53:D53) -> 1093266147 | E52: =SUM(E53:E53) -> 700000 | F52: =SUM(F53:F53) -> 5200000 | G52: =SUM(G53:G53) -> 1088066147 | H52: =SUM(H53:H53) -> 103491252 | I52: =SUM(I53:I53) -> 800000 | J52: =SUM(C52/E52) -> 1196.4794 | K52: =+IF(J52>=$K$9,"ADMISIBLE","NO ADMISIBLE") -> ADMISIBLE | L52: =SUM(F52/D52) -> 0.0047563898 | M52: =+IF(L52<$M$9,"ADMISIBLE","NO ADMISIBLE") -> ADMISIBLE | N52: =IF(I52=0,"",H52/I52) -> 129.36407 | O52: =+IF(I52=0,"ADMISIBLE",IF(N52>$O$9,"ADMISIBLE","NO ADMISIBLE")) -> ADMISIBLE | P52: =+IF(K52="NO ADMISIBLE","NO ADMISIBLE",IF(M52="NO ADMISIBLE","NO ADMISIBLE",IF(O52="NO ADMISIBLE","NO ADMISIBLE","ADMISIBLE"))) -> ADMISIBLE | Q52: =H52/G52 -> 0.095114853 | R52: =+IF(Q52>=$R$9,"ADMISIBLE","NO ADMISIBLE") -> ADMISIBLE | S52: =H52/D52 -> 0.09466245 | T52: =+IF(S52>=$T$9,"ADMISIBLE","NO ADMISIBLE") -> ADMISIBLE | U52: =+IF(R52="NO ADMISIBLE","NO ADMISIBLE",IF(T52="NO ADMISIBLE","NO ADMISIBLE","ADMISIBLE")) -> ADMISIBLE
A53: 6.1 | B53: =+B52 -> 0 | C53: 837535591 | D53: 1093266147 | E53: 700000 | F53: 5200000 | G53: =IF(ISERROR(D53-F53),"",D53-F53) -> 1088066147 | H53: 103491252 | I53: 800000
A54: 7 | B54: =+PROPONENTES!D18 -> 0 | C54: =SUM(C55:C55) -> 2972219028 | D54: =SUM(D55:D55) -> 3644042891 | E54: =SUM(E55:E55) -> 224920000 | F54: =SUM(F55:F55) -> 1260155558 | G54: =SUM(G55:G55) -> 2383887333 | H54: =SUM(H55:H55) -> 519097333 | I54: =SUM(I55:I55) -> 54210000 | J54: =SUM(C54/E54) -> 13.214561 | K54: =+IF(J54>=$K$9,"ADMISIBLE","NO ADMISIBLE") -> ADMISIBLE | L54: =SUM(F54/D54) -> 0.34581249 | M54: =+IF(L54<$M$9,"ADMISIBLE","NO ADMISIBLE") -> ADMISIBLE | N54: =IF(I54=0,"",H54/I54) -> 9.5756748 | O54: =+IF(I54=0,"ADMISIBLE",IF(N54>$O$9,"ADMISIBLE","NO ADMISIBLE")) -> ADMISIBLE | P54: =+IF(K54="NO ADMISIBLE","NO ADMISIBLE",IF(M54="NO ADMISIBLE","NO ADMISIBLE",IF(O54="NO ADMISIBLE","NO ADMISIBLE","ADMISIBLE"))) -> ADMISIBLE | Q54: =H54/G54 -> 0.21775246 | R54: =+IF(Q54>=$R$9,"ADMISIBLE","NO ADMISIBLE") -> ADMISIBLE | S54: =H54/D54 -> 0.14245094 | T54: =+IF(S54>=$T$9,"ADMISIBLE","NO ADMISIBLE") -> ADMISIBLE | U54: =+IF(R54="NO ADMISIBLE","NO ADMISIBLE",IF(T54="NO ADMISIBLE","NO ADMISIBLE","ADMISIBLE")) -> ADMISIBLE
A55: 7.1 | B55: =+B54 -> 0 | C55: 2972219028 | D55: 3644042891 | E55: 224920000 | F55: 1260155558 | G55: =IF(ISERROR(D55-F55),"",D55-F55) -> 2383887333 | H55: 519097333 | I55: 54210000

Sheet CRC
B1: =PRESUPUESTOS!B1 -> INSTITUTO NACIONAL DE VÍAS
B2: =PRESUPUESTOS!B2 -> DIRECCIÓN TERRITORIAL PUTUMAYO
B3: =PRESUPUESTOS!B3 -> LP-DT-PUT-002-2019
B5: =PRESUPUESTOS!B5 -> OBJETO: MANTENIMIENTO RUTINARIO VÍAS A CARGO DEL INSTITUTO NACIONAL DEL VÍAS DIRECCIÓN TERRITORIAL PUTUMAYO.
B6: CUADRO 2
B7: CAPACIDAD RESIDUAL PARA LA CONTRATACION DE OBRAS (CR)
K8: 1 | L8: =IF(K8=1,"K COMO CONSTRUCTOR",IF(K8=2,"K COMO CONSULTOR",IF(K8=3,"K COMO PROVEEDOR",""))) -> K COMO CONSTRUCTOR
B10: PROPUESTA No. | C10: PROPONENTE | D10: CAPACIDAD RESIDUAL DEL PROCESO DE CONTRATACIÓN | E10: CAPACIDAD RESIDUAL DEL PROPONENTE (4.5.3 PLIEGO DE CONDICIONES) | F10: CAPACIDAD ORGANIZACIONAL | G10: EXPERIENCIA | H10: CAPACIDAD FINANCIERA | I10: CAPACIDAD TÉCNICA | J10: SALDO DE CONTRATOS EN EJECUCIÓN | K10: ADMISIBLE? | L10: OBSERVACIONES
B11: NUMERO | F11: CO | G11: E | H11: CF | I11: CT | J11: SCE
B13: =+'Cap Financiera y Organizacional'!A12 -> 1 | C13: =+'Cap Financiera y Organizacional'!B12 -> COOPERATIVA DE TRABAJO ASOCIADO EL REFUGIO DEL TRAMPOLYN | D13: =+PROPONENTES!S12 -> 3.1995167e+08 | E13: =(F13*((G13+H13+I13)/100))-J13 -> 4.9217485e+08 | F13: =+F21 -> 428787500 | G13: =+'Puntaje Exp'!I9 -> 60 | H13: =+'Puntaje CF'!H9 -> 40 | I13: =+'Puntaje CT'!F9 -> 30 | J13: 65248897 | K13: =IF(B13-INT(B13)>0,"",IF((E13)>=D13,"ADMISIBLE","NO ADMISIBLE")) -> ADMISIBLE
C20: 43761 | F20: 125000
C21: 3430.3 | F21: =+F20*C21 -> 428787500

Sheet Puntaje Exp
C2: INSTITUTO NACIONAL DE VIAS
C3: =+PRESUPUESTOS!B2 -> DIRECCIÓN TERRITORIAL PUTUMAYO
C4: =+PRESUPUESTOS!B3 -> LP-DT-PUT-002-2019
C5: PUNTAJE POR EXPERIENCIA
C7: OFERTA | D7: PROPONENTE | E7: Porcentaje de Participación para este Proceso (A) | F7: VALOR TOTAL DE LOS CONTRATOS EJECUTADOS (B) | G7: PRESUPUESTO OFICIAL ESTIMADO (POE) (C) | H7: PUNTAJE POR EXPERIENCIA
H8: RESULTADO B / (C * A) | I8: Rangos: Mayor a 0 y Menor o Igual a 3 = 60 Puntos Mayor a 3 y Menor o Igual a 6 = 80 Puntos Mayor a 6 y Menor o Igual a 10 = 100 Puntos Mayor a 10 y Mayores = 120 Puntos
A9: Módulo | C9: =+CRC!B13 -> 1 | D9: =IF(ISERROR(VLOOKUP(C9,'Cap Financiera y Organizacional'!$A$12:$X$62730,2,0)),"",VLOOKUP(C9,'Cap Financiera y Organizacional'!$A$12:$X$3590,2,0)) -> COOPERATIVA DE TRABAJO ASOCIADO EL REFUGIO DEL TRAMPOLYN | E9: 1 | F9: 2.5456369e+09 | G9: =IF(OR(D9="",E9="",F9=""),"",IF(C9<>"",IF(ISERROR(VLOOKUP($A$10,POA!$A$2:$D$25,2,0)),"",VLOOKUP($A$10,POA!$A$2:$D$25,2,0)),"")) -> 1325369398 | H9: =IF(OR(D9="",E9="",F9=""),"",IF(C9<>"",F9/(G9*E9),"")) -> 1.9206999 | I9: =IF(OR(C9="",D9="",E9=""),"",IF(AND(H9>0,H9<=Experiencia1),Puntajes!$D$4,IF(AND(H9>Experiencia1,H9<=Experiencia2),Puntajes!$D$5,IF(AND(H9>Experiencia2,H9<=Experiencia3),Puntajes!$D$6,IF(H9>Experiencia3,Puntajes!$D$7,0))))) -> 60
A10: 9
D22: =IF(ISERROR(VLOOKUP(C22,'Cap Financiera y Organizacional'!$A$12:$X$62730,2,0)),"",VLOOKUP(C22,'Cap Financiera y Organizacional'!$A$12:$X$3590,2,0)) | F22: 0 | G22: =IF(OR(D22="",E22="",F22=""),"",IF(C22<>"",IF(ISERROR(VLOOKUP($A$10,POA!$A$2:$D$25,2,0)),"",VLOOKUP($A$10,POA!$A$2:$D$25,2,0)),"")) | H22: =IF(OR(D22="",E22="",F22=""),"",IF(C22<>"",F22/(G22*E22),"")) | I22: =IF(OR(C22="",D22="",E22=""),"",IF(AND(H22>0,H22<=Experiencia1),Puntajes!$D$4,IF(AND(H22>Experiencia1,H22<=Experiencia2),Puntajes!$D$5,IF(AND(H22>Experiencia2,H22<=Experiencia3),Puntajes!$D$6,IF(H22>Experiencia3,Puntajes!$D$7,0)))))
D23: =IF(ISERROR(VLOOKUP(C23,'Cap Financiera y Organizacional'!$A$12:$X$62730,2,0)),"",VLOOKUP(C23,'Cap Financiera y Organizacional'!$A$12:$X$3590,2,0)) | G23: =IF(OR(D23="",E23="",F23=""),"",IF(C23<>"",IF(ISERROR(VLOOKUP($A$10,POA!$A$2:$D$25,2,0)),"",VLOOKUP($A$10,POA!$A$2:$D$25,2,0)),"")) | H23: =IF(OR(D23="",E23="",F23=""),"",IF(C23<>"",F23/(G23*E23),"")) | I23: =IF(OR(C23="",D23="",E23=""),"",IF(AND(H23>0,H23<=Experiencia1),Puntajes!$D$4,IF(AND(H23>Experiencia1,H23<=Experiencia2),Puntajes!$D$5,IF(AND(H23>Experiencia2,H23<=Experiencia3),Puntajes!$D$6,IF(H23>Experiencia3,Puntajes!$D$7,0)))))
D24: =IF(ISERROR(VLOOKUP(C24,'Cap Financiera y Organizacional'!$A$12:$X$62730,2,0)),"",VLOOKUP(C24,'Cap Financiera y Organizacional'!$A$12:$X$3590,2,0)) | G24: =IF(OR(D24="",E24="",F24=""),"",IF(C24<>"",IF(ISERROR(VLOOKUP($A$10,POA!$A$2:$D$25,2,0)),"",VLOOKUP($A$10,POA!$A$2:$D$25,2,0)),"")) | H24: =IF(OR(D24="",E24="",F24=""),"",IF(C24<>"",F24/(G24*E24),"")) | I24: =IF(OR(C24="",D24="",E24=""),"",IF(AND(H24>0,H24<=Experiencia1),Puntajes!$D$4,IF(AND(H24>Experiencia1,H24<=Experiencia2),Puntajes!$D$5,IF(AND(H24>Experiencia2,H24<=Experiencia3),Puntajes!$D$6,IF(H24>Experiencia3,Puntajes!$D$7,0)))))
D25: =IF(ISERROR(VLOOKUP(C25,'Cap Financiera y Organizacional'!$A$12:$X$62730,2,0)),"",VLOOKUP(C25,'Cap Financiera y Organizacional'!$A$12:$X$3590,2,0)) | G25: =IF(OR(D25="",E25="",F25=""),"",IF(C25<>"",IF(ISERROR(VLOOKUP($A$10,POA!$A$2:$D$25,2,0)),"",VLOOKUP($A$10,POA!$A$2:$D$25,2,0)),"")) | H25: =IF(OR(D25="",E25="",F25=""),"",IF(C25<>"",F25/(G25*E25),"")) | I25: =IF(OR(C25="",D25="",E25=""),"",IF(AND(H25>0,H25<=Experiencia1),Puntajes!$D$4,IF(AND(H25>Experiencia1,H25<=Experiencia2),Puntajes!$D$5,IF(AND(H25>Experiencia2,H25<=Experiencia3),Puntajes!$D$6,IF(H25>Experiencia3,Puntajes!$D$7,0)))))
D26: =IF(ISERROR(VLOOKUP(C26,'Cap Financiera y Organizacional'!$A$12:$X$62730,2,0)),"",VLOOKUP(C26,'Cap Financiera y Organizacional'!$A$12:$X$3590,2,0)) | G26: =IF(OR(D26="",E26="",F26=""),"",IF(C26<>"",IF(ISERROR(VLOOKUP($A$10,POA!$A$2:$D$25,2,0)),"",VLOOKUP($A$10,POA!$A$2:$D$25,2,0)),"")) | H26: =IF(OR(D26="",E26="",F26=""),"",IF(C26<>"",F26/(G26*E26),"")) | I26: =IF(OR(C26="",D26="",E26=""),"",IF(AND(H26>0,H26<=Experiencia1),Puntajes!$D$4,IF(AND(H26>Experiencia1,H26<=Experiencia2),Puntajes!$D$5,IF(AND(H26>Experiencia2,H26<=Experiencia3),Puntajes!$D$6,IF(H26>Experiencia3,Puntajes!$D$7,0)))))
D27: =IF(ISERROR(VLOOKUP(C27,'Cap Financiera y Organizacional'!$A$12:$X$62730,2,0)),"",VLOOKUP(C27,'Cap Financiera y Organizacional'!$A$12:$X$3590,2,0)) | G27: =IF(OR(D27="",E27="",F27=""),"",IF(C27<>"",IF(ISERROR(VLOOKUP($A$10,POA!$A$2:$D$25,2,0)),"",VLOOKUP($A$10,POA!$A$2:$D$25,2,0)),"")) | H27: =IF(OR(D27="",E27="",F27=""),"",IF(C27<>"",F27/(G27*E27),"")) | I27: =IF(OR(C27="",D27="",E27=""),"",IF(AND(H27>0,H27<=Experiencia1),Puntajes!$D$4,IF(AND(H27>Experiencia1,H27<=Experiencia2),Puntajes!$D$5,IF(AND(H27>Experiencia2,H27<=Experiencia3),Puntajes!$D$6,IF(H27>Experiencia3,Puntajes!$D$7,0)))))
D28: =IF(ISERROR(VLOOKUP(C28,'Cap Financiera y Organizacional'!$A$12:$X$62730,2,0)),"",VLOOKUP(C28,'Cap Financiera y Organizacional'!$A$12:$X$3590,2,0)) | G28: =IF(OR(D28="",E28="",F28=""),"",IF(C28<>"",IF(ISERROR(VLOOKUP($A$10,POA!$A$2:$D$25,2,0)),"",VLOOKUP($A$10,POA!$A$2:$D$25,2,0)),"")) | H28: =IF(OR(D28="",E28="",F28=""),"",IF(C28<>"",F28/(G28*E28),"")) | I28: =IF(OR(C28="",D28="",E28=""),"",IF(AND(H28>0,H28<=Experiencia1),Puntajes!$D$4,IF(AND(H28>Experiencia1,H28<=Experiencia2),Puntajes!$D$5,IF(AND(H28>Experiencia2,H28<=Experiencia3),Puntajes!$D$6,IF(H28>Experiencia3,Puntajes!$D$7,0)))))
D29: =IF(ISERROR(VLOOKUP(C29,'Cap Financiera y Organizacional'!$A$12:$X$62730,2,0)),"",VLOOKUP(C29,'Cap Financiera y Organizacional'!$A$12:$X$3590,2,0)) | G29: =IF(OR(D29="",E29="",F29=""),"",IF(C29<>"",IF(ISERROR(VLOOKUP($A$10,POA!$A$2:$D$25,2,0)),"",VLOOKUP($A$10,POA!$A$2:$D$25,2,0)),"")) | H29: =IF(OR(D29="",E29="",F29=""),"",IF(C29<>"",F29/(G29*E29),"")) | I29: =IF(OR(C29="",D29="",E29=""),"",IF(AND(H29>0,H29<=Experiencia1),Puntajes!$D$4,IF(AND(H29>Experiencia1,H29<=Experiencia2),Puntajes!$D$5,IF(AND(H29>Experiencia2,H29<=Experiencia3),Puntajes!$D$6,IF(H29>Experiencia3,Puntajes!$D$7,0)))))
D96: =IF(ISERROR(VLOOKUP(C96,'[2]Capacidad Financiera'!$B$12:$X$62720,2,0)),"",VLOOKUP(C96,'[2]Capacidad Financiera'!$B$12:$X$3580,2,0)) | E96: =IF(ISERROR(VLOOKUP(C96,'[2]Capacidad Financiera'!$B$12:$X$62720,3,0)),"",VLOOKUP(C96,'[2]Capacidad Financiera'!$B$12:$X$62720,3,0)) | G96: =IF(OR(D96="",E96="",F96=""),"",IF(C97="",IF(C96<>"",IF(ISERROR(VLOOKUP($A$10,[2]POA!$A$2:$D$25,2,0)),"",VLOOKUP($A$10,[2]POA!$A$2:$D$25,2,0)),""),"")) | H96: =IF(OR(D96="",E96="",F96=""),"",IF(C97="",IF(C96<>"",F96/G96,""),"")) | I96: =IF(C97="",IF(F96="","",IF(AND(H96>0,H96<=Experiencia1),[2]Puntajes!$D$4,IF(AND(H96>Experiencia1,H96<=Experiencia2),[2]Puntajes!$D$5,IF(AND(H96>Experiencia2,H96<=Experiencia3),[2]Puntajes!$D$6,IF(H96>Experiencia3,[2]Puntajes!$D$7,0))))),"")
D97: =IF(ISERROR(VLOOKUP(C97,'[2]Capacidad Financiera'!$B$12:$X$62720,2,0)),"",VLOOKUP(C97,'[2]Capacidad Financiera'!$B$12:$X$3580,2,0)) | E97: =IF(ISERROR(VLOOKUP(C97,'[2]Capacidad Financiera'!$B$12:$X$62720,3,0)),"",VLOOKUP(C97,'[2]Capacidad Financiera'!$B$12:$X$62720,3,0)) | G97: =IF(OR(D97="",E97="",F97=""),"",IF(C97<>"",IF(ISERROR(VLOOKUP($A$10,[2]POA!$A$2:$D$25,2,0)),"",VLOOKUP($A$10,[2]POA!$A$2:$D$25,2,0)),"")) | H97: =IF(OR(D97="",E97="",F97=""),"",IF(C97<>"",F97/(G97*E97),"")) | I97: =IF(OR(D97="",E97="",F97=""),"",IF(AND(H97>0,H97<=Experiencia1),[2]Puntajes!$D$4,IF(AND(H97>Experiencia1,H97<=Experiencia2),[2]Puntajes!$D$5,IF(AND(H97>Experiencia2,H97<=Experiencia3),[2]Puntajes!$D$6,IF(H97>Experiencia3,[2]Puntajes!$D$7,0)))))
D98: =IF(ISERROR(VLOOKUP(C98,'[2]Capacidad Financiera'!$B$12:$X$62720,2,0)),"",VLOOKUP(C98,'[2]Capacidad Financiera'!$B$12:$X$3580,2,0)) | E98: =IF(ISERROR(VLOOKUP(C98,'[2]Capacidad Financiera'!$B$12:$X$62720,3,0)),"",VLOOKUP(C98,'[2]Capacidad Financiera'!$B$12:$X$62720,3,0)) | G98: =IF(OR(D98="",E98="",F98=""),"",IF(C98<>"",IF(ISERROR(VLOOKUP($A$10,[2]POA!$A$2:$D$25,2,0)),"",VLOOKUP($A$10,[2]POA!$A$2:$D$25,2,0)),"")) | H98: =IF(OR(D98="",E98="",F98=""),"",IF(C98<>"",F98/(G98*E98),"")) | I98: =IF(OR(D98="",E98="",F98=""),"",IF(AND(H98>0,H98<=Experiencia1),[2]Puntajes!$D$4,IF(AND(H98>Experiencia1,H98<=Experiencia2),[2]Puntajes!$D$5,IF(AND(H98>Experiencia2,H98<=Experiencia3),[2]Puntajes!$D$6,IF(H98>Experiencia3,[2]Puntajes!$D$7,0)))))
D99: =IF(ISERROR(VLOOKUP(C99,'[2]Capacidad Financiera'!$B$12:$X$62720,2,0)),"",VLOOKUP(C99,'[2]Capacidad Financiera'!$B$12:$X$3580,2,0)) | E99: =IF(ISERROR(VLOOKUP(C99,'[2]Capacidad Financiera'!$B$12:$X$62720,3,0)),"",VLOOKUP(C99,'[2]Capacidad Financiera'!$B$12:$X$62720,3,0)) | G99: =IF(OR(D99="",E99="",F99=""),"",IF(C99<>"",IF(ISERROR(VLOOKUP($A$10,[2]POA!$A$2:$D$25,2,0)),"",VLOOKUP($A$10,[2]POA!$A$2:$D$25,2,0)),"")) | H99: =IF(OR(D99="",E99="",F99=""),"",IF(C99<>"",F99/(G99*E99),"")) | I99: =IF(OR(D99="",E99="",F99=""),"",IF(AND(H99>0,H99<=Experiencia1),[2]Puntajes!$D$4,IF(AND(H99>Experiencia1,H99<=Experiencia2),[2]Puntajes!$D$5,IF(AND(H99>Experiencia2,H99<=Experiencia3),[2]Puntajes!$D$6,IF(H99>Experiencia3,[2]Puntajes!$D$7,0)))))
D100: =IF(ISERROR(VLOOKUP(C100,'[2]Capacidad Financiera'!$B$12:$X$62720,2,0)),"",VLOOKUP(C100,'[2]Capacidad Financiera'!$B$12:$X$3580,2,0)) | E100: =IF(ISERROR(VLOOKUP(C100,'[2]Capacidad Financiera'!$B$12:$X$62720,3,0)),"",VLOOKUP(C100,'[2]Capacidad Financiera'!$B$12:$X$62720,3,0)) | G100: =IF(OR(D100="",E100="",F100=""),"",IF(C100<>"",IF(ISERROR(VLOOKUP($A$10,[2]POA!$A$2:$D$25,2,0)),"",VLOOKUP($A$10,[2]POA!$A$2:$D$25,2,0)),"")) | H100: =IF(OR(D100="",E100="",F100=""),"",IF(C100<>"",F100/(G100*E100),"")) | I100: =IF(OR(D100="",E100="",F100=""),"",IF(AND(H100>0,H100<=Experiencia1),[2]Puntajes!$D$4,IF(AND(H100>Experiencia1,H100<=Experiencia2),[2]Puntajes!$D$5,IF(AND(H100>Experiencia2,H100<=Experiencia3),[2]Puntajes!$D$6,IF(H100>Experiencia3,[2]Puntajes!$D$7,0)))))
D101: =IF(ISERROR(VLOOKUP(C101,'[2]Capacidad Financiera'!$B$12:$X$62720,2,0)),"",VLOOKUP(C101,'[2]Capacidad Financiera'!$B$12:$X$3580,2,0)) | E101: =IF(ISERROR(VLOOKUP(C101,'[2]Capacidad Financiera'!$B$12:$X$62720,3,0)),"",VLOOKUP(C101,'[2]Capacidad Financiera'!$B$12:$X$62720,3,0)) | G101: =IF(OR(D101="",E101="",F101=""),"",IF(C101<>"",IF(ISERROR(VLOOKUP($A$10,[2]POA!$A$2:$D$25,2,0)),"",VLOOKUP($A$10,[2]POA!$A$2:$D$25,2,0)),"")) | H101: =IF(OR(D101="",E101="",F101=""),"",IF(C101<>"",F101/(G101*E101),"")) | I101: =IF(OR(D101="",E101="",F101=""),"",IF(AND(H101>0,H101<=Experiencia1),[2]Puntajes!$D$4,IF(AND(H101>Experiencia1,H101<=Experiencia2),[2]Puntajes!$D$5,IF(AND(H101>Experiencia2,H101<=Experiencia3),[2]Puntajes!$D$6,IF(H101>Experiencia3,[2]Puntajes!$D$7,0)))))
D102: =IF(ISERROR(VLOOKUP(C102,'[2]Capacidad Financiera'!$B$12:$X$62720,2,0)),"",VLOOKUP(C102,'[2]Capacidad Financiera'!$B$12:$X$3580,2,0)) | E102: =IF(ISERROR(VLOOKUP(C102,'[2]Capacidad Financiera'!$B$12:$X$62720,3,0)),"",VLOOKUP(C102,'[2]Capacidad Financiera'!$B$12:$X$62720,3,0)) | G102: =IF(OR(D102="",E102="",F102=""),"",IF(C102<>"",IF(ISERROR(VLOOKUP($A$10,[2]POA!$A$2:$D$25,2,0)),"",VLOOKUP($A$10,[2]POA!$A$2:$D$25,2,0)),"")) | H102: =IF(OR(D102="",E102="",F102=""),"",IF(C102<>"",F102/(G102*E102),"")) | I102: =IF(OR(D102="",E102="",F102=""),"",IF(AND(H102>0,H102<=Experiencia1),[2]Puntajes!$D$4,IF(AND(H102>Experiencia1,H102<=Experiencia2),[2]Puntajes!$D$5,IF(AND(H102>Experiencia2,H102<=Experiencia3),[2]Puntajes!$D$6,IF(H102>Experiencia3,[2]Puntajes!$D$7,0)))))
D103: =IF(ISERROR(VLOOKUP(C103,'[2]Capacidad Financiera'!$B$12:$X$62720,2,0)),"",VLOOKUP(C103,'[2]Capacidad Financiera'!$B$12:$X$3580,2,0)) | E103: =IF(ISERROR(VLOOKUP(C103,'[2]Capacidad Financiera'!$B$12:$X$62720,3,0)),"",VLOOKUP(C103,'[2]Capacidad Financiera'!$B$12:$X$62720,3,0)) | G103: =IF(OR(D103="",E103="",F103=""),"",IF(C103<>"",IF(ISERROR(VLOOKUP($A$10,[2]POA!$A$2:$D$25,2,0)),"",VLOOKUP($A$10,[2]POA!$A$2:$D$25,2,0)),"")) | H103: =IF(OR(D103="",E103="",F103=""),"",IF(C103<>"",F103/(G103*E103),"")) | I103: =IF(OR(D103="",E103="",F103=""),"",IF(AND(H103>0,H103<=Experiencia1),[2]Puntajes!$D$4,IF(AND(H103>Experiencia1,H103<=Experiencia2),[2]Puntajes!$D$5,IF(AND(H103>Experiencia2,H103<=Experiencia3),[2]Puntajes!$D$6,IF(H103>Experiencia3,[2]Puntajes!$D$7,0)))))
D104: =IF(ISERROR(VLOOKUP(C104,'[2]Capacidad Financiera'!$B$12:$X$62720,2,0)),"",VLOOKUP(C104,'[2]Capacidad Financiera'!$B$12:$X$3580,2,0)) | E104: =IF(ISERROR(VLOOKUP(C104,'[2]Capacidad Financiera'!$B$12:$X$62720,3,0)),"",VLOOKUP(C104,'[2]Capacidad Financiera'!$B$12:$X$62720,3,0)) | G104: =IF(OR(D104="",E104="",F104=""),"",IF(C104<>"",IF(ISERROR(VLOOKUP($A$10,[2]POA!$A$2:$D$25,2,0)),"",VLOOKUP($A$10,[2]POA!$A$2:$D$25,2,0)),"")) | H104: =IF(OR(D104="",E104="",F104=""),"",IF(C104<>"",F104/(G104*E104),"")) | I104: =IF(OR(D104="",E104="",F104=""),"",IF(AND(H104>0,H104<=Experiencia1),[2]Puntajes!$D$4,IF(AND(H104>Experiencia1,H104<=Experiencia2),[2]Puntajes!$D$5,IF(AND(H104>Experiencia2,H104<=Experiencia3),[2]Puntajes!$D$6,IF(H104>Experiencia3,[2]Puntajes!$D$7,0)))))
D105: =IF(ISERROR(VLOOKUP(C105,'[2]Capacidad Financiera'!$B$12:$X$62720,2,0)),"",VLOOKUP(C105,'[2]Capacidad Financiera'!$B$12:$X$3580,2,0)) | E105: =IF(ISERROR(VLOOKUP(C105,'[2]Capacidad Financiera'!$B$12:$X$62720,3,0)),"",VLOOKUP(C105,'[2]Capacidad Financiera'!$B$12:$X$62720,3,0)) | G105: =IF(OR(D105="",E105="",F105=""),"",IF(C105<>"",IF(ISERROR(VLOOKUP($A$10,[2]POA!$A$2:$D$25,2,0)),"",VLOOKUP($A$10,[2]POA!$A$2:$D$25,2,0)),"")) | H105: =IF(OR(D105="",E105="",F105=""),"",IF(C105<>"",F105/(G105*E105),"")) | I105: =IF(OR(D105="",E105="",F105=""),"",IF(AND(H105>0,H105<=Experiencia1),[2]Puntajes!$D$4,IF(AND(H105>Experiencia1,H105<=Experiencia2),[2]Puntajes!$D$5,IF(AND(H105>Experiencia2,H105<=Experiencia3),[2]Puntajes!$D$6,IF(H105>Experiencia3,[2]Puntajes!$D$7,0)))))
D106: =IF(ISERROR(VLOOKUP(C106,'[2]Capacidad Financiera'!$B$12:$X$62720,2,0)),"",VLOOKUP(C106,'[2]Capacidad Financiera'!$B$12:$X$3580,2,0)) | E106: =IF(ISERROR(VLOOKUP(C106,'[2]Capacidad Financiera'!$B$12:$X$62720,3,0)),"",VLOOKUP(C106,'[2]Capacidad Financiera'!$B$12:$X$62720,3,0)) | G106: =IF(OR(D106="",E106="",F106=""),"",IF(C106<>"",IF(ISERROR(VLOOKUP($A$10,[2]POA!$A$2:$D$25,2,0)),"",VLOOKUP($A$10,[2]POA!$A$2:$D$25,2,0)),"")) | H106: =IF(OR(D106="",E106="",F106=""),"",IF(C106<>"",F106/(G106*E106),"")) | I106: =IF(OR(D106="",E106="",F106=""),"",IF(AND(H106>0,H106<=Experiencia1),[2]Puntajes!$D$4,IF(AND(H106>Experiencia1,H106<=Experiencia2),[2]Puntajes!$D$5,IF(AND(H106>Experiencia2,H106<=Experiencia3),[2]Puntajes!$D$6,IF(H106>Experiencia3,[2]Puntajes!$D$7,0)))))
D107: =IF(ISERROR(VLOOKUP(C107,'[2]Capacidad Financiera'!$B$12:$X$62720,2,0)),"",VLOOKUP(C107,'[2]Capacidad Financiera'!$B$12:$X$3580,2,0)) | E107: =IF(ISERROR(VLOOKUP(C107,'[2]Capacidad Financiera'!$B$12:$X$62720,3,0)),"",VLOOKUP(C107,'[2]Capacidad Financiera'!$B$12:$X$62720,3,0)) | G107: =IF(OR(D107="",E107="",F107=""),"",IF(C108="",IF(C107<>"",IF(ISERROR(VLOOKUP($A$10,[2]POA!$A$2:$D$25,2,0)),"",VLOOKUP($A$10,[2]POA!$A$2:$D$25,2,0)),""),"")) | H107: =IF(OR(D107="",E107="",F107=""),"",IF(C108="",IF(C107<>"",F107/G107,""),"")) | I107: =IF(C108="",IF(F107="","",IF(AND(H107>0,H107<=Experiencia1),[2]Puntajes!$D$4,IF(AND(H107>Experiencia1,H107<=Experiencia2),[2]Puntajes!$D$5,IF(AND(H107>Experiencia2,H107<=Experiencia3),[2]Puntajes!$D$6,IF(H107>Experiencia3,[2]Puntajes!$D$7,0))))),"")
D108: =IF(ISERROR(VLOOKUP(C108,'[2]Capacidad Financiera'!$B$12:$X$62720,2,0)),"",VLOOKUP(C108,'[2]Capacidad Financiera'!$B$12:$X$3580,2,0)) | E108: =IF(ISERROR(VLOOKUP(C108,'[2]Capacidad Financiera'!$B$12:$X$62720,3,0)),"",VLOOKUP(C108,'[2]Capacidad Financiera'!$B$12:$X$62720,3,0)) | G108: =IF(OR(D108="",E108="",F108=""),"",IF(C108<>"",IF(ISERROR(VLOOKUP($A$10,[2]POA!$A$2:$D$25,2,0)),"",VLOOKUP($A$10,[2]POA!$A$2:$D$25,2,0)),"")) | H108: =IF(OR(D108="",E108="",F108=""),"",IF(C108<>"",F108/(G108*E108),"")) | I108: =IF(OR(D108="",E108="",F108=""),"",IF(AND(H108>0,H108<=Experiencia1),[2]Puntajes!$D$4,IF(AND(H108>Experiencia1,H108<=Experiencia2),[2]Puntajes!$D$5,IF(AND(H108>Experiencia2,H108<=Experiencia3),[2]Puntajes!$D$6,IF(H108>Experiencia3,[2]Puntajes!$D$7,0)))))
D109: =IF(ISERROR(VLOOKUP(C109,'[2]Capacidad Financiera'!$B$12:$X$62720,2,0)),"",VLOOKUP(C109,'[2]Capacidad Financiera'!$B$12:$X$3580,2,0)) | E109: =IF(ISERROR(VLOOKUP(C109,'[2]Capacidad Financiera'!$B$12:$X$62720,3,0)),"",VLOOKUP(C109,'[2]Capacidad Financiera'!$B$12:$X$62720,3,0)) | G109: =IF(OR(D109="",E109="",F109=""),"",IF(C109<>"",IF(ISERROR(VLOOKUP($A$10,[2]POA!$A$2:$D$25,2,0)),"",VLOOKUP($A$10,[2]POA!$A$2:$D$25,2,0)),"")) | H109: =IF(OR(D109="",E109="",F109=""),"",IF(C109<>"",F109/(G109*E109),"")) | I109: =IF(OR(D109="",E109="",F109=""),"",IF(AND(H109>0,H109<=Experiencia1),[2]Puntajes!$D$4,IF(AND(H109>Experiencia1,H109<=Experiencia2),[2]Puntajes!$D$5,IF(AND(H109>Experiencia2,H109<=Experiencia3),[2]Puntajes!$D$6,IF(H109>Experiencia3,[2]Puntajes!$D$7,0)))))
D110: =IF(ISERROR(VLOOKUP(C110,'[2]Capacidad Financiera'!$B$12:$X$62720,2,0)),"",VLOOKUP(C110,'[2]Capacidad Financiera'!$B$12:$X$3580,2,0)) | E110: =IF(ISERROR(VLOOKUP(C110,'[2]Capacidad Financiera'!$B$12:$X$62720,3,0)),"",VLOOKUP(C110,'[2]Capacidad Financiera'!$B$12:$X$62720,3,0)) | G110: =IF(OR(D110="",E110="",F110=""),"",IF(C110<>"",IF(ISERROR(VLOOKUP($A$10,[2]POA!$A$2:$D$25,2,0)),"",VLOOKUP($A$10,[2]POA!$A$2:$D$25,2,0)),"")) | H110: =IF(OR(D110="",E110="",F110=""),"",IF(C110<>"",F110/(G110*E110),"")) | I110: =IF(OR(D110="",E110="",F110=""),"",IF(AND(H110>0,H110<=Experiencia1),[2]Puntajes!$D$4,IF(AND(H110>Experiencia1,H110<=Experiencia2),[2]Puntajes!$D$5,IF(AND(H110>Experiencia2,H110<=Experiencia3),[2]Puntajes!$D$6,IF(H110>Experiencia3,[2]Puntajes!$D$7,0)))))
D111: =IF(ISERROR(VLOOKUP(C111,'[2]Capacidad Financiera'!$B$12:$X$62720,2,0)),"",VLOOKUP(C111,'[2]Capacidad Financiera'!$B$12:$X$3580,2,0)) | E111: =IF(ISERROR(VLOOKUP(C111,'[2]Capacidad Financiera'!$B$12:$X$62720,3,0)),"",VLOOKUP(C111,'[2]Capacidad Financiera'!$B$12:$X$62720,3,0)) | G111: =IF(OR(D111="",E111="",F111=""),"",IF(C111<>"",IF(ISERROR(VLOOKUP($A$10,[2]POA!$A$2:$D$25,2,0)),"",VLOOKUP($A$10,[2]POA!$A$2:$D$25,2,0)),"")) | H111: =IF(OR(D111="",E111="",F111=""),"",IF(C111<>"",F111/(G111*E111),"")) | I111: =IF(OR(D111="",E111="",F111=""),"",IF(AND(H111>0,H111<=Experiencia1),[2]Puntajes!$D$4,IF(AND(H111>Experiencia1,H111<=Experiencia2),[2]Puntajes!$D$5,IF(AND(H111>Experiencia2,H111<=Experiencia3),[2]Puntajes!$D$6,IF(H111>Experiencia3,[2]Puntajes!$D$7,0)))))
D112: =IF(ISERROR(VLOOKUP(C112,'[2]Capacidad Financiera'!$B$12:$X$62720,2,0)),"",VLOOKUP(C112,'[2]Capacidad Financiera'!$B$12:$X$3580,2,0)) | E112: =IF(ISERROR(VLOOKUP(C112,'[2]Capacidad Financiera'!$B$12:$X$62720,3,0)),"",VLOOKUP(C112,'[2]Capacidad Financiera'!$B$12:$X$62720,3,0)) | G112: =IF(OR(D112="",E112="",F112=""),"",IF(C112<>"",IF(ISERROR(VLOOKUP($A$10,[2]POA!$A$2:$D$25,2,0)),"",VLOOKUP($A$10,[2]POA!$A$2:$D$25,2,0)),"")) | H112: =IF(OR(D112="",E112="",F112=""),"",IF(C112<>"",F112/(G112*E112),"")) | I112: =IF(OR(D112="",E112="",F112=""),"",IF(AND(H112>0,H112<=Experiencia1),[2]Puntajes!$D$4,IF(AND(H112>Experiencia1,H112<=Experiencia2),[2]Puntajes!$D$5,IF(AND(H112>Experiencia2,H112<=Experiencia3),[2]Puntajes!$D$6,IF(H112>Experiencia3,[2]Puntajes!$D$7,0)))))
D113: =IF(ISERROR(VLOOKUP(C113,'[2]Capacidad Financiera'!$B$12:$X$62720,2,0)),"",VLOOKUP(C113,'[2]Capacidad Financiera'!$B$12:$X$3580,2,0)) | E113: =IF(ISERROR(VLOOKUP(C113,'[2]Capacidad Financiera'!$B$12:$X$62720,3,0)),"",VLOOKUP(C113,'[2]Capacidad Financiera'!$B$12:$X$62720,3,0)) | G113: =IF(OR(D113="",E113="",F113=""),"",IF(C113<>"",IF(ISERROR(VLOOKUP($A$10,[2]POA!$A$2:$D$25,2,0)),"",VLOOKUP($A$10,[2]POA!$A$2:$D$25,2,0)),"")) | H113: =IF(OR(D113="",E113="",F113=""),"",IF(C113<>"",F113/(G113*E113),"")) | I113: =IF(OR(D113="",E113="",F113=""),"",IF(AND(H113>0,H113<=Experiencia1),[2]Puntajes!$D$4,IF(AND(H113>Experiencia1,H113<=Experiencia2),[2]Puntajes!$D$5,IF(AND(H113>Experiencia2,H113<=Experiencia3),[2]Puntajes!$D$6,IF(H113>Experiencia3,[2]Puntajes!$D$7,0)))))
D114: =IF(ISERROR(VLOOKUP(C114,'[2]Capacidad Financiera'!$B$12:$X$62720,2,0)),"",VLOOKUP(C114,'[2]Capacidad Financiera'!$B$12:$X$3580,2,0)) | E114: =IF(ISERROR(VLOOKUP(C114,'[2]Capacidad Financiera'!$B$12:$X$62720,3,0)),"",VLOOKUP(C114,'[2]Capacidad Financiera'!$B$12:$X$62720,3,0)) | G114: =IF(OR(D114="",E114="",F114=""),"",IF(C114<>"",IF(ISERROR(VLOOKUP($A$10,[2]POA!$A$2:$D$25,2,0)),"",VLOOKUP($A$10,[2]POA!$A$2:$D$25,2,0)),"")) | H114: =IF(OR(D114="",E114="",F114=""),"",IF(C114<>"",F114/(G114*E114),"")) | I114: =IF(OR(D114="",E114="",F114=""),"",IF(AND(H114>0,H114<=Experiencia1),[2]Puntajes!$D$4,IF(AND(H114>Experiencia1,H114<=Experiencia2),[2]Puntajes!$D$5,IF(AND(H114>Experiencia2,H114<=Experiencia3),[2]Puntajes!$D$6,IF(H114>Experiencia3,[2]Puntajes!$D$7,0)))))
D115: =IF(ISERROR(VLOOKUP(C115,'[2]Capacidad Financiera'!$B$12:$X$62720,2,0)),"",VLOOKUP(C115,'[2]Capacidad Financiera'!$B$12:$X$3580,2,0)) | E115: =IF(ISERROR(VLOOKUP(C115,'[2]Capacidad Financiera'!$B$12:$X$62720,3,0)),"",VLOOKUP(C115,'[2]Capacidad Financiera'!$B$12:$X$62720,3,0)) | G115: =IF(OR(D115="",E115="",F115=""),"",IF(C115<>"",IF(ISERROR(VLOOKUP($A$10,[2]POA!$A$2:$D$25,2,0)),"",VLOOKUP($A$10,[2]POA!$A$2:$D$25,2,0)),"")) | H115: =IF(OR(D115="",E115="",F115=""),"",IF(C115<>"",F115/(G115*E115),"")) | I115: =IF(OR(D115="",E115="",F115=""),"",IF(AND(H115>0,H115<=Experiencia1),[2]Puntajes!$D$4,IF(AND(H115>Experiencia1,H115<=Experiencia2),[2]Puntajes!$D$5,IF(AND(H115>Experiencia2,H115<=Experiencia3),[2]Puntajes!$D$6,IF(H115>Experiencia3,[2]Puntajes!$D$7,0)))))
D116: =IF(ISERROR(VLOOKUP(C116,'[2]Capacidad Financiera'!$B$12:$X$62720,2,0)),"",VLOOKUP(C116,'[2]Capacidad Financiera'!$B$12:$X$3580,2,0)) | E116: =IF(ISERROR(VLOOKUP(C116,'[2]Capacidad Financiera'!$B$12:$X$62720,3,0)),"",VLOOKUP(C116,'[2]Capacidad Financiera'!$B$12:$X$62720,3,0)) | G116: =IF(OR(D116="",E116="",F116=""),"",IF(C116<>"",IF(ISERROR(VLOOKUP($A$10,[2]POA!$A$2:$D$25,2,0)),"",VLOOKUP($A$10,[2]POA!$A$2:$D$25,2,0)),"")) | H116: =IF(OR(D116="",E116="",F116=""),"",IF(C116<>"",F116/(G116*E116),"")) | I116: =IF(OR(D116="",E116="",F116=""),"",IF(AND(H116>0,H116<=Experiencia1),[2]Puntajes!$D$4,IF(AND(H116>Experiencia1,H116<=Experiencia2),[2]Puntajes!$D$5,IF(AND(H116>Experiencia2,H116<=Experiencia3),[2]Puntajes!$D$6,IF(H116>Experiencia3,[2]Puntajes!$D$7,0)))))
D117: =IF(ISERROR(VLOOKUP(C117,'[2]Capacidad Financiera'!$B$12:$X$62720,2,0)),"",VLOOKUP(C117,'[2]Capacidad Financiera'!$B$12:$X$3580,2,0)) | E117: =IF(ISERROR(VLOOKUP(C117,'[2]Capacidad Financiera'!$B$12:$X$62720,3,0)),"",VLOOKUP(C117,'[2]Capacidad Financiera'!$B$12:$X$62720,3,0)) | G117: =IF(OR(D117="",E117="",F117=""),"",IF(C117<>"",IF(ISERROR(VLOOKUP($A$10,[2]POA!$A$2:$D$25,2,0)),"",VLOOKUP($A$10,[2]POA!$A$2:$D$25,2,0)),"")) | H117: =IF(OR(D117="",E117="",F117=""),"",IF(C117<>"",F117/(G117*E117),"")) | I117: =IF(OR(D117="",E117="",F117=""),"",IF(AND(H117>0,H117<=Experiencia1),[2]Puntajes!$D$4,IF(AND(H117>Experiencia1,H117<=Experiencia2),[2]Puntajes!$D$5,IF(AND(H117>Experiencia2,H117<=Experiencia3),[2]Puntajes!$D$6,IF(H117>Experiencia3,[2]Puntajes!$D$7,0)))))
D118: =IF(ISERROR(VLOOKUP(C118,'[2]Capacidad Financiera'!$B$12:$X$62720,2,0)),"",VLOOKUP(C118,'[2]Capacidad Financiera'!$B$12:$X$3580,2,0)) | E118: =IF(ISERROR(VLOOKUP(C118,'[2]Capacidad Financiera'!$B$12:$X$62720,3,0)),"",VLOOKUP(C118,'[2]Capacidad Financiera'!$B$12:$X$62720,3,0)) | G118: =IF(OR(D118="",E118="",F118=""),"",IF(C119="",IF(C118<>"",IF(ISERROR(VLOOKUP($A$10,[2]POA!$A$2:$D$25,2,0)),"",VLOOKUP($A$10,[2]POA!$A$2:$D$25,2,0)),""),"")) | H118: =IF(OR(D118="",E118="",F118=""),"",IF(C119="",IF(C118<>"",F118/G118,""),"")) | I118: =IF(C119="",IF(F118="","",IF(AND(H118>0,H118<=Experiencia1),[2]Puntajes!$D$4,IF(AND(H118>Experiencia1,H118<=Experiencia2),[2]Puntajes!$D$5,IF(AND(H118>Experiencia2,H118<=Experiencia3),[2]Puntajes!$D$6,IF(H118>Experiencia3,[2]Puntajes!$D$7,0))))),"")
D119: =IF(ISERROR(VLOOKUP(C119,'[2]Capacidad Financiera'!$B$12:$X$62720,2,0)),"",VLOOKUP(C119,'[2]Capacidad Financiera'!$B$12:$X$3580,2,0)) | E119: =IF(ISERROR(VLOOKUP(C119,'[2]Capacidad Financiera'!$B$12:$X$62720,3,0)),"",VLOOKUP(C119,'[2]Capacidad Financiera'!$B$12:$X$62720,3,0)) | G119: =IF(OR(D119="",E119="",F119=""),"",IF(C119<>"",IF(ISERROR(VLOOKUP($A$10,[2]POA!$A$2:$D$25,2,0)),"",VLOOKUP($A$10,[2]POA!$A$2:$D$25,2,0)),"")) | H119: =IF(OR(D119="",E119="",F119=""),"",IF(C119<>"",F119/(G119*E119),"")) | I119: =IF(OR(D119="",E119="",F119=""),"",IF(AND(H119>0,H119<=Experiencia1),[2]Puntajes!$D$4,IF(AND(H119>Experiencia1,H119<=Experiencia2),[2]Puntajes!$D$5,IF(AND(H119>Experiencia2,H119<=Experiencia3),[2]Puntajes!$D$6,IF(H119>Experiencia3,[2]Puntajes!$D$7,0)))))
...

Sheet Puntaje CF
C2: ='Puntaje Exp'!C2 -> INSTITUTO NACIONAL DE VIAS
C3: ='Puntaje Exp'!C3 -> DIRECCIÓN TERRITORIAL PUTUMAYO
C4: ='Puntaje Exp'!C4 -> LP-DT-PUT-002-2019
C5: PUNTAJE POR CAPACIDAD FINANCIERA
C7: OFERTA | D7: PROPONENTE | E7: ACTIVOS CORRIENTES (A) | F7: PASIVOS CORRIENTES (B) | G7: ÍNDICE DE LIQUIDEZ (A) / (B) = (C) | H7: PUNTAJE POR CAPACIDAD FINANCIERA
H8: Rangos: Mayor a 0 y Menor o Igual a 0,5 = 20 Puntos Mayor a 0,5 y Menor o Igual a 0,75 = 25 Puntos Mayor a 0,75 y Menor o Igual a 1,00 = 30 Puntos Mayor a 1,00 y Menor o Igual a 1,5 = 35 Puntos Mayor a 1,5 y Mayores = 40 Puntos
C9: =+'Cap Financiera y Organizacional'!A12 -> 1 | D9: =IF(ISERROR(VLOOKUP(C9,'Cap Financiera y Organizacional'!$A$12:$X$62730,2,0)),"",VLOOKUP(C9,'Cap Financiera y Organizacional'!$A$12:$X$3590,2,0)) -> COOPERATIVA DE TRABAJO ASOCIADO EL REFUGIO DEL TRAMPOLYN | E9: =+'Cap Financiera y Organizacional'!C12 -> 46983526 | F9: =+'Cap Financiera y Organizacional'!E12 -> 9135839 | G9: =+E9/F9 -> 5.1427708 | H9: =IF(OR(D9="",E9="",F9=""),"",IF(AND(G9>0,G9<=CapFinanciera1),Puntajes!$D$12,IF(AND(G9>CapFinanciera1,G9<=CapFinanciera2),Puntajes!$D$13,IF(AND(G9>CapFinanciera2,G9<=CapFinanciera3),Puntajes!$D$14,IF(AND(G9>CapFinanciera3,G9<=CapFinanciera4),Puntajes!$D$15,IF(G9>CapFinanciera4,Puntajes!$D$16,0)))))) -> 40
D45: =IF(ISERROR(VLOOKUP(C45,'Cap Financiera y Organizacional'!$A$12:$X$62730,2,0)),"",VLOOKUP(C45,'Cap Financiera y Organizacional'!$A$12:$X$3590,2,0)) | E45: =IF(OR(C45="",D45=""),"",IF(ISERROR(VLOOKUP(D45,'Cap Financiera y Organizacional'!$B$13:$X$62730,3,0)),"",VLOOKUP(D45,'Cap Financiera y Organizacional'!$B$13:$X$62730,3,0))) | F45: =IF(OR(C45="",D45=""),"",IF(ISERROR(VLOOKUP(D45,'Cap Financiera y Organizacional'!$B$13:$X$62730,5,0)),"",VLOOKUP(D45,'Cap Financiera y Organizacional'!$B$13:$X$62730,5,0))) | G45: =IF(OR(D45="",E45="",F45=""),"",IF(OR(E45=0,F45=0),0,E45/F45)) | H45: =IF(OR(D45="",E45="",F45=""),"",IF(AND(G45>0,G45<=CapFinanciera1),Puntajes!$D$12,IF(AND(G45>CapFinanciera1,G45<=CapFinanciera2),Puntajes!$D$13,IF(AND(G45>CapFinanciera2,G45<=CapFinanciera3),Puntajes!$D$14,IF(AND(G45>CapFinanciera3,G45<=CapFinanciera4),Puntajes!$D$15,IF(G45>CapFinanciera4,Puntajes!$D$16,0))))))
D46: =IF(ISERROR(VLOOKUP(C46,'Cap Financiera y Organizacional'!$A$12:$X$62730,2,0)),"",VLOOKUP(C46,'Cap Financiera y Organizacional'!$A$12:$X$3590,2,0)) | E46: =IF(OR(C46="",D46=""),"",IF(ISERROR(VLOOKUP(D46,'Cap Financiera y Organizacional'!$B$13:$X$62730,3,0)),"",VLOOKUP(D46,'Cap Financiera y Organizacional'!$B$13:$X$62730,3,0))) | F46: =IF(OR(C46="",D46=""),"",IF(ISERROR(VLOOKUP(D46,'Cap Financiera y Organizacional'!$B$13:$X$62730,5,0)),"",VLOOKUP(D46,'Cap Financiera y Organizacional'!$B$13:$X$62730,5,0))) | G46: =IF(OR(D46="",E46="",F46=""),"",IF(OR(E46=0,F46=0),0,E46/F46)) | H46: =IF(OR(D46="",E46="",F46=""),"",IF(AND(G46>0,G46<=CapFinanciera1),Puntajes!$D$12,IF(AND(G46>CapFinanciera1,G46<=CapFinanciera2),Puntajes!$D$13,IF(AND(G46>CapFinanciera2,G46<=CapFinanciera3),Puntajes!$D$14,IF(AND(G46>CapFinanciera3,G46<=CapFinanciera4),Puntajes!$D$15,IF(G46>CapFinanciera4,Puntajes!$D$16,0))))))
D47: =IF(ISERROR(VLOOKUP(C47,'Cap Financiera y Organizacional'!$A$12:$X$62730,2,0)),"",VLOOKUP(C47,'Cap Financiera y Organizacional'!$A$12:$X$3590,2,0)) | E47: =IF(OR(C47="",D47=""),"",IF(ISERROR(VLOOKUP(D47,'Cap Financiera y Organizacional'!$B$13:$X$62730,3,0)),"",VLOOKUP(D47,'Cap Financiera y Organizacional'!$B$13:$X$62730,3,0))) | F47: =IF(OR(C47="",D47=""),"",IF(ISERROR(VLOOKUP(D47,'Cap Financiera y Organizacional'!$B$13:$X$62730,5,0)),"",VLOOKUP(D47,'Cap Financiera y Organizacional'!$B$13:$X$62730,5,0))) | G47: =IF(OR(D47="",E47="",F47=""),"",IF(OR(E47=0,F47=0),0,E47/F47)) | H47: =IF(OR(D47="",E47="",F47=""),"",IF(AND(G47>0,G47<=CapFinanciera1),Puntajes!$D$12,IF(AND(G47>CapFinanciera1,G47<=CapFinanciera2),Puntajes!$D$13,IF(AND(G47>CapFinanciera2,G47<=CapFinanciera3),Puntajes!$D$14,IF(AND(G47>CapFinanciera3,G47<=CapFinanciera4),Puntajes!$D$15,IF(G47>CapFinanciera4,Puntajes!$D$16,0))))))
D48: =IF(ISERROR(VLOOKUP(C48,'Cap Financiera y Organizacional'!$A$12:$X$62730,2,0)),"",VLOOKUP(C48,'Cap Financiera y Organizacional'!$A$12:$X$3590,2,0)) | E48: =IF(OR(C48="",D48=""),"",IF(ISERROR(VLOOKUP(D48,'Cap Financiera y Organizacional'!$B$13:$X$62730,3,0)),"",VLOOKUP(D48,'Cap Financiera y Organizacional'!$B$13:$X$62730,3,0))) | F48: =IF(OR(C48="",D48=""),"",IF(ISERROR(VLOOKUP(D48,'Cap Financiera y Organizacional'!$B$13:$X$62730,5,0)),"",VLOOKUP(D48,'Cap Financiera y Organizacional'!$B$13:$X$62730,5,0))) | G48: =IF(OR(D48="",E48="",F48=""),"",IF(OR(E48=0,F48=0),0,E48/F48)) | H48: =IF(OR(D48="",E48="",F48=""),"",IF(AND(G48>0,G48<=CapFinanciera1),Puntajes!$D$12,IF(AND(G48>CapFinanciera1,G48<=CapFinanciera2),Puntajes!$D$13,IF(AND(G48>CapFinanciera2,G48<=CapFinanciera3),Puntajes!$D$14,IF(AND(G48>CapFinanciera3,G48<=CapFinanciera4),Puntajes!$D$15,IF(G48>CapFinanciera4,Puntajes!$D$16,0))))))
D49: =IF(ISERROR(VLOOKUP(C49,'Cap Financiera y Organizacional'!$A$12:$X$62730,2,0)),"",VLOOKUP(C49,'Cap Financiera y Organizacional'!$A$12:$X$3590,2,0)) | E49: =IF(OR(C49="",D49=""),"",IF(ISERROR(VLOOKUP(D49,'Cap Financiera y Organizacional'!$B$13:$X$62730,3,0)),"",VLOOKUP(D49,'Cap Financiera y Organizacional'!$B$13:$X$62730,3,0))) | F49: =IF(OR(C49="",D49=""),"",IF(ISERROR(VLOOKUP(D49,'Cap Financiera y Organizacional'!$B$13:$X$62730,5,0)),"",VLOOKUP(D49,'Cap Financiera y Organizacional'!$B$13:$X$62730,5,0))) | G49: =IF(OR(D49="",E49="",F49=""),"",IF(OR(E49=0,F49=0),0,E49/F49)) | H49: =IF(OR(D49="",E49="",F49=""),"",IF(AND(G49>0,G49<=CapFinanciera1),Puntajes!$D$12,IF(AND(G49>CapFinanciera1,G49<=CapFinanciera2),Puntajes!$D$13,IF(AND(G49>CapFinanciera2,G49<=CapFinanciera3),Puntajes!$D$14,IF(AND(G49>CapFinanciera3,G49<=CapFinanciera4),Puntajes!$D$15,IF(G49>CapFinanciera4,Puntajes!$D$16,0))))))
D50: =IF(ISERROR(VLOOKUP(C50,'Cap Financiera y Organizacional'!$A$12:$X$62730,2,0)),"",VLOOKUP(C50,'Cap Financiera y Organizacional'!$A$12:$X$3590,2,0)) | E50: =IF(OR(C50="",D50=""),"",IF(ISERROR(VLOOKUP(D50,'Cap Financiera y Organizacional'!$B$13:$X$62730,3,0)),"",VLOOKUP(D50,'Cap Financiera y Organizacional'!$B$13:$X$62730,3,0))) | F50: =IF(OR(C50="",D50=""),"",IF(ISERROR(VLOOKUP(D50,'Cap Financiera y Organizacional'!$B$13:$X$62730,5,0)),"",VLOOKUP(D50,'Cap Financiera y Organizacional'!$B$13:$X$62730,5,0))) | G50: =IF(OR(D50="",E50="",F50=""),"",IF(OR(E50=0,F50=0),0,E50/F50)) | H50: =IF(OR(D50="",E50="",F50=""),"",IF(AND(G50>0,G50<=CapFinanciera1),Puntajes!$D$12,IF(AND(G50>CapFinanciera1,G50<=CapFinanciera2),Puntajes!$D$13,IF(AND(G50>CapFinanciera2,G50<=CapFinanciera3),Puntajes!$D$14,IF(AND(G50>CapFinanciera3,G50<=CapFinanciera4),Puntajes!$D$15,IF(G50>CapFinanciera4,Puntajes!$D$16,0))))))
D51: =IF(ISERROR(VLOOKUP(C51,'Cap Financiera y Organizacional'!$A$12:$X$62730,2,0)),"",VLOOKUP(C51,'Cap Financiera y Organizacional'!$A$12:$X$3590,2,0)) | E51: =IF(OR(C51="",D51=""),"",IF(ISERROR(VLOOKUP(D51,'Cap Financiera y Organizacional'!$B$13:$X$62730,3,0)),"",VLOOKUP(D51,'Cap Financiera y Organizacional'!$B$13:$X$62730,3,0))) | F51: =IF(OR(C51="",D51=""),"",IF(ISERROR(VLOOKUP(D51,'Cap Financiera y Organizacional'!$B$13:$X$62730,5,0)),"",VLOOKUP(D51,'Cap Financiera y Organizacional'!$B$13:$X$62730,5,0))) | G51: =IF(OR(D51="",E51="",F51=""),"",IF(OR(E51=0,F51=0),0,E51/F51)) | H51: =IF(OR(D51="",E51="",F51=""),"",IF(AND(G51>0,G51<=CapFinanciera1),Puntajes!$D$12,IF(AND(G51>CapFinanciera1,G51<=CapFinanciera2),Puntajes!$D$13,IF(AND(G51>CapFinanciera2,G51<=CapFinanciera3),Puntajes!$D$14,IF(AND(G51>CapFinanciera3,G51<=CapFinanciera4),Puntajes!$D$15,IF(G51>CapFinanciera4,Puntajes!$D$16,0))))))
D52: =IF(ISERROR(VLOOKUP(C52,'Cap Financiera y Organizacional'!$A$12:$X$62730,2,0)),"",VLOOKUP(C52,'Cap Financiera y Organizacional'!$A$12:$X$3590,2,0)) | E52: =IF(OR(C52="",D52=""),"",IF(ISERROR(VLOOKUP(D52,'Cap Financiera y Organizacional'!$B$13:$X$62730,3,0)),"",VLOOKUP(D52,'Cap Financiera y Organizacional'!$B$13:$X$62730,3,0))) | F52: =IF(OR(C52="",D52=""),"",IF(ISERROR(VLOOKUP(D52,'Cap Financiera y Organizacional'!$B$13:$X$62730,5,0)),"",VLOOKUP(D52,'Cap Financiera y Organizacional'!$B$13:$X$62730,5,0))) | G52: =IF(OR(D52="",E52="",F52=""),"",IF(OR(E52=0,F52=0),0,E52/F52)) | H52: =IF(OR(D52="",E52="",F52=""),"",IF(AND(G52>0,G52<=CapFinanciera1),Puntajes!$D$12,IF(AND(G52>CapFinanciera1,G52<=CapFinanciera2),Puntajes!$D$13,IF(AND(G52>CapFinanciera2,G52<=CapFinanciera3),Puntajes!$D$14,IF(AND(G52>CapFinanciera3,G52<=CapFinanciera4),Puntajes!$D$15,IF(G52>CapFinanciera4,Puntajes!$D$16,0))))))
D57: =IF(ISERROR(VLOOKUP(C57,'Cap Financiera y Organizacional'!$A$12:$X$62730,2,0)),"",VLOOKUP(C57,'Cap Financiera y Organizacional'!$A$12:$X$3590,2,0)) | E57: =IF(OR(C57="",D57=""),"",IF(ISERROR(VLOOKUP(D57,'Cap Financiera y Organizacional'!$B$13:$X$62730,3,0)),"",VLOOKUP(D57,'Cap Financiera y Organizacional'!$B$13:$X$62730,3,0))) | F57: =IF(OR(C57="",D57=""),"",IF(ISERROR(VLOOKUP(D57,'Cap Financiera y Organizacional'!$B$13:$X$62730,5,0)),"",VLOOKUP(D57,'Cap Financiera y Organizacional'!$B$13:$X$62730,5,0))) | G57: =IF(OR(D57="",E57="",F57=""),"",IF(OR(E57=0,F57=0),0,E57/F57)) | H57: =IF(OR(D57="",E57="",F57=""),"",IF(AND(G57>0,G57<=CapFinanciera1),Puntajes!$D$12,IF(AND(G57>CapFinanciera1,G57<=CapFinanciera2),Puntajes!$D$13,IF(AND(G57>CapFinanciera2,G57<=CapFinanciera3),Puntajes!$D$14,IF(AND(G57>CapFinanciera3,G57<=CapFinanciera4),Puntajes!$D$15,IF(G57>CapFinanciera4,Puntajes!$D$16,0))))))
D58: =IF(ISERROR(VLOOKUP(C58,'Cap Financiera y Organizacional'!$A$12:$X$62730,2,0)),"",VLOOKUP(C58,'Cap Financiera y Organizacional'!$A$12:$X$3590,2,0)) | E58: =IF(OR(C58="",D58=""),"",IF(ISERROR(VLOOKUP(D58,'Cap Financiera y Organizacional'!$B$13:$X$62730,3,0)),"",VLOOKUP(D58,'Cap Financiera y Organizacional'!$B$13:$X$62730,3,0))) | F58: =IF(OR(C58="",D58=""),"",IF(ISERROR(VLOOKUP(D58,'Cap Financiera y Organizacional'!$B$13:$X$62730,5,0)),"",VLOOKUP(D58,'Cap Financiera y Organizacional'!$B$13:$X$62730,5,0))) | G58: =IF(OR(D58="",E58="",F58=""),"",IF(OR(E58=0,F58=0),0,E58/F58)) | H58: =IF(OR(D58="",E58="",F58=""),"",IF(AND(G58>0,G58<=CapFinanciera1),Puntajes!$D$12,IF(AND(G58>CapFinanciera1,G58<=CapFinanciera2),Puntajes!$D$13,IF(AND(G58>CapFinanciera2,G58<=CapFinanciera3),Puntajes!$D$14,IF(AND(G58>CapFinanciera3,G58<=CapFinanciera4),Puntajes!$D$15,IF(G58>CapFinanciera4,Puntajes!$D$16,0))))))
D59: =IF(ISERROR(VLOOKUP(C59,'Cap Financiera y Organizacional'!$A$12:$X$62730,2,0)),"",VLOOKUP(C59,'Cap Financiera y Organizacional'!$A$12:$X$3590,2,0)) | E59: =IF(OR(C59="",D59=""),"",IF(ISERROR(VLOOKUP(D59,'Cap Financiera y Organizacional'!$B$13:$X$62730,3,0)),"",VLOOKUP(D59,'Cap Financiera y Organizacional'!$B$13:$X$62730,3,0))) | F59: =IF(OR(C59="",D59=""),"",IF(ISERROR(VLOOKUP(D59,'Cap Financiera y Organizacional'!$B$13:$X$62730,5,0)),"",VLOOKUP(D59,'Cap Financiera y Organizacional'!$B$13:$X$62730,5,0))) | G59: =IF(OR(D59="",E59="",F59=""),"",IF(OR(E59=0,F59=0),0,E59/F59)) | H59: =IF(OR(D59="",E59="",F59=""),"",IF(AND(G59>0,G59<=CapFinanciera1),Puntajes!$D$12,IF(AND(G59>CapFinanciera1,G59<=CapFinanciera2),Puntajes!$D$13,IF(AND(G59>CapFinanciera2,G59<=CapFinanciera3),Puntajes!$D$14,IF(AND(G59>CapFinanciera3,G59<=CapFinanciera4),Puntajes!$D$15,IF(G59>CapFinanciera4,Puntajes!$D$16,0))))))
D60: =IF(ISERROR(VLOOKUP(C60,'Cap Financiera y Organizacional'!$A$12:$X$62730,2,0)),"",VLOOKUP(C60,'Cap Financiera y Organizacional'!$A$12:$X$3590,2,0)) | E60: =IF(OR(C60="",D60=""),"",IF(ISERROR(VLOOKUP(D60,'Cap Financiera y Organizacional'!$B$13:$X$62730,3,0)),"",VLOOKUP(D60,'Cap Financiera y Organizacional'!$B$13:$X$62730,3,0))) | F60: =IF(OR(C60="",D60=""),"",IF(ISERROR(VLOOKUP(D60,'Cap Financiera y Organizacional'!$B$13:$X$62730,5,0)),"",VLOOKUP(D60,'Cap Financiera y Organizacional'!$B$13:$X$62730,5,0))) | G60: =IF(OR(D60="",E60="",F60=""),"",IF(OR(E60=0,F60=0),0,E60/F60)) | H60: =IF(OR(D60="",E60="",F60=""),"",IF(AND(G60>0,G60<=CapFinanciera1),Puntajes!$D$12,IF(AND(G60>CapFinanciera1,G60<=CapFinanciera2),Puntajes!$D$13,IF(AND(G60>CapFinanciera2,G60<=CapFinanciera3),Puntajes!$D$14,IF(AND(G60>CapFinanciera3,G60<=CapFinanciera4),Puntajes!$D$15,IF(G60>CapFinanciera4,Puntajes!$D$16,0))))))
... D118: =IF(ISERROR(VLOOKUP(C118,'Cap Financiera y Organizacional'!$A$12:$X$62730,2,0)),"",VLOOKUP(C118,'Cap Financiera y Organizacional'!$A$12:$X$3590,2,0)) | E118: =IF(OR(C118="",D118=""),"",IF(ISERROR(VLOOKUP(D118,'Cap Financiera y Organizacional'!$B$13:$X$62730,3,0)),"",VLOOKUP(D118,'Cap Financiera y Organizacional'!$B$13:$X$62730,3,0))) | F118: =IF(OR(C118="",D118=""),"",IF(ISERROR(VLOOKUP(D118,'Cap Financiera y Organizacional'!$B$13:$X$62730,5,0)),"",VLOOKUP(D118,'Cap Financiera y Organizacional'!$B$13:$X$62730,5,0))) | G118: =IF(OR(D118="",E118="",F118=""),"",IF(OR(E118=0,F118=0),0,E118/F118)) | H118: =IF(OR(D118="",E118="",F118=""),"",IF(AND(G118>0,G118<=CapFinanciera1),Puntajes!$D$12,IF(AND(G118>CapFinanciera1,G118<=CapFinanciera2),Puntajes!$D$13,IF(AND(G118>CapFinanciera2,G118<=CapFinanciera3),Puntajes!$D$14,IF(AND(G118>CapFinanciera3,G118<=CapFinanciera4),Puntajes!$D$15,IF(G118>CapFinanciera4,Puntajes!$D$16,0))))))
D119: =IF(ISERROR(VLOOKUP(C119,'Cap Financiera y Organizacional'!$A$12:$X$62730,2,0)),"",VLOOKUP(C119,'Cap Financiera y Organizacional'!$A$12:$X$3590,2,0))
D120: =IF(ISERROR(VLOOKUP(C120,'Cap Financiera y Organizacional'!$A$12:$X$62730,2,0)),"",VLOOKUP(C120,'Cap Financiera y Organizacional'!$A$12:$X$3590,2,0)) | E120: =IF(OR(C120="",D120=""),"",IF(ISERROR(VLOOKUP(D120,'Cap Financiera y Organizacional'!$B$13:$X$62730,3,0)),"",VLOOKUP(D120,'Cap Financiera y Organizacional'!$B$13:$X$62730,3,0))) | F120: =IF(OR(C120="",D120=""),"",IF(ISERROR(VLOOKUP(D120,'Cap Financiera y Organizacional'!$B$13:$X$62730,5,0)),"",VLOOKUP(D120,'Cap Financiera y Organizacional'!$B$13:$X$62730,5,0))) | G120: =IF(OR(D120="",E120="",F120=""),"",IF(OR(E120=0,F120=0),0,E120/F120)) | H120: =IF(OR(D120="",E120="",F120=""),"",IF(AND(G120>0,G120<=CapFinanciera1),Puntajes!$D$12,IF(AND(G120>CapFinanciera1,G120<=CapFinanciera2),Puntajes!$D$13,IF(AND(G120>CapFinanciera2,G120<=CapFinanciera3),Puntajes!$D$14,IF(AND(G120>CapFinanciera3,G120<=CapFinanciera4),Puntajes!$D$15,IF(G120>CapFinanciera4,Puntajes!$D$16,0))))))
D121: =IF(ISERROR(VLOOKUP(C121,'Cap Financiera y Organizacional'!$A$12:$X$62730,2,0)),"",VLOOKUP(C121,'Cap Financiera y Organizacional'!$A$12:$X$3590,2,0)) | E121: =IF(OR(C121="",D121=""),"",IF(ISERROR(VLOOKUP(D121,'Cap Financiera y Organizacional'!$B$13:$X$62730,3,0)),"",VLOOKUP(D121,'Cap Financiera y Organizacional'!$B$13:$X$62730,3,0))) | F121: =IF(OR(C121="",D121=""),"",IF(ISERROR(VLOOKUP(D121,'Cap Financiera y Organizacional'!$B$13:$X$62730,5,0)),"",VLOOKUP(D121,'Cap Financiera y Organizacional'!$B$13:$X$62730,5,0))) | G121: =IF(OR(D121="",E121="",F121=""),"",IF(OR(E121=0,F121=0),0,E121/F121)) | H121: =IF(OR(D121="",E121="",F121=""),"",IF(AND(G121>0,G121<=CapFinanciera1),Puntajes!$D$12,IF(AND(G121>CapFinanciera1,G121<=CapFinanciera2),Puntajes!$D$13,IF(AND(G121>CapFinanciera2,G121<=CapFinanciera3),Puntajes!$D$14,IF(AND(G121>CapFinanciera3,G121<=CapFinanciera4),Puntajes!$D$15,IF(G121>CapFinanciera4,Puntajes!$D$16,0))))))
D122: =IF(ISERROR(VLOOKUP(C122,'Cap Financiera y Organizacional'!$A$12:$X$62730,2,0)),"",VLOOKUP(C122,'Cap Financiera y Organizacional'!$A$12:$X$3590,2,0)) | E122: =IF(OR(C122="",D122=""),"",IF(ISERROR(VLOOKUP(D122,'Cap Financiera y Organizacional'!$B$13:$X$62730,3,0)),"",VLOOKUP(D122,'Cap Financiera y Organizacional'!$B$13:$X$62730,3,0))) | F122: =IF(OR(C122="",D122=""),"",IF(ISERROR(VLOOKUP(D122,'Cap Financiera y Organizacional'!$B$13:$X$62730,5,0)),"",VLOOKUP(D122,'Cap Financiera y Organizacional'!$B$13:$X$62730,5,0))) | G122: =IF(OR(D122="",E122="",F122=""),"",IF(OR(E122=0,F122=0),0,E122/F122)) | H122: =IF(OR(D122="",E122="",F122=""),"",IF(AND(G122>0,G122<=CapFinanciera1),Puntajes!$D$12,IF(AND(G122>CapFinanciera1,G122<=CapFinanciera2),Puntajes!$D$13,IF(AND(G122>CapFinanciera2,G122<=CapFinanciera3),Puntajes!$D$14,IF(AND(G122>CapFinanciera3,G122<=CapFinanciera4),Puntajes!$D$15,IF(G122>CapFinanciera4,Puntajes!$D$16,0))))))
D123: =IF(ISERROR(VLOOKUP(C123,'Cap Financiera y Organizacional'!$A$12:$X$62730,2,0)),"",VLOOKUP(C123,'Cap Financiera y Organizacional'!$A$12:$X$3590,2,0)) | E123: =IF(OR(C123="",D123=""),"",IF(ISERROR(VLOOKUP(D123,'Cap Financiera y Organizacional'!$B$13:$X$62730,3,0)),"",VLOOKUP(D123,'Cap Financiera y Organizacional'!$B$13:$X$62730,3,0))) | F123: =IF(OR(C123="",D123=""),"",IF(ISERROR(VLOOKUP(D123,'Cap Financiera y Organizacional'!$B$13:$X$62730,5,0)),"",VLOOKUP(D123,'Cap Financiera y Organizacional'!$B$13:$X$62730,5,0))) | G123: =IF(OR(D123="",E123="",F123=""),"",IF(OR(E123=0,F123=0),0,E123/F123)) | H123: =IF(OR(D123="",E123="",F123=""),"",IF(AND(G123>0,G123<=CapFinanciera1),Puntajes!$D$12,IF(AND(G123>CapFinanciera1,G123<=CapFinanciera2),Puntajes!$D$13,IF(AND(G123>CapFinanciera2,G123<=CapFinanciera3),Puntajes!$D$14,IF(AND(G123>CapFinanciera3,G123<=CapFinanciera4),Puntajes!$D$15,IF(G123>CapFinanciera4,Puntajes!$D$16,0))))))
D124: =IF(ISERROR(VLOOKUP(C124,'Cap Financiera y Organizacional'!$A$12:$X$62730,2,0)),"",VLOOKUP(C124,'Cap Financiera y Organizacional'!$A$12:$X$3590,2,0)) | E124: =IF(OR(C124="",D124=""),"",IF(ISERROR(VLOOKUP(D124,'Cap Financiera y Organizacional'!$B$13:$X$62730,3,0)),"",VLOOKUP(D124,'Cap Financiera y Organizacional'!$B$13:$X$62730,3,0))) | F124: =IF(OR(C124="",D124=""),"",IF(ISERROR(VLOOKUP(D124,'Cap Financiera y Organizacional'!$B$13:$X$62730,5,0)),"",VLOOKUP(D124,'Cap Financiera y Organizacional'!$B$13:$X$62730,5,0))) | G124: =IF(OR(D124="",E124="",F124=""),"",IF(OR(E124=0,F124=0),0,E124/F124)) | H124: =IF(OR(D124="",E124="",F124=""),"",IF(AND(G124>0,G124<=CapFinanciera1),Puntajes!$D$12,IF(AND(G124>CapFinanciera1,G124<=CapFinanciera2),Puntajes!$D$13,IF(AND(G124>CapFinanciera2,G124<=CapFinanciera3),Puntajes!$D$14,IF(AND(G124>CapFinanciera3,G124<=CapFinanciera4),Puntajes!$D$15,IF(G124>CapFinanciera4,Puntajes!$D$16,0))))))
D125: =IF(ISERROR(VLOOKUP(C125,'Cap Financiera y Organizacional'!$A$12:$X$62730,2,0)),"",VLOOKUP(C125,'Cap Financiera y Organizacional'!$A$12:$X$3590,2,0)) | E125: =IF(OR(C125="",D125=""),"",IF(ISERROR(VLOOKUP(D125,'Cap Financiera y Organizacional'!$B$13:$X$62730,3,0)),"",VLOOKUP(D125,'Cap Financiera y Organizacional'!$B$13:$X$62730,3,0))) | F125: =IF(OR(C125="",D125=""),"",IF(ISERROR(VLOOKUP(D125,'Cap Financiera y Organizacional'!$B$13:$X$62730,5,0)),"",VLOOKUP(D125,'Cap Financiera y Organizacional'!$B$13:$X$62730,5,0))) | G125: =IF(OR(D125="",E125="",F125=""),"",IF(OR(E125=0,F125=0),0,E125/F125)) | H125: =IF(OR(D125="",E125="",F125=""),"",IF(AND(G125>0,G125<=CapFinanciera1),Puntajes!$D$12,IF(AND(G125>CapFinanciera1,G125<=CapFinanciera2),Puntajes!$D$13,IF(AND(G125>CapFinanciera2,G125<=CapFinanciera3),Puntajes!$D$14,IF(AND(G125>CapFinanciera3,G125<=CapFinanciera4),Puntajes!$D$15,IF(G125>CapFinanciera4,Puntajes!$D$16,0))))))
D126: =IF(ISERROR(VLOOKUP(C126,'Cap Financiera y Organizacional'!$A$12:$X$62730,2,0)),"",VLOOKUP(C126,'Cap Financiera y Organizacional'!$A$12:$X$3590,2,0)) | E126: =IF(OR(C126="",D126=""),"",IF(ISERROR(VLOOKUP(D126,'Cap Financiera y Organizacional'!$B$13:$X$62730,3,0)),"",VLOOKUP(D126,'Cap Financiera y Organizacional'!$B$13:$X$62730,3,0))) | F126: =IF(OR(C126="",D126=""),"",IF(ISERROR(VLOOKUP(D126,'Cap Financiera y Organizacional'!$B$13:$X$62730,5,0)),"",VLOOKUP(D126,'Cap Financiera y Organizacional'!$B$13:$X$62730,5,0))) | G126: =IF(OR(D126="",E126="",F126=""),"",IF(OR(E126=0,F126=0),0,E126/F126)) | H126: =IF(OR(D126="",E126="",F126=""),"",IF(AND(G126>0,G126<=CapFinanciera1),Puntajes!$D$12,IF(AND(G126>CapFinanciera1,G126<=CapFinanciera2),Puntajes!$D$13,IF(AND(G126>CapFinanciera2,G126<=CapFinanciera3),Puntajes!$D$14,IF(AND(G126>CapFinanciera3,G126<=CapFinanciera4),Puntajes!$D$15,IF(G126>CapFinanciera4,Puntajes!$D$16,0))))))
D127: =IF(ISERROR(VLOOKUP(C127,'Cap Financiera y Organizacional'!$A$12:$X$62730,2,0)),"",VLOOKUP(C127,'Cap Financiera y Organizacional'!$A$12:$X$3590,2,0)) | E127: =IF(OR(C127="",D127=""),"",IF(ISERROR(VLOOKUP(D127,'Cap Financiera y Organizacional'!$B$13:$X$62730,3,0)),"",VLOOKUP(D127,'Cap Financiera y Organizacional'!$B$13:$X$62730,3,0))) | F127: =IF(OR(C127="",D127=""),"",IF(ISERROR(VLOOKUP(D127,'Cap Financiera y Organizacional'!$B$13:$X$62730,5,0)),"",VLOOKUP(D127,'Cap Financiera y Organizacional'!$B$13:$X$62730,5,0))) | G127: =IF(OR(D127="",E127="",F127=""),"",IF(OR(E127=0,F127=0),0,E127/F127)) | H127: =IF(OR(D127="",E127="",F127=""),"",IF(AND(G127>0,G127<=CapFinanciera1),Puntajes!$D$12,IF(AND(G127>CapFinanciera1,G127<=CapFinanciera2),Puntajes!$D$13,IF(AND(G127>CapFinanciera2,G127<=CapFinanciera3),Puntajes!$D$14,IF(AND(G127>CapFinanciera3,G127<=CapFinanciera4),Puntajes!$D$15,IF(G127>CapFinanciera4,Puntajes!$D$16,0))))))
D128: =IF(ISERROR(VLOOKUP(C128,'Cap Financiera y Organizacional'!$A$12:$X$62730,2,0)),"",VLOOKUP(C128,'Cap Financiera y Organizacional'!$A$12:$X$3590,2,0)) | E128: =IF(OR(C128="",D128=""),"",IF(ISERROR(VLOOKUP(D128,'Cap Financiera y Organizacional'!$B$13:$X$62730,3,0)),"",VLOOKUP(D128,'Cap Financiera y Organizacional'!$B$13:$X$62730,3,0))) | F128: =IF(OR(C128="",D128=""),"",IF(ISERROR(VLOOKUP(D128,'Cap Financiera y Organizacional'!$B$13:$X$62730,5,0)),"",VLOOKUP(D128,'Cap Financiera y Organizacional'!$B$13:$X$62730,5,0))) | G128: =IF(OR(D128="",E128="",F128=""),"",IF(OR(E128=0,F128=0),0,E128/F128)) | H128: =IF(OR(D128="",E128="",F128=""),"",IF(AND(G128>0,G128<=CapFinanciera1),Puntajes!$D$12,IF(AND(G128>CapFinanciera1,G128<=CapFinanciera2),Puntajes!$D$13,IF(AND(G128>CapFinanciera2,G128<=CapFinanciera3),Puntajes!$D$14,IF(AND(G128>CapFinanciera3,G128<=CapFinanciera4),Puntajes!$D$15,IF(G128>CapFinanciera4,Puntajes!$D$16,0))))))
D129: =IF(ISERROR(VLOOKUP(C129,'Cap Financiera y Organizacional'!$A$12:$X$62730,2,0)),"",VLOOKUP(C129,'Cap Financiera y Organizacional'!$A$12:$X$3590,2,0)) | E129: =IF(OR(C129="",D129=""),"",IF(ISERROR(VLOOKUP(D129,'Cap Financiera y Organizacional'!$B$13:$X$62730,3,0)),"",VLOOKUP(D129,'Cap Financiera y Organizacional'!$B$13:$X$62730,3,0))) | F129: =IF(OR(C129="",D129=""),"",IF(ISERROR(VLOOKUP(D129,'Cap Financiera y Organizacional'!$B$13:$X$62730,5,0)),"",VLOOKUP(D129,'Cap Financiera y Organizacional'!$B$13:$X$62730,5,0))) | G129: =IF(OR(D129="",E129="",F129=""),"",IF(OR(E129=0,F129=0),0,E129/F129)) | H129: =IF(OR(D129="",E129="",F129=""),"",IF(AND(G129>0,G129<=CapFinanciera1),Puntajes!$D$12,IF(AND(G129>CapFinanciera1,G129<=CapFinanciera2),Puntajes!$D$13,IF(AND(G129>CapFinanciera2,G129<=CapFinanciera3),Puntajes!$D$14,IF(AND(G129>CapFinanciera3,G129<=CapFinanciera4),Puntajes!$D$15,IF(G129>CapFinanciera4,Puntajes!$D$16,0))))))
D130: =IF(ISERROR(VLOOKUP(C130,'Cap Financiera y Organizacional'!$A$12:$X$62730,2,0)),"",VLOOKUP(C130,'Cap Financiera y Organizacional'!$A$12:$X$3590,2,0))
D131: =IF(ISERROR(VLOOKUP(C131,'Cap Financiera y Organizacional'!$A$12:$X$62730,2,0)),"",VLOOKUP(C131,'Cap Financiera y Organizacional'!$A$12:$X$3590,2,0)) | E131: =IF(OR(C131="",D131=""),"",IF(ISERROR(VLOOKUP(D131,'Cap Financiera y Organizacional'!$B$13:$X$62730,3,0)),"",VLOOKUP(D131,'Cap Financiera y Organizacional'!$B$13:$X$62730,3,0))) | F131: =IF(OR(C131="",D131=""),"",IF(ISERROR(VLOOKUP(D131,'Cap Financiera y Organizacional'!$B$13:$X$62730,5,0)),"",VLOOKUP(D131,'Cap Financiera y Organizacional'!$B$13:$X$62730,5,0))) | G131: =IF(OR(D131="",E131="",F131=""),"",IF(OR(E131=0,F131=0),0,E131/F131)) | H131: =IF(OR(D131="",E131="",F131=""),"",IF(AND(G131>0,G131<=CapFinanciera1),Puntajes!$D$12,IF(AND(G131>CapFinanciera1,G131<=CapFinanciera2),Puntajes!$D$13,IF(AND(G131>CapFinanciera2,G131<=CapFinanciera3),Puntajes!$D$14,IF(AND(G131>CapFinanciera3,G131<=CapFinanciera4),Puntajes!$D$15,IF(G131>CapFinanciera4,Puntajes!$D$16,0))))))
