Workbook

Sheet VIDRIOS HISTORICO 
A1: Consejo Superior de la Judicatura
A2: Dirección Seccional de Administración Judicial
A3: Bogotá
A4: FORMATO ESTUDIO DE MERCADOS
A5: Objeto: Contratar el suministro, retiro e instalación de vidrios, espejos, película sandblasting, películas de seguridad y solares, con el fin de suplir las necesidades que se presenten en las diferentes sedes administrativas y despachos judiciales a cargo de la Dirección Seccional de Administración Judicial Bogotá.
A6: NOMBRE DE LA EMPRESA: | E6: DIVIEXPORT EU | G6: DISEÑOS ARQUITECTONICOSACOSTA S.A.S | I6: SERVIVIDRIOS | K6: PROMEDIOS
A7: DIRECCIÓN: | E7: Carrera 8 # 7-98 SIBATÉ-CUNDINAMARCA | G7: CARRERA 70 N° 68A-46 | I7: Carrera 6 # 8 - 09
A8: CORREO: | E8: diviexporteu@gmail.com | G8: gerencia@arquitectonicosacosta.com | I8: Oscarvidrios.71@hotmail.com
A9: TELÉFONO: | E9: 3137357575 | G9: 3138483105 | I9: 3103246785
A10: FORMA DE PAGO : | E10: A CONVENIR | G10: A CONVENIR | I10: A CONVENIR
A11: VALIDEZ DE LA OFERTA: | E11: TREINTA DÍAS | G11: 1 MES | I11: 60 dias
A12: GARANTÍA Y PLAZO DE ENTREGA: | E12: A CONVENIR | G12: A CONVENIR | I12: A CONVENIR
A13: ITEM | B13: DESCRIPCIÓN | C13: UNIDAD | D13: CANTIDAD | E13: VALOR UNITARIO | F13: VALOR PARCIAL | G13: VALOR UNITARIO | H13: VALOR PARCIAL | I13: VALOR UNITARIO | J13: VALOR PARCIAL | K13: PROMEDIO | L13: I.V.A. | M13: Total | N13: Precio 2024
A14: 1 | B14: Vidrio crudo
A15: 1.1 | B15: suministro e instalación de vidrio crudo 8mm | C15: m2 | D15: 1 | E15: 210000 | F15: =+D15*E15 -> 210000 | G15: 319327.73 | H15: =+G15*D15 -> 319327.73 | I15: 352941 | J15: =+I15*D15 -> 352941 | K15: =AVERAGE((J15,H15,F15)) -> 294089.58 | L15: =+K15*19% -> 55877.02 | M15: =K15+L15 -> 349966.6 | N15: =M15+(M15*9.28%) -> 382443.5
A16: 1.2 | B16: Suministro e instalación de vidrio crudo 6mm | C16: m2 | D16: 1 | E16: 190000 | F16: =+D16*E16 -> 190000 | G16: 252100.84 | H16: =+G16*D16 -> 252100.84 | I16: 294118 | J16: =+I16*D16 -> 294118 | K16: =AVERAGE((J16,H16,F16)) -> 245406.28 | L16: =+K16*19% -> 46627.193 | M16: =K16+L16 -> 292033.47 | N16: =M16+(M16*9.28%) -> 319134.18
A17: 1.3 | B17: suministro e instalación de vidrio crudo 5mm | C17: m2 | D17: 1 | E17: 160000 | F17: =+D17*E17 -> 160000 | G17: 210084.03 | H17: =+G17*D17 -> 210084.03 | I17: 235294 | J17: =+I17*D17 -> 235294 | K17: =AVERAGE((J17,H17,F17)) -> 201792.68 | L17: =+K17*19% -> 38340.609 | M17: =K17+L17 -> 240133.29 | N17: =M17+(M17*9.28%) -> 262417.65
A18: 1.4 | B18: suministro e instalación de vidrio crudo 4mm | C18: m2 | D18: 1 | E18: 130000 | F18: =+D18*E18 -> 130000 | G18: 151260.5 | H18: =+G18*D18 -> 151260.5 | I18: 184874 | J18: =+I18*D18 -> 184874 | K18: =AVERAGE((J18,H18,F18)) -> 155378.17 | L18: =+K18*19% -> 29521.852 | M18: =K18+L18 -> 184900.02 | N18: =M18+(M18*9.28%) -> 202058.74
A19: 1.5 | B19: suministro e instalación de vidrio crudo 2mm | C19: m2 | D19: 1 | E19: 90000 | F19: =+D19*E19 -> 90000 | G19: 84033.61 | H19: =+G19*D19 -> 84033.61 | I19: 126050 | J19: =+I19*D19 -> 126050 | K19: =AVERAGE((J19,H19,F19)) -> 100027.87 | L19: =+K19*19% -> 19005.295 | M19: =K19+L19 -> 119033.17 | N19: =M19+(M19*9.28%) -> 130079.44
A20: 2 | B20: Vidrio Templado
A21: 2.1 | B21: Suministro e instalación de vidrio templado 4mm | C21: m2 | D21: 1 | E21: 185000 | F21: =+D21*E21 -> 185000 | G21: 252100.84 | H21: =+G21*D21 -> 252100.84 | I21: 294118 | J21: =+I21*D21 -> 294118 | K21: =AVERAGE((J21,H21,F21)) -> 243739.61 | L21: =+K21*19% -> 46310.527 | M21: =K21+L21 -> 290050.14 | N21: =M21+(M21*9.28%) -> 316966.79
A22: 2.2 | B22: Suministro e instalación de vidrio templado 6mm | C22: m2 | D22: 1 | E22: 240000 | F22: =+D22*E22 -> 240000 | G22: 336134.45 | H22: =+G22*D22 -> 336134.45 | I22: 378151 | J22: =+I22*D22 -> 378151 | K22: =AVERAGE((J22,H22,F22)) -> 318095.15 | L22: =+K22*19% -> 60438.078 | M22: =K22+L22 -> 378533.23 | N22: =M22+(M22*9.28%) -> 413661.11
A23: 2.3 | B23: Suministro e instalación de vidrio templado 8mm | C23: m2 | D23: 1 | E23: 300000 | F23: =+D23*E23 -> 300000 | G23: 378151.26 | H23: =+G23*D23 -> 378151.26 | I23: 394958 | J23: =+I23*D23 -> 394958 | K23: =AVERAGE((J23,H23,F23)) -> 357703.09 | L23: =+K23*19% -> 67963.586 | M23: =K23+L23 -> 425666.67 | N23: =M23+(M23*9.28%) -> 465168.54
A24: 3 | B24: Vidrio laminado
A25: 3.1 | B25: Suministro e instalación de vidrio laminado 3+3 | C25: m2 | D25: 1 | E25: 190000 | F25: =+D25*E25 -> 190000 | G25: 378151.26 | H25: =+G25*D25 -> 378151.26 | I25: 403361 | J25: =+I25*D25 -> 403361 | K25: =AVERAGE((J25,H25,F25)) -> 323837.42 | L25: =+K25*19% -> 61529.11 | M25: =K25+L25 -> 385366.53 | N25: =M25+(M25*9.28%) -> 421128.54
A26: 3.2 | B26: Suministro e instalación de vidrio laminado 4+4 | C26: m2 | D26: 1 | E26: 210000 | F26: =+D26*E26 -> 210000 | G26: 420168.07 | H26: =+G26*D26 -> 420168.07 | I26: 462185 | J26: =+I26*D26 -> 462185 | K26: =AVERAGE((J26,H26,F26)) -> 364117.69 | L26: =+K26*19% -> 69182.361 | M26: =K26+L26 -> 433300.05 | N26: =M26+(M26*9.28%) -> 473510.3
A27: 4 | B27: Divisiones para oficina
A28: 4.1 | B28: Suministro e instalación de divisiones para oficina en vidrio templado 10mm (incluye herrajes) | C28: m2 | D28: 1 | E28: 550000 | F28: =+D28*E28 -> 550000 | G28: 588235.29 | H28: =+G28*D28 -> 588235.29 | I28: 630252 | J28: =+I28*D28 -> 630252 | K28: =AVERAGE((J28,H28,F28)) -> 589495.76 | L28: =+K28*19% -> 112004.2 | M28: =K28+L28 -> 701499.96 | N28: =M28+(M28*9.28%) -> 766599.15
A29: 5 | B29: Espejos
A30: 5.1 | B30: suministro e instalación de espejo 4mm biselado y pulido cuatro lados | C30: m2 | D30: 1 | E30: 180000 | F30: =+D30*E30 -> 180000 | G30: 252100.84 | H30: =+G30*D30 -> 252100.84 | I30: 294118 | J30: =+I30*D30 -> 294118 | K30: =AVERAGE((J30,H30,F30)) -> 242072.95 | L30: =+K30*19% -> 45993.86 | M30: =K30+L30 -> 288066.81 | N30: =M30+(M30*9.28%) -> 314799.41
A31: 6 | B31: Accesorios
A32: 6.1 | B32: Suministro e instalación pisavidrios en aluminio. | C32: m | D32: 1 | E32: 50000 | F32: =+D32*E32 -> 50000 | G32: 42016.81 | H32: =+G32*D32 -> 42016.81 | I32: 58824 | J32: =+I32*D32 -> 58824 | K32: =AVERAGE((J32,H32,F32)) -> 50280.27 | L32: =+K32*19% -> 9553.2513 | M32: =K32+L32 -> 59833.521 | N32: =M32+(M32*9.28%) -> 65386.072
A33: 6.2 | B33: Suministro e instalación empaques para vidrios | C33: m | D33: 1 | E33: 5000 | F33: =+D33*E33 -> 5000 | G33: 12605.04 | H33: =+G33*D33 -> 12605.04 | I33: 25210 | J33: =+I33*D33 -> 25210 | K33: =AVERAGE((J33,H33,F33)) -> 14271.68 | L33: =+K33*19% -> 2711.6192 | M33: =K33+L33 -> 16983.299 | N33: =M33+(M33*9.28%) -> 18559.349
A34: 6.3 | B34: Suministro e instalación de zocalos en aluminio | C34: m | D34: 1 | E34: 170000 | F34: =+D34*E34 -> 170000 | G34: 67226.89 | H34: =+G34*D34 -> 67226.89 | I34: 84034 | J34: =+I34*D34 -> 84034 | K34: =AVERAGE((J34,H34,F34)) -> 107086.96 | L34: =+K34*19% -> 20346.523 | M34: =K34+L34 -> 127433.49 | N34: =M34+(M34*9.28%) -> 139259.31
A35: 7 | B35: Herrajes en aluminio
A36: 7.1 | B36: Suministro e instalación de bisagra hidraulica de piso | C36: und | D36: 1 | E36: 860000 | F36: =+D36*E36 -> 860000 | G36: 756302.52 | H36: =+G36*D36 -> 756302.52 | I36: 840336 | J36: =+I36*D36 -> 840336 | K36: =AVERAGE((J36,H36,F36)) -> 818879.51 | L36: =+K36*19% -> 155587.11 | M36: =K36+L36 -> 974466.61 | N36: =M36+(M36*9.28%) -> 1064897.1
A37: 7.2 | B37: Suministro e instalación de Manija Tipo Roma | C37: und | D37: 1 | E37: 105000 | F37: =+D37*E37 -> 105000 | G37: 117647.06 | H37: =+G37*D37 -> 117647.06 | I37: 151261 | J37: =+I37*D37 -> 151261 | K37: =AVERAGE((J37,H37,F37)) -> 124636.02 | L37: =+K37*19% -> 23680.844 | M37: =K37+L37 -> 148316.86 | N37: =M37+(M37*9.28%) -> 162080.67
A38: 7.3 | B38: Tubo de giro piso techo de 2" | C38: und | D38: 1 | E38: 180000 | F38: =+D38*E38 -> 180000 | G38: 319327.73 | H38: =+G38*D38 -> 319327.73 | I38: 352941 | J38: =+I38*D38 -> 352941 | K38: =AVERAGE((J38,H38,F38)) -> 284089.58 | L38: =+K38*19% -> 53977.02 | M38: =K38+L38 -> 338066.6 | N38: =M38+(M38*9.28%) -> 369439.18
A39: 7.4 | B39: Cerradura aérea 90-90 | C39: und | D39: 1 | E39: 230000 | F39: =+D39*E39 -> 230000 | G39: 352941.18 | H39: =+G39*D39 -> 352941.18 | I39: 394958 | J39: =+I39*D39 -> 394958 | K39: =AVERAGE((J39,H39,F39)) -> 325966.39 | L39: =+K39*19% -> 61933.615 | M39: =K39+L39 -> 387900.01 | N39: =M39+(M39*9.28%) -> 423897.13
A40: 7.5 | B40: Brazo Hidraulico | C40: und | D40: 1 | E40: 250000 | F40: =+D40*E40 -> 250000 | G40: 193277.31 | H40: =+G40*D40 -> 193277.31 | I40: 226891 | J40: =+I40*D40 -> 226891 | K40: =AVERAGE((J40,H40,F40)) -> 223389.44 | L40: =+K40*19% -> 42443.993 | M40: =K40+L40 -> 265833.43 | N40: =M40+(M40*9.28%) -> 290502.77
...

Sheet DECORGLASS CE
A1: NIT: 80.734.653-0 | C1: Ventanería -Fachadas-puertas de Seguridad Acero inoxidable - Aluminio Depósito - ferretería Vidrios y Espejos
B2: SOLICITUD DE COTIZACION | F2: Formato:
F3: DESAJ-05-07
F4: Versión No. SP.1
A5: CONSEJO SUPERIOR DE LA JUDICATURA
A6: DIRECCIÓN SECCIONAL DE ADMINISTRACION JUDICIAL BOGOTÀ
A7: GRUPO DE MANTENIMIENTO
A8: La DSAJ de Bogotá pretende adelantar un proceso de contratación para contar con el suministro, retiro e instalación de vidrios, espejos, sandblasting, películas de seguridad y solares con el fin de suplir las necesidades que se presenten en las diferentes sedes administrativas y despachos judiciales a su cargo
A9: NOMBRE DE LA EMPRESA: DECORGLASS CE | F9: Fecha de Solicitud: E300
A10: DIRECCIÓN: DIAGONAL 3A 70B-25 | F10: dia: 29 mes: 01 | G10: año: 2024
A11: TELÉFONO: 3133645941 | F11: NIT: 80,734,653-0
A12: FORMA DE PAGO : A CONVENIR | F12: C.C. 80734653
A13: VALIDEZ DE LA OFERTA: 90DIAS | F13: E-MAIL:decorglass_camiloecheverry@hotm
A14: GARANTÍA Y PLAZO DE ENTREGA: A CONVENIR
A15: ÍTEM | B15: DESCRIPCIÓN | D15: UNIDAD | E15: CANTIDAD | F15: VALOR UNITARIO 2024 | G15: VALOR TOTAL
A16: 1 | B16: Vidrio crudo
A17: 1.1 | B17: Suministro e instalación de vidrio crudo 8mm | D17: m2 | E17: 1 | G17: 280000
A18: 1.2 | B18: Suministro e instalación de vidrio crudo 6mm | D18: m2 | E18: 1 | G18: 270000
A19: 1.3 | B19: suministro e instalación de vidrio crudo 5mm | D19: m2 | E19: 1 | G19: 250000
A20: 1.4 | B20: suministro e instalación de vidrio crudo 4mm | D20: m2 | E20: 1 | G20: 240000
A21: 1.5 | B21: suministro e instalación de vidrio crudo 2mm | D21: m2 | E21: 1 | G21: 250000
A22: 2 | B22: Vidrio Templado
A23: 2.1 | B23: Suministro e instalación de vidrio templado 4mm | D23: m2 | E23: 1 | G23: 340000
A24: 2.2 | B24: Suministro e instalación de vidrio templado 6mm | D24: m2 | E24: 1 | G24: 370000
A25: 2.3 | B25: Suministro e instalación de vidrio templado 8mm | D25: m2 | G25: 480000
A26: 3 | B26: Vidrio laminado
A27: 3.1 | B27: Suministro e instalación de vidrio laminado 3+3 | D27: m2 | E27: 1 | G27: 240000
A28: 3.2 | B28: Suministro e instalación de vidrio laminado 4+4 | D28: m2 | E28: 1 | G28: 290000
A29: 4 | B29: Divisiones para oficina
A30: 4.1 | B30: suministro e instalación de divisiones para oficina en vidrio templado 10mm (incluye herrajes) | D30: m2 | E30: 1 | G30: 1020000
A31: 5 | B31: Espejos
A32: 5.1 | B32: suministro e instalación de espejo 4mm biselado y pulido cuatro lados | D32: m2 | E32: 1 | G32: 170000
A33: 6 | B33: Accesorios
A34: 6.1 | B34: Suministro e instalación pisavidrios en aluminio. | D34: m | E34: 1 | G34: 180000
A35: 6.2 | B35: Suministro e instalación empaques para vidrios | D35: m | E35: 1 | G35: 98000
A36: 6.3 | B36: Suministro e instalación de zocalos en aluminio | D36: m | E36: 1 | G36: 540000
A37: 7 | B37: Herrajes en aluminio
A38: 7.1 | B38: Suministro e instalación de bisagra hidraulica de piso | D38: und | E38: 1 | G38: 1450000
A39: 7.2 | B39: Suministro e instalación de Manija Tipo Roma | D39: und | E39: 1 | G39: 260000
A40: 7.3 | B40: Tubo de giro piso techo de 2" | D40: und | E40: 1 | G40: 800000
...

Sheet DECORGRAFF
A1: DIANA CASTAÑEDA C.C 52.728.877
B2: SOLICITUD DE COTIZACION | E2: Formato:
E3: DESAJ-05-07
E4: Versión No. SP.1
A5: CONSEJO SUPERIOR DE LA JUDICATURA
A6: DIRECCIÓN SECCIONAL DE ADMINISTRACION JUDICIAL BOGOTÀ
A7: GRUPO DE MANTENIMIENTO
A8: Objeto: Contratar el suministro, retiro e instalación de vidrios, espejos, sandblasting, películas de seguridad y solares con el fin de
A9: La DSAJ de Bogotá pretende adelantar un proceso de contratación para contar con el suministro, retiro e instalación de vidrios, espejos, sandblasting, películas de seguridad y solares con el fin de suplir las necesidades que se presenten en las diferentes sedes administrativas y despachos judiciales a su cargo
A10: NOMBRE DE LA EMPRESA: DECORGRAFF | E10: Fecha de Solicitud: E300
A11: DIRECCIÓN: CALLE 44 SUR 68G-62 | E11: dia: 28 mes: 01 | F11: año: 2024
A12: TELÉFONO: 3133808580 | E12: NIT: 52728877-7
A13: FORMA DE PAGO : A CONVENIR | E13: C.C. 52728877
A14: VALIDEZ DE LA OFERTA 120 DIAS | E14: E-MAIL: dianaccastanedag@gmail.com
A15: GARANTÍA Y PLAZO DE ENTREGA: A CONVENIR
A16: ÍTEM | B16: DESCRIPCIÓN | C16: UNIDAD | D16: CANTIDAD | E16: VALOR UNITARIO 2024 | F16: VALOR TOTAL
A17: 1 | B17: Vidrio crudo
A18: 1.1 | B18: suministro e instalación de vidrio crudo 8mm | C18: m2 | D18: 1 | F18: 320000
A19: 1.2 | B19: Suministro e instalación de vidrio crudo 6mm | C19: m2 | D19: 1 | F19: 310000
A20: 1.3 | B20: suministro e instalación de vidrio crudo 5mm | C20: m2 | D20: 1 | F20: 270000
A21: 1.4 | B21: suministro e instalación de vidrio crudo 4mm | C21: m2 | D21: 1 | F21: 260000
A22: 1.5 | B22: suministro e instalación de vidrio crudo 2mm | C22: m2 | D22: 1 | F22: 240000
A23: 2 | B23: Vidrio Templado
A24: 2.1 | B24: Suministro e instalación de vidrio templado 4mm | C24: m2 | D24: 1 | F24: 325000
A25: 2.2 | B25: Suministro e instalación de vidrio templado 6mm | C25: m2 | D25: 1 | F25: 360000
A26: 2.3 | B26: Suministro e instalación de vidrio templado 8mm | C26: m2 | F26: 485000
A27: 3 | B27: Vidrio laminado
A28: 3.1 | B28: Suministro e instalación de vidrio laminado 3+3 | C28: m2 | D28: 1 | F28: 260000
A29: 3.2 | B29: Suministro e instalación de vidrio laminado 4+4 | C29: m2 | D29: 1 | F29: 295000
A30: 4 | B30: Divisiones para oficina
A31: 4.1 | B31: suministro e instalación de divisiones para oficina en vidrio templado 10mm (incluye herrajes) | C31: m2 | D31: 1 | F31: 980000
A32: 5 | B32: Espejos
A33: 5.1 | B33: suministro e instalación de espejo 4mm biselado y pulido cuatro lados | C33: m2 | D33: 1 | F33: 165000
A34: 6 | B34: Accesorios
A35: 6.1 | B35: Suministro e instalación pisavidrios en aluminio. | C35: m | D35: 1 | F35: 160000
A36: 6.2 | B36: Suministro e instalación empaques para vidrios | C36: m | D36: 1 | F36: 110000
A37: 6.3 | B37: Suministro e instalación de zocalos en aluminio | C37: m | D37: 1 | F37: 560000
A38: 7 | B38: Herrajes en aluminio
A39: 7.1 | B39: Suministro e instalación de bisagra hidraulica de piso | C39: und | D39: 1 | F39: 1560000
A40: 7.2 | B40: Suministro e instalación de Manija Tipo Roma | C40: und | D40: 1 | F40: 240000
...

Sheet CONSOLIDADO
A1: Consejo Superior de la Judicatura
A2: Dirección Seccional de Administración Judicial
A3: Bogotá
A4: FORMATO ESTUDIO DE MERCADOS
A5: Objeto: Contratar el suministro, retiro e instalación de vidrios, espejos, película sandblasting, películas de seguridad y solares, con el fin de suplir las necesidades que se presenten en las diferentes sedes administrativas y despachos judiciales a cargo de la Dirección Seccional de Administración Judicial Bogotá.
A6: NOMBRE DE LA EMPRESA: | G6: DECORGLASS CE | I6: DECORGRAFF | K6: PROMEDIOS
A7: DIRECCIÓN: | G7: DIAGONAL 3A 70B-25 | I7: CALLE 44 SUR 68G-62
A8: TELÉFONO: | E8: Historico | G8: 3133645941 | I8: 3133808580
A9: FORMA DE PAGO : | G9: A CONVENIR | I9: A CONVENIR
A10: ITEM | B10: DESCRIPCIÓN | C10: UNIDAD | D10: CANTIDAD | E10: VALOR UNITARIO | F10: VALOR PARCIAL | G10: VALOR UNITARIO | H10: VALOR PARCIAL | I10: VALOR UNITARIO | J10: VALOR PARCIAL | K10: PROMEDIO
A11: 1 | B11: Vidrio crudo
A12: 1.1 | B12: suministro e instalación de vidrio crudo 8mm | C12: m2 | D12: 1 | E12: ='VIDRIOS HISTORICO '!N15 -> 382443.5 | F12: =+D12*E12 -> 382443.5 | G12: ='DECORGLASS CE'!G17 -> 280000 | H12: =+G12*D12 -> 280000 | I12: =DECORGRAFF!F18 -> 320000 | J12: =+I12*D12 -> 320000 | K12: =AVERAGE((J12,H12,F12)) -> 327481.17
A13: 1.2 | B13: Suministro e instalación de vidrio crudo 6mm | C13: m2 | D13: 1 | E13: ='VIDRIOS HISTORICO '!N16 -> 319134.18 | F13: =+D13*E13 -> 319134.18 | G13: ='DECORGLASS CE'!G18 -> 270000 | H13: =+G13*D13 -> 270000 | I13: =DECORGRAFF!F19 -> 310000 | J13: =+I13*D13 -> 310000 | K13: =AVERAGE((J13,H13,F13)) -> 299711.39
A14: 1.3 | B14: suministro e instalación de vidrio crudo 5mm | C14: m2 | D14: 1 | E14: ='VIDRIOS HISTORICO '!N17 -> 262417.65 | F14: =+D14*E14 -> 262417.65 | G14: ='DECORGLASS CE'!G19 -> 250000 | H14: =+G14*D14 -> 250000 | I14: =DECORGRAFF!F20 -> 270000 | J14: =+I14*D14 -> 270000 | K14: =AVERAGE((J14,H14,F14)) -> 260805.88
A15: 1.4 | B15: suministro e instalación de vidrio crudo 4mm | C15: m2 | D15: 1 | E15: ='VIDRIOS HISTORICO '!N18 -> 202058.74 | F15: =+D15*E15 -> 202058.74 | G15: ='DECORGLASS CE'!G20 -> 240000 | H15: =+G15*D15 -> 240000 | I15: =DECORGRAFF!F21 -> 260000 | J15: =+I15*D15 -> 260000 | K15: =AVERAGE((J15,H15,F15)) -> 234019.58
A16: 1.5 | B16: suministro e instalación de vidrio crudo 2mm | C16: m2 | D16: 1 | E16: ='VIDRIOS HISTORICO '!N19 -> 130079.44 | F16: =+D16*E16 -> 130079.44 | G16: ='DECORGLASS CE'!G21 -> 250000 | H16: =+G16*D16 -> 250000 | I16: =DECORGRAFF!F22 -> 240000 | J16: =+I16*D16 -> 240000 | K16: =AVERAGE((J16,H16,F16)) -> 206693.15
A17: 2 | B17: Vidrio Templado
A18: 2.1 | B18: Suministro e instalación de vidrio templado 4mm | C18: m2 | D18: 1 | E18: ='VIDRIOS HISTORICO '!N21 -> 316966.79 | F18: =+D18*E18 -> 316966.79 | G18: ='DECORGLASS CE'!G23 -> 340000 | H18: =+G18*D18 -> 340000 | I18: =DECORGRAFF!F24 -> 325000 | J18: =+I18*D18 -> 325000 | K18: =AVERAGE((J18,H18,F18)) -> 327322.26
A19: 2.2 | B19: Suministro e instalación de vidrio templado 6mm | C19: m2 | D19: 1 | E19: ='VIDRIOS HISTORICO '!N22 -> 413661.11 | F19: =+D19*E19 -> 413661.11 | G19: ='DECORGLASS CE'!G24 -> 370000 | H19: =+G19*D19 -> 370000 | I19: =DECORGRAFF!F25 -> 360000 | J19: =+I19*D19 -> 360000 | K19: =AVERAGE((J19,H19,F19)) -> 381220.37
A20: 2.3 | B20: Suministro e instalación de vidrio templado 8mm | C20: m2 | D20: 1 | E20: ='VIDRIOS HISTORICO '!N23 -> 465168.54 | F20: =+D20*E20 -> 465168.54 | G20: ='DECORGLASS CE'!G25 -> 480000 | H20: =+G20*D20 -> 480000 | I20: =DECORGRAFF!F26 -> 485000 | J20: =+I20*D20 -> 485000 | K20: =AVERAGE((J20,H20,F20)) -> 476722.85
A21: 3 | B21: Vidrio laminado
A22: 3.1 | B22: Suministro e instalación de vidrio laminado 3+3 | C22: m2 | D22: 1 | E22: ='VIDRIOS HISTORICO '!N25 -> 421128.54 | F22: =+D22*E22 -> 421128.54 | G22: ='DECORGLASS CE'!G27 -> 240000 | H22: =+G22*D22 -> 240000 | I22: =DECORGRAFF!F28 -> 260000 | J22: =+I22*D22 -> 260000 | K22: =AVERAGE((J22,H22,F22)) -> 307042.85
A23: 3.2 | B23: Suministro e instalación de vidrio laminado 4+4 | C23: m2 | D23: 1 | E23: ='VIDRIOS HISTORICO '!N26 -> 473510.3 | F23: =+D23*E23 -> 473510.3 | G23: ='DECORGLASS CE'!G28 -> 290000 | H23: =+G23*D23 -> 290000 | I23: =DECORGRAFF!F29 -> 295000 | J23: =+I23*D23 -> 295000 | K23: =AVERAGE((J23,H23,F23)) -> 352836.77
A24: 4 | B24: Divisiones para oficina
A25: 4.1 | B25: Suministro e instalación de divisiones para oficina en vidrio templado 10mm (incluye herrajes) | C25: m2 | D25: 1 | E25: ='VIDRIOS HISTORICO '!N28 -> 766599.15 | F25: =+D25*E25 -> 766599.15 | G25: ='DECORGLASS CE'!G30 -> 1020000 | H25: =+G25*D25 -> 1020000 | I25: =DECORGRAFF!F31 -> 980000 | J25: =+I25*D25 -> 980000 | K25: =AVERAGE((J25,H25,F25)) -> 922199.72
A26: 5 | B26: Espejos
A27: 5.1 | B27: suministro e instalación de espejo 4mm biselado y pulido cuatro lados | C27: m2 | D27: 1 | E27: ='VIDRIOS HISTORICO '!N30 -> 314799.41 | F27: =+D27*E27 -> 314799.41 | G27: ='DECORGLASS CE'!G32 -> 170000 | H27: =+G27*D27 -> 170000 | I27: =DECORGRAFF!F33 -> 165000 | J27: =+I27*D27 -> 165000 | K27: =AVERAGE((J27,H27,F27)) -> 216599.8
A28: 6 | B28: Accesorios
A29: 6.1 | B29: Suministro e instalación pisavidrios en aluminio. | C29: m | D29: 1 | E29: ='VIDRIOS HISTORICO '!N32 -> 65386.072 | F29: =+D29*E29 -> 65386.072 | G29: ='DECORGLASS CE'!G34 -> 180000 | H29: =+G29*D29 -> 180000 | I29: =DECORGRAFF!F35 -> 160000 | J29: =+I29*D29 -> 160000 | K29: =AVERAGE((J29,H29,F29)) -> 135128.69
A30: 6.2 | B30: Suministro e instalación empaques para vidrios | C30: m | D30: 1 | E30: ='VIDRIOS HISTORICO '!N33 -> 18559.349 | F30: =+D30*E30 -> 18559.349 | G30: ='DECORGLASS CE'!G35 -> 98000 | H30: =+G30*D30 -> 98000 | I30: =DECORGRAFF!F36 -> 110000 | J30: =+I30*D30 -> 110000 | K30: =AVERAGE((J30,H30,F30)) -> 75519.783
A31: 6.3 | B31: Suministro e instalación de zocalos en aluminio | C31: m | D31: 1 | E31: ='VIDRIOS HISTORICO '!N34 -> 139259.31 | F31: =+D31*E31 -> 139259.31 | G31: ='DECORGLASS CE'!G36 -> 540000 | H31: =+G31*D31 -> 540000 | I31: =DECORGRAFF!F37 -> 560000 | J31: =+I31*D31 -> 560000 | K31: =AVERAGE((J31,H31,F31)) -> 413086.44
A32: 7 | B32: Herrajes en aluminio
A33: 7.1 | B33: Suministro e instalación de bisagra hidraulica de piso | C33: und | D33: 1 | E33: ='VIDRIOS HISTORICO '!N36 -> 1064897.1 | F33: =+D33*E33 -> 1064897.1 | G33: ='DECORGLASS CE'!G38 -> 1450000 | H33: =+G33*D33 -> 1450000 | I33: =DECORGRAFF!F39 -> 1560000 | J33: =+I33*D33 -> 1560000 | K33: =AVERAGE((J33,H33,F33)) -> 1358299
A34: 7.2 | B34: Suministro e instalación de Manija Tipo Roma | C34: und | D34: 1 | E34: ='VIDRIOS HISTORICO '!N37 -> 162080.67 | F34: =+D34*E34 -> 162080.67 | G34: ='DECORGLASS CE'!G39 -> 260000 | H34: =+G34*D34 -> 260000 | I34: =DECORGRAFF!F40 -> 240000 | J34: =+I34*D34 -> 240000 | K34: =AVERAGE((J34,H34,F34)) -> 220693.56
A35: 7.3 | B35: Tubo de giro piso techo de 2" | C35: und | D35: 1 | E35: ='VIDRIOS HISTORICO '!N38 -> 369439.18 | F35: =+D35*E35 -> 369439.18 | G35: ='DECORGLASS CE'!G40 -> 800000 | H35: =+G35*D35 -> 800000 | I35: =DECORGRAFF!F41 -> 840000 | J35: =+I35*D35 -> 840000 | K35: =AVERAGE((J35,H35,F35)) -> 669813.06
A36: 7.4 | B36: Cerradura aérea 90-90 | C36: und | D36: 1 | E36: ='VIDRIOS HISTORICO '!N39 -> 423897.13 | F36: =+D36*E36 -> 423897.13 | G36: ='DECORGLASS CE'!G41 -> 540000 | H36: =+G36*D36 -> 540000 | I36: =DECORGRAFF!F42 -> 492000 | J36: =+I36*D36 -> 492000 | K36: =AVERAGE((J36,H36,F36)) -> 485299.04
A37: 7.5 | B37: Brazo Hidraulico | C37: und | D37: 1 | E37: ='VIDRIOS HISTORICO '!N40 -> 290502.77 | F37: =+D37*E37 -> 290502.77 | G37: ='DECORGLASS CE'!G42 -> 880000 | H37: =+G37*D37 -> 880000 | I37: =DECORGRAFF!F43 -> 920000 | J37: =+I37*D37 -> 920000 | K37: =AVERAGE((J37,H37,F37)) -> 696834.26
A38: 7.6 | B38: Botella de giro para puerta en vidrio templado | C38: und | D38: 1 | E38: ='VIDRIOS HISTORICO '!N41 -> 180712.51 | F38: =+D38*E38 -> 180712.51 | G38: ='DECORGLASS CE'!G43 -> 740000 | H38: =+G38*D38 -> 740000 | I38: =DECORGRAFF!F44 -> 810000 | J38: =+I38*D38 -> 810000 | K38: =AVERAGE((J38,H38,F38)) -> 576904.17
A39: 7.7 | B39: pie de amigo para vidrio templado | C39: und | D39: 1 | E39: ='VIDRIOS HISTORICO '!N42 -> 66515.142 | F39: =+D39*E39 -> 66515.142 | G39: ='DECORGLASS CE'!G44 -> 320000 | H39: =+G39*D39 -> 320000 | I39: =DECORGRAFF!F45 -> 280000 | J39: =+I39*D39 -> 280000 | K39: =AVERAGE((J39,H39,F39)) -> 222171.71
A40: 8 | B40: Peliculas
...
