Workbook
Name centro_gestor: Listados!$C$2:$C$28
Name excepcional: Listados!$A$17:$A$23
Name fondo: Listados!$O$2:$O$908
Name gasto_publico: Listados!$V$2:$V$7
Name grupos_vulnerables: Listados!$A$26:$A$32
Name meta_plan: Listados!$F$2:$F$713
Name meta_territorio: Listados!$J$2:$J$497
Name movilizador: Listados!$A$35:$A$92
Name politica_publica: Listados!$T$2:$T$20
Name pospre: Listados!$L$2:$L$473
Name ruta: Listados!$A$2:$A$3
Name sector_mga: Listados!$R$2:$R$32

Sheet  ACTIVIDADES PPTO PROYECTADA
A9: Código BP | B9: BP-26003038 | D9: Código BPIN | F9: 2020760010826 | I9: Versión PPM: | K9: 000 | M9: Vigencia | O9: 2024 | Q9: Centro Gestor | R9: 4143 | U9: Meta Plan de Desarrollo | V9: 52040010002 | W9: =IF(V9=""," ",VLOOKUP(V9,Listados!$F:$G,2,0)) -> Población en edad escolar matriculada en el sistema educativo oficial de Santiago de Cali
I10: Versión PS: | K10: 000
A11: Nombre del Proyecto | B11: Fortalecimiento del acceso al sistema educativo oficial en Santiago de Cali | M11: Población Objetivo | O11: 59414 | R11: =IF(R9=""," ",VLOOKUP(R9,Listados!$C:$D,2,0)) -> Secretaría de Educación | U11: Meta Plan de Desarrollo Comuna o Corregimiento | W11: =IF(V11=""," ",VLOOKUP(V11,Listados!$I:$J,2,0))
W12: =IF(V12=""," ",VLOOKUP(V12,Listados!$I:$J,2,0))
A14: Objetivo General | B14: Indicador Objetivo General | C14: Unidad de Medida | D14: Cantidad | E14: # Objetivo específico | F14: Objetivos Específicos | G14: Código MGA Producto | H14: # Producto | I14: Productos | J14: Código MGA Indicador Producto | K14: Indicador de Producto | L14: Unidad de Medida | M14: Cantidad | N14: % Ponderación Productos | O14: # Actividad | P14: Código Programa Presupuestario | Q14: Actividades | R14: Ruta Crítica Si/No | S14: % Ponderación Actividad | T14: Código POSPRE | U14: Denominación POSPRE | V14: Código FONDO | W14: Denominación FONDO | X14: Valor Actividades | Y14: Modificación
A15: FORTALECER EL ACCESO AL SISTEMA EDUCATIVO OFICIAL EN SANTIAGO DE CALI | B15: Estudiantes vinculados al sistema educativo oficial en los niveles de preescolar, básica primaria, secundaria y media | C15: Número | D15: 59414 | E15: 1. | F15: Formar técnicamente a las IEO y establecimientos educativos privados en los procedimientos de gestión de la cobertura educativa | G15: 2201006 | H15: 1.1 | I15: Servicio de asistencia técnica en educación inicial, preescolar, básica y media | J15: 220100600 | K15: Entidades y organizaciones asistidas técnicamente | L15: Número | M15: 0 | N15: 0 | O15: 1.1.1 | P15: BP-26003038/1/01/01/01 | Q15: Apoyar los procedimientos de gestión de la cobertura y las etapas de matrícula del Municipio a las IEO y EE privados | R15: Si | S15: 0 | U15: =IF(T15=""," ",VLOOKUP(T15,Listados!$L:$M,2,0)) | X15: 0
O16: 1.1.2 | P16: BP-26003038/1/01/01/02 | Q16: Apoyar el adecuado registro de estudiantes matriculados en el Sistema Integrado de matrículas (SIMAT) | R16: Si | S16: 0 | U16: =IF(T16=""," ",VLOOKUP(T16,Listados!$L:$M,2,0)) | X16: 0
E17: 2 | F17: Desarrollar estrategias de búsqueda activa de la población por fuera del sistema educativo | G17: 2201002 | H17: 2.1 | I17: Servicio de divulgación para la educación inicial, preescolar, básica y media | J17: 220100200 | K17: Procesos de socialización de lineamientos, política y normativa para la educación inicial, preescolar, básica y media realizados | L17: Número | M17: 0 | N17: 0 | O17: 2.1.1 | P17: BP-26003038/1/02/01/01 | Q17: Difundir la oferta educativa del sector oficial y las etapas de inscripción, traslado y matrícula en el municipio a través de la campaña de comunicaciones | R17: Si | S17: 0 | U17: =IF(T17=""," ",VLOOKUP(T17,Listados!$L:$M,2,0)) | X17: 0
H18: 1.2 | O18: 2.1.2 | P18: BP-26003038/1/02/01/02 | Q18: Realizar actividades de búsqueda activa de niños, niñas, adolescentes y jóvenes que se encuentran por fuera del sistema educativo escolar | R18: Si | S18: 0 | U18: =IF(T18=""," ",VLOOKUP(T18,Listados!$L:$M,2,0)) | X18: 0
E19: 3 | F19: Verificar el registro de la matricula oficial en el Sistema Integrado de Matricula SIMAT | G19: 2201065 | H19: 3.1 | I19: Documentos de investigación | J19: 220106500 | K19: Documentos de investigación elaborados | L19: Número | M19: 0 | N19: 0 | O19: 3.1.1 | P19: BP-26003038/1/03/01/01 | Q19: Realizar en terreno la verificacion, validación, y actualización de la información reportada por las 92 IEO en el Sistema Integrado de Matrícula SIMAT | R19: Si | S19: 0 | U19: =IF(T19=""," ",VLOOKUP(T19,Listados!$L:$M,2,0)) | X19: 0
O20: 3.1.2 | P20: BP-26003038/1/03/01/02 | Q20: Presentar informe de actividades y resultados del seguimiento a la matricula oficial realizado en terreno. | R20: Si | S20: 0 | U20: =IF(T20=""," ",VLOOKUP(T20,Listados!$L:$M,2,0)) | X20: 0
E21: 4 | F21: Emplear la estrategia de ampliación de cobertura para el acceso al sistema educativo oficial de la población en edad escolar de Santiago de Cali | G21: 2201017 | H21: 4.1 | I21: Servicio de fomento para el acceso a la educación inicial, preescolar, básica y media. | J21: 220101700 | K21: Personas beneficiadas con estrategias de fomento para el acceso a la educación inicial, preescolar, básica y media. | L21: Número | M21: 59414 | N21: 1 | O21: 4.1.1 | P21: BP-26003038/1/04/01/01 | Q21: Brindar acceso al servicio educativo a traves de la estrategia de ampliación de cobertura educativa en Santiago de Cali | R21: Si | S21: 0 | T21: 2-3030205 | U21: Contratos Prestación de Servicios con Instituciones Educativas | X21: 0
H22: 2.1 | O22: 4.1.2 | P22: BP-26003038/1/04/01/03 | Q22: Brindar acceso al servicio educativo a traves de la estrategia de ampliación de cobertura educativa en Santiago de Cali | R22: Si | S22: 1 | T22: 2.3.2.02.02.009 | U22: =IF(T22=""," ",VLOOKUP(T22,Listados!$L:$M,2,0)) -> Servicios para la comunidad, sociales y personales | V22: 1.2.4.1.01.01 | W22: 1.2.4.1.01.01 - SGP-Educación-Prestación de servicios CSF | X22: 140476006238
O23: 4.1.3 | P23: BP-26003038/1/04/01/02 | Q23: Realizar apoyo a la supervisión de los contratos para ampliación de cobertura educativa en Santiago de Cali | R23: Si | S23: 0 | U23: =IF(T23=""," ",VLOOKUP(T23,Listados!$L:$M,2,0)) | X23: 0
A24: TOTALES | L24: Total % ponderación productos | N24: =SUM(N15:N23) -> 1 | W24: Total Valor Actividades | X24: =SUM(X15:X23) -> 140476006238 | Y24: =SUM(Y15:Y23) -> 0

Sheet PPTO DETALLADO  AÑO 2024
