Workbook
Name \A: #REF!
Name \A: #REF!
Name \L: #REF!
Name \L: #REF!
Name \P: #REF!
Name \P: #REF!
Name \s: #REF!
Name \s: #REF!
Name \X: #N/A
Name \X: #N/A
Name \X: #N/A
Name \X: #N/A
Name \X: #N/A
Name \X: #N/A
Name \X: #N/A
Name \X: #N/A
Name \X: #N/A
Name \Z: #N/A
Name \Z: #N/A
Name \Z: #N/A
Name \Z: #N/A
Name \Z: #N/A
Name \Z: #N/A
Name \Z: #N/A
Name \Z: #N/A
Name \Z: #N/A
Name _______________AFC1: [1]INV!$A$25:$D$28
Name _______________AFC3: [1]INV!$F$25:$I$28
Name _______________AFC5: [1]INV!$K$25:$N$28
Name _______________BGC1: [1]INV!$A$5:$D$8
Name _______________BGC3: [1]INV!$F$5:$I$8
Name _______________BGC5: [1]INV!$K$5:$N$8
Name _______________CAC1: [1]INV!$A$19:$D$22
Name _______________CAC3: [1]INV!$F$19:$I$22
Name _______________CAC5: [1]INV!$K$19:$N$22
Name _______________oa55: #REF!
Name _______________oa55: #REF!
Name _______________SBC1: [1]INV!$A$12:$D$15
Name _______________SBC3: [1]INV!$F$12:$I$15
Name _______________SBC5: [1]INV!$K$12:$N$15
Name ______________AFC1: [1]INV!$A$25:$D$28
Name ______________AFC3: [1]INV!$F$25:$I$28
Name ______________AFC5: [1]INV!$K$25:$N$28
Name ______________BGC1: [1]INV!$A$5:$D$8
Name ______________BGC3: [1]INV!$F$5:$I$8
Name ______________BGC5: [1]INV!$K$5:$N$8
Name ______________CAC1: [1]INV!$A$19:$D$22
Name ______________CAC3: [1]INV!$F$19:$I$22
Name ______________CAC5: [1]INV!$K$19:$N$22
Name ______________oa55: #REF!
Name ______________oa55: #REF!
Name ______________SBC1: [1]INV!$A$12:$D$15
Name ______________SBC3: [1]INV!$F$12:$I$15
Name ______________SBC5: [1]INV!$K$12:$N$15
Name _____________AFC1: [1]INV!$A$25:$D$28
Name _____________AFC3: [1]INV!$F$25:$I$28
Name _____________AFC5: [1]INV!$K$25:$N$28
Name _____________BGC1: [1]INV!$A$5:$D$8
Name _____________BGC3: [1]INV!$F$5:$I$8
Name _____________BGC5: [1]INV!$K$5:$N$8

Sheet 201.7
K1: CÓDIGO | L1: MINFRA-MN-IN-10-FR-1
C2: INSTITUTO NACIONAL DE VIAS
C3: PROCESO GESTIÓN DE LA INFRAESTRUCTURA VIAL | K3: VERSIÓN | L3: 1
C4: MANUAL DE INTERVENTORÍA OBRA PÚBLICA
C5: ANÁLISIS DE PRECIOS UNITARIOS | K5: PÁGINA | M5: DE
K8: FECHA
L9: (Día) | M9: (Mes) | N9: (Año)
B10: ITEMS DE LA PROPUESTA ECONÓMICA | F10: □ | I10: ITEMS NO PREVISTOS | K10: □
B11: UNIDAD EJECUTORA: | J11: DIRECCIÓN TERRITORIAL:
B14: CONTRATO No. | D14: DE
B15: OBJETO DEL CONTRATO:
C16: =+'PRESUPUESTO OBRA'!A5 -> ATENCION OBRAS DE EMERGENCIA POR EL SISTEMA DE MONTO AGOTABLE EN LAS VÍAS A CARGO DE LA DIRECCION TERRITORIAL CUNDINAMARCA DEL INVIAS, DEPARTAMENTO DE CUNDINAMARCA
B18: CARRETERA: | J18: SECTOR:
B20: CONTRATISTA:
B22: INTERVENTOR: | K22: CTO No.: | M22: DE
B24: FECHA CIERRE PROCESO DE SELECCIÓN CONTRATO DE OBRA:
F25: (Día) | I25: (Mes) | J25: (Año)
B27: DATOS ESPECÍFICOS
B29: ITEM | C29: DESCRIPCIÓN | K29: GRUPO DE AJUSTE | L29: UNIDAD | N29: CANTIDAD
B30: ITEM | C30: DESCRIPCIÓN | L30: UNIDAD | N30: CANTIDAD
A31: Unidad | B31: 201.7 | C31: DEMOLICIÓN DE ESTRUCTURAS | L31: m3
B33: I. EQUIPO
B35: DESCRIPCIÓN | I35: TIPO | K35: TARIFA/HORA | L35: RENDIMIENTO | N35: Vr. UNITARIO
A36: C0010790 | B36: =+'[64]201.7'!$A10 -> Compresor 120 HP, con martillo. | K36: =+'[64]201.7'!$E10 -> 46372.04 | M36: =+'[64]201.7'!$F10 -> 2 | N36: =K36/M36 -> 23186.02
A37: C0010270 | B37: =+'[64]201.7'!$A11 -> Equipo de oxicorte, Capacidad de corte: hasta 6" (152mm) | K37: =+'[64]201.7'!$E11 -> 17528.092 | M37: =+'[64]201.7'!$F11 -> 2 | N37: =K37/M37 -> 8764.0459
A38: C0010330 | B38: =+'[64]201.7'!$A12 -> Cargador 920 o equivalente | K38: =+'[64]201.7'!$E12 -> 116974 | M38: =+'[64]201.7'!$F12 -> 6 | N38: =K38/M38 -> 19495.667
B42: HERRAMIENTA MENOR (%) | L42: 0.1 | N42: =N76*L42 -> 1421.6421
B43: SUBTOTAL $ | N43: =SUM(N36:N42) -> 52867.375
B45: II. MATERIALES
B47: DESCRIPCIÓN | J47: UNIDAD | K47: CANTIDAD | L47: PRECIO UNIT. | N47: Vr. UNITARIO
B54: SUBTOTAL $
B56: III. TRANSPORTES
B58: MATERIAL | H58: UNIDAD | I58: CANTIDAD (1) | J58: DISTANCIA (2) | K58: (1) * (2) | L58: TARIFA | N58: Vr. UNITARIO
A59: T0010032 | B59: Transporte de material de demolición | H59: m3k | I59: 1.2 | J59: 10 | K59: =I59*J59 -> 12 | L59: 1100 | N59: =K59*L59 -> 13200
B65: SUBTOTAL $ | N65: =N59+N60+N61+N62+N63 -> 13200
B67: IV. MANO DE OBRA
B69: TRABAJADOR | I69: JORNAL | J69: PRESTACIONES (%) | K69: JORNAL TOTAL | L69: RENDIMIENTO | N69: Vr. UNITARIO
A70: A0030020 | B70: Obrero (3) | I70: 73771.7 | J70: 185 | K70: =+I70*J70/100 -> 136477.64 | M70: 16 | N70: =K70/M70 -> 8529.8528
A71: A0040010 | B71: Oficial | I71: 49181.133 | J71: 185 | K71: =+I71*J71/100 -> 90985.097 | M71: 16 | N71: =K71/M71 -> 5686.5685
B76: SUBTOTAL $ | N76: =SUM(N70:N75) -> 14216.421
...

Sheet 201.15
K1: CÓDIGO | L1: MINFRA-MN-IN-10-FR-1
C2: INSTITUTO NACIONAL DE VIAS
C3: PROCESO GESTIÓN DE LA INFRAESTRUCTURA VIAL | K3: VERSIÓN | L3: 1
C4: MANUAL DE INTERVENTORÍA OBRA PÚBLICA
C5: ANÁLISIS DE PRECIOS UNITARIOS | K5: PÁGINA | M5: DE
K8: FECHA
L9: (Día) | M9: (Mes) | N9: (Año)
B10: ITEMS DE LA PROPUESTA ECONÓMICA | F10: □ | I10: ITEMS NO PREVISTOS | K10: □
B11: UNIDAD EJECUTORA: | J11: DIRECCIÓN TERRITORIAL:
B14: CONTRATO No. | D14: DE
B15: OBJETO DEL CONTRATO:
C16: =+'PRESUPUESTO OBRA'!A5 -> ATENCION OBRAS DE EMERGENCIA POR EL SISTEMA DE MONTO AGOTABLE EN LAS VÍAS A CARGO DE LA DIRECCION TERRITORIAL CUNDINAMARCA DEL INVIAS, DEPARTAMENTO DE CUNDINAMARCA
B18: CARRETERA: | J18: SECTOR:
B20: CONTRATISTA:
B22: INTERVENTOR: | K22: CTO No.: | M22: DE
B24: FECHA CIERRE PROCESO DE SELECCIÓN CONTRATO DE OBRA:
F25: (Día) | I25: (Mes) | J25: (Año)
B27: DATOS ESPECÍFICOS
B29: ITEM | C29: DESCRIPCIÓN | K29: GRUPO DE AJUSTE | L29: UNIDAD | N29: CANTIDAD
B30: ITEM | C30: DESCRIPCIÓN | L30: UNIDAD | N30: CANTIDAD
A31: Unidad | B31: 201.15 | C31: REMOCIÓN DE ALCANTARILLAS | L31: m
B33: I. EQUIPO
B35: DESCRIPCIÓN | I35: TIPO | K35: TARIFA/HORA | L35: RENDIMIENTO | N35: Vr. UNITARIO
A36: C0010765 | B36: =VLOOKUP(A36,[65]EQUIPOS!A6:D154,3,FALSE) -> Retroexcavadora, Potencia en el Volante 78 HP 2200 RPM | K36: =VLOOKUP(A36,[65]EQUIPOS!A6:D161,4,FALSE) -> 105092.63 | M36: 4 | N36: =K36/M36 -> 26273.158
B42: HERRAMIENTA MENOR (%) | L42: 0.02 | N42: =N76*L42 -> 56.865685
B43: SUBTOTAL $ | N43: =SUM(N36:N42) -> 26330.023
B45: II. MATERIALES
B47: DESCRIPCIÓN | J47: UNIDAD | K47: CANTIDAD | L47: PRECIO UNIT. | N47: Vr. UNITARIO
B54: SUBTOTAL $ | N54: =SUM(N48:N53) -> 0
B56: III. TRANSPORTES
B58: MATERIAL | H58: UNIDAD | I58: CANTIDAD (1) | J58: DISTANCIA (2) | K58: (1) * (2) | L58: TARIFA | N58: Vr. UNITARIO
A59: T0010032 | B59: =VLOOKUP(A59,[65]TRANSPORTE!A5:D117,3,FALSE) -> Transporte de material de demolición | H59: =VLOOKUP(A59,[65]TRANSPORTE!A6:D120,2,FALSE) -> m3k | I59: 3.03 | J59: 10 | K59: =I59*J59 -> 30.3 | L59: =VLOOKUP(A59,[65]TRANSPORTE!A5:D94,4,FALSE) -> 881.02273 | N59: =K59*L59 -> 26694.989
B65: SUBTOTAL $ | N65: =N59+N60+N61+N62+N63 -> 26694.989
B67: IV. MANO DE OBRA
B69: TRABAJADOR | I69: JORNAL | J69: PRESTACIONES (%) | K69: JORNAL TOTAL | L69: RENDIMIENTO | N69: Vr. UNITARIO
A70: A0030020 | B70: =VLOOKUP(A70,'[65]MANO DE OBRA'!A8:D68,3,FALSE) -> Obrero (2) | I70: =K70/J70*100 -> 49181.133 | J70: 185 | K70: =VLOOKUP(A70,'[65]MANO DE OBRA'!A8:D99,4,FALSE) -> 90985.097 | M70: 32 | N70: =K70/M70 -> 2843.2843
B76: SUBTOTAL $ | N76: =SUM(N70:N75) -> 2843.2843
B78: TOTAL COSTO DIRECTO $ | N78: =N43+N54+N65+N76 -> 55868.296
B80: V. COSTOS INDIRECTOS
B82: Descripción | K82: Porcentaje | L82: Valor Total
...

Sheet 211.1
K1: CÓDIGO | L1: MINFRA-MN-IN-10-FR-1
C2: INSTITUTO NACIONAL DE VIAS
C3: PROCESO GESTIÓN DE LA INFRAESTRUCTURA VIAL | K3: VERSIÓN | L3: 1
C4: MANUAL DE INTERVENTORÍA OBRA PÚBLICA
C5: ANÁLISIS DE PRECIOS UNITARIOS | K5: PÁGINA | M5: DE
K8: FECHA
L9: (Día) | M9: (Mes) | N9: (Año)
B10: ITEMS DE LA PROPUESTA ECONÓMICA | F10: □ | I10: ITEMS NO PREVISTOS | K10: □
B11: UNIDAD EJECUTORA: | J11: DIRECCIÓN TERRITORIAL:
B14: CONTRATO No. | D14: DE
B15: OBJETO DEL CONTRATO:
C16: =+'PRESUPUESTO OBRA'!A5 -> ATENCION OBRAS DE EMERGENCIA POR EL SISTEMA DE MONTO AGOTABLE EN LAS VÍAS A CARGO DE LA DIRECCION TERRITORIAL CUNDINAMARCA DEL INVIAS, DEPARTAMENTO DE CUNDINAMARCA
B18: CARRETERA: | J18: SECTOR:
B20: CONTRATISTA:
B22: INTERVENTOR: | K22: CTO No.: | M22: DE
B24: FECHA CIERRE PROCESO DE SELECCIÓN CONTRATO DE OBRA:
F25: (Día) | I25: (Mes) | J25: (Año)
B27: DATOS ESPECÍFICOS
B29: ITEM | C29: DESCRIPCIÓN | K29: GRUPO DE AJUSTE | L29: UNIDAD | N29: CANTIDAD
B30: ITEM | C30: DESCRIPCIÓN | L30: UNIDAD | N30: CANTIDAD
A31: Unidad | B31: 211.1 | C31: REMOCIÓN DE DERRUMBES | L31: m3
B33: I. EQUIPO
B35: DESCRIPCIÓN | I35: TIPO | K35: TARIFA/HORA | L35: RENDIMIENTO | N35: Vr. UNITARIO
A36: C0010130 | B36: =VLOOKUP(A36,[65]EQUIPOS!A6:D154,3,FALSE) -> Cargador : Potencia en el volante 110 hp, Clasificación de RPM del motor 2300. | K36: =VLOOKUP(A36,[65]EQUIPOS!A6:D163,4,FALSE) -> 122005.87 | M36: 50 | N36: =K36/M36 -> 2440.1173
A37: C0010052 | B37: =VLOOKUP(A37,[65]EQUIPOS!A7:D154,3,FALSE) -> Buldozer, Potencia al volante de 140 HP, motor de 2200 RPM, longitud de hoja 4,80m. | K37: =VLOOKUP(A37,[65]EQUIPOS!A7:D164,4,FALSE) -> 141426.11 | M37: 50 | N37: =K37/M37 -> 2828.5222
B42: HERRAMIENTA MENOR (%) | L42: 0.01 | N42: =N76*L42 -> 4.5492548
B43: SUBTOTAL $ | N43: =SUM(N36:N42) -> 5273.1888
B45: II. MATERIALES
B47: DESCRIPCIÓN | J47: UNIDAD | K47: CANTIDAD | L47: PRECIO UNIT. | N47: Vr. UNITARIO
A48: B0013820 | B48: =VLOOKUP(A48,[65]MATERIALES!A4:D373,3,FALSE) -> Disposición de material de derrumbe | J48: =VLOOKUP(A48,[65]MATERIALES!A4:D373,2,FALSE) -> m3 | K48: 1 | M48: =VLOOKUP(A48,[65]MATERIALES!A4:D395,4,FALSE) -> 1972.6874 | N48: =K48*M48 -> 1972.6874
B54: SUBTOTAL $ | N54: =SUM(N48:N53) -> 1972.6874
B56: III. TRANSPORTES
B58: MATERIAL | H58: UNIDAD | I58: CANTIDAD (1) | J58: DISTANCIA (2) | K58: (1) * (2) | L58: TARIFA | N58: Vr. UNITARIO
B65: SUBTOTAL $
B67: IV. MANO DE OBRA
B69: TRABAJADOR | I69: JORNAL | J69: PRESTACIONES (%) | K69: JORNAL TOTAL | L69: RENDIMIENTO | N69: Vr. UNITARIO
A70: A0030020 | B70: =VLOOKUP(A70,'[65]MANO DE OBRA'!A8:D68,3,FALSE) -> Obrero (2) | I70: =K70/J70*100 -> 49181.133 | J70: 185 | K70: =VLOOKUP(A70,'[65]MANO DE OBRA'!A8:D99,4,FALSE) -> 90985.097 | M70: 200 | N70: =K70/M70 -> 454.92548
B76: SUBTOTAL $ | N76: =SUM(N70:N75) -> 454.92548
B78: TOTAL COSTO DIRECTO $ | N78: =N43+N54+N65+N76 -> 7700.8017
B80: V. COSTOS INDIRECTOS
...

Sheet 310.1
K1: CÓDIGO | L1: MINFRA-MN-IN-10-FR-1
C2: INSTITUTO NACIONAL DE VIAS
C3: PROCESO GESTIÓN DE LA INFRAESTRUCTURA VIAL | K3: VERSIÓN | L3: 1
C4: MANUAL DE INTERVENTORÍA OBRA PÚBLICA
C5: ANÁLISIS DE PRECIOS UNITARIOS | K5: PÁGINA | M5: DE
K8: FECHA
L9: (Día) | M9: (Mes) | N9: (Año)
B10: ITEMS DE LA PROPUESTA ECONÓMICA | F10: □ | I10: ITEMS NO PREVISTOS | K10: □
B11: UNIDAD EJECUTORA: | J11: DIRECCIÓN TERRITORIAL:
B14: CONTRATO No. | D14: DE
B15: OBJETO DEL CONTRATO:
C16: =+'PRESUPUESTO OBRA'!A5 -> ATENCION OBRAS DE EMERGENCIA POR EL SISTEMA DE MONTO AGOTABLE EN LAS VÍAS A CARGO DE LA DIRECCION TERRITORIAL CUNDINAMARCA DEL INVIAS, DEPARTAMENTO DE CUNDINAMARCA
B18: CARRETERA: | J18: SECTOR:
B20: CONTRATISTA:
B22: INTERVENTOR: | K22: CTO No.: | M22: DE
B24: FECHA CIERRE PROCESO DE SELECCIÓN CONTRATO DE OBRA:
F25: (Día) | I25: (Mes) | J25: (Año)
B27: DATOS ESPECÍFICOS
B29: ITEM | C29: DESCRIPCIÓN | K29: GRUPO DE AJUSTE | L29: UNIDAD | N29: CANTIDAD
B30: ITEM | C30: DESCRIPCIÓN | L30: UNIDAD | N30: CANTIDAD
A31: Unidad | B31: 310.1 | C31: CONFORMACIÓN DE LA CALZADA EXISTENTE | L31: m2
B33: I. EQUIPO
B35: DESCRIPCIÓN | I35: TIPO | K35: TARIFA/HORA | L35: RENDIMIENTO | N35: Vr. UNITARIO
A36: C0010150 | B36: =VLOOKUP(A36,[65]EQUIPOS!A6:D154,3,FALSE) -> Carrotanque de agua(1000 Galones) | K36: =VLOOKUP(A36,[65]EQUIPOS!A6:D163,4,FALSE) -> 62653.433 | M36: 600 | N36: =K36/M36 -> 104.42239
A37: C0010610 | B37: =VLOOKUP(A37,[65]EQUIPOS!A7:D154,3,FALSE) -> Motoniveladora potencia 215 HP, ancho de cuchilla 4,27 m, peso 18 ton. | K37: =VLOOKUP(A37,[65]EQUIPOS!A7:D164,4,FALSE) -> 172833.33 | M37: 600 | N37: =K37/M37 -> 288.05556
A38: C0010923 | B38: =VLOOKUP(A38,[65]EQUIPOS!A8:D154,3,FALSE) -> Vibrocompatador, potencia 153 HP, peso 10 Ton. | K38: =VLOOKUP(A38,[65]EQUIPOS!A8:D165,4,FALSE) -> 91333.333 | M38: 600 | N38: =K38/M38 -> 152.22222
B41: HERRAMIENTA MENOR (%) | M41: 0.01 | N41: =N75*M41 -> 0.37910457
B43: SUBTOTAL $ | N43: =SUM(N36:N42) -> 545.07927
B45: II. MATERIALES
B47: DESCRIPCIÓN | J47: UNIDAD | K47: CANTIDAD | L47: PRECIO UNIT. | N47: Vr. UNITARIO
A48: B0063200 | B48: =VLOOKUP(A48,[65]MATERIALES!A5:D373,3,FALSE) -> Agua | J48: =VLOOKUP(A48,[65]MATERIALES!A4:D373,2,FALSE) -> lt | K48: 3 | M48: =VLOOKUP(A48,[65]MATERIALES!A5:D396,4,FALSE) -> 50.937843 | N48: =K48*M48 -> 152.81353
B53: SUBTOTAL $ | N53: =SUM(N48:N52) -> 152.81353
B55: III. TRANSPORTES
B57: MATERIAL | H57: UNIDAD | I57: CANTIDAD (1) | J57: DISTANCIA (2) | K57: (1) * (2) | L57: TARIFA | N57: Vr. UNITARIO
B64: SUBTOTAL $
B66: IV. MANO DE OBRA
B68: TRABAJADOR | I68: JORNAL | J68: PRESTACIONES (%) | K68: JORNAL TOTAL | L68: RENDIMIENTO | N68: Vr. UNITARIO
A69: A0040010 | B69: =VLOOKUP(A69,'[65]MANO DE OBRA'!A8:D68,3,FALSE) -> Oficial | I69: =K69/J69*100 -> 49181.133 | J69: 185 | K69: =VLOOKUP(A69,'[65]MANO DE OBRA'!A8:D99,4,FALSE) -> 90985.097 | M69: 4800 | N69: =K69/M69 -> 18.955228
A70: A0030020 | B70: =VLOOKUP(A70,'[65]MANO DE OBRA'!A8:D69,3,FALSE) -> Obrero (2) | I70: =K70/J70*100 -> 49181.133 | J70: 185 | K70: =VLOOKUP(A70,'[65]MANO DE OBRA'!A8:D100,4,FALSE) -> 90985.097 | M70: 4800 | N70: =K70/M70 -> 18.955228
B75: SUBTOTAL $ | N75: =SUM(N69:N74) -> 37.910457
...

Sheet 311.1
K1: CÓDIGO | L1: MINFRA-MN-IN-10-FR-1
C2: INSTITUTO NACIONAL DE VIAS
C3: PROCESO GESTIÓN DE LA INFRAESTRUCTURA VIAL | K3: VERSIÓN | L3: 1
C4: MANUAL DE INTERVENTORÍA OBRA PÚBLICA
C5: ANÁLISIS DE PRECIOS UNITARIOS | K5: PÁGINA | M5: DE
K8: FECHA
L9: (Día) | M9: (Mes) | N9: (Año)
B10: ITEMS DE LA PROPUESTA ECONÓMICA | F10: □ | I10: ITEMS NO PREVISTOS | K10: □
B11: UNIDAD EJECUTORA: | J11: DIRECCIÓN TERRITORIAL:
B14: CONTRATO No. | D14: DE
B15: OBJETO DEL CONTRATO:
C16: =+'PRESUPUESTO OBRA'!A5 -> ATENCION OBRAS DE EMERGENCIA POR EL SISTEMA DE MONTO AGOTABLE EN LAS VÍAS A CARGO DE LA DIRECCION TERRITORIAL CUNDINAMARCA DEL INVIAS, DEPARTAMENTO DE CUNDINAMARCA
B18: CARRETERA: | J18: SECTOR:
B20: CONTRATISTA:
B22: INTERVENTOR: | K22: CTO No.: | M22: DE
B24: FECHA CIERRE PROCESO DE SELECCIÓN CONTRATO DE OBRA:
F25: (Día) | I25: (Mes) | J25: (Año)
B27: DATOS ESPECÍFICOS
B29: ITEM | C29: DESCRIPCIÓN | K29: GRUPO DE AJUSTE | L29: UNIDAD | N29: CANTIDAD
B30: ITEM | C30: DESCRIPCIÓN | L30: UNIDAD | N30: CANTIDAD
A31: Unidad | B31: 311.1 | C31: AFIRMADO | L31: m3
B33: I. EQUIPO
B35: DESCRIPCIÓN | I35: TIPO | K35: TARIFA/HORA | L35: RENDIMIENTO | N35: Vr. UNITARIO
A36: C0010150 | B36: =VLOOKUP(A36,[65]EQUIPOS!A6:D154,3,FALSE) -> Carrotanque de agua(1000 Galones) | K36: =VLOOKUP(A36,[65]EQUIPOS!A6:D163,4,FALSE) -> 62653.433 | M36: 45 | N36: =K36/M36 -> 1392.2985
A37: C0010610 | B37: =VLOOKUP(A37,[65]EQUIPOS!A7:D154,3,FALSE) -> Motoniveladora potencia 215 HP, ancho de cuchilla 4,27 m, peso 18 ton. | K37: =VLOOKUP(A37,[65]EQUIPOS!A7:D164,4,FALSE) -> 172833.33 | M37: 45 | N37: =K37/M37 -> 3840.7407
A38: C0010923 | B38: =VLOOKUP(A38,[65]EQUIPOS!A8:D154,3,FALSE) -> Vibrocompatador, potencia 153 HP, peso 10 Ton. | K38: =VLOOKUP(A38,[65]EQUIPOS!A8:D165,4,FALSE) -> 91333.333 | M38: 45 | N38: =K38/M38 -> 2029.6296
B41: HERRAMIENTA MENOR (%) | M41: 0.02 | N41: =N75*M41 -> 10.109455
B43: SUBTOTAL $ | N43: =SUM(N36:N42) -> 7272.7783
B45: II. MATERIALES
B47: DESCRIPCIÓN | J47: UNIDAD | K47: CANTIDAD | L47: PRECIO UNIT. | N47: Vr. UNITARIO
A48: B0063200 | B48: =VLOOKUP(A48,[65]MATERIALES!A5:D373,3,FALSE) -> Agua | J48: =VLOOKUP(A48,[65]MATERIALES!A4:D373,2,FALSE) -> lt | K48: 25 | M48: =VLOOKUP(A48,[65]MATERIALES!A5:D396,4,FALSE) -> 50.937843 | N48: =K48*M48 -> 1273.4461
A49: B0014281 | B49: =VLOOKUP(A49,[65]MATERIALES!A6:D373,3,FALSE) -> Material de afirmado de la Zona | J49: =VLOOKUP(A49,[65]MATERIALES!A5:D373,2,FALSE) -> m3 | K49: 1.25 | M49: =VLOOKUP(A49,[65]MATERIALES!A6:D397,4,FALSE) -> 23771.8 | N49: =K49*M49 -> 29714.75
B53: SUBTOTAL $ | N53: =SUM(N48:N52) -> 30988.196
B55: III. TRANSPORTES
B57: MATERIAL | H57: UNIDAD | I57: CANTIDAD (1) | J57: DISTANCIA (2) | K57: (1) * (2) | L57: TARIFA | N57: Vr. UNITARIO
A58: T0010089 | B58: =VLOOKUP(A58,[65]TRANSPORTE!A5:D117,3,FALSE) -> Transporte de Material de Afirmado de la Zona | H58: m3km | I58: 1.25 | J58: 50 | K58: =I58*J58 -> 62.5 | L58: =VLOOKUP(A58,[65]TRANSPORTE!A5:D117,4,FALSE) -> 881.02273 | N58: =K58*L58 -> 55063.92
B64: SUBTOTAL $ | N64: =N58+N59+N60+N61+N62 -> 55063.92
B66: IV. MANO DE OBRA
B68: TRABAJADOR | I68: JORNAL | J68: PRESTACIONES (%) | K68: JORNAL TOTAL | L68: RENDIMIENTO | N68: Vr. UNITARIO
A69: A0040010 | B69: =VLOOKUP(A69,'[65]MANO DE OBRA'!A8:D68,3,FALSE) -> Oficial | I69: =K69/J69*100 -> 49181.133 | J69: 185 | K69: =VLOOKUP(A69,'[65]MANO DE OBRA'!A8:D99,4,FALSE) -> 90985.097 | M69: 360 | N69: =K69/M69 -> 252.73638
...

Sheet 320.1
K1: CÓDIGO | L1: MINFRA-MN-IN-10-FR-1
C2: INSTITUTO NACIONAL DE VIAS
C3: PROCESO GESTIÓN DE LA INFRAESTRUCTURA VIAL | K3: VERSIÓN | L3: 1
C4: MANUAL DE INTERVENTORÍA OBRA PÚBLICA
C5: ANÁLISIS DE PRECIOS UNITARIOS | K5: PÁGINA | M5: DE
K8: FECHA
L9: (Día) | M9: (Mes) | N9: (Año)
B10: ITEMS DE LA PROPUESTA ECONÓMICA | F10: □ | I10: ITEMS NO PREVISTOS | K10: □
B11: UNIDAD EJECUTORA: | J11: DIRECCIÓN TERRITORIAL:
B14: CONTRATO No. | D14: DE
B15: OBJETO DEL CONTRATO:
C16: =+'PRESUPUESTO OBRA'!A5 -> ATENCION OBRAS DE EMERGENCIA POR EL SISTEMA DE MONTO AGOTABLE EN LAS VÍAS A CARGO DE LA DIRECCION TERRITORIAL CUNDINAMARCA DEL INVIAS, DEPARTAMENTO DE CUNDINAMARCA
B18: CARRETERA: | J18: SECTOR:
B20: CONTRATISTA:
B22: INTERVENTOR: | K22: CTO No.: | M22: DE
B24: FECHA CIERRE PROCESO DE SELECCIÓN CONTRATO DE OBRA:
F25: (Día) | I25: (Mes) | J25: (Año)
B27: DATOS ESPECÍFICOS
B29: ITEM | C29: DESCRIPCIÓN | K29: GRUPO DE AJUSTE | L29: UNIDAD | N29: CANTIDAD
B30: ITEM | C30: DESCRIPCIÓN | L30: UNIDAD | N30: CANTIDAD
A31: Unidad | B31: 320.1 | C31: SUB-BASE GRANULAR CLASE A | L31: m3
B33: I. EQUIPO
B35: DESCRIPCIÓN | I35: TIPO | K35: TARIFA/HORA | L35: RENDIMIENTO | N35: Vr. UNITARIO
A36: C0010150 | B36: =VLOOKUP(A36,[65]EQUIPOS!A6:D154,3,FALSE) -> Carrotanque de agua(1000 Galones) | K36: =VLOOKUP(A36,[65]EQUIPOS!A6:D163,4,FALSE) -> 62653.433 | M36: 45 | N36: =K36/M36 -> 1392.2985
A37: C0010610 | B37: =VLOOKUP(A37,[65]EQUIPOS!A7:D154,3,FALSE) -> Motoniveladora potencia 215 HP, ancho de cuchilla 4,27 m, peso 18 ton. | K37: =VLOOKUP(A37,[65]EQUIPOS!A7:D164,4,FALSE) -> 172833.33 | M37: 45 | N37: =K37/M37 -> 3840.7407
A38: C0010923 | B38: =VLOOKUP(A38,[65]EQUIPOS!A8:D154,3,FALSE) -> Vibrocompatador, potencia 153 HP, peso 10 Ton. | K38: =VLOOKUP(A38,[65]EQUIPOS!A8:D165,4,FALSE) -> 91333.333 | M38: 45 | N38: =K38/M38 -> 2029.6296
B41: HERRAMIENTA MENOR (%) | M41: 0.01 | N41: =N76*M41 -> 5.0547276
B43: SUBTOTAL $ | N43: =SUM(N36:N42) -> 7267.7236
B45: II. MATERIALES
B47: DESCRIPCIÓN | J47: UNIDAD | K47: CANTIDAD | L47: PRECIO UNIT. | N47: Vr. UNITARIO
A48: B0014340 | B48: =VLOOKUP(A48,[65]MATERIALES!A4:D373,3,FALSE) -> Material de Sub- Base CBR=20% | J48: =VLOOKUP(A48,[65]MATERIALES!A4:D373,2,FALSE) -> m3 | K48: 1.3 | M48: =VLOOKUP(A48,[65]MATERIALES!A4:D395,4,FALSE) -> 48910.701 | N48: =K48*M48 -> 63583.912
A49: B0063200 | B49: =VLOOKUP(A49,[65]MATERIALES!A5:D373,3,FALSE) -> Agua | J49: =VLOOKUP(A49,[65]MATERIALES!A5:D373,2,FALSE) -> lt | K49: 24 | M49: =VLOOKUP(A49,[65]MATERIALES!A5:D396,4,FALSE) -> 50.937843 | N49: =K49*M49 -> 1222.5082
B54: SUBTOTAL $ | N54: =SUM(N48:N53) -> 64806.42
B56: III. TRANSPORTES
B58: MATERIAL | H58: UNIDAD | I58: CANTIDAD (1) | J58: DISTANCIA (2) | K58: (1) * (2) | L58: TARIFA | N58: Vr. UNITARIO
A59: T0010030 | B59: =VLOOKUP(A59,[65]TRANSPORTE!A5:D104,3,FALSE) -> Transporte de material de subbase | H59: m3k | I59: 1.3 | J59: 70 | K59: =I59*J59 -> 91 | L59: =VLOOKUP(A59,[65]TRANSPORTE!A5:D123,4,FALSE) -> 881.02273 | N59: =K59*L59 -> 80173.068
B65: SUBTOTAL $ | N65: =N59+N60+N61+N62+N63 -> 80173.068
B67: IV. MANO DE OBRA
B69: TRABAJADOR | I69: JORNAL | J69: PRESTACIONES (%) | K69: JORNAL TOTAL | L69: RENDIMIENTO | N69: Vr. UNITARIO
A70: A0040010 | B70: =VLOOKUP(A70,'[65]MANO DE OBRA'!A8:D68,3,FALSE) -> Oficial | I70: =K70/J70*100 -> 49181.133 | J70: 185 | K70: =VLOOKUP(A70,'[65]MANO DE OBRA'!A8:D99,4,FALSE) -> 90985.097 | M70: 360 | N70: =K70/M70 -> 252.73638
...

Sheet 330.1
K1: CÓDIGO | L1: MINFRA-MN-IN-10-FR-1
C2: INSTITUTO NACIONAL DE VIAS
C3: PROCESO GESTIÓN DE LA INFRAESTRUCTURA VIAL | K3: VERSIÓN | L3: 1
C4: MANUAL DE INTERVENTORÍA OBRA PÚBLICA
C5: ANÁLISIS DE PRECIOS UNITARIOS | K5: PÁGINA | M5: DE
K8: FECHA
L9: (Día) | M9: (Mes) | N9: (Año)
B10: ITEMS DE LA PROPUESTA ECONÓMICA | F10: □ | I10: ITEMS NO PREVISTOS | K10: □
B11: UNIDAD EJECUTORA: | J11: DIRECCIÓN TERRITORIAL:
B14: CONTRATO No. | D14: DE
B15: OBJETO DEL CONTRATO:
C16: =+'PRESUPUESTO OBRA'!A5 -> ATENCION OBRAS DE EMERGENCIA POR EL SISTEMA DE MONTO AGOTABLE EN LAS VÍAS A CARGO DE LA DIRECCION TERRITORIAL CUNDINAMARCA DEL INVIAS, DEPARTAMENTO DE CUNDINAMARCA
B18: CARRETERA: | J18: SECTOR:
B20: CONTRATISTA:
B22: INTERVENTOR: | K22: CTO No.: | M22: DE
B24: FECHA CIERRE PROCESO DE SELECCIÓN CONTRATO DE OBRA:
F25: (Día) | I25: (Mes) | J25: (Año)
B27: DATOS ESPECÍFICOS
B29: ITEM | C29: DESCRIPCIÓN | K29: GRUPO DE AJUSTE | L29: UNIDAD | N29: CANTIDAD
B30: ITEM | C30: DESCRIPCIÓN | L30: UNIDAD | N30: CANTIDAD
A31: Unidad | B31: 330.1 | C31: BASE GRANULAR CLASE A | L31: m3
B33: I. EQUIPO
B35: DESCRIPCIÓN | I35: TIPO | K35: TARIFA/HORA | L35: RENDIMIENTO | N35: Vr. UNITARIO
A36: C0010150 | B36: =VLOOKUP(A36,[65]EQUIPOS!A6:D154,3,FALSE) -> Carrotanque de agua(1000 Galones) | K36: =VLOOKUP(A36,[65]EQUIPOS!A6:D163,4,FALSE) -> 62653.433 | M36: 45 | N36: =K36/M36 -> 1392.2985
A37: C0010610 | B37: =VLOOKUP(A37,[65]EQUIPOS!A7:D154,3,FALSE) -> Motoniveladora potencia 215 HP, ancho de cuchilla 4,27 m, peso 18 ton. | K37: =VLOOKUP(A37,[65]EQUIPOS!A7:D164,4,FALSE) -> 172833.33 | M37: 45 | N37: =K37/M37 -> 3840.7407
A38: C0010923 | B38: =VLOOKUP(A38,[65]EQUIPOS!A8:D154,3,FALSE) -> Vibrocompatador, potencia 153 HP, peso 10 Ton. | K38: =VLOOKUP(A38,[65]EQUIPOS!A8:D165,4,FALSE) -> 91333.333 | M38: 45 | N38: =K38/M38 -> 2029.6296
B41: HERRAMIENTA MENOR (%) | M41: 0.01 | N41: =N76*M41 -> 5.0547276
B43: SUBTOTAL $ | N43: =SUM(N36:N42) -> 7267.7236
B45: II. MATERIALES
B47: DESCRIPCIÓN | J47: UNIDAD | K47: CANTIDAD | L47: PRECIO UNIT. | N47: Vr. UNITARIO
A48: B0014300 | B48: =VLOOKUP(A48,[65]MATERIALES!A4:D373,3,FALSE) -> Material de base (gradación 1) | J48: =VLOOKUP(A48,[65]MATERIALES!A4:D373,2,FALSE) -> m3 | K48: 1.3 | M48: =VLOOKUP(A48,[65]MATERIALES!A4:D395,4,FALSE) -> 64407.168 | N48: =K48*M48 -> 83729.319
A49: B0063200 | B49: =VLOOKUP(A49,[65]MATERIALES!A5:D373,3,FALSE) -> Agua | J49: =VLOOKUP(A49,[65]MATERIALES!A5:D373,2,FALSE) -> lt | K49: 24 | M49: =VLOOKUP(A49,[65]MATERIALES!A5:D396,4,FALSE) -> 50.937843 | N49: =K49*M49 -> 1222.5082
B54: SUBTOTAL $ | N54: =SUM(N48:N53) -> 84951.827
B56: III. TRANSPORTES
B58: MATERIAL | H58: UNIDAD | I58: CANTIDAD (1) | J58: DISTANCIA (2) | K58: (1) * (2) | L58: TARIFA | N58: Vr. UNITARIO
A59: T0010030 | B59: =VLOOKUP(A59,[65]TRANSPORTE!A5:D104,3,FALSE) -> Transporte de material de subbase | H59: m3k | I59: 1.3 | J59: 70 | K59: =I59*J59 -> 91 | L59: =VLOOKUP(A59,[65]TRANSPORTE!A5:D123,4,FALSE) -> 881.02273 | N59: =K59*L59 -> 80173.068
B65: SUBTOTAL $ | N65: =N59+N60+N61+N62+N63 -> 80173.068
B67: IV. MANO DE OBRA
B69: TRABAJADOR | I69: JORNAL | J69: PRESTACIONES (%) | K69: JORNAL TOTAL | L69: RENDIMIENTO | N69: Vr. UNITARIO
A70: A0040010 | B70: =VLOOKUP(A70,'[65]MANO DE OBRA'!A8:D68,3,FALSE) -> Oficial | I70: =K70/J70*100 -> 49181.133 | J70: 185 | K70: =VLOOKUP(A70,'[65]MANO DE OBRA'!A8:D99,4,FALSE) -> 90985.097 | M70: 360 | N70: =K70/M70 -> 252.73638
...

Sheet 600.2.1
K1: CÓDIGO | L1: MINFRA-MN-IN-10-FR-1
C2: INSTITUTO NACIONAL DE VIAS
C3: PROCESO GESTIÓN DE LA INFRAESTRUCTURA VIAL | K3: VERSIÓN | L3: 1
C4: MANUAL DE INTERVENTORÍA OBRA PÚBLICA
C5: ANÁLISIS DE PRECIOS UNITARIOS | K5: PÁGINA | M5: DE
K8: FECHA
L9: (Día) | M9: (Mes) | N9: (Año)
B10: ITEMS DE LA PROPUESTA ECONÓMICA | F10: □ | I10: ITEMS NO PREVISTOS | K10: □
B11: UNIDAD EJECUTORA: | J11: DIRECCIÓN TERRITORIAL:
B14: CONTRATO No. | D14: DE
B15: OBJETO DEL CONTRATO:
C16: =+'PRESUPUESTO OBRA'!A5 -> ATENCION OBRAS DE EMERGENCIA POR EL SISTEMA DE MONTO AGOTABLE EN LAS VÍAS A CARGO DE LA DIRECCION TERRITORIAL CUNDINAMARCA DEL INVIAS, DEPARTAMENTO DE CUNDINAMARCA
B18: CARRETERA: | J18: SECTOR:
B20: CONTRATISTA:
B22: INTERVENTOR: | K22: CTO No.: | M22: DE
B24: FECHA CIERRE PROCESO DE SELECCIÓN CONTRATO DE OBRA:
F25: (Día) | I25: (Mes) | J25: (Año)
B27: DATOS ESPECÍFICOS
B29: ITEM | C29: DESCRIPCIÓN | K29: GRUPO DE AJUSTE | L29: UNIDAD | N29: CANTIDAD
B30: ITEM | C30: DESCRIPCIÓN | L30: UNIDAD | N30: CANTIDAD
A31: Unidad | B31: 600.2.1 | C31: Excavaciones Varias en Roca en Seco. | L31: m3
B33: I. EQUIPO
B35: DESCRIPCIÓN | I35: TIPO | K35: TARIFA/HORA | L35: RENDIMIENTO | N35: Vr. UNITARIO
A36: C0010270 | B36: =VLOOKUP(A36,[65]EQUIPOS!A6:D154,3,FALSE) -> Compresor 120 HP, con martillo. | K36: =VLOOKUP(A36,[65]EQUIPOS!A6:D163,4,FALSE) -> 75944.243 | M36: 2.5 | N36: =K36/M36 -> 30377.697
A37: C0010052 | B37: =VLOOKUP(A37,[65]EQUIPOS!A7:D154,3,FALSE) -> Buldozer, Potencia al volante de 140 HP, motor de 2200 RPM, longitud de hoja 4,80m. | K37: =VLOOKUP(A37,[65]EQUIPOS!A7:D164,4,FALSE) -> 141426.11 | M37: 100 | N37: =K37/M37 -> 1414.2611
A38: C0010790 | B38: =VLOOKUP(A38,[65]EQUIPOS!A8:D154,3,FALSE) -> Retroexcavadora sobre oruga, potencia 138 HP, balde de 1,5 m3. | K38: =VLOOKUP(A38,[65]EQUIPOS!A8:D165,4,FALSE) -> 184343.65 | M38: 16 | N38: =K38/M38 -> 11521.478
B40: HERRAMIENTA MENOR (%) | M40: 0.01 | N40: =N76*M40 -> 21.324632
B42: SUBTOTAL $ | N42: =SUM(N36:N41) -> 43334.761
B44: II. MATERIALES
B46: DESCRIPCIÓN | J46: UNIDAD | K46: CANTIDAD | L46: PRECIO UNIT. | N46: Vr. UNITARIO
A47: B0013270 | B47: =VLOOKUP(A47,[65]MATERIALES!A5:D373,3,FALSE) -> Anfo | J47: =VLOOKUP(A47,[65]MATERIALES!A3:D639,2,FALSE) -> kg | K47: 0.3 | M47: =VLOOKUP(A47,[65]MATERIALES!A5:D396,4,FALSE) -> 4345.12 | N47: =K47*M47 -> 1303.536
A48: B0013730 | B48: =VLOOKUP(A48,[65]MATERIALES!A6:D373,3,FALSE) -> Cordón detonante | J48: =VLOOKUP(A48,[65]MATERIALES!A4:D640,2,FALSE) -> m | K48: 3 | M48: =VLOOKUP(A48,[65]MATERIALES!A6:D397,4,FALSE) -> 1362.25 | N48: =K48*M48 -> 4086.75
A49: B0013980 | B49: =VLOOKUP(A49,[65]MATERIALES!A6:D373,3,FALSE) -> Explosivos 75% (INDUGEL) | J49: =VLOOKUP(A49,[65]MATERIALES!A5:D641,2,FALSE) -> lb | K49: 0.25 | M49: =VLOOKUP(A49,[65]MATERIALES!A6:D398,4,FALSE) -> 6975.0233 | N49: =K49*M49 -> 1743.7558
A50: B0014040 | B50: =VLOOKUP(A50,[65]MATERIALES!A6:D373,3,FALSE) -> Fulminantes | J50: =VLOOKUP(A50,[65]MATERIALES!A6:D642,2,FALSE) -> u | K50: 1 | M50: =VLOOKUP(A50,[65]MATERIALES!A6:D399,4,FALSE) -> 767.61667 | N50: =K50*M50 -> 767.61667
A51: B0014420 | B51: =VLOOKUP(A51,[65]MATERIALES!A7:D373,3,FALSE) -> Mecha Lenta | J51: =VLOOKUP(A51,[65]MATERIALES!A6:D643,2,FALSE) -> m | K51: 1 | M51: =VLOOKUP(A51,[65]MATERIALES!A7:D400,4,FALSE) -> 678.56 | N51: =K51*M51 -> 678.56
A52: B015012 | B52: =VLOOKUP(A52,[65]MATERIALES!A8:D373,3,FALSE) -> Escolta y transporte (una tarifa por cada m3 escoltado y transportado) | J52: =VLOOKUP(A52,[65]MATERIALES!A6:D644,2,FALSE) -> kg | K52: 0.458 | M52: =VLOOKUP(A52,[65]MATERIALES!A8:D401,4,FALSE) -> 4890 | N52: =K52*M52 -> 2239.62
A53: B0013790 | B53: =VLOOKUP(A53,[65]MATERIALES!A9:D373,3,FALSE) -> Derechos de explotación y/o disposición de materiales | J53: =VLOOKUP(A53,[65]MATERIALES!A7:D645,2,FALSE) -> m3 | K53: 1.3 | M53: =VLOOKUP(A53,[65]MATERIALES!A9:D402,4,FALSE) -> 2825.0267 | N53: =K53*M53 -> 3672.5347
B54: SUBTOTAL $ | N54: =SUM(N47:N53) -> 14492.373
B56: III. TRANSPORTES
B58: MATERIAL | H58: UNIDAD | I58: CANTIDAD (1) | J58: DISTANCIA (2) | K58: (1) * (2) | L58: TARIFA | N58: Vr. UNITARIO
...

Sheet 600.2.2
K1: CÓDIGO | L1: MINFRA-MN-IN-10-FR-1
C2: INSTITUTO NACIONAL DE VIAS
C3: PROCESO GESTIÓN DE LA INFRAESTRUCTURA VIAL | K3: VERSIÓN | L3: 1
C4: MANUAL DE INTERVENTORÍA OBRA PÚBLICA
C5: ANÁLISIS DE PRECIOS UNITARIOS | K5: PÁGINA | M5: DE
K8: FECHA
L9: (Día) | M9: (Mes) | N9: (Año)
B10: ITEMS DE LA PROPUESTA ECONÓMICA | F10: □ | I10: ITEMS NO PREVISTOS | K10: □
B11: UNIDAD EJECUTORA: | J11: DIRECCIÓN TERRITORIAL:
B14: CONTRATO No. | D14: DE
B15: OBJETO DEL CONTRATO:
C16: =+'PRESUPUESTO OBRA'!A5 -> ATENCION OBRAS DE EMERGENCIA POR EL SISTEMA DE MONTO AGOTABLE EN LAS VÍAS A CARGO DE LA DIRECCION TERRITORIAL CUNDINAMARCA DEL INVIAS, DEPARTAMENTO DE CUNDINAMARCA
B18: CARRETERA: | J18: SECTOR:
B20: CONTRATISTA:
B22: INTERVENTOR: | K22: CTO No.: | M22: DE
B24: FECHA CIERRE PROCESO DE SELECCIÓN CONTRATO DE OBRA:
F25: (Día) | I25: (Mes) | J25: (Año)
B27: DATOS ESPECÍFICOS
B29: ITEM | C29: DESCRIPCIÓN | K29: GRUPO DE AJUSTE | L29: UNIDAD | N29: CANTIDAD
B30: ITEM | C30: DESCRIPCIÓN | L30: UNIDAD | N30: CANTIDAD
A31: Unidad | B31: 600.2.2 | C31: Excavaciones Varias en Roca Bajo Agua. | L31: m3
B33: I. EQUIPO
B35: DESCRIPCIÓN | I35: TIPO | K35: TARIFA/HORA | L35: RENDIMIENTO | N35: Vr. UNITARIO
A36: C0010270 | B36: =VLOOKUP(A36,[65]EQUIPOS!A6:D154,3,FALSE) -> Compresor 120 HP, con martillo. | K36: =VLOOKUP(A36,[65]EQUIPOS!A6:D163,4,FALSE) -> 75944.243 | M36: 2.5 | N36: =K36/M36 -> 30377.697
A37: C0010052 | B37: =VLOOKUP(A37,[65]EQUIPOS!A7:D154,3,FALSE) -> Buldozer, Potencia al volante de 140 HP, motor de 2200 RPM, longitud de hoja 4,80m. | K37: =VLOOKUP(A37,[65]EQUIPOS!A7:D164,4,FALSE) -> 141426.11 | M37: 100 | N37: =K37/M37 -> 1414.2611
A38: C0010570 | B38: =VLOOKUP(A38,[65]EQUIPOS!A8:D154,3,FALSE) -> Motobomba 3 PULGADAS (incluye operario) | K38: =VLOOKUP(A38,[65]EQUIPOS!A8:D165,4,FALSE) -> 7382.5 | M38: 8 | N38: =K38/M38 -> 922.8125
A39: C0010790 | B39: =VLOOKUP(A39,[65]EQUIPOS!A9:D154,3,FALSE) -> Retroexcavadora sobre oruga, potencia 138 HP, balde de 1,5 m3. | K39: =VLOOKUP(A39,[65]EQUIPOS!A9:D166,4,FALSE) -> 184343.65 | M39: 8 | N39: =K39/M39 -> 23042.957
B41: HERRAMIENTA MENOR (%) | M41: 0.01 | N41: =N78*M41 -> 181.97019
B43: SUBTOTAL $ | N43: =SUM(N36:N42) -> 55939.698
B45: II. MATERIALES
B47: DESCRIPCIÓN | J47: UNIDAD | K47: CANTIDAD | L47: PRECIO UNIT. | N47: Vr. UNITARIO
A48: B0013270 | B48: =VLOOKUP(A48,[65]MATERIALES!A5:D373,3,FALSE) -> Anfo | J48: =VLOOKUP(A48,[65]MATERIALES!A4:D640,2,FALSE) -> kg | K48: 0.3 | M48: =VLOOKUP(A48,[65]MATERIALES!A5:D396,4,FALSE) -> 4345.12 | N48: =K48*M48 -> 1303.536
A49: B0013730 | B49: =VLOOKUP(A49,[65]MATERIALES!A6:D373,3,FALSE) -> Cordón detonante | J49: =VLOOKUP(A49,[65]MATERIALES!A5:D641,2,FALSE) -> m | K49: 3 | M49: =VLOOKUP(A49,[65]MATERIALES!A6:D397,4,FALSE) -> 1362.25 | N49: =K49*M49 -> 4086.75
A50: B0013980 | B50: =VLOOKUP(A50,[65]MATERIALES!A6:D373,3,FALSE) -> Explosivos 75% (INDUGEL) | J50: =VLOOKUP(A50,[65]MATERIALES!A6:D642,2,FALSE) -> lb | K50: 0.25 | M50: =VLOOKUP(A50,[65]MATERIALES!A6:D398,4,FALSE) -> 6975.0233 | N50: =K50*M50 -> 1743.7558
A51: B0014040 | B51: =VLOOKUP(A51,[65]MATERIALES!A6:D373,3,FALSE) -> Fulminantes | J51: =VLOOKUP(A51,[65]MATERIALES!A6:D643,2,FALSE) -> u | K51: 1 | M51: =VLOOKUP(A51,[65]MATERIALES!A6:D399,4,FALSE) -> 767.61667 | N51: =K51*M51 -> 767.61667
A52: B0014420 | B52: =VLOOKUP(A52,[65]MATERIALES!A7:D373,3,FALSE) -> Mecha Lenta | J52: =VLOOKUP(A52,[65]MATERIALES!A6:D644,2,FALSE) -> m | K52: 1 | M52: =VLOOKUP(A52,[65]MATERIALES!A7:D400,4,FALSE) -> 678.56 | N52: =K52*M52 -> 678.56
A53: B015012 | B53: =VLOOKUP(A53,[65]MATERIALES!A7:D373,3,FALSE) -> Escolta y transporte (una tarifa por cada m3 escoltado y transportado) | J53: =VLOOKUP(A53,[65]MATERIALES!A6:D644,2,FALSE) -> kg | K53: 0.458 | M53: =VLOOKUP(A53,[65]MATERIALES!A7:D400,4,FALSE) -> 4890 | N53: =K53*M53 -> 2239.62
A54: B0013790 | B54: =VLOOKUP(A54,[65]MATERIALES!A8:D373,3,FALSE) -> Derechos de explotación y/o disposición de materiales | J54: =VLOOKUP(A54,[65]MATERIALES!A7:D645,2,FALSE) -> m3 | K54: 1.3 | M54: =VLOOKUP(A54,[65]MATERIALES!A8:D401,4,FALSE) -> 2825.0267 | N54: =K54*M54 -> 3672.5347
B56: SUBTOTAL $ | N56: =SUM(N48:N55) -> 14492.373
B58: III. TRANSPORTES
...

Sheet 600.2.3
K1: CÓDIGO | L1: MINFRA-MN-IN-10-FR-1
C2: INSTITUTO NACIONAL DE VIAS
C3: PROCESO GESTIÓN DE LA INFRAESTRUCTURA VIAL | K3: VERSIÓN | L3: 1
C4: MANUAL DE INTERVENTORÍA OBRA PÚBLICA
C5: ANÁLISIS DE PRECIOS UNITARIOS | K5: PÁGINA | M5: DE
K8: FECHA
L9: (Día) | M9: (Mes) | N9: (Año)
B10: ITEMS DE LA PROPUESTA ECONÓMICA | F10: □ | I10: ITEMS NO PREVISTOS | K10: □
B11: UNIDAD EJECUTORA: | J11: DIRECCIÓN TERRITORIAL:
B14: CONTRATO No. | D14: DE
B15: OBJETO DEL CONTRATO:
C16: =+'PRESUPUESTO OBRA'!A5 -> ATENCION OBRAS DE EMERGENCIA POR EL SISTEMA DE MONTO AGOTABLE EN LAS VÍAS A CARGO DE LA DIRECCION TERRITORIAL CUNDINAMARCA DEL INVIAS, DEPARTAMENTO DE CUNDINAMARCA
B18: CARRETERA: | J18: SECTOR:
B20: CONTRATISTA:
B22: INTERVENTOR: | K22: CTO No.: | M22: DE
B24: FECHA CIERRE PROCESO DE SELECCIÓN CONTRATO DE OBRA:
F25: (Día) | I25: (Mes) | J25: (Año)
B27: DATOS ESPECÍFICOS
B29: ITEM | C29: DESCRIPCIÓN | K29: GRUPO DE AJUSTE | L29: UNIDAD | N29: CANTIDAD
B30: ITEM | C30: DESCRIPCIÓN | L30: UNIDAD | N30: CANTIDAD
A31: Unidad | B31: 600.2.3 | C31: Excavaciones Varias en Material Comun en Seco | L31: m3
B33: I. EQUIPO
B35: DESCRIPCIÓN | I35: TIPO | K35: TARIFA/HORA | L35: RENDIMIENTO | N35: Vr. UNITARIO
A36: C0010052 | B36: =VLOOKUP(A36,[65]EQUIPOS!A6:D154,3,FALSE) -> Buldozer, Potencia al volante de 140 HP, motor de 2200 RPM, longitud de hoja 4,80m. | K36: =VLOOKUP(A36,[65]EQUIPOS!A6:D163,4,FALSE) -> 141426.11 | M36: 100 | N36: =K36/M36 -> 1414.2611
A37: C0010790 | B37: =VLOOKUP(A37,[65]EQUIPOS!A7:D154,3,FALSE) -> Retroexcavadora sobre oruga, potencia 138 HP, balde de 1,5 m3. | K37: =VLOOKUP(A37,[65]EQUIPOS!A7:D164,4,FALSE) -> 184343.65 | M37: 35 | N37: =K37/M37 -> 5266.9615
B41: HERRAMIENTA MENOR (%) | M41: 0.01 | N41: =N77*M41 -> 6.4989355
B43: SUBTOTAL $ | N43: =SUM(N36:N42) -> 6687.7216
B45: II. MATERIALES
B47: DESCRIPCIÓN | J47: UNIDAD | K47: CANTIDAD | L47: PRECIO UNIT. | N47: Vr. UNITARIO
A48: B0013790 | B48: =VLOOKUP(A48,[65]MATERIALES!A5:D373,3,FALSE) -> Derechos de explotación y/o disposición de materiales | J48: =VLOOKUP(A48,[65]MATERIALES!A4:D640,2,FALSE) -> m3 | K48: 1.3 | M48: =VLOOKUP(A48,[65]MATERIALES!A5:D396,4,FALSE) -> 2825.0267 | N48: =K48*M48 -> 3672.5347
N54: =K54*M54 -> 0
B55: SUBTOTAL $ | N55: =SUM(N48:N54) -> 3672.5347
B57: III. TRANSPORTES
B59: MATERIAL | H59: UNIDAD | I59: CANTIDAD (1) | J59: DISTANCIA (2) | K59: (1) * (2) | L59: TARIFA | N59: Vr. UNITARIO
A60: T0010025 | B60: =VLOOKUP(A60,[65]TRANSPORTE!A5:D117,3,FALSE) -> Transporte de material de excavación | H60: m3km | I60: 1.3 | J60: 10 | K60: =I60*J60 -> 13 | L60: =VLOOKUP(A60,[65]TRANSPORTE!A5:D117,4,FALSE) -> 881.02273 | N60: =K60*L60 -> 11453.295
B66: SUBTOTAL $ | N66: =N60+N61+N62+N63+N64 -> 11453.295
B68: IV. MANO DE OBRA
B70: TRABAJADOR | I70: JORNAL | J70: PRESTACIONES (%) | K70: JORNAL TOTAL | L70: RENDIMIENTO | N70: Vr. UNITARIO
A71: A0040010 | B71: =VLOOKUP(A71,'[65]MANO DE OBRA'!A8:D68,3,FALSE) -> Oficial | I71: =K71/J71*100 -> 49181.133 | J71: 185 | K71: =VLOOKUP(A71,'[65]MANO DE OBRA'!A8:D99,4,FALSE) -> 90985.097 | M71: 280 | N71: =K71/M71 -> 324.94677
A72: A0030020 | B72: =VLOOKUP(A72,'[65]MANO DE OBRA'!A8:D69,3,FALSE) -> Obrero (2) | I72: =K72/J72*100 -> 49181.133 | J72: 185 | K72: =VLOOKUP(A72,'[65]MANO DE OBRA'!A8:D100,4,FALSE) -> 90985.097 | M72: 280 | N72: =K72/M72 -> 324.94677
...

Sheet 600.2.4
K1: CÓDIGO | L1: MINFRA-MN-IN-10-FR-1
C2: INSTITUTO NACIONAL DE VIAS
C3: PROCESO GESTIÓN DE LA INFRAESTRUCTURA VIAL | K3: VERSIÓN | L3: 1
C4: MANUAL DE INTERVENTORÍA OBRA PÚBLICA
C5: ANÁLISIS DE PRECIOS UNITARIOS | K5: PÁGINA | M5: DE
K8: FECHA
L9: (Día) | M9: (Mes) | N9: (Año)
B10: ITEMS DE LA PROPUESTA ECONÓMICA | F10: □ | I10: ITEMS NO PREVISTOS | K10: □
B11: UNIDAD EJECUTORA: | J11: DIRECCIÓN TERRITORIAL:
B14: CONTRATO No. | D14: DE
B15: OBJETO DEL CONTRATO:
C16: =+'PRESUPUESTO OBRA'!A5 -> ATENCION OBRAS DE EMERGENCIA POR EL SISTEMA DE MONTO AGOTABLE EN LAS VÍAS A CARGO DE LA DIRECCION TERRITORIAL CUNDINAMARCA DEL INVIAS, DEPARTAMENTO DE CUNDINAMARCA
B18: CARRETERA: | J18: SECTOR:
B20: CONTRATISTA:
B22: INTERVENTOR: | K22: CTO No.: | M22: DE
B24: FECHA CIERRE PROCESO DE SELECCIÓN CONTRATO DE OBRA:
F25: (Día) | I25: (Mes) | J25: (Año)
B27: DATOS ESPECÍFICOS
B29: ITEM | C29: DESCRIPCIÓN | K29: GRUPO DE AJUSTE | L29: UNIDAD | N29: CANTIDAD
A30: Unidad | B30: 600.2.4 | C30: Excavaciones Varias en Material Común Bajo Agua. | L30: m3
B32: I. EQUIPO
B34: DESCRIPCIÓN | I34: TIPO | K34: TARIFA/HORA | L34: RENDIMIENTO | N34: Vr. UNITARIO
A35: C0010580 | B35: =VLOOKUP(A35,[65]EQUIPOS!A6:D154,3,FALSE) -> Motobomba 4 pulgadas | K35: =VLOOKUP(A35,[65]EQUIPOS!A6:D163,4,FALSE) -> 9044.66 | M35: 21 | N35: =K35/M35 -> 430.6981
A36: C0010052 | B36: =VLOOKUP(A36,[65]EQUIPOS!A7:D154,3,FALSE) -> Buldozer, Potencia al volante de 140 HP, motor de 2200 RPM, longitud de hoja 4,80m. | K36: =VLOOKUP(A36,[65]EQUIPOS!A7:D164,4,FALSE) -> 141426.11 | M36: 100 | N36: =K36/M36 -> 1414.2611
A37: C0010790 | B37: =VLOOKUP(A37,[65]EQUIPOS!A8:D154,3,FALSE) -> Retroexcavadora sobre oruga, potencia 138 HP, balde de 1,5 m3. | K37: =VLOOKUP(A37,[65]EQUIPOS!A8:D165,4,FALSE) -> 184343.65 | M37: 21 | N37: =K37/M37 -> 8778.2692
B40: HERRAMIENTA MENOR (%) | M40: 0.01 | N40: =N76*M40 -> 10.831559
B42: SUBTOTAL $ | N42: =SUM(N35:N41) -> 10634.06
B44: II. MATERIALES
B46: DESCRIPCIÓN | J46: UNIDAD | K46: CANTIDAD | L46: PRECIO UNIT. | N46: Vr. UNITARIO
A47: B0013790 | B47: =VLOOKUP(A47,[65]MATERIALES!A5:D373,3,FALSE) -> Derechos de explotación y/o disposición de materiales | J47: =VLOOKUP(A47,[65]MATERIALES!A4:D640,2,FALSE) -> m3 | K47: 1.3 | M47: =VLOOKUP(A47,[65]MATERIALES!A5:D396,4,FALSE) -> 2825.0267 | N47: =K47*M47 -> 3672.5347
B54: SUBTOTAL $ | N54: =SUM(N47:N53) -> 3672.5347
B56: III. TRANSPORTES
B58: MATERIAL | H58: UNIDAD | I58: CANTIDAD (1) | J58: DISTANCIA (2) | K58: (1) * (2) | L58: TARIFA | N58: Vr. UNITARIO
A59: T0010025 | B59: =VLOOKUP(A59,[65]TRANSPORTE!A5:D117,3,FALSE) -> Transporte de material de excavación | H59: m3km | I59: 1.3 | J59: 10 | K59: =I59*J59 -> 13 | L59: =VLOOKUP(A59,[65]TRANSPORTE!A5:D117,4,FALSE) -> 881.02273 | N59: =K59*L59 -> 11453.295
B65: SUBTOTAL $ | N65: =N59+N60+N61+N62+N63 -> 11453.295
B67: IV. MANO DE OBRA
B69: TRABAJADOR | I69: JORNAL | J69: PRESTACIONES (%) | K69: JORNAL TOTAL | L69: RENDIMIENTO | N69: Vr. UNITARIO
A70: A0030020 | B70: =VLOOKUP(A70,'[65]MANO DE OBRA'!A8:D68,3,FALSE) -> Obrero (2) | I70: =K70/J70*100 -> 49181.133 | J70: 185 | K70: =VLOOKUP(A70,'[65]MANO DE OBRA'!A8:D99,4,FALSE) -> 90985.097 | M70: 168 | N70: =K70/M70 -> 541.57796
A71: A0040010 | B71: =VLOOKUP(A71,'[65]MANO DE OBRA'!A8:D69,3,FALSE) -> Oficial | I71: =K71/J71*100 -> 49181.133 | J71: 185 | K71: =VLOOKUP(A71,'[65]MANO DE OBRA'!A8:D100,4,FALSE) -> 90985.097 | M71: 168 | N71: =K71/M71 -> 541.57796
B76: SUBTOTAL $ | N76: =SUM(N70:N75) -> 1083.1559
...

Sheet 610.2
K1: CÓDIGO | L1: MINFRA-MN-IN-10-FR-1
C2: INSTITUTO NACIONAL DE VIAS
C3: PROCESO GESTIÓN DE LA INFRAESTRUCTURA VIAL | K3: VERSIÓN | L3: 1
C4: MANUAL DE INTERVENTORÍA OBRA PÚBLICA
C5: ANÁLISIS DE PRECIOS UNITARIOS | K5: PÁGINA | M5: DE
K8: FECHA
L9: (Día) | M9: (Mes) | N9: (Año)
B10: ITEMS DE LA PROPUESTA ECONÓMICA | F10: □ | I10: ITEMS NO PREVISTOS | K10: □
B11: UNIDAD EJECUTORA: | J11: DIRECCIÓN TERRITORIAL:
B14: CONTRATO No. | D14: DE
B15: OBJETO DEL CONTRATO:
C16: =+'PRESUPUESTO OBRA'!A5 -> ATENCION OBRAS DE EMERGENCIA POR EL SISTEMA DE MONTO AGOTABLE EN LAS VÍAS A CARGO DE LA DIRECCION TERRITORIAL CUNDINAMARCA DEL INVIAS, DEPARTAMENTO DE CUNDINAMARCA
B18: CARRETERA: | J18: SECTOR:
B20: CONTRATISTA:
B22: INTERVENTOR: | K22: CTO No.: | M22: DE
B24: FECHA CIERRE PROCESO DE SELECCIÓN CONTRATO DE OBRA:
F25: (Día) | I25: (Mes) | J25: (Año)
B27: DATOS ESPECÍFICOS
B29: ITEM | C29: DESCRIPCIÓN | K29: GRUPO DE AJUSTE | L29: UNIDAD | N29: CANTIDAD
B30: ITEM | C30: DESCRIPCIÓN | L30: UNIDAD | N30: CANTIDAD
A31: Unidad | B31: 610.2 | C31: Rellenos Para Estructuras con Recebo. | L31: m3
B33: I. EQUIPO
B35: DESCRIPCIÓN | I35: TIPO | K35: TARIFA/HORA | L35: RENDIMIENTO | N35: Vr. UNITARIO
A36: C0010200 | B36: =VLOOKUP(A36,[65]EQUIPOS!A6:D154,3,FALSE) -> Compactador manual (SALTARIN) Peso de operación (Kg.) 52, Fuerza de impacto por golpe (KN) 12. | K36: =VLOOKUP(A36,[65]EQUIPOS!A6:D163,4,FALSE) -> 10181.2 | M36: 2.5 | N36: =K36/M36 -> 4072.48
B41: HERRAMIENTA MENOR (%) | M41: 0.05 | N41: =N77*M41 -> 341.19411
B43: SUBTOTAL $ | N43: =SUM(N36:N42) -> 4413.6741
B45: II. MATERIALES
B47: DESCRIPCIÓN | J47: UNIDAD | K47: CANTIDAD | L47: PRECIO UNIT. | N47: Vr. UNITARIO
A48: B0014373 | B48: =VLOOKUP(A48,[65]MATERIALES!A5:D373,3,FALSE) -> Material de Recebo Para Relleno | J48: =VLOOKUP(A48,[65]MATERIALES!A4:D640,2,FALSE) -> m3 | K48: 1.3 | M48: =VLOOKUP(A48,[65]MATERIALES!A5:D396,4,FALSE) -> 22926.089 | N48: =K48*M48 -> 29803.916
A49: B0063200 | B49: =VLOOKUP(A49,[65]MATERIALES!A6:D373,3,FALSE) -> Agua | J49: =VLOOKUP(A49,[65]MATERIALES!A5:D641,2,FALSE) -> lt | K49: 30 | M49: =VLOOKUP(A49,[65]MATERIALES!A6:D397,4,FALSE) -> 50.937843 | N49: =K49*M49 -> 1528.1353
B55: SUBTOTAL $ | N55: =SUM(N48:N54) -> 31332.051
B57: III. TRANSPORTES
B59: MATERIAL | H59: UNIDAD | I59: CANTIDAD (1) | J59: DISTANCIA (2) | K59: (1) * (2) | L59: TARIFA | N59: Vr. UNITARIO
A60: T0010062 | B60: =VLOOKUP(A60,[65]TRANSPORTE!A5:D117,3,FALSE) -> Transporte de material seleccionado para relleno | H60: m3km | I60: 1.3 | J60: 70 | K60: =I60*J60 -> 91 | L60: =VLOOKUP(A60,[65]TRANSPORTE!A5:D117,4,FALSE) -> 881.02273 | N60: =K60*L60 -> 80173.068
B66: SUBTOTAL $ | N66: =N60+N61+N62+N63+N64 -> 80173.068
B68: IV. MANO DE OBRA
B70: TRABAJADOR | I70: JORNAL | J70: PRESTACIONES (%) | K70: JORNAL TOTAL | L70: RENDIMIENTO | N70: Vr. UNITARIO
A71: A0030030 | B71: =VLOOKUP(A71,'[65]MANO DE OBRA'!A8:D68,3,FALSE) -> Obrero (3) | I71: =K71/J71*100 -> 73771.7 | J71: 185 | K71: =VLOOKUP(A71,'[65]MANO DE OBRA'!A8:D99,4,FALSE) -> 136477.64 | M71: 20 | N71: =K71/M71 -> 6823.8822
B77: SUBTOTAL $ | N77: =SUM(N71:N76) -> 6823.8822
B79: TOTAL COSTO DIRECTO $ | N79: =N43+N55+N66+N77 -> 122742.68
...

Sheet 610.5
K1: CÓDIGO | L1: MINFRA-MN-IN-10-FR-1
C2: INSTITUTO NACIONAL DE VIAS
C3: PROCESO GESTIÓN DE LA INFRAESTRUCTURA VIAL | K3: VERSIÓN | L3: 1
C4: MANUAL DE INTERVENTORÍA OBRA PÚBLICA
C5: ANÁLISIS DE PRECIOS UNITARIOS | K5: PÁGINA | M5: DE
K8: FECHA
L9: (Día) | M9: (Mes) | N9: (Año)
B10: ITEMS DE LA PROPUESTA ECONÓMICA | F10: □ | I10: ITEMS NO PREVISTOS | K10: □
B11: UNIDAD EJECUTORA: | J11: DIRECCIÓN TERRITORIAL:
B14: CONTRATO No. | D14: DE
B15: OBJETO DEL CONTRATO:
C16: =+'PRESUPUESTO OBRA'!A5 -> ATENCION OBRAS DE EMERGENCIA POR EL SISTEMA DE MONTO AGOTABLE EN LAS VÍAS A CARGO DE LA DIRECCION TERRITORIAL CUNDINAMARCA DEL INVIAS, DEPARTAMENTO DE CUNDINAMARCA
B18: CARRETERA: | J18: SECTOR:
B20: CONTRATISTA:
B22: INTERVENTOR: | K22: CTO No.: | M22: DE
B24: FECHA CIERRE PROCESO DE SELECCIÓN CONTRATO DE OBRA:
F25: (Día) | I25: (Mes) | J25: (Año)
B27: DATOS ESPECÍFICOS
B29: ITEM | C29: DESCRIPCIÓN | K29: GRUPO DE AJUSTE | L29: UNIDAD | N29: CANTIDAD
B30: ITEM | C30: DESCRIPCIÓN | L30: UNIDAD | N30: CANTIDAD
A31: Unidad | B31: 610.5 | C31: Rellenos con Material Filtrante | L31: m3
B33: I. EQUIPO
B35: DESCRIPCIÓN | I35: TIPO | K35: TARIFA/HORA | L35: RENDIMIENTO | N35: Vr. UNITARIO
B41: HERRAMIENTA MENOR (%) | M41: 0.05 | N41: =N77*M41 -> 341.19411
B43: SUBTOTAL $ | N43: =SUM(N36:N42) -> 341.19411
B45: II. MATERIALES
B47: DESCRIPCIÓN | J47: UNIDAD | K47: CANTIDAD | L47: PRECIO UNIT. | N47: Vr. UNITARIO
A48: B0014390 | B48: =VLOOKUP(A48,[65]MATERIALES!A5:D373,3,FALSE) -> Material filtrante (6´´) | J48: =VLOOKUP(A48,[65]MATERIALES!A4:D640,2,FALSE) -> m3 | K48: 1.3 | M48: =VLOOKUP(A48,[65]MATERIALES!A5:D396,4,FALSE) -> 50011.663 | N48: =K48*M48 -> 65015.162
B55: SUBTOTAL $ | N55: =SUM(N48:N54) -> 65015.162
B57: III. TRANSPORTES
B59: MATERIAL | H59: UNIDAD | I59: CANTIDAD (1) | J59: DISTANCIA (2) | K59: (1) * (2) | L59: TARIFA | N59: Vr. UNITARIO
A60: T0010062 | B60: =VLOOKUP(A60,[65]TRANSPORTE!A5:D117,3,FALSE) -> Transporte de material seleccionado para relleno | H60: m3km | I60: 1.3 | J60: 70 | K60: =I60*J60 -> 91 | L60: =VLOOKUP(A60,[65]TRANSPORTE!A5:D117,4,FALSE) -> 881.02273 | N60: =K60*L60 -> 80173.068
B66: SUBTOTAL $ | N66: =N60+N61+N62+N63+N64 -> 80173.068
B68: IV. MANO DE OBRA
B70: TRABAJADOR | I70: JORNAL | J70: PRESTACIONES (%) | K70: JORNAL TOTAL | L70: RENDIMIENTO | N70: Vr. UNITARIO
A71: A0030030 | B71: =VLOOKUP(A71,'[65]MANO DE OBRA'!A8:D68,3,FALSE) -> Obrero (3) | I71: =K71/J71*100 -> 73771.7 | J71: 185 | K71: =VLOOKUP(A71,'[65]MANO DE OBRA'!A8:D99,4,FALSE) -> 136477.64 | M71: 20 | N71: =K71/M71 -> 6823.8822
B77: SUBTOTAL $ | N77: =SUM(N71:N76) -> 6823.8822
B79: TOTAL COSTO DIRECTO $ | N79: =N43+N55+N66+N77 -> 152353.31
B81: V. COSTOS INDIRECTOS
B83: Descripción | K83: Porcentaje | L83: Valor Total
...

Sheet 630.4
K1: CÓDIGO | L1: MINFRA-MN-IN-10-FR-1
C2: INSTITUTO NACIONAL DE VIAS
C3: PROCESO GESTIÓN DE LA INFRAESTRUCTURA VIAL | K3: VERSIÓN | L3: 1
C4: MANUAL DE INTERVENTORÍA OBRA PÚBLICA
C5: ANÁLISIS DE PRECIOS UNITARIOS | K5: PÁGINA | M5: DE
K8: FECHA
L9: (Día) | M9: (Mes) | N9: (Año)
B10: ITEMS DE LA PROPUESTA ECONÓMICA | F10: □ | I10: ITEMS NO PREVISTOS | K10: □
B11: UNIDAD EJECUTORA: | J11: DIRECCIÓN TERRITORIAL:
B14: CONTRATO No. | D14: DE
B15: OBJETO DEL CONTRATO:
C16: =+'PRESUPUESTO OBRA'!A5 -> ATENCION OBRAS DE EMERGENCIA POR EL SISTEMA DE MONTO AGOTABLE EN LAS VÍAS A CARGO DE LA DIRECCION TERRITORIAL CUNDINAMARCA DEL INVIAS, DEPARTAMENTO DE CUNDINAMARCA
B18: CARRETERA: | J18: SECTOR:
B20: CONTRATISTA:
B22: INTERVENTOR: | K22: CTO No.: | M22: DE
B24: FECHA CIERRE PROCESO DE SELECCIÓN CONTRATO DE OBRA:
F25: (Día) | I25: (Mes) | J25: (Año)
B27: DATOS ESPECÍFICOS
B29: ITEM | C29: DESCRIPCIÓN | K29: GRUPO DE AJUSTE | L29: UNIDAD | N29: CANTIDAD
B30: ITEM | C30: DESCRIPCIÓN | L30: UNIDAD | N30: CANTIDAD
A31: Unidad | B31: 630.4 | C31: Concreto Resistencia 21MPa (D) | L31: m3
B33: I. EQUIPO
B35: DESCRIPCIÓN | I35: TIPO | K35: TARIFA/HORA | L35: RENDIMIENTO | N35: Vr. UNITARIO
A36: C0010010 | B36: =VLOOKUP(A36,[65]EQUIPOS!A6:D154,3,FALSE) -> Aspersor manual | K36: =VLOOKUP(A36,[65]EQUIPOS!A6:D163,4,FALSE) -> 2553.5393 | M36: 2 | N36: =K36/M36 -> 1276.7696
A37: C0010922 | B37: =VLOOKUP(A37,[65]EQUIPOS!A7:D154,3,FALSE) -> Vibrador de concreto, Motor de 3 hp a 18.000 rpm Mangueras de 4 mt | K37: =VLOOKUP(A37,[65]EQUIPOS!A7:D164,4,FALSE) -> 4930.1736 | M37: 2 | N37: =K37/M37 -> 2465.0868
B41: HERRAMIENTA MENOR (%) | M41: 0.05 | N41: =N77*M41 -> 1137.3137
B43: SUBTOTAL $ | N43: =SUM(N36:N42) -> 4879.1702
B45: II. MATERIALES
B47: DESCRIPCIÓN | J47: UNIDAD | K47: CANTIDAD | L47: PRECIO UNIT. | N47: Vr. UNITARIO
A48: B0123650 | B48: =VLOOKUP(A48,[65]MATERIALES!A5:D373,3,FALSE) -> Concreto Resistencia 21 (Mpa) | J48: =VLOOKUP(A48,[65]MATERIALES!A4:D640,2,FALSE) -> m3 | K48: 1 | M48: =VLOOKUP(A48,[65]MATERIALES!A5:D396,4,FALSE) -> 424641.8 | N48: =K48*M48 -> 424641.8
A49: B0063290 | B49: =VLOOKUP(A49,[65]MATERIALES!A6:D373,3,FALSE) -> Antisol blanco (presentación 20 kg) | J49: =VLOOKUP(A49,[65]MATERIALES!A5:D641,2,FALSE) -> kg | K49: 1 | M49: =VLOOKUP(A49,[65]MATERIALES!A6:D397,4,FALSE) -> 5851.3983 | N49: =K49*M49 -> 5851.3983
A50: B021001 | B50: =VLOOKUP(A50,[65]MATERIALES!A6:D373,3,FALSE) -> Formaleta (gaviones, juntas de bordillos, juntas de cunetas, muros, concretos clase D,E, F y G) | J50: =VLOOKUP(A50,[65]MATERIALES!A6:D642,2,FALSE) -> m2 | K50: 4.6 | M50: =VLOOKUP(A50,[65]MATERIALES!A6:D398,4,FALSE) -> 6095.7368 | N50: =K50*M50 -> 28040.389
B55: SUBTOTAL $ | N55: =SUM(N48:N54) -> 458533.59
B57: III. TRANSPORTES
B59: MATERIAL | H59: UNIDAD | I59: CANTIDAD (1) | J59: DISTANCIA (2) | K59: (1) * (2) | L59: TARIFA | N59: Vr. UNITARIO
A60: T0010009 | B60: =VLOOKUP(A60,[65]TRANSPORTE!A2:D117,3,FALSE) -> Transporte de concreto | H60: m3k | I60: 1 | J60: 70 | K60: =I60*J60 -> 70 | L60: =VLOOKUP(A60,[65]TRANSPORTE!A2:D117,4,FALSE) -> 881.02273 | N60: =K60*L60 -> 61671.591
B66: SUBTOTAL $ | N66: =N60+N61+N62+N63+N64 -> 61671.591
B68: IV. MANO DE OBRA
B70: TRABAJADOR | I70: JORNAL | J70: PRESTACIONES (%) | K70: JORNAL TOTAL | L70: RENDIMIENTO | N70: Vr. UNITARIO
A71: A0030060 | B71: =VLOOKUP(A71,'[65]MANO DE OBRA'!A8:D68,3,FALSE) -> Obrero (6) | I71: =K71/J71*100 -> 147543.4 | J71: 185 | K71: =VLOOKUP(A71,'[65]MANO DE OBRA'!A8:D99,4,FALSE) -> 272955.29 | M71: 16 | N71: =K71/M71 -> 17059.706
...

Sheet 630.5
K1: CÓDIGO | L1: MINFRA-MN-IN-10-FR-1
C2: INSTITUTO NACIONAL DE VIAS
C3: PROCESO GESTIÓN DE LA INFRAESTRUCTURA VIAL | K3: VERSIÓN | L3: 1
C4: MANUAL DE INTERVENTORÍA OBRA PÚBLICA
C5: ANÁLISIS DE PRECIOS UNITARIOS | K5: PÁGINA | M5: DE
K8: FECHA
L9: (Día) | M9: (Mes) | N9: (Año)
B10: ITEMS DE LA PROPUESTA ECONÓMICA | F10: □ | I10: ITEMS NO PREVISTOS | K10: □
B11: UNIDAD EJECUTORA: | J11: DIRECCIÓN TERRITORIAL:
B14: CONTRATO No. | D14: DE
B15: OBJETO DEL CONTRATO:
C16: =+'PRESUPUESTO OBRA'!A5 -> ATENCION OBRAS DE EMERGENCIA POR EL SISTEMA DE MONTO AGOTABLE EN LAS VÍAS A CARGO DE LA DIRECCION TERRITORIAL CUNDINAMARCA DEL INVIAS, DEPARTAMENTO DE CUNDINAMARCA
B18: CARRETERA: | J18: SECTOR:
B20: CONTRATISTA:
B22: INTERVENTOR: | K22: CTO No.: | M22: DE
B24: FECHA CIERRE PROCESO DE SELECCIÓN CONTRATO DE OBRA:
F25: (Día) | I25: (Mes) | J25: (Año)
B27: DATOS ESPECÍFICOS
B29: ITEM | C29: DESCRIPCIÓN | K29: GRUPO DE AJUSTE | L29: UNIDAD | N29: CANTIDAD
B30: ITEM | C30: DESCRIPCIÓN | L30: UNIDAD | N30: CANTIDAD
A31: Unidad | B31: 630.5 | C31: Concreto Resistencia 17.5MPa (E ) | L31: m3
B33: I. EQUIPO
B35: DESCRIPCIÓN | I35: TIPO | K35: TARIFA/HORA | L35: RENDIMIENTO | N35: Vr. UNITARIO
A36: C0010550 | B36: =VLOOKUP(A36,[65]EQUIPOS!A6:D154,3,FALSE) -> Mezcladora de concreto 1 bulto | K36: =VLOOKUP(A36,[65]EQUIPOS!A6:D163,4,FALSE) -> 6548.9113 | M36: 1 | N36: =K36/M36 -> 6548.9113
A37: C0010922 | B37: =VLOOKUP(A37,[65]EQUIPOS!A7:D154,3,FALSE) -> Vibrador de concreto, Motor de 3 hp a 18.000 rpm Mangueras de 4 mt | K37: =VLOOKUP(A37,[65]EQUIPOS!A7:D164,4,FALSE) -> 4930.1736 | M37: 1 | N37: =K37/M37 -> 4930.1736
B41: HERRAMIENTA MENOR (%) | M41: 0.05 | N41: =N81*M41 -> 2843.2843
B43: SUBTOTAL $ | N43: =SUM(N36:N42) -> 14322.369
B45: II. MATERIALES
B47: DESCRIPCIÓN | J47: UNIDAD | K47: CANTIDAD | L47: PRECIO UNIT. | N47: Vr. UNITARIO
A48: B0053100 | B48: =VLOOKUP(A48,[65]MATERIALES!A5:D373,3,FALSE) -> Agregado para concreto hidráulico | J48: =VLOOKUP(A48,[65]MATERIALES!A4:D640,2,FALSE) -> m3 | K48: 0.95 | M48: =VLOOKUP(A48,[65]MATERIALES!A5:D396,4,FALSE) -> 55110.85 | N48: =K48*M48 -> 52355.308
A49: B0063200 | B49: =VLOOKUP(A49,[65]MATERIALES!A6:D373,3,FALSE) -> Agua | J49: =VLOOKUP(A49,[65]MATERIALES!A5:D641,2,FALSE) -> lt | K49: 170 | M49: =VLOOKUP(A49,[65]MATERIALES!A6:D397,4,FALSE) -> 50.937843 | N49: =K49*M49 -> 8659.4333
A50: B0093350 | B50: =VLOOKUP(A50,[65]MATERIALES!A6:D373,3,FALSE) -> Arena lavada | J50: =VLOOKUP(A50,[65]MATERIALES!A6:D642,2,FALSE) -> m3 | K50: 0.55 | M50: =VLOOKUP(A50,[65]MATERIALES!A6:D398,4,FALSE) -> 39496 | N50: =K50*M50 -> 21722.8
A51: B0100001 | B51: =VLOOKUP(A51,[65]MATERIALES!A6:D373,3,FALSE) -> Cemento gris | J51: =VLOOKUP(A51,[65]MATERIALES!A6:D643,2,FALSE) -> kg | K51: 300 | M51: =VLOOKUP(A51,[65]MATERIALES!A6:D399,4,FALSE) -> 537.66667 | N51: =K51*M51 -> 161300
A52: B021001 | B52: =VLOOKUP(A52,[65]MATERIALES!A7:D373,3,FALSE) -> Formaleta (gaviones, juntas de bordillos, juntas de cunetas, muros, concretos clase D,E, F y G) | J52: =VLOOKUP(A52,[65]MATERIALES!A6:D644,2,FALSE) -> m2 | K52: 3.1 | M52: =VLOOKUP(A52,[65]MATERIALES!A7:D400,4,FALSE) -> 6095.7368 | N52: =K52*M52 -> 18896.784
B59: SUBTOTAL $ | N59: =SUM(N48:N58) -> 262934.33
B61: III. TRANSPORTES
B63: MATERIAL | H63: UNIDAD | I63: CANTIDAD (1) | J63: DISTANCIA (2) | K63: (1) * (2) | L63: TARIFA | N63: Vr. UNITARIO
A64: T0010004 | B64: =VLOOKUP(A64,[65]TRANSPORTE!A2:D117,3,FALSE) -> Transporte de arena | H64: m3k | I64: 0.55 | J64: 70 | K64: =I64*J64 -> 38.5 | L64: =VLOOKUP(A64,[65]TRANSPORTE!A2:D117,4,FALSE) -> 881.02273 | N64: =K64*L64 -> 33919.375
A65: T0010042 | B65: =VLOOKUP(A65,[65]TRANSPORTE!A3:D117,3,FALSE) -> Transporte de material triturado | H65: m3k | I65: 0.95 | J65: 70 | K65: =I65*J65 -> 66.5 | L65: =VLOOKUP(A65,[65]TRANSPORTE!A3:D117,4,FALSE) -> 881.02273 | N65: =K65*L65 -> 58588.011
B70: SUBTOTAL $ | N70: =N64+N65+N66+N67+N68 -> 92507.386
...

Sheet 630.6
K1: CÓDIGO | L1: MINFRA-MN-IN-10-FR-1
C2: INSTITUTO NACIONAL DE VIAS
C3: PROCESO GESTIÓN DE LA INFRAESTRUCTURA VIAL | K3: VERSIÓN | L3: 1
C4: MANUAL DE INTERVENTORÍA OBRA PÚBLICA
C5: ANÁLISIS DE PRECIOS UNITARIOS | K5: PÁGINA | M5: DE
K8: FECHA
L9: (Día) | M9: (Mes) | N9: (Año)
B10: ITEMS DE LA PROPUESTA ECONÓMICA | F10: □ | I10: ITEMS NO PREVISTOS | K10: □
B11: UNIDAD EJECUTORA: | J11: DIRECCIÓN TERRITORIAL:
B14: CONTRATO No. | D14: DE
B15: OBJETO DEL CONTRATO:
C16: =+'PRESUPUESTO OBRA'!A5 -> ATENCION OBRAS DE EMERGENCIA POR EL SISTEMA DE MONTO AGOTABLE EN LAS VÍAS A CARGO DE LA DIRECCION TERRITORIAL CUNDINAMARCA DEL INVIAS, DEPARTAMENTO DE CUNDINAMARCA
B18: CARRETERA: | J18: SECTOR:
B20: CONTRATISTA:
B22: INTERVENTOR: | K22: CTO No.: | M22: DE
B24: FECHA CIERRE PROCESO DE SELECCIÓN CONTRATO DE OBRA:
F25: (Día) | I25: (Mes) | J25: (Año)
B27: DATOS ESPECÍFICOS
B29: ITEM | C29: DESCRIPCIÓN | K29: GRUPO DE AJUSTE | L29: UNIDAD | N29: CANTIDAD
B30: ITEM | C30: DESCRIPCIÓN | L30: UNIDAD | N30: CANTIDAD
A31: Unidad | B31: 630.6 | C31: Concreto Resistencia 14MPa (F) | L31: m3
B33: I. EQUIPO
B35: DESCRIPCIÓN | I35: TIPO | K35: TARIFA/HORA | L35: RENDIMIENTO | N35: Vr. UNITARIO
A36: C0010550 | B36: =VLOOKUP(A36,[65]EQUIPOS!A6:D154,3,FALSE) -> Mezcladora de concreto 1 bulto | K36: =VLOOKUP(A36,[65]EQUIPOS!A6:D163,4,FALSE) -> 6548.9113 | M36: 1 | N36: =K36/M36 -> 6548.9113
B41: HERRAMIENTA MENOR (%) | M41: 0.05 | N41: =N81*M41 -> 2843.2843
B43: SUBTOTAL $ | N43: =SUM(N36:N42) -> 9392.1955
B45: II. MATERIALES
B47: DESCRIPCIÓN | J47: UNIDAD | K47: CANTIDAD | L47: PRECIO UNIT. | N47: Vr. UNITARIO
A48: B0053100 | B48: =VLOOKUP(A48,[65]MATERIALES!A5:D373,3,FALSE) -> Agregado para concreto hidráulico | J48: =VLOOKUP(A48,[65]MATERIALES!A4:D640,2,FALSE) -> m3 | K48: 0.84 | M48: =VLOOKUP(A48,[65]MATERIALES!A5:D396,4,FALSE) -> 55110.85 | N48: =K48*M48 -> 46293.114
A49: B0063200 | B49: =VLOOKUP(A49,[65]MATERIALES!A6:D373,3,FALSE) -> Agua | J49: =VLOOKUP(A49,[65]MATERIALES!A5:D641,2,FALSE) -> lt | K49: 185 | M49: =VLOOKUP(A49,[65]MATERIALES!A6:D397,4,FALSE) -> 50.937843 | N49: =K49*M49 -> 9423.501
A50: B0093350 | B50: =VLOOKUP(A50,[65]MATERIALES!A6:D373,3,FALSE) -> Arena lavada | J50: =VLOOKUP(A50,[65]MATERIALES!A6:D642,2,FALSE) -> m3 | K50: 0.63 | M50: =VLOOKUP(A50,[65]MATERIALES!A6:D398,4,FALSE) -> 39496 | N50: =K50*M50 -> 24882.48
A51: B0100001 | B51: =VLOOKUP(A51,[65]MATERIALES!A6:D373,3,FALSE) -> Cemento gris | J51: =VLOOKUP(A51,[65]MATERIALES!A6:D643,2,FALSE) -> kg | K51: 260 | M51: =VLOOKUP(A51,[65]MATERIALES!A6:D399,4,FALSE) -> 537.66667 | N51: =K51*M51 -> 139793.33
B59: SUBTOTAL $ | N59: =SUM(N48:N58) -> 220392.43
B61: III. TRANSPORTES
B63: MATERIAL | H63: UNIDAD | I63: CANTIDAD (1) | J63: DISTANCIA (2) | K63: (1) * (2) | L63: TARIFA | N63: Vr. UNITARIO
A64: T0010004 | B64: =VLOOKUP(A64,[65]TRANSPORTE!A2:D117,3,FALSE) -> Transporte de arena | H64: m3k | I64: 0.63 | J64: 70 | K64: =I64*J64 -> 44.1 | L64: =VLOOKUP(A64,[65]TRANSPORTE!A2:D117,4,FALSE) -> 881.02273 | N64: =K64*L64 -> 38853.102
A65: T0010042 | B65: =VLOOKUP(A65,[65]TRANSPORTE!A3:D117,3,FALSE) -> Transporte de material triturado | H65: m3k | I65: 0.84 | J65: 70 | K65: =I65*J65 -> 58.8 | L65: =VLOOKUP(A65,[65]TRANSPORTE!A3:D117,4,FALSE) -> 881.02273 | N65: =K65*L65 -> 51804.136
B70: SUBTOTAL $ | N70: =N64+N65+N66+N67+N68 -> 90657.239
B72: IV. MANO DE OBRA
B74: TRABAJADOR | I74: JORNAL | J74: PRESTACIONES (%) | K74: JORNAL TOTAL | L74: RENDIMIENTO | N74: Vr. UNITARIO
...

Sheet 630.7
K1: CÓDIGO | L1: MINFRA-MN-IN-10-FR-1
C2: INSTITUTO NACIONAL DE VIAS
C3: PROCESO GESTIÓN DE LA INFRAESTRUCTURA VIAL | K3: VERSIÓN | L3: 1
C4: MANUAL DE INTERVENTORÍA OBRA PÚBLICA
C5: ANÁLISIS DE PRECIOS UNITARIOS | K5: PÁGINA | M5: DE
K8: FECHA
L9: (Día) | M9: (Mes) | N9: (Año)
B10: ITEMS DE LA PROPUESTA ECONÓMICA | F10: □ | I10: ITEMS NO PREVISTOS | K10: □
B11: UNIDAD EJECUTORA: | J11: DIRECCIÓN TERRITORIAL:
B14: CONTRATO No. | D14: DE
B15: OBJETO DEL CONTRATO:
C16: =+'PRESUPUESTO OBRA'!A5 -> ATENCION OBRAS DE EMERGENCIA POR EL SISTEMA DE MONTO AGOTABLE EN LAS VÍAS A CARGO DE LA DIRECCION TERRITORIAL CUNDINAMARCA DEL INVIAS, DEPARTAMENTO DE CUNDINAMARCA
B18: CARRETERA: | J18: SECTOR:
B20: CONTRATISTA:
B22: INTERVENTOR: | K22: CTO No.: | M22: DE
B24: FECHA CIERRE PROCESO DE SELECCIÓN CONTRATO DE OBRA: | D24: =+'PRESUPUESTO OBRA'!A5 -> ATENCION OBRAS DE EMERGENCIA POR EL SISTEMA DE MONTO AGOTABLE EN LAS VÍAS A CARGO DE LA DIRECCION TERRITORIAL CUNDINAMARCA DEL INVIAS, DEPARTAMENTO DE CUNDINAMARCA
F25: (Día) | I25: (Mes) | J25: (Año)
B27: DATOS ESPECÍFICOS
B29: ITEM | C29: DESCRIPCIÓN | K29: GRUPO DE AJUSTE | L29: UNIDAD | N29: CANTIDAD
B30: ITEM | C30: DESCRIPCIÓN | L30: UNIDAD | N30: CANTIDAD
A31: Unidad | B31: 630.7 | C31: Concreto Resistencia 14MPa (G) (Ciclopeo) | L31: m3
B33: I. EQUIPO
B35: DESCRIPCIÓN | I35: TIPO | K35: TARIFA/HORA | L35: RENDIMIENTO | N35: Vr. UNITARIO
A36: C0010550 | B36: =VLOOKUP(A36,[65]EQUIPOS!A6:D154,3,FALSE) -> Mezcladora de concreto 1 bulto | K36: =VLOOKUP(A36,[65]EQUIPOS!A6:D163,4,FALSE) -> 6548.9113 | M36: 1 | N36: =K36/M36 -> 6548.9113
B41: HERRAMIENTA MENOR (%) | M41: 0.05 | N41: =N81*M41 -> 2274.6274
B43: SUBTOTAL $ | N43: =SUM(N36:N42) -> 8823.5387
B45: II. MATERIALES
B47: DESCRIPCIÓN | J47: UNIDAD | K47: CANTIDAD | L47: PRECIO UNIT. | N47: Vr. UNITARIO
A48: B0053100 | B48: =VLOOKUP(A48,[65]MATERIALES!A5:D373,3,FALSE) -> Agregado para concreto hidráulico | J48: =VLOOKUP(A48,[65]MATERIALES!A4:D640,2,FALSE) -> m3 | K48: 0.504 | M48: =VLOOKUP(A48,[65]MATERIALES!A5:D396,4,FALSE) -> 55110.85 | N48: =K48*M48 -> 27775.868
A49: B0063200 | B49: =VLOOKUP(A49,[65]MATERIALES!A6:D373,3,FALSE) -> Agua | J49: =VLOOKUP(A49,[65]MATERIALES!A5:D641,2,FALSE) -> lt | K49: 111 | M49: =VLOOKUP(A49,[65]MATERIALES!A6:D397,4,FALSE) -> 50.937843 | N49: =K49*M49 -> 5654.1006
A50: B0014700 | B50: =VLOOKUP(A50,[65]MATERIALES!A6:D373,3,FALSE) -> Piedra para concreto ciclópeo (rajón o canto rodado) | J50: =VLOOKUP(A50,[65]MATERIALES!A6:D642,2,FALSE) -> m3 | K50: 0.4 | M50: =VLOOKUP(A50,[65]MATERIALES!A6:D398,4,FALSE) -> 33286.667 | N50: =K50*M50 -> 13314.667
A51: B0093350 | B51: =VLOOKUP(A51,[65]MATERIALES!A6:D373,3,FALSE) -> Arena lavada | J51: =VLOOKUP(A51,[65]MATERIALES!A6:D643,2,FALSE) -> m3 | K51: 0.378 | M51: =VLOOKUP(A51,[65]MATERIALES!A6:D399,4,FALSE) -> 39496 | N51: =K51*M51 -> 14929.488
A52: B0100001 | B52: =VLOOKUP(A52,[65]MATERIALES!A7:D373,3,FALSE) -> Cemento gris | J52: =VLOOKUP(A52,[65]MATERIALES!A6:D644,2,FALSE) -> kg | K52: 156 | M52: =VLOOKUP(A52,[65]MATERIALES!A7:D400,4,FALSE) -> 537.66667 | N52: =K52*M52 -> 83876
B59: SUBTOTAL $ | N59: =SUM(N48:N58) -> 145550.12
B61: III. TRANSPORTES
B63: MATERIAL | H63: UNIDAD | I63: CANTIDAD (1) | J63: DISTANCIA (2) | K63: (1) * (2) | L63: TARIFA | N63: Vr. UNITARIO
A64: T0010004 | B64: =VLOOKUP(A64,[65]TRANSPORTE!A2:D117,3,FALSE) -> Transporte de arena | H64: m3k | I64: 0.378 | J64: 70 | K64: =I64*J64 -> 26.46 | L64: =VLOOKUP(A64,[65]TRANSPORTE!A2:D117,4,FALSE) -> 881.02273 | N64: =K64*L64 -> 23311.861
A65: T0010042 | B65: =VLOOKUP(A65,[65]TRANSPORTE!A3:D117,3,FALSE) -> Transporte de material triturado | H65: m3k | I65: 0.504 | J65: 70 | K65: =I65*J65 -> 35.28 | L65: =VLOOKUP(A65,[65]TRANSPORTE!A3:D117,4,FALSE) -> 881.02273 | N65: =K65*L65 -> 31082.482
A66: T0010091 | B66: =VLOOKUP(A66,[65]TRANSPORTE!A3:D117,3,FALSE) -> Transporte de piedra para Ciclópeo | H66: m3k | I66: 0.4 | J66: 70 | K66: =I66*J66 -> 28 | L66: =VLOOKUP(A66,[65]TRANSPORTE!A3:D117,4,FALSE) -> 881.02273 | N66: =K66*L66 -> 24668.636
B70: SUBTOTAL $ | N70: =N64+N65+N66+N67+N68 -> 79062.98
...

Sheet 640.1
K1: CÓDIGO | L1: MINFRA-MN-IN-10-FR-1
