Workbook
Name AÑO: [1]Hoja1!$G$4:$G$23
Name Cumplimiento: [2]Hoja2!$B$2:$B$3
Name DIA: [1]Hoja1!$E$4:$E$35
Name ESTADO: [3]Hoja2!$B$3:$B$6
Name FECHA: [4]Hoja1!$E$4:$G$16,[4]Hoja1!$E$17:$E$35,[4]Hoja1!$G$17:$G$23
Name LOCAL: [1]SUBDIRECIONES!$A$3:$A$18
Name MES: [1]Hoja1!$F$4:$F$16
Name OBSERVACION: [3]Hoja2!$D$3:$D$5

Sheet URBANISMO
G2: SECRETARIA DISTRITAL DE INTEGRACION SOCIAL DIRECCION DE GESTION CORPORATIVA SUBDIRECCION DE PLANTAS FISICAS PROCESO GESTION DE BIENES Y SERVICIOS FORMATO CALIFICACION TECNICA DE INMUEBLES
C8: 1. OBJETIVO: Verificar la infraestructura ofertada por el proponente , mediante una visita de inspección ocular a la edificación y determinar si es APTA o NO para prestar los servicios que ofrece la Secretaría Distrital de Integración Social.
C10: PARTE I INFORMACIÓN GENERAL DEL PREDIO
C11: PROPONENTE: | H11: No. DE PROCESO: | M11: CAPACIDAD MÍNIMA DEL PLIEGO: | S11: PROYECTO:
C12: FECHA DE DILIGENCIAMIENTO: | H12: LOCALIDAD: | M12: BARRIO: | S12: UPZ:
C13: DIRECCIÓN: | M13: CHIP: | S13: SECTOR CATASTRAL:
C14: TELÉFONO: | H14: NOMBRE DEL PREDIO | M14: USO ACTUAL: | S14: MATRICULA INMOBILIARIA:
C16: 2. PARAMETROS URBANISTICOS
C18: No. | D18: ASPECTO | G18: CONDICIÓN | T18: SI | V18: NO | W18: OBSERVACIONES
C20: 2.1. | D20: Planos arquitectónicos (Requisito mínimo) | G20: Deben presentarse en el momento de la visita los planos arquitectónicos (pueden ser solo las plantas) especificando de manera clara y legible el nombre y las medidas de los espacios propuestos ademas del area total del predio, con el fin de verificar la capacidad de usuarios en cumplimiento del estándar establecido, entregado de la siguiente manera : 1.En formato DWG en la plataforma SECOP antes de las fechas establecidas en el cronograma de visitas 2.Copia impresa en el momento de la visita.
C22: PARTE II INFORMACIÓN TECNICA DEL PREDIO
C24: 3. AFECTACIONES
C25: 3.1. AMENAZAS NATURALES (REQUISITO MÍNIMO)
C26: No. | D26: AMENAZA | G26: NIVEL DE AMENAZA
C28: 3.1.1. | D28: Remoción en masa
C29: 3.1.2. | D29: Inundación
C30: 3.1.3. | D30: Redes de Energia (Requisito mínimo)
C33: PARTE III CARACTERISTICAS ESPACIOS FISICOS
C35: 4. CUADRO DE AREAS (M2)
C36: No. | D36: ASPECTO | G36: CONDICIÓN | T36: M2 | W36: UNIDAD
C37: 4.1. | D37: Areas de construcción | G37: AREA CONTRUIDA TOTAL PARA LA PRESTACIÒN DEL SERVICIO (CATASTRAL) | T37: 0
C38: NOTA: CUANDO EL SERVICIO SE PRESTE EN ÀREAS PARCIALES SE DEBERÀ DISCRIMINAR EL ÀREA POR PISO
C40: 4.1. REQUERIMIENTOS PARA EL FUNCIONAMIENTO DE UN JARDIN INFANTIL
C41: 4.1.1 | D41: Areas de construcción | G41: AREA PRIMER PISO
G42: AREA SEGUNDO PISO
G43: AREA TERCER PISO
G44: AREA TOTAL CONSTRUIDA
C45: 4.1.2 | D45: Area construida por usuarios atendidos | G45: El jardín infantil cuenta con un mínimo de dos (2) metros cuadrados por cada niña o niño sobre el total de área construida. | Q45: =Q43/2 -> 0 | V45: CAPACIDAD MAXIMA DE USUARIOS ATENDIDOS
C47: 5. PROGRAMA ARQUITECTONICO
C49: 5.1. ASPECTOS GENERALES
C50: No. | D50: ESPACIOS - AREAS | H50: DESCRIPCIÓN - ESTANDAR | Q50: REQUISITO MÌNIMO | S50: NECESARIO | U50: SI | V50: NO | W50: N/A | X50: CANTIDAD
C52: 5.1.1. | D52: Acceso | H52: El predio cuenta con acceso independiente para la prestación del Servicio. | Q52: X
C53: 5.1.2. | D53: Uso Exclusivo | H53: El predio es de uso exlusivo para la prestación del Servicio. | Q53: X
C54: 5.1.3. | D54: Confort | H54: En clima frio y caliente se debe garantizar el confort térmico para cada una de las áreas ofertadas. | S54: X
C55: 5.1.4. | D55: Oficina de Coordinación | H55: Cuenta con un espacio exclusivo de oficina para el responsable del servicio y archivo, independiente de las áreas pedagógicas y con acceso restringido para las niñas y los niños. | Q55: X
C56: 5.1.5. | D56: Depósito de material didáctico. | H56: Depósito de material didáctico. | S56: X
C57: 5.1.6. | D57: Aula ludica y/o Área recreativa. | H57: Al momento del uso se deben garantizar dos (2) metros cuadrados por niño o niña y cumplir con lo establecido en el protocolo de permanencia en áreas recreativas. | Q57: X
C58: 5.1.7 | D58: Baño para adultos. | H58: Mínimo una batería sanitaria (lavamanos y sanitario) por cada 15 adultos. | Q58: X
H59: El baño debe ser independiente de los servicios sanitarios para los niños y niñas y con acceso restringido para ellos y ellas. | Q59: X
C60: 5.1.8 | D60: Sala Amiga de la Familia Lactante. | H60: Cuenta con una zona para la práctica de la lactancia, que puede ubicarse dentro del área pedagógica. Según las características locativas de cada Jardín Infantil. Nota: es requisito minimo en caso de que el Jardin cuente con niños menores de 2 años | Q60: X
...

Sheet INFRAESTRUCTURA INFANCIA
I1: SECRETARIA DISTRITAL DE INTEGRACION SOCIAL DIRECCION DE GESTION CORPORATIVA SUBDIRECCION DE PLANTAS FISICAS PROCESO GESTION DE BIENES Y SERVICIOS FORMATO CALIFICACION TECNICA DE INMUEBLES (COMPONENTE URBANISTICO E INFRAESTRUCTURA) | X1: IDENTIFICACION
X2: PROYECTO : | Z2: PRIMERA INFANCIA
X3: PROCESO COMPETITIVO:
X4: NOMBRE PROPONENTE
X5: DIRECCION DEL PREDIO
C7: PARTE V CARACTERISTICAS GENERALES DE LA EDIFICACION
C9: 9. ASPECTOS GENERALES - OBSERVACIONES DEL ESTADO ACTUAL DE LA EDIFICACION
W10: CUMPLIMIENTO
C11: AREA | E11: ASPECTO | H11: ITEM | I11: CONDICIÓN | V11: REQUISITO MINIMO SI / NO | W11: SI | Y11: NO | Z11: N/A
C13: AREA INFRAETSRUCTURA BASICA | D13: 9.1 | E13: Servicios públicos e Infraestructura Basica y de seguridad Humana | H13: 1 | I13: El inmueble cuenta con servicio de acueducto y alcantarillado ("RESOLUCIÓN 2674 DE 2013 - Artículo 26. | V13: SI
H14: 2 | I14: El inmueble cuenta con tanque de almacenamiento de agua ("RAS 2000 - REGLAMENTO TECNICO DEL SECTOR DE AGUA POTABLE Y SANEAMIENTO BASICO - TITULO B | V14: SI
H15: 3 | I15: El inmueble cuenta con servicio de energìa elèctrica | V15: SI
H16: 4 | I16: El inmueble cuenta con servicio de gas natural | V16: NO
H17: 5 | I17: El inmueble cuenta con sistema de motobombas (en caso de que existan) | V17: NO
H18: 6 | I18: EL inmueble cuenta con calderas o calderines (en caso de que existan) | V18: NO
H19: 7 | I19: El inmueble cuenta con Red de Extincion de Incendio y/ o redes de deteccion de incencio | V19: SI
D20: 9.2 | E20: Ubicación y riesgos antropicos | H20: 8 | I20: El inmueble NO se encuentra continuo a zonas de almacenamiento de combustibles ("RESOLUCIÓN 2674 DE 2013 - Artículo 6°) | V20: SI
H21: 9 | I21: El inmueble NO se encuentra afectado por su cercanía a focos de contaminación (Rellenos sanitarios, botaderos, plazas de mercado) (RESOLUCIÓN 2674 DE 2013 - Artículo 6°.) | V21: SI
H22: 10 | I22: El inmueble en su acabado de cubierta (tejas), cuenta con material libre de asbesto cemento (Ley 1968 de 2019) | V22: SI
D23: 9.3 | E23: Cerramiento y fachada | H23: 11 | I23: Los cerramientos o muros que delimitan la planta física con las viviendas vecinas y exteriores impiden el acceso de extraños | V23: SI
C25: 10 VERIFICACIÓN DE LA INSTALACIÓN ELÉCTRICA
W27: CUMPLIMIENTO
C28: No. | E28: ASPECTO | I28: CONDICIÓN | V28: REQUISITO MINIMO SI / NO | W28: SI | Y28: NO | Z28: N/A
C30: AREA ELECTRICA | D30: 10.1 | E30: Instalaciones eléctricas | H30: 12 | I30: La instalación eléctrica se encuentra en buen estado y funcionando | V30: SI
D31: 10.2 | E31: Información sobre la cuenta | H31: 13 | I31: DATOS
I32: Número de cuenta de cliente según factura:
I33: Carga aprobada/aforada según factura (kW):
C36: PARTE VI CARACTERISTICAS PARTICULARES DEL SERVICIO A IMPLEMENTAR
C38: 11 REQUERIMIENTOS GENERALES PARA EL FUNCIONAMIENTO DE UN SERVICIO SOCIAL DE LA SECRETARIA DISTRITAL DE INTEGRACION SOCIAL
W40: CUMPLIMIENTO
C41: ITEM | D41: AREA | E41: ELEMENTO | H41: ITEM | I41: DESCRIPCIÓN ACTIVIDAD | V41: REQUISITO MINIMO SI / NO | W41: SI | Y41: NO | Z41: N/A
Z42: N/A
C43: AREA DE CIRCULACIÓN | D43: 11.1 | E43: Accesibilidad, señalizacion y señaletica | H43: 14 | I43: Rampas de acceso a los espacios de la unidad operativa (NTC 4143) | V43: SI
H44: 15 | I44: Elementos de transición o rampas para acceder internamente de un espacio a otro de la unidad operativa (NTC 4143) | V44: SI
H45: 16 | I45: Todos los espacios de la unidad operativa se encuentran con señalizacion y señaletica (NTC 4144) | V45: NO
D46: 11.2 | E46: Pasillos y corredores | H46: 17 | I46: Todos los corredores y pasillos se encuentran debidamente señalizados (NTC 4144) | V46: NO
H47: 18 | I47: Los pasillos internos de la edificación que permitan el tránsito a todo tipo de población (movilidad educida) deben tener un ancho mínimo no obstruido de 0.90 mts (NTC 4067 | V47: SI
H48: 19 | I48: Los pasillos y corredores estarán libres de obstáculos en todo su ancho mínimo y desde su píso hasta un plano paralelo a él ubicado a 2,05 m de altura. Dentro de ese espacio no se podrá ubicar elementos que lo invadan (ejemplo: luminarias, carteles, equipamiento, partes propias del edificio o de instalaciones). (NTC 4140) | V48: NO
H49: 20 | I49: Los pavimentos de corredores y pasillos serán firmes, antideslizante y sin accidentes. No se admite tratamiento de la superficie que modifique esta condición (ejemplo encerado), no deben perder la caracteristica de facil limpieza y desinfección.(NTC 4140) | V49: NO
H50: 21 | I50: Las ventanas de este espacio cuentan con vidrios en buen estado: completos, sin roturas, ni vencimientos y asegurados firmemente al marco que los soporta | V50: SI
...

Sheet JURIDICO
F2: PROCESO GESTION DE BIENES Y SERVICIOS FORMATO CALIFICACION TECNICA DE INMUEBLES (COMPONENTE JURIDICO)
B7: PARTE I INFORMACIÓN GENERAL DEL PREDIO
B8: NOMBRE DEL PROPONENTE: | O8: N° PROCESO
B9: FECHA DE DILIGENCIAMIENTO: | F9: LOCALIDAD: | L9: MATRICULA INMOBILIARIA
B10: DIRECCIÓN: | M10: CHIP
B12: PARTE II
B14: 8.1. INFORMACIÓN JURIDICA DEL PREDIO
S16: CUENTA CON EL DOCUMENTO | U16: NATURALEZA DEL PREDIO
B17: No. | C17: ASPECTO | F17: CONDICIÓN | S17: SI | T17: NO | U17: PUBLICO | V17: PRIVADO
C19: Certificado de Tradición y libertad o Folio de Matricula Inmobiliaria | F19: Los oferentes deberán presentar con su propuesta el CERTIFICADO DE TRADICIÓN Y LIBERTAD documento expedido por la Oficina de Registro de Instrumentos Públicos, con fecha no mayor a un (1) mes de expedición. De la revisión del mismo se debe concluir si el inmueble es de propiedad de un privado o por el contrario es de propiedad del Distrito Capital. En el evento de pertenecer al Distrito Capital no se reconocerá el pago del rubro asignado para espacio físico funcional, de la estructura de costos, si la infraestructura o construcción propuesta se localiza en más de un predio debe presentarse el certificado de tradición y libertad por cada uno de los predios | W19: QUE EL OFERENTE NO APORTO EL CERTIFICADO DE TRADICION Y NLIBERTAD VIGENTE
C21: Certtificado catastral o impuesto predial | F21: Los oferentes deberán presentar con su propuesta el certificado catastral o boletín de nomenclatura expedido por la Unidad Administrativa Especial de Catastro Distrital (UAECD) o la que haga sus veces en los municipios para cada inmueble presentado, documento por medio del cual la autoridad catastral hace constar la inscripción del predio o mejora, sus características y condiciones , según la base de datos catastral ; en caso de no contar con el respectivo documento se podrá anexar copia del pago del impuesto predial donde conste claramente los siguientes datos del predio: código catastral, CHIP y dirección actual, area de terreno, area construcida.
B22: 5.2. VERIFICACIÓN DE LA INSTALACIÓN ELÉCTRICA
B24: No. | C24: ASPECTO | F24: CONDICIÓN | S24: SI | V24: NO
B26: 5.2.1 | C26: Instalaciones eléctricas | F26: La instalación eléctrica se encuentra en buen estado y funcionando (Requisito mínimo)
B27: 5.2.2 | C27: Información sobre la cuenta | F27: DATOS
F28: Número de cuenta de cliente según factura:
F29: Carga aprobada/aforada según factura (kW):
B32: PARTE VI CARACTERISTICAS PARTICULARES DEL SERVICIO A IMPLEMENTAR
B34: 6.1. REQUERIMIENTOS GENERALES PARA EL FUNCIONAMIENTO DE UN SERVICIO SOCIAL DE LA SECRETARIA DISTRITAL DE INTEGRACION SOCIAL
B36: ITEM | C36: ELEMENTO | F36: DESCRIPCIÓN ACTIVIDAD | S36: SI | V36: NO
B38: 6.1.1 | C38: Accesibilidad, señalizacion y señaletica | F38: Rampas de acceso o medios alternativos mecanicos para el ingreso a los espacios de la unidad operativa
F39: Todos los espacion de la unidad operativa se encuentran con señalizacion y señaletica
B40: 6.1.2 | C40: Iluminación y ventilación | F40: El inmueble cuenta con adecuada ventilacion (Requisito mínimo)
F41: El inmueble cuenta con adecuada Iluminacion (Requisito mínimo)
F42: El inmueble cuenta con adecuada circulación de aire de la cocina protegidas con mallas de materal no corrosivo (angeo)
F43: Los baños del inmueble no podrán compartir una ventana para ventilación con la cocina. En ningún caso deberán existir ventilación cruzada entre baños y cocina
F44: Las lámparas protegidas para evitar el riesgo de contaminación física en caso de ruptura accidental de las bombillas
B45: 6.1.3 | C45: Escaleras (en caso de que existan) | F45: Las escaleras estables (Requisito mínimo)
F46: Cinta antideslizante en los escalones de la escalera.
F47: Pasamanos de escaleras a una altura de +-90 cm.
F48: Proteccion con barandas en zonas de circulacion y zonas comunes que puedan evitar riesgo de caida durante su transito
B49: 6.1.4 | C49: Ventanería | F49: Marcos de ventana en buen estado sin oxido o elementos sueltos.
F50: Vidrios de ventanas con películas de seguridad
B51: 6.1.5 | C51: Puertas | F51: Puerta de cocina y despensa metalica
F52: Suplementos para reducir las aberturas entre las puertas y los pisos las cuales deben ser menores a un centímetro
F53: Puertas de baños en buen estado
B54: 6.1.6 | C54: Cocina y despensa | F54: La cocina cuenta con sifòn y rejilla para la evacuaciòn de residuos lìquidos en el piso (Requisito mínimo)
F55: Los acabados de piso en cocina y despensa son en baldosa y se encuentran en buen estado, sin fracturas ni vencimientos y debidamente emboquillados
F56: Los muros de cocina y despensa son en baldosa o pintura epoxica permitiendo la facil limpieza y desinfeccion
F57: El acabado de cielo raso de cocina y despensa cuenta con un acabado que permita la facil limpieza y desinfeccion.
...

Sheet REGISTRO FOTOGRAFICO
F2: SECRETARIA DISTRITAL DE INTEGRACION SOCIAL DIRECCION DE GESTION CORPORATIVA SUBDIRECCION DE PLANTAS FISICAS PROCESO GESTION DE BIENES Y SERVICIOS FORMATO CALIFICACION TECNICA DE INMUEBLES | O2: IDENTIFICACION
O3: PROYECTO : | Q3: =URBANISMO!U11 -> 0
O4: PROCESO COMPETITIVO: | Q4: =URBANISMO!J11 -> 0
O5: NOMBRE PROPONENTE | Q5: =URBANISMO!E11 -> 0
O6: DIRECCION DEL PREDIO | Q6: =URBANISMO!E13 -> 0
B8: PARTE VIII
B9: 13. REGISTRO FOTOGRAFICO ANEXO
B11: 13.1. FECHA ELABORACIÓN: | F11: =URBANISMO!E12 -> 0 | J11: 13.2. NOMBRE PREDIO O PROYECTO: | O11: =URBANISMO!J14 -> 0 | AQ11: ='[5]CONCEPTO TECNICO PREDIOS'!AT10:BG10 -> #VALUE!
B12: 13.3 LOCALIDAD | F12: =URBANISMO!J12 -> 0 | J12: 13.4. CHIP | O12: =URBANISMO!P13 -> 0
B19: DESCRIPCIÓN | K19: DESCRIPCIÓN
B26: DESCRIPCIÓN | K26: DESCRIPCIÓN
B33: DESCRIPCIÓN | K33: DESCRIPCIÓN
B40: DESCRIPCIÓN | K40: DESCRIPCIÓN

Sheet PLANOS 
F2: SECRETARIA DISTRITAL DE INTEGRACION SOCIAL DIRECCION DE GESTION CORPORATIVA SUBDIRECCION DE PLANTAS FISICAS PROCESO GESTION DE BIENES Y SERVICIOS FORMATO CALIFICACION TECNICA DE INMUEBLES | W2: IDENTIFICACION
W3: PROYECTO : | AC3: =URBANISMO!U11 -> 0
W4: PROCESO COMPETITIVO: | AC4: =URBANISMO!J11 -> 0
W5: NOMBRE PROPONENTE | AC5: =URBANISMO!E11 -> 0
W6: DIRECCION DEL PREDIO | AC6: =URBANISMO!E13 -> 0
B8: PARTE IX I4. LEVANTAMIENTO ARQUITECTÓNICO
B10: 14.1. FECHA ELABORACIÓN: | F10: =URBANISMO!E12 -> 0 | L10: 14.2. NOMBRE PREDIO O PROYECTO: | S10: =URBANISMO!J14 -> 0
B11: 14.3. LOCALIDAD | F11: =URBANISMO!J12 -> 0 | L11: 14.4. CHIP | S11: =URBANISMO!P13 -> 0
