Workbook

Sheet EXPER. GENERAL
E2: HOSPITAL GUAPI - EMPRESA SOCIAL DEL ESTADO
E3: INFORME TÉCNICO PRELIMINAR
E4: CONVOCATORIA PÚBLICA No. 01 DE 2024
A6: OBJETO | C6: EL CONTRATISTA SE OBLIGA CON LA EMPRESA SOCIAL DEL ESTADO GUAPI A REALIZAR LA REPOSICIÓN DE LA INFRAESTRUCTURA FISICA DEL HOSPITAL PERTENECIENTE A LA ESE GUAPI DE ACUERDO A LOS REQUERIMIENTOS TECNICOS DESCRITOS EN EL PRESENTE PROCESO DE CONTRATACION”
C9: FECHA DE PRESENTACIÓN DE PROPUESTAS: | F9: 45377
C10: FECHA DE EVALUACIÓN PRELIMINAR: | F10: 45379
C11: FECHA DE EVALUACIÓN DEFINITIVA: | F11: N/A
C12: PLAZO DE EJECUCIÓN: | F12: 30 meses
C13: PRESUPUESTO TOTAL OFICIAL: | F13: 35457719671
C14: SMMLV 2024: | F14: 1300000
C15: PRESUPUESTO OFICIAL SMLMV: | F15: =+F13/F14 -> 27275.169
A17: EXPERIENCIA DEL PROPONENTE
A18: El proponente deberá acreditar experiencia en la ejecución de contratos así: Un (1) contrato, clasificado en las actividades UNSPSC 26121600, 30102800, 30151800, 40101500, 40151500, 40182000, 46191600, 70131600, 72121400, 72101500, 72152600, 72152700, 72152500, 72153200, 72121400, 72154000, 93131700, 95121700 y 95122000 del clasificador de bienes y servicios, cuyo valor ejecutado expresado en Salarios Mínimos Legales Mensuales Vigentes, sea igual o superior al 70% del presupuesto oficial de la presente contratación expresada en Salarios Mínimos Legales Mensuales Vigentes de la vigencia 2024. En tratándose de proponentes plurales, cualquiera de los integrantes, podrá aportar el 100% de la experiencia, siempre y cuando su participación dentro de la estructura plural sea igual o superior al cincuenta (50%) por ciento.
A20: No. | B20: PROPONENTE | C20: REPRESENTANTE LEGAL | D20: INTEGRANTES | E20: % PARTICIPACIÓN | F20: CONTRATOS APORTADOS | J20: CAPACIDAD RESIDUAL >= 60% PO | K20: CUMPLIMIENTO REQUERIMIENTOS TÉCNICOS | L20: OBSERVACIONES
F21: EXPERIENCIA ESPECIFICA INFORMACIÓN CONTRATO No.1 /, VALOR EN SMMLV ∑ ≥ 27275.17 SMMLV= 100% del PO Vigencia de la NSR10, es decir a partir del 15 de julio de 2010. | G21: EXPERIENCIA ESPECIFICA INFORMACIÓN CONTRATO No.2 / VALOR EN SMMLV | H21: EXPERIENCIA GENERAL INFORMACIÓN CONTRATO No.3 /clasificado en las actividades UNSPSC, VALOR EN SMMLV ∑ ≥ 19096,62 SMMLV= 70% del PO Vigencia de la NSR10, es decir a partir del 15 de julio de 2010. | I21: TRATÁNDOSE DE PROPONENTES PLURALES UNO DE LOS INTEGRANTES DEBE APORTAR COMO MÍNIMO EL CINCUENTA POR CIENTO (50 %) DE LA EXPERIENCIA SOLICITADA
A22: 1 | B22: CONSORCIO HOSPITAL GUAPI 2024 | C22: CARLOS MANUEL OLARTE MARTINEZ CC. 18.497.613 de Armenia | D22: CARLOS MANUEL OLARTE MARTINEZ | E22: 0.5 | F22: Contrato: 002-2010 Contratante: CEV PROPIEDAD HORIZONTAL Objeto:Mantenimiento y construccion de unidad de hemodinamia, oncologia, unidad renal, unidad de cuidados intencivos de la cinica Consecutivo RUP: 10 (Consorciado que aporta la experiencia: CARLOS MANUEL OLARTE MARTINEZ Valor SMMLV: 84.390,76 ≥ 27275.17 SMMLV= 100% del PO Participación: 100% | G22: Contrato: 926 2014 Contratante: GOBERNACION DEL CAUCA Objeto: Construccion de pavimento en Concreto Hidraulico de los sectores comprendidos en la calle trece y vial al aeropuerto Municipio dee Guapi, departamento del Cauca Consecutivo RUP: 27 (Consorciado que aporta la experiencia: CARLOS MANUEL OLARTE MARTINEZ Valor SMMLV afectado por el % de participacion: 2.010,83 Participación: 40% | H22: Contrato: 108-2018 Contratante: FONDO DE DESARROLLO LOCAL DE TUNJUELITO Objeto: Realizar por el Sistema de Precios Unitarios fijos sin formula del reajuste La construccion de la Nueva Sede Administrativa de la Alcaldia Local de Tunjuelito en la Ciudad de Bogota Consecutivo RUP: 43 (Consorciado que aporta la experiencia: CARLOS MANUEL OLARTE MARTINEZ Valor SMMLV afectado por el % de participacion: 19.799.034 ≥ 19.096,62 SMMLV= 70% del PO Participación: 60% | I22: El consorciado CARLOS MANUEL OLARTE MARTINEZ aporta el 100% de la experiencia requerida en el proceso. | J22: CUMPLE | K22: HÁBIL | L22: N/A
D23: CONSTRUCTORA NBI S.A. RPL LINA MARIA LUJAN FEIJOO | E23: 0.5 | F23: Haber ejecutado ítem de obra de Concreto para cimentación en un volumen mínimo de mil metros cúbicos (1000 M3), Haber ejecutado ítem de obra de pilotes en concreto como mínimo un longitud de 2500 ml Que haya utilizado en su estructura un mínimo de Acero de refuerzo (60000 psi o 420 MPA) doscientos mil kilos (200.000 Kg) y un mínimo de Acero estructural o estructura metálica de cincuenta mil kilos (50.000 Kg). Suministro e instalación de ascensor y red de gases medicinales. Sistema de aire acondicionado Sistema de red contra incendios | G23: Deberá acreditar haber ejecutado un contrato de obra civil que haya contemplado como alcance, el transporte fluvial y/o marítimo para el suministro de equipos y materiales. | H23: 26121600,30102800,30151800,40101500,40151500,40182000,46191600,70131600,72121400,72101500,72152600,72152700,72152500,72153200,72121400,72154000,93131700,95121700 y 95122000
F24: CUMPLE | G24: CUMPLE | H24: CUMPLE | I24: CUMPLE
A25: NOTA GENERAL: SE PRESENTAR EL ESTADO DE RESULTADOS INTEGRAL (ESTADO DE RESULTADO O PÉRDIDA O GANANCIAS) DEL AÑO EN QUE HAYAN OBTENIDO EL MAYOR INGRESO OPERACIONAL EN LOS ÚLTIMOS CINCO (5) AÑOS, DEBIDAMENTE FIRMADO POR EL REPRESENTANTE LEGAL Y EL CONTADOR BAJO CUYA RESPONSABILIDAD SE HAN PREPARADO Y, POR EL REVISOR FISCAL O, EN CASO DE NO HABERLO, POR NO ESTAR OBLIGADO A TENERLO, POR CONTADOR PÚBLICO INDEPENDIENTE, ACOMPAÑADOS DE SU DICTAMEN U OPINIÓN, DE CONFORMIDAD CON EL ARTÍCULO 38 DE LA LEY 222 DE 1995. "ART. 38 ESTADOS FINANCIEROS DICTAMINADOS. SON DICTAMINADOS AQUELLOS ESTADOS FINANCIEROS CERTIFICADOS QUE SE ACOMPAÑEN DE LA OPINIÓN PROFESIONAL DEL REVISOR FISCAL O, A FALTA DE ÉSTE, DEL CONTADOR PÚBLICO INDEPENDIENTE QUE LOS HUBIERE EXAMINADO DE CONFORMIDAD CON LAS NORMAS DE AUDITORÍA GENERALMENTE ACEPTADAS. ESTOS ESTADOS DEBEN SER SUSCRITOS POR DICHO PROFESIONAL, ANTEPONIENDO LA EXPRESIÓN "VER LA OPINIÓN ADJUNTA" U OTRA SIMILAR. EL SENTIDO Y ALCANCE DE SU FIRMA SERÁ EL QUE SE INDIQUE EN EL DICTAMEN CORRESPONDIENTE"
A26: NOTA: De conformidad con el concepto N° C-044 del 24 de marzo de 2020, emitido por la Agencia Colombia Compra Eficiente, en relación con las firmas digitalizadas o impuestas por computador: “… si el documento está firmado por medio de una imagen, será válido únicamente si cumple los requisitos de las firmas electrónicas y digitales, conforme a lo dispuesto en la Ley 527 de 1999. De lo contrario, se entenderá que el documento no tiene firma y, por lo tanto, se podrá rechazar la oferta, si la subsanación del documento no se realiza durante el traslado del informe de evaluación.”
F32: JUAN PABLO RUIZ QUIÑONEZ
F33: C.C 10303447 DE POPAYAN

Sheet PERSONAL
D2: =+'EXPER. GENERAL'!E2 -> HOSPITAL GUAPI - EMPRESA SOCIAL DEL ESTADO
D3: =+'EXPER. GENERAL'!E3 -> INFORME TÉCNICO PRELIMINAR
D4: =+'EXPER. GENERAL'!E4 -> CONVOCATORIA PÚBLICA No. 01 DE 2024
A6: OBJETO | C6: =+'EXPER. GENERAL'!$C$6 -> EL CONTRATISTA SE OBLIGA CON LA EMPRESA SOCIAL DEL ESTADO GUAPI A REALIZAR LA REPOSICIÓN DE LA INFRAESTRUCTURA FISICA DEL HOSPITAL PERTENECIENTE A LA ESE GUAPI DE ACUERDO A LOS REQUERIMIENTOS TECNICOS DESCRITOS EN EL PRESENTE PROCESO DE CONTRATACION”
C9: FECHA DE PRESENTACIÓN DE PROPUESTAS: | F9: =+'EXPER. GENERAL'!$F$9 -> 45377
C10: FECHA DE EVALUACIÓN PRELIMINAR: | F10: =+'EXPER. GENERAL'!$F$10 -> 45379
C11: FECHA DE EVALUACIÓN DEFINITIVA: | F11: =+'EXPER. GENERAL'!$F$11 -> N/A
C12: PLAZO DE EJECUCIÓN: | F12: =+'EXPER. GENERAL'!$F$12 -> 30 meses
C13: PRESUPUESTO TOTAL OFICIAL: | F13: =+'EXPER. GENERAL'!F13 -> 35457719671
C14: SMMLV 2023: | F14: =+'EXPER. GENERAL'!$F$14 -> 1300000
C15: PRESUPUESTO OFICIAL SMLMV: | F15: =+F13/F14 -> 27275.169
A17: VERIFICACIÓN REQUISITOS EQUIPO DE TRABAJO
A19: No. | B19: PROPONENTE | C19: INTEGRANTES / REPRESENTANTE LEGAL | D19: % PARTICIPACIÓN | E19: DIRECTOR DE OBRA | F19: FORMACIÓN ACADÉMICA Y EXPERIENCIA GENERAL Y ESPECÍFICA MÍNIMA | G19: RESIDENTE DE OBRA | H19: FORMACIÓN ACADÉMICA Y EXPERIENCIA GENERAL Y ESPECÍFICA MÍNIMA | I19: INSPECTOR DE OBRA | J19: FORMACIÓN ACADÉMICA Y EXPERIENCIA GENERAL Y ESPECÍFICA MÍNIMA | K19: INGENIERO ELECTRICISTA | L19: FORMACIÓN ACADÉMICA Y EXPERIENCIA GENERAL Y ESPECÍFICA MÍNIMA | M19: ESPECIALISTA ESTRUCTURAL | N19: FORMACIÓN ACADÉMICA Y EXPERIENCIA GENERAL Y ESPECÍFICA MÍNIMA | O19: INGENIERO MECANICO | P19: FORMACIÓN ACADÉMICA Y EXPERIENCIA GENERAL Y ESPECÍFICA MÍNIMA | Q19: OBSERVACIONES
A21: 1 | B21: =+'EXPER. GENERAL'!B22 -> CONSORCIO HOSPITAL GUAPI 2024 | C21: =+'EXPER. GENERAL'!D22 -> CARLOS MANUEL OLARTE MARTINEZ | D21: =+'EXPER. GENERAL'!E22 -> 0.5 | E21: CARLOS MANUEL OLARTE MARTINEZ | F21: CUMPLE | G21: ALVARO GABRIEL AREVALO BERNAL | H21: CUMPLE | I21: ALEXANDER MARTINEZ CASTRO | J21: CUMPLE | K21: MIGUEL ANTONIO PEÑA TOLOSA | L21: CUMPLE | M21: HERNAN RIVERA CHAVEZ | N21: CUMPLE | O21: LUIS FERNANDO HERNÁNDEZ SÁNCHEZ | P21: CUMPLE | Q21: N/A
C22: =+'EXPER. GENERAL'!D23 -> CONSTRUCTORA NBI S.A. RPL LINA MARIA LUJAN FEIJOO | D22: =+'EXPER. GENERAL'!E23 -> 0.5
A23: NOTA: De conformidad con el concepto N° C-044 del 24 de marzo de 2020, emitido por la Agencia Colombia Compra Eficiente, en relación con las firmas digitalizadas o impuestas por computador: “… si el documento esta firmado por medio de una imagen, será válido únicamente si cumple los requisitos de las firmas electrónicas y digitales, conforme a lo dispuesto en la Ley 527 de 1999. De lo contrario, se entenderá que el documento no tiene firma y, por lo tanto, se podrá rechazar la oferta, si la subsanación del documento no se realiza durante el traslado del informe de evaluación.”
F33: JUAN PABLO RUIZ QUIÑONEZ
F34: C.C 10303447 DE POPAYAN
C35: =+'EXPER. GENERAL'!#REF! -> #REF! | F35: ING CIVIL | P35: ING. NANCY LILIANA RENGIFO CORTÉS
C36: =+'EXPER. GENERAL'!#REF! -> #REF! | P36: =+'EXPER. GENERAL'!#REF! -> #REF!

Sheet CALIFICACION
D1: =+'EXPER. GENERAL'!E2 -> HOSPITAL GUAPI - EMPRESA SOCIAL DEL ESTADO
D2: =+'EXPER. GENERAL'!E3 -> INFORME TÉCNICO PRELIMINAR
D3: =+'EXPER. GENERAL'!E4 -> CONVOCATORIA PÚBLICA No. 01 DE 2024
A5: OBJETO | C5: =+'EXPER. GENERAL'!C6 -> EL CONTRATISTA SE OBLIGA CON LA EMPRESA SOCIAL DEL ESTADO GUAPI A REALIZAR LA REPOSICIÓN DE LA INFRAESTRUCTURA FISICA DEL HOSPITAL PERTENECIENTE A LA ESE GUAPI DE ACUERDO A LOS REQUERIMIENTOS TECNICOS DESCRITOS EN EL PRESENTE PROCESO DE CONTRATACION”
C8: FECHA DE PRESENTACIÓN DE PROPUESTAS: | F8: =+'EXPER. GENERAL'!F9 -> 45377
C9: FECHA DE EVALUACIÓN PRELIMINAR: | F9: =+'EXPER. GENERAL'!F10 -> 45379
C10: FECHA DE EVALUACIÓN DEFINITIVA: | F10: =+'EXPER. GENERAL'!F11 -> N/A
C11: PLAZO DE EJECUCIÓN: | F11: =+'EXPER. GENERAL'!F12 -> 30 meses
C12: PRESUPUESTO TOTAL OFICIAL: | F12: =+'EXPER. GENERAL'!F13 -> 35457719671
C13: SMMLV 2023: | F13: =+'EXPER. GENERAL'!F14 -> 1300000
C14: PRESUPUESTO OFICIAL SMLMV: | F14: =+F12/F13 -> 27275.169
C15: TRM VIGENTE 26-03-2024 | F15: 3901.51
C16: MÉTODO DE PONDERACIÓN | F16: Media aritmética alta
A18: CALIFICACIÓN DE LAS PROPUESTAS
A19: No. | B19: PROPONENTE | C19: INTEGRANTES / REPRESENTANTE LEGAL | D19: % PARTICIPACIÓN | E19: PRECIO TOTAL DE LA PROPUESTA | F19: EQUIPO DE TRABAJO Máx. 29.75 PUNTOS | I19: PROGRAMACIÓN Y CONOCIMIENTO DE OBRA | M19: APOYO A LA INDUSTRIA NACIONAL | N19: EMPREND. O EMPRESAS DE MUJERES | O19: MIPYMES | P19: VINCULACIÓN DE PERSONAS CON DISCAPACIDAD | Q19: PUNTAJE TOTAL | R19: OBSERVACIONES
E20: Máx. 35 Puntos | F20: DIRECTOR DE OBRA (Máx. 10 Puntos) | G20: RESIDENTE DE OBRA (Máx. 10 Puntos) | H20: INGENIERO MECANICO (Máx. 9.75 Puntos) | I20: ANÁLISIS DE RENDIMIENTOS POR ITEM (ARPI) | J20: PROGRAMA DE EJECUCION MENSUAL (ANEXO 12 PEM) | K20: DEL EXAMEN Y DE LA EVALUACIÓN DE LA PROPUESTA TECNICA O PROGRAMACION DE LA OBRA. | L20: CUADRO DE RENDIMIENTOS Y CÁLCULO DE DURACIÓN DE ACTIVIDADES. | M20: (Máx. 10 puntos) | N20: (Máx. 0,25 puntos) | O20: (Máx. 0,25 puntos) | P20: (Máx. 0,25 puntos)
A21: 1 | B21: =+'EXPER. GENERAL'!B22 -> CONSORCIO HOSPITAL GUAPI 2024 | C21: =+'EXPER. GENERAL'!D22 -> CARLOS MANUEL OLARTE MARTINEZ | D21: 0.5 | E21: Valor propuesta corregida | F21: CUMPLE | G21: CUMPLE | H21: CUMPLE | I21: CUMPLE | J21: CUMPLE | K21: CUMPLE | L21: CUMPLE | M21: CUMPLE | N21: CUMPLE | O21: CUMPLE | P21: CUMPLE | Q21: =F24+G24+H24+I24+M24+N24+O24+P24+35 -> 100 | R21: HABILITADO
E22: 35456021010
C23: =+'EXPER. GENERAL'!D23 -> CONSTRUCTORA NBI S.A. RPL LINA MARIA LUJAN FEIJOO | D23: 0.5 | E23: CUMPLE
F24: 10 | G24: 10 | H24: 9.75 | I24: 24.5 | M24: 10 | N24: 0.25 | O24: 0.25 | P24: 0.25
F32: JUAN PABLO RUIZ QUIÑONEZ
F33: C.C 10303447 DE POPAYAN

Sheet CALCULO E, CF, CT, SCE
A1: Presupuesto oficial SMLMV: | D1: 3727.15
A2: Fecha de presentacion de propuestas | D2: 44357
A13: =#REF!&" "&#REF! -> #REF!
A15: =+A13 -> #REF!
A16: PARTICIPACION | D16: 1 | F16: =ROUND(D21*((D24+D27+D30)/100)-D37,2) -> 72959426976
A17: N° | B17: VALOR EN SMLMV | C17: % PARTICIPACION | D17: TOTAL EN SMLMV
A18: 1 | B18: =356742503878/908526 -> 392660.75 | C18: 1 | D18: =+ROUND(B18*C18,2) -> 392660.75
C19: SUMATORIA | D19: =SUM(D18:D18) -> 392660.75
C21: CO= | D21: 37654786268
B23: FACTOR EXPERIENCIA = | D23: =+ROUND(D19/($D$1*D16),2) -> 105.35
C24: E = | D24: =IF(D23<=3,60,IF(D23<=6,80,IF(D23<=10,100,120))) -> 120
B26: INDICE DE LIQUIDEZ = | D26: 103.23
C27: CF = | D27: =IF(D26<0.5,20,IF(D26<0.75,25,IF(D26<1,30,IF(D26<1.5,35,40)))) -> 40
B29: NUMERO DE TRABAJADORES = | D29: 12
C30: CT = | D30: =IF(D29>=11,40,IF(D29>=6,30,20)) -> 40
A32: SALDO CONTRATOS EN EJECUCION
A33: N° | B33: VALOR | C33: PLAZO (MESES) | D33: DIAS EJECUTADOS
A34: 1 | B34: 6409487890 | C34: 7 | D34: 133
A35: N° | B35: DIAS POR EJECUTAR | C35: % PARTICIPACION | D35: SCE
A36: 1 | B36: =C34*30-D34 -> 77 | C36: 1 | D36: =+ROUND((B34*B36*C36)/(C34*30),0) -> 2350145560
C37: SUMA SCE | D37: =+SUM(D36:D36) -> 2350145560
A40: ='[1]Exp general'!A27&" "&'[1]Exp general'!B27 -> 2 CARMABI CONSTRUCCIONES S.A.S
A42: =+A40 -> 2 CARMABI CONSTRUCCIONES S.A.S
A43: PARTICIPACION | D43: ='[1]Exp general'!G26 -> 1
A44: N° | B44: VALOR EN SMLMV | C44: % PARTICIPACION | D44: TOTAL EN SMLMV
A45: 1 | B45: 3766.55 | C45: 1 | D45: =ROUND(B45*C45,2) -> 3766.55
C46: SUMATORIA | D46: =SUM(D45:D45) -> 3766.55
B48: FACTOR EXPERIENCIA = | D48: =ROUND(D46/($D$1*D43),2) -> 1.01
C49: E = | D49: =IF(D48<=3,60,IF(D48<=6,80,IF(D48<=10,100,120))) -> 60
B51: INDICE DE LIQUIDEZ = | D51: 5220.76
C52: CF = | D52: =IF(D51<0.5,20,IF(D51<0.75,25,IF(D51<1,30,IF(D51<1.5,35,40)))) -> 40
B54: NUMERO DE TRABAJADORES = | D54: 1
C55: CT = | D55: =IF(D54>=11,40,IF(D54>=6,30,20)) -> 20
A57: SALDO CONTRATOS EN EJECUCION
A58: N° | B58: VALOR | C58: PLAZO (MESES) | D58: DIAS EJECUTADOS
A59: 1 | B59: 393814190 | C59: 1 | D59: =+I59 -> 0 | I59: =+H59-G59 -> 0
A60: 2 | B60: 71847601 | C60: 2 | D60: =+I60 -> 41 | G60: 44184 | H60: 44225 | I60: =+H60-G60 -> 41
A61: 3 | B61: 73330394 | C61: 2 | D61: =I61 -> 0 | G61: 44225 | H61: 44225 | I61: =+H61-G61 -> 0
A62: 4 | B62: 142441678 | C62: 2 | D62: =I62 -> 0 | G62: 44225 | H62: 44225 | I62: =+H62-G62 -> 0
A63: N° | B63: DIAS POR EJECUTAR | C63: % PARTICIPACION | D63: SCE
...

Sheet CALCULO MÉTODO PONDERACIÓN
A1: No. | B1: VALOR PROMEDIO CONTRATOS
A2: 1 | B2: =+'EXPER. GENERAL'!#REF!/2 -> #REF!
A3: 2 | B3: =+'EXPER. GENERAL'!#REF!/3 -> #REF!
A4: 3 | B4: =+'EXPER. GENERAL'!#REF!/1 -> #REF!
A5: 4 | B5: =+'EXPER. GENERAL'!#REF!/6 -> #REF!
A6: 5 | B6: =+'EXPER. GENERAL'!#REF!/5 -> #REF!
A7: 6 | B7: =+'EXPER. GENERAL'!#REF!/3 -> #REF!
A8: 7 | B8: =+'EXPER. GENERAL'!#REF!/4 -> #REF!
A9: 8 | B9: =+'EXPER. GENERAL'!#REF!/1 -> #REF!
A10: 9 | B10: =+'EXPER. GENERAL'!#REF!/4 -> #REF!
A11: 10 | B11: =+'EXPER. GENERAL'!#REF!/6 -> #REF!
B12: =+MEDIAN(B2:B11) -> #REF!
B13: =+(1-((ABS(B12-B2))/B12))*69 -> #REF!

Sheet 1
A1: VALOR CONTRATO | B1: AÑO | C1: SALARIO MINIMO | D1: SMLMV | E1: ACTUAL
B2: 1985 | C2: 13557.6 | D2: =+A2/C2 -> 0 | E2: =+D2*$C$36 -> 0 | F2: =+E2/$C$36 -> 0
B3: =+B2+1 -> 1986 | C3: 16811.4 | D3: =+A3/C3 -> 0 | E3: =+D3*$C$36 -> 0 | F3: =+E3/$C$36 -> 0
B4: =+B3+1 -> 1987 | C4: 20509.8 | D4: =+A4/C4 -> 0 | E4: =+D4*$C$36 -> 0 | F4: =+E4/$C$36 -> 0
B5: =+B4+1 -> 1988 | C5: 25637.4 | D5: =+A5/C5 -> 0 | E5: =+D5*$C$36 -> 0 | F5: =+E5/$C$36 -> 0
B6: =+B5+1 -> 1989 | C6: 32559.6 | D6: =+A6/C6 -> 0 | E6: =+D6*$C$36 -> 0 | F6: =+E6/$C$36 -> 0
B7: =+B6+1 -> 1990 | C7: 41025 | D7: =+A7/C7 -> 0 | E7: =+D7*$C$36 -> 0 | F7: =+E7/$C$36 -> 0
B8: =+B7+1 -> 1991 | C8: 51720 | D8: =+A8/C8 -> 0 | E8: =+D8*$C$36 -> 0 | F8: =+E8/$C$36 -> 0
B9: =+B8+1 -> 1992 | C9: 65190 | D9: =+A9/C9 -> 0 | E9: =+D9*$C$36 -> 0 | F9: =+E9/$C$36 -> 0
B10: =+B9+1 -> 1993 | C10: 81510 | D10: =+A10/C10 -> 0 | E10: =+D10*$C$36 -> 0 | F10: =+E10/$C$36 -> 0
B11: =+B10+1 -> 1994 | C11: 98700 | D11: =+A11/C11 -> 0 | E11: =+D11*$C$36 -> 0 | F11: =+E11/$C$36 -> 0
B12: =+B11+1 -> 1995 | C12: 118933.5 | D12: =+A12/C12 -> 0 | E12: =+D12*$C$36 -> 0 | F12: =+E12/$C$36 -> 0
B13: =+B12+1 -> 1996 | C13: 142125 | D13: =+A13/C13 -> 0 | E13: =+D13*$C$36 -> 0 | F13: =+E13/$C$36 -> 0
B14: =+B13+1 -> 1997 | C14: 172005 | D14: =+A14/C14 -> 0 | E14: =+D14*$C$36 -> 0 | F14: =+E14/$C$36 -> 0
... B19: =+B18+1 -> 2002 | C19: 309000 | D19: =+A19/C19 -> 0 | E19: =+D19*$C$36 -> 0 | F19: =+E19/$C$36 -> 0
A20: 206751073 | B20: =+B19+1 -> 2003 | C20: 332000 | D20: =+A20/C20 -> 622.7442 | E20: =+D20*$C$36 -> 5.1570443e+08 | F20: =+E20/$C$36 -> 622.7442
B21: =+B20+1 -> 2004 | C21: 358000 | D21: =+A21/C21 -> 0 | E21: =+D21*$C$36 -> 0 | F21: =+E21/$C$36 -> 0
B22: =+B21+1 -> 2005 | C22: 381500 | D22: =+A22/C22 -> 0 | E22: =+D22*$C$36 -> 0 | F22: =+E22/$C$36 -> 0
B23: =+B22+1 -> 2006 | C23: 408000 | D23: =+A23/C23 -> 0 | E23: =+D23*$C$36 -> 0 | F23: =+E23/$C$36 -> 0
B24: =+B23+1 -> 2007 | C24: 433700 | D24: =+A24/C24 -> 0 | E24: =+D24*$C$36 -> 0 | F24: =+E24/$C$36 -> 0
B25: =+B24+1 -> 2008 | C25: 461500 | D25: =+A25/C25 -> 0 | E25: =+D25*$C$36 -> 0 | F25: =+E25/$C$36 -> 0 | H25: =5993.11*C25 -> 2765820265
B26: =+B25+1 -> 2009 | C26: 496900 | D26: =+A26/C26 -> 0 | E26: =+D26*$C$36 -> 0 | F26: =+E26/$C$36 -> 0
B27: 2010 | C27: 515000 | D27: =+A27/C27 -> 0 | E27: =+D27*$C$36 -> 0 | F27: =+E27/$C$36 -> 0
B28: 2011 | C28: 535600 | D28: =+A28/C28 -> 0 | E28: =+D28*$C$36 -> 0 | F28: =+E28/$C$36 -> 0
B29: 2012 | C29: 566700 | D29: =+A29/C29 -> 0 | E29: =+D29*$C$36 -> 0 | F29: =+E29/$C$36 -> 0
A30: 459289240 | B30: 2013 | C30: 589500 | D30: =+A30/C30 -> 779.11661 | E30: =+D30*$C$36 -> 6.4519893e+08 | F30: =+E30/$C$36 -> 779.11661
A31: 433408799 | B31: 2014 | C31: 616000 | D31: =+A31/C31 -> 703.58571 | E31: =+D31*$C$36 -> 5.8265059e+08 | F31: =+E31/$C$36 -> 703.58571
A32: 811160096 | B32: 2015 | C32: 644350 | D32: =+A32/C32 -> 1258.8812 | E32: =+D32*$C$36 -> 1.0424997e+09 | F32: =+E32/$C$36 -> 1258.8812
B33: 2016 | C33: 689455 | D33: =+A33/C33 -> 0 | E33: =+D33*$C$36 -> 0 | F33: =+E33/$C$36 -> 0
A34: 730410621 | B34: 2017 | C34: 737717 | D34: =+A34/C34 -> 990.09596 | E34: =+D34*$C$36 -> 8.1991431e+08 | F34: =+E34/$C$36 -> 990.09596
A35: 345915409 | B35: 2018 | C35: 781242 | D35: =+A35/C35 -> 442.77626 | E35: =+D35*$C$36 -> 3.666701e+08 | F35: =+E35/$C$36 -> 442.77626
B36: 2019 | C36: 828116 | D36: =+A36/C36 -> 0 | E36: =+D36*$C$36 -> 0 | F36: =+E36/$C$36 -> 0
B37: 2020 | C37: 877803 | D37: =+A37/C37 -> 0 | E37: =+D37*$C$36 -> 0 | F37: =+E37/$C$36 -> 0
E38: =SUM(E2:E37) -> 3.972638e+09
E39: =520475866 -> 520475866
