Workbook

Sheet Indicadores financieros
D1: CAPACIDAD FINANCIERA (CF) | H1: CAPACIDAD ORGANIZACIONAL (CO)
B2: Empresa | C2: NIT | D2: Índice de liquidez | E2: Índice de endeudamiento | F2: Razón de cobertura de intereses | G2: Capital de trabajo | H2: Rentabilidad sobre el patrimonio (RP) | I2: Rentabilidad sobre activos (RA)
A3: 1 | B3: CYG INGENIERIA Y CONSTRUCCIONES S.A.S. | C3: 800140959 | D3: =+'Estado de situación financiera'!P3/'Estado de situación financiera'!AR3 -> 2.8263859 | E3: =+'Estado de situación financiera'!BC3/'Estado de situación financiera'!AF3 -> 0.56794128 | F3: =+'Estado resultado integral'!L3/'Estado resultado integral'!N3 -> 1.0991066 | G3: =+'Estado de situación financiera'!P3-'Estado de situación financiera'!AR3 -> 35979638 | H3: =+'Estado resultado integral'!L3/'Estado de situación financiera'!BL3 -> 0.057476648 | I3: =+'Estado resultado integral'!L3/'Estado de situación financiera'!AF3 -> 0.024833287
A4: 2 | B4: INCITECO S.A.S. | C4: 800104214 | D4: =+'Estado de situación financiera'!P4/'Estado de situación financiera'!AR4 -> 5.0325354 | E4: =+'Estado de situación financiera'!BC4/'Estado de situación financiera'!AF4 -> 0.24429802 | G4: =+'Estado de situación financiera'!P4-'Estado de situación financiera'!AR4 -> 25250043 | H4: =+'Estado resultado integral'!L4/'Estado de situación financiera'!BL4 -> 0.26120854 | I4: =+'Estado resultado integral'!L4/'Estado de situación financiera'!AF4 -> 0.19739581
A5: 3 | B5: CONTEIN SAS | C5: 860090819 | D5: =+'Estado de situación financiera'!P5/'Estado de situación financiera'!AR5 -> 2.5558848 | E5: =+'Estado de situación financiera'!BC5/'Estado de situación financiera'!AF5 -> 0.58004236 | F5: =+'Estado resultado integral'!L5/'Estado resultado integral'!N5 -> 20.437055 | G5: =+'Estado de situación financiera'!P5-'Estado de situación financiera'!AR5 -> 45659013 | H5: =+'Estado resultado integral'!L5/'Estado de situación financiera'!BL5 -> 0.27454699 | I5: =+'Estado resultado integral'!L5/'Estado de situación financiera'!AF5 -> 0.11529811
A6: 4 | B6: GESTION RURAL Y URBANA S.A.S | C6: 830128894 | D6: =+'Estado de situación financiera'!P6/'Estado de situación financiera'!AR6 -> 3.4851439 | E6: =+'Estado de situación financiera'!BC6/'Estado de situación financiera'!AF6 -> 0.41479876 | G6: =+'Estado de situación financiera'!P6-'Estado de situación financiera'!AR6 -> 4427833 | H6: =+'Estado resultado integral'!L6/'Estado de situación financiera'!BL6 -> 0.15504654 | I6: =+'Estado resultado integral'!L6/'Estado de situación financiera'!AF6 -> 0.090733427
A7: 5 | B7: REDES Y EDIFICACIONES S.A. | C7: 830003733 | D7: =+'Estado de situación financiera'!P7/'Estado de situación financiera'!AR7 -> 1.7589751 | E7: =+'Estado de situación financiera'!BC7/'Estado de situación financiera'!AF7 -> 0.56288866 | F7: =+'Estado resultado integral'!L7/'Estado resultado integral'!N7 -> -0.4404248 | G7: =+'Estado de situación financiera'!P7-'Estado de situación financiera'!AR7 -> 15556649 | H7: =+'Estado resultado integral'!L7/'Estado de situación financiera'!BL7 -> -0.053529859 | I7: =+'Estado resultado integral'!L7/'Estado de situación financiera'!AF7 -> -0.023398509
A8: 6 | B8: CONCREARMADO LTDA | C8: 830041080 | D8: =+'Estado de situación financiera'!P8/'Estado de situación financiera'!AR8 -> 4.0305089 | E8: =+'Estado de situación financiera'!BC8/'Estado de situación financiera'!AF8 -> 0.69104008 | F8: =+'Estado resultado integral'!L8/'Estado resultado integral'!N8 -> 6.9550532 | G8: =+'Estado de situación financiera'!P8-'Estado de situación financiera'!AR8 -> 21152740 | H8: =+'Estado resultado integral'!L8/'Estado de situación financiera'!BL8 -> 0.32601983 | I8: =+'Estado resultado integral'!L8/'Estado de situación financiera'!AF8 -> 0.10072706
A9: 7 | B9: INGENIERÍA TRANSPORTE Y MAQUINARIA S.A. | C9: 900102268 | D9: =+'Estado de situación financiera'!P9/'Estado de situación financiera'!AR9 -> 4.0790804 | E9: =+'Estado de situación financiera'!BC9/'Estado de situación financiera'!AF9 -> 0.66972517 | F9: =+'Estado resultado integral'!L9/'Estado resultado integral'!N9 -> 3.1730727 | G9: =+'Estado de situación financiera'!P9-'Estado de situación financiera'!AR9 -> 26698158 | H9: =+'Estado resultado integral'!L9/'Estado de situación financiera'!BL9 -> 0.4597254 | I9: =+'Estado resultado integral'!L9/'Estado de situación financiera'!AF9 -> 0.15183573
A10: 8 | B10: INNOVACION E INFRAESTRUCTURA SAS | C10: 900403962 | D10: =+'Estado de situación financiera'!P10/'Estado de situación financiera'!AR10 -> 4.6826157 | E10: =+'Estado de situación financiera'!BC10/'Estado de situación financiera'!AF10 -> 0.68468893 | F10: =+'Estado resultado integral'!L10/'Estado resultado integral'!N10 -> 3.8198452 | G10: =+'Estado de situación financiera'!P10-'Estado de situación financiera'!AR10 -> 9732159 | H10: =+'Estado resultado integral'!L10/'Estado de situación financiera'!BL10 -> 0.17327141 | I10: =+'Estado resultado integral'!L10/'Estado de situación financiera'!AF10 -> 0.054634395
A11: 9 | B11: ESTUDIOS E INGENIERIA SAS | C11: 900351236 | D11: =+'Estado de situación financiera'!P11/'Estado de situación financiera'!AR11 -> 31.081094 | E11: =+'Estado de situación financiera'!BC11/'Estado de situación financiera'!AF11 -> 0.31436296 | F11: =+'Estado resultado integral'!L11/'Estado resultado integral'!N11 -> 23.264461 | G11: =+'Estado de situación financiera'!P11-'Estado de situación financiera'!AR11 -> 21192522 | H11: =+'Estado resultado integral'!L11/'Estado de situación financiera'!BL11 -> 0.22475994 | I11: =+'Estado resultado integral'!L11/'Estado de situación financiera'!AF11 -> 0.15410374
A12: 10 | B12: CIVILEZA SAS | C12: 830141725 | D12: =+'Estado de situación financiera'!P12/'Estado de situación financiera'!AR12 -> 10.641022 | E12: =+'Estado de situación financiera'!BC12/'Estado de situación financiera'!AF12 -> 0.55582814 | F12: =+'Estado resultado integral'!L12/'Estado resultado integral'!N12 -> 3.3521313 | G12: =+'Estado de situación financiera'!P12-'Estado de situación financiera'!AR12 -> 9574383 | H12: =+'Estado resultado integral'!L12/'Estado de situación financiera'!BL12 -> 0.17291933 | I12: =+'Estado resultado integral'!L12/'Estado de situación financiera'!AF12 -> 0.076805902
A13: 11 | B13: MIROAL INGENIERIA SAS | C13: 830053973 | D13: =+'Estado de situación financiera'!P13/'Estado de situación financiera'!AR13 -> 18.647507 | E13: =+'Estado de situación financiera'!BC13/'Estado de situación financiera'!AF13 -> 0.24557369 | F13: =+'Estado resultado integral'!L13/'Estado resultado integral'!N13 -> 4.6524334 | G13: =+'Estado de situación financiera'!P13-'Estado de situación financiera'!AR13 -> 31509042 | H13: =+'Estado resultado integral'!L13/'Estado de situación financiera'!BL13 -> 0.23407169 | I13: =+'Estado resultado integral'!L13/'Estado de situación financiera'!AF13 -> 0.17658984
A14: 12 | B14: CONSTRUCCIONES KYOTO S.A.S | C14: 830045448 | D14: =+'Estado de situación financiera'!P14/'Estado de situación financiera'!AR14 -> 2.4582719 | E14: =+'Estado de situación financiera'!BC14/'Estado de situación financiera'!AF14 -> 0.41367432 | F14: =+'Estado resultado integral'!L14/'Estado resultado integral'!N14 -> 0.85973742 | G14: =+'Estado de situación financiera'!P14-'Estado de situación financiera'!AR14 -> 7340875 | H14: =+'Estado resultado integral'!L14/'Estado de situación financiera'!BL14 -> 0.03193178 | I14: =+'Estado resultado integral'!L14/'Estado de situación financiera'!AF14 -> 0.018722423
A15: 13 | B15: SOCIEDAD CONSTRUCTORA DE OBRAS CIVILES S.A.S. | C15: 811000489 | D15: =+'Estado de situación financiera'!P15/'Estado de situación financiera'!AR15 -> 2.6259933 | E15: =+'Estado de situación financiera'!BC15/'Estado de situación financiera'!AF15 -> 0.34836922 | F15: =+'Estado resultado integral'!L15/'Estado resultado integral'!N15 -> -0.27631466 | G15: =+'Estado de situación financiera'!P15-'Estado de situación financiera'!AR15 -> 3776737 | H15: =+'Estado resultado integral'!L15/'Estado de situación financiera'!BL15 -> -0.00074136304 | I15: =+'Estado resultado integral'!L15/'Estado de situación financiera'!AF15 -> -0.00048309498
A16: 14 | B16: CONSTRUCTORA A CRUZ S.A.S | C16: 800002820 | D16: =+'Estado de situación financiera'!P16/'Estado de situación financiera'!AR16 -> 14.323229 | E16: =+'Estado de situación financiera'!BC16/'Estado de situación financiera'!AF16 -> 0.46775178 | F16: =+'Estado resultado integral'!L16/'Estado resultado integral'!N16 -> 2.7428455 | G16: =+'Estado de situación financiera'!P16-'Estado de situación financiera'!AR16 -> 14958722 | H16: =+'Estado resultado integral'!L16/'Estado de situación financiera'!BL16 -> 0.21549582 | I16: =+'Estado resultado integral'!L16/'Estado de situación financiera'!AF16 -> 0.11469727
A17: 15 | B17: CIVILIZACION TECNICA Y ARQUITECTURA SAS | C17: 900283279 | D17: =+'Estado de situación financiera'!P17/'Estado de situación financiera'!AR17 -> 12.677887 | E17: =+'Estado de situación financiera'!BC17/'Estado de situación financiera'!AF17 -> 0.13580739 | G17: =+'Estado de situación financiera'!P17-'Estado de situación financiera'!AR17 -> 10220545 | H17: =+'Estado resultado integral'!L17/'Estado de situación financiera'!BL17 -> 0.022822581 | I17: =+'Estado resultado integral'!L17/'Estado de situación financiera'!AF17 -> 0.019723106
A18: 16 | B18: GRUPO S Y C S.A.S. | C18: 811031728 | D18: =+'Estado de situación financiera'!P18/'Estado de situación financiera'!AR18 -> 35.614601 | E18: =+'Estado de situación financiera'!BC18/'Estado de situación financiera'!AF18 -> 0.30037322 | F18: =+'Estado resultado integral'!L18/'Estado resultado integral'!N18 -> 5.9450365 | G18: =+'Estado de situación financiera'!P18-'Estado de situación financiera'!AR18 -> 16555575 | H18: =+'Estado resultado integral'!L18/'Estado de situación financiera'!BL18 -> 0.1146886 | I18: =+'Estado resultado integral'!L18/'Estado de situación financiera'!AF18 -> 0.080239214
A19: 17 | B19: ID SAS | C19: 830007560 | D19: =+'Estado de situación financiera'!P19/'Estado de situación financiera'!AR19 -> 10.620911 | E19: =+'Estado de situación financiera'!BC19/'Estado de situación financiera'!AF19 -> 0.24469335 | F19: =+'Estado resultado integral'!L19/'Estado resultado integral'!N19 -> 4.5524535 | G19: =+'Estado de situación financiera'!P19-'Estado de situación financiera'!AR19 -> 934277 | H19: =+'Estado resultado integral'!L19/'Estado de situación financiera'!BL19 -> 0.10013685 | I19: =+'Estado resultado integral'!L19/'Estado de situación financiera'!AF19 -> 0.07563403
A20: 18 | B20: CONSTRUCTORA CAMACON S.A.S | C20: 900452410 | D20: =+'Estado de situación financiera'!P20/'Estado de situación financiera'!AR20 -> 1.2589784 | E20: =+'Estado de situación financiera'!BC20/'Estado de situación financiera'!AF20 -> 0.49419872 | F20: =+'Estado resultado integral'!L20/'Estado resultado integral'!N20 -> 3.146658 | G20: =+'Estado de situación financiera'!P20-'Estado de situación financiera'!AR20 -> 1707200 | H20: =+'Estado resultado integral'!L20/'Estado de situación financiera'!BL20 -> 0.13993795 | I20: =+'Estado resultado integral'!L20/'Estado de situación financiera'!AF20 -> 0.070780795
A21: 19 | B21: CONSTRUVAL INGENIERIA S.A.S. | C21: 900264302 | D21: =+'Estado de situación financiera'!P21/'Estado de situación financiera'!AR21 -> 3.5515757 | E21: =+'Estado de situación financiera'!BC21/'Estado de situación financiera'!AF21 -> 0.60068343 | G21: =+'Estado de situación financiera'!P21-'Estado de situación financiera'!AR21 -> 41541059 | H21: =+'Estado resultado integral'!L21/'Estado de situación financiera'!BL21 -> 0.70549489 | I21: =+'Estado resultado integral'!L21/'Estado de situación financiera'!AF21 -> 0.28171579
A22: 20 | B22: SAFRID INGENIERIA S.A.S | C22: 900520848 | D22: =+'Estado de situación financiera'!P22/'Estado de situación financiera'!AR22 -> 47.703551 | E22: =+'Estado de situación financiera'!BC22/'Estado de situación financiera'!AF22 -> 0.49277076 | G22: =+'Estado de situación financiera'!P22-'Estado de situación financiera'!AR22 -> 11051181 | H22: =+'Estado resultado integral'!L22/'Estado de situación financiera'!BL22 -> 0.44334148 | I22: =+'Estado resultado integral'!L22/'Estado de situación financiera'!AF22 -> 0.22487577
A23: 21 | B23: SISTEMAS INTEGRALES DE MANEJO AMBIENTAL SIMA LTDA | C23: 860091575 | D23: =+'Estado de situación financiera'!P23/'Estado de situación financiera'!AR23 -> 3.0731203 | E23: =+'Estado de situación financiera'!BC23/'Estado de situación financiera'!AF23 -> 0.17370318 | F23: =+'Estado resultado integral'!L23/'Estado resultado integral'!N23 -> 11.823132 | G23: =+'Estado de situación financiera'!P23-'Estado de situación financiera'!AR23 -> 1806148 | H23: =+'Estado resultado integral'!L23/'Estado de situación financiera'!BL23 -> 0.087095062 | I23: =+'Estado resultado integral'!L23/'Estado de situación financiera'!AF23 -> 0.071966373
A24: 22 | B24: GRUPO TITANIUM | C24: 900749719 | D24: =+'Estado de situación financiera'!P24/'Estado de situación financiera'!AR24 -> 4.1157633 | E24: =+'Estado de situación financiera'!BC24/'Estado de situación financiera'!AF24 -> 0.54625861 | F24: =+'Estado resultado integral'!L24/'Estado resultado integral'!N24 -> 11.11988 | G24: =+'Estado de situación financiera'!P24-'Estado de situación financiera'!AR24 -> 6246554 | H24: =+'Estado resultado integral'!L24/'Estado de situación financiera'!BL24 -> 0.46631162 | I24: =+'Estado resultado integral'!L24/'Estado de situación financiera'!AF24 -> 0.21158488
A25: 23 | B25: INGENIERIA RH S.A.S. | C25: 830061440 | D25: =+'Estado de situación financiera'!P25/'Estado de situación financiera'!AR25 -> 6.2000445 | E25: =+'Estado de situación financiera'!BC25/'Estado de situación financiera'!AF25 -> 0.18963471 | F25: =+'Estado resultado integral'!L25/'Estado resultado integral'!N25 -> -22.992953 | G25: =+'Estado de situación financiera'!P25-'Estado de situación financiera'!AR25 -> 1541730 | H25: =+'Estado resultado integral'!L25/'Estado de situación financiera'!BL25 -> -0.096754372 | I25: =+'Estado resultado integral'!L25/'Estado de situación financiera'!AF25 -> -0.078406384
A26: 24 | B26: SOLUCIONES INTEGRALES UNION SAS | C26: 800205914 | D26: =+'Estado de situación financiera'!P26/'Estado de situación financiera'!AR26 -> 2.4488242 | E26: =+'Estado de situación financiera'!BC26/'Estado de situación financiera'!AF26 -> 0.37751091 | F26: =+'Estado resultado integral'!L26/'Estado resultado integral'!N26 -> 18.357232 | G26: =+'Estado de situación financiera'!P26-'Estado de situación financiera'!AR26 -> 38477883 | H26: =+'Estado resultado integral'!L26/'Estado de situación financiera'!BL26 -> 0.25673835 | I26: =+'Estado resultado integral'!L26/'Estado de situación financiera'!AF26 -> 0.15981682
A27: 25 | B27: CONSULTORIA Y CONSTRUCCION S.A.S | C27: 830041411 | D27: =+'Estado de situación financiera'!P27/'Estado de situación financiera'!AR27 -> 3.9804518 | E27: =+'Estado de situación financiera'!BC27/'Estado de situación financiera'!AF27 -> 0.57800846 | F27: =+'Estado resultado integral'!L27/'Estado resultado integral'!N27 -> 3.6843437 | G27: =+'Estado de situación financiera'!P27-'Estado de situación financiera'!AR27 -> 6449486 | H27: =+'Estado resultado integral'!L27/'Estado de situación financiera'!BL27 -> 0.095995756 | I27: =+'Estado resultado integral'!L27/'Estado de situación financiera'!AF27 -> 0.040509397
A28: 26 | B28: UNIOBRAS LTDA | C28: 900104795 | D28: =+'Estado de situación financiera'!P28/'Estado de situación financiera'!AR28 -> 6.0481953 | E28: =+'Estado de situación financiera'!BC28/'Estado de situación financiera'!AF28 -> 0.65721342 | G28: =+'Estado de situación financiera'!P28-'Estado de situación financiera'!AR28 -> 6155002 | H28: =+'Estado resultado integral'!L28/'Estado de situación financiera'!BL28 -> 0.11951619 | I28: =+'Estado resultado integral'!L28/'Estado de situación financiera'!AF28 -> 0.040968545
A29: 27 | B29: PROTELCA INGENIEROS ARQUITECTOS SAS | C29: 830037322 | D29: =+'Estado de situación financiera'!P29/'Estado de situación financiera'!AR29 -> 3.5468981 | E29: =+'Estado de situación financiera'!BC29/'Estado de situación financiera'!AF29 -> 0.49405683 | F29: =+'Estado resultado integral'!L29/'Estado resultado integral'!N29 -> 4.1401125 | G29: =+'Estado de situación financiera'!P29-'Estado de situación financiera'!AR29 -> 7905992 | H29: =+'Estado resultado integral'!L29/'Estado de situación financiera'!BL29 -> 0.3394435 | I29: =+'Estado resultado integral'!L29/'Estado de situación financiera'!AF29 -> 0.17173912
A30: 28 | B30: H.A.H. CONSTRUCCIONES S.A.S. | C30: 900431716 | D30: =+'Estado de situación financiera'!P30/'Estado de situación financiera'!AR30 -> 110.11335 | E30: =+'Estado de situación financiera'!BC30/'Estado de situación financiera'!AF30 -> 0.39984819 | F30: =+'Estado resultado integral'!L30/'Estado resultado integral'!N30 -> 2.5433088 | G30: =+'Estado de situación financiera'!P30-'Estado de situación financiera'!AR30 -> 1840524 | H30: =+'Estado resultado integral'!L30/'Estado de situación financiera'!BL30 -> 1.0853554 | I30: =+'Estado resultado integral'!L30/'Estado de situación financiera'!AF30 -> 0.65137803
A31: 29 | B31: CUMBRE INGENIERIA SAS | C31: 900321674 | D31: =+'Estado de situación financiera'!P31/'Estado de situación financiera'!AR31 -> 28.846066 | E31: =+'Estado de situación financiera'!BC31/'Estado de situación financiera'!AF31 -> 0.50683653 | G31: =+'Estado de situación financiera'!P31-'Estado de situación financiera'!AR31 -> 8968104 | H31: =+'Estado resultado integral'!L31/'Estado de situación financiera'!BL31 -> 0.17443006 | I31: =+'Estado resultado integral'!L31/'Estado de situación financiera'!AF31 -> 0.086022534
A32: 30 | B32: RAYCO LTDA RODRIGO ARISTIZABAL Y CIA LTDA | C32: 860400538 | D32: =+'Estado de situación financiera'!P32/'Estado de situación financiera'!AR32 -> 1.3846633 | E32: =+'Estado de situación financiera'!BC32/'Estado de situación financiera'!AF32 -> 0.61253976 | G32: =+'Estado de situación financiera'!P32-'Estado de situación financiera'!AR32 -> 6583589 | H32: =+'Estado resultado integral'!L32/'Estado de situación financiera'!BL32 -> 0.55822514 | I32: =+'Estado resultado integral'!L32/'Estado de situación financiera'!AF32 -> 0.21629005
A33: 31 | B33: ENERGY CONSULTING GROUP S.A.S. | C33: 900805621 | D33: =+'Estado de situación financiera'!P33/'Estado de situación financiera'!AR33 -> 5.9479233 | E33: =+'Estado de situación financiera'!BC33/'Estado de situación financiera'!AF33 -> 0.57206214 | G33: =+'Estado de situación financiera'!P33-'Estado de situación financiera'!AR33 -> 6303115 | H33: =+'Estado resultado integral'!L33/'Estado de situación financiera'!BL33 -> 0.17330919 | I33: =+'Estado resultado integral'!L33/'Estado de situación financiera'!AF33 -> 0.074165565
A34: 32 | B34: HIMHER Y COMPAÑIA S.A. SOCIEDAD DE FAMILIA | C34: 860069559 | D34: =+'Estado de situación financiera'!P34/'Estado de situación financiera'!AR34 -> 1.4502833 | E34: =+'Estado de situación financiera'!BC34/'Estado de situación financiera'!AF34 -> 0.77167866 | F34: =+'Estado resultado integral'!L34/'Estado resultado integral'!N34 -> -0.48679916 | G34: =+'Estado de situación financiera'!P34-'Estado de situación financiera'!AR34 -> 782260 | H34: =+'Estado resultado integral'!L34/'Estado de situación financiera'!BL34 -> -0.2051776 | I34: =+'Estado resultado integral'!L34/'Estado de situación financiera'!AF34 -> -0.046846424
A35: 33 | B35: INCEL SA | C35: 800143498 | D35: =+'Estado de situación financiera'!P35/'Estado de situación financiera'!AR35 -> 2.7123217 | E35: =+'Estado de situación financiera'!BC35/'Estado de situación financiera'!AF35 -> 0.43776331 | G35: =+'Estado de situación financiera'!P35-'Estado de situación financiera'!AR35 -> 1529629 | H35: =+'Estado resultado integral'!L35/'Estado de situación financiera'!BL35 -> -0.11551691 | I35: =+'Estado resultado integral'!L35/'Estado de situación financiera'!AF35 -> -0.064947847
A36: 34 | B36: INGENIERÍA TECNOLOGÍA CONSTRUCCIÓN Y VIAS | C36: 844002898 | D36: =+'Estado de situación financiera'!P36/'Estado de situación financiera'!AR36 -> 4.7179684 | E36: =+'Estado de situación financiera'!BC36/'Estado de situación financiera'!AF36 -> 0.54218369 | F36: =+'Estado resultado integral'!L36/'Estado resultado integral'!N36 -> 1.4710181 | G36: =+'Estado de situación financiera'!P36-'Estado de situación financiera'!AR36 -> 6273856 | H36: =+'Estado resultado integral'!L36/'Estado de situación financiera'!BL36 -> 0.06463652 | I36: =+'Estado resultado integral'!L36/'Estado de situación financiera'!AF36 -> 0.029591653
A37: 35 | B37: WORLDTEK SAS | C37: 900151287 | D37: =+'Estado de situación financiera'!P37/'Estado de situación financiera'!AR37 -> 2.3576827 | E37: =+'Estado de situación financiera'!BC37/'Estado de situación financiera'!AF37 -> 0.67881929 | F37: =+'Estado resultado integral'!L37/'Estado resultado integral'!N37 -> 2.7285897 | G37: =+'Estado de situación financiera'!P37-'Estado de situación financiera'!AR37 -> 3317131 | H37: =+'Estado resultado integral'!L37/'Estado de situación financiera'!BL37 -> 0.35235311 | I37: =+'Estado resultado integral'!L37/'Estado de situación financiera'!AF37 -> 0.11316902
A38: 36 | B38: INGENIERIA Y CONSTRUCCIONES SION S.A.S. | C38: 900104949 | D38: =+'Estado de situación financiera'!P38/'Estado de situación financiera'!AR38 -> 8.8598131 | E38: =+'Estado de situación financiera'!BC38/'Estado de situación financiera'!AF38 -> 0.066363613 | G38: =+'Estado de situación financiera'!P38-'Estado de situación financiera'!AR38 -> 490303 | H38: =+'Estado resultado integral'!L38/'Estado de situación financiera'!BL38 -> 0.096619558 | I38: =+'Estado resultado integral'!L38/'Estado de situación financiera'!AF38 -> 0.090207535
A39: 37 | B39: BERMUDEZ Y CIA S EN C | C39: 816000531 | D39: =+'Estado de situación financiera'!P39/'Estado de situación financiera'!AR39 -> 24.402684 | E39: =+'Estado de situación financiera'!BC39/'Estado de situación financiera'!AF39 -> 0.66061019 | F39: =+'Estado resultado integral'!L39/'Estado resultado integral'!N39 -> 2.3484029 | G39: =+'Estado de situación financiera'!P39-'Estado de situación financiera'!AR39 -> 1867932 | H39: =+'Estado resultado integral'!L39/'Estado de situación financiera'!BL39 -> 0.052498732 | I39: =+'Estado resultado integral'!L39/'Estado de situación financiera'!AF39 -> 0.017817535
A40: 38 | B40: GIGA INGENIERIA Y CONSTRUCCIONES SAS | C40: 900218580 | D40: =+'Estado de situación financiera'!P40/'Estado de situación financiera'!AR40 -> 7.3444836 | E40: =+'Estado de situación financiera'!BC40/'Estado de situación financiera'!AF40 -> 0.40544309 | G40: =+'Estado de situación financiera'!P40-'Estado de situación financiera'!AR40 -> 10950160 | H40: =+'Estado resultado integral'!L40/'Estado de situación financiera'!BL40 -> 0.035600079 | I40: =+'Estado resultado integral'!L40/'Estado de situación financiera'!AF40 -> 0.021166273
...

Sheet Estado de situación financiera
B2: No. | C2: Empresa | D2: NIT | E2: Efectivo y equivalentes al efectivo (CashAndCashEquivalents) | F2: Cuentas comerciales por cobrar y otras cuentas por cobrar corrientes (TradeAndOtherCurrentReceivables) | G2: Inventarios corrientes (Inventories) | H2: Activos por impuestos corrientes, corriente (CurrentTaxAssetsCurrent) | I2: Activos biológicos corrientes, al costo menos depreciación acumulada y deterioro de valor (CurrentBiologicalAssetsAtCost) | J2: Activos biológicos corrientes, al valor razonable (CurrentBiologicalAssetsAtFairValue) | K2: Otros activos financieros corrientes (OtherCurrentFinancialAssets) | L2: Otros activos no financieros corrientes (OtherCurrentNonfinancialAssets) | M2: Activos corrientes distintos al efectivo pignorados como garantía colateral para las que el receptor de transferencias tiene derecho por contrato o costumbre a vender o pignorar de nuevo dicha garantía colateral (CurrentNoncashAssetsPledgedAsCollateralForWhichTransfereeHasRightByContractOrCustomToSellOrRepledgeCollateral) | N2: Total activos corrientes distintos de los activos no corrientes o grupo de activos para su disposición clasificados como mantenidos para la venta o como mantenidos para distribuir a los propietarios (Total_activos_corrientes_distintos_de_los_activos_no_corrientes_o_grupo_de_activos_para_su_disposicion_clasificados_como_mantenidos_para_la_venta_o_como_mantenidos_para_distribuir_a_los_propietarios) | O2: Activos no corrientes o grupos de activos para su disposición clasificados como mantenidos para la venta o como mantenidos para distribuir a los propietarios (Activos_no_corrientes_o_grupos_de_activos_para_su_disposicion_clasificados_como_mantenidos_para_la_venta_o_como_mantenidos_para_distribuir_a_los_propietarios) | P2: Activos corrientes totales (CurrentAssets) | Q2: Propiedades, planta y equipo (PropertyPlantAndEquipment) | R2: Propiedades de inversión al costo menos depreciación acumulada y deterioro (Propiedades_de_inversión_al_costo_menos_depreciacion_acumulada_y_deterioro) | S2: Propiedades de inversión a valor razonable con cambios en resultados (InvestmentProperty) | T2: Plusvalía (Goodwill) | U2: Activos intangibles distintos de la plusvalía (IntangibleAssetsOtherThanGoodwill) | V2: Activos biológicos no corrientes, al costo menos depreciación acumulada y deterioro del valor (NoncurrentBiologicalAssetsAtCost) | W2: Activos biológicos no corrientes, al valor razonable (NoncurrentBiologicalAssetsAtFairValue) | X2: Cuentas comerciales por cobrar y otras cuentas por cobrar no corrientes (NoncurrentReceivables) | Y2: Inventarios no corrientes (NoncurrentInventories) | Z2: Activos por impuestos diferidos (DeferredTaxAssets) | AA2: Activos por impuestos corrientes, no corriente (CurrentTaxAssetsNoncurrent) | AB2: Otros activos financieros no corrientes (OtherNoncurrentFinancialAssets) | AC2: Otros activos no financieros no corrientes (OtherNoncurrentNonfinancialAssets) | AD2: Activos no corrientes distintos al efectivo pignorados como garantía colateral para las que el receptor de transferencias tiene derecho por contrato o costumbre a vender o pignorar de nuevo dicha garantía colateral (NoncurrentNoncashAssetsPledgedAsCollateralForWhichTransfereeHasRightByContractOrCustomToSellOrRepledgeCollateral) | AE2: Total de activos no corrientes (NoncurrentAssets) | AF2: Total de activos (Assets) | AG2: Provisiones corrientes por beneficios a los empleados (CurrentProvisionsForEmployeeBenefits) | AH2: Otras provisiones corrientes (OtherShorttermProvisions) | AI2: Total provisiones corrientes (CurrentProvisions) | AJ2: Cuentas por pagar comerciales y otras cuentas por pagar corrientes (TradeAndOtherCurrentPayables) | AK2: Pasivos por impuestos corrientes, corriente (CurrentTaxLiabilitiesCurrent) | AL2: Otros pasivos financieros corrientes (OtherCurrentFinancialLiabilities) | AM2: Préstamos corrientes (ShorttermBorrowings) | AN2: Parte corriente de préstamos no corrientes (CurrentPortionOfLongtermBorrowings) | AO2: Otros pasivos no financieros corrientes (OtherCurrentNonfinancialLiabilities) | AP2: Total pasivos corrientes distintos de los pasivos incluidos en grupos de activos para su disposición clasificados como mantenidos para la venta (Total_pasivos_corrientes_distintos_de_los_pasivos_incluidos_en_grupos_de_activos_para_su_disposicion_clasificados_como_mantenidos_para_la_venta) | AQ2: Pasivos incluidos en grupos de activos para su disposición clasificados como mantenidos para la venta (Pasivos_incluidos_en_grupos_de_activos_para_su_disposicion_clasificados_como_mantenidos_para_la_venta) | AR2: Pasivos corrientes totales (CurrentLiabilities) | AS2: Provisiones no corrientes por beneficios a los empleados (NoncurrentProvisionsForEmployeeBenefits) | AT2: Otras provisiones no corrientes (OtherLongtermProvisions) | AU2: Total provisiones no corrientes (NoncurrentProvisions) | AV2: Cuentas comerciales por pagar y otras cuentas por pagar no corrientes (NoncurrentPayables) | AW2: Pasivo por impuestos diferidos (DeferredTaxLiabilities) | AX2: Pasivos por impuestos corrientes, no corriente (CurrentTaxLiabilitiesNoncurrent) | AY2: Otros pasivos financieros no corrientes (OtherNoncurrentFinancialLiabilities) | AZ2: Parte no corriente de préstamos no corrientes (LongtermBorrowings) | BA2: Otros pasivos no financieros no corrientes (OtherNoncurrentNonfinancialLiabilities) | BB2: Total de pasivos no corrientes (NoncurrentLiabilities) | BC2: Total pasivos (Liabilities) | BD2: Capital emitido (IssuedCapital) | BE2: Prima de emisión (SharePremium) | BF2: Acciones propias en cartera (TreasuryShares) | BG2: Inversión suplementaria al capital asignado (InversionSuplementariaAlCapitalAsignado) | BH2: Otras participaciones en el patrimonio (OtherEquityInterest) | BI2: Superavit por revaluación (SuperavitPorRevaluacion) | BJ2: Otras reservas (OtherReserves) | BK2: Ganancias acumuladas (RetainedEarnings) | BL2: Patrimonio total (Equity) | BM2: Total de patrimonio y pasivos (EquityAndLiabilities)
B3: 1 | C3: CYG INGENIERIA Y CONSTRUCCIONES S.A.S. | D3: 800140959 | E3: 3342135 | F3: 18292869 | G3: 9491331 | H3: 0 | I3: 0 | J3: 0 | K3: 24553213 | L3: 0 | M3: 0 | N3: 55679548 | O3: 0 | P3: 55679548 | Q3: 173348 | R3: 0 | S3: 0 | T3: 0 | U3: 0 | V3: 0 | W3: 0 | X3: 0 | Y3: 0 | Z3: 0 | AA3: 0 | AB3: 0 | AC3: 0 | AD3: 0 | AE3: 173348 | AF3: 55852896 | AG3: 269997 | AH3: 0 | AI3: 269997 | AJ3: 5020674 | AK3: 272265 | AL3: 14136974 | AM3: 14136974 | AN3: 0 | AO3: 0 | AP3: 19699910 | AQ3: 0 | AR3: 19699910 | AS3: 0 | AT3: 0 | AU3: 0 | AV3: 9497770 | AW3: 19288 | AX3: 0 | AY3: 0 | AZ3: 0 | BA3: 2504197 | BB3: 12021255 | BC3: 31721165 | BD3: 2400000 | BE3: 0 | BF3: 0 | BG3: 0 | BH3: 0 | BI3: 9930000 | BJ3: 1200000 | BK3: 10601731 | BL3: 24131731 | BM3: 55852896
B4: 2 | C4: INCITECO S.A.S. | D4: 800104214 | E4: 12899940 | F4: 9981260 | G4: 8630423 | H4: 0 | I4: 0 | J4: 0 | K4: 0 | L4: 0 | M4: 0 | N4: 31511623 | O4: 0 | P4: 31511623 | Q4: 1726381 | R4: 265600 | S4: 0 | T4: 0 | U4: 1293066 | V4: 0 | W4: 0 | X4: 0 | Y4: 0 | Z4: 1383 | AA4: 0 | AB4: 0 | AC4: 4894 | AD4: 0 | AE4: 3291324 | AF4: 34802947 | AG4: 304584 | AH4: 0 | AI4: 304584 | AJ4: 4178510 | AK4: 898178 | AL4: 880308 | AM4: 880308 | AN4: 0 | AO4: 0 | AP4: 6261580 | AQ4: 0 | AR4: 6261580 | AS4: 0 | AT4: 0 | AU4: 0 | AV4: 0 | AW4: 46593 | AX4: 0 | AY4: 2194118 | AZ4: 2194118 | BA4: 0 | BB4: 2240711 | BC4: 8502291 | BD4: 351962 | BE4: 0 | BF4: 0 | BG4: 0 | BH4: 0 | BI4: 0 | BJ4: 490113 | BK4: 25458581 | BL4: 26300656 | BM4: 34802947
B5: 3 | C5: CONTEIN SAS | D5: 860090819 | E5: 6339999 | F5: 11549649 | G5: 21025372 | H5: 0 | I5: 0 | J5: 0 | K5: 0 | L5: 23969592 | M5: 12120412 | N5: 75005024 | O5: 0 | P5: 75005024 | Q5: 5376582 | R5: 0 | S5: 0 | T5: 0 | U5: 0 | V5: 0 | W5: 0 | X5: 0 | Y5: 0 | Z5: 387388 | AA5: 0 | AB5: 0 | AC5: 0 | AD5: 0 | AE5: 5763970 | AF5: 80768994 | AG5: 657716 | AH5: 0 | AI5: 657716 | AJ5: 5666829 | AK5: 3499162 | AL5: 3749785 | AM5: 3749785 | AN5: 0 | AO5: 15772519 | AP5: 29346011 | AQ5: 0 | AR5: 29346011 | AS5: 0 | AT5: 0 | AU5: 0 | AV5: 0 | AW5: 0 | AX5: 0 | AY5: 17503427 | AZ5: 17503427 | BA5: 0 | BB5: 17503427 | BC5: 46849438 | BD5: 537348 | BE5: 0 | BF5: 0 | BG5: 0 | BH5: 0 | BI5: 4931157 | BJ5: 537348 | BK5: 27913703 | BL5: 33919556 | BM5: 80768994
B6: 4 | C6: GESTION RURAL Y URBANA S.A.S | D6: 830128894 | E6: 1272257 | F6: 4573754 | G6: 0 | H6: 355895 | I6: 0 | J6: 0 | K6: 0 | L6: 7648 | M6: 0 | N6: 6209554 | O6: 0 | P6: 6209554 | Q6: 786236 | R6: 0 | S6: 0 | T6: 0 | U6: 0 | V6: 0 | W6: 0 | X6: 0 | Y6: 0 | Z6: 0 | AA6: 0 | AB6: 0 | AC6: 0 | AD6: 0 | AE6: 786236 | AF6: 6995790 | AG6: 26001 | AH6: 0 | AI6: 26001 | AJ6: 573518 | AK6: 265702 | AL6: 916500 | AM6: 916500 | AN6: 0 | AO6: 0 | AP6: 1781721 | AQ6: 0 | AR6: 1781721 | AS6: 0 | AT6: 0 | AU6: 0 | AV6: 86624 | AW6: 0 | AX6: 0 | AY6: 1033500 | AZ6: 1033500 | BA6: 0 | BB6: 1120124 | BC6: 2901845 | BD6: 360000 | BE6: 0 | BF6: 0 | BG6: 0 | BH6: 0 | BI6: 250000 | BJ6: 96230 | BK6: 3387715 | BL6: 4093945 | BM6: 6995790
B7: 5 | C7: REDES Y EDIFICACIONES S.A. | D7: 830003733 | E7: 0 | F7: 25877779 | G7: 1593462 | H7: 7283661 | I7: 0 | J7: 0 | K7: 0 | L7: 1298663 | M7: 0 | N7: 36053565 | O7: 0 | P7: 36053565 | Q7: 9517186 | R7: 0 | S7: 0 | T7: 0 | U7: 0 | V7: 0 | W7: 0 | X7: 0 | Y7: 0 | Z7: 665187 | AA7: 0 | AB7: 0 | AC7: 0 | AD7: 0 | AE7: 10182373 | AF7: 46235938 | AG7: 1352831 | AH7: 0 | AI7: 1352831 | AJ7: 4377688 | AK7: 2282164 | AL7: 10713942 | AM7: 10713942 | AN7: 0 | AO7: 1770291 | AP7: 20496916 | AQ7: 0 | AR7: 20496916 | AS7: 0 | AT7: 0 | AU7: 0 | AV7: 0 | AW7: 1138685 | AX7: 0 | AY7: 0 | AZ7: 0 | BA7: 4390084 | BB7: 5528769 | BC7: 26025685 | BD7: 6000000 | BE7: 0 | BF7: 0 | BG7: 0 | BH7: 3808632 | BI7: 0 | BJ7: 2932117 | BK7: 7469504 | BL7: 20210253 | BM7: 46235938
B8: 6 | C8: CONCREARMADO LTDA | D8: 830041080 | E8: 74280 | F8: 18746214 | G8: 2544553 | H8: 91200 | I8: 0 | J8: 0 | K8: 6676423 | L8: 0 | M8: 0 | N8: 28132670 | O8: 0 | P8: 28132670 | Q8: 8970604 | R8: 0 | S8: 0 | T8: 0 | U8: 0 | V8: 0 | W8: 0 | X8: 0 | Y8: 0 | Z8: 0 | AA8: 0 | AB8: 1777555 | AC8: 1024237 | AD8: 0 | AE8: 11772396 | AF8: 39905066 | AG8: 0 | AH8: 0 | AI8: 0 | AJ8: 6973372 | AK8: 0 | AL8: 6558 | AM8: 6558 | AN8: 0 | AO8: 0 | AP8: 6979930 | AQ8: 0 | AR8: 6979930 | AS8: 0 | AT8: 0 | AU8: 0 | AV8: 20075758 | AW8: 0 | AX8: 0 | AY8: 520312 | AZ8: 520312 | BA8: 0 | BB8: 20596070 | BC8: 27576000 | BD8: 3400000 | BE8: 0 | BF8: 0 | BG8: 0 | BH8: 0 | BI8: 0 | BJ8: 195236 | BK8: 8733830 | BL8: 12329066 | BM8: 39905066
B9: 7 | C9: INGENIERÍA TRANSPORTE Y MAQUINARIA S.A. | D9: 900102268 | E9: 743522 | F9: 12438863 | G9: 2629033 | H9: 5480405 | I9: 0 | J9: 0 | K9: 14077157 | L9: 0 | M9: 0 | N9: 35368980 | O9: 0 | P9: 35368980 | Q9: 60161868 | R9: 0 | S9: 0 | T9: 0 | U9: 0 | V9: 0 | W9: 0 | X9: 0 | Y9: 0 | Z9: 91 | AA9: 0 | AB9: 0 | AC9: 0 | AD9: 0 | AE9: 60161959 | AF9: 95530939 | AG9: 1266983 | AH9: 0 | AI9: 1266983 | AJ9: 2903192 | AK9: 4500647 | AL9: 0 | AM9: 0 | AN9: 0 | AO9: 0 | AP9: 8670822 | AQ9: 0 | AR9: 8670822 | AS9: 0 | AT9: 0 | AU9: 0 | AV9: 7857763 | AW9: 1014273 | AX9: 0 | AY9: 39789280 | AZ9: 39789280 | BA9: 6647336 | BB9: 55308652 | BC9: 63979474 | BD9: 1000000 | BE9: 7821229 | BF9: 0 | BG9: 0 | BH9: 0 | BI9: 8882537 | BJ9: 0 | BK9: 13847699 | BL9: 31551465 | BM9: 95530939
B10: 8 | C10: INNOVACION E INFRAESTRUCTURA SAS | D10: 900403962 | E10: 2338357 | F10: 5078338 | G10: 598923 | H10: 316075 | I10: 0 | J10: 0 | K10: 2082831 | L10: 1960365 | M10: 0 | N10: 12374889 | O10: 0 | P10: 12374889 | Q10: 46641 | R10: 0 | S10: 0 | T10: 0 | U10: 232000 | V10: 0 | W10: 0 | X10: 0 | Y10: 0 | Z10: 0 | AA10: 0 | AB10: 0 | AC10: 82458 | AD10: 0 | AE10: 361099 | AF10: 12735988 | AG10: 183245 | AH10: 0 | AI10: 183245 | AJ10: 2162888 | AK10: 296597 | AL10: 0 | AM10: 0 | AN10: 0 | AO10: 0 | AP10: 2642730 | AQ10: 0 | AR10: 2642730 | AS10: 0 | AT10: 0 | AU10: 0 | AV10: 0 | AW10: 0 | AX10: 0 | AY10: 658257 | AZ10: 658257 | BA10: 5419203 | BB10: 6077460 | BC10: 8720190 | BD10: 1138500 | BE10: 0 | BF10: 0 | BG10: 0 | BH10: 0 | BI10: 0 | BJ10: 35772 | BK10: 2841526 | BL10: 4015798 | BM10: 12735988
B11: 9 | C11: ESTUDIOS E INGENIERIA SAS | D11: 900351236 | E11: 3602701 | F11: 18294334 | G11: 0 | H11: 0 | I11: 0 | J11: 0 | K11: 0 | L11: 0 | M11: 0 | N11: 21897035 | O11: 0 | P11: 21897035 | Q11: 7996785 | R11: 0 | S11: 0 | T11: 0 | U11: 0 | V11: 0 | W11: 0 | X11: 0 | Y11: 0 | Z11: 0 | AA11: 0 | AB11: 0 | AC11: 12741 | AD11: 0 | AE11: 8009526 | AF11: 29906561 | AG11: 0 | AH11: 0 | AI11: 0 | AJ11: 704513 | AK11: 0 | AL11: 0 | AM11: 0 | AN11: 0 | AO11: 0 | AP11: 704513 | AQ11: 0 | AR11: 704513 | AS11: 0 | AT11: 0 | AU11: 0 | AV11: 0 | AW11: 0 | AX11: 0 | AY11: 0 | AZ11: 0 | BA11: 8697002 | BB11: 8697002 | BC11: 9401515 | BD11: 1200000 | BE11: 0 | BF11: 0 | BG11: 0 | BH11: 4005484 | BI11: 0 | BJ11: 776944 | BK11: 14522618 | BL11: 20505046 | BM11: 29906561
B12: 10 | C12: CIVILEZA SAS | D12: 830141725 | E12: 2336687 | F12: 3212398 | G12: 5018386 | H12: 0 | I12: 0 | J12: 0 | K12: 0 | L12: 0 | M12: 0 | N12: 10567471 | O12: 0 | P12: 10567471 | Q12: 151170 | R12: 0 | S12: 0 | T12: 0 | U12: 763139 | V12: 0 | W12: 0 | X12: 0 | Y12: 0 | Z12: 46 | AA12: 0 | AB12: 0 | AC12: 0 | AD12: 0 | AE12: 914355 | AF12: 11481826 | AG12: 0 | AH12: 0 | AI12: 0 | AJ12: 805044 | AK12: 26026 | AL12: 0 | AM12: 0 | AN12: 0 | AO12: 162018 | AP12: 993088 | AQ12: 0 | AR12: 993088 | AS12: 0 | AT12: 0 | AU12: 0 | AV12: 4214115 | AW12: 0 | AX12: 0 | AY12: 1174719 | AZ12: 1174719 | BA12: 0 | BB12: 5388834 | BC12: 6381922 | BD12: 2200000 | BE12: 0 | BF12: 0 | BG12: 0 | BH12: 0 | BI12: 65973 | BJ12: 437243 | BK12: 2396688 | BL12: 5099904 | BM12: 11481826
B13: 11 | C13: MIROAL INGENIERIA SAS | D13: 830053973 | E13: 6666318 | F13: 13335377 | G13: 13292814 | H13: 0 | I13: 0 | J13: 0 | K13: 0 | L13: 0 | M13: 0 | N13: 33294509 | O13: 0 | P13: 33294509 | Q13: 3727878 | R13: 0 | S13: 0 | T13: 0 | U13: 34189 | V13: 0 | W13: 0 | X13: 0 | Y13: 0 | Z13: 0 | AA13: 0 | AB13: 0 | AC13: 0 | AD13: 0 | AE13: 3762067 | AF13: 37056576 | AG13: 130286 | AH13: 0 | AI13: 130286 | AJ13: 1650450 | AK13: 4731 | AL13: 0 | AM13: 0 | AN13: 0 | AO13: 0 | AP13: 1785467 | AQ13: 0 | AR13: 1785467 | AS13: 0 | AT13: 0 | AU13: 0 | AV13: 0 | AW13: 0 | AX13: 0 | AY13: 5798573 | AZ13: 5798573 | BA13: 1516080 | BB13: 7314653 | BC13: 9100120 | BD13: 7200000 | BE13: 0 | BF13: 0 | BG13: 0 | BH13: 0 | BI13: 2204900 | BJ13: 2914093 | BK13: 15637463 | BL13: 27956456 | BM13: 37056576
B14: 12 | C14: CONSTRUCCIONES KYOTO S.A.S | D14: 830045448 | E14: 370784 | F14: 0 | G14: 4979408 | H14: 0 | I14: 0 | J14: 0 | K14: 0 | L14: 7024638 | M14: 0 | N14: 12374830 | O14: 0 | P14: 12374830 | Q14: 339183 | R14: 2110737 | S14: 0 | T14: 0 | U14: 1643 | V14: 0 | W14: 0 | X14: 0 | Y14: 0 | Z14: 0 | AA14: 0 | AB14: 0 | AC14: 0 | AD14: 0 | AE14: 2451563 | AF14: 14826393 | AG14: 0 | AH14: 0 | AI14: 0 | AJ14: 234726 | AK14: 101648 | AL14: 4014354 | AM14: 0 | AN14: 0 | AO14: 683227 | AP14: 5033955 | AQ14: 0 | AR14: 5033955 | AS14: 0 | AT14: 0 | AU14: 0 | AV14: 475000 | AW14: 53074 | AX14: 0 | AY14: 571269 | AZ14: 0 | BA14: 0 | BB14: 1099343 | BC14: 6133298 | BD14: 3000000 | BE14: 0 | BF14: 0 | BG14: 0 | BH14: 0 | BI14: 0 | BJ14: 743600 | BK14: 4949495 | BL14: 8693095 | BM14: 14826393
... B46: 44 | C46: SOLUCIONES INTEGRALES UNION S.A.S. | D46: 800205914 | E46: 5874636 | F46: 58410775 | G46: 750479 | H46: 0 | I46: 0 | J46: 0 | K46: 0 | L46: 0 | M46: 0 | N46: 65035890 | O46: 0 | P46: 65035890 | Q46: 5312374 | R46: 0 | S46: 0 | T46: 0 | U46: 2040 | V46: 0 | W46: 0 | X46: 0 | Y46: 0 | Z46: 0 | AA46: 0 | AB46: 0 | AC46: 0 | AD46: 0 | AE46: 5314414 | AF46: 70350304 | AG46: 93687 | AH46: 0 | AI46: 93687 | AJ46: 3654667 | AK46: 5201332 | AL46: 2524628 | AM46: 2524628 | AN46: 0 | AO46: 15083693 | AP46: 26558007 | AQ46: 0 | AR46: 26558007 | AS46: 0 | AT46: 0 | AU46: 0 | AV46: 0 | AW46: 0 | AX46: 0 | AY46: 0 | AZ46: 0 | BA46: 0 | BB46: 0 | BC46: 26558007 | BD46: 200000 | BE46: 0 | BF46: 0 | BG46: 0 | BH46: 0 | BI46: 0 | BJ46: 743653 | BK46: 42848644 | BL46: 43792297 | BM46: 70350304
B47: 45 | C47: CONSULTORIA INTERVENTORIA TECNICAS CIVILES S.A.S. | D47: 800252554 | E47: 776593 | F47: 3284224 | N47: 4060817 | P47: 4060817 | Q47: 1309489 | AE47: 1309489 | AF47: 5370306 | AJ47: 588737 | AP47: 588737 | AR47: 588737 | AY47: 9159 | BB47: 9159 | BC47: 597896 | BD47: 300000 | BJ47: 150000 | BK47: 4322410 | BL47: 4772410 | BM47: 5370306
B48: 46 | C48: estructuras interventorias y proyectos SAS | D48: 811036279 | E48: 1810112 | F48: 2222155 | N48: 4032267 | P48: 4032267 | Q48: 242270 | U48: 86011 | X48: 647279 | AE48: 975560 | AF48: 5007827 | AJ48: 527269 | AP48: 527269 | AR48: 527269 | BC48: 527269 | BD48: 97294 | BK48: 4383264 | BL48: 4480558 | BM48: 5007827
B49: 47 | C49: PROYETOS E INTERVENTORIAS SAS | D49: 860403102 | E49: 6043762 | F49: 3086264 | H49: 283052 | N49: 9413078 | P49: 9413078 | Q49: 828615 | AE49: 828615 | AF49: 10241693 | AG49: 506103 | AI49: 506103 | AJ49: 138581 | AK49: 350953 | AL49: 577013 | AM49: 577013 | AP49: 1572650 | AR49: 1572650 | BC49: 1572650 | BD49: 20000 | BJ49: 10000 | BK49: 8639043 | BL49: 8669043 | BM49: 10241693
B50: 48 | C50: INTERVE S.A.S | D50: 890920656 | E50: 2408217 | F50: 5070740 | H50: 470171 | L50: 2161 | N50: 7951289 | P50: 7951289 | Q50: 1231523 | U50: 20846 | Z50: 332233 | AB50: 966775 | AE50: 2551377 | AF50: 10502666 | AJ50: 965399 | AK50: 473750 | AL50: 5096 | AM50: 5096 | AO50: 430126 | AP50: 1874371 | AR50: 1874371 | AW50: 6462 | AY50: 40004 | AZ50: 40004 | BB50: 46466 | BC50: 1920837 | BD50: 20000 | BH50: 338838 | BI50: 190466 | BJ50: 11384 | BK50: 8021141 | BL50: 8581829 | BM50: 10502666
B51: 49 | C51: Interventoria, Asesorias y Construcción SAS | D51: 900482157 | E51: 989 | F51: 5742524 | N51: 5743513 | P51: 5743513 | Q51: 0 | U51: 2015165 | AB51: 20854 | AC51: 142834 | AE51: 2178853 | AF51: 7922366 | AG51: 343952 | AI51: 343952 | AJ51: 172778 | AK51: 336838 | AP51: 853568 | AR51: 853568 | AY51: 1634639 | AZ51: 1634639 | BA51: 140174 | BB51: 1774813 | BC51: 2628381 | BD51: 50000 | BJ51: 1403 | BK51: 5242582 | BL51: 5293985 | BM51: 7922366
B52: 50 | C52: CONSTRUCCIÓN E INTERVENTORIA LEGAL S.A.S. | D52: 900606675 | E52: 20000 | F52: 2078262 | G52: 0 | H52: 0 | I52: 0 | J52: 0 | K52: 0 | L52: 0 | M52: 0 | N52: 2098262 | O52: 0 | P52: 2098262 | Q52: 131665 | R52: 0 | S52: 0 | T52: 0 | U52: 2165 | V52: 0 | W52: 0 | Y52: 0 | Z52: 0 | AA52: 0 | AB52: 0 | AC52: 0 | AD52: 0 | AE52: 133830 | AF52: 2232092 | AG52: 0 | AH52: 0 | AI52: 0 | AJ52: 9625 | AL52: 0 | AM52: 0 | AN52: 0 | AO52: 0 | AP52: 9625 | AR52: 9625 | AS52: 0 | AT52: 0 | AU52: 0 | AV52: 209559 | AW52: 0 | AX52: 0 | AY52: 0 | AZ52: 0 | BA52: 0 | BB52: 209559 | BC52: 219184 | BD52: 500000 | BE52: 0 | BF52: 0 | BG52: 0 | BH52: 0 | BI52: 0 | BJ52: 0 | BK52: 1512908 | BL52: 2012908 | BM52: 2232092

Sheet Estado resultado integral
B2: Empresa | C2: NIT | D2: Ingresos de actividades ordinarias (Revenue) | E2: Costo de ventas (CostOfSales) | F2: Ganancia bruta (GrossProfit) | G2: Otros ingresos (OtherIncome) | H2: Gastos de ventas (DistributionCosts) | I2: Gastos de administración (AdministrativeExpense) | J2: Otros gastos (OtherExpenseByFunction) | K2: Otras ganancias (pérdidas) (OtherGainsLosses) | L2: Ganancia (pérdida) por actividades de operación (GananciaPerdidaPorActividadesDeOperacion) | M2: Ingresos financieros (FinanceIncome) | N2: Costos financieros (FinanceCosts) | O2: Ganancia (pérdida), antes de impuestos (ProfitLossBeforeTax) | P2: Ingreso (gasto) por impuestos (IncomeTaxExpenseContinuingOperations) | Q2: Ganancia (pérdida) procedente de operaciones continuadas (ProfitLossFromContinuingOperations) | R2: Ganancia (pérdida) procedente de operaciones discontinuadas (ProfitLossFromDiscontinuedOperations) | S2: Ganancia (pérdida) (ProfitLoss)
A3: 1 | B3: CYG INGENIERIA Y CONSTRUCCIONES S.A.S. | C3: 800140959 | D3: 32753680 | E3: 29367167 | F3: 3386513 | G3: 655692 | H3: 0 | I3: 2379703 | J3: 275491 | K3: 0 | L3: 1387011 | M3: 100340 | N3: 1261944 | O3: 225407 | P3: 155189 | Q3: 70218 | R3: 0 | S3: 70218
A4: 2 | B4: INCITECO S.A.S. | C4: 800104214 | D4: 45716388 | E4: 33178654 | F4: 12537734 | G4: 0 | H4: 0 | I4: 5439000 | J4: 228778 | K4: 0 | L4: 6869956 | M4: 990814 | N4: 0 | O4: 7860770 | P4: 2799512 | Q4: 5061258 | R4: 0 | S4: 5061258
A5: 3 | B5: CONTEIN SAS | C5: 860090819 | D5: 119363999 | E5: 107474537 | F5: 11889462 | G5: 344901 | H5: 0 | I5: 2732022 | J5: 189829 | K5: 0 | L5: 9312512 | M5: 97185 | N5: 455668 | O5: 8954029 | P5: 3197701 | Q5: 5756328 | R5: 0 | S5: 5756328
A6: 4 | B6: GESTION RURAL Y URBANA S.A.S | C6: 830128894 | D6: 8920266 | E6: 7243394 | F6: 1676872 | G6: 0 | H6: 0 | I6: 878870 | J6: 163250 | K6: 0 | L6: 634752 | M6: 0 | N6: 0 | O6: 634752 | P6: 256961 | Q6: 377791 | R6: 0 | S6: 377791
A7: 5 | B7: REDES Y EDIFICACIONES S.A. | C7: 830003733 | D7: 83974659 | E7: 83592770 | F7: 381889 | G7: 3077416 | H7: 0 | I7: 4071417 | J7: 469740 | K7: 0 | L7: -1081852 | M7: 0 | N7: 2456383 | O7: -3538235 | P7: 0 | Q7: -3538235 | R7: 0 | S7: -3538235
A8: 6 | B8: CONCREARMADO LTDA | C8: 830041080 | D8: 35805289 | E8: 28213613 | F8: 7591676 | G8: 304508 | H8: 0 | I8: 3876647 | J8: 17 | K8: 0 | L8: 4019520 | M8: 24338 | N8: 577928 | O8: 3465930 | P8: 1261265 | Q8: 2204665 | R8: 0 | S8: 2204665
A9: 7 | B9: INGENIERÍA TRANSPORTE Y MAQUINARIA S.A. | C9: 900102268 | D9: 135823124 | E9: 102001390 | F9: 33821734 | G9: 295047 | H9: 7044139 | I9: 8247662 | J9: 4557142 | K9: 237172 | L9: 14505010 | M9: 12653 | N9: 4571282 | O9: 9946381 | P9: 3600000 | Q9: 6346381 | R9: 0 | S9: 6346381
A10: 8 | B10: INNOVACION E INFRAESTRUCTURA SAS | C10: 900403962 | D10: 9143052 | E10: 7237193 | F10: 1905859 | G10: 0 | H10: 0 | I10: 1210036 | J10: 0 | K10: 0 | L10: 695823 | M10: 40393 | N10: 182160 | O10: 554056 | P10: 226780 | Q10: 327276 | R10: 0 | S10: 327276
A11: 9 | B11: ESTUDIOS E INGENIERIA SAS | C11: 900351236 | D11: 56297896 | E11: 49748401 | F11: 6549495 | G11: 7 | H11: 217395 | I11: 1625498 | J11: 97896 | K11: 0 | L11: 4608713 | M11: 0 | N11: 198101 | O11: 4410612 | P11: 1612921 | Q11: 2797691 | R11: 0 | S11: 2797691
A12: 10 | B12: CIVILEZA SAS | C12: 830141725 | D12: 7335656 | E12: 5679882 | F12: 1655774 | G12: 105168 | H12: 0 | I12: 872829 | J12: 6241 | K12: 0 | L12: 881872 | M12: 10442 | N12: 263078 | O12: 629236 | P12: 195778 | Q12: 433458 | R12: 0 | S12: 433458
A13: 11 | B13: MIROAL INGENIERIA SAS | C13: 830053973 | D13: 48110033 | E13: 38562067 | F13: 9547966 | G13: 3457698 | H13: 68042 | I13: 3970624 | J13: 2423183 | K13: 0 | L13: 6543815 | M13: 0 | N13: 1406536 | O13: 5137279 | P13: 0 | Q13: 5137279 | R13: -1798048 | S13: 3339231
A14: 12 | B14: CONSTRUCCIONES KYOTO S.A.S | C14: 830045448 | D14: 31307329 | E14: 29905566 | F14: 1401763 | G14: 68473 | H14: 0 | I14: 1039727 | J14: 152923 | K14: 0 | L14: 277586 | M14: 0 | N14: 322873 | O14: -45287 | P14: 0 | Q14: -45287 | R14: 0 | S14: -45287
... A46: 44 | B46: SOLUCIONES INTEGRALES UNION S.A.S. | C46: 800205914 | D46: 78737930 | E46: 61442342 | F46: 17295588 | G46: 4658 | H46: 0 | I46: 5543649 | J46: 513435 | K46: 0 | L46: 11243162 | M46: 21922 | N46: 612465 | O46: 10652619 | P46: 4321370 | Q46: 6331249 | R46: 0 | S46: 6331249
A47: 45 | B47: CONSULTORIA INTERVENTORIA TECNICAS CIVILES S.A.S. | C47: 800252554 | D47: 6617444 | E47: 2533034 | F47: 4084410 | G47: 141690 | I47: 3182474 | J47: 44648 | L47: 998978 | O47: 998978 | P47: 352941 | Q47: 646037 | S47: 646037
A48: 46 | B48: estructuras interventorias y proyectos SAS | C48: 811036279 | D48: 1734001 | F48: 1734001 | G48: 89036 | I48: 1315215 | J48: 9665 | L48: 498157 | O48: 498157 | P48: 174355 | Q48: 323802 | S48: 323802
A49: 47 | B49: PROYETOS E INTERVENTORIAS SAS | C49: 860403102 | D49: 10062294 | E49: 7683594 | F49: 2378700 | G49: 259879 | I49: 423349 | J49: 54103 | L49: 2161127 | O49: 2161127 | P49: 773429 | Q49: 1387698 | S49: 1387698
A50: 48 | B50: INTERVE S.A.S | C50: 890920656 | D50: 15702846 | F50: 15702846 | G50: 51658 | I50: 12339003 | J50: 624053 | L50: 2791448 | M50: 220479 | N50: 26657 | O50: 2985270 | P50: 1162904 | Q50: 1822366 | S50: 1822366
A51: 49 | B51: Interventoria, Asesorias y Construcción SAS | C51: 900482157 | D51: 6603477 | E51: 4342138 | F51: 2261339 | G51: 44157 | I51: 852951 | J51: 36991 | L51: 1415554 | N51: 199164 | O51: 1216390 | P51: 436478 | Q51: 779912 | S51: 779912
A52: 50 | B52: CONSTRUCCIÓN E INTERVENTORIA LEGAL S.A.S. | C52: 900606675 | D52: 12027374 | E52: 9471674 | F52: 2555700 | G52: 10095 | H52: 2077842 | I52: 101966 | J52: 32290 | K52: 0 | L52: 353697 | O52: 353697 | Q52: 353697 | S52: 353697
